{"text_format":"1","workbook":"xlsx","n_sheets":11,"sheets":["Índice","Back","Espejo","BASE DE RESPUESTAS","Resumen de indicadores HSE","Resumen de Escala HSE","Resumen de indicadores FR","Resumen de Escala FR","Resumen de Resultados","LEYENDA","Hoja1"],"not_rendered":{"charts":0,"images":5,"macros":1,"external_links":0,"defined_names":5,"comments":0,"pivot_tables":0},"unopened":[],"bounds":{"document_bytes":16777216,"sheet_cells":100000,"rows_first":2000,"rows_last":500,"rows_between":2000,"halvings":0,"cell_chars":16384,"cell_head_chars":4096},"cells_cut":0,"cells_raw":0,"read":"whole","date_system":"1900"}

{"sheet":"Índice","index":0,"n_rows":11,"n_cols":4,"rows_kept":11,"cut":false,"hidden":false,"merged":[]}
[]
[]
[null,"Nombre de la IE"]
[]
[null,"Nivel","SECUNDARIA"]
[]
[null,"Ciclo","VI"]
[null,null,null,1.0]
[null,"Grado"]
[]
[null,"Sección"]

{"sheet":"Back","index":1,"n_rows":46,"n_cols":16,"rows_kept":46,"cut":false,"hidden":true,"merged":[[1,14,1,15],[16,7,19,7],[16,8,17,8],[18,8,19,8]]}
[]
[null,null,"Primaria",null,null,"A) No me pasa",1.0,1.75,"MENOR A ESO ROJO",null,null,null,"LEYENDA",null,"Leyenda"]
[null,null,"Secundaria","1°",null,"B) Me pasa poco",2.0,3.25,"IGUAL Y MENOR AMARILLO",null,null,null,"ROJO","CRÍTICO","Colores","Resultados"]
[null,null,null,"2°",null,"C) Me pasa regularmente",3.0,3.25,"MAYOR IGUAL",null,null,null,"AMARILLO","MODERADO","Rojo","Crítico"]
[null,null,null,null,null,"D) Me pasa mucho",4.0,null,null,null,null,null,"VERDE","IDEAL","Amarillo","Moderado"]
[null,null,null,null,null,"E) No respondió",0.0,null,null,null,null,null,null,null,"Verde","Ideal"]
[]
[]
[]
[]
[]
[null,null,null,null,null,null,null,"Primaria: III - V"]
[null,"Escribe/Dibuja/Describe por lo menos 2 cualidades.","Escribe/dibuja/describe solo 1 o ninguna cualidad.",null,null,null,null,"Secundaria: VI - VII"]
[null,"Escribe/Dibuja/Describe por lo menos 2 cualidades.","Escribe/dibuja/describe solo 1 o ninguna cualidad."]
[null,"Escribe/Dibuja/Describe por lo menos 2 características suyas con cognotación positiva (puede incluir características físicas).\n\nEjemplo Válido:\nSoy el más creativo de la clase\nEjemplo que no corresponde:\nSoy el más irresponsable de mi clase.","Escribe/dibuja/describe solo 1 o ninguna característica."]
[null,"Sí","No",null,null,null,null,"Indicador","Pregunta","Respuestas","Valores",null,"Totalmente en desacuerdo",1.0]
[null,"Describe o dibuja por los menos dos tareas o actividades.","No describe o dibuja ninguna actividad o tarea o describe solo 1.",null,null,null,null,1.1,1.0,"Escribe/Dibuja/Describe por lo menos 2 cualidades.",1.0,null,"En desacuerdo",2.0]
[null,"Sí","No",null,null,null,null,null,null,"Escribe/dibuja/describe solo 1 o ninguna cualidad.",0.0,null,"De acuerdo",3.0]
[null,"Sí","No",null,null,null,null,null,2.0,"Escribe/Dibuja/Describe por lo menos 2 cualidades.",1.0,null,"Totalmente de acuerdo",4.0]
[null,"Escribe o dibuja 2 o más emociones.","Escribe o dibuja una o ninguna emoción.",null,null,null,null,null,null,"Escribe/dibuja/describe solo 1 o ninguna cualidad.",0.0,null,"Se dejó en blanco","-"]
[null,"Debe describir/dibujar a una persona triste o molesta o similar cuanto mínimo.","Describe a una persona feliz o alegra."]
[null,"Debe describir/dibujar por lo menos 2 emociones que experimentó durante ese momento.","Describe solo una emoción o ninguna."]
[null,"a) Frutas, agua, huevo, yogurt, pan\n","b) Hamburguesa, caramelos, gaseosa "]
[null,"a) Sedentaria: que hace solo o con más personas. (Imágenes: niño “Voy a quedarme escuchando la radio todo el día”)","b) Físicas: alguna actividad física con más personas."]
[null,"a) Llevar su mano al pecho y sentir su corazón.","b) Parar de inmediato y sentarse. "]
[null,"Para el caso de los hombres por lo menos 1 y para el caso de las mujeres por lo menos 2.","No señala nada o señale una parte que no es íntima."]
[null,"a) Sí","b) No"]
[null,"a) Gritarle a todos sus compañeros de equipo e irse. ","b) Entender que todos pueden fallar y quedarse con su equipo a seguir jugando. "]
[null,"a) Queda triste y muy avergonzado por el accidente por eso no va a clase.","b) Se disculpa, la ayuda y va tranquilo a clase."]
[null,"a) Está muy avergonzada y llora porque se burlan de ella.","b) Entiende la situación y usa su cartulina azul."]
[null,"a) Sí","b) No"]
[null,"a) Retrasa la cena y su papá se molesta por no cumplir con sus tareas. ","b) No pasa nada, sus padres van a lavar las verduras por él. "]
[null,"a) La decisión de jugar en lugar de hacer sus deberes. Que no priorizó sus tareas.","b) Su papá no quiso lavar las verduras. "]
[null,"a) Escenario 1:\n• Juan: Ayer estuve jugando Free Fire con mi hermano y estaba ganando cuando…\n• Pedro: A mí también me gusta jugar Free Fire, aunque prefiero Minecraft porque es más chévere y puedes ir construyendo tu propia casa\n• Juan: Claro, a mí también me gusta Mine…\n• Pedro: El otro día construí una casa de dos pisos, con terraza y un patio grande\n• Juan: ¡Genial! Yo también hice un …\n• Pedro: También hice una fortaleza de color gris, inmensa, etc.","b) Escenario 2:\n• Juan: Ayer estuve jugando Free Fire con mi hermano y por fin le estaba ganando, cuando mi mamá nos llamó para comer y no pudimos terminar el juego.\n• Pedro: Asu, qué mala suerte. Seguro la próxima si le ganas.\n• Juan: Sí, he estado mejorando. ¿A ti también te gusta ese juego?\n• Pedro: Sí, pero me gusta más Minecraft. El otro día construí una casa de dos pisos, con terraza y un patio grande\n• Juan: ¡Genial! Yo también lo he jugado. Hice una fortaleza inmensa.\n"]
[null,"a) Decir: Perdona, me gustaría terminar de contar lo que estaba diciendo.","b) Decir: ¡No es justo! ¿No puedo hablar yo?\n","c) Interrumpir al niño empezando a hablar otra vez.","d) No decir nada y dejar que el otro niño continuara hablando.","e) Decir: ¡Cállate! ¡Estaba hablando yo!"]
[null,"a) Se pelean para elegir el que hará el personaje","b) Le piden a la profesora que elija quién hará el personaje ","c) Llegar a un acuerdo que puede ser “Bruno hace el personaje ahora y Gonzalo hace el personaje después”."]
[null,"a) Escenario 1: Roberto es un chico extranjero que apenas se está integrando al grupo (Imagen donde unos niños rechazan al niño extranjero.)","b) Escenario 2: Carlos es un chico extranjero que apenas se está integrando al grupo. (Imagen donde unos niños buscan incluir al niño extranjero.)"]
[null,"a) Escucho con atención para entenderlo","b) Escucho con atención para refutar su idea porque está mal","c) Miento diciendo que estoy de acuerdo para terminar la discusión lo más pronto posible."]
[null,"a) Presto atención para saber cómo se siente mi compañero y por qué se siente así.","b) Presto atención, pero pocas veces entiendo por qué está molesto.","c) Solo quiero ganar en la discusión.","d) No presto atención a sus emociones porque no es mi problema."]
[null,"a) Escucho con atención para entender su punto de vista.","b) Intento convencerlo de que está equivocado porque solo mi idea puede ser correcta.","c) Digo: Estoy de acuerdo (cuando en verdad no estoy de acuerdo, pero así evito discutir).","\nd) No le vuelvo a hablar porque no piensa igual que yo."]
[null,"a) Yo sugiero mi juego favorito y los convenzo para jugarlo.","b) Cada uno sugiere un juego y establecemos turnos para jugar cada juego.","c) Me molesto porque no quieren jugar el juego que yo quiero."]
[null,"a) Digo: Tranquilo, ya va a llegar la hora del almuerzo.","b) Le invito de mi lonchera y nos divertimos conversando.","c) Escondo mi comida para que no me pida."]
[null,"a) Converso con él porque siento que aprendo cosas nuevas de donde viene.","b) Junto con mis compañeros me burlo de él y sus costumbres o lenguaje.","c) No le hablo porque es diferente"]
[null,"a) Le digo a la profesora que cambie a Carlitos de grupo porque no lo entiendo cuando habla.","b) Le presento a Carlitos al resto de mis compañeros para que también lo conozcan.","c) Me molesto porque Carlitos no me cae bien porque no es peruano."]
[null,"a) Juntarse con sus compañeros y compañeras para arreglar el espacio.","b) No debe hacer nada, no tiene la responsabilidad de lo que pase en el parque."]
[null,"a) Botar la basura e intentar hablar con su compañero.","b) No hacer nada porque no es su basura."]

{"sheet":"Espejo","index":2,"n_rows":70,"n_cols":57,"rows_kept":70,"cut":false,"hidden":true,"merged":[[2,21,3,21],[2,22,3,22],[2,23,3,23],[2,24,3,24],[2,25,3,25],[2,26,3,26],[2,27,3,27],[2,28,3,28],[2,29,3,29],[2,30,3,30],[2,31,3,31],[2,32,3,32],[2,33,3,33],[2,34,3,34],[2,49,3,49],[2,50,3,50],[2,51,3,51],[2,52,3,52],[2,53,3,53],[2,54,3,54],[2,55,3,55],[2,56,3,56],[1,1,1,5],[1,7,1,56],[2,1,3,1],[2,2,3,2],[2,3,3,3],[2,4,3,4],[2,5,3,5],[2,35,3,35],[2,36,3,36],[2,37,3,37],[2,38,3,38],[2,39,3,39],[2,40,3,40],[2,41,3,41],[2,42,3,42],[2,43,3,43],[2,44,3,44],[2,45,3,45],[2,46,3,46],[2,47,3,47],[2,48,3,48],[9,1,11,1],[12,1,14,1],[12,2,14,2],[13,3,14,3],[15,1,17,1],[15,2,17,2],[18,2,20,2],[18,1,20,1],[21,1,23,1],[21,2,23,2],[24,1,26,1],[24,2,26,2],[27,1,29,1],[27,2,29,2],[30,1,31,1],[30,2,31,2],[32,1,33,1],[32,2,33,2],[34,1,35,1],[34,2,35,2],[36,2,37,2],[36,1,37,1],[38,1,40,1],[38,2,40,2],[41,1,43,1],[41,2,43,2],[44,1,45,1],[44,2,45,2],[56,1,59,1],[60,1,63,1],[64,1,67,1],[68,1,69,1],[60,2,63,2],[64,2,67,2],[68,2,69,2],[46,1,48,1],[46,2,48,2],[49,1,52,1],[49,2,52,2],[53,1,55,1],[53,2,55,2],[56,2,59,2],[2,9,3,9],[2,10,3,10],[2,11,3,11],[2,12,3,12],[2,13,3,13],[2,14,3,14],[2,15,3,15],[2,16,3,16],[2,17,3,17],[2,18,3,18],[2,19,3,19],[2,20,3,20],[2,7,3,7],[2,8,3,8],[4,1,5,1],[4,2,5,2],[6,1,8,1],[6,2,8,2],[9,2,11,2]]}
[]
[null,"INFORMACIÓN BÁSICA",null,null,null,null,null,"ESTUDIANTES"]
[null,"Dimensión","Escala","Indicador","Número","Preguntas",null,"Estudiante 1","Estudiante 2","Estudiante 3","Estudiante 4","Estudiante 5","Estudiante 6","Estudiante 7","Estudiante 8","Estudiante 9","Estudiante 10","Estudiante 11","Estudiante 12","Estudiante 13","Estudiante 14","Estudiante 15","Estudiante 16","Estudiante 17","Estudiante 18","Estudiante 19","Estudiante 20","Estudiante 21","Estudiante 22","Estudiante 23","Estudiante 24","Estudiante 25","Estudiante 26","Estudiante 27","Estudiante 28","Estudiante 29","Estudiante 30","Estudiante 31","Estudiante 32","Estudiante 33","Estudiante 34","Estudiante 35","Estudiante 36","Estudiante 37","Estudiante 38","Estudiante 39","Estudiante 40","Estudiante 41","Estudiante 42","Estudiante 43","Estudiante 44","Estudiante 45","Estudiante 46","Estudiante 47","Estudiante 48","Estudiante 49","Estudiante 50"]
[]
[null,"HSE","Autoconcepto","El o la estudiante describe sus características personales (físicas, sociales, emocionales, académicas, etc.)",1.0,"Reconozco cómo soy, lo que pienso, lo que siento y cómo me relaciono con los demás",null,{"$f":"+VLOOKUP('BASE DE RESPUESTAS'!H7,Back!$M$16:$N$20,2,0)","v":"#N/A"},{"$f":"+VLOOKUP('BASE DE RESPUESTAS'!I7,Back!$M$16:$N$20,2,0)","v":"#N/A"},{"$f":"+VLOOKUP('BASE DE RESPUESTAS'!J7,Back!$M$16:$N$20,2,0)","v":"#N/A"},{"$f":"+VLOOKUP('BASE DE RESPUESTAS'!K7,Back!$M$16:$N$20,2,0)","v":"#N/A"},{"$f":"+VLOOKUP('BASE DE RESPUESTAS'!L7,Back!$M$16:$N$20,2,0)","v":"#N/A"},{"$f":"+VLOOKUP('BASE DE RESPUESTAS'!M7,Back!$M$16:$N$20,2,0)","v":"#N/A"},{"$f":"+VLOOKUP('BASE DE RESPUESTAS'!N7,Back!$M$16:$N$20,2,0)","v":"#N/A"},{"$f":"+VLOOKUP('BASE DE RESPUESTAS'!O7,Back!$M$16:$N$20,2,0)","v":"#N/A"},{"$f":"+VLOOKUP('BASE DE RESPUESTAS'!P7,Back!$M$16:$N$20,2,0)","v":"#N/A"},{"$f":"+VLOOKUP('BASE DE RESPUESTAS'!Q7,Back!$M$16:$N$20,2,0)","v":"#N/A"},{"$f":"+VLOOKUP('BASE DE RESPUESTAS'!R7,Back!$M$16:$N$20,2,0)","v":"#N/A"},{"$f":"+VLOOKUP('BASE DE RESPUESTAS'!S7,Back!$M$16:$N$20,2,0)","v":"#N/A"},{"$f":"+VLOOKUP('BASE DE RESPUESTAS'!T7,Back!$M$16:$N$20,2,0)","v":"#N/A"},{"$f":"+VLOOKUP('BASE DE RESPUESTAS'!U7,Back!$M$16:$N$20,2,0)","v":"#N/A"},{"$f":"+VLOOKUP('BASE DE RESPUESTAS'!V7,Back!$M$16:$N$20,2,0)","v":"#N/A"},{"$f":"+VLOOKUP('BASE DE RESPUESTAS'!W7,Back!$M$16:$N$20,2,0)","v":"#N/A"},{"$f":"+VLOOKUP('BASE DE RESPUESTAS'!X7,Back!$M$16:$N$20,2,0)","v":"#N/A"},{"$f":"+VLOOKUP('BASE DE RESPUESTAS'!Y7,Back!$M$16:$N$20,2,0)","v":"#N/A"},{"$f":"+VLOOKUP('BASE DE RESPUESTAS'!Z7,Back!$M$16:$N$20,2,0)","v":"#N/A"},{"$f":"+VLOOKUP('BASE DE RESPUESTAS'!AA7,Back!$M$16:$N$20,2,0)","v":"#N/A"},{"$f":"+VLOOKUP('BASE DE RESPUESTAS'!AB7,Back!$M$16:$N$20,2,0)","v":"#N/A"},{"$f":"+VLOOKUP('BASE DE RESPUESTAS'!AC7,Back!$M$16:$N$20,2,0)","v":"#N/A"},{"$f":"+VLOOKUP('BASE DE RESPUESTAS'!AD7,Back!$M$16:$N$20,2,0)","v":"#N/A"},{"$f":"+VLOOKUP('BASE DE RESPUESTAS'!AE7,Back!$M$16:$N$20,2,0)","v":"#N/A"},{"$f":"+VLOOKUP('BASE DE RESPUESTAS'!AF7,Back!$M$16:$N$20,2,0)","v":"#N/A"},{"$f":"+VLOOKUP('BASE DE RESPUESTAS'!AG7,Back!$M$16:$N$20,2,0)","v":"#N/A"},{"$f":"+VLOOKUP('BASE DE RESPUESTAS'!AH7,Back!$M$16:$N$20,2,0)","v":"#N/A"},{"$f":"+VLOOKUP('BASE DE RESPUESTAS'!AI7,Back!$M$16:$N$20,2,0)","v":"#N/A"},{"$f":"+VLOOKUP('BASE DE RESPUESTAS'!AJ7,Back!$M$16:$N$20,2,0)","v":"#N/A"},{"$f":"+VLOOKUP('BASE DE RESPUESTAS'!AK7,Back!$M$16:$N$20,2,0)","v":"#N/A"},{"$f":"+VLOOKUP('BASE DE RESPUESTAS'!AL7,Back!$M$16:$N$20,2,0)","v":"#N/A"},{"$f":"+VLOOKUP('BASE DE RESPUESTAS'!AM7,Back!$M$16:$N$20,2,0)","v":"#N/A"},{"$f":"+VLOOKUP('BASE DE RESPUESTAS'!AN7,Back!$M$16:$N$20,2,0)","v":"#N/A"},{"$f":"+VLOOKUP('BASE DE RESPUESTAS'!AO7,Back!$M$16:$N$20,2,0)","v":"#N/A"},{"$f":"+VLOOKUP('BASE DE RESPUESTAS'!AP7,Back!$M$16:$N$20,2,0)","v":"#N/A"},{"$f":"+VLOOKUP('BASE DE RESPUESTAS'!AQ7,Back!$M$16:$N$20,2,0)","v":"#N/A"},{"$f":"+VLOOKUP('BASE DE RESPUESTAS'!AR7,Back!$M$16:$N$20,2,0)","v":"#N/A"},{"$f":"+VLOOKUP('BASE DE RESPUESTAS'!AS7,Back!$M$16:$N$20,2,0)","v":"#N/A"},{"$f":"+VLOOKUP('BASE DE RESPUESTAS'!AT7,Back!$M$16:$N$20,2,0)","v":"#N/A"},{"$f":"+VLOOKUP('BASE DE RESPUESTAS'!AU7,Back!$M$16:$N$20,2,0)","v":"#N/A"},{"$f":"+VLOOKUP('BASE DE RESPUESTAS'!AV7,Back!$M$16:$N$20,2,0)","v":"#N/A"},{"$f":"+VLOOKUP('BASE DE RESPUESTAS'!AW7,Back!$M$16:$N$20,2,0)","v":"#N/A"},{"$f":"+VLOOKUP('BASE DE RESPUESTAS'!AX7,Back!$M$16:$N$20,2,0)","v":"#N/A"},{"$f":"+VLOOKUP('BASE DE RESPUESTAS'!AY7,Back!$M$16:$N$20,2,0)","v":"#N/A"},{"$f":"+VLOOKUP('BASE DE RESPUESTAS'!AZ7,Back!$M$16:$N$20,2,0)","v":"#N/A"},{"$f":"+VLOOKUP('BASE DE RESPUESTAS'!BA7,Back!$M$16:$N$20,2,0)","v":"#N/A"},{"$f":"+VLOOKUP('BASE DE RESPUESTAS'!BB7,Back!$M$16:$N$20,2,0)","v":"#N/A"},{"$f":"+VLOOKUP('BASE DE RESPUESTAS'!BC7,Back!$M$16:$N$20,2,0)","v":"#N/A"},{"$f":"+VLOOKUP('BASE DE RESPUESTAS'!BD7,Back!$M$16:$N$20,2,0)","v":"#N/A"},{"$f":"+VLOOKUP('BASE DE RESPUESTAS'!BE7,Back!$M$16:$N$20,2,0)","v":"#N/A"}]
[null,null,null,"El o la estudiante reconoce sus aspectos por mejorar.",2.0,"Reconozco algunas características en mí que puedo mejorar.",null,{"$f":"+VLOOKUP('BASE DE RESPUESTAS'!H8,Back!$M$16:$N$20,2,0)","v":"#N/A"},{"$f":"+VLOOKUP('BASE DE RESPUESTAS'!I8,Back!$M$16:$N$20,2,0)","v":"#N/A"},{"$f":"+VLOOKUP('BASE DE RESPUESTAS'!J8,Back!$M$16:$N$20,2,0)","v":"#N/A"},{"$f":"+VLOOKUP('BASE DE RESPUESTAS'!K8,Back!$M$16:$N$20,2,0)","v":"#N/A"},{"$f":"+VLOOKUP('BASE DE RESPUESTAS'!L8,Back!$M$16:$N$20,2,0)","v":"#N/A"},{"$f":"+VLOOKUP('BASE DE RESPUESTAS'!M8,Back!$M$16:$N$20,2,0)","v":"#N/A"},{"$f":"+VLOOKUP('BASE DE RESPUESTAS'!N8,Back!$M$16:$N$20,2,0)","v":"#N/A"},{"$f":"+VLOOKUP('BASE DE RESPUESTAS'!O8,Back!$M$16:$N$20,2,0)","v":"#N/A"},{"$f":"+VLOOKUP('BASE DE RESPUESTAS'!P8,Back!$M$16:$N$20,2,0)","v":"#N/A"},{"$f":"+VLOOKUP('BASE DE RESPUESTAS'!Q8,Back!$M$16:$N$20,2,0)","v":"#N/A"},{"$f":"+VLOOKUP('BASE DE RESPUESTAS'!R8,Back!$M$16:$N$20,2,0)","v":"#N/A"},{"$f":"+VLOOKUP('BASE DE RESPUESTAS'!S8,Back!$M$16:$N$20,2,0)","v":"#N/A"},{"$f":"+VLOOKUP('BASE DE RESPUESTAS'!T8,Back!$M$16:$N$20,2,0)","v":"#N/A"},{"$f":"+VLOOKUP('BASE DE RESPUESTAS'!U8,Back!$M$16:$N$20,2,0)","v":"#N/A"},{"$f":"+VLOOKUP('BASE DE RESPUESTAS'!V8,Back!$M$16:$N$20,2,0)","v":"#N/A"},{"$f":"+VLOOKUP('BASE DE RESPUESTAS'!W8,Back!$M$16:$N$20,2,0)","v":"#N/A"},{"$f":"+VLOOKUP('BASE DE RESPUESTAS'!X8,Back!$M$16:$N$20,2,0)","v":"#N/A"},{"$f":"+VLOOKUP('BASE DE RESPUESTAS'!Y8,Back!$M$16:$N$20,2,0)","v":"#N/A"},{"$f":"+VLOOKUP('BASE DE RESPUESTAS'!Z8,Back!$M$16:$N$20,2,0)","v":"#N/A"},{"$f":"+VLOOKUP('BASE DE RESPUESTAS'!AA8,Back!$M$16:$N$20,2,0)","v":"#N/A"},{"$f":"+VLOOKUP('BASE DE RESPUESTAS'!AB8,Back!$M$16:$N$20,2,0)","v":"#N/A"},{"$f":"+VLOOKUP('BASE DE RESPUESTAS'!AC8,Back!$M$16:$N$20,2,0)","v":"#N/A"},{"$f":"+VLOOKUP('BASE DE RESPUESTAS'!AD8,Back!$M$16:$N$20,2,0)","v":"#N/A"},{"$f":"+VLOOKUP('BASE DE RESPUESTAS'!AE8,Back!$M$16:$N$20,2,0)","v":"#N/A"},{"$f":"+VLOOKUP('BASE DE RESPUESTAS'!AF8,Back!$M$16:$N$20,2,0)","v":"#N/A"},{"$f":"+VLOOKUP('BASE DE RESPUESTAS'!AG8,Back!$M$16:$N$20,2,0)","v":"#N/A"},{"$f":"+VLOOKUP('BASE DE RESPUESTAS'!AH8,Back!$M$16:$N$20,2,0)","v":"#N/A"},{"$f":"+VLOOKUP('BASE DE RESPUESTAS'!AI8,Back!$M$16:$N$20,2,0)","v":"#N/A"},{"$f":"+VLOOKUP('BASE DE RESPUESTAS'!AJ8,Back!$M$16:$N$20,2,0)","v":"#N/A"},{"$f":"+VLOOKUP('BASE DE RESPUESTAS'!AK8,Back!$M$16:$N$20,2,0)","v":"#N/A"},{"$f":"+VLOOKUP('BASE DE RESPUESTAS'!AL8,Back!$M$16:$N$20,2,0)","v":"#N/A"},{"$f":"+VLOOKUP('BASE DE RESPUESTAS'!AM8,Back!$M$16:$N$20,2,0)","v":"#N/A"},{"$f":"+VLOOKUP('BASE DE RESPUESTAS'!AN8,Back!$M$16:$N$20,2,0)","v":"#N/A"},{"$f":"+VLOOKUP('BASE DE RESPUESTAS'!AO8,Back!$M$16:$N$20,2,0)","v":"#N/A"},{"$f":"+VLOOKUP('BASE DE RESPUESTAS'!AP8,Back!$M$16:$N$20,2,0)","v":"#N/A"},{"$f":"+VLOOKUP('BASE DE RESPUESTAS'!AQ8,Back!$M$16:$N$20,2,0)","v":"#N/A"},{"$f":"+VLOOKUP('BASE DE RESPUESTAS'!AR8,Back!$M$16:$N$20,2,0)","v":"#N/A"},{"$f":"+VLOOKUP('BASE DE RESPUESTAS'!AS8,Back!$M$16:$N$20,2,0)","v":"#N/A"},{"$f":"+VLOOKUP('BASE DE RESPUESTAS'!AT8,Back!$M$16:$N$20,2,0)","v":"#N/A"},{"$f":"+VLOOKUP('BASE DE RESPUESTAS'!AU8,Back!$M$16:$N$20,2,0)","v":"#N/A"},{"$f":"+VLOOKUP('BASE DE RESPUESTAS'!AV8,Back!$M$16:$N$20,2,0)","v":"#N/A"},{"$f":"+VLOOKUP('BASE DE RESPUESTAS'!AW8,Back!$M$16:$N$20,2,0)","v":"#N/A"},{"$f":"+VLOOKUP('BASE DE RESPUESTAS'!AX8,Back!$M$16:$N$20,2,0)","v":"#N/A"},{"$f":"+VLOOKUP('BASE DE RESPUESTAS'!AY8,Back!$M$16:$N$20,2,0)","v":"#N/A"},{"$f":"+VLOOKUP('BASE DE RESPUESTAS'!AZ8,Back!$M$16:$N$20,2,0)","v":"#N/A"},{"$f":"+VLOOKUP('BASE DE RESPUESTAS'!BA8,Back!$M$16:$N$20,2,0)","v":"#N/A"},{"$f":"+VLOOKUP('BASE DE RESPUESTAS'!BB8,Back!$M$16:$N$20,2,0)","v":"#N/A"},{"$f":"+VLOOKUP('BASE DE RESPUESTAS'!BC8,Back!$M$16:$N$20,2,0)","v":"#N/A"},{"$f":"+VLOOKUP('BASE DE RESPUESTAS'!BD8,Back!$M$16:$N$20,2,0)","v":"#N/A"},{"$f":"+VLOOKUP('BASE DE RESPUESTAS'!BE8,Back!$M$16:$N$20,2,0)","v":"#N/A"}]
[null,"HSE","Autoestima","El o la estudiante tiene una imagen positiva de sí mismo.",3.0,"Me considero una persona valiosa.",null,{"$f":"+VLOOKUP('BASE DE RESPUESTAS'!H9,Back!$M$16:$N$20,2,0)","v":"#N/A"},{"$f":"+VLOOKUP('BASE DE RESPUESTAS'!I9,Back!$M$16:$N$20,2,0)","v":"#N/A"},{"$f":"+VLOOKUP('BASE DE RESPUESTAS'!J9,Back!$M$16:$N$20,2,0)","v":"#N/A"},{"$f":"+VLOOKUP('BASE DE RESPUESTAS'!K9,Back!$M$16:$N$20,2,0)","v":"#N/A"},{"$f":"+VLOOKUP('BASE DE RESPUESTAS'!L9,Back!$M$16:$N$20,2,0)","v":"#N/A"},{"$f":"+VLOOKUP('BASE DE RESPUESTAS'!M9,Back!$M$16:$N$20,2,0)","v":"#N/A"},{"$f":"+VLOOKUP('BASE DE RESPUESTAS'!N9,Back!$M$16:$N$20,2,0)","v":"#N/A"},{"$f":"+VLOOKUP('BASE DE RESPUESTAS'!O9,Back!$M$16:$N$20,2,0)","v":"#N/A"},{"$f":"+VLOOKUP('BASE DE RESPUESTAS'!P9,Back!$M$16:$N$20,2,0)","v":"#N/A"},{"$f":"+VLOOKUP('BASE DE RESPUESTAS'!Q9,Back!$M$16:$N$20,2,0)","v":"#N/A"},{"$f":"+VLOOKUP('BASE DE RESPUESTAS'!R9,Back!$M$16:$N$20,2,0)","v":"#N/A"},{"$f":"+VLOOKUP('BASE DE RESPUESTAS'!S9,Back!$M$16:$N$20,2,0)","v":"#N/A"},{"$f":"+VLOOKUP('BASE DE RESPUESTAS'!T9,Back!$M$16:$N$20,2,0)","v":"#N/A"},{"$f":"+VLOOKUP('BASE DE RESPUESTAS'!U9,Back!$M$16:$N$20,2,0)","v":"#N/A"},{"$f":"+VLOOKUP('BASE DE RESPUESTAS'!V9,Back!$M$16:$N$20,2,0)","v":"#N/A"},{"$f":"+VLOOKUP('BASE DE RESPUESTAS'!W9,Back!$M$16:$N$20,2,0)","v":"#N/A"},{"$f":"+VLOOKUP('BASE DE RESPUESTAS'!X9,Back!$M$16:$N$20,2,0)","v":"#N/A"},{"$f":"+VLOOKUP('BASE DE RESPUESTAS'!Y9,Back!$M$16:$N$20,2,0)","v":"#N/A"},{"$f":"+VLOOKUP('BASE DE RESPUESTAS'!Z9,Back!$M$16:$N$20,2,0)","v":"#N/A"},{"$f":"+VLOOKUP('BASE DE RESPUESTAS'!AA9,Back!$M$16:$N$20,2,0)","v":"#N/A"},{"$f":"+VLOOKUP('BASE DE RESPUESTAS'!AB9,Back!$M$16:$N$20,2,0)","v":"#N/A"},{"$f":"+VLOOKUP('BASE DE RESPUESTAS'!AC9,Back!$M$16:$N$20,2,0)","v":"#N/A"},{"$f":"+VLOOKUP('BASE DE RESPUESTAS'!AD9,Back!$M$16:$N$20,2,0)","v":"#N/A"},{"$f":"+VLOOKUP('BASE DE RESPUESTAS'!AE9,Back!$M$16:$N$20,2,0)","v":"#N/A"},{"$f":"+VLOOKUP('BASE DE RESPUESTAS'!AF9,Back!$M$16:$N$20,2,0)","v":"#N/A"},{"$f":"+VLOOKUP('BASE DE RESPUESTAS'!AG9,Back!$M$16:$N$20,2,0)","v":"#N/A"},{"$f":"+VLOOKUP('BASE DE RESPUESTAS'!AH9,Back!$M$16:$N$20,2,0)","v":"#N/A"},{"$f":"+VLOOKUP('BASE DE RESPUESTAS'!AI9,Back!$M$16:$N$20,2,0)","v":"#N/A"},{"$f":"+VLOOKUP('BASE DE RESPUESTAS'!AJ9,Back!$M$16:$N$20,2,0)","v":"#N/A"},{"$f":"+VLOOKUP('BASE DE RESPUESTAS'!AK9,Back!$M$16:$N$20,2,0)","v":"#N/A"},{"$f":"+VLOOKUP('BASE DE RESPUESTAS'!AL9,Back!$M$16:$N$20,2,0)","v":"#N/A"},{"$f":"+VLOOKUP('BASE DE RESPUESTAS'!AM9,Back!$M$16:$N$20,2,0)","v":"#N/A"},{"$f":"+VLOOKUP('BASE DE RESPUESTAS'!AN9,Back!$M$16:$N$20,2,0)","v":"#N/A"},{"$f":"+VLOOKUP('BASE DE RESPUESTAS'!AO9,Back!$M$16:$N$20,2,0)","v":"#N/A"},{"$f":"+VLOOKUP('BASE DE RESPUESTAS'!AP9,Back!$M$16:$N$20,2,0)","v":"#N/A"},{"$f":"+VLOOKUP('BASE DE RESPUESTAS'!AQ9,Back!$M$16:$N$20,2,0)","v":"#N/A"},{"$f":"+VLOOKUP('BASE DE RESPUESTAS'!AR9,Back!$M$16:$N$20,2,0)","v":"#N/A"},{"$f":"+VLOOKUP('BASE DE RESPUESTAS'!AS9,Back!$M$16:$N$20,2,0)","v":"#N/A"},{"$f":"+VLOOKUP('BASE DE RESPUESTAS'!AT9,Back!$M$16:$N$20,2,0)","v":"#N/A"},{"$f":"+VLOOKUP('BASE DE RESPUESTAS'!AU9,Back!$M$16:$N$20,2,0)","v":"#N/A"},{"$f":"+VLOOKUP('BASE DE RESPUESTAS'!AV9,Back!$M$16:$N$20,2,0)","v":"#N/A"},{"$f":"+VLOOKUP('BASE DE RESPUESTAS'!AW9,Back!$M$16:$N$20,2,0)","v":"#N/A"},{"$f":"+VLOOKUP('BASE DE RESPUESTAS'!AX9,Back!$M$16:$N$20,2,0)","v":"#N/A"},{"$f":"+VLOOKUP('BASE DE RESPUESTAS'!AY9,Back!$M$16:$N$20,2,0)","v":"#N/A"},{"$f":"+VLOOKUP('BASE DE RESPUESTAS'!AZ9,Back!$M$16:$N$20,2,0)","v":"#N/A"},{"$f":"+VLOOKUP('BASE DE RESPUESTAS'!BA9,Back!$M$16:$N$20,2,0)","v":"#N/A"},{"$f":"+VLOOKUP('BASE DE RESPUESTAS'!BB9,Back!$M$16:$N$20,2,0)","v":"#N/A"},{"$f":"+VLOOKUP('BASE DE RESPUESTAS'!BC9,Back!$M$16:$N$20,2,0)","v":"#N/A"},{"$f":"+VLOOKUP('BASE DE RESPUESTAS'!BD9,Back!$M$16:$N$20,2,0)","v":"#N/A"},{"$f":"+VLOOKUP('BASE DE RESPUESTAS'!BE9,Back!$M$16:$N$20,2,0)","v":"#N/A"}]
[null,null,null,"El o la estudiante se encuentra satisfecho consigo mismo.",4.0,"Me gusta como soy.",null,{"$f":"+VLOOKUP('BASE DE RESPUESTAS'!H10,Back!$M$16:$N$20,2,0)","v":"#N/A"},{"$f":"+VLOOKUP('BASE DE RESPUESTAS'!I10,Back!$M$16:$N$20,2,0)","v":"#N/A"},{"$f":"+VLOOKUP('BASE DE RESPUESTAS'!J10,Back!$M$16:$N$20,2,0)","v":"#N/A"},{"$f":"+VLOOKUP('BASE DE RESPUESTAS'!K10,Back!$M$16:$N$20,2,0)","v":"#N/A"},{"$f":"+VLOOKUP('BASE DE RESPUESTAS'!L10,Back!$M$16:$N$20,2,0)","v":"#N/A"},{"$f":"+VLOOKUP('BASE DE RESPUESTAS'!M10,Back!$M$16:$N$20,2,0)","v":"#N/A"},{"$f":"+VLOOKUP('BASE DE RESPUESTAS'!N10,Back!$M$16:$N$20,2,0)","v":"#N/A"},{"$f":"+VLOOKUP('BASE DE RESPUESTAS'!O10,Back!$M$16:$N$20,2,0)","v":"#N/A"},{"$f":"+VLOOKUP('BASE DE RESPUESTAS'!P10,Back!$M$16:$N$20,2,0)","v":"#N/A"},{"$f":"+VLOOKUP('BASE DE RESPUESTAS'!Q10,Back!$M$16:$N$20,2,0)","v":"#N/A"},{"$f":"+VLOOKUP('BASE DE RESPUESTAS'!R10,Back!$M$16:$N$20,2,0)","v":"#N/A"},{"$f":"+VLOOKUP('BASE DE RESPUESTAS'!S10,Back!$M$16:$N$20,2,0)","v":"#N/A"},{"$f":"+VLOOKUP('BASE DE RESPUESTAS'!T10,Back!$M$16:$N$20,2,0)","v":"#N/A"},{"$f":"+VLOOKUP('BASE DE RESPUESTAS'!U10,Back!$M$16:$N$20,2,0)","v":"#N/A"},{"$f":"+VLOOKUP('BASE DE RESPUESTAS'!V10,Back!$M$16:$N$20,2,0)","v":"#N/A"},{"$f":"+VLOOKUP('BASE DE RESPUESTAS'!W10,Back!$M$16:$N$20,2,0)","v":"#N/A"},{"$f":"+VLOOKUP('BASE DE RESPUESTAS'!X10,Back!$M$16:$N$20,2,0)","v":"#N/A"},{"$f":"+VLOOKUP('BASE DE RESPUESTAS'!Y10,Back!$M$16:$N$20,2,0)","v":"#N/A"},{"$f":"+VLOOKUP('BASE DE RESPUESTAS'!Z10,Back!$M$16:$N$20,2,0)","v":"#N/A"},{"$f":"+VLOOKUP('BASE DE RESPUESTAS'!AA10,Back!$M$16:$N$20,2,0)","v":"#N/A"},{"$f":"+VLOOKUP('BASE DE RESPUESTAS'!AB10,Back!$M$16:$N$20,2,0)","v":"#N/A"},{"$f":"+VLOOKUP('BASE DE RESPUESTAS'!AC10,Back!$M$16:$N$20,2,0)","v":"#N/A"},{"$f":"+VLOOKUP('BASE DE RESPUESTAS'!AD10,Back!$M$16:$N$20,2,0)","v":"#N/A"},{"$f":"+VLOOKUP('BASE DE RESPUESTAS'!AE10,Back!$M$16:$N$20,2,0)","v":"#N/A"},{"$f":"+VLOOKUP('BASE DE RESPUESTAS'!AF10,Back!$M$16:$N$20,2,0)","v":"#N/A"},{"$f":"+VLOOKUP('BASE DE RESPUESTAS'!AG10,Back!$M$16:$N$20,2,0)","v":"#N/A"},{"$f":"+VLOOKUP('BASE DE RESPUESTAS'!AH10,Back!$M$16:$N$20,2,0)","v":"#N/A"},{"$f":"+VLOOKUP('BASE DE RESPUESTAS'!AI10,Back!$M$16:$N$20,2,0)","v":"#N/A"},{"$f":"+VLOOKUP('BASE DE RESPUESTAS'!AJ10,Back!$M$16:$N$20,2,0)","v":"#N/A"},{"$f":"+VLOOKUP('BASE DE RESPUESTAS'!AK10,Back!$M$16:$N$20,2,0)","v":"#N/A"},{"$f":"+VLOOKUP('BASE DE RESPUESTAS'!AL10,Back!$M$16:$N$20,2,0)","v":"#N/A"},{"$f":"+VLOOKUP('BASE DE RESPUESTAS'!AM10,Back!$M$16:$N$20,2,0)","v":"#N/A"},{"$f":"+VLOOKUP('BASE DE RESPUESTAS'!AN10,Back!$M$16:$N$20,2,0)","v":"#N/A"},{"$f":"+VLOOKUP('BASE DE RESPUESTAS'!AO10,Back!$M$16:$N$20,2,0)","v":"#N/A"},{"$f":"+VLOOKUP('BASE DE RESPUESTAS'!AP10,Back!$M$16:$N$20,2,0)","v":"#N/A"},{"$f":"+VLOOKUP('BASE DE RESPUESTAS'!AQ10,Back!$M$16:$N$20,2,0)","v":"#N/A"},{"$f":"+VLOOKUP('BASE DE RESPUESTAS'!AR10,Back!$M$16:$N$20,2,0)","v":"#N/A"},{"$f":"+VLOOKUP('BASE DE RESPUESTAS'!AS10,Back!$M$16:$N$20,2,0)","v":"#N/A"},{"$f":"+VLOOKUP('BASE DE RESPUESTAS'!AT10,Back!$M$16:$N$20,2,0)","v":"#N/A"},{"$f":"+VLOOKUP('BASE DE RESPUESTAS'!AU10,Back!$M$16:$N$20,2,0)","v":"#N/A"},{"$f":"+VLOOKUP('BASE DE RESPUESTAS'!AV10,Back!$M$16:$N$20,2,0)","v":"#N/A"},{"$f":"+VLOOKUP('BASE DE RESPUESTAS'!AW10,Back!$M$16:$N$20,2,0)","v":"#N/A"},{"$f":"+VLOOKUP('BASE DE RESPUESTAS'!AX10,Back!$M$16:$N$20,2,0)","v":"#N/A"},{"$f":"+VLOOKUP('BASE DE RESPUESTAS'!AY10,Back!$M$16:$N$20,2,0)","v":"#N/A"},{"$f":"+VLOOKUP('BASE DE RESPUESTAS'!AZ10,Back!$M$16:$N$20,2,0)","v":"#N/A"},{"$f":"+VLOOKUP('BASE DE RESPUESTAS'!BA10,Back!$M$16:$N$20,2,0)","v":"#N/A"},{"$f":"+VLOOKUP('BASE DE RESPUESTAS'!BB10,Back!$M$16:$N$20,2,0)","v":"#N/A"},{"$f":"+VLOOKUP('BASE DE RESPUESTAS'!BC10,Back!$M$16:$N$20,2,0)","v":"#N/A"},{"$f":"+VLOOKUP('BASE DE RESPUESTAS'!BD10,Back!$M$16:$N$20,2,0)","v":"#N/A"},{"$f":"+VLOOKUP('BASE DE RESPUESTAS'!BE10,Back!$M$16:$N$20,2,0)","v":"#N/A"}]
[null,null,null,"El o la estudiante puede manifestar las ideas que tiene de sí mismo sin temor, ni vergüenza.",5.0,"Me siento seguro y satisfecho cuando hablo de mí mismo.",null,{"$f":"+VLOOKUP('BASE DE RESPUESTAS'!H11,Back!$M$16:$N$20,2,0)","v":"#N/A"},{"$f":"+VLOOKUP('BASE DE RESPUESTAS'!I11,Back!$M$16:$N$20,2,0)","v":"#N/A"},{"$f":"+VLOOKUP('BASE DE RESPUESTAS'!J11,Back!$M$16:$N$20,2,0)","v":"#N/A"},{"$f":"+VLOOKUP('BASE DE RESPUESTAS'!K11,Back!$M$16:$N$20,2,0)","v":"#N/A"},{"$f":"+VLOOKUP('BASE DE RESPUESTAS'!L11,Back!$M$16:$N$20,2,0)","v":"#N/A"},{"$f":"+VLOOKUP('BASE DE RESPUESTAS'!M11,Back!$M$16:$N$20,2,0)","v":"#N/A"},{"$f":"+VLOOKUP('BASE DE RESPUESTAS'!N11,Back!$M$16:$N$20,2,0)","v":"#N/A"},{"$f":"+VLOOKUP('BASE DE RESPUESTAS'!O11,Back!$M$16:$N$20,2,0)","v":"#N/A"},{"$f":"+VLOOKUP('BASE DE RESPUESTAS'!P11,Back!$M$16:$N$20,2,0)","v":"#N/A"},{"$f":"+VLOOKUP('BASE DE RESPUESTAS'!Q11,Back!$M$16:$N$20,2,0)","v":"#N/A"},{"$f":"+VLOOKUP('BASE DE RESPUESTAS'!R11,Back!$M$16:$N$20,2,0)","v":"#N/A"},{"$f":"+VLOOKUP('BASE DE RESPUESTAS'!S11,Back!$M$16:$N$20,2,0)","v":"#N/A"},{"$f":"+VLOOKUP('BASE DE RESPUESTAS'!T11,Back!$M$16:$N$20,2,0)","v":"#N/A"},{"$f":"+VLOOKUP('BASE DE RESPUESTAS'!U11,Back!$M$16:$N$20,2,0)","v":"#N/A"},{"$f":"+VLOOKUP('BASE DE RESPUESTAS'!V11,Back!$M$16:$N$20,2,0)","v":"#N/A"},{"$f":"+VLOOKUP('BASE DE RESPUESTAS'!W11,Back!$M$16:$N$20,2,0)","v":"#N/A"},{"$f":"+VLOOKUP('BASE DE RESPUESTAS'!X11,Back!$M$16:$N$20,2,0)","v":"#N/A"},{"$f":"+VLOOKUP('BASE DE RESPUESTAS'!Y11,Back!$M$16:$N$20,2,0)","v":"#N/A"},{"$f":"+VLOOKUP('BASE DE RESPUESTAS'!Z11,Back!$M$16:$N$20,2,0)","v":"#N/A"},{"$f":"+VLOOKUP('BASE DE RESPUESTAS'!AA11,Back!$M$16:$N$20,2,0)","v":"#N/A"},{"$f":"+VLOOKUP('BASE DE RESPUESTAS'!AB11,Back!$M$16:$N$20,2,0)","v":"#N/A"},{"$f":"+VLOOKUP('BASE DE RESPUESTAS'!AC11,Back!$M$16:$N$20,2,0)","v":"#N/A"},{"$f":"+VLOOKUP('BASE DE RESPUESTAS'!AD11,Back!$M$16:$N$20,2,0)","v":"#N/A"},{"$f":"+VLOOKUP('BASE DE RESPUESTAS'!AE11,Back!$M$16:$N$20,2,0)","v":"#N/A"},{"$f":"+VLOOKUP('BASE DE RESPUESTAS'!AF11,Back!$M$16:$N$20,2,0)","v":"#N/A"},{"$f":"+VLOOKUP('BASE DE RESPUESTAS'!AG11,Back!$M$16:$N$20,2,0)","v":"#N/A"},{"$f":"+VLOOKUP('BASE DE RESPUESTAS'!AH11,Back!$M$16:$N$20,2,0)","v":"#N/A"},{"$f":"+VLOOKUP('BASE DE RESPUESTAS'!AI11,Back!$M$16:$N$20,2,0)","v":"#N/A"},{"$f":"+VLOOKUP('BASE DE RESPUESTAS'!AJ11,Back!$M$16:$N$20,2,0)","v":"#N/A"},{"$f":"+VLOOKUP('BASE DE RESPUESTAS'!AK11,Back!$M$16:$N$20,2,0)","v":"#N/A"},{"$f":"+VLOOKUP('BASE DE RESPUESTAS'!AL11,Back!$M$16:$N$20,2,0)","v":"#N/A"},{"$f":"+VLOOKUP('BASE DE RESPUESTAS'!AM11,Back!$M$16:$N$20,2,0)","v":"#N/A"},{"$f":"+VLOOKUP('BASE DE RESPUESTAS'!AN11,Back!$M$16:$N$20,2,0)","v":"#N/A"},{"$f":"+VLOOKUP('BASE DE RESPUESTAS'!AO11,Back!$M$16:$N$20,2,0)","v":"#N/A"},{"$f":"+VLOOKUP('BASE DE RESPUESTAS'!AP11,Back!$M$16:$N$20,2,0)","v":"#N/A"},{"$f":"+VLOOKUP('BASE DE RESPUESTAS'!AQ11,Back!$M$16:$N$20,2,0)","v":"#N/A"},{"$f":"+VLOOKUP('BASE DE RESPUESTAS'!AR11,Back!$M$16:$N$20,2,0)","v":"#N/A"},{"$f":"+VLOOKUP('BASE DE RESPUESTAS'!AS11,Back!$M$16:$N$20,2,0)","v":"#N/A"},{"$f":"+VLOOKUP('BASE DE RESPUESTAS'!AT11,Back!$M$16:$N$20,2,0)","v":"#N/A"},{"$f":"+VLOOKUP('BASE DE RESPUESTAS'!AU11,Back!$M$16:$N$20,2,0)","v":"#N/A"},{"$f":"+VLOOKUP('BASE DE RESPUESTAS'!AV11,Back!$M$16:$N$20,2,0)","v":"#N/A"},{"$f":"+VLOOKUP('BASE DE RESPUESTAS'!AW11,Back!$M$16:$N$20,2,0)","v":"#N/A"},{"$f":"+VLOOKUP('BASE DE RESPUESTAS'!AX11,Back!$M$16:$N$20,2,0)","v":"#N/A"},{"$f":"+VLOOKUP('BASE DE RESPUESTAS'!AY11,Back!$M$16:$N$20,2,0)","v":"#N/A"},{"$f":"+VLOOKUP('BASE DE RESPUESTAS'!AZ11,Back!$M$16:$N$20,2,0)","v":"#N/A"},{"$f":"+VLOOKUP('BASE DE RESPUESTAS'!BA11,Back!$M$16:$N$20,2,0)","v":"#N/A"},{"$f":"+VLOOKUP('BASE DE RESPUESTAS'!BB11,Back!$M$16:$N$20,2,0)","v":"#N/A"},{"$f":"+VLOOKUP('BASE DE RESPUESTAS'!BC11,Back!$M$16:$N$20,2,0)","v":"#N/A"},{"$f":"+VLOOKUP('BASE DE RESPUESTAS'!BD11,Back!$M$16:$N$20,2,0)","v":"#N/A"},{"$f":"+VLOOKUP('BASE DE RESPUESTAS'!BE11,Back!$M$16:$N$20,2,0)","v":"#N/A"}]
[null,"HSE","Conciencia emocional","El o la estudiante tiene la capacidad de nombrar y diferenciar sus emociones.",6.0,"Reconozco cuando estoy triste, enojado, avergonzado, preocupado, feliz, etc.",null,{"$f":"+VLOOKUP('BASE DE RESPUESTAS'!H12,Back!$M$16:$N$20,2,0)","v":"#N/A"},{"$f":"+VLOOKUP('BASE DE RESPUESTAS'!I12,Back!$M$16:$N$20,2,0)","v":"#N/A"},{"$f":"+VLOOKUP('BASE DE RESPUESTAS'!J12,Back!$M$16:$N$20,2,0)","v":"#N/A"},{"$f":"+VLOOKUP('BASE DE RESPUESTAS'!K12,Back!$M$16:$N$20,2,0)","v":"#N/A"},{"$f":"+VLOOKUP('BASE DE RESPUESTAS'!L12,Back!$M$16:$N$20,2,0)","v":"#N/A"},{"$f":"+VLOOKUP('BASE DE RESPUESTAS'!M12,Back!$M$16:$N$20,2,0)","v":"#N/A"},{"$f":"+VLOOKUP('BASE DE RESPUESTAS'!N12,Back!$M$16:$N$20,2,0)","v":"#N/A"},{"$f":"+VLOOKUP('BASE DE RESPUESTAS'!O12,Back!$M$16:$N$20,2,0)","v":"#N/A"},{"$f":"+VLOOKUP('BASE DE RESPUESTAS'!P12,Back!$M$16:$N$20,2,0)","v":"#N/A"},{"$f":"+VLOOKUP('BASE DE RESPUESTAS'!Q12,Back!$M$16:$N$20,2,0)","v":"#N/A"},{"$f":"+VLOOKUP('BASE DE RESPUESTAS'!R12,Back!$M$16:$N$20,2,0)","v":"#N/A"},{"$f":"+VLOOKUP('BASE DE RESPUESTAS'!S12,Back!$M$16:$N$20,2,0)","v":"#N/A"},{"$f":"+VLOOKUP('BASE DE RESPUESTAS'!T12,Back!$M$16:$N$20,2,0)","v":"#N/A"},{"$f":"+VLOOKUP('BASE DE RESPUESTAS'!U12,Back!$M$16:$N$20,2,0)","v":"#N/A"},{"$f":"+VLOOKUP('BASE DE RESPUESTAS'!V12,Back!$M$16:$N$20,2,0)","v":"#N/A"},{"$f":"+VLOOKUP('BASE DE RESPUESTAS'!W12,Back!$M$16:$N$20,2,0)","v":"#N/A"},{"$f":"+VLOOKUP('BASE DE RESPUESTAS'!X12,Back!$M$16:$N$20,2,0)","v":"#N/A"},{"$f":"+VLOOKUP('BASE DE RESPUESTAS'!Y12,Back!$M$16:$N$20,2,0)","v":"#N/A"},{"$f":"+VLOOKUP('BASE DE RESPUESTAS'!Z12,Back!$M$16:$N$20,2,0)","v":"#N/A"},{"$f":"+VLOOKUP('BASE DE RESPUESTAS'!AA12,Back!$M$16:$N$20,2,0)","v":"#N/A"},{"$f":"+VLOOKUP('BASE DE RESPUESTAS'!AB12,Back!$M$16:$N$20,2,0)","v":"#N/A"},{"$f":"+VLOOKUP('BASE DE RESPUESTAS'!AC12,Back!$M$16:$N$20,2,0)","v":"#N/A"},{"$f":"+VLOOKUP('BASE DE RESPUESTAS'!AD12,Back!$M$16:$N$20,2,0)","v":"#N/A"},{"$f":"+VLOOKUP('BASE DE RESPUESTAS'!AE12,Back!$M$16:$N$20,2,0)","v":"#N/A"},{"$f":"+VLOOKUP('BASE DE RESPUESTAS'!AF12,Back!$M$16:$N$20,2,0)","v":"#N/A"},{"$f":"+VLOOKUP('BASE DE RESPUESTAS'!AG12,Back!$M$16:$N$20,2,0)","v":"#N/A"},{"$f":"+VLOOKUP('BASE DE RESPUESTAS'!AH12,Back!$M$16:$N$20,2,0)","v":"#N/A"},{"$f":"+VLOOKUP('BASE DE RESPUESTAS'!AI12,Back!$M$16:$N$20,2,0)","v":"#N/A"},{"$f":"+VLOOKUP('BASE DE RESPUESTAS'!AJ12,Back!$M$16:$N$20,2,0)","v":"#N/A"},{"$f":"+VLOOKUP('BASE DE RESPUESTAS'!AK12,Back!$M$16:$N$20,2,0)","v":"#N/A"},{"$f":"+VLOOKUP('BASE DE RESPUESTAS'!AL12,Back!$M$16:$N$20,2,0)","v":"#N/A"},{"$f":"+VLOOKUP('BASE DE RESPUESTAS'!AM12,Back!$M$16:$N$20,2,0)","v":"#N/A"},{"$f":"+VLOOKUP('BASE DE RESPUESTAS'!AN12,Back!$M$16:$N$20,2,0)","v":"#N/A"},{"$f":"+VLOOKUP('BASE DE RESPUESTAS'!AO12,Back!$M$16:$N$20,2,0)","v":"#N/A"},{"$f":"+VLOOKUP('BASE DE RESPUESTAS'!AP12,Back!$M$16:$N$20,2,0)","v":"#N/A"},{"$f":"+VLOOKUP('BASE DE RESPUESTAS'!AQ12,Back!$M$16:$N$20,2,0)","v":"#N/A"},{"$f":"+VLOOKUP('BASE DE RESPUESTAS'!AR12,Back!$M$16:$N$20,2,0)","v":"#N/A"},{"$f":"+VLOOKUP('BASE DE RESPUESTAS'!AS12,Back!$M$16:$N$20,2,0)","v":"#N/A"},{"$f":"+VLOOKUP('BASE DE RESPUESTAS'!AT12,Back!$M$16:$N$20,2,0)","v":"#N/A"},{"$f":"+VLOOKUP('BASE DE RESPUESTAS'!AU12,Back!$M$16:$N$20,2,0)","v":"#N/A"},{"$f":"+VLOOKUP('BASE DE RESPUESTAS'!AV12,Back!$M$16:$N$20,2,0)","v":"#N/A"},{"$f":"+VLOOKUP('BASE DE RESPUESTAS'!AW12,Back!$M$16:$N$20,2,0)","v":"#N/A"},{"$f":"+VLOOKUP('BASE DE RESPUESTAS'!AX12,Back!$M$16:$N$20,2,0)","v":"#N/A"},{"$f":"+VLOOKUP('BASE DE RESPUESTAS'!AY12,Back!$M$16:$N$20,2,0)","v":"#N/A"},{"$f":"+VLOOKUP('BASE DE RESPUESTAS'!AZ12,Back!$M$16:$N$20,2,0)","v":"#N/A"},{"$f":"+VLOOKUP('BASE DE RESPUESTAS'!BA12,Back!$M$16:$N$20,2,0)","v":"#N/A"},{"$f":"+VLOOKUP('BASE DE RESPUESTAS'!BB12,Back!$M$16:$N$20,2,0)","v":"#N/A"},{"$f":"+VLOOKUP('BASE DE RESPUESTAS'!BC12,Back!$M$16:$N$20,2,0)","v":"#N/A"},{"$f":"+VLOOKUP('BASE DE RESPUESTAS'!BD12,Back!$M$16:$N$20,2,0)","v":"#N/A"},{"$f":"+VLOOKUP('BASE DE RESPUESTAS'!BE12,Back!$M$16:$N$20,2,0)","v":"#N/A"}]
[null,null,null,"El o la estudiante puede explicar las causas y las consecuencias de sus emociones.",7.0,"Me doy cuenta de las cosas y situaciones que me ponen triste, molesto, preocupado, o que me alegran, etc.",null,{"$f":"+VLOOKUP('BASE DE RESPUESTAS'!H13,Back!$M$16:$N$20,2,0)","v":"#N/A"},{"$f":"+VLOOKUP('BASE DE RESPUESTAS'!I13,Back!$M$16:$N$20,2,0)","v":"#N/A"},{"$f":"+VLOOKUP('BASE DE RESPUESTAS'!J13,Back!$M$16:$N$20,2,0)","v":"#N/A"},{"$f":"+VLOOKUP('BASE DE RESPUESTAS'!K13,Back!$M$16:$N$20,2,0)","v":"#N/A"},{"$f":"+VLOOKUP('BASE DE RESPUESTAS'!L13,Back!$M$16:$N$20,2,0)","v":"#N/A"},{"$f":"+VLOOKUP('BASE DE RESPUESTAS'!M13,Back!$M$16:$N$20,2,0)","v":"#N/A"},{"$f":"+VLOOKUP('BASE DE RESPUESTAS'!N13,Back!$M$16:$N$20,2,0)","v":"#N/A"},{"$f":"+VLOOKUP('BASE DE RESPUESTAS'!O13,Back!$M$16:$N$20,2,0)","v":"#N/A"},{"$f":"+VLOOKUP('BASE DE RESPUESTAS'!P13,Back!$M$16:$N$20,2,0)","v":"#N/A"},{"$f":"+VLOOKUP('BASE DE RESPUESTAS'!Q13,Back!$M$16:$N$20,2,0)","v":"#N/A"},{"$f":"+VLOOKUP('BASE DE RESPUESTAS'!R13,Back!$M$16:$N$20,2,0)","v":"#N/A"},{"$f":"+VLOOKUP('BASE DE RESPUESTAS'!S13,Back!$M$16:$N$20,2,0)","v":"#N/A"},{"$f":"+VLOOKUP('BASE DE RESPUESTAS'!T13,Back!$M$16:$N$20,2,0)","v":"#N/A"},{"$f":"+VLOOKUP('BASE DE RESPUESTAS'!U13,Back!$M$16:$N$20,2,0)","v":"#N/A"},{"$f":"+VLOOKUP('BASE DE RESPUESTAS'!V13,Back!$M$16:$N$20,2,0)","v":"#N/A"},{"$f":"+VLOOKUP('BASE DE RESPUESTAS'!W13,Back!$M$16:$N$20,2,0)","v":"#N/A"},{"$f":"+VLOOKUP('BASE DE RESPUESTAS'!X13,Back!$M$16:$N$20,2,0)","v":"#N/A"},{"$f":"+VLOOKUP('BASE DE RESPUESTAS'!Y13,Back!$M$16:$N$20,2,0)","v":"#N/A"},{"$f":"+VLOOKUP('BASE DE RESPUESTAS'!Z13,Back!$M$16:$N$20,2,0)","v":"#N/A"},{"$f":"+VLOOKUP('BASE DE RESPUESTAS'!AA13,Back!$M$16:$N$20,2,0)","v":"#N/A"},{"$f":"+VLOOKUP('BASE DE RESPUESTAS'!AB13,Back!$M$16:$N$20,2,0)","v":"#N/A"},{"$f":"+VLOOKUP('BASE DE RESPUESTAS'!AC13,Back!$M$16:$N$20,2,0)","v":"#N/A"},{"$f":"+VLOOKUP('BASE DE RESPUESTAS'!AD13,Back!$M$16:$N$20,2,0)","v":"#N/A"},{"$f":"+VLOOKUP('BASE DE RESPUESTAS'!AE13,Back!$M$16:$N$20,2,0)","v":"#N/A"},{"$f":"+VLOOKUP('BASE DE RESPUESTAS'!AF13,Back!$M$16:$N$20,2,0)","v":"#N/A"},{"$f":"+VLOOKUP('BASE DE RESPUESTAS'!AG13,Back!$M$16:$N$20,2,0)","v":"#N/A"},{"$f":"+VLOOKUP('BASE DE RESPUESTAS'!AH13,Back!$M$16:$N$20,2,0)","v":"#N/A"},{"$f":"+VLOOKUP('BASE DE RESPUESTAS'!AI13,Back!$M$16:$N$20,2,0)","v":"#N/A"},{"$f":"+VLOOKUP('BASE DE RESPUESTAS'!AJ13,Back!$M$16:$N$20,2,0)","v":"#N/A"},{"$f":"+VLOOKUP('BASE DE RESPUESTAS'!AK13,Back!$M$16:$N$20,2,0)","v":"#N/A"},{"$f":"+VLOOKUP('BASE DE RESPUESTAS'!AL13,Back!$M$16:$N$20,2,0)","v":"#N/A"},{"$f":"+VLOOKUP('BASE DE RESPUESTAS'!AM13,Back!$M$16:$N$20,2,0)","v":"#N/A"},{"$f":"+VLOOKUP('BASE DE RESPUESTAS'!AN13,Back!$M$16:$N$20,2,0)","v":"#N/A"},{"$f":"+VLOOKUP('BASE DE RESPUESTAS'!AO13,Back!$M$16:$N$20,2,0)","v":"#N/A"},{"$f":"+VLOOKUP('BASE DE RESPUESTAS'!AP13,Back!$M$16:$N$20,2,0)","v":"#N/A"},{"$f":"+VLOOKUP('BASE DE RESPUESTAS'!AQ13,Back!$M$16:$N$20,2,0)","v":"#N/A"},{"$f":"+VLOOKUP('BASE DE RESPUESTAS'!AR13,Back!$M$16:$N$20,2,0)","v":"#N/A"},{"$f":"+VLOOKUP('BASE DE RESPUESTAS'!AS13,Back!$M$16:$N$20,2,0)","v":"#N/A"},{"$f":"+VLOOKUP('BASE DE RESPUESTAS'!AT13,Back!$M$16:$N$20,2,0)","v":"#N/A"},{"$f":"+VLOOKUP('BASE DE RESPUESTAS'!AU13,Back!$M$16:$N$20,2,0)","v":"#N/A"},{"$f":"+VLOOKUP('BASE DE RESPUESTAS'!AV13,Back!$M$16:$N$20,2,0)","v":"#N/A"},{"$f":"+VLOOKUP('BASE DE RESPUESTAS'!AW13,Back!$M$16:$N$20,2,0)","v":"#N/A"},{"$f":"+VLOOKUP('BASE DE RESPUESTAS'!AX13,Back!$M$16:$N$20,2,0)","v":"#N/A"},{"$f":"+VLOOKUP('BASE DE RESPUESTAS'!AY13,Back!$M$16:$N$20,2,0)","v":"#N/A"},{"$f":"+VLOOKUP('BASE DE RESPUESTAS'!AZ13,Back!$M$16:$N$20,2,0)","v":"#N/A"},{"$f":"+VLOOKUP('BASE DE RESPUESTAS'!BA13,Back!$M$16:$N$20,2,0)","v":"#N/A"},{"$f":"+VLOOKUP('BASE DE RESPUESTAS'!BB13,Back!$M$16:$N$20,2,0)","v":"#N/A"},{"$f":"+VLOOKUP('BASE DE RESPUESTAS'!BC13,Back!$M$16:$N$20,2,0)","v":"#N/A"},{"$f":"+VLOOKUP('BASE DE RESPUESTAS'!BD13,Back!$M$16:$N$20,2,0)","v":"#N/A"},{"$f":"+VLOOKUP('BASE DE RESPUESTAS'!BE13,Back!$M$16:$N$20,2,0)","v":"#N/A"}]
[null,null,null,"El o la estudiante comprende cómo sus emociones afectan su comportamiento.",8.0,"Me doy cuenta que mi comportamiento cambia cuando estoy triste, molesto, preocupado, alegre, etc.",null,{"$f":"+VLOOKUP('BASE DE RESPUESTAS'!H14,Back!$M$16:$N$20,2,0)","v":"#N/A"},{"$f":"+VLOOKUP('BASE DE RESPUESTAS'!I14,Back!$M$16:$N$20,2,0)","v":"#N/A"},{"$f":"+VLOOKUP('BASE DE RESPUESTAS'!J14,Back!$M$16:$N$20,2,0)","v":"#N/A"},{"$f":"+VLOOKUP('BASE DE RESPUESTAS'!K14,Back!$M$16:$N$20,2,0)","v":"#N/A"},{"$f":"+VLOOKUP('BASE DE RESPUESTAS'!L14,Back!$M$16:$N$20,2,0)","v":"#N/A"},{"$f":"+VLOOKUP('BASE DE RESPUESTAS'!M14,Back!$M$16:$N$20,2,0)","v":"#N/A"},{"$f":"+VLOOKUP('BASE DE RESPUESTAS'!N14,Back!$M$16:$N$20,2,0)","v":"#N/A"},{"$f":"+VLOOKUP('BASE DE RESPUESTAS'!O14,Back!$M$16:$N$20,2,0)","v":"#N/A"},{"$f":"+VLOOKUP('BASE DE RESPUESTAS'!P14,Back!$M$16:$N$20,2,0)","v":"#N/A"},{"$f":"+VLOOKUP('BASE DE RESPUESTAS'!Q14,Back!$M$16:$N$20,2,0)","v":"#N/A"},{"$f":"+VLOOKUP('BASE DE RESPUESTAS'!R14,Back!$M$16:$N$20,2,0)","v":"#N/A"},{"$f":"+VLOOKUP('BASE DE RESPUESTAS'!S14,Back!$M$16:$N$20,2,0)","v":"#N/A"},{"$f":"+VLOOKUP('BASE DE RESPUESTAS'!T14,Back!$M$16:$N$20,2,0)","v":"#N/A"},{"$f":"+VLOOKUP('BASE DE RESPUESTAS'!U14,Back!$M$16:$N$20,2,0)","v":"#N/A"},{"$f":"+VLOOKUP('BASE DE RESPUESTAS'!V14,Back!$M$16:$N$20,2,0)","v":"#N/A"},{"$f":"+VLOOKUP('BASE DE RESPUESTAS'!W14,Back!$M$16:$N$20,2,0)","v":"#N/A"},{"$f":"+VLOOKUP('BASE DE RESPUESTAS'!X14,Back!$M$16:$N$20,2,0)","v":"#N/A"},{"$f":"+VLOOKUP('BASE DE RESPUESTAS'!Y14,Back!$M$16:$N$20,2,0)","v":"#N/A"},{"$f":"+VLOOKUP('BASE DE RESPUESTAS'!Z14,Back!$M$16:$N$20,2,0)","v":"#N/A"},{"$f":"+VLOOKUP('BASE DE RESPUESTAS'!AA14,Back!$M$16:$N$20,2,0)","v":"#N/A"},{"$f":"+VLOOKUP('BASE DE RESPUESTAS'!AB14,Back!$M$16:$N$20,2,0)","v":"#N/A"},{"$f":"+VLOOKUP('BASE DE RESPUESTAS'!AC14,Back!$M$16:$N$20,2,0)","v":"#N/A"},{"$f":"+VLOOKUP('BASE DE RESPUESTAS'!AD14,Back!$M$16:$N$20,2,0)","v":"#N/A"},{"$f":"+VLOOKUP('BASE DE RESPUESTAS'!AE14,Back!$M$16:$N$20,2,0)","v":"#N/A"},{"$f":"+VLOOKUP('BASE DE RESPUESTAS'!AF14,Back!$M$16:$N$20,2,0)","v":"#N/A"},{"$f":"+VLOOKUP('BASE DE RESPUESTAS'!AG14,Back!$M$16:$N$20,2,0)","v":"#N/A"},{"$f":"+VLOOKUP('BASE DE RESPUESTAS'!AH14,Back!$M$16:$N$20,2,0)","v":"#N/A"},{"$f":"+VLOOKUP('BASE DE RESPUESTAS'!AI14,Back!$M$16:$N$20,2,0)","v":"#N/A"},{"$f":"+VLOOKUP('BASE DE RESPUESTAS'!AJ14,Back!$M$16:$N$20,2,0)","v":"#N/A"},{"$f":"+VLOOKUP('BASE DE RESPUESTAS'!AK14,Back!$M$16:$N$20,2,0)","v":"#N/A"},{"$f":"+VLOOKUP('BASE DE RESPUESTAS'!AL14,Back!$M$16:$N$20,2,0)","v":"#N/A"},{"$f":"+VLOOKUP('BASE DE RESPUESTAS'!AM14,Back!$M$16:$N$20,2,0)","v":"#N/A"},{"$f":"+VLOOKUP('BASE DE RESPUESTAS'!AN14,Back!$M$16:$N$20,2,0)","v":"#N/A"},{"$f":"+VLOOKUP('BASE DE RESPUESTAS'!AO14,Back!$M$16:$N$20,2,0)","v":"#N/A"},{"$f":"+VLOOKUP('BASE DE RESPUESTAS'!AP14,Back!$M$16:$N$20,2,0)","v":"#N/A"},{"$f":"+VLOOKUP('BASE DE RESPUESTAS'!AQ14,Back!$M$16:$N$20,2,0)","v":"#N/A"},{"$f":"+VLOOKUP('BASE DE RESPUESTAS'!AR14,Back!$M$16:$N$20,2,0)","v":"#N/A"},{"$f":"+VLOOKUP('BASE DE RESPUESTAS'!AS14,Back!$M$16:$N$20,2,0)","v":"#N/A"},{"$f":"+VLOOKUP('BASE DE RESPUESTAS'!AT14,Back!$M$16:$N$20,2,0)","v":"#N/A"},{"$f":"+VLOOKUP('BASE DE RESPUESTAS'!AU14,Back!$M$16:$N$20,2,0)","v":"#N/A"},{"$f":"+VLOOKUP('BASE DE RESPUESTAS'!AV14,Back!$M$16:$N$20,2,0)","v":"#N/A"},{"$f":"+VLOOKUP('BASE DE RESPUESTAS'!AW14,Back!$M$16:$N$20,2,0)","v":"#N/A"},{"$f":"+VLOOKUP('BASE DE RESPUESTAS'!AX14,Back!$M$16:$N$20,2,0)","v":"#N/A"},{"$f":"+VLOOKUP('BASE DE RESPUESTAS'!AY14,Back!$M$16:$N$20,2,0)","v":"#N/A"},{"$f":"+VLOOKUP('BASE DE RESPUESTAS'!AZ14,Back!$M$16:$N$20,2,0)","v":"#N/A"},{"$f":"+VLOOKUP('BASE DE RESPUESTAS'!BA14,Back!$M$16:$N$20,2,0)","v":"#N/A"},{"$f":"+VLOOKUP('BASE DE RESPUESTAS'!BB14,Back!$M$16:$N$20,2,0)","v":"#N/A"},{"$f":"+VLOOKUP('BASE DE RESPUESTAS'!BC14,Back!$M$16:$N$20,2,0)","v":"#N/A"},{"$f":"+VLOOKUP('BASE DE RESPUESTAS'!BD14,Back!$M$16:$N$20,2,0)","v":"#N/A"},{"$f":"+VLOOKUP('BASE DE RESPUESTAS'!BE14,Back!$M$16:$N$20,2,0)","v":"#N/A"}]
[null,"HSE","Autocuidado","El o la estudiante reconoce y pone en práctica hábitos que le permiten tener una adecuada salud física.",9.0,"Practico hábitos para tener una buena salud física (ejercicios, alimentación, sueño, etc.)",null,{"$f":"+VLOOKUP('BASE DE RESPUESTAS'!H15,Back!$M$16:$N$20,2,0)","v":"#N/A"},{"$f":"+VLOOKUP('BASE DE RESPUESTAS'!I15,Back!$M$16:$N$20,2,0)","v":"#N/A"},{"$f":"+VLOOKUP('BASE DE RESPUESTAS'!J15,Back!$M$16:$N$20,2,0)","v":"#N/A"},{"$f":"+VLOOKUP('BASE DE RESPUESTAS'!K15,Back!$M$16:$N$20,2,0)","v":"#N/A"},{"$f":"+VLOOKUP('BASE DE RESPUESTAS'!L15,Back!$M$16:$N$20,2,0)","v":"#N/A"},{"$f":"+VLOOKUP('BASE DE RESPUESTAS'!M15,Back!$M$16:$N$20,2,0)","v":"#N/A"},{"$f":"+VLOOKUP('BASE DE RESPUESTAS'!N15,Back!$M$16:$N$20,2,0)","v":"#N/A"},{"$f":"+VLOOKUP('BASE DE RESPUESTAS'!O15,Back!$M$16:$N$20,2,0)","v":"#N/A"},{"$f":"+VLOOKUP('BASE DE RESPUESTAS'!P15,Back!$M$16:$N$20,2,0)","v":"#N/A"},{"$f":"+VLOOKUP('BASE DE RESPUESTAS'!Q15,Back!$M$16:$N$20,2,0)","v":"#N/A"},{"$f":"+VLOOKUP('BASE DE RESPUESTAS'!R15,Back!$M$16:$N$20,2,0)","v":"#N/A"},{"$f":"+VLOOKUP('BASE DE RESPUESTAS'!S15,Back!$M$16:$N$20,2,0)","v":"#N/A"},{"$f":"+VLOOKUP('BASE DE RESPUESTAS'!T15,Back!$M$16:$N$20,2,0)","v":"#N/A"},{"$f":"+VLOOKUP('BASE DE RESPUESTAS'!U15,Back!$M$16:$N$20,2,0)","v":"#N/A"},{"$f":"+VLOOKUP('BASE DE RESPUESTAS'!V15,Back!$M$16:$N$20,2,0)","v":"#N/A"},{"$f":"+VLOOKUP('BASE DE RESPUESTAS'!W15,Back!$M$16:$N$20,2,0)","v":"#N/A"},{"$f":"+VLOOKUP('BASE DE RESPUESTAS'!X15,Back!$M$16:$N$20,2,0)","v":"#N/A"},{"$f":"+VLOOKUP('BASE DE RESPUESTAS'!Y15,Back!$M$16:$N$20,2,0)","v":"#N/A"},{"$f":"+VLOOKUP('BASE DE RESPUESTAS'!Z15,Back!$M$16:$N$20,2,0)","v":"#N/A"},{"$f":"+VLOOKUP('BASE DE RESPUESTAS'!AA15,Back!$M$16:$N$20,2,0)","v":"#N/A"},{"$f":"+VLOOKUP('BASE DE RESPUESTAS'!AB15,Back!$M$16:$N$20,2,0)","v":"#N/A"},{"$f":"+VLOOKUP('BASE DE RESPUESTAS'!AC15,Back!$M$16:$N$20,2,0)","v":"#N/A"},{"$f":"+VLOOKUP('BASE DE RESPUESTAS'!AD15,Back!$M$16:$N$20,2,0)","v":"#N/A"},{"$f":"+VLOOKUP('BASE DE RESPUESTAS'!AE15,Back!$M$16:$N$20,2,0)","v":"#N/A"},{"$f":"+VLOOKUP('BASE DE RESPUESTAS'!AF15,Back!$M$16:$N$20,2,0)","v":"#N/A"},{"$f":"+VLOOKUP('BASE DE RESPUESTAS'!AG15,Back!$M$16:$N$20,2,0)","v":"#N/A"},{"$f":"+VLOOKUP('BASE DE RESPUESTAS'!AH15,Back!$M$16:$N$20,2,0)","v":"#N/A"},{"$f":"+VLOOKUP('BASE DE RESPUESTAS'!AI15,Back!$M$16:$N$20,2,0)","v":"#N/A"},{"$f":"+VLOOKUP('BASE DE RESPUESTAS'!AJ15,Back!$M$16:$N$20,2,0)","v":"#N/A"},{"$f":"+VLOOKUP('BASE DE RESPUESTAS'!AK15,Back!$M$16:$N$20,2,0)","v":"#N/A"},{"$f":"+VLOOKUP('BASE DE RESPUESTAS'!AL15,Back!$M$16:$N$20,2,0)","v":"#N/A"},{"$f":"+VLOOKUP('BASE DE RESPUESTAS'!AM15,Back!$M$16:$N$20,2,0)","v":"#N/A"},{"$f":"+VLOOKUP('BASE DE RESPUESTAS'!AN15,Back!$M$16:$N$20,2,0)","v":"#N/A"},{"$f":"+VLOOKUP('BASE DE RESPUESTAS'!AO15,Back!$M$16:$N$20,2,0)","v":"#N/A"},{"$f":"+VLOOKUP('BASE DE RESPUESTAS'!AP15,Back!$M$16:$N$20,2,0)","v":"#N/A"},{"$f":"+VLOOKUP('BASE DE RESPUESTAS'!AQ15,Back!$M$16:$N$20,2,0)","v":"#N/A"},{"$f":"+VLOOKUP('BASE DE RESPUESTAS'!AR15,Back!$M$16:$N$20,2,0)","v":"#N/A"},{"$f":"+VLOOKUP('BASE DE RESPUESTAS'!AS15,Back!$M$16:$N$20,2,0)","v":"#N/A"},{"$f":"+VLOOKUP('BASE DE RESPUESTAS'!AT15,Back!$M$16:$N$20,2,0)","v":"#N/A"},{"$f":"+VLOOKUP('BASE DE RESPUESTAS'!AU15,Back!$M$16:$N$20,2,0)","v":"#N/A"},{"$f":"+VLOOKUP('BASE DE RESPUESTAS'!AV15,Back!$M$16:$N$20,2,0)","v":"#N/A"},{"$f":"+VLOOKUP('BASE DE RESPUESTAS'!AW15,Back!$M$16:$N$20,2,0)","v":"#N/A"},{"$f":"+VLOOKUP('BASE DE RESPUESTAS'!AX15,Back!$M$16:$N$20,2,0)","v":"#N/A"},{"$f":"+VLOOKUP('BASE DE RESPUESTAS'!AY15,Back!$M$16:$N$20,2,0)","v":"#N/A"},{"$f":"+VLOOKUP('BASE DE RESPUESTAS'!AZ15,Back!$M$16:$N$20,2,0)","v":"#N/A"},{"$f":"+VLOOKUP('BASE DE RESPUESTAS'!BA15,Back!$M$16:$N$20,2,0)","v":"#N/A"},{"$f":"+VLOOKUP('BASE DE RESPUESTAS'!BB15,Back!$M$16:$N$20,2,0)","v":"#N/A"},{"$f":"+VLOOKUP('BASE DE RESPUESTAS'!BC15,Back!$M$16:$N$20,2,0)","v":"#N/A"},{"$f":"+VLOOKUP('BASE DE RESPUESTAS'!BD15,Back!$M$16:$N$20,2,0)","v":"#N/A"},{"$f":"+VLOOKUP('BASE DE RESPUESTAS'!BE15,Back!$M$16:$N$20,2,0)","v":"#N/A"}]
[null,null,null,"El o la estudiante realiza acciones para promover su bienestar emocional. Identifica situaciones que pueden afectar su salud emocional.",10.0,"Cuido mi salud emocional realizando acciones que me hacen sentir bien (cantar, conversar con amigos, jugar, ayudar a las personas, evitar discusiones, etc.)",null,{"$f":"+VLOOKUP('BASE DE RESPUESTAS'!H16,Back!$M$16:$N$20,2,0)","v":"#N/A"},{"$f":"+VLOOKUP('BASE DE RESPUESTAS'!I16,Back!$M$16:$N$20,2,0)","v":"#N/A"},{"$f":"+VLOOKUP('BASE DE RESPUESTAS'!J16,Back!$M$16:$N$20,2,0)","v":"#N/A"},{"$f":"+VLOOKUP('BASE DE RESPUESTAS'!K16,Back!$M$16:$N$20,2,0)","v":"#N/A"},{"$f":"+VLOOKUP('BASE DE RESPUESTAS'!L16,Back!$M$16:$N$20,2,0)","v":"#N/A"},{"$f":"+VLOOKUP('BASE DE RESPUESTAS'!M16,Back!$M$16:$N$20,2,0)","v":"#N/A"},{"$f":"+VLOOKUP('BASE DE RESPUESTAS'!N16,Back!$M$16:$N$20,2,0)","v":"#N/A"},{"$f":"+VLOOKUP('BASE DE RESPUESTAS'!O16,Back!$M$16:$N$20,2,0)","v":"#N/A"},{"$f":"+VLOOKUP('BASE DE RESPUESTAS'!P16,Back!$M$16:$N$20,2,0)","v":"#N/A"},{"$f":"+VLOOKUP('BASE DE RESPUESTAS'!Q16,Back!$M$16:$N$20,2,0)","v":"#N/A"},{"$f":"+VLOOKUP('BASE DE RESPUESTAS'!R16,Back!$M$16:$N$20,2,0)","v":"#N/A"},{"$f":"+VLOOKUP('BASE DE RESPUESTAS'!S16,Back!$M$16:$N$20,2,0)","v":"#N/A"},{"$f":"+VLOOKUP('BASE DE RESPUESTAS'!T16,Back!$M$16:$N$20,2,0)","v":"#N/A"},{"$f":"+VLOOKUP('BASE DE RESPUESTAS'!U16,Back!$M$16:$N$20,2,0)","v":"#N/A"},{"$f":"+VLOOKUP('BASE DE RESPUESTAS'!V16,Back!$M$16:$N$20,2,0)","v":"#N/A"},{"$f":"+VLOOKUP('BASE DE RESPUESTAS'!W16,Back!$M$16:$N$20,2,0)","v":"#N/A"},{"$f":"+VLOOKUP('BASE DE RESPUESTAS'!X16,Back!$M$16:$N$20,2,0)","v":"#N/A"},{"$f":"+VLOOKUP('BASE DE RESPUESTAS'!Y16,Back!$M$16:$N$20,2,0)","v":"#N/A"},{"$f":"+VLOOKUP('BASE DE RESPUESTAS'!Z16,Back!$M$16:$N$20,2,0)","v":"#N/A"},{"$f":"+VLOOKUP('BASE DE RESPUESTAS'!AA16,Back!$M$16:$N$20,2,0)","v":"#N/A"},{"$f":"+VLOOKUP('BASE DE RESPUESTAS'!AB16,Back!$M$16:$N$20,2,0)","v":"#N/A"},{"$f":"+VLOOKUP('BASE DE RESPUESTAS'!AC16,Back!$M$16:$N$20,2,0)","v":"#N/A"},{"$f":"+VLOOKUP('BASE DE RESPUESTAS'!AD16,Back!$M$16:$N$20,2,0)","v":"#N/A"},{"$f":"+VLOOKUP('BASE DE RESPUESTAS'!AE16,Back!$M$16:$N$20,2,0)","v":"#N/A"},{"$f":"+VLOOKUP('BASE DE RESPUESTAS'!AF16,Back!$M$16:$N$20,2,0)","v":"#N/A"},{"$f":"+VLOOKUP('BASE DE RESPUESTAS'!AG16,Back!$M$16:$N$20,2,0)","v":"#N/A"},{"$f":"+VLOOKUP('BASE DE RESPUESTAS'!AH16,Back!$M$16:$N$20,2,0)","v":"#N/A"},{"$f":"+VLOOKUP('BASE DE RESPUESTAS'!AI16,Back!$M$16:$N$20,2,0)","v":"#N/A"},{"$f":"+VLOOKUP('BASE DE RESPUESTAS'!AJ16,Back!$M$16:$N$20,2,0)","v":"#N/A"},{"$f":"+VLOOKUP('BASE DE RESPUESTAS'!AK16,Back!$M$16:$N$20,2,0)","v":"#N/A"},{"$f":"+VLOOKUP('BASE DE RESPUESTAS'!AL16,Back!$M$16:$N$20,2,0)","v":"#N/A"},{"$f":"+VLOOKUP('BASE DE RESPUESTAS'!AM16,Back!$M$16:$N$20,2,0)","v":"#N/A"},{"$f":"+VLOOKUP('BASE DE RESPUESTAS'!AN16,Back!$M$16:$N$20,2,0)","v":"#N/A"},{"$f":"+VLOOKUP('BASE DE RESPUESTAS'!AO16,Back!$M$16:$N$20,2,0)","v":"#N/A"},{"$f":"+VLOOKUP('BASE DE RESPUESTAS'!AP16,Back!$M$16:$N$20,2,0)","v":"#N/A"},{"$f":"+VLOOKUP('BASE DE RESPUESTAS'!AQ16,Back!$M$16:$N$20,2,0)","v":"#N/A"},{"$f":"+VLOOKUP('BASE DE RESPUESTAS'!AR16,Back!$M$16:$N$20,2,0)","v":"#N/A"},{"$f":"+VLOOKUP('BASE DE RESPUESTAS'!AS16,Back!$M$16:$N$20,2,0)","v":"#N/A"},{"$f":"+VLOOKUP('BASE DE RESPUESTAS'!AT16,Back!$M$16:$N$20,2,0)","v":"#N/A"},{"$f":"+VLOOKUP('BASE DE RESPUESTAS'!AU16,Back!$M$16:$N$20,2,0)","v":"#N/A"},{"$f":"+VLOOKUP('BASE DE RESPUESTAS'!AV16,Back!$M$16:$N$20,2,0)","v":"#N/A"},{"$f":"+VLOOKUP('BASE DE RESPUESTAS'!AW16,Back!$M$16:$N$20,2,0)","v":"#N/A"},{"$f":"+VLOOKUP('BASE DE RESPUESTAS'!AX16,Back!$M$16:$N$20,2,0)","v":"#N/A"},{"$f":"+VLOOKUP('BASE DE RESPUESTAS'!AY16,Back!$M$16:$N$20,2,0)","v":"#N/A"},{"$f":"+VLOOKUP('BASE DE RESPUESTAS'!AZ16,Back!$M$16:$N$20,2,0)","v":"#N/A"},{"$f":"+VLOOKUP('BASE DE RESPUESTAS'!BA16,Back!$M$16:$N$20,2,0)","v":"#N/A"},{"$f":"+VLOOKUP('BASE DE RESPUESTAS'!BB16,Back!$M$16:$N$20,2,0)","v":"#N/A"},{"$f":"+VLOOKUP('BASE DE RESPUESTAS'!BC16,Back!$M$16:$N$20,2,0)","v":"#N/A"},{"$f":"+VLOOKUP('BASE DE RESPUESTAS'!BD16,Back!$M$16:$N$20,2,0)","v":"#N/A"},{"$f":"+VLOOKUP('BASE DE RESPUESTAS'!BE16,Back!$M$16:$N$20,2,0)","v":"#N/A"}]
[null,null,null,null,11.0,"Me doy cuenta de situaciones que me pueden hacer daño (accidentes, lugares y personas desconocidas, etc.).",null,{"$f":"+VLOOKUP('BASE DE RESPUESTAS'!H17,Back!$M$16:$N$20,2,0)","v":"#N/A"},{"$f":"+VLOOKUP('BASE DE RESPUESTAS'!I17,Back!$M$16:$N$20,2,0)","v":"#N/A"},{"$f":"+VLOOKUP('BASE DE RESPUESTAS'!J17,Back!$M$16:$N$20,2,0)","v":"#N/A"},{"$f":"+VLOOKUP('BASE DE RESPUESTAS'!K17,Back!$M$16:$N$20,2,0)","v":"#N/A"},{"$f":"+VLOOKUP('BASE DE RESPUESTAS'!L17,Back!$M$16:$N$20,2,0)","v":"#N/A"},{"$f":"+VLOOKUP('BASE DE RESPUESTAS'!M17,Back!$M$16:$N$20,2,0)","v":"#N/A"},{"$f":"+VLOOKUP('BASE DE RESPUESTAS'!N17,Back!$M$16:$N$20,2,0)","v":"#N/A"},{"$f":"+VLOOKUP('BASE DE RESPUESTAS'!O17,Back!$M$16:$N$20,2,0)","v":"#N/A"},{"$f":"+VLOOKUP('BASE DE RESPUESTAS'!P17,Back!$M$16:$N$20,2,0)","v":"#N/A"},{"$f":"+VLOOKUP('BASE DE RESPUESTAS'!Q17,Back!$M$16:$N$20,2,0)","v":"#N/A"},{"$f":"+VLOOKUP('BASE DE RESPUESTAS'!R17,Back!$M$16:$N$20,2,0)","v":"#N/A"},{"$f":"+VLOOKUP('BASE DE RESPUESTAS'!S17,Back!$M$16:$N$20,2,0)","v":"#N/A"},{"$f":"+VLOOKUP('BASE DE RESPUESTAS'!T17,Back!$M$16:$N$20,2,0)","v":"#N/A"},{"$f":"+VLOOKUP('BASE DE RESPUESTAS'!U17,Back!$M$16:$N$20,2,0)","v":"#N/A"},{"$f":"+VLOOKUP('BASE DE RESPUESTAS'!V17,Back!$M$16:$N$20,2,0)","v":"#N/A"},{"$f":"+VLOOKUP('BASE DE RESPUESTAS'!W17,Back!$M$16:$N$20,2,0)","v":"#N/A"},{"$f":"+VLOOKUP('BASE DE RESPUESTAS'!X17,Back!$M$16:$N$20,2,0)","v":"#N/A"},{"$f":"+VLOOKUP('BASE DE RESPUESTAS'!Y17,Back!$M$16:$N$20,2,0)","v":"#N/A"},{"$f":"+VLOOKUP('BASE DE RESPUESTAS'!Z17,Back!$M$16:$N$20,2,0)","v":"#N/A"},{"$f":"+VLOOKUP('BASE DE RESPUESTAS'!AA17,Back!$M$16:$N$20,2,0)","v":"#N/A"},{"$f":"+VLOOKUP('BASE DE RESPUESTAS'!AB17,Back!$M$16:$N$20,2,0)","v":"#N/A"},{"$f":"+VLOOKUP('BASE DE RESPUESTAS'!AC17,Back!$M$16:$N$20,2,0)","v":"#N/A"},{"$f":"+VLOOKUP('BASE DE RESPUESTAS'!AD17,Back!$M$16:$N$20,2,0)","v":"#N/A"},{"$f":"+VLOOKUP('BASE DE RESPUESTAS'!AE17,Back!$M$16:$N$20,2,0)","v":"#N/A"},{"$f":"+VLOOKUP('BASE DE RESPUESTAS'!AF17,Back!$M$16:$N$20,2,0)","v":"#N/A"},{"$f":"+VLOOKUP('BASE DE RESPUESTAS'!AG17,Back!$M$16:$N$20,2,0)","v":"#N/A"},{"$f":"+VLOOKUP('BASE DE RESPUESTAS'!AH17,Back!$M$16:$N$20,2,0)","v":"#N/A"},{"$f":"+VLOOKUP('BASE DE RESPUESTAS'!AI17,Back!$M$16:$N$20,2,0)","v":"#N/A"},{"$f":"+VLOOKUP('BASE DE RESPUESTAS'!AJ17,Back!$M$16:$N$20,2,0)","v":"#N/A"},{"$f":"+VLOOKUP('BASE DE RESPUESTAS'!AK17,Back!$M$16:$N$20,2,0)","v":"#N/A"},{"$f":"+VLOOKUP('BASE DE RESPUESTAS'!AL17,Back!$M$16:$N$20,2,0)","v":"#N/A"},{"$f":"+VLOOKUP('BASE DE RESPUESTAS'!AM17,Back!$M$16:$N$20,2,0)","v":"#N/A"},{"$f":"+VLOOKUP('BASE DE RESPUESTAS'!AN17,Back!$M$16:$N$20,2,0)","v":"#N/A"},{"$f":"+VLOOKUP('BASE DE RESPUESTAS'!AO17,Back!$M$16:$N$20,2,0)","v":"#N/A"},{"$f":"+VLOOKUP('BASE DE RESPUESTAS'!AP17,Back!$M$16:$N$20,2,0)","v":"#N/A"},{"$f":"+VLOOKUP('BASE DE RESPUESTAS'!AQ17,Back!$M$16:$N$20,2,0)","v":"#N/A"},{"$f":"+VLOOKUP('BASE DE RESPUESTAS'!AR17,Back!$M$16:$N$20,2,0)","v":"#N/A"},{"$f":"+VLOOKUP('BASE DE RESPUESTAS'!AS17,Back!$M$16:$N$20,2,0)","v":"#N/A"},{"$f":"+VLOOKUP('BASE DE RESPUESTAS'!AT17,Back!$M$16:$N$20,2,0)","v":"#N/A"},{"$f":"+VLOOKUP('BASE DE RESPUESTAS'!AU17,Back!$M$16:$N$20,2,0)","v":"#N/A"},{"$f":"+VLOOKUP('BASE DE RESPUESTAS'!AV17,Back!$M$16:$N$20,2,0)","v":"#N/A"},{"$f":"+VLOOKUP('BASE DE RESPUESTAS'!AW17,Back!$M$16:$N$20,2,0)","v":"#N/A"},{"$f":"+VLOOKUP('BASE DE RESPUESTAS'!AX17,Back!$M$16:$N$20,2,0)","v":"#N/A"},{"$f":"+VLOOKUP('BASE DE RESPUESTAS'!AY17,Back!$M$16:$N$20,2,0)","v":"#N/A"},{"$f":"+VLOOKUP('BASE DE RESPUESTAS'!AZ17,Back!$M$16:$N$20,2,0)","v":"#N/A"},{"$f":"+VLOOKUP('BASE DE RESPUESTAS'!BA17,Back!$M$16:$N$20,2,0)","v":"#N/A"},{"$f":"+VLOOKUP('BASE DE RESPUESTAS'!BB17,Back!$M$16:$N$20,2,0)","v":"#N/A"},{"$f":"+VLOOKUP('BASE DE RESPUESTAS'!BC17,Back!$M$16:$N$20,2,0)","v":"#N/A"},{"$f":"+VLOOKUP('BASE DE RESPUESTAS'!BD17,Back!$M$16:$N$20,2,0)","v":"#N/A"},{"$f":"+VLOOKUP('BASE DE RESPUESTAS'!BE17,Back!$M$16:$N$20,2,0)","v":"#N/A"}]
[null,"HSE","Regulación emocional","El o la estudiante reconoce que sus pensamientos cambian de acuerdo a sus emociones.",12.0,"Me doy cuenta que mis pensamientos cambian o son diferentes cuando estoy triste, preocupado, enojado o alegre.",null,{"$f":"+VLOOKUP('BASE DE RESPUESTAS'!H18,Back!$M$16:$N$20,2,0)","v":"#N/A"},{"$f":"+VLOOKUP('BASE DE RESPUESTAS'!I18,Back!$M$16:$N$20,2,0)","v":"#N/A"},{"$f":"+VLOOKUP('BASE DE RESPUESTAS'!J18,Back!$M$16:$N$20,2,0)","v":"#N/A"},{"$f":"+VLOOKUP('BASE DE RESPUESTAS'!K18,Back!$M$16:$N$20,2,0)","v":"#N/A"},{"$f":"+VLOOKUP('BASE DE RESPUESTAS'!L18,Back!$M$16:$N$20,2,0)","v":"#N/A"},{"$f":"+VLOOKUP('BASE DE RESPUESTAS'!M18,Back!$M$16:$N$20,2,0)","v":"#N/A"},{"$f":"+VLOOKUP('BASE DE RESPUESTAS'!N18,Back!$M$16:$N$20,2,0)","v":"#N/A"},{"$f":"+VLOOKUP('BASE DE RESPUESTAS'!O18,Back!$M$16:$N$20,2,0)","v":"#N/A"},{"$f":"+VLOOKUP('BASE DE RESPUESTAS'!P18,Back!$M$16:$N$20,2,0)","v":"#N/A"},{"$f":"+VLOOKUP('BASE DE RESPUESTAS'!Q18,Back!$M$16:$N$20,2,0)","v":"#N/A"},{"$f":"+VLOOKUP('BASE DE RESPUESTAS'!R18,Back!$M$16:$N$20,2,0)","v":"#N/A"},{"$f":"+VLOOKUP('BASE DE RESPUESTAS'!S18,Back!$M$16:$N$20,2,0)","v":"#N/A"},{"$f":"+VLOOKUP('BASE DE RESPUESTAS'!T18,Back!$M$16:$N$20,2,0)","v":"#N/A"},{"$f":"+VLOOKUP('BASE DE RESPUESTAS'!U18,Back!$M$16:$N$20,2,0)","v":"#N/A"},{"$f":"+VLOOKUP('BASE DE RESPUESTAS'!V18,Back!$M$16:$N$20,2,0)","v":"#N/A"},{"$f":"+VLOOKUP('BASE DE RESPUESTAS'!W18,Back!$M$16:$N$20,2,0)","v":"#N/A"},{"$f":"+VLOOKUP('BASE DE RESPUESTAS'!X18,Back!$M$16:$N$20,2,0)","v":"#N/A"},{"$f":"+VLOOKUP('BASE DE RESPUESTAS'!Y18,Back!$M$16:$N$20,2,0)","v":"#N/A"},{"$f":"+VLOOKUP('BASE DE RESPUESTAS'!Z18,Back!$M$16:$N$20,2,0)","v":"#N/A"},{"$f":"+VLOOKUP('BASE DE RESPUESTAS'!AA18,Back!$M$16:$N$20,2,0)","v":"#N/A"},{"$f":"+VLOOKUP('BASE DE RESPUESTAS'!AB18,Back!$M$16:$N$20,2,0)","v":"#N/A"},{"$f":"+VLOOKUP('BASE DE RESPUESTAS'!AC18,Back!$M$16:$N$20,2,0)","v":"#N/A"},{"$f":"+VLOOKUP('BASE DE RESPUESTAS'!AD18,Back!$M$16:$N$20,2,0)","v":"#N/A"},{"$f":"+VLOOKUP('BASE DE RESPUESTAS'!AE18,Back!$M$16:$N$20,2,0)","v":"#N/A"},{"$f":"+VLOOKUP('BASE DE RESPUESTAS'!AF18,Back!$M$16:$N$20,2,0)","v":"#N/A"},{"$f":"+VLOOKUP('BASE DE RESPUESTAS'!AG18,Back!$M$16:$N$20,2,0)","v":"#N/A"},{"$f":"+VLOOKUP('BASE DE RESPUESTAS'!AH18,Back!$M$16:$N$20,2,0)","v":"#N/A"},{"$f":"+VLOOKUP('BASE DE RESPUESTAS'!AI18,Back!$M$16:$N$20,2,0)","v":"#N/A"},{"$f":"+VLOOKUP('BASE DE RESPUESTAS'!AJ18,Back!$M$16:$N$20,2,0)","v":"#N/A"},{"$f":"+VLOOKUP('BASE DE RESPUESTAS'!AK18,Back!$M$16:$N$20,2,0)","v":"#N/A"},{"$f":"+VLOOKUP('BASE DE RESPUESTAS'!AL18,Back!$M$16:$N$20,2,0)","v":"#N/A"},{"$f":"+VLOOKUP('BASE DE RESPUESTAS'!AM18,Back!$M$16:$N$20,2,0)","v":"#N/A"},{"$f":"+VLOOKUP('BASE DE RESPUESTAS'!AN18,Back!$M$16:$N$20,2,0)","v":"#N/A"},{"$f":"+VLOOKUP('BASE DE RESPUESTAS'!AO18,Back!$M$16:$N$20,2,0)","v":"#N/A"},{"$f":"+VLOOKUP('BASE DE RESPUESTAS'!AP18,Back!$M$16:$N$20,2,0)","v":"#N/A"},{"$f":"+VLOOKUP('BASE DE RESPUESTAS'!AQ18,Back!$M$16:$N$20,2,0)","v":"#N/A"},{"$f":"+VLOOKUP('BASE DE RESPUESTAS'!AR18,Back!$M$16:$N$20,2,0)","v":"#N/A"},{"$f":"+VLOOKUP('BASE DE RESPUESTAS'!AS18,Back!$M$16:$N$20,2,0)","v":"#N/A"},{"$f":"+VLOOKUP('BASE DE RESPUESTAS'!AT18,Back!$M$16:$N$20,2,0)","v":"#N/A"},{"$f":"+VLOOKUP('BASE DE RESPUESTAS'!AU18,Back!$M$16:$N$20,2,0)","v":"#N/A"},{"$f":"+VLOOKUP('BASE DE RESPUESTAS'!AV18,Back!$M$16:$N$20,2,0)","v":"#N/A"},{"$f":"+VLOOKUP('BASE DE RESPUESTAS'!AW18,Back!$M$16:$N$20,2,0)","v":"#N/A"},{"$f":"+VLOOKUP('BASE DE RESPUESTAS'!AX18,Back!$M$16:$N$20,2,0)","v":"#N/A"},{"$f":"+VLOOKUP('BASE DE RESPUESTAS'!AY18,Back!$M$16:$N$20,2,0)","v":"#N/A"},{"$f":"+VLOOKUP('BASE DE RESPUESTAS'!AZ18,Back!$M$16:$N$20,2,0)","v":"#N/A"},{"$f":"+VLOOKUP('BASE DE RESPUESTAS'!BA18,Back!$M$16:$N$20,2,0)","v":"#N/A"},{"$f":"+VLOOKUP('BASE DE RESPUESTAS'!BB18,Back!$M$16:$N$20,2,0)","v":"#N/A"},{"$f":"+VLOOKUP('BASE DE RESPUESTAS'!BC18,Back!$M$16:$N$20,2,0)","v":"#N/A"},{"$f":"+VLOOKUP('BASE DE RESPUESTAS'!BD18,Back!$M$16:$N$20,2,0)","v":"#N/A"},{"$f":"+VLOOKUP('BASE DE RESPUESTAS'!BE18,Back!$M$16:$N$20,2,0)","v":"#N/A"}]
[null,null,null,"El o la estudiante expresa sus emociones de forma apropiada.",13.0,"Cuando estoy discutiendo con alguien, intento tranquilizarme para no perder el control.",null,{"$f":"+VLOOKUP('BASE DE RESPUESTAS'!H19,Back!$M$16:$N$20,2,0)","v":"#N/A"},{"$f":"+VLOOKUP('BASE DE RESPUESTAS'!I19,Back!$M$16:$N$20,2,0)","v":"#N/A"},{"$f":"+VLOOKUP('BASE DE RESPUESTAS'!J19,Back!$M$16:$N$20,2,0)","v":"#N/A"},{"$f":"+VLOOKUP('BASE DE RESPUESTAS'!K19,Back!$M$16:$N$20,2,0)","v":"#N/A"},{"$f":"+VLOOKUP('BASE DE RESPUESTAS'!L19,Back!$M$16:$N$20,2,0)","v":"#N/A"},{"$f":"+VLOOKUP('BASE DE RESPUESTAS'!M19,Back!$M$16:$N$20,2,0)","v":"#N/A"},{"$f":"+VLOOKUP('BASE DE RESPUESTAS'!N19,Back!$M$16:$N$20,2,0)","v":"#N/A"},{"$f":"+VLOOKUP('BASE DE RESPUESTAS'!O19,Back!$M$16:$N$20,2,0)","v":"#N/A"},{"$f":"+VLOOKUP('BASE DE RESPUESTAS'!P19,Back!$M$16:$N$20,2,0)","v":"#N/A"},{"$f":"+VLOOKUP('BASE DE RESPUESTAS'!Q19,Back!$M$16:$N$20,2,0)","v":"#N/A"},{"$f":"+VLOOKUP('BASE DE RESPUESTAS'!R19,Back!$M$16:$N$20,2,0)","v":"#N/A"},{"$f":"+VLOOKUP('BASE DE RESPUESTAS'!S19,Back!$M$16:$N$20,2,0)","v":"#N/A"},{"$f":"+VLOOKUP('BASE DE RESPUESTAS'!T19,Back!$M$16:$N$20,2,0)","v":"#N/A"},{"$f":"+VLOOKUP('BASE DE RESPUESTAS'!U19,Back!$M$16:$N$20,2,0)","v":"#N/A"},{"$f":"+VLOOKUP('BASE DE RESPUESTAS'!V19,Back!$M$16:$N$20,2,0)","v":"#N/A"},{"$f":"+VLOOKUP('BASE DE RESPUESTAS'!W19,Back!$M$16:$N$20,2,0)","v":"#N/A"},{"$f":"+VLOOKUP('BASE DE RESPUESTAS'!X19,Back!$M$16:$N$20,2,0)","v":"#N/A"},{"$f":"+VLOOKUP('BASE DE RESPUESTAS'!Y19,Back!$M$16:$N$20,2,0)","v":"#N/A"},{"$f":"+VLOOKUP('BASE DE RESPUESTAS'!Z19,Back!$M$16:$N$20,2,0)","v":"#N/A"},{"$f":"+VLOOKUP('BASE DE RESPUESTAS'!AA19,Back!$M$16:$N$20,2,0)","v":"#N/A"},{"$f":"+VLOOKUP('BASE DE RESPUESTAS'!AB19,Back!$M$16:$N$20,2,0)","v":"#N/A"},{"$f":"+VLOOKUP('BASE DE RESPUESTAS'!AC19,Back!$M$16:$N$20,2,0)","v":"#N/A"},{"$f":"+VLOOKUP('BASE DE RESPUESTAS'!AD19,Back!$M$16:$N$20,2,0)","v":"#N/A"},{"$f":"+VLOOKUP('BASE DE RESPUESTAS'!AE19,Back!$M$16:$N$20,2,0)","v":"#N/A"},{"$f":"+VLOOKUP('BASE DE RESPUESTAS'!AF19,Back!$M$16:$N$20,2,0)","v":"#N/A"},{"$f":"+VLOOKUP('BASE DE RESPUESTAS'!AG19,Back!$M$16:$N$20,2,0)","v":"#N/A"},{"$f":"+VLOOKUP('BASE DE RESPUESTAS'!AH19,Back!$M$16:$N$20,2,0)","v":"#N/A"},{"$f":"+VLOOKUP('BASE DE RESPUESTAS'!AI19,Back!$M$16:$N$20,2,0)","v":"#N/A"},{"$f":"+VLOOKUP('BASE DE RESPUESTAS'!AJ19,Back!$M$16:$N$20,2,0)","v":"#N/A"},{"$f":"+VLOOKUP('BASE DE RESPUESTAS'!AK19,Back!$M$16:$N$20,2,0)","v":"#N/A"},{"$f":"+VLOOKUP('BASE DE RESPUESTAS'!AL19,Back!$M$16:$N$20,2,0)","v":"#N/A"},{"$f":"+VLOOKUP('BASE DE RESPUESTAS'!AM19,Back!$M$16:$N$20,2,0)","v":"#N/A"},{"$f":"+VLOOKUP('BASE DE RESPUESTAS'!AN19,Back!$M$16:$N$20,2,0)","v":"#N/A"},{"$f":"+VLOOKUP('BASE DE RESPUESTAS'!AO19,Back!$M$16:$N$20,2,0)","v":"#N/A"},{"$f":"+VLOOKUP('BASE DE RESPUESTAS'!AP19,Back!$M$16:$N$20,2,0)","v":"#N/A"},{"$f":"+VLOOKUP('BASE DE RESPUESTAS'!AQ19,Back!$M$16:$N$20,2,0)","v":"#N/A"},{"$f":"+VLOOKUP('BASE DE RESPUESTAS'!AR19,Back!$M$16:$N$20,2,0)","v":"#N/A"},{"$f":"+VLOOKUP('BASE DE RESPUESTAS'!AS19,Back!$M$16:$N$20,2,0)","v":"#N/A"},{"$f":"+VLOOKUP('BASE DE RESPUESTAS'!AT19,Back!$M$16:$N$20,2,0)","v":"#N/A"},{"$f":"+VLOOKUP('BASE DE RESPUESTAS'!AU19,Back!$M$16:$N$20,2,0)","v":"#N/A"},{"$f":"+VLOOKUP('BASE DE RESPUESTAS'!AV19,Back!$M$16:$N$20,2,0)","v":"#N/A"},{"$f":"+VLOOKUP('BASE DE RESPUESTAS'!AW19,Back!$M$16:$N$20,2,0)","v":"#N/A"},{"$f":"+VLOOKUP('BASE DE RESPUESTAS'!AX19,Back!$M$16:$N$20,2,0)","v":"#N/A"},{"$f":"+VLOOKUP('BASE DE RESPUESTAS'!AY19,Back!$M$16:$N$20,2,0)","v":"#N/A"},{"$f":"+VLOOKUP('BASE DE RESPUESTAS'!AZ19,Back!$M$16:$N$20,2,0)","v":"#N/A"},{"$f":"+VLOOKUP('BASE DE RESPUESTAS'!BA19,Back!$M$16:$N$20,2,0)","v":"#N/A"},{"$f":"+VLOOKUP('BASE DE RESPUESTAS'!BB19,Back!$M$16:$N$20,2,0)","v":"#N/A"},{"$f":"+VLOOKUP('BASE DE RESPUESTAS'!BC19,Back!$M$16:$N$20,2,0)","v":"#N/A"},{"$f":"+VLOOKUP('BASE DE RESPUESTAS'!BD19,Back!$M$16:$N$20,2,0)","v":"#N/A"},{"$f":"+VLOOKUP('BASE DE RESPUESTAS'!BE19,Back!$M$16:$N$20,2,0)","v":"#N/A"}]
[null,null,null,"El o la estudiante sabe cómo regular sus emociones teniendo en cuenta su autocuidado y el impacto en los demás",14.0,"Cuando estoy molesto/a o triste busco sentirme mejor relajándome o haciendo una actividad que me distraiga.",null,{"$f":"+VLOOKUP('BASE DE RESPUESTAS'!H20,Back!$M$16:$N$20,2,0)","v":"#N/A"},{"$f":"+VLOOKUP('BASE DE RESPUESTAS'!I20,Back!$M$16:$N$20,2,0)","v":"#N/A"},{"$f":"+VLOOKUP('BASE DE RESPUESTAS'!J20,Back!$M$16:$N$20,2,0)","v":"#N/A"},{"$f":"+VLOOKUP('BASE DE RESPUESTAS'!K20,Back!$M$16:$N$20,2,0)","v":"#N/A"},{"$f":"+VLOOKUP('BASE DE RESPUESTAS'!L20,Back!$M$16:$N$20,2,0)","v":"#N/A"},{"$f":"+VLOOKUP('BASE DE RESPUESTAS'!M20,Back!$M$16:$N$20,2,0)","v":"#N/A"},{"$f":"+VLOOKUP('BASE DE RESPUESTAS'!N20,Back!$M$16:$N$20,2,0)","v":"#N/A"},{"$f":"+VLOOKUP('BASE DE RESPUESTAS'!O20,Back!$M$16:$N$20,2,0)","v":"#N/A"},{"$f":"+VLOOKUP('BASE DE RESPUESTAS'!P20,Back!$M$16:$N$20,2,0)","v":"#N/A"},{"$f":"+VLOOKUP('BASE DE RESPUESTAS'!Q20,Back!$M$16:$N$20,2,0)","v":"#N/A"},{"$f":"+VLOOKUP('BASE DE RESPUESTAS'!R20,Back!$M$16:$N$20,2,0)","v":"#N/A"},{"$f":"+VLOOKUP('BASE DE RESPUESTAS'!S20,Back!$M$16:$N$20,2,0)","v":"#N/A"},{"$f":"+VLOOKUP('BASE DE RESPUESTAS'!T20,Back!$M$16:$N$20,2,0)","v":"#N/A"},{"$f":"+VLOOKUP('BASE DE RESPUESTAS'!U20,Back!$M$16:$N$20,2,0)","v":"#N/A"},{"$f":"+VLOOKUP('BASE DE RESPUESTAS'!V20,Back!$M$16:$N$20,2,0)","v":"#N/A"},{"$f":"+VLOOKUP('BASE DE RESPUESTAS'!W20,Back!$M$16:$N$20,2,0)","v":"#N/A"},{"$f":"+VLOOKUP('BASE DE RESPUESTAS'!X20,Back!$M$16:$N$20,2,0)","v":"#N/A"},{"$f":"+VLOOKUP('BASE DE RESPUESTAS'!Y20,Back!$M$16:$N$20,2,0)","v":"#N/A"},{"$f":"+VLOOKUP('BASE DE RESPUESTAS'!Z20,Back!$M$16:$N$20,2,0)","v":"#N/A"},{"$f":"+VLOOKUP('BASE DE RESPUESTAS'!AA20,Back!$M$16:$N$20,2,0)","v":"#N/A"},{"$f":"+VLOOKUP('BASE DE RESPUESTAS'!AB20,Back!$M$16:$N$20,2,0)","v":"#N/A"},{"$f":"+VLOOKUP('BASE DE RESPUESTAS'!AC20,Back!$M$16:$N$20,2,0)","v":"#N/A"},{"$f":"+VLOOKUP('BASE DE RESPUESTAS'!AD20,Back!$M$16:$N$20,2,0)","v":"#N/A"},{"$f":"+VLOOKUP('BASE DE RESPUESTAS'!AE20,Back!$M$16:$N$20,2,0)","v":"#N/A"},{"$f":"+VLOOKUP('BASE DE RESPUESTAS'!AF20,Back!$M$16:$N$20,2,0)","v":"#N/A"},{"$f":"+VLOOKUP('BASE DE RESPUESTAS'!AG20,Back!$M$16:$N$20,2,0)","v":"#N/A"},{"$f":"+VLOOKUP('BASE DE RESPUESTAS'!AH20,Back!$M$16:$N$20,2,0)","v":"#N/A"},{"$f":"+VLOOKUP('BASE DE RESPUESTAS'!AI20,Back!$M$16:$N$20,2,0)","v":"#N/A"},{"$f":"+VLOOKUP('BASE DE RESPUESTAS'!AJ20,Back!$M$16:$N$20,2,0)","v":"#N/A"},{"$f":"+VLOOKUP('BASE DE RESPUESTAS'!AK20,Back!$M$16:$N$20,2,0)","v":"#N/A"},{"$f":"+VLOOKUP('BASE DE RESPUESTAS'!AL20,Back!$M$16:$N$20,2,0)","v":"#N/A"},{"$f":"+VLOOKUP('BASE DE RESPUESTAS'!AM20,Back!$M$16:$N$20,2,0)","v":"#N/A"},{"$f":"+VLOOKUP('BASE DE RESPUESTAS'!AN20,Back!$M$16:$N$20,2,0)","v":"#N/A"},{"$f":"+VLOOKUP('BASE DE RESPUESTAS'!AO20,Back!$M$16:$N$20,2,0)","v":"#N/A"},{"$f":"+VLOOKUP('BASE DE RESPUESTAS'!AP20,Back!$M$16:$N$20,2,0)","v":"#N/A"},{"$f":"+VLOOKUP('BASE DE RESPUESTAS'!AQ20,Back!$M$16:$N$20,2,0)","v":"#N/A"},{"$f":"+VLOOKUP('BASE DE RESPUESTAS'!AR20,Back!$M$16:$N$20,2,0)","v":"#N/A"},{"$f":"+VLOOKUP('BASE DE RESPUESTAS'!AS20,Back!$M$16:$N$20,2,0)","v":"#N/A"},{"$f":"+VLOOKUP('BASE DE RESPUESTAS'!AT20,Back!$M$16:$N$20,2,0)","v":"#N/A"},{"$f":"+VLOOKUP('BASE DE RESPUESTAS'!AU20,Back!$M$16:$N$20,2,0)","v":"#N/A"},{"$f":"+VLOOKUP('BASE DE RESPUESTAS'!AV20,Back!$M$16:$N$20,2,0)","v":"#N/A"},{"$f":"+VLOOKUP('BASE DE RESPUESTAS'!AW20,Back!$M$16:$N$20,2,0)","v":"#N/A"},{"$f":"+VLOOKUP('BASE DE RESPUESTAS'!AX20,Back!$M$16:$N$20,2,0)","v":"#N/A"},{"$f":"+VLOOKUP('BASE DE RESPUESTAS'!AY20,Back!$M$16:$N$20,2,0)","v":"#N/A"},{"$f":"+VLOOKUP('BASE DE RESPUESTAS'!AZ20,Back!$M$16:$N$20,2,0)","v":"#N/A"},{"$f":"+VLOOKUP('BASE DE RESPUESTAS'!BA20,Back!$M$16:$N$20,2,0)","v":"#N/A"},{"$f":"+VLOOKUP('BASE DE RESPUESTAS'!BB20,Back!$M$16:$N$20,2,0)","v":"#N/A"},{"$f":"+VLOOKUP('BASE DE RESPUESTAS'!BC20,Back!$M$16:$N$20,2,0)","v":"#N/A"},{"$f":"+VLOOKUP('BASE DE RESPUESTAS'!BD20,Back!$M$16:$N$20,2,0)","v":"#N/A"},{"$f":"+VLOOKUP('BASE DE RESPUESTAS'!BE20,Back!$M$16:$N$20,2,0)","v":"#N/A"}]
[null,"HSE","Creatividad","El o la estudiante es capaz de producir algo nuevo o generar proyectos novedosos",15.0,"Me gusta hacer o inventar cosas nuevas.",null,{"$f":"+VLOOKUP('BASE DE RESPUESTAS'!H21,Back!$M$16:$N$20,2,0)","v":"#N/A"},{"$f":"+VLOOKUP('BASE DE RESPUESTAS'!I21,Back!$M$16:$N$20,2,0)","v":"#N/A"},{"$f":"+VLOOKUP('BASE DE RESPUESTAS'!J21,Back!$M$16:$N$20,2,0)","v":"#N/A"},{"$f":"+VLOOKUP('BASE DE RESPUESTAS'!K21,Back!$M$16:$N$20,2,0)","v":"#N/A"},{"$f":"+VLOOKUP('BASE DE RESPUESTAS'!L21,Back!$M$16:$N$20,2,0)","v":"#N/A"},{"$f":"+VLOOKUP('BASE DE RESPUESTAS'!M21,Back!$M$16:$N$20,2,0)","v":"#N/A"},{"$f":"+VLOOKUP('BASE DE RESPUESTAS'!N21,Back!$M$16:$N$20,2,0)","v":"#N/A"},{"$f":"+VLOOKUP('BASE DE RESPUESTAS'!O21,Back!$M$16:$N$20,2,0)","v":"#N/A"},{"$f":"+VLOOKUP('BASE DE RESPUESTAS'!P21,Back!$M$16:$N$20,2,0)","v":"#N/A"},{"$f":"+VLOOKUP('BASE DE RESPUESTAS'!Q21,Back!$M$16:$N$20,2,0)","v":"#N/A"},{"$f":"+VLOOKUP('BASE DE RESPUESTAS'!R21,Back!$M$16:$N$20,2,0)","v":"#N/A"},{"$f":"+VLOOKUP('BASE DE RESPUESTAS'!S21,Back!$M$16:$N$20,2,0)","v":"#N/A"},{"$f":"+VLOOKUP('BASE DE RESPUESTAS'!T21,Back!$M$16:$N$20,2,0)","v":"#N/A"},{"$f":"+VLOOKUP('BASE DE RESPUESTAS'!U21,Back!$M$16:$N$20,2,0)","v":"#N/A"},{"$f":"+VLOOKUP('BASE DE RESPUESTAS'!V21,Back!$M$16:$N$20,2,0)","v":"#N/A"},{"$f":"+VLOOKUP('BASE DE RESPUESTAS'!W21,Back!$M$16:$N$20,2,0)","v":"#N/A"},{"$f":"+VLOOKUP('BASE DE RESPUESTAS'!X21,Back!$M$16:$N$20,2,0)","v":"#N/A"},{"$f":"+VLOOKUP('BASE DE RESPUESTAS'!Y21,Back!$M$16:$N$20,2,0)","v":"#N/A"},{"$f":"+VLOOKUP('BASE DE RESPUESTAS'!Z21,Back!$M$16:$N$20,2,0)","v":"#N/A"},{"$f":"+VLOOKUP('BASE DE RESPUESTAS'!AA21,Back!$M$16:$N$20,2,0)","v":"#N/A"},{"$f":"+VLOOKUP('BASE DE RESPUESTAS'!AB21,Back!$M$16:$N$20,2,0)","v":"#N/A"},{"$f":"+VLOOKUP('BASE DE RESPUESTAS'!AC21,Back!$M$16:$N$20,2,0)","v":"#N/A"},{"$f":"+VLOOKUP('BASE DE RESPUESTAS'!AD21,Back!$M$16:$N$20,2,0)","v":"#N/A"},{"$f":"+VLOOKUP('BASE DE RESPUESTAS'!AE21,Back!$M$16:$N$20,2,0)","v":"#N/A"},{"$f":"+VLOOKUP('BASE DE RESPUESTAS'!AF21,Back!$M$16:$N$20,2,0)","v":"#N/A"},{"$f":"+VLOOKUP('BASE DE RESPUESTAS'!AG21,Back!$M$16:$N$20,2,0)","v":"#N/A"},{"$f":"+VLOOKUP('BASE DE RESPUESTAS'!AH21,Back!$M$16:$N$20,2,0)","v":"#N/A"},{"$f":"+VLOOKUP('BASE DE RESPUESTAS'!AI21,Back!$M$16:$N$20,2,0)","v":"#N/A"},{"$f":"+VLOOKUP('BASE DE RESPUESTAS'!AJ21,Back!$M$16:$N$20,2,0)","v":"#N/A"},{"$f":"+VLOOKUP('BASE DE RESPUESTAS'!AK21,Back!$M$16:$N$20,2,0)","v":"#N/A"},{"$f":"+VLOOKUP('BASE DE RESPUESTAS'!AL21,Back!$M$16:$N$20,2,0)","v":"#N/A"},{"$f":"+VLOOKUP('BASE DE RESPUESTAS'!AM21,Back!$M$16:$N$20,2,0)","v":"#N/A"},{"$f":"+VLOOKUP('BASE DE RESPUESTAS'!AN21,Back!$M$16:$N$20,2,0)","v":"#N/A"},{"$f":"+VLOOKUP('BASE DE RESPUESTAS'!AO21,Back!$M$16:$N$20,2,0)","v":"#N/A"},{"$f":"+VLOOKUP('BASE DE RESPUESTAS'!AP21,Back!$M$16:$N$20,2,0)","v":"#N/A"},{"$f":"+VLOOKUP('BASE DE RESPUESTAS'!AQ21,Back!$M$16:$N$20,2,0)","v":"#N/A"},{"$f":"+VLOOKUP('BASE DE RESPUESTAS'!AR21,Back!$M$16:$N$20,2,0)","v":"#N/A"},{"$f":"+VLOOKUP('BASE DE RESPUESTAS'!AS21,Back!$M$16:$N$20,2,0)","v":"#N/A"},{"$f":"+VLOOKUP('BASE DE RESPUESTAS'!AT21,Back!$M$16:$N$20,2,0)","v":"#N/A"},{"$f":"+VLOOKUP('BASE DE RESPUESTAS'!AU21,Back!$M$16:$N$20,2,0)","v":"#N/A"},{"$f":"+VLOOKUP('BASE DE RESPUESTAS'!AV21,Back!$M$16:$N$20,2,0)","v":"#N/A"},{"$f":"+VLOOKUP('BASE DE RESPUESTAS'!AW21,Back!$M$16:$N$20,2,0)","v":"#N/A"},{"$f":"+VLOOKUP('BASE DE RESPUESTAS'!AX21,Back!$M$16:$N$20,2,0)","v":"#N/A"},{"$f":"+VLOOKUP('BASE DE RESPUESTAS'!AY21,Back!$M$16:$N$20,2,0)","v":"#N/A"},{"$f":"+VLOOKUP('BASE DE RESPUESTAS'!AZ21,Back!$M$16:$N$20,2,0)","v":"#N/A"},{"$f":"+VLOOKUP('BASE DE RESPUESTAS'!BA21,Back!$M$16:$N$20,2,0)","v":"#N/A"},{"$f":"+VLOOKUP('BASE DE RESPUESTAS'!BB21,Back!$M$16:$N$20,2,0)","v":"#N/A"},{"$f":"+VLOOKUP('BASE DE RESPUESTAS'!BC21,Back!$M$16:$N$20,2,0)","v":"#N/A"},{"$f":"+VLOOKUP('BASE DE RESPUESTAS'!BD21,Back!$M$16:$N$20,2,0)","v":"#N/A"},{"$f":"+VLOOKUP('BASE DE RESPUESTAS'!BE21,Back!$M$16:$N$20,2,0)","v":"#N/A"}]
[null,null,null,"El o la estudiante ante un problema piensa en diferentes posibles soluciones.",16.0,"Ante un problema, pienso en varias soluciones.",null,{"$f":"+VLOOKUP('BASE DE RESPUESTAS'!H22,Back!$M$16:$N$20,2,0)","v":"#N/A"},{"$f":"+VLOOKUP('BASE DE RESPUESTAS'!I22,Back!$M$16:$N$20,2,0)","v":"#N/A"},{"$f":"+VLOOKUP('BASE DE RESPUESTAS'!J22,Back!$M$16:$N$20,2,0)","v":"#N/A"},{"$f":"+VLOOKUP('BASE DE RESPUESTAS'!K22,Back!$M$16:$N$20,2,0)","v":"#N/A"},{"$f":"+VLOOKUP('BASE DE RESPUESTAS'!L22,Back!$M$16:$N$20,2,0)","v":"#N/A"},{"$f":"+VLOOKUP('BASE DE RESPUESTAS'!M22,Back!$M$16:$N$20,2,0)","v":"#N/A"},{"$f":"+VLOOKUP('BASE DE RESPUESTAS'!N22,Back!$M$16:$N$20,2,0)","v":"#N/A"},{"$f":"+VLOOKUP('BASE DE RESPUESTAS'!O22,Back!$M$16:$N$20,2,0)","v":"#N/A"},{"$f":"+VLOOKUP('BASE DE RESPUESTAS'!P22,Back!$M$16:$N$20,2,0)","v":"#N/A"},{"$f":"+VLOOKUP('BASE DE RESPUESTAS'!Q22,Back!$M$16:$N$20,2,0)","v":"#N/A"},{"$f":"+VLOOKUP('BASE DE RESPUESTAS'!R22,Back!$M$16:$N$20,2,0)","v":"#N/A"},{"$f":"+VLOOKUP('BASE DE RESPUESTAS'!S22,Back!$M$16:$N$20,2,0)","v":"#N/A"},{"$f":"+VLOOKUP('BASE DE RESPUESTAS'!T22,Back!$M$16:$N$20,2,0)","v":"#N/A"},{"$f":"+VLOOKUP('BASE DE RESPUESTAS'!U22,Back!$M$16:$N$20,2,0)","v":"#N/A"},{"$f":"+VLOOKUP('BASE DE RESPUESTAS'!V22,Back!$M$16:$N$20,2,0)","v":"#N/A"},{"$f":"+VLOOKUP('BASE DE RESPUESTAS'!W22,Back!$M$16:$N$20,2,0)","v":"#N/A"},{"$f":"+VLOOKUP('BASE DE RESPUESTAS'!X22,Back!$M$16:$N$20,2,0)","v":"#N/A"},{"$f":"+VLOOKUP('BASE DE RESPUESTAS'!Y22,Back!$M$16:$N$20,2,0)","v":"#N/A"},{"$f":"+VLOOKUP('BASE DE RESPUESTAS'!Z22,Back!$M$16:$N$20,2,0)","v":"#N/A"},{"$f":"+VLOOKUP('BASE DE RESPUESTAS'!AA22,Back!$M$16:$N$20,2,0)","v":"#N/A"},{"$f":"+VLOOKUP('BASE DE RESPUESTAS'!AB22,Back!$M$16:$N$20,2,0)","v":"#N/A"},{"$f":"+VLOOKUP('BASE DE RESPUESTAS'!AC22,Back!$M$16:$N$20,2,0)","v":"#N/A"},{"$f":"+VLOOKUP('BASE DE RESPUESTAS'!AD22,Back!$M$16:$N$20,2,0)","v":"#N/A"},{"$f":"+VLOOKUP('BASE DE RESPUESTAS'!AE22,Back!$M$16:$N$20,2,0)","v":"#N/A"},{"$f":"+VLOOKUP('BASE DE RESPUESTAS'!AF22,Back!$M$16:$N$20,2,0)","v":"#N/A"},{"$f":"+VLOOKUP('BASE DE RESPUESTAS'!AG22,Back!$M$16:$N$20,2,0)","v":"#N/A"},{"$f":"+VLOOKUP('BASE DE RESPUESTAS'!AH22,Back!$M$16:$N$20,2,0)","v":"#N/A"},{"$f":"+VLOOKUP('BASE DE RESPUESTAS'!AI22,Back!$M$16:$N$20,2,0)","v":"#N/A"},{"$f":"+VLOOKUP('BASE DE RESPUESTAS'!AJ22,Back!$M$16:$N$20,2,0)","v":"#N/A"},{"$f":"+VLOOKUP('BASE DE RESPUESTAS'!AK22,Back!$M$16:$N$20,2,0)","v":"#N/A"},{"$f":"+VLOOKUP('BASE DE RESPUESTAS'!AL22,Back!$M$16:$N$20,2,0)","v":"#N/A"},{"$f":"+VLOOKUP('BASE DE RESPUESTAS'!AM22,Back!$M$16:$N$20,2,0)","v":"#N/A"},{"$f":"+VLOOKUP('BASE DE RESPUESTAS'!AN22,Back!$M$16:$N$20,2,0)","v":"#N/A"},{"$f":"+VLOOKUP('BASE DE RESPUESTAS'!AO22,Back!$M$16:$N$20,2,0)","v":"#N/A"},{"$f":"+VLOOKUP('BASE DE RESPUESTAS'!AP22,Back!$M$16:$N$20,2,0)","v":"#N/A"},{"$f":"+VLOOKUP('BASE DE RESPUESTAS'!AQ22,Back!$M$16:$N$20,2,0)","v":"#N/A"},{"$f":"+VLOOKUP('BASE DE RESPUESTAS'!AR22,Back!$M$16:$N$20,2,0)","v":"#N/A"},{"$f":"+VLOOKUP('BASE DE RESPUESTAS'!AS22,Back!$M$16:$N$20,2,0)","v":"#N/A"},{"$f":"+VLOOKUP('BASE DE RESPUESTAS'!AT22,Back!$M$16:$N$20,2,0)","v":"#N/A"},{"$f":"+VLOOKUP('BASE DE RESPUESTAS'!AU22,Back!$M$16:$N$20,2,0)","v":"#N/A"},{"$f":"+VLOOKUP('BASE DE RESPUESTAS'!AV22,Back!$M$16:$N$20,2,0)","v":"#N/A"},{"$f":"+VLOOKUP('BASE DE RESPUESTAS'!AW22,Back!$M$16:$N$20,2,0)","v":"#N/A"},{"$f":"+VLOOKUP('BASE DE RESPUESTAS'!AX22,Back!$M$16:$N$20,2,0)","v":"#N/A"},{"$f":"+VLOOKUP('BASE DE RESPUESTAS'!AY22,Back!$M$16:$N$20,2,0)","v":"#N/A"},{"$f":"+VLOOKUP('BASE DE RESPUESTAS'!AZ22,Back!$M$16:$N$20,2,0)","v":"#N/A"},{"$f":"+VLOOKUP('BASE DE RESPUESTAS'!BA22,Back!$M$16:$N$20,2,0)","v":"#N/A"},{"$f":"+VLOOKUP('BASE DE RESPUESTAS'!BB22,Back!$M$16:$N$20,2,0)","v":"#N/A"},{"$f":"+VLOOKUP('BASE DE RESPUESTAS'!BC22,Back!$M$16:$N$20,2,0)","v":"#N/A"},{"$f":"+VLOOKUP('BASE DE RESPUESTAS'!BD22,Back!$M$16:$N$20,2,0)","v":"#N/A"},{"$f":"+VLOOKUP('BASE DE RESPUESTAS'!BE22,Back!$M$16:$N$20,2,0)","v":"#N/A"}]
[null,null,null,"El o la estudiante toma la iniciativa transformar o mejorar algo que ya existe.",17.0,"Puedo transformar y mejorar cosas que veo a mi alrededor.",null,{"$f":"+VLOOKUP('BASE DE RESPUESTAS'!H23,Back!$M$16:$N$20,2,0)","v":"#N/A"},{"$f":"+VLOOKUP('BASE DE RESPUESTAS'!I23,Back!$M$16:$N$20,2,0)","v":"#N/A"},{"$f":"+VLOOKUP('BASE DE RESPUESTAS'!J23,Back!$M$16:$N$20,2,0)","v":"#N/A"},{"$f":"+VLOOKUP('BASE DE RESPUESTAS'!K23,Back!$M$16:$N$20,2,0)","v":"#N/A"},{"$f":"+VLOOKUP('BASE DE RESPUESTAS'!L23,Back!$M$16:$N$20,2,0)","v":"#N/A"},{"$f":"+VLOOKUP('BASE DE RESPUESTAS'!M23,Back!$M$16:$N$20,2,0)","v":"#N/A"},{"$f":"+VLOOKUP('BASE DE RESPUESTAS'!N23,Back!$M$16:$N$20,2,0)","v":"#N/A"},{"$f":"+VLOOKUP('BASE DE RESPUESTAS'!O23,Back!$M$16:$N$20,2,0)","v":"#N/A"},{"$f":"+VLOOKUP('BASE DE RESPUESTAS'!P23,Back!$M$16:$N$20,2,0)","v":"#N/A"},{"$f":"+VLOOKUP('BASE DE RESPUESTAS'!Q23,Back!$M$16:$N$20,2,0)","v":"#N/A"},{"$f":"+VLOOKUP('BASE DE RESPUESTAS'!R23,Back!$M$16:$N$20,2,0)","v":"#N/A"},{"$f":"+VLOOKUP('BASE DE RESPUESTAS'!S23,Back!$M$16:$N$20,2,0)","v":"#N/A"},{"$f":"+VLOOKUP('BASE DE RESPUESTAS'!T23,Back!$M$16:$N$20,2,0)","v":"#N/A"},{"$f":"+VLOOKUP('BASE DE RESPUESTAS'!U23,Back!$M$16:$N$20,2,0)","v":"#N/A"},{"$f":"+VLOOKUP('BASE DE RESPUESTAS'!V23,Back!$M$16:$N$20,2,0)","v":"#N/A"},{"$f":"+VLOOKUP('BASE DE RESPUESTAS'!W23,Back!$M$16:$N$20,2,0)","v":"#N/A"},{"$f":"+VLOOKUP('BASE DE RESPUESTAS'!X23,Back!$M$16:$N$20,2,0)","v":"#N/A"},{"$f":"+VLOOKUP('BASE DE RESPUESTAS'!Y23,Back!$M$16:$N$20,2,0)","v":"#N/A"},{"$f":"+VLOOKUP('BASE DE RESPUESTAS'!Z23,Back!$M$16:$N$20,2,0)","v":"#N/A"},{"$f":"+VLOOKUP('BASE DE RESPUESTAS'!AA23,Back!$M$16:$N$20,2,0)","v":"#N/A"},{"$f":"+VLOOKUP('BASE DE RESPUESTAS'!AB23,Back!$M$16:$N$20,2,0)","v":"#N/A"},{"$f":"+VLOOKUP('BASE DE RESPUESTAS'!AC23,Back!$M$16:$N$20,2,0)","v":"#N/A"},{"$f":"+VLOOKUP('BASE DE RESPUESTAS'!AD23,Back!$M$16:$N$20,2,0)","v":"#N/A"},{"$f":"+VLOOKUP('BASE DE RESPUESTAS'!AE23,Back!$M$16:$N$20,2,0)","v":"#N/A"},{"$f":"+VLOOKUP('BASE DE RESPUESTAS'!AF23,Back!$M$16:$N$20,2,0)","v":"#N/A"},{"$f":"+VLOOKUP('BASE DE RESPUESTAS'!AG23,Back!$M$16:$N$20,2,0)","v":"#N/A"},{"$f":"+VLOOKUP('BASE DE RESPUESTAS'!AH23,Back!$M$16:$N$20,2,0)","v":"#N/A"},{"$f":"+VLOOKUP('BASE DE RESPUESTAS'!AI23,Back!$M$16:$N$20,2,0)","v":"#N/A"},{"$f":"+VLOOKUP('BASE DE RESPUESTAS'!AJ23,Back!$M$16:$N$20,2,0)","v":"#N/A"},{"$f":"+VLOOKUP('BASE DE RESPUESTAS'!AK23,Back!$M$16:$N$20,2,0)","v":"#N/A"},{"$f":"+VLOOKUP('BASE DE RESPUESTAS'!AL23,Back!$M$16:$N$20,2,0)","v":"#N/A"},{"$f":"+VLOOKUP('BASE DE RESPUESTAS'!AM23,Back!$M$16:$N$20,2,0)","v":"#N/A"},{"$f":"+VLOOKUP('BASE DE RESPUESTAS'!AN23,Back!$M$16:$N$20,2,0)","v":"#N/A"},{"$f":"+VLOOKUP('BASE DE RESPUESTAS'!AO23,Back!$M$16:$N$20,2,0)","v":"#N/A"},{"$f":"+VLOOKUP('BASE DE RESPUESTAS'!AP23,Back!$M$16:$N$20,2,0)","v":"#N/A"},{"$f":"+VLOOKUP('BASE DE RESPUESTAS'!AQ23,Back!$M$16:$N$20,2,0)","v":"#N/A"},{"$f":"+VLOOKUP('BASE DE RESPUESTAS'!AR23,Back!$M$16:$N$20,2,0)","v":"#N/A"},{"$f":"+VLOOKUP('BASE DE RESPUESTAS'!AS23,Back!$M$16:$N$20,2,0)","v":"#N/A"},{"$f":"+VLOOKUP('BASE DE RESPUESTAS'!AT23,Back!$M$16:$N$20,2,0)","v":"#N/A"},{"$f":"+VLOOKUP('BASE DE RESPUESTAS'!AU23,Back!$M$16:$N$20,2,0)","v":"#N/A"},{"$f":"+VLOOKUP('BASE DE RESPUESTAS'!AV23,Back!$M$16:$N$20,2,0)","v":"#N/A"},{"$f":"+VLOOKUP('BASE DE RESPUESTAS'!AW23,Back!$M$16:$N$20,2,0)","v":"#N/A"},{"$f":"+VLOOKUP('BASE DE RESPUESTAS'!AX23,Back!$M$16:$N$20,2,0)","v":"#N/A"},{"$f":"+VLOOKUP('BASE DE RESPUESTAS'!AY23,Back!$M$16:$N$20,2,0)","v":"#N/A"},{"$f":"+VLOOKUP('BASE DE RESPUESTAS'!AZ23,Back!$M$16:$N$20,2,0)","v":"#N/A"},{"$f":"+VLOOKUP('BASE DE RESPUESTAS'!BA23,Back!$M$16:$N$20,2,0)","v":"#N/A"},{"$f":"+VLOOKUP('BASE DE RESPUESTAS'!BB23,Back!$M$16:$N$20,2,0)","v":"#N/A"},{"$f":"+VLOOKUP('BASE DE RESPUESTAS'!BC23,Back!$M$16:$N$20,2,0)","v":"#N/A"},{"$f":"+VLOOKUP('BASE DE RESPUESTAS'!BD23,Back!$M$16:$N$20,2,0)","v":"#N/A"},{"$f":"+VLOOKUP('BASE DE RESPUESTAS'!BE23,Back!$M$16:$N$20,2,0)","v":"#N/A"}]
[null,"HSE","Toma de decisiones responsables","El o la estudiante identifica las diferentes opciones antes de tomar decisiones.",18.0,"Me informo bien antes de tomar una decisión.",null,{"$f":"+VLOOKUP('BASE DE RESPUESTAS'!H24,Back!$M$16:$N$20,2,0)","v":"#N/A"},{"$f":"+VLOOKUP('BASE DE RESPUESTAS'!I24,Back!$M$16:$N$20,2,0)","v":"#N/A"},{"$f":"+VLOOKUP('BASE DE RESPUESTAS'!J24,Back!$M$16:$N$20,2,0)","v":"#N/A"},{"$f":"+VLOOKUP('BASE DE RESPUESTAS'!K24,Back!$M$16:$N$20,2,0)","v":"#N/A"},{"$f":"+VLOOKUP('BASE DE RESPUESTAS'!L24,Back!$M$16:$N$20,2,0)","v":"#N/A"},{"$f":"+VLOOKUP('BASE DE RESPUESTAS'!M24,Back!$M$16:$N$20,2,0)","v":"#N/A"},{"$f":"+VLOOKUP('BASE DE RESPUESTAS'!N24,Back!$M$16:$N$20,2,0)","v":"#N/A"},{"$f":"+VLOOKUP('BASE DE RESPUESTAS'!O24,Back!$M$16:$N$20,2,0)","v":"#N/A"},{"$f":"+VLOOKUP('BASE DE RESPUESTAS'!P24,Back!$M$16:$N$20,2,0)","v":"#N/A"},{"$f":"+VLOOKUP('BASE DE RESPUESTAS'!Q24,Back!$M$16:$N$20,2,0)","v":"#N/A"},{"$f":"+VLOOKUP('BASE DE RESPUESTAS'!R24,Back!$M$16:$N$20,2,0)","v":"#N/A"},{"$f":"+VLOOKUP('BASE DE RESPUESTAS'!S24,Back!$M$16:$N$20,2,0)","v":"#N/A"},{"$f":"+VLOOKUP('BASE DE RESPUESTAS'!T24,Back!$M$16:$N$20,2,0)","v":"#N/A"},{"$f":"+VLOOKUP('BASE DE RESPUESTAS'!U24,Back!$M$16:$N$20,2,0)","v":"#N/A"},{"$f":"+VLOOKUP('BASE DE RESPUESTAS'!V24,Back!$M$16:$N$20,2,0)","v":"#N/A"},{"$f":"+VLOOKUP('BASE DE RESPUESTAS'!W24,Back!$M$16:$N$20,2,0)","v":"#N/A"},{"$f":"+VLOOKUP('BASE DE RESPUESTAS'!X24,Back!$M$16:$N$20,2,0)","v":"#N/A"},{"$f":"+VLOOKUP('BASE DE RESPUESTAS'!Y24,Back!$M$16:$N$20,2,0)","v":"#N/A"},{"$f":"+VLOOKUP('BASE DE RESPUESTAS'!Z24,Back!$M$16:$N$20,2,0)","v":"#N/A"},{"$f":"+VLOOKUP('BASE DE RESPUESTAS'!AA24,Back!$M$16:$N$20,2,0)","v":"#N/A"},{"$f":"+VLOOKUP('BASE DE RESPUESTAS'!AB24,Back!$M$16:$N$20,2,0)","v":"#N/A"},{"$f":"+VLOOKUP('BASE DE RESPUESTAS'!AC24,Back!$M$16:$N$20,2,0)","v":"#N/A"},{"$f":"+VLOOKUP('BASE DE RESPUESTAS'!AD24,Back!$M$16:$N$20,2,0)","v":"#N/A"},{"$f":"+VLOOKUP('BASE DE RESPUESTAS'!AE24,Back!$M$16:$N$20,2,0)","v":"#N/A"},{"$f":"+VLOOKUP('BASE DE RESPUESTAS'!AF24,Back!$M$16:$N$20,2,0)","v":"#N/A"},{"$f":"+VLOOKUP('BASE DE RESPUESTAS'!AG24,Back!$M$16:$N$20,2,0)","v":"#N/A"},{"$f":"+VLOOKUP('BASE DE RESPUESTAS'!AH24,Back!$M$16:$N$20,2,0)","v":"#N/A"},{"$f":"+VLOOKUP('BASE DE RESPUESTAS'!AI24,Back!$M$16:$N$20,2,0)","v":"#N/A"},{"$f":"+VLOOKUP('BASE DE RESPUESTAS'!AJ24,Back!$M$16:$N$20,2,0)","v":"#N/A"},{"$f":"+VLOOKUP('BASE DE RESPUESTAS'!AK24,Back!$M$16:$N$20,2,0)","v":"#N/A"},{"$f":"+VLOOKUP('BASE DE RESPUESTAS'!AL24,Back!$M$16:$N$20,2,0)","v":"#N/A"},{"$f":"+VLOOKUP('BASE DE RESPUESTAS'!AM24,Back!$M$16:$N$20,2,0)","v":"#N/A"},{"$f":"+VLOOKUP('BASE DE RESPUESTAS'!AN24,Back!$M$16:$N$20,2,0)","v":"#N/A"},{"$f":"+VLOOKUP('BASE DE RESPUESTAS'!AO24,Back!$M$16:$N$20,2,0)","v":"#N/A"},{"$f":"+VLOOKUP('BASE DE RESPUESTAS'!AP24,Back!$M$16:$N$20,2,0)","v":"#N/A"},{"$f":"+VLOOKUP('BASE DE RESPUESTAS'!AQ24,Back!$M$16:$N$20,2,0)","v":"#N/A"},{"$f":"+VLOOKUP('BASE DE RESPUESTAS'!AR24,Back!$M$16:$N$20,2,0)","v":"#N/A"},{"$f":"+VLOOKUP('BASE DE RESPUESTAS'!AS24,Back!$M$16:$N$20,2,0)","v":"#N/A"},{"$f":"+VLOOKUP('BASE DE RESPUESTAS'!AT24,Back!$M$16:$N$20,2,0)","v":"#N/A"},{"$f":"+VLOOKUP('BASE DE RESPUESTAS'!AU24,Back!$M$16:$N$20,2,0)","v":"#N/A"},{"$f":"+VLOOKUP('BASE DE RESPUESTAS'!AV24,Back!$M$16:$N$20,2,0)","v":"#N/A"},{"$f":"+VLOOKUP('BASE DE RESPUESTAS'!AW24,Back!$M$16:$N$20,2,0)","v":"#N/A"},{"$f":"+VLOOKUP('BASE DE RESPUESTAS'!AX24,Back!$M$16:$N$20,2,0)","v":"#N/A"},{"$f":"+VLOOKUP('BASE DE RESPUESTAS'!AY24,Back!$M$16:$N$20,2,0)","v":"#N/A"},{"$f":"+VLOOKUP('BASE DE RESPUESTAS'!AZ24,Back!$M$16:$N$20,2,0)","v":"#N/A"},{"$f":"+VLOOKUP('BASE DE RESPUESTAS'!BA24,Back!$M$16:$N$20,2,0)","v":"#N/A"},{"$f":"+VLOOKUP('BASE DE RESPUESTAS'!BB24,Back!$M$16:$N$20,2,0)","v":"#N/A"},{"$f":"+VLOOKUP('BASE DE RESPUESTAS'!BC24,Back!$M$16:$N$20,2,0)","v":"#N/A"},{"$f":"+VLOOKUP('BASE DE RESPUESTAS'!BD24,Back!$M$16:$N$20,2,0)","v":"#N/A"},{"$f":"+VLOOKUP('BASE DE RESPUESTAS'!BE24,Back!$M$16:$N$20,2,0)","v":"#N/A"}]
[null,null,null,"El o la estudiante evalúa los posibles riesgos y consecuencias antes de tomar una decisión.",19.0,"Antes de tomar una decisión, pienso en los riesgos que pudieran existir.",null,{"$f":"+VLOOKUP('BASE DE RESPUESTAS'!H25,Back!$M$16:$N$20,2,0)","v":"#N/A"},{"$f":"+VLOOKUP('BASE DE RESPUESTAS'!I25,Back!$M$16:$N$20,2,0)","v":"#N/A"},{"$f":"+VLOOKUP('BASE DE RESPUESTAS'!J25,Back!$M$16:$N$20,2,0)","v":"#N/A"},{"$f":"+VLOOKUP('BASE DE RESPUESTAS'!K25,Back!$M$16:$N$20,2,0)","v":"#N/A"},{"$f":"+VLOOKUP('BASE DE RESPUESTAS'!L25,Back!$M$16:$N$20,2,0)","v":"#N/A"},{"$f":"+VLOOKUP('BASE DE RESPUESTAS'!M25,Back!$M$16:$N$20,2,0)","v":"#N/A"},{"$f":"+VLOOKUP('BASE DE RESPUESTAS'!N25,Back!$M$16:$N$20,2,0)","v":"#N/A"},{"$f":"+VLOOKUP('BASE DE RESPUESTAS'!O25,Back!$M$16:$N$20,2,0)","v":"#N/A"},{"$f":"+VLOOKUP('BASE DE RESPUESTAS'!P25,Back!$M$16:$N$20,2,0)","v":"#N/A"},{"$f":"+VLOOKUP('BASE DE RESPUESTAS'!Q25,Back!$M$16:$N$20,2,0)","v":"#N/A"},{"$f":"+VLOOKUP('BASE DE RESPUESTAS'!R25,Back!$M$16:$N$20,2,0)","v":"#N/A"},{"$f":"+VLOOKUP('BASE DE RESPUESTAS'!S25,Back!$M$16:$N$20,2,0)","v":"#N/A"},{"$f":"+VLOOKUP('BASE DE RESPUESTAS'!T25,Back!$M$16:$N$20,2,0)","v":"#N/A"},{"$f":"+VLOOKUP('BASE DE RESPUESTAS'!U25,Back!$M$16:$N$20,2,0)","v":"#N/A"},{"$f":"+VLOOKUP('BASE DE RESPUESTAS'!V25,Back!$M$16:$N$20,2,0)","v":"#N/A"},{"$f":"+VLOOKUP('BASE DE RESPUESTAS'!W25,Back!$M$16:$N$20,2,0)","v":"#N/A"},{"$f":"+VLOOKUP('BASE DE RESPUESTAS'!X25,Back!$M$16:$N$20,2,0)","v":"#N/A"},{"$f":"+VLOOKUP('BASE DE RESPUESTAS'!Y25,Back!$M$16:$N$20,2,0)","v":"#N/A"},{"$f":"+VLOOKUP('BASE DE RESPUESTAS'!Z25,Back!$M$16:$N$20,2,0)","v":"#N/A"},{"$f":"+VLOOKUP('BASE DE RESPUESTAS'!AA25,Back!$M$16:$N$20,2,0)","v":"#N/A"},{"$f":"+VLOOKUP('BASE DE RESPUESTAS'!AB25,Back!$M$16:$N$20,2,0)","v":"#N/A"},{"$f":"+VLOOKUP('BASE DE RESPUESTAS'!AC25,Back!$M$16:$N$20,2,0)","v":"#N/A"},{"$f":"+VLOOKUP('BASE DE RESPUESTAS'!AD25,Back!$M$16:$N$20,2,0)","v":"#N/A"},{"$f":"+VLOOKUP('BASE DE RESPUESTAS'!AE25,Back!$M$16:$N$20,2,0)","v":"#N/A"},{"$f":"+VLOOKUP('BASE DE RESPUESTAS'!AF25,Back!$M$16:$N$20,2,0)","v":"#N/A"},{"$f":"+VLOOKUP('BASE DE RESPUESTAS'!AG25,Back!$M$16:$N$20,2,0)","v":"#N/A"},{"$f":"+VLOOKUP('BASE DE RESPUESTAS'!AH25,Back!$M$16:$N$20,2,0)","v":"#N/A"},{"$f":"+VLOOKUP('BASE DE RESPUESTAS'!AI25,Back!$M$16:$N$20,2,0)","v":"#N/A"},{"$f":"+VLOOKUP('BASE DE RESPUESTAS'!AJ25,Back!$M$16:$N$20,2,0)","v":"#N/A"},{"$f":"+VLOOKUP('BASE DE RESPUESTAS'!AK25,Back!$M$16:$N$20,2,0)","v":"#N/A"},{"$f":"+VLOOKUP('BASE DE RESPUESTAS'!AL25,Back!$M$16:$N$20,2,0)","v":"#N/A"},{"$f":"+VLOOKUP('BASE DE RESPUESTAS'!AM25,Back!$M$16:$N$20,2,0)","v":"#N/A"},{"$f":"+VLOOKUP('BASE DE RESPUESTAS'!AN25,Back!$M$16:$N$20,2,0)","v":"#N/A"},{"$f":"+VLOOKUP('BASE DE RESPUESTAS'!AO25,Back!$M$16:$N$20,2,0)","v":"#N/A"},{"$f":"+VLOOKUP('BASE DE RESPUESTAS'!AP25,Back!$M$16:$N$20,2,0)","v":"#N/A"},{"$f":"+VLOOKUP('BASE DE RESPUESTAS'!AQ25,Back!$M$16:$N$20,2,0)","v":"#N/A"},{"$f":"+VLOOKUP('BASE DE RESPUESTAS'!AR25,Back!$M$16:$N$20,2,0)","v":"#N/A"},{"$f":"+VLOOKUP('BASE DE RESPUESTAS'!AS25,Back!$M$16:$N$20,2,0)","v":"#N/A"},{"$f":"+VLOOKUP('BASE DE RESPUESTAS'!AT25,Back!$M$16:$N$20,2,0)","v":"#N/A"},{"$f":"+VLOOKUP('BASE DE RESPUESTAS'!AU25,Back!$M$16:$N$20,2,0)","v":"#N/A"},{"$f":"+VLOOKUP('BASE DE RESPUESTAS'!AV25,Back!$M$16:$N$20,2,0)","v":"#N/A"},{"$f":"+VLOOKUP('BASE DE RESPUESTAS'!AW25,Back!$M$16:$N$20,2,0)","v":"#N/A"},{"$f":"+VLOOKUP('BASE DE RESPUESTAS'!AX25,Back!$M$16:$N$20,2,0)","v":"#N/A"},{"$f":"+VLOOKUP('BASE DE RESPUESTAS'!AY25,Back!$M$16:$N$20,2,0)","v":"#N/A"},{"$f":"+VLOOKUP('BASE DE RESPUESTAS'!AZ25,Back!$M$16:$N$20,2,0)","v":"#N/A"},{"$f":"+VLOOKUP('BASE DE RESPUESTAS'!BA25,Back!$M$16:$N$20,2,0)","v":"#N/A"},{"$f":"+VLOOKUP('BASE DE RESPUESTAS'!BB25,Back!$M$16:$N$20,2,0)","v":"#N/A"},{"$f":"+VLOOKUP('BASE DE RESPUESTAS'!BC25,Back!$M$16:$N$20,2,0)","v":"#N/A"},{"$f":"+VLOOKUP('BASE DE RESPUESTAS'!BD25,Back!$M$16:$N$20,2,0)","v":"#N/A"},{"$f":"+VLOOKUP('BASE DE RESPUESTAS'!BE25,Back!$M$16:$N$20,2,0)","v":"#N/A"}]
[null,null,null,"Al tomar decisiones, el o la estudiante toma en cuenta su bienestar personal y de su entorno.",20.0,"Cuando tomo decisiones pienso en mí y mi familia.",null,{"$f":"+VLOOKUP('BASE DE RESPUESTAS'!H26,Back!$M$16:$N$20,2,0)","v":"#N/A"},{"$f":"+VLOOKUP('BASE DE RESPUESTAS'!I26,Back!$M$16:$N$20,2,0)","v":"#N/A"},{"$f":"+VLOOKUP('BASE DE RESPUESTAS'!J26,Back!$M$16:$N$20,2,0)","v":"#N/A"},{"$f":"+VLOOKUP('BASE DE RESPUESTAS'!K26,Back!$M$16:$N$20,2,0)","v":"#N/A"},{"$f":"+VLOOKUP('BASE DE RESPUESTAS'!L26,Back!$M$16:$N$20,2,0)","v":"#N/A"},{"$f":"+VLOOKUP('BASE DE RESPUESTAS'!M26,Back!$M$16:$N$20,2,0)","v":"#N/A"},{"$f":"+VLOOKUP('BASE DE RESPUESTAS'!N26,Back!$M$16:$N$20,2,0)","v":"#N/A"},{"$f":"+VLOOKUP('BASE DE RESPUESTAS'!O26,Back!$M$16:$N$20,2,0)","v":"#N/A"},{"$f":"+VLOOKUP('BASE DE RESPUESTAS'!P26,Back!$M$16:$N$20,2,0)","v":"#N/A"},{"$f":"+VLOOKUP('BASE DE RESPUESTAS'!Q26,Back!$M$16:$N$20,2,0)","v":"#N/A"},{"$f":"+VLOOKUP('BASE DE RESPUESTAS'!R26,Back!$M$16:$N$20,2,0)","v":"#N/A"},{"$f":"+VLOOKUP('BASE DE RESPUESTAS'!S26,Back!$M$16:$N$20,2,0)","v":"#N/A"},{"$f":"+VLOOKUP('BASE DE RESPUESTAS'!T26,Back!$M$16:$N$20,2,0)","v":"#N/A"},{"$f":"+VLOOKUP('BASE DE RESPUESTAS'!U26,Back!$M$16:$N$20,2,0)","v":"#N/A"},{"$f":"+VLOOKUP('BASE DE RESPUESTAS'!V26,Back!$M$16:$N$20,2,0)","v":"#N/A"},{"$f":"+VLOOKUP('BASE DE RESPUESTAS'!W26,Back!$M$16:$N$20,2,0)","v":"#N/A"},{"$f":"+VLOOKUP('BASE DE RESPUESTAS'!X26,Back!$M$16:$N$20,2,0)","v":"#N/A"},{"$f":"+VLOOKUP('BASE DE RESPUESTAS'!Y26,Back!$M$16:$N$20,2,0)","v":"#N/A"},{"$f":"+VLOOKUP('BASE DE RESPUESTAS'!Z26,Back!$M$16:$N$20,2,0)","v":"#N/A"},{"$f":"+VLOOKUP('BASE DE RESPUESTAS'!AA26,Back!$M$16:$N$20,2,0)","v":"#N/A"},{"$f":"+VLOOKUP('BASE DE RESPUESTAS'!AB26,Back!$M$16:$N$20,2,0)","v":"#N/A"},{"$f":"+VLOOKUP('BASE DE RESPUESTAS'!AC26,Back!$M$16:$N$20,2,0)","v":"#N/A"},{"$f":"+VLOOKUP('BASE DE RESPUESTAS'!AD26,Back!$M$16:$N$20,2,0)","v":"#N/A"},{"$f":"+VLOOKUP('BASE DE RESPUESTAS'!AE26,Back!$M$16:$N$20,2,0)","v":"#N/A"},{"$f":"+VLOOKUP('BASE DE RESPUESTAS'!AF26,Back!$M$16:$N$20,2,0)","v":"#N/A"},{"$f":"+VLOOKUP('BASE DE RESPUESTAS'!AG26,Back!$M$16:$N$20,2,0)","v":"#N/A"},{"$f":"+VLOOKUP('BASE DE RESPUESTAS'!AH26,Back!$M$16:$N$20,2,0)","v":"#N/A"},{"$f":"+VLOOKUP('BASE DE RESPUESTAS'!AI26,Back!$M$16:$N$20,2,0)","v":"#N/A"},{"$f":"+VLOOKUP('BASE DE RESPUESTAS'!AJ26,Back!$M$16:$N$20,2,0)","v":"#N/A"},{"$f":"+VLOOKUP('BASE DE RESPUESTAS'!AK26,Back!$M$16:$N$20,2,0)","v":"#N/A"},{"$f":"+VLOOKUP('BASE DE RESPUESTAS'!AL26,Back!$M$16:$N$20,2,0)","v":"#N/A"},{"$f":"+VLOOKUP('BASE DE RESPUESTAS'!AM26,Back!$M$16:$N$20,2,0)","v":"#N/A"},{"$f":"+VLOOKUP('BASE DE RESPUESTAS'!AN26,Back!$M$16:$N$20,2,0)","v":"#N/A"},{"$f":"+VLOOKUP('BASE DE RESPUESTAS'!AO26,Back!$M$16:$N$20,2,0)","v":"#N/A"},{"$f":"+VLOOKUP('BASE DE RESPUESTAS'!AP26,Back!$M$16:$N$20,2,0)","v":"#N/A"},{"$f":"+VLOOKUP('BASE DE RESPUESTAS'!AQ26,Back!$M$16:$N$20,2,0)","v":"#N/A"},{"$f":"+VLOOKUP('BASE DE RESPUESTAS'!AR26,Back!$M$16:$N$20,2,0)","v":"#N/A"},{"$f":"+VLOOKUP('BASE DE RESPUESTAS'!AS26,Back!$M$16:$N$20,2,0)","v":"#N/A"},{"$f":"+VLOOKUP('BASE DE RESPUESTAS'!AT26,Back!$M$16:$N$20,2,0)","v":"#N/A"},{"$f":"+VLOOKUP('BASE DE RESPUESTAS'!AU26,Back!$M$16:$N$20,2,0)","v":"#N/A"},{"$f":"+VLOOKUP('BASE DE RESPUESTAS'!AV26,Back!$M$16:$N$20,2,0)","v":"#N/A"},{"$f":"+VLOOKUP('BASE DE RESPUESTAS'!AW26,Back!$M$16:$N$20,2,0)","v":"#N/A"},{"$f":"+VLOOKUP('BASE DE RESPUESTAS'!AX26,Back!$M$16:$N$20,2,0)","v":"#N/A"},{"$f":"+VLOOKUP('BASE DE RESPUESTAS'!AY26,Back!$M$16:$N$20,2,0)","v":"#N/A"},{"$f":"+VLOOKUP('BASE DE RESPUESTAS'!AZ26,Back!$M$16:$N$20,2,0)","v":"#N/A"},{"$f":"+VLOOKUP('BASE DE RESPUESTAS'!BA26,Back!$M$16:$N$20,2,0)","v":"#N/A"},{"$f":"+VLOOKUP('BASE DE RESPUESTAS'!BB26,Back!$M$16:$N$20,2,0)","v":"#N/A"},{"$f":"+VLOOKUP('BASE DE RESPUESTAS'!BC26,Back!$M$16:$N$20,2,0)","v":"#N/A"},{"$f":"+VLOOKUP('BASE DE RESPUESTAS'!BD26,Back!$M$16:$N$20,2,0)","v":"#N/A"},{"$f":"+VLOOKUP('BASE DE RESPUESTAS'!BE26,Back!$M$16:$N$20,2,0)","v":"#N/A"}]
[null,"HSE","Comunicación asertiva","El o la estudiante escucha atentamente a su interlocutor.",21.0,"Cuando alguien me habla, presto atención para comprender lo que me está diciendo.",null,{"$f":"+VLOOKUP('BASE DE RESPUESTAS'!H27,Back!$M$16:$N$20,2,0)","v":"#N/A"},{"$f":"+VLOOKUP('BASE DE RESPUESTAS'!I27,Back!$M$16:$N$20,2,0)","v":"#N/A"},{"$f":"+VLOOKUP('BASE DE RESPUESTAS'!J27,Back!$M$16:$N$20,2,0)","v":"#N/A"},{"$f":"+VLOOKUP('BASE DE RESPUESTAS'!K27,Back!$M$16:$N$20,2,0)","v":"#N/A"},{"$f":"+VLOOKUP('BASE DE RESPUESTAS'!L27,Back!$M$16:$N$20,2,0)","v":"#N/A"},{"$f":"+VLOOKUP('BASE DE RESPUESTAS'!M27,Back!$M$16:$N$20,2,0)","v":"#N/A"},{"$f":"+VLOOKUP('BASE DE RESPUESTAS'!N27,Back!$M$16:$N$20,2,0)","v":"#N/A"},{"$f":"+VLOOKUP('BASE DE RESPUESTAS'!O27,Back!$M$16:$N$20,2,0)","v":"#N/A"},{"$f":"+VLOOKUP('BASE DE RESPUESTAS'!P27,Back!$M$16:$N$20,2,0)","v":"#N/A"},{"$f":"+VLOOKUP('BASE DE RESPUESTAS'!Q27,Back!$M$16:$N$20,2,0)","v":"#N/A"},{"$f":"+VLOOKUP('BASE DE RESPUESTAS'!R27,Back!$M$16:$N$20,2,0)","v":"#N/A"},{"$f":"+VLOOKUP('BASE DE RESPUESTAS'!S27,Back!$M$16:$N$20,2,0)","v":"#N/A"},{"$f":"+VLOOKUP('BASE DE RESPUESTAS'!T27,Back!$M$16:$N$20,2,0)","v":"#N/A"},{"$f":"+VLOOKUP('BASE DE RESPUESTAS'!U27,Back!$M$16:$N$20,2,0)","v":"#N/A"},{"$f":"+VLOOKUP('BASE DE RESPUESTAS'!V27,Back!$M$16:$N$20,2,0)","v":"#N/A"},{"$f":"+VLOOKUP('BASE DE RESPUESTAS'!W27,Back!$M$16:$N$20,2,0)","v":"#N/A"},{"$f":"+VLOOKUP('BASE DE RESPUESTAS'!X27,Back!$M$16:$N$20,2,0)","v":"#N/A"},{"$f":"+VLOOKUP('BASE DE RESPUESTAS'!Y27,Back!$M$16:$N$20,2,0)","v":"#N/A"},{"$f":"+VLOOKUP('BASE DE RESPUESTAS'!Z27,Back!$M$16:$N$20,2,0)","v":"#N/A"},{"$f":"+VLOOKUP('BASE DE RESPUESTAS'!AA27,Back!$M$16:$N$20,2,0)","v":"#N/A"},{"$f":"+VLOOKUP('BASE DE RESPUESTAS'!AB27,Back!$M$16:$N$20,2,0)","v":"#N/A"},{"$f":"+VLOOKUP('BASE DE RESPUESTAS'!AC27,Back!$M$16:$N$20,2,0)","v":"#N/A"},{"$f":"+VLOOKUP('BASE DE RESPUESTAS'!AD27,Back!$M$16:$N$20,2,0)","v":"#N/A"},{"$f":"+VLOOKUP('BASE DE RESPUESTAS'!AE27,Back!$M$16:$N$20,2,0)","v":"#N/A"},{"$f":"+VLOOKUP('BASE DE RESPUESTAS'!AF27,Back!$M$16:$N$20,2,0)","v":"#N/A"},{"$f":"+VLOOKUP('BASE DE RESPUESTAS'!AG27,Back!$M$16:$N$20,2,0)","v":"#N/A"},{"$f":"+VLOOKUP('BASE DE RESPUESTAS'!AH27,Back!$M$16:$N$20,2,0)","v":"#N/A"},{"$f":"+VLOOKUP('BASE DE RESPUESTAS'!AI27,Back!$M$16:$N$20,2,0)","v":"#N/A"},{"$f":"+VLOOKUP('BASE DE RESPUESTAS'!AJ27,Back!$M$16:$N$20,2,0)","v":"#N/A"},{"$f":"+VLOOKUP('BASE DE RESPUESTAS'!AK27,Back!$M$16:$N$20,2,0)","v":"#N/A"},{"$f":"+VLOOKUP('BASE DE RESPUESTAS'!AL27,Back!$M$16:$N$20,2,0)","v":"#N/A"},{"$f":"+VLOOKUP('BASE DE RESPUESTAS'!AM27,Back!$M$16:$N$20,2,0)","v":"#N/A"},{"$f":"+VLOOKUP('BASE DE RESPUESTAS'!AN27,Back!$M$16:$N$20,2,0)","v":"#N/A"},{"$f":"+VLOOKUP('BASE DE RESPUESTAS'!AO27,Back!$M$16:$N$20,2,0)","v":"#N/A"},{"$f":"+VLOOKUP('BASE DE RESPUESTAS'!AP27,Back!$M$16:$N$20,2,0)","v":"#N/A"},{"$f":"+VLOOKUP('BASE DE RESPUESTAS'!AQ27,Back!$M$16:$N$20,2,0)","v":"#N/A"},{"$f":"+VLOOKUP('BASE DE RESPUESTAS'!AR27,Back!$M$16:$N$20,2,0)","v":"#N/A"},{"$f":"+VLOOKUP('BASE DE RESPUESTAS'!AS27,Back!$M$16:$N$20,2,0)","v":"#N/A"},{"$f":"+VLOOKUP('BASE DE RESPUESTAS'!AT27,Back!$M$16:$N$20,2,0)","v":"#N/A"},{"$f":"+VLOOKUP('BASE DE RESPUESTAS'!AU27,Back!$M$16:$N$20,2,0)","v":"#N/A"},{"$f":"+VLOOKUP('BASE DE RESPUESTAS'!AV27,Back!$M$16:$N$20,2,0)","v":"#N/A"},{"$f":"+VLOOKUP('BASE DE RESPUESTAS'!AW27,Back!$M$16:$N$20,2,0)","v":"#N/A"},{"$f":"+VLOOKUP('BASE DE RESPUESTAS'!AX27,Back!$M$16:$N$20,2,0)","v":"#N/A"},{"$f":"+VLOOKUP('BASE DE RESPUESTAS'!AY27,Back!$M$16:$N$20,2,0)","v":"#N/A"},{"$f":"+VLOOKUP('BASE DE RESPUESTAS'!AZ27,Back!$M$16:$N$20,2,0)","v":"#N/A"},{"$f":"+VLOOKUP('BASE DE RESPUESTAS'!BA27,Back!$M$16:$N$20,2,0)","v":"#N/A"},{"$f":"+VLOOKUP('BASE DE RESPUESTAS'!BB27,Back!$M$16:$N$20,2,0)","v":"#N/A"},{"$f":"+VLOOKUP('BASE DE RESPUESTAS'!BC27,Back!$M$16:$N$20,2,0)","v":"#N/A"},{"$f":"+VLOOKUP('BASE DE RESPUESTAS'!BD27,Back!$M$16:$N$20,2,0)","v":"#N/A"},{"$f":"+VLOOKUP('BASE DE RESPUESTAS'!BE27,Back!$M$16:$N$20,2,0)","v":"#N/A"}]
[null,null,null,"El o la estudiante comunica de forma directa y clara aquellas situaciones que le incomodan, sin agredir a otras personas.",22.0,"Cuando no estoy de acuerdo con algo, digo lo que siento y pienso con respeto, sin lastimar o herir a la otra persona.",null,{"$f":"+VLOOKUP('BASE DE RESPUESTAS'!H28,Back!$M$16:$N$20,2,0)","v":"#N/A"},{"$f":"+VLOOKUP('BASE DE RESPUESTAS'!I28,Back!$M$16:$N$20,2,0)","v":"#N/A"},{"$f":"+VLOOKUP('BASE DE RESPUESTAS'!J28,Back!$M$16:$N$20,2,0)","v":"#N/A"},{"$f":"+VLOOKUP('BASE DE RESPUESTAS'!K28,Back!$M$16:$N$20,2,0)","v":"#N/A"},{"$f":"+VLOOKUP('BASE DE RESPUESTAS'!L28,Back!$M$16:$N$20,2,0)","v":"#N/A"},{"$f":"+VLOOKUP('BASE DE RESPUESTAS'!M28,Back!$M$16:$N$20,2,0)","v":"#N/A"},{"$f":"+VLOOKUP('BASE DE RESPUESTAS'!N28,Back!$M$16:$N$20,2,0)","v":"#N/A"},{"$f":"+VLOOKUP('BASE DE RESPUESTAS'!O28,Back!$M$16:$N$20,2,0)","v":"#N/A"},{"$f":"+VLOOKUP('BASE DE RESPUESTAS'!P28,Back!$M$16:$N$20,2,0)","v":"#N/A"},{"$f":"+VLOOKUP('BASE DE RESPUESTAS'!Q28,Back!$M$16:$N$20,2,0)","v":"#N/A"},{"$f":"+VLOOKUP('BASE DE RESPUESTAS'!R28,Back!$M$16:$N$20,2,0)","v":"#N/A"},{"$f":"+VLOOKUP('BASE DE RESPUESTAS'!S28,Back!$M$16:$N$20,2,0)","v":"#N/A"},{"$f":"+VLOOKUP('BASE DE RESPUESTAS'!T28,Back!$M$16:$N$20,2,0)","v":"#N/A"},{"$f":"+VLOOKUP('BASE DE RESPUESTAS'!U28,Back!$M$16:$N$20,2,0)","v":"#N/A"},{"$f":"+VLOOKUP('BASE DE RESPUESTAS'!V28,Back!$M$16:$N$20,2,0)","v":"#N/A"},{"$f":"+VLOOKUP('BASE DE RESPUESTAS'!W28,Back!$M$16:$N$20,2,0)","v":"#N/A"},{"$f":"+VLOOKUP('BASE DE RESPUESTAS'!X28,Back!$M$16:$N$20,2,0)","v":"#N/A"},{"$f":"+VLOOKUP('BASE DE RESPUESTAS'!Y28,Back!$M$16:$N$20,2,0)","v":"#N/A"},{"$f":"+VLOOKUP('BASE DE RESPUESTAS'!Z28,Back!$M$16:$N$20,2,0)","v":"#N/A"},{"$f":"+VLOOKUP('BASE DE RESPUESTAS'!AA28,Back!$M$16:$N$20,2,0)","v":"#N/A"},{"$f":"+VLOOKUP('BASE DE RESPUESTAS'!AB28,Back!$M$16:$N$20,2,0)","v":"#N/A"},{"$f":"+VLOOKUP('BASE DE RESPUESTAS'!AC28,Back!$M$16:$N$20,2,0)","v":"#N/A"},{"$f":"+VLOOKUP('BASE DE RESPUESTAS'!AD28,Back!$M$16:$N$20,2,0)","v":"#N/A"},{"$f":"+VLOOKUP('BASE DE RESPUESTAS'!AE28,Back!$M$16:$N$20,2,0)","v":"#N/A"},{"$f":"+VLOOKUP('BASE DE RESPUESTAS'!AF28,Back!$M$16:$N$20,2,0)","v":"#N/A"},{"$f":"+VLOOKUP('BASE DE RESPUESTAS'!AG28,Back!$M$16:$N$20,2,0)","v":"#N/A"},{"$f":"+VLOOKUP('BASE DE RESPUESTAS'!AH28,Back!$M$16:$N$20,2,0)","v":"#N/A"},{"$f":"+VLOOKUP('BASE DE RESPUESTAS'!AI28,Back!$M$16:$N$20,2,0)","v":"#N/A"},{"$f":"+VLOOKUP('BASE DE RESPUESTAS'!AJ28,Back!$M$16:$N$20,2,0)","v":"#N/A"},{"$f":"+VLOOKUP('BASE DE RESPUESTAS'!AK28,Back!$M$16:$N$20,2,0)","v":"#N/A"},{"$f":"+VLOOKUP('BASE DE RESPUESTAS'!AL28,Back!$M$16:$N$20,2,0)","v":"#N/A"},{"$f":"+VLOOKUP('BASE DE RESPUESTAS'!AM28,Back!$M$16:$N$20,2,0)","v":"#N/A"},{"$f":"+VLOOKUP('BASE DE RESPUESTAS'!AN28,Back!$M$16:$N$20,2,0)","v":"#N/A"},{"$f":"+VLOOKUP('BASE DE RESPUESTAS'!AO28,Back!$M$16:$N$20,2,0)","v":"#N/A"},{"$f":"+VLOOKUP('BASE DE RESPUESTAS'!AP28,Back!$M$16:$N$20,2,0)","v":"#N/A"},{"$f":"+VLOOKUP('BASE DE RESPUESTAS'!AQ28,Back!$M$16:$N$20,2,0)","v":"#N/A"},{"$f":"+VLOOKUP('BASE DE RESPUESTAS'!AR28,Back!$M$16:$N$20,2,0)","v":"#N/A"},{"$f":"+VLOOKUP('BASE DE RESPUESTAS'!AS28,Back!$M$16:$N$20,2,0)","v":"#N/A"},{"$f":"+VLOOKUP('BASE DE RESPUESTAS'!AT28,Back!$M$16:$N$20,2,0)","v":"#N/A"},{"$f":"+VLOOKUP('BASE DE RESPUESTAS'!AU28,Back!$M$16:$N$20,2,0)","v":"#N/A"},{"$f":"+VLOOKUP('BASE DE RESPUESTAS'!AV28,Back!$M$16:$N$20,2,0)","v":"#N/A"},{"$f":"+VLOOKUP('BASE DE RESPUESTAS'!AW28,Back!$M$16:$N$20,2,0)","v":"#N/A"},{"$f":"+VLOOKUP('BASE DE RESPUESTAS'!AX28,Back!$M$16:$N$20,2,0)","v":"#N/A"},{"$f":"+VLOOKUP('BASE DE RESPUESTAS'!AY28,Back!$M$16:$N$20,2,0)","v":"#N/A"},{"$f":"+VLOOKUP('BASE DE RESPUESTAS'!AZ28,Back!$M$16:$N$20,2,0)","v":"#N/A"},{"$f":"+VLOOKUP('BASE DE RESPUESTAS'!BA28,Back!$M$16:$N$20,2,0)","v":"#N/A"},{"$f":"+VLOOKUP('BASE DE RESPUESTAS'!BB28,Back!$M$16:$N$20,2,0)","v":"#N/A"},{"$f":"+VLOOKUP('BASE DE RESPUESTAS'!BC28,Back!$M$16:$N$20,2,0)","v":"#N/A"},{"$f":"+VLOOKUP('BASE DE RESPUESTAS'!BD28,Back!$M$16:$N$20,2,0)","v":"#N/A"},{"$f":"+VLOOKUP('BASE DE RESPUESTAS'!BE28,Back!$M$16:$N$20,2,0)","v":"#N/A"}]
[null,null,null,"El o la estudiante expresa de forma coherente su mensaje verbal y gestual",23.0,"Cuando digo lo que pienso, cuido mi tono de voz y los gestos de mi cara.",null,{"$f":"+VLOOKUP('BASE DE RESPUESTAS'!H29,Back!$M$16:$N$20,2,0)","v":"#N/A"},{"$f":"+VLOOKUP('BASE DE RESPUESTAS'!I29,Back!$M$16:$N$20,2,0)","v":"#N/A"},{"$f":"+VLOOKUP('BASE DE RESPUESTAS'!J29,Back!$M$16:$N$20,2,0)","v":"#N/A"},{"$f":"+VLOOKUP('BASE DE RESPUESTAS'!K29,Back!$M$16:$N$20,2,0)","v":"#N/A"},{"$f":"+VLOOKUP('BASE DE RESPUESTAS'!L29,Back!$M$16:$N$20,2,0)","v":"#N/A"},{"$f":"+VLOOKUP('BASE DE RESPUESTAS'!M29,Back!$M$16:$N$20,2,0)","v":"#N/A"},{"$f":"+VLOOKUP('BASE DE RESPUESTAS'!N29,Back!$M$16:$N$20,2,0)","v":"#N/A"},{"$f":"+VLOOKUP('BASE DE RESPUESTAS'!O29,Back!$M$16:$N$20,2,0)","v":"#N/A"},{"$f":"+VLOOKUP('BASE DE RESPUESTAS'!P29,Back!$M$16:$N$20,2,0)","v":"#N/A"},{"$f":"+VLOOKUP('BASE DE RESPUESTAS'!Q29,Back!$M$16:$N$20,2,0)","v":"#N/A"},{"$f":"+VLOOKUP('BASE DE RESPUESTAS'!R29,Back!$M$16:$N$20,2,0)","v":"#N/A"},{"$f":"+VLOOKUP('BASE DE RESPUESTAS'!S29,Back!$M$16:$N$20,2,0)","v":"#N/A"},{"$f":"+VLOOKUP('BASE DE RESPUESTAS'!T29,Back!$M$16:$N$20,2,0)","v":"#N/A"},{"$f":"+VLOOKUP('BASE DE RESPUESTAS'!U29,Back!$M$16:$N$20,2,0)","v":"#N/A"},{"$f":"+VLOOKUP('BASE DE RESPUESTAS'!V29,Back!$M$16:$N$20,2,0)","v":"#N/A"},{"$f":"+VLOOKUP('BASE DE RESPUESTAS'!W29,Back!$M$16:$N$20,2,0)","v":"#N/A"},{"$f":"+VLOOKUP('BASE DE RESPUESTAS'!X29,Back!$M$16:$N$20,2,0)","v":"#N/A"},{"$f":"+VLOOKUP('BASE DE RESPUESTAS'!Y29,Back!$M$16:$N$20,2,0)","v":"#N/A"},{"$f":"+VLOOKUP('BASE DE RESPUESTAS'!Z29,Back!$M$16:$N$20,2,0)","v":"#N/A"},{"$f":"+VLOOKUP('BASE DE RESPUESTAS'!AA29,Back!$M$16:$N$20,2,0)","v":"#N/A"},{"$f":"+VLOOKUP('BASE DE RESPUESTAS'!AB29,Back!$M$16:$N$20,2,0)","v":"#N/A"},{"$f":"+VLOOKUP('BASE DE RESPUESTAS'!AC29,Back!$M$16:$N$20,2,0)","v":"#N/A"},{"$f":"+VLOOKUP('BASE DE RESPUESTAS'!AD29,Back!$M$16:$N$20,2,0)","v":"#N/A"},{"$f":"+VLOOKUP('BASE DE RESPUESTAS'!AE29,Back!$M$16:$N$20,2,0)","v":"#N/A"},{"$f":"+VLOOKUP('BASE DE RESPUESTAS'!AF29,Back!$M$16:$N$20,2,0)","v":"#N/A"},{"$f":"+VLOOKUP('BASE DE RESPUESTAS'!AG29,Back!$M$16:$N$20,2,0)","v":"#N/A"},{"$f":"+VLOOKUP('BASE DE RESPUESTAS'!AH29,Back!$M$16:$N$20,2,0)","v":"#N/A"},{"$f":"+VLOOKUP('BASE DE RESPUESTAS'!AI29,Back!$M$16:$N$20,2,0)","v":"#N/A"},{"$f":"+VLOOKUP('BASE DE RESPUESTAS'!AJ29,Back!$M$16:$N$20,2,0)","v":"#N/A"},{"$f":"+VLOOKUP('BASE DE RESPUESTAS'!AK29,Back!$M$16:$N$20,2,0)","v":"#N/A"},{"$f":"+VLOOKUP('BASE DE RESPUESTAS'!AL29,Back!$M$16:$N$20,2,0)","v":"#N/A"},{"$f":"+VLOOKUP('BASE DE RESPUESTAS'!AM29,Back!$M$16:$N$20,2,0)","v":"#N/A"},{"$f":"+VLOOKUP('BASE DE RESPUESTAS'!AN29,Back!$M$16:$N$20,2,0)","v":"#N/A"},{"$f":"+VLOOKUP('BASE DE RESPUESTAS'!AO29,Back!$M$16:$N$20,2,0)","v":"#N/A"},{"$f":"+VLOOKUP('BASE DE RESPUESTAS'!AP29,Back!$M$16:$N$20,2,0)","v":"#N/A"},{"$f":"+VLOOKUP('BASE DE RESPUESTAS'!AQ29,Back!$M$16:$N$20,2,0)","v":"#N/A"},{"$f":"+VLOOKUP('BASE DE RESPUESTAS'!AR29,Back!$M$16:$N$20,2,0)","v":"#N/A"},{"$f":"+VLOOKUP('BASE DE RESPUESTAS'!AS29,Back!$M$16:$N$20,2,0)","v":"#N/A"},{"$f":"+VLOOKUP('BASE DE RESPUESTAS'!AT29,Back!$M$16:$N$20,2,0)","v":"#N/A"},{"$f":"+VLOOKUP('BASE DE RESPUESTAS'!AU29,Back!$M$16:$N$20,2,0)","v":"#N/A"},{"$f":"+VLOOKUP('BASE DE RESPUESTAS'!AV29,Back!$M$16:$N$20,2,0)","v":"#N/A"},{"$f":"+VLOOKUP('BASE DE RESPUESTAS'!AW29,Back!$M$16:$N$20,2,0)","v":"#N/A"},{"$f":"+VLOOKUP('BASE DE RESPUESTAS'!AX29,Back!$M$16:$N$20,2,0)","v":"#N/A"},{"$f":"+VLOOKUP('BASE DE RESPUESTAS'!AY29,Back!$M$16:$N$20,2,0)","v":"#N/A"},{"$f":"+VLOOKUP('BASE DE RESPUESTAS'!AZ29,Back!$M$16:$N$20,2,0)","v":"#N/A"},{"$f":"+VLOOKUP('BASE DE RESPUESTAS'!BA29,Back!$M$16:$N$20,2,0)","v":"#N/A"},{"$f":"+VLOOKUP('BASE DE RESPUESTAS'!BB29,Back!$M$16:$N$20,2,0)","v":"#N/A"},{"$f":"+VLOOKUP('BASE DE RESPUESTAS'!BC29,Back!$M$16:$N$20,2,0)","v":"#N/A"},{"$f":"+VLOOKUP('BASE DE RESPUESTAS'!BD29,Back!$M$16:$N$20,2,0)","v":"#N/A"},{"$f":"+VLOOKUP('BASE DE RESPUESTAS'!BE29,Back!$M$16:$N$20,2,0)","v":"#N/A"}]
[null,"HSE","Trabajo en equipo","El o la estudiante es capaz de trabajar en equipo para alcanzar un objetivo común.",24.0,"Me gusta trabajar en equipo y apoyarnos entre todos para alcanzar nuestra meta.",null,{"$f":"+VLOOKUP('BASE DE RESPUESTAS'!H30,Back!$M$16:$N$20,2,0)","v":"#N/A"},{"$f":"+VLOOKUP('BASE DE RESPUESTAS'!I30,Back!$M$16:$N$20,2,0)","v":"#N/A"},{"$f":"+VLOOKUP('BASE DE RESPUESTAS'!J30,Back!$M$16:$N$20,2,0)","v":"#N/A"},{"$f":"+VLOOKUP('BASE DE RESPUESTAS'!K30,Back!$M$16:$N$20,2,0)","v":"#N/A"},{"$f":"+VLOOKUP('BASE DE RESPUESTAS'!L30,Back!$M$16:$N$20,2,0)","v":"#N/A"},{"$f":"+VLOOKUP('BASE DE RESPUESTAS'!M30,Back!$M$16:$N$20,2,0)","v":"#N/A"},{"$f":"+VLOOKUP('BASE DE RESPUESTAS'!N30,Back!$M$16:$N$20,2,0)","v":"#N/A"},{"$f":"+VLOOKUP('BASE DE RESPUESTAS'!O30,Back!$M$16:$N$20,2,0)","v":"#N/A"},{"$f":"+VLOOKUP('BASE DE RESPUESTAS'!P30,Back!$M$16:$N$20,2,0)","v":"#N/A"},{"$f":"+VLOOKUP('BASE DE RESPUESTAS'!Q30,Back!$M$16:$N$20,2,0)","v":"#N/A"},{"$f":"+VLOOKUP('BASE DE RESPUESTAS'!R30,Back!$M$16:$N$20,2,0)","v":"#N/A"},{"$f":"+VLOOKUP('BASE DE RESPUESTAS'!S30,Back!$M$16:$N$20,2,0)","v":"#N/A"},{"$f":"+VLOOKUP('BASE DE RESPUESTAS'!T30,Back!$M$16:$N$20,2,0)","v":"#N/A"},{"$f":"+VLOOKUP('BASE DE RESPUESTAS'!U30,Back!$M$16:$N$20,2,0)","v":"#N/A"},{"$f":"+VLOOKUP('BASE DE RESPUESTAS'!V30,Back!$M$16:$N$20,2,0)","v":"#N/A"},{"$f":"+VLOOKUP('BASE DE RESPUESTAS'!W30,Back!$M$16:$N$20,2,0)","v":"#N/A"},{"$f":"+VLOOKUP('BASE DE RESPUESTAS'!X30,Back!$M$16:$N$20,2,0)","v":"#N/A"},{"$f":"+VLOOKUP('BASE DE RESPUESTAS'!Y30,Back!$M$16:$N$20,2,0)","v":"#N/A"},{"$f":"+VLOOKUP('BASE DE RESPUESTAS'!Z30,Back!$M$16:$N$20,2,0)","v":"#N/A"},{"$f":"+VLOOKUP('BASE DE RESPUESTAS'!AA30,Back!$M$16:$N$20,2,0)","v":"#N/A"},{"$f":"+VLOOKUP('BASE DE RESPUESTAS'!AB30,Back!$M$16:$N$20,2,0)","v":"#N/A"},{"$f":"+VLOOKUP('BASE DE RESPUESTAS'!AC30,Back!$M$16:$N$20,2,0)","v":"#N/A"},{"$f":"+VLOOKUP('BASE DE RESPUESTAS'!AD30,Back!$M$16:$N$20,2,0)","v":"#N/A"},{"$f":"+VLOOKUP('BASE DE RESPUESTAS'!AE30,Back!$M$16:$N$20,2,0)","v":"#N/A"},{"$f":"+VLOOKUP('BASE DE RESPUESTAS'!AF30,Back!$M$16:$N$20,2,0)","v":"#N/A"},{"$f":"+VLOOKUP('BASE DE RESPUESTAS'!AG30,Back!$M$16:$N$20,2,0)","v":"#N/A"},{"$f":"+VLOOKUP('BASE DE RESPUESTAS'!AH30,Back!$M$16:$N$20,2,0)","v":"#N/A"},{"$f":"+VLOOKUP('BASE DE RESPUESTAS'!AI30,Back!$M$16:$N$20,2,0)","v":"#N/A"},{"$f":"+VLOOKUP('BASE DE RESPUESTAS'!AJ30,Back!$M$16:$N$20,2,0)","v":"#N/A"},{"$f":"+VLOOKUP('BASE DE RESPUESTAS'!AK30,Back!$M$16:$N$20,2,0)","v":"#N/A"},{"$f":"+VLOOKUP('BASE DE RESPUESTAS'!AL30,Back!$M$16:$N$20,2,0)","v":"#N/A"},{"$f":"+VLOOKUP('BASE DE RESPUESTAS'!AM30,Back!$M$16:$N$20,2,0)","v":"#N/A"},{"$f":"+VLOOKUP('BASE DE RESPUESTAS'!AN30,Back!$M$16:$N$20,2,0)","v":"#N/A"},{"$f":"+VLOOKUP('BASE DE RESPUESTAS'!AO30,Back!$M$16:$N$20,2,0)","v":"#N/A"},{"$f":"+VLOOKUP('BASE DE RESPUESTAS'!AP30,Back!$M$16:$N$20,2,0)","v":"#N/A"},{"$f":"+VLOOKUP('BASE DE RESPUESTAS'!AQ30,Back!$M$16:$N$20,2,0)","v":"#N/A"},{"$f":"+VLOOKUP('BASE DE RESPUESTAS'!AR30,Back!$M$16:$N$20,2,0)","v":"#N/A"},{"$f":"+VLOOKUP('BASE DE RESPUESTAS'!AS30,Back!$M$16:$N$20,2,0)","v":"#N/A"},{"$f":"+VLOOKUP('BASE DE RESPUESTAS'!AT30,Back!$M$16:$N$20,2,0)","v":"#N/A"},{"$f":"+VLOOKUP('BASE DE RESPUESTAS'!AU30,Back!$M$16:$N$20,2,0)","v":"#N/A"},{"$f":"+VLOOKUP('BASE DE RESPUESTAS'!AV30,Back!$M$16:$N$20,2,0)","v":"#N/A"},{"$f":"+VLOOKUP('BASE DE RESPUESTAS'!AW30,Back!$M$16:$N$20,2,0)","v":"#N/A"},{"$f":"+VLOOKUP('BASE DE RESPUESTAS'!AX30,Back!$M$16:$N$20,2,0)","v":"#N/A"},{"$f":"+VLOOKUP('BASE DE RESPUESTAS'!AY30,Back!$M$16:$N$20,2,0)","v":"#N/A"},{"$f":"+VLOOKUP('BASE DE RESPUESTAS'!AZ30,Back!$M$16:$N$20,2,0)","v":"#N/A"},{"$f":"+VLOOKUP('BASE DE RESPUESTAS'!BA30,Back!$M$16:$N$20,2,0)","v":"#N/A"},{"$f":"+VLOOKUP('BASE DE RESPUESTAS'!BB30,Back!$M$16:$N$20,2,0)","v":"#N/A"},{"$f":"+VLOOKUP('BASE DE RESPUESTAS'!BC30,Back!$M$16:$N$20,2,0)","v":"#N/A"},{"$f":"+VLOOKUP('BASE DE RESPUESTAS'!BD30,Back!$M$16:$N$20,2,0)","v":"#N/A"},{"$f":"+VLOOKUP('BASE DE RESPUESTAS'!BE30,Back!$M$16:$N$20,2,0)","v":"#N/A"}]
[null,null,null,"El o la estudiante considera y valora las diferentes características de sus compañeros, al distribuir tareas.",25.0,"Cuando trabajo en equipo, nos distribuimos las tareas de acuerdo a nuestras habilidades.",null,{"$f":"+VLOOKUP('BASE DE RESPUESTAS'!H31,Back!$M$16:$N$20,2,0)","v":"#N/A"},{"$f":"+VLOOKUP('BASE DE RESPUESTAS'!I31,Back!$M$16:$N$20,2,0)","v":"#N/A"},{"$f":"+VLOOKUP('BASE DE RESPUESTAS'!J31,Back!$M$16:$N$20,2,0)","v":"#N/A"},{"$f":"+VLOOKUP('BASE DE RESPUESTAS'!K31,Back!$M$16:$N$20,2,0)","v":"#N/A"},{"$f":"+VLOOKUP('BASE DE RESPUESTAS'!L31,Back!$M$16:$N$20,2,0)","v":"#N/A"},{"$f":"+VLOOKUP('BASE DE RESPUESTAS'!M31,Back!$M$16:$N$20,2,0)","v":"#N/A"},{"$f":"+VLOOKUP('BASE DE RESPUESTAS'!N31,Back!$M$16:$N$20,2,0)","v":"#N/A"},{"$f":"+VLOOKUP('BASE DE RESPUESTAS'!O31,Back!$M$16:$N$20,2,0)","v":"#N/A"},{"$f":"+VLOOKUP('BASE DE RESPUESTAS'!P31,Back!$M$16:$N$20,2,0)","v":"#N/A"},{"$f":"+VLOOKUP('BASE DE RESPUESTAS'!Q31,Back!$M$16:$N$20,2,0)","v":"#N/A"},{"$f":"+VLOOKUP('BASE DE RESPUESTAS'!R31,Back!$M$16:$N$20,2,0)","v":"#N/A"},{"$f":"+VLOOKUP('BASE DE RESPUESTAS'!S31,Back!$M$16:$N$20,2,0)","v":"#N/A"},{"$f":"+VLOOKUP('BASE DE RESPUESTAS'!T31,Back!$M$16:$N$20,2,0)","v":"#N/A"},{"$f":"+VLOOKUP('BASE DE RESPUESTAS'!U31,Back!$M$16:$N$20,2,0)","v":"#N/A"},{"$f":"+VLOOKUP('BASE DE RESPUESTAS'!V31,Back!$M$16:$N$20,2,0)","v":"#N/A"},{"$f":"+VLOOKUP('BASE DE RESPUESTAS'!W31,Back!$M$16:$N$20,2,0)","v":"#N/A"},{"$f":"+VLOOKUP('BASE DE RESPUESTAS'!X31,Back!$M$16:$N$20,2,0)","v":"#N/A"},{"$f":"+VLOOKUP('BASE DE RESPUESTAS'!Y31,Back!$M$16:$N$20,2,0)","v":"#N/A"},{"$f":"+VLOOKUP('BASE DE RESPUESTAS'!Z31,Back!$M$16:$N$20,2,0)","v":"#N/A"},{"$f":"+VLOOKUP('BASE DE RESPUESTAS'!AA31,Back!$M$16:$N$20,2,0)","v":"#N/A"},{"$f":"+VLOOKUP('BASE DE RESPUESTAS'!AB31,Back!$M$16:$N$20,2,0)","v":"#N/A"},{"$f":"+VLOOKUP('BASE DE RESPUESTAS'!AC31,Back!$M$16:$N$20,2,0)","v":"#N/A"},{"$f":"+VLOOKUP('BASE DE RESPUESTAS'!AD31,Back!$M$16:$N$20,2,0)","v":"#N/A"},{"$f":"+VLOOKUP('BASE DE RESPUESTAS'!AE31,Back!$M$16:$N$20,2,0)","v":"#N/A"},{"$f":"+VLOOKUP('BASE DE RESPUESTAS'!AF31,Back!$M$16:$N$20,2,0)","v":"#N/A"},{"$f":"+VLOOKUP('BASE DE RESPUESTAS'!AG31,Back!$M$16:$N$20,2,0)","v":"#N/A"},{"$f":"+VLOOKUP('BASE DE RESPUESTAS'!AH31,Back!$M$16:$N$20,2,0)","v":"#N/A"},{"$f":"+VLOOKUP('BASE DE RESPUESTAS'!AI31,Back!$M$16:$N$20,2,0)","v":"#N/A"},{"$f":"+VLOOKUP('BASE DE RESPUESTAS'!AJ31,Back!$M$16:$N$20,2,0)","v":"#N/A"},{"$f":"+VLOOKUP('BASE DE RESPUESTAS'!AK31,Back!$M$16:$N$20,2,0)","v":"#N/A"},{"$f":"+VLOOKUP('BASE DE RESPUESTAS'!AL31,Back!$M$16:$N$20,2,0)","v":"#N/A"},{"$f":"+VLOOKUP('BASE DE RESPUESTAS'!AM31,Back!$M$16:$N$20,2,0)","v":"#N/A"},{"$f":"+VLOOKUP('BASE DE RESPUESTAS'!AN31,Back!$M$16:$N$20,2,0)","v":"#N/A"},{"$f":"+VLOOKUP('BASE DE RESPUESTAS'!AO31,Back!$M$16:$N$20,2,0)","v":"#N/A"},{"$f":"+VLOOKUP('BASE DE RESPUESTAS'!AP31,Back!$M$16:$N$20,2,0)","v":"#N/A"},{"$f":"+VLOOKUP('BASE DE RESPUESTAS'!AQ31,Back!$M$16:$N$20,2,0)","v":"#N/A"},{"$f":"+VLOOKUP('BASE DE RESPUESTAS'!AR31,Back!$M$16:$N$20,2,0)","v":"#N/A"},{"$f":"+VLOOKUP('BASE DE RESPUESTAS'!AS31,Back!$M$16:$N$20,2,0)","v":"#N/A"},{"$f":"+VLOOKUP('BASE DE RESPUESTAS'!AT31,Back!$M$16:$N$20,2,0)","v":"#N/A"},{"$f":"+VLOOKUP('BASE DE RESPUESTAS'!AU31,Back!$M$16:$N$20,2,0)","v":"#N/A"},{"$f":"+VLOOKUP('BASE DE RESPUESTAS'!AV31,Back!$M$16:$N$20,2,0)","v":"#N/A"},{"$f":"+VLOOKUP('BASE DE RESPUESTAS'!AW31,Back!$M$16:$N$20,2,0)","v":"#N/A"},{"$f":"+VLOOKUP('BASE DE RESPUESTAS'!AX31,Back!$M$16:$N$20,2,0)","v":"#N/A"},{"$f":"+VLOOKUP('BASE DE RESPUESTAS'!AY31,Back!$M$16:$N$20,2,0)","v":"#N/A"},{"$f":"+VLOOKUP('BASE DE RESPUESTAS'!AZ31,Back!$M$16:$N$20,2,0)","v":"#N/A"},{"$f":"+VLOOKUP('BASE DE RESPUESTAS'!BA31,Back!$M$16:$N$20,2,0)","v":"#N/A"},{"$f":"+VLOOKUP('BASE DE RESPUESTAS'!BB31,Back!$M$16:$N$20,2,0)","v":"#N/A"},{"$f":"+VLOOKUP('BASE DE RESPUESTAS'!BC31,Back!$M$16:$N$20,2,0)","v":"#N/A"},{"$f":"+VLOOKUP('BASE DE RESPUESTAS'!BD31,Back!$M$16:$N$20,2,0)","v":"#N/A"},{"$f":"+VLOOKUP('BASE DE RESPUESTAS'!BE31,Back!$M$16:$N$20,2,0)","v":"#N/A"}]
[null,null,null,"El o la estudiante cumple con las indicaciones y plazos de las tareas contribuyendo al trabajo en equipo.",26.0,"Cumplo a tiempo con las tareas que me encarga el equipo.",null,{"$f":"+VLOOKUP('BASE DE RESPUESTAS'!H32,Back!$M$16:$N$20,2,0)","v":"#N/A"},{"$f":"+VLOOKUP('BASE DE RESPUESTAS'!I32,Back!$M$16:$N$20,2,0)","v":"#N/A"},{"$f":"+VLOOKUP('BASE DE RESPUESTAS'!J32,Back!$M$16:$N$20,2,0)","v":"#N/A"},{"$f":"+VLOOKUP('BASE DE RESPUESTAS'!K32,Back!$M$16:$N$20,2,0)","v":"#N/A"},{"$f":"+VLOOKUP('BASE DE RESPUESTAS'!L32,Back!$M$16:$N$20,2,0)","v":"#N/A"},{"$f":"+VLOOKUP('BASE DE RESPUESTAS'!M32,Back!$M$16:$N$20,2,0)","v":"#N/A"},{"$f":"+VLOOKUP('BASE DE RESPUESTAS'!N32,Back!$M$16:$N$20,2,0)","v":"#N/A"},{"$f":"+VLOOKUP('BASE DE RESPUESTAS'!O32,Back!$M$16:$N$20,2,0)","v":"#N/A"},{"$f":"+VLOOKUP('BASE DE RESPUESTAS'!P32,Back!$M$16:$N$20,2,0)","v":"#N/A"},{"$f":"+VLOOKUP('BASE DE RESPUESTAS'!Q32,Back!$M$16:$N$20,2,0)","v":"#N/A"},{"$f":"+VLOOKUP('BASE DE RESPUESTAS'!R32,Back!$M$16:$N$20,2,0)","v":"#N/A"},{"$f":"+VLOOKUP('BASE DE RESPUESTAS'!S32,Back!$M$16:$N$20,2,0)","v":"#N/A"},{"$f":"+VLOOKUP('BASE DE RESPUESTAS'!T32,Back!$M$16:$N$20,2,0)","v":"#N/A"},{"$f":"+VLOOKUP('BASE DE RESPUESTAS'!U32,Back!$M$16:$N$20,2,0)","v":"#N/A"},{"$f":"+VLOOKUP('BASE DE RESPUESTAS'!V32,Back!$M$16:$N$20,2,0)","v":"#N/A"},{"$f":"+VLOOKUP('BASE DE RESPUESTAS'!W32,Back!$M$16:$N$20,2,0)","v":"#N/A"},{"$f":"+VLOOKUP('BASE DE RESPUESTAS'!X32,Back!$M$16:$N$20,2,0)","v":"#N/A"},{"$f":"+VLOOKUP('BASE DE RESPUESTAS'!Y32,Back!$M$16:$N$20,2,0)","v":"#N/A"},{"$f":"+VLOOKUP('BASE DE RESPUESTAS'!Z32,Back!$M$16:$N$20,2,0)","v":"#N/A"},{"$f":"+VLOOKUP('BASE DE RESPUESTAS'!AA32,Back!$M$16:$N$20,2,0)","v":"#N/A"},{"$f":"+VLOOKUP('BASE DE RESPUESTAS'!AB32,Back!$M$16:$N$20,2,0)","v":"#N/A"},{"$f":"+VLOOKUP('BASE DE RESPUESTAS'!AC32,Back!$M$16:$N$20,2,0)","v":"#N/A"},{"$f":"+VLOOKUP('BASE DE RESPUESTAS'!AD32,Back!$M$16:$N$20,2,0)","v":"#N/A"},{"$f":"+VLOOKUP('BASE DE RESPUESTAS'!AE32,Back!$M$16:$N$20,2,0)","v":"#N/A"},{"$f":"+VLOOKUP('BASE DE RESPUESTAS'!AF32,Back!$M$16:$N$20,2,0)","v":"#N/A"},{"$f":"+VLOOKUP('BASE DE RESPUESTAS'!AG32,Back!$M$16:$N$20,2,0)","v":"#N/A"},{"$f":"+VLOOKUP('BASE DE RESPUESTAS'!AH32,Back!$M$16:$N$20,2,0)","v":"#N/A"},{"$f":"+VLOOKUP('BASE DE RESPUESTAS'!AI32,Back!$M$16:$N$20,2,0)","v":"#N/A"},{"$f":"+VLOOKUP('BASE DE RESPUESTAS'!AJ32,Back!$M$16:$N$20,2,0)","v":"#N/A"},{"$f":"+VLOOKUP('BASE DE RESPUESTAS'!AK32,Back!$M$16:$N$20,2,0)","v":"#N/A"},{"$f":"+VLOOKUP('BASE DE RESPUESTAS'!AL32,Back!$M$16:$N$20,2,0)","v":"#N/A"},{"$f":"+VLOOKUP('BASE DE RESPUESTAS'!AM32,Back!$M$16:$N$20,2,0)","v":"#N/A"},{"$f":"+VLOOKUP('BASE DE RESPUESTAS'!AN32,Back!$M$16:$N$20,2,0)","v":"#N/A"},{"$f":"+VLOOKUP('BASE DE RESPUESTAS'!AO32,Back!$M$16:$N$20,2,0)","v":"#N/A"},{"$f":"+VLOOKUP('BASE DE RESPUESTAS'!AP32,Back!$M$16:$N$20,2,0)","v":"#N/A"},{"$f":"+VLOOKUP('BASE DE RESPUESTAS'!AQ32,Back!$M$16:$N$20,2,0)","v":"#N/A"},{"$f":"+VLOOKUP('BASE DE RESPUESTAS'!AR32,Back!$M$16:$N$20,2,0)","v":"#N/A"},{"$f":"+VLOOKUP('BASE DE RESPUESTAS'!AS32,Back!$M$16:$N$20,2,0)","v":"#N/A"},{"$f":"+VLOOKUP('BASE DE RESPUESTAS'!AT32,Back!$M$16:$N$20,2,0)","v":"#N/A"},{"$f":"+VLOOKUP('BASE DE RESPUESTAS'!AU32,Back!$M$16:$N$20,2,0)","v":"#N/A"},{"$f":"+VLOOKUP('BASE DE RESPUESTAS'!AV32,Back!$M$16:$N$20,2,0)","v":"#N/A"},{"$f":"+VLOOKUP('BASE DE RESPUESTAS'!AW32,Back!$M$16:$N$20,2,0)","v":"#N/A"},{"$f":"+VLOOKUP('BASE DE RESPUESTAS'!AX32,Back!$M$16:$N$20,2,0)","v":"#N/A"},{"$f":"+VLOOKUP('BASE DE RESPUESTAS'!AY32,Back!$M$16:$N$20,2,0)","v":"#N/A"},{"$f":"+VLOOKUP('BASE DE RESPUESTAS'!AZ32,Back!$M$16:$N$20,2,0)","v":"#N/A"},{"$f":"+VLOOKUP('BASE DE RESPUESTAS'!BA32,Back!$M$16:$N$20,2,0)","v":"#N/A"},{"$f":"+VLOOKUP('BASE DE RESPUESTAS'!BB32,Back!$M$16:$N$20,2,0)","v":"#N/A"},{"$f":"+VLOOKUP('BASE DE RESPUESTAS'!BC32,Back!$M$16:$N$20,2,0)","v":"#N/A"},{"$f":"+VLOOKUP('BASE DE RESPUESTAS'!BD32,Back!$M$16:$N$20,2,0)","v":"#N/A"},{"$f":"+VLOOKUP('BASE DE RESPUESTAS'!BE32,Back!$M$16:$N$20,2,0)","v":"#N/A"}]
[null,"HSE","Empatía","El o la estudiante comprende las emociones de otras personas a través de sus gestos y expresiones verbales.",27.0,"Me doy cuenta de lo que sienten las otras personas por sus palabras y sus gestos.",null,{"$f":"+VLOOKUP('BASE DE RESPUESTAS'!H33,Back!$M$16:$N$20,2,0)","v":"#N/A"},{"$f":"+VLOOKUP('BASE DE RESPUESTAS'!I33,Back!$M$16:$N$20,2,0)","v":"#N/A"},{"$f":"+VLOOKUP('BASE DE RESPUESTAS'!J33,Back!$M$16:$N$20,2,0)","v":"#N/A"},{"$f":"+VLOOKUP('BASE DE RESPUESTAS'!K33,Back!$M$16:$N$20,2,0)","v":"#N/A"},{"$f":"+VLOOKUP('BASE DE RESPUESTAS'!L33,Back!$M$16:$N$20,2,0)","v":"#N/A"},{"$f":"+VLOOKUP('BASE DE RESPUESTAS'!M33,Back!$M$16:$N$20,2,0)","v":"#N/A"},{"$f":"+VLOOKUP('BASE DE RESPUESTAS'!N33,Back!$M$16:$N$20,2,0)","v":"#N/A"},{"$f":"+VLOOKUP('BASE DE RESPUESTAS'!O33,Back!$M$16:$N$20,2,0)","v":"#N/A"},{"$f":"+VLOOKUP('BASE DE RESPUESTAS'!P33,Back!$M$16:$N$20,2,0)","v":"#N/A"},{"$f":"+VLOOKUP('BASE DE RESPUESTAS'!Q33,Back!$M$16:$N$20,2,0)","v":"#N/A"},{"$f":"+VLOOKUP('BASE DE RESPUESTAS'!R33,Back!$M$16:$N$20,2,0)","v":"#N/A"},{"$f":"+VLOOKUP('BASE DE RESPUESTAS'!S33,Back!$M$16:$N$20,2,0)","v":"#N/A"},{"$f":"+VLOOKUP('BASE DE RESPUESTAS'!T33,Back!$M$16:$N$20,2,0)","v":"#N/A"},{"$f":"+VLOOKUP('BASE DE RESPUESTAS'!U33,Back!$M$16:$N$20,2,0)","v":"#N/A"},{"$f":"+VLOOKUP('BASE DE RESPUESTAS'!V33,Back!$M$16:$N$20,2,0)","v":"#N/A"},{"$f":"+VLOOKUP('BASE DE RESPUESTAS'!W33,Back!$M$16:$N$20,2,0)","v":"#N/A"},{"$f":"+VLOOKUP('BASE DE RESPUESTAS'!X33,Back!$M$16:$N$20,2,0)","v":"#N/A"},{"$f":"+VLOOKUP('BASE DE RESPUESTAS'!Y33,Back!$M$16:$N$20,2,0)","v":"#N/A"},{"$f":"+VLOOKUP('BASE DE RESPUESTAS'!Z33,Back!$M$16:$N$20,2,0)","v":"#N/A"},{"$f":"+VLOOKUP('BASE DE RESPUESTAS'!AA33,Back!$M$16:$N$20,2,0)","v":"#N/A"},{"$f":"+VLOOKUP('BASE DE RESPUESTAS'!AB33,Back!$M$16:$N$20,2,0)","v":"#N/A"},{"$f":"+VLOOKUP('BASE DE RESPUESTAS'!AC33,Back!$M$16:$N$20,2,0)","v":"#N/A"},{"$f":"+VLOOKUP('BASE DE RESPUESTAS'!AD33,Back!$M$16:$N$20,2,0)","v":"#N/A"},{"$f":"+VLOOKUP('BASE DE RESPUESTAS'!AE33,Back!$M$16:$N$20,2,0)","v":"#N/A"},{"$f":"+VLOOKUP('BASE DE RESPUESTAS'!AF33,Back!$M$16:$N$20,2,0)","v":"#N/A"},{"$f":"+VLOOKUP('BASE DE RESPUESTAS'!AG33,Back!$M$16:$N$20,2,0)","v":"#N/A"},{"$f":"+VLOOKUP('BASE DE RESPUESTAS'!AH33,Back!$M$16:$N$20,2,0)","v":"#N/A"},{"$f":"+VLOOKUP('BASE DE RESPUESTAS'!AI33,Back!$M$16:$N$20,2,0)","v":"#N/A"},{"$f":"+VLOOKUP('BASE DE RESPUESTAS'!AJ33,Back!$M$16:$N$20,2,0)","v":"#N/A"},{"$f":"+VLOOKUP('BASE DE RESPUESTAS'!AK33,Back!$M$16:$N$20,2,0)","v":"#N/A"},{"$f":"+VLOOKUP('BASE DE RESPUESTAS'!AL33,Back!$M$16:$N$20,2,0)","v":"#N/A"},{"$f":"+VLOOKUP('BASE DE RESPUESTAS'!AM33,Back!$M$16:$N$20,2,0)","v":"#N/A"},{"$f":"+VLOOKUP('BASE DE RESPUESTAS'!AN33,Back!$M$16:$N$20,2,0)","v":"#N/A"},{"$f":"+VLOOKUP('BASE DE RESPUESTAS'!AO33,Back!$M$16:$N$20,2,0)","v":"#N/A"},{"$f":"+VLOOKUP('BASE DE RESPUESTAS'!AP33,Back!$M$16:$N$20,2,0)","v":"#N/A"},{"$f":"+VLOOKUP('BASE DE RESPUESTAS'!AQ33,Back!$M$16:$N$20,2,0)","v":"#N/A"},{"$f":"+VLOOKUP('BASE DE RESPUESTAS'!AR33,Back!$M$16:$N$20,2,0)","v":"#N/A"},{"$f":"+VLOOKUP('BASE DE RESPUESTAS'!AS33,Back!$M$16:$N$20,2,0)","v":"#N/A"},{"$f":"+VLOOKUP('BASE DE RESPUESTAS'!AT33,Back!$M$16:$N$20,2,0)","v":"#N/A"},{"$f":"+VLOOKUP('BASE DE RESPUESTAS'!AU33,Back!$M$16:$N$20,2,0)","v":"#N/A"},{"$f":"+VLOOKUP('BASE DE RESPUESTAS'!AV33,Back!$M$16:$N$20,2,0)","v":"#N/A"},{"$f":"+VLOOKUP('BASE DE RESPUESTAS'!AW33,Back!$M$16:$N$20,2,0)","v":"#N/A"},{"$f":"+VLOOKUP('BASE DE RESPUESTAS'!AX33,Back!$M$16:$N$20,2,0)","v":"#N/A"},{"$f":"+VLOOKUP('BASE DE RESPUESTAS'!AY33,Back!$M$16:$N$20,2,0)","v":"#N/A"},{"$f":"+VLOOKUP('BASE DE RESPUESTAS'!AZ33,Back!$M$16:$N$20,2,0)","v":"#N/A"},{"$f":"+VLOOKUP('BASE DE RESPUESTAS'!BA33,Back!$M$16:$N$20,2,0)","v":"#N/A"},{"$f":"+VLOOKUP('BASE DE RESPUESTAS'!BB33,Back!$M$16:$N$20,2,0)","v":"#N/A"},{"$f":"+VLOOKUP('BASE DE RESPUESTAS'!BC33,Back!$M$16:$N$20,2,0)","v":"#N/A"},{"$f":"+VLOOKUP('BASE DE RESPUESTAS'!BD33,Back!$M$16:$N$20,2,0)","v":"#N/A"},{"$f":"+VLOOKUP('BASE DE RESPUESTAS'!BE33,Back!$M$16:$N$20,2,0)","v":"#N/A"}]
[null,null,null,"El o la estudiante entiende la situación o necesidades que está viviendo la otra persona y busca como ayudarla.",28.0,"Cuando veo que alguien está triste, preocupado o necesita ayuda, busco como apoyarlo.",null,{"$f":"+VLOOKUP('BASE DE RESPUESTAS'!H34,Back!$M$16:$N$20,2,0)","v":"#N/A"},{"$f":"+VLOOKUP('BASE DE RESPUESTAS'!I34,Back!$M$16:$N$20,2,0)","v":"#N/A"},{"$f":"+VLOOKUP('BASE DE RESPUESTAS'!J34,Back!$M$16:$N$20,2,0)","v":"#N/A"},{"$f":"+VLOOKUP('BASE DE RESPUESTAS'!K34,Back!$M$16:$N$20,2,0)","v":"#N/A"},{"$f":"+VLOOKUP('BASE DE RESPUESTAS'!L34,Back!$M$16:$N$20,2,0)","v":"#N/A"},{"$f":"+VLOOKUP('BASE DE RESPUESTAS'!M34,Back!$M$16:$N$20,2,0)","v":"#N/A"},{"$f":"+VLOOKUP('BASE DE RESPUESTAS'!N34,Back!$M$16:$N$20,2,0)","v":"#N/A"},{"$f":"+VLOOKUP('BASE DE RESPUESTAS'!O34,Back!$M$16:$N$20,2,0)","v":"#N/A"},{"$f":"+VLOOKUP('BASE DE RESPUESTAS'!P34,Back!$M$16:$N$20,2,0)","v":"#N/A"},{"$f":"+VLOOKUP('BASE DE RESPUESTAS'!Q34,Back!$M$16:$N$20,2,0)","v":"#N/A"},{"$f":"+VLOOKUP('BASE DE RESPUESTAS'!R34,Back!$M$16:$N$20,2,0)","v":"#N/A"},{"$f":"+VLOOKUP('BASE DE RESPUESTAS'!S34,Back!$M$16:$N$20,2,0)","v":"#N/A"},{"$f":"+VLOOKUP('BASE DE RESPUESTAS'!T34,Back!$M$16:$N$20,2,0)","v":"#N/A"},{"$f":"+VLOOKUP('BASE DE RESPUESTAS'!U34,Back!$M$16:$N$20,2,0)","v":"#N/A"},{"$f":"+VLOOKUP('BASE DE RESPUESTAS'!V34,Back!$M$16:$N$20,2,0)","v":"#N/A"},{"$f":"+VLOOKUP('BASE DE RESPUESTAS'!W34,Back!$M$16:$N$20,2,0)","v":"#N/A"},{"$f":"+VLOOKUP('BASE DE RESPUESTAS'!X34,Back!$M$16:$N$20,2,0)","v":"#N/A"},{"$f":"+VLOOKUP('BASE DE RESPUESTAS'!Y34,Back!$M$16:$N$20,2,0)","v":"#N/A"},{"$f":"+VLOOKUP('BASE DE RESPUESTAS'!Z34,Back!$M$16:$N$20,2,0)","v":"#N/A"},{"$f":"+VLOOKUP('BASE DE RESPUESTAS'!AA34,Back!$M$16:$N$20,2,0)","v":"#N/A"},{"$f":"+VLOOKUP('BASE DE RESPUESTAS'!AB34,Back!$M$16:$N$20,2,0)","v":"#N/A"},{"$f":"+VLOOKUP('BASE DE RESPUESTAS'!AC34,Back!$M$16:$N$20,2,0)","v":"#N/A"},{"$f":"+VLOOKUP('BASE DE RESPUESTAS'!AD34,Back!$M$16:$N$20,2,0)","v":"#N/A"},{"$f":"+VLOOKUP('BASE DE RESPUESTAS'!AE34,Back!$M$16:$N$20,2,0)","v":"#N/A"},{"$f":"+VLOOKUP('BASE DE RESPUESTAS'!AF34,Back!$M$16:$N$20,2,0)","v":"#N/A"},{"$f":"+VLOOKUP('BASE DE RESPUESTAS'!AG34,Back!$M$16:$N$20,2,0)","v":"#N/A"},{"$f":"+VLOOKUP('BASE DE RESPUESTAS'!AH34,Back!$M$16:$N$20,2,0)","v":"#N/A"},{"$f":"+VLOOKUP('BASE DE RESPUESTAS'!AI34,Back!$M$16:$N$20,2,0)","v":"#N/A"},{"$f":"+VLOOKUP('BASE DE RESPUESTAS'!AJ34,Back!$M$16:$N$20,2,0)","v":"#N/A"},{"$f":"+VLOOKUP('BASE DE RESPUESTAS'!AK34,Back!$M$16:$N$20,2,0)","v":"#N/A"},{"$f":"+VLOOKUP('BASE DE RESPUESTAS'!AL34,Back!$M$16:$N$20,2,0)","v":"#N/A"},{"$f":"+VLOOKUP('BASE DE RESPUESTAS'!AM34,Back!$M$16:$N$20,2,0)","v":"#N/A"},{"$f":"+VLOOKUP('BASE DE RESPUESTAS'!AN34,Back!$M$16:$N$20,2,0)","v":"#N/A"},{"$f":"+VLOOKUP('BASE DE RESPUESTAS'!AO34,Back!$M$16:$N$20,2,0)","v":"#N/A"},{"$f":"+VLOOKUP('BASE DE RESPUESTAS'!AP34,Back!$M$16:$N$20,2,0)","v":"#N/A"},{"$f":"+VLOOKUP('BASE DE RESPUESTAS'!AQ34,Back!$M$16:$N$20,2,0)","v":"#N/A"},{"$f":"+VLOOKUP('BASE DE RESPUESTAS'!AR34,Back!$M$16:$N$20,2,0)","v":"#N/A"},{"$f":"+VLOOKUP('BASE DE RESPUESTAS'!AS34,Back!$M$16:$N$20,2,0)","v":"#N/A"},{"$f":"+VLOOKUP('BASE DE RESPUESTAS'!AT34,Back!$M$16:$N$20,2,0)","v":"#N/A"},{"$f":"+VLOOKUP('BASE DE RESPUESTAS'!AU34,Back!$M$16:$N$20,2,0)","v":"#N/A"},{"$f":"+VLOOKUP('BASE DE RESPUESTAS'!AV34,Back!$M$16:$N$20,2,0)","v":"#N/A"},{"$f":"+VLOOKUP('BASE DE RESPUESTAS'!AW34,Back!$M$16:$N$20,2,0)","v":"#N/A"},{"$f":"+VLOOKUP('BASE DE RESPUESTAS'!AX34,Back!$M$16:$N$20,2,0)","v":"#N/A"},{"$f":"+VLOOKUP('BASE DE RESPUESTAS'!AY34,Back!$M$16:$N$20,2,0)","v":"#N/A"},{"$f":"+VLOOKUP('BASE DE RESPUESTAS'!AZ34,Back!$M$16:$N$20,2,0)","v":"#N/A"},{"$f":"+VLOOKUP('BASE DE RESPUESTAS'!BA34,Back!$M$16:$N$20,2,0)","v":"#N/A"},{"$f":"+VLOOKUP('BASE DE RESPUESTAS'!BB34,Back!$M$16:$N$20,2,0)","v":"#N/A"},{"$f":"+VLOOKUP('BASE DE RESPUESTAS'!BC34,Back!$M$16:$N$20,2,0)","v":"#N/A"},{"$f":"+VLOOKUP('BASE DE RESPUESTAS'!BD34,Back!$M$16:$N$20,2,0)","v":"#N/A"},{"$f":"+VLOOKUP('BASE DE RESPUESTAS'!BE34,Back!$M$16:$N$20,2,0)","v":"#N/A"}]
[null,"HSE","Resolución de conflictos","El estudiante es capaz de reconocer una situación conflictiva",29.0,"Me doy cuenta cuando hay problemas o conflictos entre mis compañeros(as)",null,{"$f":"+VLOOKUP('BASE DE RESPUESTAS'!H35,Back!$M$16:$N$20,2,0)","v":"#N/A"},{"$f":"+VLOOKUP('BASE DE RESPUESTAS'!I35,Back!$M$16:$N$20,2,0)","v":"#N/A"},{"$f":"+VLOOKUP('BASE DE RESPUESTAS'!J35,Back!$M$16:$N$20,2,0)","v":"#N/A"},{"$f":"+VLOOKUP('BASE DE RESPUESTAS'!K35,Back!$M$16:$N$20,2,0)","v":"#N/A"},{"$f":"+VLOOKUP('BASE DE RESPUESTAS'!L35,Back!$M$16:$N$20,2,0)","v":"#N/A"},{"$f":"+VLOOKUP('BASE DE RESPUESTAS'!M35,Back!$M$16:$N$20,2,0)","v":"#N/A"},{"$f":"+VLOOKUP('BASE DE RESPUESTAS'!N35,Back!$M$16:$N$20,2,0)","v":"#N/A"},{"$f":"+VLOOKUP('BASE DE RESPUESTAS'!O35,Back!$M$16:$N$20,2,0)","v":"#N/A"},{"$f":"+VLOOKUP('BASE DE RESPUESTAS'!P35,Back!$M$16:$N$20,2,0)","v":"#N/A"},{"$f":"+VLOOKUP('BASE DE RESPUESTAS'!Q35,Back!$M$16:$N$20,2,0)","v":"#N/A"},{"$f":"+VLOOKUP('BASE DE RESPUESTAS'!R35,Back!$M$16:$N$20,2,0)","v":"#N/A"},{"$f":"+VLOOKUP('BASE DE RESPUESTAS'!S35,Back!$M$16:$N$20,2,0)","v":"#N/A"},{"$f":"+VLOOKUP('BASE DE RESPUESTAS'!T35,Back!$M$16:$N$20,2,0)","v":"#N/A"},{"$f":"+VLOOKUP('BASE DE RESPUESTAS'!U35,Back!$M$16:$N$20,2,0)","v":"#N/A"},{"$f":"+VLOOKUP('BASE DE RESPUESTAS'!V35,Back!$M$16:$N$20,2,0)","v":"#N/A"},{"$f":"+VLOOKUP('BASE DE RESPUESTAS'!W35,Back!$M$16:$N$20,2,0)","v":"#N/A"},{"$f":"+VLOOKUP('BASE DE RESPUESTAS'!X35,Back!$M$16:$N$20,2,0)","v":"#N/A"},{"$f":"+VLOOKUP('BASE DE RESPUESTAS'!Y35,Back!$M$16:$N$20,2,0)","v":"#N/A"},{"$f":"+VLOOKUP('BASE DE RESPUESTAS'!Z35,Back!$M$16:$N$20,2,0)","v":"#N/A"},{"$f":"+VLOOKUP('BASE DE RESPUESTAS'!AA35,Back!$M$16:$N$20,2,0)","v":"#N/A"},{"$f":"+VLOOKUP('BASE DE RESPUESTAS'!AB35,Back!$M$16:$N$20,2,0)","v":"#N/A"},{"$f":"+VLOOKUP('BASE DE RESPUESTAS'!AC35,Back!$M$16:$N$20,2,0)","v":"#N/A"},{"$f":"+VLOOKUP('BASE DE RESPUESTAS'!AD35,Back!$M$16:$N$20,2,0)","v":"#N/A"},{"$f":"+VLOOKUP('BASE DE RESPUESTAS'!AE35,Back!$M$16:$N$20,2,0)","v":"#N/A"},{"$f":"+VLOOKUP('BASE DE RESPUESTAS'!AF35,Back!$M$16:$N$20,2,0)","v":"#N/A"},{"$f":"+VLOOKUP('BASE DE RESPUESTAS'!AG35,Back!$M$16:$N$20,2,0)","v":"#N/A"},{"$f":"+VLOOKUP('BASE DE RESPUESTAS'!AH35,Back!$M$16:$N$20,2,0)","v":"#N/A"},{"$f":"+VLOOKUP('BASE DE RESPUESTAS'!AI35,Back!$M$16:$N$20,2,0)","v":"#N/A"},{"$f":"+VLOOKUP('BASE DE RESPUESTAS'!AJ35,Back!$M$16:$N$20,2,0)","v":"#N/A"},{"$f":"+VLOOKUP('BASE DE RESPUESTAS'!AK35,Back!$M$16:$N$20,2,0)","v":"#N/A"},{"$f":"+VLOOKUP('BASE DE RESPUESTAS'!AL35,Back!$M$16:$N$20,2,0)","v":"#N/A"},{"$f":"+VLOOKUP('BASE DE RESPUESTAS'!AM35,Back!$M$16:$N$20,2,0)","v":"#N/A"},{"$f":"+VLOOKUP('BASE DE RESPUESTAS'!AN35,Back!$M$16:$N$20,2,0)","v":"#N/A"},{"$f":"+VLOOKUP('BASE DE RESPUESTAS'!AO35,Back!$M$16:$N$20,2,0)","v":"#N/A"},{"$f":"+VLOOKUP('BASE DE RESPUESTAS'!AP35,Back!$M$16:$N$20,2,0)","v":"#N/A"},{"$f":"+VLOOKUP('BASE DE RESPUESTAS'!AQ35,Back!$M$16:$N$20,2,0)","v":"#N/A"},{"$f":"+VLOOKUP('BASE DE RESPUESTAS'!AR35,Back!$M$16:$N$20,2,0)","v":"#N/A"},{"$f":"+VLOOKUP('BASE DE RESPUESTAS'!AS35,Back!$M$16:$N$20,2,0)","v":"#N/A"},{"$f":"+VLOOKUP('BASE DE RESPUESTAS'!AT35,Back!$M$16:$N$20,2,0)","v":"#N/A"},{"$f":"+VLOOKUP('BASE DE RESPUESTAS'!AU35,Back!$M$16:$N$20,2,0)","v":"#N/A"},{"$f":"+VLOOKUP('BASE DE RESPUESTAS'!AV35,Back!$M$16:$N$20,2,0)","v":"#N/A"},{"$f":"+VLOOKUP('BASE DE RESPUESTAS'!AW35,Back!$M$16:$N$20,2,0)","v":"#N/A"},{"$f":"+VLOOKUP('BASE DE RESPUESTAS'!AX35,Back!$M$16:$N$20,2,0)","v":"#N/A"},{"$f":"+VLOOKUP('BASE DE RESPUESTAS'!AY35,Back!$M$16:$N$20,2,0)","v":"#N/A"},{"$f":"+VLOOKUP('BASE DE RESPUESTAS'!AZ35,Back!$M$16:$N$20,2,0)","v":"#N/A"},{"$f":"+VLOOKUP('BASE DE RESPUESTAS'!BA35,Back!$M$16:$N$20,2,0)","v":"#N/A"},{"$f":"+VLOOKUP('BASE DE RESPUESTAS'!BB35,Back!$M$16:$N$20,2,0)","v":"#N/A"},{"$f":"+VLOOKUP('BASE DE RESPUESTAS'!BC35,Back!$M$16:$N$20,2,0)","v":"#N/A"},{"$f":"+VLOOKUP('BASE DE RESPUESTAS'!BD35,Back!$M$16:$N$20,2,0)","v":"#N/A"},{"$f":"+VLOOKUP('BASE DE RESPUESTAS'!BE35,Back!$M$16:$N$20,2,0)","v":"#N/A"}]
[null,null,null,"El o la estudiante participa en una acción para resolver un conflicto",30.0,"Cuando ayudo a resolver un problema o conflicto, busco que todos queden tranquilos o contentos al final.",null,{"$f":"+VLOOKUP('BASE DE RESPUESTAS'!H36,Back!$M$16:$N$20,2,0)","v":"#N/A"},{"$f":"+VLOOKUP('BASE DE RESPUESTAS'!I36,Back!$M$16:$N$20,2,0)","v":"#N/A"},{"$f":"+VLOOKUP('BASE DE RESPUESTAS'!J36,Back!$M$16:$N$20,2,0)","v":"#N/A"},{"$f":"+VLOOKUP('BASE DE RESPUESTAS'!K36,Back!$M$16:$N$20,2,0)","v":"#N/A"},{"$f":"+VLOOKUP('BASE DE RESPUESTAS'!L36,Back!$M$16:$N$20,2,0)","v":"#N/A"},{"$f":"+VLOOKUP('BASE DE RESPUESTAS'!M36,Back!$M$16:$N$20,2,0)","v":"#N/A"},{"$f":"+VLOOKUP('BASE DE RESPUESTAS'!N36,Back!$M$16:$N$20,2,0)","v":"#N/A"},{"$f":"+VLOOKUP('BASE DE RESPUESTAS'!O36,Back!$M$16:$N$20,2,0)","v":"#N/A"},{"$f":"+VLOOKUP('BASE DE RESPUESTAS'!P36,Back!$M$16:$N$20,2,0)","v":"#N/A"},{"$f":"+VLOOKUP('BASE DE RESPUESTAS'!Q36,Back!$M$16:$N$20,2,0)","v":"#N/A"},{"$f":"+VLOOKUP('BASE DE RESPUESTAS'!R36,Back!$M$16:$N$20,2,0)","v":"#N/A"},{"$f":"+VLOOKUP('BASE DE RESPUESTAS'!S36,Back!$M$16:$N$20,2,0)","v":"#N/A"},{"$f":"+VLOOKUP('BASE DE RESPUESTAS'!T36,Back!$M$16:$N$20,2,0)","v":"#N/A"},{"$f":"+VLOOKUP('BASE DE RESPUESTAS'!U36,Back!$M$16:$N$20,2,0)","v":"#N/A"},{"$f":"+VLOOKUP('BASE DE RESPUESTAS'!V36,Back!$M$16:$N$20,2,0)","v":"#N/A"},{"$f":"+VLOOKUP('BASE DE RESPUESTAS'!W36,Back!$M$16:$N$20,2,0)","v":"#N/A"},{"$f":"+VLOOKUP('BASE DE RESPUESTAS'!X36,Back!$M$16:$N$20,2,0)","v":"#N/A"},{"$f":"+VLOOKUP('BASE DE RESPUESTAS'!Y36,Back!$M$16:$N$20,2,0)","v":"#N/A"},{"$f":"+VLOOKUP('BASE DE RESPUESTAS'!Z36,Back!$M$16:$N$20,2,0)","v":"#N/A"},{"$f":"+VLOOKUP('BASE DE RESPUESTAS'!AA36,Back!$M$16:$N$20,2,0)","v":"#N/A"},{"$f":"+VLOOKUP('BASE DE RESPUESTAS'!AB36,Back!$M$16:$N$20,2,0)","v":"#N/A"},{"$f":"+VLOOKUP('BASE DE RESPUESTAS'!AC36,Back!$M$16:$N$20,2,0)","v":"#N/A"},{"$f":"+VLOOKUP('BASE DE RESPUESTAS'!AD36,Back!$M$16:$N$20,2,0)","v":"#N/A"},{"$f":"+VLOOKUP('BASE DE RESPUESTAS'!AE36,Back!$M$16:$N$20,2,0)","v":"#N/A"},{"$f":"+VLOOKUP('BASE DE RESPUESTAS'!AF36,Back!$M$16:$N$20,2,0)","v":"#N/A"},{"$f":"+VLOOKUP('BASE DE RESPUESTAS'!AG36,Back!$M$16:$N$20,2,0)","v":"#N/A"},{"$f":"+VLOOKUP('BASE DE RESPUESTAS'!AH36,Back!$M$16:$N$20,2,0)","v":"#N/A"},{"$f":"+VLOOKUP('BASE DE RESPUESTAS'!AI36,Back!$M$16:$N$20,2,0)","v":"#N/A"},{"$f":"+VLOOKUP('BASE DE RESPUESTAS'!AJ36,Back!$M$16:$N$20,2,0)","v":"#N/A"},{"$f":"+VLOOKUP('BASE DE RESPUESTAS'!AK36,Back!$M$16:$N$20,2,0)","v":"#N/A"},{"$f":"+VLOOKUP('BASE DE RESPUESTAS'!AL36,Back!$M$16:$N$20,2,0)","v":"#N/A"},{"$f":"+VLOOKUP('BASE DE RESPUESTAS'!AM36,Back!$M$16:$N$20,2,0)","v":"#N/A"},{"$f":"+VLOOKUP('BASE DE RESPUESTAS'!AN36,Back!$M$16:$N$20,2,0)","v":"#N/A"},{"$f":"+VLOOKUP('BASE DE RESPUESTAS'!AO36,Back!$M$16:$N$20,2,0)","v":"#N/A"},{"$f":"+VLOOKUP('BASE DE RESPUESTAS'!AP36,Back!$M$16:$N$20,2,0)","v":"#N/A"},{"$f":"+VLOOKUP('BASE DE RESPUESTAS'!AQ36,Back!$M$16:$N$20,2,0)","v":"#N/A"},{"$f":"+VLOOKUP('BASE DE RESPUESTAS'!AR36,Back!$M$16:$N$20,2,0)","v":"#N/A"},{"$f":"+VLOOKUP('BASE DE RESPUESTAS'!AS36,Back!$M$16:$N$20,2,0)","v":"#N/A"},{"$f":"+VLOOKUP('BASE DE RESPUESTAS'!AT36,Back!$M$16:$N$20,2,0)","v":"#N/A"},{"$f":"+VLOOKUP('BASE DE RESPUESTAS'!AU36,Back!$M$16:$N$20,2,0)","v":"#N/A"},{"$f":"+VLOOKUP('BASE DE RESPUESTAS'!AV36,Back!$M$16:$N$20,2,0)","v":"#N/A"},{"$f":"+VLOOKUP('BASE DE RESPUESTAS'!AW36,Back!$M$16:$N$20,2,0)","v":"#N/A"},{"$f":"+VLOOKUP('BASE DE RESPUESTAS'!AX36,Back!$M$16:$N$20,2,0)","v":"#N/A"},{"$f":"+VLOOKUP('BASE DE RESPUESTAS'!AY36,Back!$M$16:$N$20,2,0)","v":"#N/A"},{"$f":"+VLOOKUP('BASE DE RESPUESTAS'!AZ36,Back!$M$16:$N$20,2,0)","v":"#N/A"},{"$f":"+VLOOKUP('BASE DE RESPUESTAS'!BA36,Back!$M$16:$N$20,2,0)","v":"#N/A"},{"$f":"+VLOOKUP('BASE DE RESPUESTAS'!BB36,Back!$M$16:$N$20,2,0)","v":"#N/A"},{"$f":"+VLOOKUP('BASE DE RESPUESTAS'!BC36,Back!$M$16:$N$20,2,0)","v":"#N/A"},{"$f":"+VLOOKUP('BASE DE RESPUESTAS'!BD36,Back!$M$16:$N$20,2,0)","v":"#N/A"},{"$f":"+VLOOKUP('BASE DE RESPUESTAS'!BE36,Back!$M$16:$N$20,2,0)","v":"#N/A"}]
[null,"HSE","Consciencia social","El o la estudiante es sensible ante los temas o problemas de interés de la comunidad formulando preguntas sobre sus causas y consecuencias.",31.0,"Cuando veo un problema que afecta a mi barrio o comunidad, me pongo sensible y averiguo para saber que está pasando.",null,{"$f":"+VLOOKUP('BASE DE RESPUESTAS'!H37,Back!$M$16:$N$20,2,0)","v":"#N/A"},{"$f":"+VLOOKUP('BASE DE RESPUESTAS'!I37,Back!$M$16:$N$20,2,0)","v":"#N/A"},{"$f":"+VLOOKUP('BASE DE RESPUESTAS'!J37,Back!$M$16:$N$20,2,0)","v":"#N/A"},{"$f":"+VLOOKUP('BASE DE RESPUESTAS'!K37,Back!$M$16:$N$20,2,0)","v":"#N/A"},{"$f":"+VLOOKUP('BASE DE RESPUESTAS'!L37,Back!$M$16:$N$20,2,0)","v":"#N/A"},{"$f":"+VLOOKUP('BASE DE RESPUESTAS'!M37,Back!$M$16:$N$20,2,0)","v":"#N/A"},{"$f":"+VLOOKUP('BASE DE RESPUESTAS'!N37,Back!$M$16:$N$20,2,0)","v":"#N/A"},{"$f":"+VLOOKUP('BASE DE RESPUESTAS'!O37,Back!$M$16:$N$20,2,0)","v":"#N/A"},{"$f":"+VLOOKUP('BASE DE RESPUESTAS'!P37,Back!$M$16:$N$20,2,0)","v":"#N/A"},{"$f":"+VLOOKUP('BASE DE RESPUESTAS'!Q37,Back!$M$16:$N$20,2,0)","v":"#N/A"},{"$f":"+VLOOKUP('BASE DE RESPUESTAS'!R37,Back!$M$16:$N$20,2,0)","v":"#N/A"},{"$f":"+VLOOKUP('BASE DE RESPUESTAS'!S37,Back!$M$16:$N$20,2,0)","v":"#N/A"},{"$f":"+VLOOKUP('BASE DE RESPUESTAS'!T37,Back!$M$16:$N$20,2,0)","v":"#N/A"},{"$f":"+VLOOKUP('BASE DE RESPUESTAS'!U37,Back!$M$16:$N$20,2,0)","v":"#N/A"},{"$f":"+VLOOKUP('BASE DE RESPUESTAS'!V37,Back!$M$16:$N$20,2,0)","v":"#N/A"},{"$f":"+VLOOKUP('BASE DE RESPUESTAS'!W37,Back!$M$16:$N$20,2,0)","v":"#N/A"},{"$f":"+VLOOKUP('BASE DE RESPUESTAS'!X37,Back!$M$16:$N$20,2,0)","v":"#N/A"},{"$f":"+VLOOKUP('BASE DE RESPUESTAS'!Y37,Back!$M$16:$N$20,2,0)","v":"#N/A"},{"$f":"+VLOOKUP('BASE DE RESPUESTAS'!Z37,Back!$M$16:$N$20,2,0)","v":"#N/A"},{"$f":"+VLOOKUP('BASE DE RESPUESTAS'!AA37,Back!$M$16:$N$20,2,0)","v":"#N/A"},{"$f":"+VLOOKUP('BASE DE RESPUESTAS'!AB37,Back!$M$16:$N$20,2,0)","v":"#N/A"},{"$f":"+VLOOKUP('BASE DE RESPUESTAS'!AC37,Back!$M$16:$N$20,2,0)","v":"#N/A"},{"$f":"+VLOOKUP('BASE DE RESPUESTAS'!AD37,Back!$M$16:$N$20,2,0)","v":"#N/A"},{"$f":"+VLOOKUP('BASE DE RESPUESTAS'!AE37,Back!$M$16:$N$20,2,0)","v":"#N/A"},{"$f":"+VLOOKUP('BASE DE RESPUESTAS'!AF37,Back!$M$16:$N$20,2,0)","v":"#N/A"},{"$f":"+VLOOKUP('BASE DE RESPUESTAS'!AG37,Back!$M$16:$N$20,2,0)","v":"#N/A"},{"$f":"+VLOOKUP('BASE DE RESPUESTAS'!AH37,Back!$M$16:$N$20,2,0)","v":"#N/A"},{"$f":"+VLOOKUP('BASE DE RESPUESTAS'!AI37,Back!$M$16:$N$20,2,0)","v":"#N/A"},{"$f":"+VLOOKUP('BASE DE RESPUESTAS'!AJ37,Back!$M$16:$N$20,2,0)","v":"#N/A"},{"$f":"+VLOOKUP('BASE DE RESPUESTAS'!AK37,Back!$M$16:$N$20,2,0)","v":"#N/A"},{"$f":"+VLOOKUP('BASE DE RESPUESTAS'!AL37,Back!$M$16:$N$20,2,0)","v":"#N/A"},{"$f":"+VLOOKUP('BASE DE RESPUESTAS'!AM37,Back!$M$16:$N$20,2,0)","v":"#N/A"},{"$f":"+VLOOKUP('BASE DE RESPUESTAS'!AN37,Back!$M$16:$N$20,2,0)","v":"#N/A"},{"$f":"+VLOOKUP('BASE DE RESPUESTAS'!AO37,Back!$M$16:$N$20,2,0)","v":"#N/A"},{"$f":"+VLOOKUP('BASE DE RESPUESTAS'!AP37,Back!$M$16:$N$20,2,0)","v":"#N/A"},{"$f":"+VLOOKUP('BASE DE RESPUESTAS'!AQ37,Back!$M$16:$N$20,2,0)","v":"#N/A"},{"$f":"+VLOOKUP('BASE DE RESPUESTAS'!AR37,Back!$M$16:$N$20,2,0)","v":"#N/A"},{"$f":"+VLOOKUP('BASE DE RESPUESTAS'!AS37,Back!$M$16:$N$20,2,0)","v":"#N/A"},{"$f":"+VLOOKUP('BASE DE RESPUESTAS'!AT37,Back!$M$16:$N$20,2,0)","v":"#N/A"},{"$f":"+VLOOKUP('BASE DE RESPUESTAS'!AU37,Back!$M$16:$N$20,2,0)","v":"#N/A"},{"$f":"+VLOOKUP('BASE DE RESPUESTAS'!AV37,Back!$M$16:$N$20,2,0)","v":"#N/A"},{"$f":"+VLOOKUP('BASE DE RESPUESTAS'!AW37,Back!$M$16:$N$20,2,0)","v":"#N/A"},{"$f":"+VLOOKUP('BASE DE RESPUESTAS'!AX37,Back!$M$16:$N$20,2,0)","v":"#N/A"},{"$f":"+VLOOKUP('BASE DE RESPUESTAS'!AY37,Back!$M$16:$N$20,2,0)","v":"#N/A"},{"$f":"+VLOOKUP('BASE DE RESPUESTAS'!AZ37,Back!$M$16:$N$20,2,0)","v":"#N/A"},{"$f":"+VLOOKUP('BASE DE RESPUESTAS'!BA37,Back!$M$16:$N$20,2,0)","v":"#N/A"},{"$f":"+VLOOKUP('BASE DE RESPUESTAS'!BB37,Back!$M$16:$N$20,2,0)","v":"#N/A"},{"$f":"+VLOOKUP('BASE DE RESPUESTAS'!BC37,Back!$M$16:$N$20,2,0)","v":"#N/A"},{"$f":"+VLOOKUP('BASE DE RESPUESTAS'!BD37,Back!$M$16:$N$20,2,0)","v":"#N/A"},{"$f":"+VLOOKUP('BASE DE RESPUESTAS'!BE37,Back!$M$16:$N$20,2,0)","v":"#N/A"}]
[null,null,null,"El o la estudiante toma en cuenta distintas perspectivas para buscar el bien común.",32.0,"Escucho y respeto las opiniones que brindan otras personas para solucionar algún problema que afecta a la comunidad.",null,{"$f":"+VLOOKUP('BASE DE RESPUESTAS'!H38,Back!$M$16:$N$20,2,0)","v":"#N/A"},{"$f":"+VLOOKUP('BASE DE RESPUESTAS'!I38,Back!$M$16:$N$20,2,0)","v":"#N/A"},{"$f":"+VLOOKUP('BASE DE RESPUESTAS'!J38,Back!$M$16:$N$20,2,0)","v":"#N/A"},{"$f":"+VLOOKUP('BASE DE RESPUESTAS'!K38,Back!$M$16:$N$20,2,0)","v":"#N/A"},{"$f":"+VLOOKUP('BASE DE RESPUESTAS'!L38,Back!$M$16:$N$20,2,0)","v":"#N/A"},{"$f":"+VLOOKUP('BASE DE RESPUESTAS'!M38,Back!$M$16:$N$20,2,0)","v":"#N/A"},{"$f":"+VLOOKUP('BASE DE RESPUESTAS'!N38,Back!$M$16:$N$20,2,0)","v":"#N/A"},{"$f":"+VLOOKUP('BASE DE RESPUESTAS'!O38,Back!$M$16:$N$20,2,0)","v":"#N/A"},{"$f":"+VLOOKUP('BASE DE RESPUESTAS'!P38,Back!$M$16:$N$20,2,0)","v":"#N/A"},{"$f":"+VLOOKUP('BASE DE RESPUESTAS'!Q38,Back!$M$16:$N$20,2,0)","v":"#N/A"},{"$f":"+VLOOKUP('BASE DE RESPUESTAS'!R38,Back!$M$16:$N$20,2,0)","v":"#N/A"},{"$f":"+VLOOKUP('BASE DE RESPUESTAS'!S38,Back!$M$16:$N$20,2,0)","v":"#N/A"},{"$f":"+VLOOKUP('BASE DE RESPUESTAS'!T38,Back!$M$16:$N$20,2,0)","v":"#N/A"},{"$f":"+VLOOKUP('BASE DE RESPUESTAS'!U38,Back!$M$16:$N$20,2,0)","v":"#N/A"},{"$f":"+VLOOKUP('BASE DE RESPUESTAS'!V38,Back!$M$16:$N$20,2,0)","v":"#N/A"},{"$f":"+VLOOKUP('BASE DE RESPUESTAS'!W38,Back!$M$16:$N$20,2,0)","v":"#N/A"},{"$f":"+VLOOKUP('BASE DE RESPUESTAS'!X38,Back!$M$16:$N$20,2,0)","v":"#N/A"},{"$f":"+VLOOKUP('BASE DE RESPUESTAS'!Y38,Back!$M$16:$N$20,2,0)","v":"#N/A"},{"$f":"+VLOOKUP('BASE DE RESPUESTAS'!Z38,Back!$M$16:$N$20,2,0)","v":"#N/A"},{"$f":"+VLOOKUP('BASE DE RESPUESTAS'!AA38,Back!$M$16:$N$20,2,0)","v":"#N/A"},{"$f":"+VLOOKUP('BASE DE RESPUESTAS'!AB38,Back!$M$16:$N$20,2,0)","v":"#N/A"},{"$f":"+VLOOKUP('BASE DE RESPUESTAS'!AC38,Back!$M$16:$N$20,2,0)","v":"#N/A"},{"$f":"+VLOOKUP('BASE DE RESPUESTAS'!AD38,Back!$M$16:$N$20,2,0)","v":"#N/A"},{"$f":"+VLOOKUP('BASE DE RESPUESTAS'!AE38,Back!$M$16:$N$20,2,0)","v":"#N/A"},{"$f":"+VLOOKUP('BASE DE RESPUESTAS'!AF38,Back!$M$16:$N$20,2,0)","v":"#N/A"},{"$f":"+VLOOKUP('BASE DE RESPUESTAS'!AG38,Back!$M$16:$N$20,2,0)","v":"#N/A"},{"$f":"+VLOOKUP('BASE DE RESPUESTAS'!AH38,Back!$M$16:$N$20,2,0)","v":"#N/A"},{"$f":"+VLOOKUP('BASE DE RESPUESTAS'!AI38,Back!$M$16:$N$20,2,0)","v":"#N/A"},{"$f":"+VLOOKUP('BASE DE RESPUESTAS'!AJ38,Back!$M$16:$N$20,2,0)","v":"#N/A"},{"$f":"+VLOOKUP('BASE DE RESPUESTAS'!AK38,Back!$M$16:$N$20,2,0)","v":"#N/A"},{"$f":"+VLOOKUP('BASE DE RESPUESTAS'!AL38,Back!$M$16:$N$20,2,0)","v":"#N/A"},{"$f":"+VLOOKUP('BASE DE RESPUESTAS'!AM38,Back!$M$16:$N$20,2,0)","v":"#N/A"},{"$f":"+VLOOKUP('BASE DE RESPUESTAS'!AN38,Back!$M$16:$N$20,2,0)","v":"#N/A"},{"$f":"+VLOOKUP('BASE DE RESPUESTAS'!AO38,Back!$M$16:$N$20,2,0)","v":"#N/A"},{"$f":"+VLOOKUP('BASE DE RESPUESTAS'!AP38,Back!$M$16:$N$20,2,0)","v":"#N/A"},{"$f":"+VLOOKUP('BASE DE RESPUESTAS'!AQ38,Back!$M$16:$N$20,2,0)","v":"#N/A"},{"$f":"+VLOOKUP('BASE DE RESPUESTAS'!AR38,Back!$M$16:$N$20,2,0)","v":"#N/A"},{"$f":"+VLOOKUP('BASE DE RESPUESTAS'!AS38,Back!$M$16:$N$20,2,0)","v":"#N/A"},{"$f":"+VLOOKUP('BASE DE RESPUESTAS'!AT38,Back!$M$16:$N$20,2,0)","v":"#N/A"},{"$f":"+VLOOKUP('BASE DE RESPUESTAS'!AU38,Back!$M$16:$N$20,2,0)","v":"#N/A"},{"$f":"+VLOOKUP('BASE DE RESPUESTAS'!AV38,Back!$M$16:$N$20,2,0)","v":"#N/A"},{"$f":"+VLOOKUP('BASE DE RESPUESTAS'!AW38,Back!$M$16:$N$20,2,0)","v":"#N/A"},{"$f":"+VLOOKUP('BASE DE RESPUESTAS'!AX38,Back!$M$16:$N$20,2,0)","v":"#N/A"},{"$f":"+VLOOKUP('BASE DE RESPUESTAS'!AY38,Back!$M$16:$N$20,2,0)","v":"#N/A"},{"$f":"+VLOOKUP('BASE DE RESPUESTAS'!AZ38,Back!$M$16:$N$20,2,0)","v":"#N/A"},{"$f":"+VLOOKUP('BASE DE RESPUESTAS'!BA38,Back!$M$16:$N$20,2,0)","v":"#N/A"},{"$f":"+VLOOKUP('BASE DE RESPUESTAS'!BB38,Back!$M$16:$N$20,2,0)","v":"#N/A"},{"$f":"+VLOOKUP('BASE DE RESPUESTAS'!BC38,Back!$M$16:$N$20,2,0)","v":"#N/A"},{"$f":"+VLOOKUP('BASE DE RESPUESTAS'!BD38,Back!$M$16:$N$20,2,0)","v":"#N/A"},{"$f":"+VLOOKUP('BASE DE RESPUESTAS'!BE38,Back!$M$16:$N$20,2,0)","v":"#N/A"}]
[null,"HSE","Comportamiento prosocial","El o la estudiante es capaz de colaborar y/o ayudar a otros sin que lo soliciten.",33.0,"Participo en actividades que se realizan para beneficiar a mi comunidad y/o ayudar a alguien que lo necesita.",null,{"$f":"+VLOOKUP('BASE DE RESPUESTAS'!H39,Back!$M$16:$N$20,2,0)","v":"#N/A"},{"$f":"+VLOOKUP('BASE DE RESPUESTAS'!I39,Back!$M$16:$N$20,2,0)","v":"#N/A"},{"$f":"+VLOOKUP('BASE DE RESPUESTAS'!J39,Back!$M$16:$N$20,2,0)","v":"#N/A"},{"$f":"+VLOOKUP('BASE DE RESPUESTAS'!K39,Back!$M$16:$N$20,2,0)","v":"#N/A"},{"$f":"+VLOOKUP('BASE DE RESPUESTAS'!L39,Back!$M$16:$N$20,2,0)","v":"#N/A"},{"$f":"+VLOOKUP('BASE DE RESPUESTAS'!M39,Back!$M$16:$N$20,2,0)","v":"#N/A"},{"$f":"+VLOOKUP('BASE DE RESPUESTAS'!N39,Back!$M$16:$N$20,2,0)","v":"#N/A"},{"$f":"+VLOOKUP('BASE DE RESPUESTAS'!O39,Back!$M$16:$N$20,2,0)","v":"#N/A"},{"$f":"+VLOOKUP('BASE DE RESPUESTAS'!P39,Back!$M$16:$N$20,2,0)","v":"#N/A"},{"$f":"+VLOOKUP('BASE DE RESPUESTAS'!Q39,Back!$M$16:$N$20,2,0)","v":"#N/A"},{"$f":"+VLOOKUP('BASE DE RESPUESTAS'!R39,Back!$M$16:$N$20,2,0)","v":"#N/A"},{"$f":"+VLOOKUP('BASE DE RESPUESTAS'!S39,Back!$M$16:$N$20,2,0)","v":"#N/A"},{"$f":"+VLOOKUP('BASE DE RESPUESTAS'!T39,Back!$M$16:$N$20,2,0)","v":"#N/A"},{"$f":"+VLOOKUP('BASE DE RESPUESTAS'!U39,Back!$M$16:$N$20,2,0)","v":"#N/A"},{"$f":"+VLOOKUP('BASE DE RESPUESTAS'!V39,Back!$M$16:$N$20,2,0)","v":"#N/A"},{"$f":"+VLOOKUP('BASE DE RESPUESTAS'!W39,Back!$M$16:$N$20,2,0)","v":"#N/A"},{"$f":"+VLOOKUP('BASE DE RESPUESTAS'!X39,Back!$M$16:$N$20,2,0)","v":"#N/A"},{"$f":"+VLOOKUP('BASE DE RESPUESTAS'!Y39,Back!$M$16:$N$20,2,0)","v":"#N/A"},{"$f":"+VLOOKUP('BASE DE RESPUESTAS'!Z39,Back!$M$16:$N$20,2,0)","v":"#N/A"},{"$f":"+VLOOKUP('BASE DE RESPUESTAS'!AA39,Back!$M$16:$N$20,2,0)","v":"#N/A"},{"$f":"+VLOOKUP('BASE DE RESPUESTAS'!AB39,Back!$M$16:$N$20,2,0)","v":"#N/A"},{"$f":"+VLOOKUP('BASE DE RESPUESTAS'!AC39,Back!$M$16:$N$20,2,0)","v":"#N/A"},{"$f":"+VLOOKUP('BASE DE RESPUESTAS'!AD39,Back!$M$16:$N$20,2,0)","v":"#N/A"},{"$f":"+VLOOKUP('BASE DE RESPUESTAS'!AE39,Back!$M$16:$N$20,2,0)","v":"#N/A"},{"$f":"+VLOOKUP('BASE DE RESPUESTAS'!AF39,Back!$M$16:$N$20,2,0)","v":"#N/A"},{"$f":"+VLOOKUP('BASE DE RESPUESTAS'!AG39,Back!$M$16:$N$20,2,0)","v":"#N/A"},{"$f":"+VLOOKUP('BASE DE RESPUESTAS'!AH39,Back!$M$16:$N$20,2,0)","v":"#N/A"},{"$f":"+VLOOKUP('BASE DE RESPUESTAS'!AI39,Back!$M$16:$N$20,2,0)","v":"#N/A"},{"$f":"+VLOOKUP('BASE DE RESPUESTAS'!AJ39,Back!$M$16:$N$20,2,0)","v":"#N/A"},{"$f":"+VLOOKUP('BASE DE RESPUESTAS'!AK39,Back!$M$16:$N$20,2,0)","v":"#N/A"},{"$f":"+VLOOKUP('BASE DE RESPUESTAS'!AL39,Back!$M$16:$N$20,2,0)","v":"#N/A"},{"$f":"+VLOOKUP('BASE DE RESPUESTAS'!AM39,Back!$M$16:$N$20,2,0)","v":"#N/A"},{"$f":"+VLOOKUP('BASE DE RESPUESTAS'!AN39,Back!$M$16:$N$20,2,0)","v":"#N/A"},{"$f":"+VLOOKUP('BASE DE RESPUESTAS'!AO39,Back!$M$16:$N$20,2,0)","v":"#N/A"},{"$f":"+VLOOKUP('BASE DE RESPUESTAS'!AP39,Back!$M$16:$N$20,2,0)","v":"#N/A"},{"$f":"+VLOOKUP('BASE DE RESPUESTAS'!AQ39,Back!$M$16:$N$20,2,0)","v":"#N/A"},{"$f":"+VLOOKUP('BASE DE RESPUESTAS'!AR39,Back!$M$16:$N$20,2,0)","v":"#N/A"},{"$f":"+VLOOKUP('BASE DE RESPUESTAS'!AS39,Back!$M$16:$N$20,2,0)","v":"#N/A"},{"$f":"+VLOOKUP('BASE DE RESPUESTAS'!AT39,Back!$M$16:$N$20,2,0)","v":"#N/A"},{"$f":"+VLOOKUP('BASE DE RESPUESTAS'!AU39,Back!$M$16:$N$20,2,0)","v":"#N/A"},{"$f":"+VLOOKUP('BASE DE RESPUESTAS'!AV39,Back!$M$16:$N$20,2,0)","v":"#N/A"},{"$f":"+VLOOKUP('BASE DE RESPUESTAS'!AW39,Back!$M$16:$N$20,2,0)","v":"#N/A"},{"$f":"+VLOOKUP('BASE DE RESPUESTAS'!AX39,Back!$M$16:$N$20,2,0)","v":"#N/A"},{"$f":"+VLOOKUP('BASE DE RESPUESTAS'!AY39,Back!$M$16:$N$20,2,0)","v":"#N/A"},{"$f":"+VLOOKUP('BASE DE RESPUESTAS'!AZ39,Back!$M$16:$N$20,2,0)","v":"#N/A"},{"$f":"+VLOOKUP('BASE DE RESPUESTAS'!BA39,Back!$M$16:$N$20,2,0)","v":"#N/A"},{"$f":"+VLOOKUP('BASE DE RESPUESTAS'!BB39,Back!$M$16:$N$20,2,0)","v":"#N/A"},{"$f":"+VLOOKUP('BASE DE RESPUESTAS'!BC39,Back!$M$16:$N$20,2,0)","v":"#N/A"},{"$f":"+VLOOKUP('BASE DE RESPUESTAS'!BD39,Back!$M$16:$N$20,2,0)","v":"#N/A"},{"$f":"+VLOOKUP('BASE DE RESPUESTAS'!BE39,Back!$M$16:$N$20,2,0)","v":"#N/A"}]
[null,null,null,"El o la estudiante convive reconociendo las diferencias, valorando la diversidad de las personas sin discriminarlas.",34.0,"Reconozco que cada uno de nosotros es diferente y respeto a todas las personas sin discriminarlas.",null,{"$f":"+VLOOKUP('BASE DE RESPUESTAS'!H40,Back!$M$16:$N$20,2,0)","v":"#N/A"},{"$f":"+VLOOKUP('BASE DE RESPUESTAS'!I40,Back!$M$16:$N$20,2,0)","v":"#N/A"},{"$f":"+VLOOKUP('BASE DE RESPUESTAS'!J40,Back!$M$16:$N$20,2,0)","v":"#N/A"},{"$f":"+VLOOKUP('BASE DE RESPUESTAS'!K40,Back!$M$16:$N$20,2,0)","v":"#N/A"},{"$f":"+VLOOKUP('BASE DE RESPUESTAS'!L40,Back!$M$16:$N$20,2,0)","v":"#N/A"},{"$f":"+VLOOKUP('BASE DE RESPUESTAS'!M40,Back!$M$16:$N$20,2,0)","v":"#N/A"},{"$f":"+VLOOKUP('BASE DE RESPUESTAS'!N40,Back!$M$16:$N$20,2,0)","v":"#N/A"},{"$f":"+VLOOKUP('BASE DE RESPUESTAS'!O40,Back!$M$16:$N$20,2,0)","v":"#N/A"},{"$f":"+VLOOKUP('BASE DE RESPUESTAS'!P40,Back!$M$16:$N$20,2,0)","v":"#N/A"},{"$f":"+VLOOKUP('BASE DE RESPUESTAS'!Q40,Back!$M$16:$N$20,2,0)","v":"#N/A"},{"$f":"+VLOOKUP('BASE DE RESPUESTAS'!R40,Back!$M$16:$N$20,2,0)","v":"#N/A"},{"$f":"+VLOOKUP('BASE DE RESPUESTAS'!S40,Back!$M$16:$N$20,2,0)","v":"#N/A"},{"$f":"+VLOOKUP('BASE DE RESPUESTAS'!T40,Back!$M$16:$N$20,2,0)","v":"#N/A"},{"$f":"+VLOOKUP('BASE DE RESPUESTAS'!U40,Back!$M$16:$N$20,2,0)","v":"#N/A"},{"$f":"+VLOOKUP('BASE DE RESPUESTAS'!V40,Back!$M$16:$N$20,2,0)","v":"#N/A"},{"$f":"+VLOOKUP('BASE DE RESPUESTAS'!W40,Back!$M$16:$N$20,2,0)","v":"#N/A"},{"$f":"+VLOOKUP('BASE DE RESPUESTAS'!X40,Back!$M$16:$N$20,2,0)","v":"#N/A"},{"$f":"+VLOOKUP('BASE DE RESPUESTAS'!Y40,Back!$M$16:$N$20,2,0)","v":"#N/A"},{"$f":"+VLOOKUP('BASE DE RESPUESTAS'!Z40,Back!$M$16:$N$20,2,0)","v":"#N/A"},{"$f":"+VLOOKUP('BASE DE RESPUESTAS'!AA40,Back!$M$16:$N$20,2,0)","v":"#N/A"},{"$f":"+VLOOKUP('BASE DE RESPUESTAS'!AB40,Back!$M$16:$N$20,2,0)","v":"#N/A"},{"$f":"+VLOOKUP('BASE DE RESPUESTAS'!AC40,Back!$M$16:$N$20,2,0)","v":"#N/A"},{"$f":"+VLOOKUP('BASE DE RESPUESTAS'!AD40,Back!$M$16:$N$20,2,0)","v":"#N/A"},{"$f":"+VLOOKUP('BASE DE RESPUESTAS'!AE40,Back!$M$16:$N$20,2,0)","v":"#N/A"},{"$f":"+VLOOKUP('BASE DE RESPUESTAS'!AF40,Back!$M$16:$N$20,2,0)","v":"#N/A"},{"$f":"+VLOOKUP('BASE DE RESPUESTAS'!AG40,Back!$M$16:$N$20,2,0)","v":"#N/A"},{"$f":"+VLOOKUP('BASE DE RESPUESTAS'!AH40,Back!$M$16:$N$20,2,0)","v":"#N/A"},{"$f":"+VLOOKUP('BASE DE RESPUESTAS'!AI40,Back!$M$16:$N$20,2,0)","v":"#N/A"},{"$f":"+VLOOKUP('BASE DE RESPUESTAS'!AJ40,Back!$M$16:$N$20,2,0)","v":"#N/A"},{"$f":"+VLOOKUP('BASE DE RESPUESTAS'!AK40,Back!$M$16:$N$20,2,0)","v":"#N/A"},{"$f":"+VLOOKUP('BASE DE RESPUESTAS'!AL40,Back!$M$16:$N$20,2,0)","v":"#N/A"},{"$f":"+VLOOKUP('BASE DE RESPUESTAS'!AM40,Back!$M$16:$N$20,2,0)","v":"#N/A"},{"$f":"+VLOOKUP('BASE DE RESPUESTAS'!AN40,Back!$M$16:$N$20,2,0)","v":"#N/A"},{"$f":"+VLOOKUP('BASE DE RESPUESTAS'!AO40,Back!$M$16:$N$20,2,0)","v":"#N/A"},{"$f":"+VLOOKUP('BASE DE RESPUESTAS'!AP40,Back!$M$16:$N$20,2,0)","v":"#N/A"},{"$f":"+VLOOKUP('BASE DE RESPUESTAS'!AQ40,Back!$M$16:$N$20,2,0)","v":"#N/A"},{"$f":"+VLOOKUP('BASE DE RESPUESTAS'!AR40,Back!$M$16:$N$20,2,0)","v":"#N/A"},{"$f":"+VLOOKUP('BASE DE RESPUESTAS'!AS40,Back!$M$16:$N$20,2,0)","v":"#N/A"},{"$f":"+VLOOKUP('BASE DE RESPUESTAS'!AT40,Back!$M$16:$N$20,2,0)","v":"#N/A"},{"$f":"+VLOOKUP('BASE DE RESPUESTAS'!AU40,Back!$M$16:$N$20,2,0)","v":"#N/A"},{"$f":"+VLOOKUP('BASE DE RESPUESTAS'!AV40,Back!$M$16:$N$20,2,0)","v":"#N/A"},{"$f":"+VLOOKUP('BASE DE RESPUESTAS'!AW40,Back!$M$16:$N$20,2,0)","v":"#N/A"},{"$f":"+VLOOKUP('BASE DE RESPUESTAS'!AX40,Back!$M$16:$N$20,2,0)","v":"#N/A"},{"$f":"+VLOOKUP('BASE DE RESPUESTAS'!AY40,Back!$M$16:$N$20,2,0)","v":"#N/A"},{"$f":"+VLOOKUP('BASE DE RESPUESTAS'!AZ40,Back!$M$16:$N$20,2,0)","v":"#N/A"},{"$f":"+VLOOKUP('BASE DE RESPUESTAS'!BA40,Back!$M$16:$N$20,2,0)","v":"#N/A"},{"$f":"+VLOOKUP('BASE DE RESPUESTAS'!BB40,Back!$M$16:$N$20,2,0)","v":"#N/A"},{"$f":"+VLOOKUP('BASE DE RESPUESTAS'!BC40,Back!$M$16:$N$20,2,0)","v":"#N/A"},{"$f":"+VLOOKUP('BASE DE RESPUESTAS'!BD40,Back!$M$16:$N$20,2,0)","v":"#N/A"},{"$f":"+VLOOKUP('BASE DE RESPUESTAS'!BE40,Back!$M$16:$N$20,2,0)","v":"#N/A"}]
[null,"FR","Consumo de alcohol y drogas","El o la estudiante ha consumido alcohol u otras drogas.",35.0,"He probado alguna bebida con alcohol en reuniones con amigos o familiares.",null,{"$f":"+VLOOKUP('BASE DE RESPUESTAS'!H41,Back!$M$16:$N$20,2,0)","v":"#N/A"},{"$f":"+VLOOKUP('BASE DE RESPUESTAS'!I41,Back!$M$16:$N$20,2,0)","v":"#N/A"},{"$f":"+VLOOKUP('BASE DE RESPUESTAS'!J41,Back!$M$16:$N$20,2,0)","v":"#N/A"},{"$f":"+VLOOKUP('BASE DE RESPUESTAS'!K41,Back!$M$16:$N$20,2,0)","v":"#N/A"},{"$f":"+VLOOKUP('BASE DE RESPUESTAS'!L41,Back!$M$16:$N$20,2,0)","v":"#N/A"},{"$f":"+VLOOKUP('BASE DE RESPUESTAS'!M41,Back!$M$16:$N$20,2,0)","v":"#N/A"},{"$f":"+VLOOKUP('BASE DE RESPUESTAS'!N41,Back!$M$16:$N$20,2,0)","v":"#N/A"},{"$f":"+VLOOKUP('BASE DE RESPUESTAS'!O41,Back!$M$16:$N$20,2,0)","v":"#N/A"},{"$f":"+VLOOKUP('BASE DE RESPUESTAS'!P41,Back!$M$16:$N$20,2,0)","v":"#N/A"},{"$f":"+VLOOKUP('BASE DE RESPUESTAS'!Q41,Back!$M$16:$N$20,2,0)","v":"#N/A"},{"$f":"+VLOOKUP('BASE DE RESPUESTAS'!R41,Back!$M$16:$N$20,2,0)","v":"#N/A"},{"$f":"+VLOOKUP('BASE DE RESPUESTAS'!S41,Back!$M$16:$N$20,2,0)","v":"#N/A"},{"$f":"+VLOOKUP('BASE DE RESPUESTAS'!T41,Back!$M$16:$N$20,2,0)","v":"#N/A"},{"$f":"+VLOOKUP('BASE DE RESPUESTAS'!U41,Back!$M$16:$N$20,2,0)","v":"#N/A"},{"$f":"+VLOOKUP('BASE DE RESPUESTAS'!V41,Back!$M$16:$N$20,2,0)","v":"#N/A"},{"$f":"+VLOOKUP('BASE DE RESPUESTAS'!W41,Back!$M$16:$N$20,2,0)","v":"#N/A"},{"$f":"+VLOOKUP('BASE DE RESPUESTAS'!X41,Back!$M$16:$N$20,2,0)","v":"#N/A"},{"$f":"+VLOOKUP('BASE DE RESPUESTAS'!Y41,Back!$M$16:$N$20,2,0)","v":"#N/A"},{"$f":"+VLOOKUP('BASE DE RESPUESTAS'!Z41,Back!$M$16:$N$20,2,0)","v":"#N/A"},{"$f":"+VLOOKUP('BASE DE RESPUESTAS'!AA41,Back!$M$16:$N$20,2,0)","v":"#N/A"},{"$f":"+VLOOKUP('BASE DE RESPUESTAS'!AB41,Back!$M$16:$N$20,2,0)","v":"#N/A"},{"$f":"+VLOOKUP('BASE DE RESPUESTAS'!AC41,Back!$M$16:$N$20,2,0)","v":"#N/A"},{"$f":"+VLOOKUP('BASE DE RESPUESTAS'!AD41,Back!$M$16:$N$20,2,0)","v":"#N/A"},{"$f":"+VLOOKUP('BASE DE RESPUESTAS'!AE41,Back!$M$16:$N$20,2,0)","v":"#N/A"},{"$f":"+VLOOKUP('BASE DE RESPUESTAS'!AF41,Back!$M$16:$N$20,2,0)","v":"#N/A"},{"$f":"+VLOOKUP('BASE DE RESPUESTAS'!AG41,Back!$M$16:$N$20,2,0)","v":"#N/A"},{"$f":"+VLOOKUP('BASE DE RESPUESTAS'!AH41,Back!$M$16:$N$20,2,0)","v":"#N/A"},{"$f":"+VLOOKUP('BASE DE RESPUESTAS'!AI41,Back!$M$16:$N$20,2,0)","v":"#N/A"},{"$f":"+VLOOKUP('BASE DE RESPUESTAS'!AJ41,Back!$M$16:$N$20,2,0)","v":"#N/A"},{"$f":"+VLOOKUP('BASE DE RESPUESTAS'!AK41,Back!$M$16:$N$20,2,0)","v":"#N/A"},{"$f":"+VLOOKUP('BASE DE RESPUESTAS'!AL41,Back!$M$16:$N$20,2,0)","v":"#N/A"},{"$f":"+VLOOKUP('BASE DE RESPUESTAS'!AM41,Back!$M$16:$N$20,2,0)","v":"#N/A"},{"$f":"+VLOOKUP('BASE DE RESPUESTAS'!AN41,Back!$M$16:$N$20,2,0)","v":"#N/A"},{"$f":"+VLOOKUP('BASE DE RESPUESTAS'!AO41,Back!$M$16:$N$20,2,0)","v":"#N/A"},{"$f":"+VLOOKUP('BASE DE RESPUESTAS'!AP41,Back!$M$16:$N$20,2,0)","v":"#N/A"},{"$f":"+VLOOKUP('BASE DE RESPUESTAS'!AQ41,Back!$M$16:$N$20,2,0)","v":"#N/A"},{"$f":"+VLOOKUP('BASE DE RESPUESTAS'!AR41,Back!$M$16:$N$20,2,0)","v":"#N/A"},{"$f":"+VLOOKUP('BASE DE RESPUESTAS'!AS41,Back!$M$16:$N$20,2,0)","v":"#N/A"},{"$f":"+VLOOKUP('BASE DE RESPUESTAS'!AT41,Back!$M$16:$N$20,2,0)","v":"#N/A"},{"$f":"+VLOOKUP('BASE DE RESPUESTAS'!AU41,Back!$M$16:$N$20,2,0)","v":"#N/A"},{"$f":"+VLOOKUP('BASE DE RESPUESTAS'!AV41,Back!$M$16:$N$20,2,0)","v":"#N/A"},{"$f":"+VLOOKUP('BASE DE RESPUESTAS'!AW41,Back!$M$16:$N$20,2,0)","v":"#N/A"},{"$f":"+VLOOKUP('BASE DE RESPUESTAS'!AX41,Back!$M$16:$N$20,2,0)","v":"#N/A"},{"$f":"+VLOOKUP('BASE DE RESPUESTAS'!AY41,Back!$M$16:$N$20,2,0)","v":"#N/A"},{"$f":"+VLOOKUP('BASE DE RESPUESTAS'!AZ41,Back!$M$16:$N$20,2,0)","v":"#N/A"},{"$f":"+VLOOKUP('BASE DE RESPUESTAS'!BA41,Back!$M$16:$N$20,2,0)","v":"#N/A"},{"$f":"+VLOOKUP('BASE DE RESPUESTAS'!BB41,Back!$M$16:$N$20,2,0)","v":"#N/A"},{"$f":"+VLOOKUP('BASE DE RESPUESTAS'!BC41,Back!$M$16:$N$20,2,0)","v":"#N/A"},{"$f":"+VLOOKUP('BASE DE RESPUESTAS'!BD41,Back!$M$16:$N$20,2,0)","v":"#N/A"},{"$f":"+VLOOKUP('BASE DE RESPUESTAS'!BE41,Back!$M$16:$N$20,2,0)","v":"#N/A"}]
[null,null,null,"El o la estudiante tiene curiosidad por consumir drogas.",36.0,"A veces tengo curiosidad por conocer que se siente al consumir una droga.",null,{"$f":"+VLOOKUP('BASE DE RESPUESTAS'!H42,Back!$M$16:$N$20,2,0)","v":"#N/A"},{"$f":"+VLOOKUP('BASE DE RESPUESTAS'!I42,Back!$M$16:$N$20,2,0)","v":"#N/A"},{"$f":"+VLOOKUP('BASE DE RESPUESTAS'!J42,Back!$M$16:$N$20,2,0)","v":"#N/A"},{"$f":"+VLOOKUP('BASE DE RESPUESTAS'!K42,Back!$M$16:$N$20,2,0)","v":"#N/A"},{"$f":"+VLOOKUP('BASE DE RESPUESTAS'!L42,Back!$M$16:$N$20,2,0)","v":"#N/A"},{"$f":"+VLOOKUP('BASE DE RESPUESTAS'!M42,Back!$M$16:$N$20,2,0)","v":"#N/A"},{"$f":"+VLOOKUP('BASE DE RESPUESTAS'!N42,Back!$M$16:$N$20,2,0)","v":"#N/A"},{"$f":"+VLOOKUP('BASE DE RESPUESTAS'!O42,Back!$M$16:$N$20,2,0)","v":"#N/A"},{"$f":"+VLOOKUP('BASE DE RESPUESTAS'!P42,Back!$M$16:$N$20,2,0)","v":"#N/A"},{"$f":"+VLOOKUP('BASE DE RESPUESTAS'!Q42,Back!$M$16:$N$20,2,0)","v":"#N/A"},{"$f":"+VLOOKUP('BASE DE RESPUESTAS'!R42,Back!$M$16:$N$20,2,0)","v":"#N/A"},{"$f":"+VLOOKUP('BASE DE RESPUESTAS'!S42,Back!$M$16:$N$20,2,0)","v":"#N/A"},{"$f":"+VLOOKUP('BASE DE RESPUESTAS'!T42,Back!$M$16:$N$20,2,0)","v":"#N/A"},{"$f":"+VLOOKUP('BASE DE RESPUESTAS'!U42,Back!$M$16:$N$20,2,0)","v":"#N/A"},{"$f":"+VLOOKUP('BASE DE RESPUESTAS'!V42,Back!$M$16:$N$20,2,0)","v":"#N/A"},{"$f":"+VLOOKUP('BASE DE RESPUESTAS'!W42,Back!$M$16:$N$20,2,0)","v":"#N/A"},{"$f":"+VLOOKUP('BASE DE RESPUESTAS'!X42,Back!$M$16:$N$20,2,0)","v":"#N/A"},{"$f":"+VLOOKUP('BASE DE RESPUESTAS'!Y42,Back!$M$16:$N$20,2,0)","v":"#N/A"},{"$f":"+VLOOKUP('BASE DE RESPUESTAS'!Z42,Back!$M$16:$N$20,2,0)","v":"#N/A"},{"$f":"+VLOOKUP('BASE DE RESPUESTAS'!AA42,Back!$M$16:$N$20,2,0)","v":"#N/A"},{"$f":"+VLOOKUP('BASE DE RESPUESTAS'!AB42,Back!$M$16:$N$20,2,0)","v":"#N/A"},{"$f":"+VLOOKUP('BASE DE RESPUESTAS'!AC42,Back!$M$16:$N$20,2,0)","v":"#N/A"},{"$f":"+VLOOKUP('BASE DE RESPUESTAS'!AD42,Back!$M$16:$N$20,2,0)","v":"#N/A"},{"$f":"+VLOOKUP('BASE DE RESPUESTAS'!AE42,Back!$M$16:$N$20,2,0)","v":"#N/A"},{"$f":"+VLOOKUP('BASE DE RESPUESTAS'!AF42,Back!$M$16:$N$20,2,0)","v":"#N/A"},{"$f":"+VLOOKUP('BASE DE RESPUESTAS'!AG42,Back!$M$16:$N$20,2,0)","v":"#N/A"},{"$f":"+VLOOKUP('BASE DE RESPUESTAS'!AH42,Back!$M$16:$N$20,2,0)","v":"#N/A"},{"$f":"+VLOOKUP('BASE DE RESPUESTAS'!AI42,Back!$M$16:$N$20,2,0)","v":"#N/A"},{"$f":"+VLOOKUP('BASE DE RESPUESTAS'!AJ42,Back!$M$16:$N$20,2,0)","v":"#N/A"},{"$f":"+VLOOKUP('BASE DE RESPUESTAS'!AK42,Back!$M$16:$N$20,2,0)","v":"#N/A"},{"$f":"+VLOOKUP('BASE DE RESPUESTAS'!AL42,Back!$M$16:$N$20,2,0)","v":"#N/A"},{"$f":"+VLOOKUP('BASE DE RESPUESTAS'!AM42,Back!$M$16:$N$20,2,0)","v":"#N/A"},{"$f":"+VLOOKUP('BASE DE RESPUESTAS'!AN42,Back!$M$16:$N$20,2,0)","v":"#N/A"},{"$f":"+VLOOKUP('BASE DE RESPUESTAS'!AO42,Back!$M$16:$N$20,2,0)","v":"#N/A"},{"$f":"+VLOOKUP('BASE DE RESPUESTAS'!AP42,Back!$M$16:$N$20,2,0)","v":"#N/A"},{"$f":"+VLOOKUP('BASE DE RESPUESTAS'!AQ42,Back!$M$16:$N$20,2,0)","v":"#N/A"},{"$f":"+VLOOKUP('BASE DE RESPUESTAS'!AR42,Back!$M$16:$N$20,2,0)","v":"#N/A"},{"$f":"+VLOOKUP('BASE DE RESPUESTAS'!AS42,Back!$M$16:$N$20,2,0)","v":"#N/A"},{"$f":"+VLOOKUP('BASE DE RESPUESTAS'!AT42,Back!$M$16:$N$20,2,0)","v":"#N/A"},{"$f":"+VLOOKUP('BASE DE RESPUESTAS'!AU42,Back!$M$16:$N$20,2,0)","v":"#N/A"},{"$f":"+VLOOKUP('BASE DE RESPUESTAS'!AV42,Back!$M$16:$N$20,2,0)","v":"#N/A"},{"$f":"+VLOOKUP('BASE DE RESPUESTAS'!AW42,Back!$M$16:$N$20,2,0)","v":"#N/A"},{"$f":"+VLOOKUP('BASE DE RESPUESTAS'!AX42,Back!$M$16:$N$20,2,0)","v":"#N/A"},{"$f":"+VLOOKUP('BASE DE RESPUESTAS'!AY42,Back!$M$16:$N$20,2,0)","v":"#N/A"},{"$f":"+VLOOKUP('BASE DE RESPUESTAS'!AZ42,Back!$M$16:$N$20,2,0)","v":"#N/A"},{"$f":"+VLOOKUP('BASE DE RESPUESTAS'!BA42,Back!$M$16:$N$20,2,0)","v":"#N/A"},{"$f":"+VLOOKUP('BASE DE RESPUESTAS'!BB42,Back!$M$16:$N$20,2,0)","v":"#N/A"},{"$f":"+VLOOKUP('BASE DE RESPUESTAS'!BC42,Back!$M$16:$N$20,2,0)","v":"#N/A"},{"$f":"+VLOOKUP('BASE DE RESPUESTAS'!BD42,Back!$M$16:$N$20,2,0)","v":"#N/A"},{"$f":"+VLOOKUP('BASE DE RESPUESTAS'!BE42,Back!$M$16:$N$20,2,0)","v":"#N/A"}]
[null,null,null,"El o la estudiante tiene amigos o familiares cercanos que consumen drogas.",37.0,"Algunos de mis amigos o familiares consumen alcohol y otras drogas.",null,{"$f":"+VLOOKUP('BASE DE RESPUESTAS'!H43,Back!$M$16:$N$20,2,0)","v":"#N/A"},{"$f":"+VLOOKUP('BASE DE RESPUESTAS'!I43,Back!$M$16:$N$20,2,0)","v":"#N/A"},{"$f":"+VLOOKUP('BASE DE RESPUESTAS'!J43,Back!$M$16:$N$20,2,0)","v":"#N/A"},{"$f":"+VLOOKUP('BASE DE RESPUESTAS'!K43,Back!$M$16:$N$20,2,0)","v":"#N/A"},{"$f":"+VLOOKUP('BASE DE RESPUESTAS'!L43,Back!$M$16:$N$20,2,0)","v":"#N/A"},{"$f":"+VLOOKUP('BASE DE RESPUESTAS'!M43,Back!$M$16:$N$20,2,0)","v":"#N/A"},{"$f":"+VLOOKUP('BASE DE RESPUESTAS'!N43,Back!$M$16:$N$20,2,0)","v":"#N/A"},{"$f":"+VLOOKUP('BASE DE RESPUESTAS'!O43,Back!$M$16:$N$20,2,0)","v":"#N/A"},{"$f":"+VLOOKUP('BASE DE RESPUESTAS'!P43,Back!$M$16:$N$20,2,0)","v":"#N/A"},{"$f":"+VLOOKUP('BASE DE RESPUESTAS'!Q43,Back!$M$16:$N$20,2,0)","v":"#N/A"},{"$f":"+VLOOKUP('BASE DE RESPUESTAS'!R43,Back!$M$16:$N$20,2,0)","v":"#N/A"},{"$f":"+VLOOKUP('BASE DE RESPUESTAS'!S43,Back!$M$16:$N$20,2,0)","v":"#N/A"},{"$f":"+VLOOKUP('BASE DE RESPUESTAS'!T43,Back!$M$16:$N$20,2,0)","v":"#N/A"},{"$f":"+VLOOKUP('BASE DE RESPUESTAS'!U43,Back!$M$16:$N$20,2,0)","v":"#N/A"},{"$f":"+VLOOKUP('BASE DE RESPUESTAS'!V43,Back!$M$16:$N$20,2,0)","v":"#N/A"},{"$f":"+VLOOKUP('BASE DE RESPUESTAS'!W43,Back!$M$16:$N$20,2,0)","v":"#N/A"},{"$f":"+VLOOKUP('BASE DE RESPUESTAS'!X43,Back!$M$16:$N$20,2,0)","v":"#N/A"},{"$f":"+VLOOKUP('BASE DE RESPUESTAS'!Y43,Back!$M$16:$N$20,2,0)","v":"#N/A"},{"$f":"+VLOOKUP('BASE DE RESPUESTAS'!Z43,Back!$M$16:$N$20,2,0)","v":"#N/A"},{"$f":"+VLOOKUP('BASE DE RESPUESTAS'!AA43,Back!$M$16:$N$20,2,0)","v":"#N/A"},{"$f":"+VLOOKUP('BASE DE RESPUESTAS'!AB43,Back!$M$16:$N$20,2,0)","v":"#N/A"},{"$f":"+VLOOKUP('BASE DE RESPUESTAS'!AC43,Back!$M$16:$N$20,2,0)","v":"#N/A"},{"$f":"+VLOOKUP('BASE DE RESPUESTAS'!AD43,Back!$M$16:$N$20,2,0)","v":"#N/A"},{"$f":"+VLOOKUP('BASE DE RESPUESTAS'!AE43,Back!$M$16:$N$20,2,0)","v":"#N/A"},{"$f":"+VLOOKUP('BASE DE RESPUESTAS'!AF43,Back!$M$16:$N$20,2,0)","v":"#N/A"},{"$f":"+VLOOKUP('BASE DE RESPUESTAS'!AG43,Back!$M$16:$N$20,2,0)","v":"#N/A"},{"$f":"+VLOOKUP('BASE DE RESPUESTAS'!AH43,Back!$M$16:$N$20,2,0)","v":"#N/A"},{"$f":"+VLOOKUP('BASE DE RESPUESTAS'!AI43,Back!$M$16:$N$20,2,0)","v":"#N/A"},{"$f":"+VLOOKUP('BASE DE RESPUESTAS'!AJ43,Back!$M$16:$N$20,2,0)","v":"#N/A"},{"$f":"+VLOOKUP('BASE DE RESPUESTAS'!AK43,Back!$M$16:$N$20,2,0)","v":"#N/A"},{"$f":"+VLOOKUP('BASE DE RESPUESTAS'!AL43,Back!$M$16:$N$20,2,0)","v":"#N/A"},{"$f":"+VLOOKUP('BASE DE RESPUESTAS'!AM43,Back!$M$16:$N$20,2,0)","v":"#N/A"},{"$f":"+VLOOKUP('BASE DE RESPUESTAS'!AN43,Back!$M$16:$N$20,2,0)","v":"#N/A"},{"$f":"+VLOOKUP('BASE DE RESPUESTAS'!AO43,Back!$M$16:$N$20,2,0)","v":"#N/A"},{"$f":"+VLOOKUP('BASE DE RESPUESTAS'!AP43,Back!$M$16:$N$20,2,0)","v":"#N/A"},{"$f":"+VLOOKUP('BASE DE RESPUESTAS'!AQ43,Back!$M$16:$N$20,2,0)","v":"#N/A"},{"$f":"+VLOOKUP('BASE DE RESPUESTAS'!AR43,Back!$M$16:$N$20,2,0)","v":"#N/A"},{"$f":"+VLOOKUP('BASE DE RESPUESTAS'!AS43,Back!$M$16:$N$20,2,0)","v":"#N/A"},{"$f":"+VLOOKUP('BASE DE RESPUESTAS'!AT43,Back!$M$16:$N$20,2,0)","v":"#N/A"},{"$f":"+VLOOKUP('BASE DE RESPUESTAS'!AU43,Back!$M$16:$N$20,2,0)","v":"#N/A"},{"$f":"+VLOOKUP('BASE DE RESPUESTAS'!AV43,Back!$M$16:$N$20,2,0)","v":"#N/A"},{"$f":"+VLOOKUP('BASE DE RESPUESTAS'!AW43,Back!$M$16:$N$20,2,0)","v":"#N/A"},{"$f":"+VLOOKUP('BASE DE RESPUESTAS'!AX43,Back!$M$16:$N$20,2,0)","v":"#N/A"},{"$f":"+VLOOKUP('BASE DE RESPUESTAS'!AY43,Back!$M$16:$N$20,2,0)","v":"#N/A"},{"$f":"+VLOOKUP('BASE DE RESPUESTAS'!AZ43,Back!$M$16:$N$20,2,0)","v":"#N/A"},{"$f":"+VLOOKUP('BASE DE RESPUESTAS'!BA43,Back!$M$16:$N$20,2,0)","v":"#N/A"},{"$f":"+VLOOKUP('BASE DE RESPUESTAS'!BB43,Back!$M$16:$N$20,2,0)","v":"#N/A"},{"$f":"+VLOOKUP('BASE DE RESPUESTAS'!BC43,Back!$M$16:$N$20,2,0)","v":"#N/A"},{"$f":"+VLOOKUP('BASE DE RESPUESTAS'!BD43,Back!$M$16:$N$20,2,0)","v":"#N/A"},{"$f":"+VLOOKUP('BASE DE RESPUESTAS'!BE43,Back!$M$16:$N$20,2,0)","v":"#N/A"}]
[null,"FR","Trabajo adolescente","El o la estudiante se siente obligado a trabajar para apoyar a su familia en la compra de alimentos y/u otros gastos.",38.0,"Siento la necesidad de trabajar para ayudar a mi familia en la compra de alimentos y/ otras necesidades.",null,{"$f":"+VLOOKUP('BASE DE RESPUESTAS'!H44,Back!$M$16:$N$20,2,0)","v":"#N/A"},{"$f":"+VLOOKUP('BASE DE RESPUESTAS'!I44,Back!$M$16:$N$20,2,0)","v":"#N/A"},{"$f":"+VLOOKUP('BASE DE RESPUESTAS'!J44,Back!$M$16:$N$20,2,0)","v":"#N/A"},{"$f":"+VLOOKUP('BASE DE RESPUESTAS'!K44,Back!$M$16:$N$20,2,0)","v":"#N/A"},{"$f":"+VLOOKUP('BASE DE RESPUESTAS'!L44,Back!$M$16:$N$20,2,0)","v":"#N/A"},{"$f":"+VLOOKUP('BASE DE RESPUESTAS'!M44,Back!$M$16:$N$20,2,0)","v":"#N/A"},{"$f":"+VLOOKUP('BASE DE RESPUESTAS'!N44,Back!$M$16:$N$20,2,0)","v":"#N/A"},{"$f":"+VLOOKUP('BASE DE RESPUESTAS'!O44,Back!$M$16:$N$20,2,0)","v":"#N/A"},{"$f":"+VLOOKUP('BASE DE RESPUESTAS'!P44,Back!$M$16:$N$20,2,0)","v":"#N/A"},{"$f":"+VLOOKUP('BASE DE RESPUESTAS'!Q44,Back!$M$16:$N$20,2,0)","v":"#N/A"},{"$f":"+VLOOKUP('BASE DE RESPUESTAS'!R44,Back!$M$16:$N$20,2,0)","v":"#N/A"},{"$f":"+VLOOKUP('BASE DE RESPUESTAS'!S44,Back!$M$16:$N$20,2,0)","v":"#N/A"},{"$f":"+VLOOKUP('BASE DE RESPUESTAS'!T44,Back!$M$16:$N$20,2,0)","v":"#N/A"},{"$f":"+VLOOKUP('BASE DE RESPUESTAS'!U44,Back!$M$16:$N$20,2,0)","v":"#N/A"},{"$f":"+VLOOKUP('BASE DE RESPUESTAS'!V44,Back!$M$16:$N$20,2,0)","v":"#N/A"},{"$f":"+VLOOKUP('BASE DE RESPUESTAS'!W44,Back!$M$16:$N$20,2,0)","v":"#N/A"},{"$f":"+VLOOKUP('BASE DE RESPUESTAS'!X44,Back!$M$16:$N$20,2,0)","v":"#N/A"},{"$f":"+VLOOKUP('BASE DE RESPUESTAS'!Y44,Back!$M$16:$N$20,2,0)","v":"#N/A"},{"$f":"+VLOOKUP('BASE DE RESPUESTAS'!Z44,Back!$M$16:$N$20,2,0)","v":"#N/A"},{"$f":"+VLOOKUP('BASE DE RESPUESTAS'!AA44,Back!$M$16:$N$20,2,0)","v":"#N/A"},{"$f":"+VLOOKUP('BASE DE RESPUESTAS'!AB44,Back!$M$16:$N$20,2,0)","v":"#N/A"},{"$f":"+VLOOKUP('BASE DE RESPUESTAS'!AC44,Back!$M$16:$N$20,2,0)","v":"#N/A"},{"$f":"+VLOOKUP('BASE DE RESPUESTAS'!AD44,Back!$M$16:$N$20,2,0)","v":"#N/A"},{"$f":"+VLOOKUP('BASE DE RESPUESTAS'!AE44,Back!$M$16:$N$20,2,0)","v":"#N/A"},{"$f":"+VLOOKUP('BASE DE RESPUESTAS'!AF44,Back!$M$16:$N$20,2,0)","v":"#N/A"},{"$f":"+VLOOKUP('BASE DE RESPUESTAS'!AG44,Back!$M$16:$N$20,2,0)","v":"#N/A"},{"$f":"+VLOOKUP('BASE DE RESPUESTAS'!AH44,Back!$M$16:$N$20,2,0)","v":"#N/A"},{"$f":"+VLOOKUP('BASE DE RESPUESTAS'!AI44,Back!$M$16:$N$20,2,0)","v":"#N/A"},{"$f":"+VLOOKUP('BASE DE RESPUESTAS'!AJ44,Back!$M$16:$N$20,2,0)","v":"#N/A"},{"$f":"+VLOOKUP('BASE DE RESPUESTAS'!AK44,Back!$M$16:$N$20,2,0)","v":"#N/A"},{"$f":"+VLOOKUP('BASE DE RESPUESTAS'!AL44,Back!$M$16:$N$20,2,0)","v":"#N/A"},{"$f":"+VLOOKUP('BASE DE RESPUESTAS'!AM44,Back!$M$16:$N$20,2,0)","v":"#N/A"},{"$f":"+VLOOKUP('BASE DE RESPUESTAS'!AN44,Back!$M$16:$N$20,2,0)","v":"#N/A"},{"$f":"+VLOOKUP('BASE DE RESPUESTAS'!AO44,Back!$M$16:$N$20,2,0)","v":"#N/A"},{"$f":"+VLOOKUP('BASE DE RESPUESTAS'!AP44,Back!$M$16:$N$20,2,0)","v":"#N/A"},{"$f":"+VLOOKUP('BASE DE RESPUESTAS'!AQ44,Back!$M$16:$N$20,2,0)","v":"#N/A"},{"$f":"+VLOOKUP('BASE DE RESPUESTAS'!AR44,Back!$M$16:$N$20,2,0)","v":"#N/A"},{"$f":"+VLOOKUP('BASE DE RESPUESTAS'!AS44,Back!$M$16:$N$20,2,0)","v":"#N/A"},{"$f":"+VLOOKUP('BASE DE RESPUESTAS'!AT44,Back!$M$16:$N$20,2,0)","v":"#N/A"},{"$f":"+VLOOKUP('BASE DE RESPUESTAS'!AU44,Back!$M$16:$N$20,2,0)","v":"#N/A"},{"$f":"+VLOOKUP('BASE DE RESPUESTAS'!AV44,Back!$M$16:$N$20,2,0)","v":"#N/A"},{"$f":"+VLOOKUP('BASE DE RESPUESTAS'!AW44,Back!$M$16:$N$20,2,0)","v":"#N/A"},{"$f":"+VLOOKUP('BASE DE RESPUESTAS'!AX44,Back!$M$16:$N$20,2,0)","v":"#N/A"},{"$f":"+VLOOKUP('BASE DE RESPUESTAS'!AY44,Back!$M$16:$N$20,2,0)","v":"#N/A"},{"$f":"+VLOOKUP('BASE DE RESPUESTAS'!AZ44,Back!$M$16:$N$20,2,0)","v":"#N/A"},{"$f":"+VLOOKUP('BASE DE RESPUESTAS'!BA44,Back!$M$16:$N$20,2,0)","v":"#N/A"},{"$f":"+VLOOKUP('BASE DE RESPUESTAS'!BB44,Back!$M$16:$N$20,2,0)","v":"#N/A"},{"$f":"+VLOOKUP('BASE DE RESPUESTAS'!BC44,Back!$M$16:$N$20,2,0)","v":"#N/A"},{"$f":"+VLOOKUP('BASE DE RESPUESTAS'!BD44,Back!$M$16:$N$20,2,0)","v":"#N/A"},{"$f":"+VLOOKUP('BASE DE RESPUESTAS'!BE44,Back!$M$16:$N$20,2,0)","v":"#N/A"}]
[null,null,null,"El o la estudiante suele estar cansado/a y no cumple con sus otras responsabilidades escolares porque trabaja.",39.0,"Me cuesta cumplir con mis tareas escolares porque vengo cansado/a de trabajar.",null,{"$f":"+VLOOKUP('BASE DE RESPUESTAS'!H45,Back!$M$16:$N$20,2,0)","v":"#N/A"},{"$f":"+VLOOKUP('BASE DE RESPUESTAS'!I45,Back!$M$16:$N$20,2,0)","v":"#N/A"},{"$f":"+VLOOKUP('BASE DE RESPUESTAS'!J45,Back!$M$16:$N$20,2,0)","v":"#N/A"},{"$f":"+VLOOKUP('BASE DE RESPUESTAS'!K45,Back!$M$16:$N$20,2,0)","v":"#N/A"},{"$f":"+VLOOKUP('BASE DE RESPUESTAS'!L45,Back!$M$16:$N$20,2,0)","v":"#N/A"},{"$f":"+VLOOKUP('BASE DE RESPUESTAS'!M45,Back!$M$16:$N$20,2,0)","v":"#N/A"},{"$f":"+VLOOKUP('BASE DE RESPUESTAS'!N45,Back!$M$16:$N$20,2,0)","v":"#N/A"},{"$f":"+VLOOKUP('BASE DE RESPUESTAS'!O45,Back!$M$16:$N$20,2,0)","v":"#N/A"},{"$f":"+VLOOKUP('BASE DE RESPUESTAS'!P45,Back!$M$16:$N$20,2,0)","v":"#N/A"},{"$f":"+VLOOKUP('BASE DE RESPUESTAS'!Q45,Back!$M$16:$N$20,2,0)","v":"#N/A"},{"$f":"+VLOOKUP('BASE DE RESPUESTAS'!R45,Back!$M$16:$N$20,2,0)","v":"#N/A"},{"$f":"+VLOOKUP('BASE DE RESPUESTAS'!S45,Back!$M$16:$N$20,2,0)","v":"#N/A"},{"$f":"+VLOOKUP('BASE DE RESPUESTAS'!T45,Back!$M$16:$N$20,2,0)","v":"#N/A"},{"$f":"+VLOOKUP('BASE DE RESPUESTAS'!U45,Back!$M$16:$N$20,2,0)","v":"#N/A"},{"$f":"+VLOOKUP('BASE DE RESPUESTAS'!V45,Back!$M$16:$N$20,2,0)","v":"#N/A"},{"$f":"+VLOOKUP('BASE DE RESPUESTAS'!W45,Back!$M$16:$N$20,2,0)","v":"#N/A"},{"$f":"+VLOOKUP('BASE DE RESPUESTAS'!X45,Back!$M$16:$N$20,2,0)","v":"#N/A"},{"$f":"+VLOOKUP('BASE DE RESPUESTAS'!Y45,Back!$M$16:$N$20,2,0)","v":"#N/A"},{"$f":"+VLOOKUP('BASE DE RESPUESTAS'!Z45,Back!$M$16:$N$20,2,0)","v":"#N/A"},{"$f":"+VLOOKUP('BASE DE RESPUESTAS'!AA45,Back!$M$16:$N$20,2,0)","v":"#N/A"},{"$f":"+VLOOKUP('BASE DE RESPUESTAS'!AB45,Back!$M$16:$N$20,2,0)","v":"#N/A"},{"$f":"+VLOOKUP('BASE DE RESPUESTAS'!AC45,Back!$M$16:$N$20,2,0)","v":"#N/A"},{"$f":"+VLOOKUP('BASE DE RESPUESTAS'!AD45,Back!$M$16:$N$20,2,0)","v":"#N/A"},{"$f":"+VLOOKUP('BASE DE RESPUESTAS'!AE45,Back!$M$16:$N$20,2,0)","v":"#N/A"},{"$f":"+VLOOKUP('BASE DE RESPUESTAS'!AF45,Back!$M$16:$N$20,2,0)","v":"#N/A"},{"$f":"+VLOOKUP('BASE DE RESPUESTAS'!AG45,Back!$M$16:$N$20,2,0)","v":"#N/A"},{"$f":"+VLOOKUP('BASE DE RESPUESTAS'!AH45,Back!$M$16:$N$20,2,0)","v":"#N/A"},{"$f":"+VLOOKUP('BASE DE RESPUESTAS'!AI45,Back!$M$16:$N$20,2,0)","v":"#N/A"},{"$f":"+VLOOKUP('BASE DE RESPUESTAS'!AJ45,Back!$M$16:$N$20,2,0)","v":"#N/A"},{"$f":"+VLOOKUP('BASE DE RESPUESTAS'!AK45,Back!$M$16:$N$20,2,0)","v":"#N/A"},{"$f":"+VLOOKUP('BASE DE RESPUESTAS'!AL45,Back!$M$16:$N$20,2,0)","v":"#N/A"},{"$f":"+VLOOKUP('BASE DE RESPUESTAS'!AM45,Back!$M$16:$N$20,2,0)","v":"#N/A"},{"$f":"+VLOOKUP('BASE DE RESPUESTAS'!AN45,Back!$M$16:$N$20,2,0)","v":"#N/A"},{"$f":"+VLOOKUP('BASE DE RESPUESTAS'!AO45,Back!$M$16:$N$20,2,0)","v":"#N/A"},{"$f":"+VLOOKUP('BASE DE RESPUESTAS'!AP45,Back!$M$16:$N$20,2,0)","v":"#N/A"},{"$f":"+VLOOKUP('BASE DE RESPUESTAS'!AQ45,Back!$M$16:$N$20,2,0)","v":"#N/A"},{"$f":"+VLOOKUP('BASE DE RESPUESTAS'!AR45,Back!$M$16:$N$20,2,0)","v":"#N/A"},{"$f":"+VLOOKUP('BASE DE RESPUESTAS'!AS45,Back!$M$16:$N$20,2,0)","v":"#N/A"},{"$f":"+VLOOKUP('BASE DE RESPUESTAS'!AT45,Back!$M$16:$N$20,2,0)","v":"#N/A"},{"$f":"+VLOOKUP('BASE DE RESPUESTAS'!AU45,Back!$M$16:$N$20,2,0)","v":"#N/A"},{"$f":"+VLOOKUP('BASE DE RESPUESTAS'!AV45,Back!$M$16:$N$20,2,0)","v":"#N/A"},{"$f":"+VLOOKUP('BASE DE RESPUESTAS'!AW45,Back!$M$16:$N$20,2,0)","v":"#N/A"},{"$f":"+VLOOKUP('BASE DE RESPUESTAS'!AX45,Back!$M$16:$N$20,2,0)","v":"#N/A"},{"$f":"+VLOOKUP('BASE DE RESPUESTAS'!AY45,Back!$M$16:$N$20,2,0)","v":"#N/A"},{"$f":"+VLOOKUP('BASE DE RESPUESTAS'!AZ45,Back!$M$16:$N$20,2,0)","v":"#N/A"},{"$f":"+VLOOKUP('BASE DE RESPUESTAS'!BA45,Back!$M$16:$N$20,2,0)","v":"#N/A"},{"$f":"+VLOOKUP('BASE DE RESPUESTAS'!BB45,Back!$M$16:$N$20,2,0)","v":"#N/A"},{"$f":"+VLOOKUP('BASE DE RESPUESTAS'!BC45,Back!$M$16:$N$20,2,0)","v":"#N/A"},{"$f":"+VLOOKUP('BASE DE RESPUESTAS'!BD45,Back!$M$16:$N$20,2,0)","v":"#N/A"},{"$f":"+VLOOKUP('BASE DE RESPUESTAS'!BE45,Back!$M$16:$N$20,2,0)","v":"#N/A"}]
[null,null,null,"El o la adolescente descuida sus estudios porque pasa demasiado tiempo encargándose de las labores de su hogar.",40.0,"A veces no voy a estudiar porque tengo muchas cosas que hacer en mi casa (cocinar, cuidar a mis hermanos, ayudar en la chacra o en la tienda, etc.)",null,{"$f":"+VLOOKUP('BASE DE RESPUESTAS'!H46,Back!$M$16:$N$20,2,0)","v":"#N/A"},{"$f":"+VLOOKUP('BASE DE RESPUESTAS'!I46,Back!$M$16:$N$20,2,0)","v":"#N/A"},{"$f":"+VLOOKUP('BASE DE RESPUESTAS'!J46,Back!$M$16:$N$20,2,0)","v":"#N/A"},{"$f":"+VLOOKUP('BASE DE RESPUESTAS'!K46,Back!$M$16:$N$20,2,0)","v":"#N/A"},{"$f":"+VLOOKUP('BASE DE RESPUESTAS'!L46,Back!$M$16:$N$20,2,0)","v":"#N/A"},{"$f":"+VLOOKUP('BASE DE RESPUESTAS'!M46,Back!$M$16:$N$20,2,0)","v":"#N/A"},{"$f":"+VLOOKUP('BASE DE RESPUESTAS'!N46,Back!$M$16:$N$20,2,0)","v":"#N/A"},{"$f":"+VLOOKUP('BASE DE RESPUESTAS'!O46,Back!$M$16:$N$20,2,0)","v":"#N/A"},{"$f":"+VLOOKUP('BASE DE RESPUESTAS'!P46,Back!$M$16:$N$20,2,0)","v":"#N/A"},{"$f":"+VLOOKUP('BASE DE RESPUESTAS'!Q46,Back!$M$16:$N$20,2,0)","v":"#N/A"},{"$f":"+VLOOKUP('BASE DE RESPUESTAS'!R46,Back!$M$16:$N$20,2,0)","v":"#N/A"},{"$f":"+VLOOKUP('BASE DE RESPUESTAS'!S46,Back!$M$16:$N$20,2,0)","v":"#N/A"},{"$f":"+VLOOKUP('BASE DE RESPUESTAS'!T46,Back!$M$16:$N$20,2,0)","v":"#N/A"},{"$f":"+VLOOKUP('BASE DE RESPUESTAS'!U46,Back!$M$16:$N$20,2,0)","v":"#N/A"},{"$f":"+VLOOKUP('BASE DE RESPUESTAS'!V46,Back!$M$16:$N$20,2,0)","v":"#N/A"},{"$f":"+VLOOKUP('BASE DE RESPUESTAS'!W46,Back!$M$16:$N$20,2,0)","v":"#N/A"},{"$f":"+VLOOKUP('BASE DE RESPUESTAS'!X46,Back!$M$16:$N$20,2,0)","v":"#N/A"},{"$f":"+VLOOKUP('BASE DE RESPUESTAS'!Y46,Back!$M$16:$N$20,2,0)","v":"#N/A"},{"$f":"+VLOOKUP('BASE DE RESPUESTAS'!Z46,Back!$M$16:$N$20,2,0)","v":"#N/A"},{"$f":"+VLOOKUP('BASE DE RESPUESTAS'!AA46,Back!$M$16:$N$20,2,0)","v":"#N/A"},{"$f":"+VLOOKUP('BASE DE RESPUESTAS'!AB46,Back!$M$16:$N$20,2,0)","v":"#N/A"},{"$f":"+VLOOKUP('BASE DE RESPUESTAS'!AC46,Back!$M$16:$N$20,2,0)","v":"#N/A"},{"$f":"+VLOOKUP('BASE DE RESPUESTAS'!AD46,Back!$M$16:$N$20,2,0)","v":"#N/A"},{"$f":"+VLOOKUP('BASE DE RESPUESTAS'!AE46,Back!$M$16:$N$20,2,0)","v":"#N/A"},{"$f":"+VLOOKUP('BASE DE RESPUESTAS'!AF46,Back!$M$16:$N$20,2,0)","v":"#N/A"},{"$f":"+VLOOKUP('BASE DE RESPUESTAS'!AG46,Back!$M$16:$N$20,2,0)","v":"#N/A"},{"$f":"+VLOOKUP('BASE DE RESPUESTAS'!AH46,Back!$M$16:$N$20,2,0)","v":"#N/A"},{"$f":"+VLOOKUP('BASE DE RESPUESTAS'!AI46,Back!$M$16:$N$20,2,0)","v":"#N/A"},{"$f":"+VLOOKUP('BASE DE RESPUESTAS'!AJ46,Back!$M$16:$N$20,2,0)","v":"#N/A"},{"$f":"+VLOOKUP('BASE DE RESPUESTAS'!AK46,Back!$M$16:$N$20,2,0)","v":"#N/A"},{"$f":"+VLOOKUP('BASE DE RESPUESTAS'!AL46,Back!$M$16:$N$20,2,0)","v":"#N/A"},{"$f":"+VLOOKUP('BASE DE RESPUESTAS'!AM46,Back!$M$16:$N$20,2,0)","v":"#N/A"},{"$f":"+VLOOKUP('BASE DE RESPUESTAS'!AN46,Back!$M$16:$N$20,2,0)","v":"#N/A"},{"$f":"+VLOOKUP('BASE DE RESPUESTAS'!AO46,Back!$M$16:$N$20,2,0)","v":"#N/A"},{"$f":"+VLOOKUP('BASE DE RESPUESTAS'!AP46,Back!$M$16:$N$20,2,0)","v":"#N/A"},{"$f":"+VLOOKUP('BASE DE RESPUESTAS'!AQ46,Back!$M$16:$N$20,2,0)","v":"#N/A"},{"$f":"+VLOOKUP('BASE DE RESPUESTAS'!AR46,Back!$M$16:$N$20,2,0)","v":"#N/A"},{"$f":"+VLOOKUP('BASE DE RESPUESTAS'!AS46,Back!$M$16:$N$20,2,0)","v":"#N/A"},{"$f":"+VLOOKUP('BASE DE RESPUESTAS'!AT46,Back!$M$16:$N$20,2,0)","v":"#N/A"},{"$f":"+VLOOKUP('BASE DE RESPUESTAS'!AU46,Back!$M$16:$N$20,2,0)","v":"#N/A"},{"$f":"+VLOOKUP('BASE DE RESPUESTAS'!AV46,Back!$M$16:$N$20,2,0)","v":"#N/A"},{"$f":"+VLOOKUP('BASE DE RESPUESTAS'!AW46,Back!$M$16:$N$20,2,0)","v":"#N/A"},{"$f":"+VLOOKUP('BASE DE RESPUESTAS'!AX46,Back!$M$16:$N$20,2,0)","v":"#N/A"},{"$f":"+VLOOKUP('BASE DE RESPUESTAS'!AY46,Back!$M$16:$N$20,2,0)","v":"#N/A"},{"$f":"+VLOOKUP('BASE DE RESPUESTAS'!AZ46,Back!$M$16:$N$20,2,0)","v":"#N/A"},{"$f":"+VLOOKUP('BASE DE RESPUESTAS'!BA46,Back!$M$16:$N$20,2,0)","v":"#N/A"},{"$f":"+VLOOKUP('BASE DE RESPUESTAS'!BB46,Back!$M$16:$N$20,2,0)","v":"#N/A"},{"$f":"+VLOOKUP('BASE DE RESPUESTAS'!BC46,Back!$M$16:$N$20,2,0)","v":"#N/A"},{"$f":"+VLOOKUP('BASE DE RESPUESTAS'!BD46,Back!$M$16:$N$20,2,0)","v":"#N/A"},{"$f":"+VLOOKUP('BASE DE RESPUESTAS'!BE46,Back!$M$16:$N$20,2,0)","v":"#N/A"}]
[null,"FR","Ausentismo y deserción Escolar","El o la estudiante falta al menos una vez a la semana a la escuela, sin justificación.",41.0,"Falto a la escuela por lo menos una vez a la semana.",null,{"$f":"+VLOOKUP('BASE DE RESPUESTAS'!H47,Back!$M$16:$N$20,2,0)","v":"#N/A"},{"$f":"+VLOOKUP('BASE DE RESPUESTAS'!I47,Back!$M$16:$N$20,2,0)","v":"#N/A"},{"$f":"+VLOOKUP('BASE DE RESPUESTAS'!J47,Back!$M$16:$N$20,2,0)","v":"#N/A"},{"$f":"+VLOOKUP('BASE DE RESPUESTAS'!K47,Back!$M$16:$N$20,2,0)","v":"#N/A"},{"$f":"+VLOOKUP('BASE DE RESPUESTAS'!L47,Back!$M$16:$N$20,2,0)","v":"#N/A"},{"$f":"+VLOOKUP('BASE DE RESPUESTAS'!M47,Back!$M$16:$N$20,2,0)","v":"#N/A"},{"$f":"+VLOOKUP('BASE DE RESPUESTAS'!N47,Back!$M$16:$N$20,2,0)","v":"#N/A"},{"$f":"+VLOOKUP('BASE DE RESPUESTAS'!O47,Back!$M$16:$N$20,2,0)","v":"#N/A"},{"$f":"+VLOOKUP('BASE DE RESPUESTAS'!P47,Back!$M$16:$N$20,2,0)","v":"#N/A"},{"$f":"+VLOOKUP('BASE DE RESPUESTAS'!Q47,Back!$M$16:$N$20,2,0)","v":"#N/A"},{"$f":"+VLOOKUP('BASE DE RESPUESTAS'!R47,Back!$M$16:$N$20,2,0)","v":"#N/A"},{"$f":"+VLOOKUP('BASE DE RESPUESTAS'!S47,Back!$M$16:$N$20,2,0)","v":"#N/A"},{"$f":"+VLOOKUP('BASE DE RESPUESTAS'!T47,Back!$M$16:$N$20,2,0)","v":"#N/A"},{"$f":"+VLOOKUP('BASE DE RESPUESTAS'!U47,Back!$M$16:$N$20,2,0)","v":"#N/A"},{"$f":"+VLOOKUP('BASE DE RESPUESTAS'!V47,Back!$M$16:$N$20,2,0)","v":"#N/A"},{"$f":"+VLOOKUP('BASE DE RESPUESTAS'!W47,Back!$M$16:$N$20,2,0)","v":"#N/A"},{"$f":"+VLOOKUP('BASE DE RESPUESTAS'!X47,Back!$M$16:$N$20,2,0)","v":"#N/A"},{"$f":"+VLOOKUP('BASE DE RESPUESTAS'!Y47,Back!$M$16:$N$20,2,0)","v":"#N/A"},{"$f":"+VLOOKUP('BASE DE RESPUESTAS'!Z47,Back!$M$16:$N$20,2,0)","v":"#N/A"},{"$f":"+VLOOKUP('BASE DE RESPUESTAS'!AA47,Back!$M$16:$N$20,2,0)","v":"#N/A"},{"$f":"+VLOOKUP('BASE DE RESPUESTAS'!AB47,Back!$M$16:$N$20,2,0)","v":"#N/A"},{"$f":"+VLOOKUP('BASE DE RESPUESTAS'!AC47,Back!$M$16:$N$20,2,0)","v":"#N/A"},{"$f":"+VLOOKUP('BASE DE RESPUESTAS'!AD47,Back!$M$16:$N$20,2,0)","v":"#N/A"},{"$f":"+VLOOKUP('BASE DE RESPUESTAS'!AE47,Back!$M$16:$N$20,2,0)","v":"#N/A"},{"$f":"+VLOOKUP('BASE DE RESPUESTAS'!AF47,Back!$M$16:$N$20,2,0)","v":"#N/A"},{"$f":"+VLOOKUP('BASE DE RESPUESTAS'!AG47,Back!$M$16:$N$20,2,0)","v":"#N/A"},{"$f":"+VLOOKUP('BASE DE RESPUESTAS'!AH47,Back!$M$16:$N$20,2,0)","v":"#N/A"},{"$f":"+VLOOKUP('BASE DE RESPUESTAS'!AI47,Back!$M$16:$N$20,2,0)","v":"#N/A"},{"$f":"+VLOOKUP('BASE DE RESPUESTAS'!AJ47,Back!$M$16:$N$20,2,0)","v":"#N/A"},{"$f":"+VLOOKUP('BASE DE RESPUESTAS'!AK47,Back!$M$16:$N$20,2,0)","v":"#N/A"},{"$f":"+VLOOKUP('BASE DE RESPUESTAS'!AL47,Back!$M$16:$N$20,2,0)","v":"#N/A"},{"$f":"+VLOOKUP('BASE DE RESPUESTAS'!AM47,Back!$M$16:$N$20,2,0)","v":"#N/A"},{"$f":"+VLOOKUP('BASE DE RESPUESTAS'!AN47,Back!$M$16:$N$20,2,0)","v":"#N/A"},{"$f":"+VLOOKUP('BASE DE RESPUESTAS'!AO47,Back!$M$16:$N$20,2,0)","v":"#N/A"},{"$f":"+VLOOKUP('BASE DE RESPUESTAS'!AP47,Back!$M$16:$N$20,2,0)","v":"#N/A"},{"$f":"+VLOOKUP('BASE DE RESPUESTAS'!AQ47,Back!$M$16:$N$20,2,0)","v":"#N/A"},{"$f":"+VLOOKUP('BASE DE RESPUESTAS'!AR47,Back!$M$16:$N$20,2,0)","v":"#N/A"},{"$f":"+VLOOKUP('BASE DE RESPUESTAS'!AS47,Back!$M$16:$N$20,2,0)","v":"#N/A"},{"$f":"+VLOOKUP('BASE DE RESPUESTAS'!AT47,Back!$M$16:$N$20,2,0)","v":"#N/A"},{"$f":"+VLOOKUP('BASE DE RESPUESTAS'!AU47,Back!$M$16:$N$20,2,0)","v":"#N/A"},{"$f":"+VLOOKUP('BASE DE RESPUESTAS'!AV47,Back!$M$16:$N$20,2,0)","v":"#N/A"},{"$f":"+VLOOKUP('BASE DE RESPUESTAS'!AW47,Back!$M$16:$N$20,2,0)","v":"#N/A"},{"$f":"+VLOOKUP('BASE DE RESPUESTAS'!AX47,Back!$M$16:$N$20,2,0)","v":"#N/A"},{"$f":"+VLOOKUP('BASE DE RESPUESTAS'!AY47,Back!$M$16:$N$20,2,0)","v":"#N/A"},{"$f":"+VLOOKUP('BASE DE RESPUESTAS'!AZ47,Back!$M$16:$N$20,2,0)","v":"#N/A"},{"$f":"+VLOOKUP('BASE DE RESPUESTAS'!BA47,Back!$M$16:$N$20,2,0)","v":"#N/A"},{"$f":"+VLOOKUP('BASE DE RESPUESTAS'!BB47,Back!$M$16:$N$20,2,0)","v":"#N/A"},{"$f":"+VLOOKUP('BASE DE RESPUESTAS'!BC47,Back!$M$16:$N$20,2,0)","v":"#N/A"},{"$f":"+VLOOKUP('BASE DE RESPUESTAS'!BD47,Back!$M$16:$N$20,2,0)","v":"#N/A"},{"$f":"+VLOOKUP('BASE DE RESPUESTAS'!BE47,Back!$M$16:$N$20,2,0)","v":"#N/A"}]
[null,null,null,"El o la estudiante no se encuentra motivado para seguir estudiando.",42.0,"No me siento motivado a seguir estudiando, he pensado dejar la escuela.",null,{"$f":"+VLOOKUP('BASE DE RESPUESTAS'!H48,Back!$M$16:$N$20,2,0)","v":"#N/A"},{"$f":"+VLOOKUP('BASE DE RESPUESTAS'!I48,Back!$M$16:$N$20,2,0)","v":"#N/A"},{"$f":"+VLOOKUP('BASE DE RESPUESTAS'!J48,Back!$M$16:$N$20,2,0)","v":"#N/A"},{"$f":"+VLOOKUP('BASE DE RESPUESTAS'!K48,Back!$M$16:$N$20,2,0)","v":"#N/A"},{"$f":"+VLOOKUP('BASE DE RESPUESTAS'!L48,Back!$M$16:$N$20,2,0)","v":"#N/A"},{"$f":"+VLOOKUP('BASE DE RESPUESTAS'!M48,Back!$M$16:$N$20,2,0)","v":"#N/A"},{"$f":"+VLOOKUP('BASE DE RESPUESTAS'!N48,Back!$M$16:$N$20,2,0)","v":"#N/A"},{"$f":"+VLOOKUP('BASE DE RESPUESTAS'!O48,Back!$M$16:$N$20,2,0)","v":"#N/A"},{"$f":"+VLOOKUP('BASE DE RESPUESTAS'!P48,Back!$M$16:$N$20,2,0)","v":"#N/A"},{"$f":"+VLOOKUP('BASE DE RESPUESTAS'!Q48,Back!$M$16:$N$20,2,0)","v":"#N/A"},{"$f":"+VLOOKUP('BASE DE RESPUESTAS'!R48,Back!$M$16:$N$20,2,0)","v":"#N/A"},{"$f":"+VLOOKUP('BASE DE RESPUESTAS'!S48,Back!$M$16:$N$20,2,0)","v":"#N/A"},{"$f":"+VLOOKUP('BASE DE RESPUESTAS'!T48,Back!$M$16:$N$20,2,0)","v":"#N/A"},{"$f":"+VLOOKUP('BASE DE RESPUESTAS'!U48,Back!$M$16:$N$20,2,0)","v":"#N/A"},{"$f":"+VLOOKUP('BASE DE RESPUESTAS'!V48,Back!$M$16:$N$20,2,0)","v":"#N/A"},{"$f":"+VLOOKUP('BASE DE RESPUESTAS'!W48,Back!$M$16:$N$20,2,0)","v":"#N/A"},{"$f":"+VLOOKUP('BASE DE RESPUESTAS'!X48,Back!$M$16:$N$20,2,0)","v":"#N/A"},{"$f":"+VLOOKUP('BASE DE RESPUESTAS'!Y48,Back!$M$16:$N$20,2,0)","v":"#N/A"},{"$f":"+VLOOKUP('BASE DE RESPUESTAS'!Z48,Back!$M$16:$N$20,2,0)","v":"#N/A"},{"$f":"+VLOOKUP('BASE DE RESPUESTAS'!AA48,Back!$M$16:$N$20,2,0)","v":"#N/A"},{"$f":"+VLOOKUP('BASE DE RESPUESTAS'!AB48,Back!$M$16:$N$20,2,0)","v":"#N/A"},{"$f":"+VLOOKUP('BASE DE RESPUESTAS'!AC48,Back!$M$16:$N$20,2,0)","v":"#N/A"},{"$f":"+VLOOKUP('BASE DE RESPUESTAS'!AD48,Back!$M$16:$N$20,2,0)","v":"#N/A"},{"$f":"+VLOOKUP('BASE DE RESPUESTAS'!AE48,Back!$M$16:$N$20,2,0)","v":"#N/A"},{"$f":"+VLOOKUP('BASE DE RESPUESTAS'!AF48,Back!$M$16:$N$20,2,0)","v":"#N/A"},{"$f":"+VLOOKUP('BASE DE RESPUESTAS'!AG48,Back!$M$16:$N$20,2,0)","v":"#N/A"},{"$f":"+VLOOKUP('BASE DE RESPUESTAS'!AH48,Back!$M$16:$N$20,2,0)","v":"#N/A"},{"$f":"+VLOOKUP('BASE DE RESPUESTAS'!AI48,Back!$M$16:$N$20,2,0)","v":"#N/A"},{"$f":"+VLOOKUP('BASE DE RESPUESTAS'!AJ48,Back!$M$16:$N$20,2,0)","v":"#N/A"},{"$f":"+VLOOKUP('BASE DE RESPUESTAS'!AK48,Back!$M$16:$N$20,2,0)","v":"#N/A"},{"$f":"+VLOOKUP('BASE DE RESPUESTAS'!AL48,Back!$M$16:$N$20,2,0)","v":"#N/A"},{"$f":"+VLOOKUP('BASE DE RESPUESTAS'!AM48,Back!$M$16:$N$20,2,0)","v":"#N/A"},{"$f":"+VLOOKUP('BASE DE RESPUESTAS'!AN48,Back!$M$16:$N$20,2,0)","v":"#N/A"},{"$f":"+VLOOKUP('BASE DE RESPUESTAS'!AO48,Back!$M$16:$N$20,2,0)","v":"#N/A"},{"$f":"+VLOOKUP('BASE DE RESPUESTAS'!AP48,Back!$M$16:$N$20,2,0)","v":"#N/A"},{"$f":"+VLOOKUP('BASE DE RESPUESTAS'!AQ48,Back!$M$16:$N$20,2,0)","v":"#N/A"},{"$f":"+VLOOKUP('BASE DE RESPUESTAS'!AR48,Back!$M$16:$N$20,2,0)","v":"#N/A"},{"$f":"+VLOOKUP('BASE DE RESPUESTAS'!AS48,Back!$M$16:$N$20,2,0)","v":"#N/A"},{"$f":"+VLOOKUP('BASE DE RESPUESTAS'!AT48,Back!$M$16:$N$20,2,0)","v":"#N/A"},{"$f":"+VLOOKUP('BASE DE RESPUESTAS'!AU48,Back!$M$16:$N$20,2,0)","v":"#N/A"},{"$f":"+VLOOKUP('BASE DE RESPUESTAS'!AV48,Back!$M$16:$N$20,2,0)","v":"#N/A"},{"$f":"+VLOOKUP('BASE DE RESPUESTAS'!AW48,Back!$M$16:$N$20,2,0)","v":"#N/A"},{"$f":"+VLOOKUP('BASE DE RESPUESTAS'!AX48,Back!$M$16:$N$20,2,0)","v":"#N/A"},{"$f":"+VLOOKUP('BASE DE RESPUESTAS'!AY48,Back!$M$16:$N$20,2,0)","v":"#N/A"},{"$f":"+VLOOKUP('BASE DE RESPUESTAS'!AZ48,Back!$M$16:$N$20,2,0)","v":"#N/A"},{"$f":"+VLOOKUP('BASE DE RESPUESTAS'!BA48,Back!$M$16:$N$20,2,0)","v":"#N/A"},{"$f":"+VLOOKUP('BASE DE RESPUESTAS'!BB48,Back!$M$16:$N$20,2,0)","v":"#N/A"},{"$f":"+VLOOKUP('BASE DE RESPUESTAS'!BC48,Back!$M$16:$N$20,2,0)","v":"#N/A"},{"$f":"+VLOOKUP('BASE DE RESPUESTAS'!BD48,Back!$M$16:$N$20,2,0)","v":"#N/A"},{"$f":"+VLOOKUP('BASE DE RESPUESTAS'!BE48,Back!$M$16:$N$20,2,0)","v":"#N/A"}]
[null,"FR","Desinformación sobre educación sexual reproductiva","El o la estudiante conoce sobre educación sexual.",43.0,"No he recibido información sobre educación sexual en mi escuela, ni en mi familia.",null,{"$f":"+VLOOKUP('BASE DE RESPUESTAS'!H49,Back!$M$16:$N$20,2,0)","v":"#N/A"},{"$f":"+VLOOKUP('BASE DE RESPUESTAS'!I49,Back!$M$16:$N$20,2,0)","v":"#N/A"},{"$f":"+VLOOKUP('BASE DE RESPUESTAS'!J49,Back!$M$16:$N$20,2,0)","v":"#N/A"},{"$f":"+VLOOKUP('BASE DE RESPUESTAS'!K49,Back!$M$16:$N$20,2,0)","v":"#N/A"},{"$f":"+VLOOKUP('BASE DE RESPUESTAS'!L49,Back!$M$16:$N$20,2,0)","v":"#N/A"},{"$f":"+VLOOKUP('BASE DE RESPUESTAS'!M49,Back!$M$16:$N$20,2,0)","v":"#N/A"},{"$f":"+VLOOKUP('BASE DE RESPUESTAS'!N49,Back!$M$16:$N$20,2,0)","v":"#N/A"},{"$f":"+VLOOKUP('BASE DE RESPUESTAS'!O49,Back!$M$16:$N$20,2,0)","v":"#N/A"},{"$f":"+VLOOKUP('BASE DE RESPUESTAS'!P49,Back!$M$16:$N$20,2,0)","v":"#N/A"},{"$f":"+VLOOKUP('BASE DE RESPUESTAS'!Q49,Back!$M$16:$N$20,2,0)","v":"#N/A"},{"$f":"+VLOOKUP('BASE DE RESPUESTAS'!R49,Back!$M$16:$N$20,2,0)","v":"#N/A"},{"$f":"+VLOOKUP('BASE DE RESPUESTAS'!S49,Back!$M$16:$N$20,2,0)","v":"#N/A"},{"$f":"+VLOOKUP('BASE DE RESPUESTAS'!T49,Back!$M$16:$N$20,2,0)","v":"#N/A"},{"$f":"+VLOOKUP('BASE DE RESPUESTAS'!U49,Back!$M$16:$N$20,2,0)","v":"#N/A"},{"$f":"+VLOOKUP('BASE DE RESPUESTAS'!V49,Back!$M$16:$N$20,2,0)","v":"#N/A"},{"$f":"+VLOOKUP('BASE DE RESPUESTAS'!W49,Back!$M$16:$N$20,2,0)","v":"#N/A"},{"$f":"+VLOOKUP('BASE DE RESPUESTAS'!X49,Back!$M$16:$N$20,2,0)","v":"#N/A"},{"$f":"+VLOOKUP('BASE DE RESPUESTAS'!Y49,Back!$M$16:$N$20,2,0)","v":"#N/A"},{"$f":"+VLOOKUP('BASE DE RESPUESTAS'!Z49,Back!$M$16:$N$20,2,0)","v":"#N/A"},{"$f":"+VLOOKUP('BASE DE RESPUESTAS'!AA49,Back!$M$16:$N$20,2,0)","v":"#N/A"},{"$f":"+VLOOKUP('BASE DE RESPUESTAS'!AB49,Back!$M$16:$N$20,2,0)","v":"#N/A"},{"$f":"+VLOOKUP('BASE DE RESPUESTAS'!AC49,Back!$M$16:$N$20,2,0)","v":"#N/A"},{"$f":"+VLOOKUP('BASE DE RESPUESTAS'!AD49,Back!$M$16:$N$20,2,0)","v":"#N/A"},{"$f":"+VLOOKUP('BASE DE RESPUESTAS'!AE49,Back!$M$16:$N$20,2,0)","v":"#N/A"},{"$f":"+VLOOKUP('BASE DE RESPUESTAS'!AF49,Back!$M$16:$N$20,2,0)","v":"#N/A"},{"$f":"+VLOOKUP('BASE DE RESPUESTAS'!AG49,Back!$M$16:$N$20,2,0)","v":"#N/A"},{"$f":"+VLOOKUP('BASE DE RESPUESTAS'!AH49,Back!$M$16:$N$20,2,0)","v":"#N/A"},{"$f":"+VLOOKUP('BASE DE RESPUESTAS'!AI49,Back!$M$16:$N$20,2,0)","v":"#N/A"},{"$f":"+VLOOKUP('BASE DE RESPUESTAS'!AJ49,Back!$M$16:$N$20,2,0)","v":"#N/A"},{"$f":"+VLOOKUP('BASE DE RESPUESTAS'!AK49,Back!$M$16:$N$20,2,0)","v":"#N/A"},{"$f":"+VLOOKUP('BASE DE RESPUESTAS'!AL49,Back!$M$16:$N$20,2,0)","v":"#N/A"},{"$f":"+VLOOKUP('BASE DE RESPUESTAS'!AM49,Back!$M$16:$N$20,2,0)","v":"#N/A"},{"$f":"+VLOOKUP('BASE DE RESPUESTAS'!AN49,Back!$M$16:$N$20,2,0)","v":"#N/A"},{"$f":"+VLOOKUP('BASE DE RESPUESTAS'!AO49,Back!$M$16:$N$20,2,0)","v":"#N/A"},{"$f":"+VLOOKUP('BASE DE RESPUESTAS'!AP49,Back!$M$16:$N$20,2,0)","v":"#N/A"},{"$f":"+VLOOKUP('BASE DE RESPUESTAS'!AQ49,Back!$M$16:$N$20,2,0)","v":"#N/A"},{"$f":"+VLOOKUP('BASE DE RESPUESTAS'!AR49,Back!$M$16:$N$20,2,0)","v":"#N/A"},{"$f":"+VLOOKUP('BASE DE RESPUESTAS'!AS49,Back!$M$16:$N$20,2,0)","v":"#N/A"},{"$f":"+VLOOKUP('BASE DE RESPUESTAS'!AT49,Back!$M$16:$N$20,2,0)","v":"#N/A"},{"$f":"+VLOOKUP('BASE DE RESPUESTAS'!AU49,Back!$M$16:$N$20,2,0)","v":"#N/A"},{"$f":"+VLOOKUP('BASE DE RESPUESTAS'!AV49,Back!$M$16:$N$20,2,0)","v":"#N/A"},{"$f":"+VLOOKUP('BASE DE RESPUESTAS'!AW49,Back!$M$16:$N$20,2,0)","v":"#N/A"},{"$f":"+VLOOKUP('BASE DE RESPUESTAS'!AX49,Back!$M$16:$N$20,2,0)","v":"#N/A"},{"$f":"+VLOOKUP('BASE DE RESPUESTAS'!AY49,Back!$M$16:$N$20,2,0)","v":"#N/A"},{"$f":"+VLOOKUP('BASE DE RESPUESTAS'!AZ49,Back!$M$16:$N$20,2,0)","v":"#N/A"},{"$f":"+VLOOKUP('BASE DE RESPUESTAS'!BA49,Back!$M$16:$N$20,2,0)","v":"#N/A"},{"$f":"+VLOOKUP('BASE DE RESPUESTAS'!BB49,Back!$M$16:$N$20,2,0)","v":"#N/A"},{"$f":"+VLOOKUP('BASE DE RESPUESTAS'!BC49,Back!$M$16:$N$20,2,0)","v":"#N/A"},{"$f":"+VLOOKUP('BASE DE RESPUESTAS'!BD49,Back!$M$16:$N$20,2,0)","v":"#N/A"},{"$f":"+VLOOKUP('BASE DE RESPUESTAS'!BE49,Back!$M$16:$N$20,2,0)","v":"#N/A"}]
[null,null,null,"El o la estudiante reconoce los cambios que está experimentando en su cuerpo.",44.0,"Tengo dudas sobre los cambios en mi cuerpo y no sé a dónde consultar.",null,{"$f":"+VLOOKUP('BASE DE RESPUESTAS'!H50,Back!$M$16:$N$20,2,0)","v":"#N/A"},{"$f":"+VLOOKUP('BASE DE RESPUESTAS'!I50,Back!$M$16:$N$20,2,0)","v":"#N/A"},{"$f":"+VLOOKUP('BASE DE RESPUESTAS'!J50,Back!$M$16:$N$20,2,0)","v":"#N/A"},{"$f":"+VLOOKUP('BASE DE RESPUESTAS'!K50,Back!$M$16:$N$20,2,0)","v":"#N/A"},{"$f":"+VLOOKUP('BASE DE RESPUESTAS'!L50,Back!$M$16:$N$20,2,0)","v":"#N/A"},{"$f":"+VLOOKUP('BASE DE RESPUESTAS'!M50,Back!$M$16:$N$20,2,0)","v":"#N/A"},{"$f":"+VLOOKUP('BASE DE RESPUESTAS'!N50,Back!$M$16:$N$20,2,0)","v":"#N/A"},{"$f":"+VLOOKUP('BASE DE RESPUESTAS'!O50,Back!$M$16:$N$20,2,0)","v":"#N/A"},{"$f":"+VLOOKUP('BASE DE RESPUESTAS'!P50,Back!$M$16:$N$20,2,0)","v":"#N/A"},{"$f":"+VLOOKUP('BASE DE RESPUESTAS'!Q50,Back!$M$16:$N$20,2,0)","v":"#N/A"},{"$f":"+VLOOKUP('BASE DE RESPUESTAS'!R50,Back!$M$16:$N$20,2,0)","v":"#N/A"},{"$f":"+VLOOKUP('BASE DE RESPUESTAS'!S50,Back!$M$16:$N$20,2,0)","v":"#N/A"},{"$f":"+VLOOKUP('BASE DE RESPUESTAS'!T50,Back!$M$16:$N$20,2,0)","v":"#N/A"},{"$f":"+VLOOKUP('BASE DE RESPUESTAS'!U50,Back!$M$16:$N$20,2,0)","v":"#N/A"},{"$f":"+VLOOKUP('BASE DE RESPUESTAS'!V50,Back!$M$16:$N$20,2,0)","v":"#N/A"},{"$f":"+VLOOKUP('BASE DE RESPUESTAS'!W50,Back!$M$16:$N$20,2,0)","v":"#N/A"},{"$f":"+VLOOKUP('BASE DE RESPUESTAS'!X50,Back!$M$16:$N$20,2,0)","v":"#N/A"},{"$f":"+VLOOKUP('BASE DE RESPUESTAS'!Y50,Back!$M$16:$N$20,2,0)","v":"#N/A"},{"$f":"+VLOOKUP('BASE DE RESPUESTAS'!Z50,Back!$M$16:$N$20,2,0)","v":"#N/A"},{"$f":"+VLOOKUP('BASE DE RESPUESTAS'!AA50,Back!$M$16:$N$20,2,0)","v":"#N/A"},{"$f":"+VLOOKUP('BASE DE RESPUESTAS'!AB50,Back!$M$16:$N$20,2,0)","v":"#N/A"},{"$f":"+VLOOKUP('BASE DE RESPUESTAS'!AC50,Back!$M$16:$N$20,2,0)","v":"#N/A"},{"$f":"+VLOOKUP('BASE DE RESPUESTAS'!AD50,Back!$M$16:$N$20,2,0)","v":"#N/A"},{"$f":"+VLOOKUP('BASE DE RESPUESTAS'!AE50,Back!$M$16:$N$20,2,0)","v":"#N/A"},{"$f":"+VLOOKUP('BASE DE RESPUESTAS'!AF50,Back!$M$16:$N$20,2,0)","v":"#N/A"},{"$f":"+VLOOKUP('BASE DE RESPUESTAS'!AG50,Back!$M$16:$N$20,2,0)","v":"#N/A"},{"$f":"+VLOOKUP('BASE DE RESPUESTAS'!AH50,Back!$M$16:$N$20,2,0)","v":"#N/A"},{"$f":"+VLOOKUP('BASE DE RESPUESTAS'!AI50,Back!$M$16:$N$20,2,0)","v":"#N/A"},{"$f":"+VLOOKUP('BASE DE RESPUESTAS'!AJ50,Back!$M$16:$N$20,2,0)","v":"#N/A"},{"$f":"+VLOOKUP('BASE DE RESPUESTAS'!AK50,Back!$M$16:$N$20,2,0)","v":"#N/A"},{"$f":"+VLOOKUP('BASE DE RESPUESTAS'!AL50,Back!$M$16:$N$20,2,0)","v":"#N/A"},{"$f":"+VLOOKUP('BASE DE RESPUESTAS'!AM50,Back!$M$16:$N$20,2,0)","v":"#N/A"},{"$f":"+VLOOKUP('BASE DE RESPUESTAS'!AN50,Back!$M$16:$N$20,2,0)","v":"#N/A"},{"$f":"+VLOOKUP('BASE DE RESPUESTAS'!AO50,Back!$M$16:$N$20,2,0)","v":"#N/A"},{"$f":"+VLOOKUP('BASE DE RESPUESTAS'!AP50,Back!$M$16:$N$20,2,0)","v":"#N/A"},{"$f":"+VLOOKUP('BASE DE RESPUESTAS'!AQ50,Back!$M$16:$N$20,2,0)","v":"#N/A"},{"$f":"+VLOOKUP('BASE DE RESPUESTAS'!AR50,Back!$M$16:$N$20,2,0)","v":"#N/A"},{"$f":"+VLOOKUP('BASE DE RESPUESTAS'!AS50,Back!$M$16:$N$20,2,0)","v":"#N/A"},{"$f":"+VLOOKUP('BASE DE RESPUESTAS'!AT50,Back!$M$16:$N$20,2,0)","v":"#N/A"},{"$f":"+VLOOKUP('BASE DE RESPUESTAS'!AU50,Back!$M$16:$N$20,2,0)","v":"#N/A"},{"$f":"+VLOOKUP('BASE DE RESPUESTAS'!AV50,Back!$M$16:$N$20,2,0)","v":"#N/A"},{"$f":"+VLOOKUP('BASE DE RESPUESTAS'!AW50,Back!$M$16:$N$20,2,0)","v":"#N/A"},{"$f":"+VLOOKUP('BASE DE RESPUESTAS'!AX50,Back!$M$16:$N$20,2,0)","v":"#N/A"},{"$f":"+VLOOKUP('BASE DE RESPUESTAS'!AY50,Back!$M$16:$N$20,2,0)","v":"#N/A"},{"$f":"+VLOOKUP('BASE DE RESPUESTAS'!AZ50,Back!$M$16:$N$20,2,0)","v":"#N/A"},{"$f":"+VLOOKUP('BASE DE RESPUESTAS'!BA50,Back!$M$16:$N$20,2,0)","v":"#N/A"},{"$f":"+VLOOKUP('BASE DE RESPUESTAS'!BB50,Back!$M$16:$N$20,2,0)","v":"#N/A"},{"$f":"+VLOOKUP('BASE DE RESPUESTAS'!BC50,Back!$M$16:$N$20,2,0)","v":"#N/A"},{"$f":"+VLOOKUP('BASE DE RESPUESTAS'!BD50,Back!$M$16:$N$20,2,0)","v":"#N/A"},{"$f":"+VLOOKUP('BASE DE RESPUESTAS'!BE50,Back!$M$16:$N$20,2,0)","v":"#N/A"}]
[null,null,null,"El o la estudiante sabe cómo prevenir riesgos en relación a su salud sexual.",45.0,"No sé cómo cuidarme ante peligros que puedan afectar mi sexualidad (acoso, sexting, infecciones, trata, etc.).",null,{"$f":"+VLOOKUP('BASE DE RESPUESTAS'!H51,Back!$M$16:$N$20,2,0)","v":"#N/A"},{"$f":"+VLOOKUP('BASE DE RESPUESTAS'!I51,Back!$M$16:$N$20,2,0)","v":"#N/A"},{"$f":"+VLOOKUP('BASE DE RESPUESTAS'!J51,Back!$M$16:$N$20,2,0)","v":"#N/A"},{"$f":"+VLOOKUP('BASE DE RESPUESTAS'!K51,Back!$M$16:$N$20,2,0)","v":"#N/A"},{"$f":"+VLOOKUP('BASE DE RESPUESTAS'!L51,Back!$M$16:$N$20,2,0)","v":"#N/A"},{"$f":"+VLOOKUP('BASE DE RESPUESTAS'!M51,Back!$M$16:$N$20,2,0)","v":"#N/A"},{"$f":"+VLOOKUP('BASE DE RESPUESTAS'!N51,Back!$M$16:$N$20,2,0)","v":"#N/A"},{"$f":"+VLOOKUP('BASE DE RESPUESTAS'!O51,Back!$M$16:$N$20,2,0)","v":"#N/A"},{"$f":"+VLOOKUP('BASE DE RESPUESTAS'!P51,Back!$M$16:$N$20,2,0)","v":"#N/A"},{"$f":"+VLOOKUP('BASE DE RESPUESTAS'!Q51,Back!$M$16:$N$20,2,0)","v":"#N/A"},{"$f":"+VLOOKUP('BASE DE RESPUESTAS'!R51,Back!$M$16:$N$20,2,0)","v":"#N/A"},{"$f":"+VLOOKUP('BASE DE RESPUESTAS'!S51,Back!$M$16:$N$20,2,0)","v":"#N/A"},{"$f":"+VLOOKUP('BASE DE RESPUESTAS'!T51,Back!$M$16:$N$20,2,0)","v":"#N/A"},{"$f":"+VLOOKUP('BASE DE RESPUESTAS'!U51,Back!$M$16:$N$20,2,0)","v":"#N/A"},{"$f":"+VLOOKUP('BASE DE RESPUESTAS'!V51,Back!$M$16:$N$20,2,0)","v":"#N/A"},{"$f":"+VLOOKUP('BASE DE RESPUESTAS'!W51,Back!$M$16:$N$20,2,0)","v":"#N/A"},{"$f":"+VLOOKUP('BASE DE RESPUESTAS'!X51,Back!$M$16:$N$20,2,0)","v":"#N/A"},{"$f":"+VLOOKUP('BASE DE RESPUESTAS'!Y51,Back!$M$16:$N$20,2,0)","v":"#N/A"},{"$f":"+VLOOKUP('BASE DE RESPUESTAS'!Z51,Back!$M$16:$N$20,2,0)","v":"#N/A"},{"$f":"+VLOOKUP('BASE DE RESPUESTAS'!AA51,Back!$M$16:$N$20,2,0)","v":"#N/A"},{"$f":"+VLOOKUP('BASE DE RESPUESTAS'!AB51,Back!$M$16:$N$20,2,0)","v":"#N/A"},{"$f":"+VLOOKUP('BASE DE RESPUESTAS'!AC51,Back!$M$16:$N$20,2,0)","v":"#N/A"},{"$f":"+VLOOKUP('BASE DE RESPUESTAS'!AD51,Back!$M$16:$N$20,2,0)","v":"#N/A"},{"$f":"+VLOOKUP('BASE DE RESPUESTAS'!AE51,Back!$M$16:$N$20,2,0)","v":"#N/A"},{"$f":"+VLOOKUP('BASE DE RESPUESTAS'!AF51,Back!$M$16:$N$20,2,0)","v":"#N/A"},{"$f":"+VLOOKUP('BASE DE RESPUESTAS'!AG51,Back!$M$16:$N$20,2,0)","v":"#N/A"},{"$f":"+VLOOKUP('BASE DE RESPUESTAS'!AH51,Back!$M$16:$N$20,2,0)","v":"#N/A"},{"$f":"+VLOOKUP('BASE DE RESPUESTAS'!AI51,Back!$M$16:$N$20,2,0)","v":"#N/A"},{"$f":"+VLOOKUP('BASE DE RESPUESTAS'!AJ51,Back!$M$16:$N$20,2,0)","v":"#N/A"},{"$f":"+VLOOKUP('BASE DE RESPUESTAS'!AK51,Back!$M$16:$N$20,2,0)","v":"#N/A"},{"$f":"+VLOOKUP('BASE DE RESPUESTAS'!AL51,Back!$M$16:$N$20,2,0)","v":"#N/A"},{"$f":"+VLOOKUP('BASE DE RESPUESTAS'!AM51,Back!$M$16:$N$20,2,0)","v":"#N/A"},{"$f":"+VLOOKUP('BASE DE RESPUESTAS'!AN51,Back!$M$16:$N$20,2,0)","v":"#N/A"},{"$f":"+VLOOKUP('BASE DE RESPUESTAS'!AO51,Back!$M$16:$N$20,2,0)","v":"#N/A"},{"$f":"+VLOOKUP('BASE DE RESPUESTAS'!AP51,Back!$M$16:$N$20,2,0)","v":"#N/A"},{"$f":"+VLOOKUP('BASE DE RESPUESTAS'!AQ51,Back!$M$16:$N$20,2,0)","v":"#N/A"},{"$f":"+VLOOKUP('BASE DE RESPUESTAS'!AR51,Back!$M$16:$N$20,2,0)","v":"#N/A"},{"$f":"+VLOOKUP('BASE DE RESPUESTAS'!AS51,Back!$M$16:$N$20,2,0)","v":"#N/A"},{"$f":"+VLOOKUP('BASE DE RESPUESTAS'!AT51,Back!$M$16:$N$20,2,0)","v":"#N/A"},{"$f":"+VLOOKUP('BASE DE RESPUESTAS'!AU51,Back!$M$16:$N$20,2,0)","v":"#N/A"},{"$f":"+VLOOKUP('BASE DE RESPUESTAS'!AV51,Back!$M$16:$N$20,2,0)","v":"#N/A"},{"$f":"+VLOOKUP('BASE DE RESPUESTAS'!AW51,Back!$M$16:$N$20,2,0)","v":"#N/A"},{"$f":"+VLOOKUP('BASE DE RESPUESTAS'!AX51,Back!$M$16:$N$20,2,0)","v":"#N/A"},{"$f":"+VLOOKUP('BASE DE RESPUESTAS'!AY51,Back!$M$16:$N$20,2,0)","v":"#N/A"},{"$f":"+VLOOKUP('BASE DE RESPUESTAS'!AZ51,Back!$M$16:$N$20,2,0)","v":"#N/A"},{"$f":"+VLOOKUP('BASE DE RESPUESTAS'!BA51,Back!$M$16:$N$20,2,0)","v":"#N/A"},{"$f":"+VLOOKUP('BASE DE RESPUESTAS'!BB51,Back!$M$16:$N$20,2,0)","v":"#N/A"},{"$f":"+VLOOKUP('BASE DE RESPUESTAS'!BC51,Back!$M$16:$N$20,2,0)","v":"#N/A"},{"$f":"+VLOOKUP('BASE DE RESPUESTAS'!BD51,Back!$M$16:$N$20,2,0)","v":"#N/A"},{"$f":"+VLOOKUP('BASE DE RESPUESTAS'!BE51,Back!$M$16:$N$20,2,0)","v":"#N/A"}]
[null,"FR","Violencia familiar","Al menos uno de los padres o cuidador(a) ejerce violencia física al estudiante.",46.0,"Cuando me equivoco o no cumplo mis obligaciones, me castigan",null,{"$f":"+VLOOKUP('BASE DE RESPUESTAS'!H52,Back!$M$16:$N$20,2,0)","v":"#N/A"},{"$f":"+VLOOKUP('BASE DE RESPUESTAS'!I52,Back!$M$16:$N$20,2,0)","v":"#N/A"},{"$f":"+VLOOKUP('BASE DE RESPUESTAS'!J52,Back!$M$16:$N$20,2,0)","v":"#N/A"},{"$f":"+VLOOKUP('BASE DE RESPUESTAS'!K52,Back!$M$16:$N$20,2,0)","v":"#N/A"},{"$f":"+VLOOKUP('BASE DE RESPUESTAS'!L52,Back!$M$16:$N$20,2,0)","v":"#N/A"},{"$f":"+VLOOKUP('BASE DE RESPUESTAS'!M52,Back!$M$16:$N$20,2,0)","v":"#N/A"},{"$f":"+VLOOKUP('BASE DE RESPUESTAS'!N52,Back!$M$16:$N$20,2,0)","v":"#N/A"},{"$f":"+VLOOKUP('BASE DE RESPUESTAS'!O52,Back!$M$16:$N$20,2,0)","v":"#N/A"},{"$f":"+VLOOKUP('BASE DE RESPUESTAS'!P52,Back!$M$16:$N$20,2,0)","v":"#N/A"},{"$f":"+VLOOKUP('BASE DE RESPUESTAS'!Q52,Back!$M$16:$N$20,2,0)","v":"#N/A"},{"$f":"+VLOOKUP('BASE DE RESPUESTAS'!R52,Back!$M$16:$N$20,2,0)","v":"#N/A"},{"$f":"+VLOOKUP('BASE DE RESPUESTAS'!S52,Back!$M$16:$N$20,2,0)","v":"#N/A"},{"$f":"+VLOOKUP('BASE DE RESPUESTAS'!T52,Back!$M$16:$N$20,2,0)","v":"#N/A"},{"$f":"+VLOOKUP('BASE DE RESPUESTAS'!U52,Back!$M$16:$N$20,2,0)","v":"#N/A"},{"$f":"+VLOOKUP('BASE DE RESPUESTAS'!V52,Back!$M$16:$N$20,2,0)","v":"#N/A"},{"$f":"+VLOOKUP('BASE DE RESPUESTAS'!W52,Back!$M$16:$N$20,2,0)","v":"#N/A"},{"$f":"+VLOOKUP('BASE DE RESPUESTAS'!X52,Back!$M$16:$N$20,2,0)","v":"#N/A"},{"$f":"+VLOOKUP('BASE DE RESPUESTAS'!Y52,Back!$M$16:$N$20,2,0)","v":"#N/A"},{"$f":"+VLOOKUP('BASE DE RESPUESTAS'!Z52,Back!$M$16:$N$20,2,0)","v":"#N/A"},{"$f":"+VLOOKUP('BASE DE RESPUESTAS'!AA52,Back!$M$16:$N$20,2,0)","v":"#N/A"},{"$f":"+VLOOKUP('BASE DE RESPUESTAS'!AB52,Back!$M$16:$N$20,2,0)","v":"#N/A"},{"$f":"+VLOOKUP('BASE DE RESPUESTAS'!AC52,Back!$M$16:$N$20,2,0)","v":"#N/A"},{"$f":"+VLOOKUP('BASE DE RESPUESTAS'!AD52,Back!$M$16:$N$20,2,0)","v":"#N/A"},{"$f":"+VLOOKUP('BASE DE RESPUESTAS'!AE52,Back!$M$16:$N$20,2,0)","v":"#N/A"},{"$f":"+VLOOKUP('BASE DE RESPUESTAS'!AF52,Back!$M$16:$N$20,2,0)","v":"#N/A"},{"$f":"+VLOOKUP('BASE DE RESPUESTAS'!AG52,Back!$M$16:$N$20,2,0)","v":"#N/A"},{"$f":"+VLOOKUP('BASE DE RESPUESTAS'!AH52,Back!$M$16:$N$20,2,0)","v":"#N/A"},{"$f":"+VLOOKUP('BASE DE RESPUESTAS'!AI52,Back!$M$16:$N$20,2,0)","v":"#N/A"},{"$f":"+VLOOKUP('BASE DE RESPUESTAS'!AJ52,Back!$M$16:$N$20,2,0)","v":"#N/A"},{"$f":"+VLOOKUP('BASE DE RESPUESTAS'!AK52,Back!$M$16:$N$20,2,0)","v":"#N/A"},{"$f":"+VLOOKUP('BASE DE RESPUESTAS'!AL52,Back!$M$16:$N$20,2,0)","v":"#N/A"},{"$f":"+VLOOKUP('BASE DE RESPUESTAS'!AM52,Back!$M$16:$N$20,2,0)","v":"#N/A"},{"$f":"+VLOOKUP('BASE DE RESPUESTAS'!AN52,Back!$M$16:$N$20,2,0)","v":"#N/A"},{"$f":"+VLOOKUP('BASE DE RESPUESTAS'!AO52,Back!$M$16:$N$20,2,0)","v":"#N/A"},{"$f":"+VLOOKUP('BASE DE RESPUESTAS'!AP52,Back!$M$16:$N$20,2,0)","v":"#N/A"},{"$f":"+VLOOKUP('BASE DE RESPUESTAS'!AQ52,Back!$M$16:$N$20,2,0)","v":"#N/A"},{"$f":"+VLOOKUP('BASE DE RESPUESTAS'!AR52,Back!$M$16:$N$20,2,0)","v":"#N/A"},{"$f":"+VLOOKUP('BASE DE RESPUESTAS'!AS52,Back!$M$16:$N$20,2,0)","v":"#N/A"},{"$f":"+VLOOKUP('BASE DE RESPUESTAS'!AT52,Back!$M$16:$N$20,2,0)","v":"#N/A"},{"$f":"+VLOOKUP('BASE DE RESPUESTAS'!AU52,Back!$M$16:$N$20,2,0)","v":"#N/A"},{"$f":"+VLOOKUP('BASE DE RESPUESTAS'!AV52,Back!$M$16:$N$20,2,0)","v":"#N/A"},{"$f":"+VLOOKUP('BASE DE RESPUESTAS'!AW52,Back!$M$16:$N$20,2,0)","v":"#N/A"},{"$f":"+VLOOKUP('BASE DE RESPUESTAS'!AX52,Back!$M$16:$N$20,2,0)","v":"#N/A"},{"$f":"+VLOOKUP('BASE DE RESPUESTAS'!AY52,Back!$M$16:$N$20,2,0)","v":"#N/A"},{"$f":"+VLOOKUP('BASE DE RESPUESTAS'!AZ52,Back!$M$16:$N$20,2,0)","v":"#N/A"},{"$f":"+VLOOKUP('BASE DE RESPUESTAS'!BA52,Back!$M$16:$N$20,2,0)","v":"#N/A"},{"$f":"+VLOOKUP('BASE DE RESPUESTAS'!BB52,Back!$M$16:$N$20,2,0)","v":"#N/A"},{"$f":"+VLOOKUP('BASE DE RESPUESTAS'!BC52,Back!$M$16:$N$20,2,0)","v":"#N/A"},{"$f":"+VLOOKUP('BASE DE RESPUESTAS'!BD52,Back!$M$16:$N$20,2,0)","v":"#N/A"},{"$f":"+VLOOKUP('BASE DE RESPUESTAS'!BE52,Back!$M$16:$N$20,2,0)","v":"#N/A"}]
[null,null,null,"Al menos uno de los padres o cuidador(a) maltrata emocionalmente al estudiante.",47.0,"Alguien de mi familia me hace sentir mal con sus palabras. (por ejemplo: insultos, gritos, malos tratos, etc.).",null,{"$f":"+VLOOKUP('BASE DE RESPUESTAS'!H53,Back!$M$16:$N$20,2,0)","v":"#N/A"},{"$f":"+VLOOKUP('BASE DE RESPUESTAS'!I53,Back!$M$16:$N$20,2,0)","v":"#N/A"},{"$f":"+VLOOKUP('BASE DE RESPUESTAS'!J53,Back!$M$16:$N$20,2,0)","v":"#N/A"},{"$f":"+VLOOKUP('BASE DE RESPUESTAS'!K53,Back!$M$16:$N$20,2,0)","v":"#N/A"},{"$f":"+VLOOKUP('BASE DE RESPUESTAS'!L53,Back!$M$16:$N$20,2,0)","v":"#N/A"},{"$f":"+VLOOKUP('BASE DE RESPUESTAS'!M53,Back!$M$16:$N$20,2,0)","v":"#N/A"},{"$f":"+VLOOKUP('BASE DE RESPUESTAS'!N53,Back!$M$16:$N$20,2,0)","v":"#N/A"},{"$f":"+VLOOKUP('BASE DE RESPUESTAS'!O53,Back!$M$16:$N$20,2,0)","v":"#N/A"},{"$f":"+VLOOKUP('BASE DE RESPUESTAS'!P53,Back!$M$16:$N$20,2,0)","v":"#N/A"},{"$f":"+VLOOKUP('BASE DE RESPUESTAS'!Q53,Back!$M$16:$N$20,2,0)","v":"#N/A"},{"$f":"+VLOOKUP('BASE DE RESPUESTAS'!R53,Back!$M$16:$N$20,2,0)","v":"#N/A"},{"$f":"+VLOOKUP('BASE DE RESPUESTAS'!S53,Back!$M$16:$N$20,2,0)","v":"#N/A"},{"$f":"+VLOOKUP('BASE DE RESPUESTAS'!T53,Back!$M$16:$N$20,2,0)","v":"#N/A"},{"$f":"+VLOOKUP('BASE DE RESPUESTAS'!U53,Back!$M$16:$N$20,2,0)","v":"#N/A"},{"$f":"+VLOOKUP('BASE DE RESPUESTAS'!V53,Back!$M$16:$N$20,2,0)","v":"#N/A"},{"$f":"+VLOOKUP('BASE DE RESPUESTAS'!W53,Back!$M$16:$N$20,2,0)","v":"#N/A"},{"$f":"+VLOOKUP('BASE DE RESPUESTAS'!X53,Back!$M$16:$N$20,2,0)","v":"#N/A"},{"$f":"+VLOOKUP('BASE DE RESPUESTAS'!Y53,Back!$M$16:$N$20,2,0)","v":"#N/A"},{"$f":"+VLOOKUP('BASE DE RESPUESTAS'!Z53,Back!$M$16:$N$20,2,0)","v":"#N/A"},{"$f":"+VLOOKUP('BASE DE RESPUESTAS'!AA53,Back!$M$16:$N$20,2,0)","v":"#N/A"},{"$f":"+VLOOKUP('BASE DE RESPUESTAS'!AB53,Back!$M$16:$N$20,2,0)","v":"#N/A"},{"$f":"+VLOOKUP('BASE DE RESPUESTAS'!AC53,Back!$M$16:$N$20,2,0)","v":"#N/A"},{"$f":"+VLOOKUP('BASE DE RESPUESTAS'!AD53,Back!$M$16:$N$20,2,0)","v":"#N/A"},{"$f":"+VLOOKUP('BASE DE RESPUESTAS'!AE53,Back!$M$16:$N$20,2,0)","v":"#N/A"},{"$f":"+VLOOKUP('BASE DE RESPUESTAS'!AF53,Back!$M$16:$N$20,2,0)","v":"#N/A"},{"$f":"+VLOOKUP('BASE DE RESPUESTAS'!AG53,Back!$M$16:$N$20,2,0)","v":"#N/A"},{"$f":"+VLOOKUP('BASE DE RESPUESTAS'!AH53,Back!$M$16:$N$20,2,0)","v":"#N/A"},{"$f":"+VLOOKUP('BASE DE RESPUESTAS'!AI53,Back!$M$16:$N$20,2,0)","v":"#N/A"},{"$f":"+VLOOKUP('BASE DE RESPUESTAS'!AJ53,Back!$M$16:$N$20,2,0)","v":"#N/A"},{"$f":"+VLOOKUP('BASE DE RESPUESTAS'!AK53,Back!$M$16:$N$20,2,0)","v":"#N/A"},{"$f":"+VLOOKUP('BASE DE RESPUESTAS'!AL53,Back!$M$16:$N$20,2,0)","v":"#N/A"},{"$f":"+VLOOKUP('BASE DE RESPUESTAS'!AM53,Back!$M$16:$N$20,2,0)","v":"#N/A"},{"$f":"+VLOOKUP('BASE DE RESPUESTAS'!AN53,Back!$M$16:$N$20,2,0)","v":"#N/A"},{"$f":"+VLOOKUP('BASE DE RESPUESTAS'!AO53,Back!$M$16:$N$20,2,0)","v":"#N/A"},{"$f":"+VLOOKUP('BASE DE RESPUESTAS'!AP53,Back!$M$16:$N$20,2,0)","v":"#N/A"},{"$f":"+VLOOKUP('BASE DE RESPUESTAS'!AQ53,Back!$M$16:$N$20,2,0)","v":"#N/A"},{"$f":"+VLOOKUP('BASE DE RESPUESTAS'!AR53,Back!$M$16:$N$20,2,0)","v":"#N/A"},{"$f":"+VLOOKUP('BASE DE RESPUESTAS'!AS53,Back!$M$16:$N$20,2,0)","v":"#N/A"},{"$f":"+VLOOKUP('BASE DE RESPUESTAS'!AT53,Back!$M$16:$N$20,2,0)","v":"#N/A"},{"$f":"+VLOOKUP('BASE DE RESPUESTAS'!AU53,Back!$M$16:$N$20,2,0)","v":"#N/A"},{"$f":"+VLOOKUP('BASE DE RESPUESTAS'!AV53,Back!$M$16:$N$20,2,0)","v":"#N/A"},{"$f":"+VLOOKUP('BASE DE RESPUESTAS'!AW53,Back!$M$16:$N$20,2,0)","v":"#N/A"},{"$f":"+VLOOKUP('BASE DE RESPUESTAS'!AX53,Back!$M$16:$N$20,2,0)","v":"#N/A"},{"$f":"+VLOOKUP('BASE DE RESPUESTAS'!AY53,Back!$M$16:$N$20,2,0)","v":"#N/A"},{"$f":"+VLOOKUP('BASE DE RESPUESTAS'!AZ53,Back!$M$16:$N$20,2,0)","v":"#N/A"},{"$f":"+VLOOKUP('BASE DE RESPUESTAS'!BA53,Back!$M$16:$N$20,2,0)","v":"#N/A"},{"$f":"+VLOOKUP('BASE DE RESPUESTAS'!BB53,Back!$M$16:$N$20,2,0)","v":"#N/A"},{"$f":"+VLOOKUP('BASE DE RESPUESTAS'!BC53,Back!$M$16:$N$20,2,0)","v":"#N/A"},{"$f":"+VLOOKUP('BASE DE RESPUESTAS'!BD53,Back!$M$16:$N$20,2,0)","v":"#N/A"},{"$f":"+VLOOKUP('BASE DE RESPUESTAS'!BE53,Back!$M$16:$N$20,2,0)","v":"#N/A"}]
[null,null,null,"Al menos uno de los padres o cuidador(a) no asume su responsabilidad con el estudiante.",48.0,"Uno de mis padres se ausenta mucho tiempo y no se preocupa por mí.",null,{"$f":"+VLOOKUP('BASE DE RESPUESTAS'!H54,Back!$M$16:$N$20,2,0)","v":"#N/A"},{"$f":"+VLOOKUP('BASE DE RESPUESTAS'!I54,Back!$M$16:$N$20,2,0)","v":"#N/A"},{"$f":"+VLOOKUP('BASE DE RESPUESTAS'!J54,Back!$M$16:$N$20,2,0)","v":"#N/A"},{"$f":"+VLOOKUP('BASE DE RESPUESTAS'!K54,Back!$M$16:$N$20,2,0)","v":"#N/A"},{"$f":"+VLOOKUP('BASE DE RESPUESTAS'!L54,Back!$M$16:$N$20,2,0)","v":"#N/A"},{"$f":"+VLOOKUP('BASE DE RESPUESTAS'!M54,Back!$M$16:$N$20,2,0)","v":"#N/A"},{"$f":"+VLOOKUP('BASE DE RESPUESTAS'!N54,Back!$M$16:$N$20,2,0)","v":"#N/A"},{"$f":"+VLOOKUP('BASE DE RESPUESTAS'!O54,Back!$M$16:$N$20,2,0)","v":"#N/A"},{"$f":"+VLOOKUP('BASE DE RESPUESTAS'!P54,Back!$M$16:$N$20,2,0)","v":"#N/A"},{"$f":"+VLOOKUP('BASE DE RESPUESTAS'!Q54,Back!$M$16:$N$20,2,0)","v":"#N/A"},{"$f":"+VLOOKUP('BASE DE RESPUESTAS'!R54,Back!$M$16:$N$20,2,0)","v":"#N/A"},{"$f":"+VLOOKUP('BASE DE RESPUESTAS'!S54,Back!$M$16:$N$20,2,0)","v":"#N/A"},{"$f":"+VLOOKUP('BASE DE RESPUESTAS'!T54,Back!$M$16:$N$20,2,0)","v":"#N/A"},{"$f":"+VLOOKUP('BASE DE RESPUESTAS'!U54,Back!$M$16:$N$20,2,0)","v":"#N/A"},{"$f":"+VLOOKUP('BASE DE RESPUESTAS'!V54,Back!$M$16:$N$20,2,0)","v":"#N/A"},{"$f":"+VLOOKUP('BASE DE RESPUESTAS'!W54,Back!$M$16:$N$20,2,0)","v":"#N/A"},{"$f":"+VLOOKUP('BASE DE RESPUESTAS'!X54,Back!$M$16:$N$20,2,0)","v":"#N/A"},{"$f":"+VLOOKUP('BASE DE RESPUESTAS'!Y54,Back!$M$16:$N$20,2,0)","v":"#N/A"},{"$f":"+VLOOKUP('BASE DE RESPUESTAS'!Z54,Back!$M$16:$N$20,2,0)","v":"#N/A"},{"$f":"+VLOOKUP('BASE DE RESPUESTAS'!AA54,Back!$M$16:$N$20,2,0)","v":"#N/A"},{"$f":"+VLOOKUP('BASE DE RESPUESTAS'!AB54,Back!$M$16:$N$20,2,0)","v":"#N/A"},{"$f":"+VLOOKUP('BASE DE RESPUESTAS'!AC54,Back!$M$16:$N$20,2,0)","v":"#N/A"},{"$f":"+VLOOKUP('BASE DE RESPUESTAS'!AD54,Back!$M$16:$N$20,2,0)","v":"#N/A"},{"$f":"+VLOOKUP('BASE DE RESPUESTAS'!AE54,Back!$M$16:$N$20,2,0)","v":"#N/A"},{"$f":"+VLOOKUP('BASE DE RESPUESTAS'!AF54,Back!$M$16:$N$20,2,0)","v":"#N/A"},{"$f":"+VLOOKUP('BASE DE RESPUESTAS'!AG54,Back!$M$16:$N$20,2,0)","v":"#N/A"},{"$f":"+VLOOKUP('BASE DE RESPUESTAS'!AH54,Back!$M$16:$N$20,2,0)","v":"#N/A"},{"$f":"+VLOOKUP('BASE DE RESPUESTAS'!AI54,Back!$M$16:$N$20,2,0)","v":"#N/A"},{"$f":"+VLOOKUP('BASE DE RESPUESTAS'!AJ54,Back!$M$16:$N$20,2,0)","v":"#N/A"},{"$f":"+VLOOKUP('BASE DE RESPUESTAS'!AK54,Back!$M$16:$N$20,2,0)","v":"#N/A"},{"$f":"+VLOOKUP('BASE DE RESPUESTAS'!AL54,Back!$M$16:$N$20,2,0)","v":"#N/A"},{"$f":"+VLOOKUP('BASE DE RESPUESTAS'!AM54,Back!$M$16:$N$20,2,0)","v":"#N/A"},{"$f":"+VLOOKUP('BASE DE RESPUESTAS'!AN54,Back!$M$16:$N$20,2,0)","v":"#N/A"},{"$f":"+VLOOKUP('BASE DE RESPUESTAS'!AO54,Back!$M$16:$N$20,2,0)","v":"#N/A"},{"$f":"+VLOOKUP('BASE DE RESPUESTAS'!AP54,Back!$M$16:$N$20,2,0)","v":"#N/A"},{"$f":"+VLOOKUP('BASE DE RESPUESTAS'!AQ54,Back!$M$16:$N$20,2,0)","v":"#N/A"},{"$f":"+VLOOKUP('BASE DE RESPUESTAS'!AR54,Back!$M$16:$N$20,2,0)","v":"#N/A"},{"$f":"+VLOOKUP('BASE DE RESPUESTAS'!AS54,Back!$M$16:$N$20,2,0)","v":"#N/A"},{"$f":"+VLOOKUP('BASE DE RESPUESTAS'!AT54,Back!$M$16:$N$20,2,0)","v":"#N/A"},{"$f":"+VLOOKUP('BASE DE RESPUESTAS'!AU54,Back!$M$16:$N$20,2,0)","v":"#N/A"},{"$f":"+VLOOKUP('BASE DE RESPUESTAS'!AV54,Back!$M$16:$N$20,2,0)","v":"#N/A"},{"$f":"+VLOOKUP('BASE DE RESPUESTAS'!AW54,Back!$M$16:$N$20,2,0)","v":"#N/A"},{"$f":"+VLOOKUP('BASE DE RESPUESTAS'!AX54,Back!$M$16:$N$20,2,0)","v":"#N/A"},{"$f":"+VLOOKUP('BASE DE RESPUESTAS'!AY54,Back!$M$16:$N$20,2,0)","v":"#N/A"},{"$f":"+VLOOKUP('BASE DE RESPUESTAS'!AZ54,Back!$M$16:$N$20,2,0)","v":"#N/A"},{"$f":"+VLOOKUP('BASE DE RESPUESTAS'!BA54,Back!$M$16:$N$20,2,0)","v":"#N/A"},{"$f":"+VLOOKUP('BASE DE RESPUESTAS'!BB54,Back!$M$16:$N$20,2,0)","v":"#N/A"},{"$f":"+VLOOKUP('BASE DE RESPUESTAS'!BC54,Back!$M$16:$N$20,2,0)","v":"#N/A"},{"$f":"+VLOOKUP('BASE DE RESPUESTAS'!BD54,Back!$M$16:$N$20,2,0)","v":"#N/A"},{"$f":"+VLOOKUP('BASE DE RESPUESTAS'!BE54,Back!$M$16:$N$20,2,0)","v":"#N/A"}]
[null,null,null,"Los padres o cuidadores del estudiante se pelean entre sí delante de sus hijos.",49.0,"Cuando hay problemas, mis padres discuten y se gritan entre ellos.",null,{"$f":"+VLOOKUP('BASE DE RESPUESTAS'!H55,Back!$M$16:$N$20,2,0)","v":"#N/A"},{"$f":"+VLOOKUP('BASE DE RESPUESTAS'!I55,Back!$M$16:$N$20,2,0)","v":"#N/A"},{"$f":"+VLOOKUP('BASE DE RESPUESTAS'!J55,Back!$M$16:$N$20,2,0)","v":"#N/A"},{"$f":"+VLOOKUP('BASE DE RESPUESTAS'!K55,Back!$M$16:$N$20,2,0)","v":"#N/A"},{"$f":"+VLOOKUP('BASE DE RESPUESTAS'!L55,Back!$M$16:$N$20,2,0)","v":"#N/A"},{"$f":"+VLOOKUP('BASE DE RESPUESTAS'!M55,Back!$M$16:$N$20,2,0)","v":"#N/A"},{"$f":"+VLOOKUP('BASE DE RESPUESTAS'!N55,Back!$M$16:$N$20,2,0)","v":"#N/A"},{"$f":"+VLOOKUP('BASE DE RESPUESTAS'!O55,Back!$M$16:$N$20,2,0)","v":"#N/A"},{"$f":"+VLOOKUP('BASE DE RESPUESTAS'!P55,Back!$M$16:$N$20,2,0)","v":"#N/A"},{"$f":"+VLOOKUP('BASE DE RESPUESTAS'!Q55,Back!$M$16:$N$20,2,0)","v":"#N/A"},{"$f":"+VLOOKUP('BASE DE RESPUESTAS'!R55,Back!$M$16:$N$20,2,0)","v":"#N/A"},{"$f":"+VLOOKUP('BASE DE RESPUESTAS'!S55,Back!$M$16:$N$20,2,0)","v":"#N/A"},{"$f":"+VLOOKUP('BASE DE RESPUESTAS'!T55,Back!$M$16:$N$20,2,0)","v":"#N/A"},{"$f":"+VLOOKUP('BASE DE RESPUESTAS'!U55,Back!$M$16:$N$20,2,0)","v":"#N/A"},{"$f":"+VLOOKUP('BASE DE RESPUESTAS'!V55,Back!$M$16:$N$20,2,0)","v":"#N/A"},{"$f":"+VLOOKUP('BASE DE RESPUESTAS'!W55,Back!$M$16:$N$20,2,0)","v":"#N/A"},{"$f":"+VLOOKUP('BASE DE RESPUESTAS'!X55,Back!$M$16:$N$20,2,0)","v":"#N/A"},{"$f":"+VLOOKUP('BASE DE RESPUESTAS'!Y55,Back!$M$16:$N$20,2,0)","v":"#N/A"},{"$f":"+VLOOKUP('BASE DE RESPUESTAS'!Z55,Back!$M$16:$N$20,2,0)","v":"#N/A"},{"$f":"+VLOOKUP('BASE DE RESPUESTAS'!AA55,Back!$M$16:$N$20,2,0)","v":"#N/A"},{"$f":"+VLOOKUP('BASE DE RESPUESTAS'!AB55,Back!$M$16:$N$20,2,0)","v":"#N/A"},{"$f":"+VLOOKUP('BASE DE RESPUESTAS'!AC55,Back!$M$16:$N$20,2,0)","v":"#N/A"},{"$f":"+VLOOKUP('BASE DE RESPUESTAS'!AD55,Back!$M$16:$N$20,2,0)","v":"#N/A"},{"$f":"+VLOOKUP('BASE DE RESPUESTAS'!AE55,Back!$M$16:$N$20,2,0)","v":"#N/A"},{"$f":"+VLOOKUP('BASE DE RESPUESTAS'!AF55,Back!$M$16:$N$20,2,0)","v":"#N/A"},{"$f":"+VLOOKUP('BASE DE RESPUESTAS'!AG55,Back!$M$16:$N$20,2,0)","v":"#N/A"},{"$f":"+VLOOKUP('BASE DE RESPUESTAS'!AH55,Back!$M$16:$N$20,2,0)","v":"#N/A"},{"$f":"+VLOOKUP('BASE DE RESPUESTAS'!AI55,Back!$M$16:$N$20,2,0)","v":"#N/A"},{"$f":"+VLOOKUP('BASE DE RESPUESTAS'!AJ55,Back!$M$16:$N$20,2,0)","v":"#N/A"},{"$f":"+VLOOKUP('BASE DE RESPUESTAS'!AK55,Back!$M$16:$N$20,2,0)","v":"#N/A"},{"$f":"+VLOOKUP('BASE DE RESPUESTAS'!AL55,Back!$M$16:$N$20,2,0)","v":"#N/A"},{"$f":"+VLOOKUP('BASE DE RESPUESTAS'!AM55,Back!$M$16:$N$20,2,0)","v":"#N/A"},{"$f":"+VLOOKUP('BASE DE RESPUESTAS'!AN55,Back!$M$16:$N$20,2,0)","v":"#N/A"},{"$f":"+VLOOKUP('BASE DE RESPUESTAS'!AO55,Back!$M$16:$N$20,2,0)","v":"#N/A"},{"$f":"+VLOOKUP('BASE DE RESPUESTAS'!AP55,Back!$M$16:$N$20,2,0)","v":"#N/A"},{"$f":"+VLOOKUP('BASE DE RESPUESTAS'!AQ55,Back!$M$16:$N$20,2,0)","v":"#N/A"},{"$f":"+VLOOKUP('BASE DE RESPUESTAS'!AR55,Back!$M$16:$N$20,2,0)","v":"#N/A"},{"$f":"+VLOOKUP('BASE DE RESPUESTAS'!AS55,Back!$M$16:$N$20,2,0)","v":"#N/A"},{"$f":"+VLOOKUP('BASE DE RESPUESTAS'!AT55,Back!$M$16:$N$20,2,0)","v":"#N/A"},{"$f":"+VLOOKUP('BASE DE RESPUESTAS'!AU55,Back!$M$16:$N$20,2,0)","v":"#N/A"},{"$f":"+VLOOKUP('BASE DE RESPUESTAS'!AV55,Back!$M$16:$N$20,2,0)","v":"#N/A"},{"$f":"+VLOOKUP('BASE DE RESPUESTAS'!AW55,Back!$M$16:$N$20,2,0)","v":"#N/A"},{"$f":"+VLOOKUP('BASE DE RESPUESTAS'!AX55,Back!$M$16:$N$20,2,0)","v":"#N/A"},{"$f":"+VLOOKUP('BASE DE RESPUESTAS'!AY55,Back!$M$16:$N$20,2,0)","v":"#N/A"},{"$f":"+VLOOKUP('BASE DE RESPUESTAS'!AZ55,Back!$M$16:$N$20,2,0)","v":"#N/A"},{"$f":"+VLOOKUP('BASE DE RESPUESTAS'!BA55,Back!$M$16:$N$20,2,0)","v":"#N/A"},{"$f":"+VLOOKUP('BASE DE RESPUESTAS'!BB55,Back!$M$16:$N$20,2,0)","v":"#N/A"},{"$f":"+VLOOKUP('BASE DE RESPUESTAS'!BC55,Back!$M$16:$N$20,2,0)","v":"#N/A"},{"$f":"+VLOOKUP('BASE DE RESPUESTAS'!BD55,Back!$M$16:$N$20,2,0)","v":"#N/A"},{"$f":"+VLOOKUP('BASE DE RESPUESTAS'!BE55,Back!$M$16:$N$20,2,0)","v":"#N/A"}]
[null,"FR","Limitada expectativa sobre la educación","El o la estudiante reconoce los beneficios de la educación en su vida.",50.0,"Siento que lo que aprendo en la escuela no me servirá para mi futuro.",null,{"$f":"+VLOOKUP('BASE DE RESPUESTAS'!H56,Back!$M$16:$N$20,2,0)","v":"#N/A"},{"$f":"+VLOOKUP('BASE DE RESPUESTAS'!I56,Back!$M$16:$N$20,2,0)","v":"#N/A"},{"$f":"+VLOOKUP('BASE DE RESPUESTAS'!J56,Back!$M$16:$N$20,2,0)","v":"#N/A"},{"$f":"+VLOOKUP('BASE DE RESPUESTAS'!K56,Back!$M$16:$N$20,2,0)","v":"#N/A"},{"$f":"+VLOOKUP('BASE DE RESPUESTAS'!L56,Back!$M$16:$N$20,2,0)","v":"#N/A"},{"$f":"+VLOOKUP('BASE DE RESPUESTAS'!M56,Back!$M$16:$N$20,2,0)","v":"#N/A"},{"$f":"+VLOOKUP('BASE DE RESPUESTAS'!N56,Back!$M$16:$N$20,2,0)","v":"#N/A"},{"$f":"+VLOOKUP('BASE DE RESPUESTAS'!O56,Back!$M$16:$N$20,2,0)","v":"#N/A"},{"$f":"+VLOOKUP('BASE DE RESPUESTAS'!P56,Back!$M$16:$N$20,2,0)","v":"#N/A"},{"$f":"+VLOOKUP('BASE DE RESPUESTAS'!Q56,Back!$M$16:$N$20,2,0)","v":"#N/A"},{"$f":"+VLOOKUP('BASE DE RESPUESTAS'!R56,Back!$M$16:$N$20,2,0)","v":"#N/A"},{"$f":"+VLOOKUP('BASE DE RESPUESTAS'!S56,Back!$M$16:$N$20,2,0)","v":"#N/A"},{"$f":"+VLOOKUP('BASE DE RESPUESTAS'!T56,Back!$M$16:$N$20,2,0)","v":"#N/A"},{"$f":"+VLOOKUP('BASE DE RESPUESTAS'!U56,Back!$M$16:$N$20,2,0)","v":"#N/A"},{"$f":"+VLOOKUP('BASE DE RESPUESTAS'!V56,Back!$M$16:$N$20,2,0)","v":"#N/A"},{"$f":"+VLOOKUP('BASE DE RESPUESTAS'!W56,Back!$M$16:$N$20,2,0)","v":"#N/A"},{"$f":"+VLOOKUP('BASE DE RESPUESTAS'!X56,Back!$M$16:$N$20,2,0)","v":"#N/A"},{"$f":"+VLOOKUP('BASE DE RESPUESTAS'!Y56,Back!$M$16:$N$20,2,0)","v":"#N/A"},{"$f":"+VLOOKUP('BASE DE RESPUESTAS'!Z56,Back!$M$16:$N$20,2,0)","v":"#N/A"},{"$f":"+VLOOKUP('BASE DE RESPUESTAS'!AA56,Back!$M$16:$N$20,2,0)","v":"#N/A"},{"$f":"+VLOOKUP('BASE DE RESPUESTAS'!AB56,Back!$M$16:$N$20,2,0)","v":"#N/A"},{"$f":"+VLOOKUP('BASE DE RESPUESTAS'!AC56,Back!$M$16:$N$20,2,0)","v":"#N/A"},{"$f":"+VLOOKUP('BASE DE RESPUESTAS'!AD56,Back!$M$16:$N$20,2,0)","v":"#N/A"},{"$f":"+VLOOKUP('BASE DE RESPUESTAS'!AE56,Back!$M$16:$N$20,2,0)","v":"#N/A"},{"$f":"+VLOOKUP('BASE DE RESPUESTAS'!AF56,Back!$M$16:$N$20,2,0)","v":"#N/A"},{"$f":"+VLOOKUP('BASE DE RESPUESTAS'!AG56,Back!$M$16:$N$20,2,0)","v":"#N/A"},{"$f":"+VLOOKUP('BASE DE RESPUESTAS'!AH56,Back!$M$16:$N$20,2,0)","v":"#N/A"},{"$f":"+VLOOKUP('BASE DE RESPUESTAS'!AI56,Back!$M$16:$N$20,2,0)","v":"#N/A"},{"$f":"+VLOOKUP('BASE DE RESPUESTAS'!AJ56,Back!$M$16:$N$20,2,0)","v":"#N/A"},{"$f":"+VLOOKUP('BASE DE RESPUESTAS'!AK56,Back!$M$16:$N$20,2,0)","v":"#N/A"},{"$f":"+VLOOKUP('BASE DE RESPUESTAS'!AL56,Back!$M$16:$N$20,2,0)","v":"#N/A"},{"$f":"+VLOOKUP('BASE DE RESPUESTAS'!AM56,Back!$M$16:$N$20,2,0)","v":"#N/A"},{"$f":"+VLOOKUP('BASE DE RESPUESTAS'!AN56,Back!$M$16:$N$20,2,0)","v":"#N/A"},{"$f":"+VLOOKUP('BASE DE RESPUESTAS'!AO56,Back!$M$16:$N$20,2,0)","v":"#N/A"},{"$f":"+VLOOKUP('BASE DE RESPUESTAS'!AP56,Back!$M$16:$N$20,2,0)","v":"#N/A"},{"$f":"+VLOOKUP('BASE DE RESPUESTAS'!AQ56,Back!$M$16:$N$20,2,0)","v":"#N/A"},{"$f":"+VLOOKUP('BASE DE RESPUESTAS'!AR56,Back!$M$16:$N$20,2,0)","v":"#N/A"},{"$f":"+VLOOKUP('BASE DE RESPUESTAS'!AS56,Back!$M$16:$N$20,2,0)","v":"#N/A"},{"$f":"+VLOOKUP('BASE DE RESPUESTAS'!AT56,Back!$M$16:$N$20,2,0)","v":"#N/A"},{"$f":"+VLOOKUP('BASE DE RESPUESTAS'!AU56,Back!$M$16:$N$20,2,0)","v":"#N/A"},{"$f":"+VLOOKUP('BASE DE RESPUESTAS'!AV56,Back!$M$16:$N$20,2,0)","v":"#N/A"},{"$f":"+VLOOKUP('BASE DE RESPUESTAS'!AW56,Back!$M$16:$N$20,2,0)","v":"#N/A"},{"$f":"+VLOOKUP('BASE DE RESPUESTAS'!AX56,Back!$M$16:$N$20,2,0)","v":"#N/A"},{"$f":"+VLOOKUP('BASE DE RESPUESTAS'!AY56,Back!$M$16:$N$20,2,0)","v":"#N/A"},{"$f":"+VLOOKUP('BASE DE RESPUESTAS'!AZ56,Back!$M$16:$N$20,2,0)","v":"#N/A"},{"$f":"+VLOOKUP('BASE DE RESPUESTAS'!BA56,Back!$M$16:$N$20,2,0)","v":"#N/A"},{"$f":"+VLOOKUP('BASE DE RESPUESTAS'!BB56,Back!$M$16:$N$20,2,0)","v":"#N/A"},{"$f":"+VLOOKUP('BASE DE RESPUESTAS'!BC56,Back!$M$16:$N$20,2,0)","v":"#N/A"},{"$f":"+VLOOKUP('BASE DE RESPUESTAS'!BD56,Back!$M$16:$N$20,2,0)","v":"#N/A"},{"$f":"+VLOOKUP('BASE DE RESPUESTAS'!BE56,Back!$M$16:$N$20,2,0)","v":"#N/A"}]
[null,null,null,"El o la estudiante considera que los docentes aportan y le motivan a su aprendizaje.",51.0,"No me siento motivado por mis maestras/os",null,{"$f":"+VLOOKUP('BASE DE RESPUESTAS'!H57,Back!$M$16:$N$20,2,0)","v":"#N/A"},{"$f":"+VLOOKUP('BASE DE RESPUESTAS'!I57,Back!$M$16:$N$20,2,0)","v":"#N/A"},{"$f":"+VLOOKUP('BASE DE RESPUESTAS'!J57,Back!$M$16:$N$20,2,0)","v":"#N/A"},{"$f":"+VLOOKUP('BASE DE RESPUESTAS'!K57,Back!$M$16:$N$20,2,0)","v":"#N/A"},{"$f":"+VLOOKUP('BASE DE RESPUESTAS'!L57,Back!$M$16:$N$20,2,0)","v":"#N/A"},{"$f":"+VLOOKUP('BASE DE RESPUESTAS'!M57,Back!$M$16:$N$20,2,0)","v":"#N/A"},{"$f":"+VLOOKUP('BASE DE RESPUESTAS'!N57,Back!$M$16:$N$20,2,0)","v":"#N/A"},{"$f":"+VLOOKUP('BASE DE RESPUESTAS'!O57,Back!$M$16:$N$20,2,0)","v":"#N/A"},{"$f":"+VLOOKUP('BASE DE RESPUESTAS'!P57,Back!$M$16:$N$20,2,0)","v":"#N/A"},{"$f":"+VLOOKUP('BASE DE RESPUESTAS'!Q57,Back!$M$16:$N$20,2,0)","v":"#N/A"},{"$f":"+VLOOKUP('BASE DE RESPUESTAS'!R57,Back!$M$16:$N$20,2,0)","v":"#N/A"},{"$f":"+VLOOKUP('BASE DE RESPUESTAS'!S57,Back!$M$16:$N$20,2,0)","v":"#N/A"},{"$f":"+VLOOKUP('BASE DE RESPUESTAS'!T57,Back!$M$16:$N$20,2,0)","v":"#N/A"},{"$f":"+VLOOKUP('BASE DE RESPUESTAS'!U57,Back!$M$16:$N$20,2,0)","v":"#N/A"},{"$f":"+VLOOKUP('BASE DE RESPUESTAS'!V57,Back!$M$16:$N$20,2,0)","v":"#N/A"},{"$f":"+VLOOKUP('BASE DE RESPUESTAS'!W57,Back!$M$16:$N$20,2,0)","v":"#N/A"},{"$f":"+VLOOKUP('BASE DE RESPUESTAS'!X57,Back!$M$16:$N$20,2,0)","v":"#N/A"},{"$f":"+VLOOKUP('BASE DE RESPUESTAS'!Y57,Back!$M$16:$N$20,2,0)","v":"#N/A"},{"$f":"+VLOOKUP('BASE DE RESPUESTAS'!Z57,Back!$M$16:$N$20,2,0)","v":"#N/A"},{"$f":"+VLOOKUP('BASE DE RESPUESTAS'!AA57,Back!$M$16:$N$20,2,0)","v":"#N/A"},{"$f":"+VLOOKUP('BASE DE RESPUESTAS'!AB57,Back!$M$16:$N$20,2,0)","v":"#N/A"},{"$f":"+VLOOKUP('BASE DE RESPUESTAS'!AC57,Back!$M$16:$N$20,2,0)","v":"#N/A"},{"$f":"+VLOOKUP('BASE DE RESPUESTAS'!AD57,Back!$M$16:$N$20,2,0)","v":"#N/A"},{"$f":"+VLOOKUP('BASE DE RESPUESTAS'!AE57,Back!$M$16:$N$20,2,0)","v":"#N/A"},{"$f":"+VLOOKUP('BASE DE RESPUESTAS'!AF57,Back!$M$16:$N$20,2,0)","v":"#N/A"},{"$f":"+VLOOKUP('BASE DE RESPUESTAS'!AG57,Back!$M$16:$N$20,2,0)","v":"#N/A"},{"$f":"+VLOOKUP('BASE DE RESPUESTAS'!AH57,Back!$M$16:$N$20,2,0)","v":"#N/A"},{"$f":"+VLOOKUP('BASE DE RESPUESTAS'!AI57,Back!$M$16:$N$20,2,0)","v":"#N/A"},{"$f":"+VLOOKUP('BASE DE RESPUESTAS'!AJ57,Back!$M$16:$N$20,2,0)","v":"#N/A"},{"$f":"+VLOOKUP('BASE DE RESPUESTAS'!AK57,Back!$M$16:$N$20,2,0)","v":"#N/A"},{"$f":"+VLOOKUP('BASE DE RESPUESTAS'!AL57,Back!$M$16:$N$20,2,0)","v":"#N/A"},{"$f":"+VLOOKUP('BASE DE RESPUESTAS'!AM57,Back!$M$16:$N$20,2,0)","v":"#N/A"},{"$f":"+VLOOKUP('BASE DE RESPUESTAS'!AN57,Back!$M$16:$N$20,2,0)","v":"#N/A"},{"$f":"+VLOOKUP('BASE DE RESPUESTAS'!AO57,Back!$M$16:$N$20,2,0)","v":"#N/A"},{"$f":"+VLOOKUP('BASE DE RESPUESTAS'!AP57,Back!$M$16:$N$20,2,0)","v":"#N/A"},{"$f":"+VLOOKUP('BASE DE RESPUESTAS'!AQ57,Back!$M$16:$N$20,2,0)","v":"#N/A"},{"$f":"+VLOOKUP('BASE DE RESPUESTAS'!AR57,Back!$M$16:$N$20,2,0)","v":"#N/A"},{"$f":"+VLOOKUP('BASE DE RESPUESTAS'!AS57,Back!$M$16:$N$20,2,0)","v":"#N/A"},{"$f":"+VLOOKUP('BASE DE RESPUESTAS'!AT57,Back!$M$16:$N$20,2,0)","v":"#N/A"},{"$f":"+VLOOKUP('BASE DE RESPUESTAS'!AU57,Back!$M$16:$N$20,2,0)","v":"#N/A"},{"$f":"+VLOOKUP('BASE DE RESPUESTAS'!AV57,Back!$M$16:$N$20,2,0)","v":"#N/A"},{"$f":"+VLOOKUP('BASE DE RESPUESTAS'!AW57,Back!$M$16:$N$20,2,0)","v":"#N/A"},{"$f":"+VLOOKUP('BASE DE RESPUESTAS'!AX57,Back!$M$16:$N$20,2,0)","v":"#N/A"},{"$f":"+VLOOKUP('BASE DE RESPUESTAS'!AY57,Back!$M$16:$N$20,2,0)","v":"#N/A"},{"$f":"+VLOOKUP('BASE DE RESPUESTAS'!AZ57,Back!$M$16:$N$20,2,0)","v":"#N/A"},{"$f":"+VLOOKUP('BASE DE RESPUESTAS'!BA57,Back!$M$16:$N$20,2,0)","v":"#N/A"},{"$f":"+VLOOKUP('BASE DE RESPUESTAS'!BB57,Back!$M$16:$N$20,2,0)","v":"#N/A"},{"$f":"+VLOOKUP('BASE DE RESPUESTAS'!BC57,Back!$M$16:$N$20,2,0)","v":"#N/A"},{"$f":"+VLOOKUP('BASE DE RESPUESTAS'!BD57,Back!$M$16:$N$20,2,0)","v":"#N/A"},{"$f":"+VLOOKUP('BASE DE RESPUESTAS'!BE57,Back!$M$16:$N$20,2,0)","v":"#N/A"}]
[null,null,null,"El o la estudiante siente que sus padres confían en su capacidad para aprender.",52.0,"Mi familia no cree que la educación sea importante",null,{"$f":"+VLOOKUP('BASE DE RESPUESTAS'!H58,Back!$M$16:$N$20,2,0)","v":"#N/A"},{"$f":"+VLOOKUP('BASE DE RESPUESTAS'!I58,Back!$M$16:$N$20,2,0)","v":"#N/A"},{"$f":"+VLOOKUP('BASE DE RESPUESTAS'!J58,Back!$M$16:$N$20,2,0)","v":"#N/A"},{"$f":"+VLOOKUP('BASE DE RESPUESTAS'!K58,Back!$M$16:$N$20,2,0)","v":"#N/A"},{"$f":"+VLOOKUP('BASE DE RESPUESTAS'!L58,Back!$M$16:$N$20,2,0)","v":"#N/A"},{"$f":"+VLOOKUP('BASE DE RESPUESTAS'!M58,Back!$M$16:$N$20,2,0)","v":"#N/A"},{"$f":"+VLOOKUP('BASE DE RESPUESTAS'!N58,Back!$M$16:$N$20,2,0)","v":"#N/A"},{"$f":"+VLOOKUP('BASE DE RESPUESTAS'!O58,Back!$M$16:$N$20,2,0)","v":"#N/A"},{"$f":"+VLOOKUP('BASE DE RESPUESTAS'!P58,Back!$M$16:$N$20,2,0)","v":"#N/A"},{"$f":"+VLOOKUP('BASE DE RESPUESTAS'!Q58,Back!$M$16:$N$20,2,0)","v":"#N/A"},{"$f":"+VLOOKUP('BASE DE RESPUESTAS'!R58,Back!$M$16:$N$20,2,0)","v":"#N/A"},{"$f":"+VLOOKUP('BASE DE RESPUESTAS'!S58,Back!$M$16:$N$20,2,0)","v":"#N/A"},{"$f":"+VLOOKUP('BASE DE RESPUESTAS'!T58,Back!$M$16:$N$20,2,0)","v":"#N/A"},{"$f":"+VLOOKUP('BASE DE RESPUESTAS'!U58,Back!$M$16:$N$20,2,0)","v":"#N/A"},{"$f":"+VLOOKUP('BASE DE RESPUESTAS'!V58,Back!$M$16:$N$20,2,0)","v":"#N/A"},{"$f":"+VLOOKUP('BASE DE RESPUESTAS'!W58,Back!$M$16:$N$20,2,0)","v":"#N/A"},{"$f":"+VLOOKUP('BASE DE RESPUESTAS'!X58,Back!$M$16:$N$20,2,0)","v":"#N/A"},{"$f":"+VLOOKUP('BASE DE RESPUESTAS'!Y58,Back!$M$16:$N$20,2,0)","v":"#N/A"},{"$f":"+VLOOKUP('BASE DE RESPUESTAS'!Z58,Back!$M$16:$N$20,2,0)","v":"#N/A"},{"$f":"+VLOOKUP('BASE DE RESPUESTAS'!AA58,Back!$M$16:$N$20,2,0)","v":"#N/A"},{"$f":"+VLOOKUP('BASE DE RESPUESTAS'!AB58,Back!$M$16:$N$20,2,0)","v":"#N/A"},{"$f":"+VLOOKUP('BASE DE RESPUESTAS'!AC58,Back!$M$16:$N$20,2,0)","v":"#N/A"},{"$f":"+VLOOKUP('BASE DE RESPUESTAS'!AD58,Back!$M$16:$N$20,2,0)","v":"#N/A"},{"$f":"+VLOOKUP('BASE DE RESPUESTAS'!AE58,Back!$M$16:$N$20,2,0)","v":"#N/A"},{"$f":"+VLOOKUP('BASE DE RESPUESTAS'!AF58,Back!$M$16:$N$20,2,0)","v":"#N/A"},{"$f":"+VLOOKUP('BASE DE RESPUESTAS'!AG58,Back!$M$16:$N$20,2,0)","v":"#N/A"},{"$f":"+VLOOKUP('BASE DE RESPUESTAS'!AH58,Back!$M$16:$N$20,2,0)","v":"#N/A"},{"$f":"+VLOOKUP('BASE DE RESPUESTAS'!AI58,Back!$M$16:$N$20,2,0)","v":"#N/A"},{"$f":"+VLOOKUP('BASE DE RESPUESTAS'!AJ58,Back!$M$16:$N$20,2,0)","v":"#N/A"},{"$f":"+VLOOKUP('BASE DE RESPUESTAS'!AK58,Back!$M$16:$N$20,2,0)","v":"#N/A"},{"$f":"+VLOOKUP('BASE DE RESPUESTAS'!AL58,Back!$M$16:$N$20,2,0)","v":"#N/A"},{"$f":"+VLOOKUP('BASE DE RESPUESTAS'!AM58,Back!$M$16:$N$20,2,0)","v":"#N/A"},{"$f":"+VLOOKUP('BASE DE RESPUESTAS'!AN58,Back!$M$16:$N$20,2,0)","v":"#N/A"},{"$f":"+VLOOKUP('BASE DE RESPUESTAS'!AO58,Back!$M$16:$N$20,2,0)","v":"#N/A"},{"$f":"+VLOOKUP('BASE DE RESPUESTAS'!AP58,Back!$M$16:$N$20,2,0)","v":"#N/A"},{"$f":"+VLOOKUP('BASE DE RESPUESTAS'!AQ58,Back!$M$16:$N$20,2,0)","v":"#N/A"},{"$f":"+VLOOKUP('BASE DE RESPUESTAS'!AR58,Back!$M$16:$N$20,2,0)","v":"#N/A"},{"$f":"+VLOOKUP('BASE DE RESPUESTAS'!AS58,Back!$M$16:$N$20,2,0)","v":"#N/A"},{"$f":"+VLOOKUP('BASE DE RESPUESTAS'!AT58,Back!$M$16:$N$20,2,0)","v":"#N/A"},{"$f":"+VLOOKUP('BASE DE RESPUESTAS'!AU58,Back!$M$16:$N$20,2,0)","v":"#N/A"},{"$f":"+VLOOKUP('BASE DE RESPUESTAS'!AV58,Back!$M$16:$N$20,2,0)","v":"#N/A"},{"$f":"+VLOOKUP('BASE DE RESPUESTAS'!AW58,Back!$M$16:$N$20,2,0)","v":"#N/A"},{"$f":"+VLOOKUP('BASE DE RESPUESTAS'!AX58,Back!$M$16:$N$20,2,0)","v":"#N/A"},{"$f":"+VLOOKUP('BASE DE RESPUESTAS'!AY58,Back!$M$16:$N$20,2,0)","v":"#N/A"},{"$f":"+VLOOKUP('BASE DE RESPUESTAS'!AZ58,Back!$M$16:$N$20,2,0)","v":"#N/A"},{"$f":"+VLOOKUP('BASE DE RESPUESTAS'!BA58,Back!$M$16:$N$20,2,0)","v":"#N/A"},{"$f":"+VLOOKUP('BASE DE RESPUESTAS'!BB58,Back!$M$16:$N$20,2,0)","v":"#N/A"},{"$f":"+VLOOKUP('BASE DE RESPUESTAS'!BC58,Back!$M$16:$N$20,2,0)","v":"#N/A"},{"$f":"+VLOOKUP('BASE DE RESPUESTAS'!BD58,Back!$M$16:$N$20,2,0)","v":"#N/A"},{"$f":"+VLOOKUP('BASE DE RESPUESTAS'!BE58,Back!$M$16:$N$20,2,0)","v":"#N/A"}]
[null,"FR","Percepción sobre Estereotipos de género","El o la estudiante cree que los hombres tienen superioridad física e intelectual sobre las mujeres.",53.0,"Pienso que las mujeres son débiles y los hombres fuertes y rudos.",null,{"$f":"+VLOOKUP('BASE DE RESPUESTAS'!H59,Back!$M$16:$N$20,2,0)","v":"#N/A"},{"$f":"+VLOOKUP('BASE DE RESPUESTAS'!I59,Back!$M$16:$N$20,2,0)","v":"#N/A"},{"$f":"+VLOOKUP('BASE DE RESPUESTAS'!J59,Back!$M$16:$N$20,2,0)","v":"#N/A"},{"$f":"+VLOOKUP('BASE DE RESPUESTAS'!K59,Back!$M$16:$N$20,2,0)","v":"#N/A"},{"$f":"+VLOOKUP('BASE DE RESPUESTAS'!L59,Back!$M$16:$N$20,2,0)","v":"#N/A"},{"$f":"+VLOOKUP('BASE DE RESPUESTAS'!M59,Back!$M$16:$N$20,2,0)","v":"#N/A"},{"$f":"+VLOOKUP('BASE DE RESPUESTAS'!N59,Back!$M$16:$N$20,2,0)","v":"#N/A"},{"$f":"+VLOOKUP('BASE DE RESPUESTAS'!O59,Back!$M$16:$N$20,2,0)","v":"#N/A"},{"$f":"+VLOOKUP('BASE DE RESPUESTAS'!P59,Back!$M$16:$N$20,2,0)","v":"#N/A"},{"$f":"+VLOOKUP('BASE DE RESPUESTAS'!Q59,Back!$M$16:$N$20,2,0)","v":"#N/A"},{"$f":"+VLOOKUP('BASE DE RESPUESTAS'!R59,Back!$M$16:$N$20,2,0)","v":"#N/A"},{"$f":"+VLOOKUP('BASE DE RESPUESTAS'!S59,Back!$M$16:$N$20,2,0)","v":"#N/A"},{"$f":"+VLOOKUP('BASE DE RESPUESTAS'!T59,Back!$M$16:$N$20,2,0)","v":"#N/A"},{"$f":"+VLOOKUP('BASE DE RESPUESTAS'!U59,Back!$M$16:$N$20,2,0)","v":"#N/A"},{"$f":"+VLOOKUP('BASE DE RESPUESTAS'!V59,Back!$M$16:$N$20,2,0)","v":"#N/A"},{"$f":"+VLOOKUP('BASE DE RESPUESTAS'!W59,Back!$M$16:$N$20,2,0)","v":"#N/A"},{"$f":"+VLOOKUP('BASE DE RESPUESTAS'!X59,Back!$M$16:$N$20,2,0)","v":"#N/A"},{"$f":"+VLOOKUP('BASE DE RESPUESTAS'!Y59,Back!$M$16:$N$20,2,0)","v":"#N/A"},{"$f":"+VLOOKUP('BASE DE RESPUESTAS'!Z59,Back!$M$16:$N$20,2,0)","v":"#N/A"},{"$f":"+VLOOKUP('BASE DE RESPUESTAS'!AA59,Back!$M$16:$N$20,2,0)","v":"#N/A"},{"$f":"+VLOOKUP('BASE DE RESPUESTAS'!AB59,Back!$M$16:$N$20,2,0)","v":"#N/A"},{"$f":"+VLOOKUP('BASE DE RESPUESTAS'!AC59,Back!$M$16:$N$20,2,0)","v":"#N/A"},{"$f":"+VLOOKUP('BASE DE RESPUESTAS'!AD59,Back!$M$16:$N$20,2,0)","v":"#N/A"},{"$f":"+VLOOKUP('BASE DE RESPUESTAS'!AE59,Back!$M$16:$N$20,2,0)","v":"#N/A"},{"$f":"+VLOOKUP('BASE DE RESPUESTAS'!AF59,Back!$M$16:$N$20,2,0)","v":"#N/A"},{"$f":"+VLOOKUP('BASE DE RESPUESTAS'!AG59,Back!$M$16:$N$20,2,0)","v":"#N/A"},{"$f":"+VLOOKUP('BASE DE RESPUESTAS'!AH59,Back!$M$16:$N$20,2,0)","v":"#N/A"},{"$f":"+VLOOKUP('BASE DE RESPUESTAS'!AI59,Back!$M$16:$N$20,2,0)","v":"#N/A"},{"$f":"+VLOOKUP('BASE DE RESPUESTAS'!AJ59,Back!$M$16:$N$20,2,0)","v":"#N/A"},{"$f":"+VLOOKUP('BASE DE RESPUESTAS'!AK59,Back!$M$16:$N$20,2,0)","v":"#N/A"},{"$f":"+VLOOKUP('BASE DE RESPUESTAS'!AL59,Back!$M$16:$N$20,2,0)","v":"#N/A"},{"$f":"+VLOOKUP('BASE DE RESPUESTAS'!AM59,Back!$M$16:$N$20,2,0)","v":"#N/A"},{"$f":"+VLOOKUP('BASE DE RESPUESTAS'!AN59,Back!$M$16:$N$20,2,0)","v":"#N/A"},{"$f":"+VLOOKUP('BASE DE RESPUESTAS'!AO59,Back!$M$16:$N$20,2,0)","v":"#N/A"},{"$f":"+VLOOKUP('BASE DE RESPUESTAS'!AP59,Back!$M$16:$N$20,2,0)","v":"#N/A"},{"$f":"+VLOOKUP('BASE DE RESPUESTAS'!AQ59,Back!$M$16:$N$20,2,0)","v":"#N/A"},{"$f":"+VLOOKUP('BASE DE RESPUESTAS'!AR59,Back!$M$16:$N$20,2,0)","v":"#N/A"},{"$f":"+VLOOKUP('BASE DE RESPUESTAS'!AS59,Back!$M$16:$N$20,2,0)","v":"#N/A"},{"$f":"+VLOOKUP('BASE DE RESPUESTAS'!AT59,Back!$M$16:$N$20,2,0)","v":"#N/A"},{"$f":"+VLOOKUP('BASE DE RESPUESTAS'!AU59,Back!$M$16:$N$20,2,0)","v":"#N/A"},{"$f":"+VLOOKUP('BASE DE RESPUESTAS'!AV59,Back!$M$16:$N$20,2,0)","v":"#N/A"},{"$f":"+VLOOKUP('BASE DE RESPUESTAS'!AW59,Back!$M$16:$N$20,2,0)","v":"#N/A"},{"$f":"+VLOOKUP('BASE DE RESPUESTAS'!AX59,Back!$M$16:$N$20,2,0)","v":"#N/A"},{"$f":"+VLOOKUP('BASE DE RESPUESTAS'!AY59,Back!$M$16:$N$20,2,0)","v":"#N/A"},{"$f":"+VLOOKUP('BASE DE RESPUESTAS'!AZ59,Back!$M$16:$N$20,2,0)","v":"#N/A"},{"$f":"+VLOOKUP('BASE DE RESPUESTAS'!BA59,Back!$M$16:$N$20,2,0)","v":"#N/A"},{"$f":"+VLOOKUP('BASE DE RESPUESTAS'!BB59,Back!$M$16:$N$20,2,0)","v":"#N/A"},{"$f":"+VLOOKUP('BASE DE RESPUESTAS'!BC59,Back!$M$16:$N$20,2,0)","v":"#N/A"},{"$f":"+VLOOKUP('BASE DE RESPUESTAS'!BD59,Back!$M$16:$N$20,2,0)","v":"#N/A"},{"$f":"+VLOOKUP('BASE DE RESPUESTAS'!BE59,Back!$M$16:$N$20,2,0)","v":"#N/A"}]
[null,null,null,"El o la estudiante considera que hombres y mujeres deben optar carreras o profesiones de acuerdo a su sexo.",54.0,"Considero que los hombres son más hábiles para las carreras de ciencias que las mujeres.",null,{"$f":"+VLOOKUP('BASE DE RESPUESTAS'!H60,Back!$M$16:$N$20,2,0)","v":"#N/A"},{"$f":"+VLOOKUP('BASE DE RESPUESTAS'!I60,Back!$M$16:$N$20,2,0)","v":"#N/A"},{"$f":"+VLOOKUP('BASE DE RESPUESTAS'!J60,Back!$M$16:$N$20,2,0)","v":"#N/A"},{"$f":"+VLOOKUP('BASE DE RESPUESTAS'!K60,Back!$M$16:$N$20,2,0)","v":"#N/A"},{"$f":"+VLOOKUP('BASE DE RESPUESTAS'!L60,Back!$M$16:$N$20,2,0)","v":"#N/A"},{"$f":"+VLOOKUP('BASE DE RESPUESTAS'!M60,Back!$M$16:$N$20,2,0)","v":"#N/A"},{"$f":"+VLOOKUP('BASE DE RESPUESTAS'!N60,Back!$M$16:$N$20,2,0)","v":"#N/A"},{"$f":"+VLOOKUP('BASE DE RESPUESTAS'!O60,Back!$M$16:$N$20,2,0)","v":"#N/A"},{"$f":"+VLOOKUP('BASE DE RESPUESTAS'!P60,Back!$M$16:$N$20,2,0)","v":"#N/A"},{"$f":"+VLOOKUP('BASE DE RESPUESTAS'!Q60,Back!$M$16:$N$20,2,0)","v":"#N/A"},{"$f":"+VLOOKUP('BASE DE RESPUESTAS'!R60,Back!$M$16:$N$20,2,0)","v":"#N/A"},{"$f":"+VLOOKUP('BASE DE RESPUESTAS'!S60,Back!$M$16:$N$20,2,0)","v":"#N/A"},{"$f":"+VLOOKUP('BASE DE RESPUESTAS'!T60,Back!$M$16:$N$20,2,0)","v":"#N/A"},{"$f":"+VLOOKUP('BASE DE RESPUESTAS'!U60,Back!$M$16:$N$20,2,0)","v":"#N/A"},{"$f":"+VLOOKUP('BASE DE RESPUESTAS'!V60,Back!$M$16:$N$20,2,0)","v":"#N/A"},{"$f":"+VLOOKUP('BASE DE RESPUESTAS'!W60,Back!$M$16:$N$20,2,0)","v":"#N/A"},{"$f":"+VLOOKUP('BASE DE RESPUESTAS'!X60,Back!$M$16:$N$20,2,0)","v":"#N/A"},{"$f":"+VLOOKUP('BASE DE RESPUESTAS'!Y60,Back!$M$16:$N$20,2,0)","v":"#N/A"},{"$f":"+VLOOKUP('BASE DE RESPUESTAS'!Z60,Back!$M$16:$N$20,2,0)","v":"#N/A"},{"$f":"+VLOOKUP('BASE DE RESPUESTAS'!AA60,Back!$M$16:$N$20,2,0)","v":"#N/A"},{"$f":"+VLOOKUP('BASE DE RESPUESTAS'!AB60,Back!$M$16:$N$20,2,0)","v":"#N/A"},{"$f":"+VLOOKUP('BASE DE RESPUESTAS'!AC60,Back!$M$16:$N$20,2,0)","v":"#N/A"},{"$f":"+VLOOKUP('BASE DE RESPUESTAS'!AD60,Back!$M$16:$N$20,2,0)","v":"#N/A"},{"$f":"+VLOOKUP('BASE DE RESPUESTAS'!AE60,Back!$M$16:$N$20,2,0)","v":"#N/A"},{"$f":"+VLOOKUP('BASE DE RESPUESTAS'!AF60,Back!$M$16:$N$20,2,0)","v":"#N/A"},{"$f":"+VLOOKUP('BASE DE RESPUESTAS'!AG60,Back!$M$16:$N$20,2,0)","v":"#N/A"},{"$f":"+VLOOKUP('BASE DE RESPUESTAS'!AH60,Back!$M$16:$N$20,2,0)","v":"#N/A"},{"$f":"+VLOOKUP('BASE DE RESPUESTAS'!AI60,Back!$M$16:$N$20,2,0)","v":"#N/A"},{"$f":"+VLOOKUP('BASE DE RESPUESTAS'!AJ60,Back!$M$16:$N$20,2,0)","v":"#N/A"},{"$f":"+VLOOKUP('BASE DE RESPUESTAS'!AK60,Back!$M$16:$N$20,2,0)","v":"#N/A"},{"$f":"+VLOOKUP('BASE DE RESPUESTAS'!AL60,Back!$M$16:$N$20,2,0)","v":"#N/A"},{"$f":"+VLOOKUP('BASE DE RESPUESTAS'!AM60,Back!$M$16:$N$20,2,0)","v":"#N/A"},{"$f":"+VLOOKUP('BASE DE RESPUESTAS'!AN60,Back!$M$16:$N$20,2,0)","v":"#N/A"},{"$f":"+VLOOKUP('BASE DE RESPUESTAS'!AO60,Back!$M$16:$N$20,2,0)","v":"#N/A"},{"$f":"+VLOOKUP('BASE DE RESPUESTAS'!AP60,Back!$M$16:$N$20,2,0)","v":"#N/A"},{"$f":"+VLOOKUP('BASE DE RESPUESTAS'!AQ60,Back!$M$16:$N$20,2,0)","v":"#N/A"},{"$f":"+VLOOKUP('BASE DE RESPUESTAS'!AR60,Back!$M$16:$N$20,2,0)","v":"#N/A"},{"$f":"+VLOOKUP('BASE DE RESPUESTAS'!AS60,Back!$M$16:$N$20,2,0)","v":"#N/A"},{"$f":"+VLOOKUP('BASE DE RESPUESTAS'!AT60,Back!$M$16:$N$20,2,0)","v":"#N/A"},{"$f":"+VLOOKUP('BASE DE RESPUESTAS'!AU60,Back!$M$16:$N$20,2,0)","v":"#N/A"},{"$f":"+VLOOKUP('BASE DE RESPUESTAS'!AV60,Back!$M$16:$N$20,2,0)","v":"#N/A"},{"$f":"+VLOOKUP('BASE DE RESPUESTAS'!AW60,Back!$M$16:$N$20,2,0)","v":"#N/A"},{"$f":"+VLOOKUP('BASE DE RESPUESTAS'!AX60,Back!$M$16:$N$20,2,0)","v":"#N/A"},{"$f":"+VLOOKUP('BASE DE RESPUESTAS'!AY60,Back!$M$16:$N$20,2,0)","v":"#N/A"},{"$f":"+VLOOKUP('BASE DE RESPUESTAS'!AZ60,Back!$M$16:$N$20,2,0)","v":"#N/A"},{"$f":"+VLOOKUP('BASE DE RESPUESTAS'!BA60,Back!$M$16:$N$20,2,0)","v":"#N/A"},{"$f":"+VLOOKUP('BASE DE RESPUESTAS'!BB60,Back!$M$16:$N$20,2,0)","v":"#N/A"},{"$f":"+VLOOKUP('BASE DE RESPUESTAS'!BC60,Back!$M$16:$N$20,2,0)","v":"#N/A"},{"$f":"+VLOOKUP('BASE DE RESPUESTAS'!BD60,Back!$M$16:$N$20,2,0)","v":"#N/A"},{"$f":"+VLOOKUP('BASE DE RESPUESTAS'!BE60,Back!$M$16:$N$20,2,0)","v":"#N/A"}]
[null,null,null,"El o la estudiante cree que hombres y mujeres cumplen diversos roles en el hogar y la sociedad",55.0,"Pienso que las mujeres son las indicadas para las tareas de la casa y el cuidado de los hijos.",null,{"$f":"+VLOOKUP('BASE DE RESPUESTAS'!H61,Back!$M$16:$N$20,2,0)","v":"#N/A"},{"$f":"+VLOOKUP('BASE DE RESPUESTAS'!I61,Back!$M$16:$N$20,2,0)","v":"#N/A"},{"$f":"+VLOOKUP('BASE DE RESPUESTAS'!J61,Back!$M$16:$N$20,2,0)","v":"#N/A"},{"$f":"+VLOOKUP('BASE DE RESPUESTAS'!K61,Back!$M$16:$N$20,2,0)","v":"#N/A"},{"$f":"+VLOOKUP('BASE DE RESPUESTAS'!L61,Back!$M$16:$N$20,2,0)","v":"#N/A"},{"$f":"+VLOOKUP('BASE DE RESPUESTAS'!M61,Back!$M$16:$N$20,2,0)","v":"#N/A"},{"$f":"+VLOOKUP('BASE DE RESPUESTAS'!N61,Back!$M$16:$N$20,2,0)","v":"#N/A"},{"$f":"+VLOOKUP('BASE DE RESPUESTAS'!O61,Back!$M$16:$N$20,2,0)","v":"#N/A"},{"$f":"+VLOOKUP('BASE DE RESPUESTAS'!P61,Back!$M$16:$N$20,2,0)","v":"#N/A"},{"$f":"+VLOOKUP('BASE DE RESPUESTAS'!Q61,Back!$M$16:$N$20,2,0)","v":"#N/A"},{"$f":"+VLOOKUP('BASE DE RESPUESTAS'!R61,Back!$M$16:$N$20,2,0)","v":"#N/A"},{"$f":"+VLOOKUP('BASE DE RESPUESTAS'!S61,Back!$M$16:$N$20,2,0)","v":"#N/A"},{"$f":"+VLOOKUP('BASE DE RESPUESTAS'!T61,Back!$M$16:$N$20,2,0)","v":"#N/A"},{"$f":"+VLOOKUP('BASE DE RESPUESTAS'!U61,Back!$M$16:$N$20,2,0)","v":"#N/A"},{"$f":"+VLOOKUP('BASE DE RESPUESTAS'!V61,Back!$M$16:$N$20,2,0)","v":"#N/A"},{"$f":"+VLOOKUP('BASE DE RESPUESTAS'!W61,Back!$M$16:$N$20,2,0)","v":"#N/A"},{"$f":"+VLOOKUP('BASE DE RESPUESTAS'!X61,Back!$M$16:$N$20,2,0)","v":"#N/A"},{"$f":"+VLOOKUP('BASE DE RESPUESTAS'!Y61,Back!$M$16:$N$20,2,0)","v":"#N/A"},{"$f":"+VLOOKUP('BASE DE RESPUESTAS'!Z61,Back!$M$16:$N$20,2,0)","v":"#N/A"},{"$f":"+VLOOKUP('BASE DE RESPUESTAS'!AA61,Back!$M$16:$N$20,2,0)","v":"#N/A"},{"$f":"+VLOOKUP('BASE DE RESPUESTAS'!AB61,Back!$M$16:$N$20,2,0)","v":"#N/A"},{"$f":"+VLOOKUP('BASE DE RESPUESTAS'!AC61,Back!$M$16:$N$20,2,0)","v":"#N/A"},{"$f":"+VLOOKUP('BASE DE RESPUESTAS'!AD61,Back!$M$16:$N$20,2,0)","v":"#N/A"},{"$f":"+VLOOKUP('BASE DE RESPUESTAS'!AE61,Back!$M$16:$N$20,2,0)","v":"#N/A"},{"$f":"+VLOOKUP('BASE DE RESPUESTAS'!AF61,Back!$M$16:$N$20,2,0)","v":"#N/A"},{"$f":"+VLOOKUP('BASE DE RESPUESTAS'!AG61,Back!$M$16:$N$20,2,0)","v":"#N/A"},{"$f":"+VLOOKUP('BASE DE RESPUESTAS'!AH61,Back!$M$16:$N$20,2,0)","v":"#N/A"},{"$f":"+VLOOKUP('BASE DE RESPUESTAS'!AI61,Back!$M$16:$N$20,2,0)","v":"#N/A"},{"$f":"+VLOOKUP('BASE DE RESPUESTAS'!AJ61,Back!$M$16:$N$20,2,0)","v":"#N/A"},{"$f":"+VLOOKUP('BASE DE RESPUESTAS'!AK61,Back!$M$16:$N$20,2,0)","v":"#N/A"},{"$f":"+VLOOKUP('BASE DE RESPUESTAS'!AL61,Back!$M$16:$N$20,2,0)","v":"#N/A"},{"$f":"+VLOOKUP('BASE DE RESPUESTAS'!AM61,Back!$M$16:$N$20,2,0)","v":"#N/A"},{"$f":"+VLOOKUP('BASE DE RESPUESTAS'!AN61,Back!$M$16:$N$20,2,0)","v":"#N/A"},{"$f":"+VLOOKUP('BASE DE RESPUESTAS'!AO61,Back!$M$16:$N$20,2,0)","v":"#N/A"},{"$f":"+VLOOKUP('BASE DE RESPUESTAS'!AP61,Back!$M$16:$N$20,2,0)","v":"#N/A"},{"$f":"+VLOOKUP('BASE DE RESPUESTAS'!AQ61,Back!$M$16:$N$20,2,0)","v":"#N/A"},{"$f":"+VLOOKUP('BASE DE RESPUESTAS'!AR61,Back!$M$16:$N$20,2,0)","v":"#N/A"},{"$f":"+VLOOKUP('BASE DE RESPUESTAS'!AS61,Back!$M$16:$N$20,2,0)","v":"#N/A"},{"$f":"+VLOOKUP('BASE DE RESPUESTAS'!AT61,Back!$M$16:$N$20,2,0)","v":"#N/A"},{"$f":"+VLOOKUP('BASE DE RESPUESTAS'!AU61,Back!$M$16:$N$20,2,0)","v":"#N/A"},{"$f":"+VLOOKUP('BASE DE RESPUESTAS'!AV61,Back!$M$16:$N$20,2,0)","v":"#N/A"},{"$f":"+VLOOKUP('BASE DE RESPUESTAS'!AW61,Back!$M$16:$N$20,2,0)","v":"#N/A"},{"$f":"+VLOOKUP('BASE DE RESPUESTAS'!AX61,Back!$M$16:$N$20,2,0)","v":"#N/A"},{"$f":"+VLOOKUP('BASE DE RESPUESTAS'!AY61,Back!$M$16:$N$20,2,0)","v":"#N/A"},{"$f":"+VLOOKUP('BASE DE RESPUESTAS'!AZ61,Back!$M$16:$N$20,2,0)","v":"#N/A"},{"$f":"+VLOOKUP('BASE DE RESPUESTAS'!BA61,Back!$M$16:$N$20,2,0)","v":"#N/A"},{"$f":"+VLOOKUP('BASE DE RESPUESTAS'!BB61,Back!$M$16:$N$20,2,0)","v":"#N/A"},{"$f":"+VLOOKUP('BASE DE RESPUESTAS'!BC61,Back!$M$16:$N$20,2,0)","v":"#N/A"},{"$f":"+VLOOKUP('BASE DE RESPUESTAS'!BD61,Back!$M$16:$N$20,2,0)","v":"#N/A"},{"$f":"+VLOOKUP('BASE DE RESPUESTAS'!BE61,Back!$M$16:$N$20,2,0)","v":"#N/A"}]
[null,null,null,"El o la estudiante cree que los hombres no sienten las mismas emociones que las mujeres.",56.0,"Pienso que los hombres no deben llorar, ni expresar sus sentimientos en público.",null,{"$f":"+VLOOKUP('BASE DE RESPUESTAS'!H62,Back!$M$16:$N$20,2,0)","v":"#N/A"},{"$f":"+VLOOKUP('BASE DE RESPUESTAS'!I62,Back!$M$16:$N$20,2,0)","v":"#N/A"},{"$f":"+VLOOKUP('BASE DE RESPUESTAS'!J62,Back!$M$16:$N$20,2,0)","v":"#N/A"},{"$f":"+VLOOKUP('BASE DE RESPUESTAS'!K62,Back!$M$16:$N$20,2,0)","v":"#N/A"},{"$f":"+VLOOKUP('BASE DE RESPUESTAS'!L62,Back!$M$16:$N$20,2,0)","v":"#N/A"},{"$f":"+VLOOKUP('BASE DE RESPUESTAS'!M62,Back!$M$16:$N$20,2,0)","v":"#N/A"},{"$f":"+VLOOKUP('BASE DE RESPUESTAS'!N62,Back!$M$16:$N$20,2,0)","v":"#N/A"},{"$f":"+VLOOKUP('BASE DE RESPUESTAS'!O62,Back!$M$16:$N$20,2,0)","v":"#N/A"},{"$f":"+VLOOKUP('BASE DE RESPUESTAS'!P62,Back!$M$16:$N$20,2,0)","v":"#N/A"},{"$f":"+VLOOKUP('BASE DE RESPUESTAS'!Q62,Back!$M$16:$N$20,2,0)","v":"#N/A"},{"$f":"+VLOOKUP('BASE DE RESPUESTAS'!R62,Back!$M$16:$N$20,2,0)","v":"#N/A"},{"$f":"+VLOOKUP('BASE DE RESPUESTAS'!S62,Back!$M$16:$N$20,2,0)","v":"#N/A"},{"$f":"+VLOOKUP('BASE DE RESPUESTAS'!T62,Back!$M$16:$N$20,2,0)","v":"#N/A"},{"$f":"+VLOOKUP('BASE DE RESPUESTAS'!U62,Back!$M$16:$N$20,2,0)","v":"#N/A"},{"$f":"+VLOOKUP('BASE DE RESPUESTAS'!V62,Back!$M$16:$N$20,2,0)","v":"#N/A"},{"$f":"+VLOOKUP('BASE DE RESPUESTAS'!W62,Back!$M$16:$N$20,2,0)","v":"#N/A"},{"$f":"+VLOOKUP('BASE DE RESPUESTAS'!X62,Back!$M$16:$N$20,2,0)","v":"#N/A"},{"$f":"+VLOOKUP('BASE DE RESPUESTAS'!Y62,Back!$M$16:$N$20,2,0)","v":"#N/A"},{"$f":"+VLOOKUP('BASE DE RESPUESTAS'!Z62,Back!$M$16:$N$20,2,0)","v":"#N/A"},{"$f":"+VLOOKUP('BASE DE RESPUESTAS'!AA62,Back!$M$16:$N$20,2,0)","v":"#N/A"},{"$f":"+VLOOKUP('BASE DE RESPUESTAS'!AB62,Back!$M$16:$N$20,2,0)","v":"#N/A"},{"$f":"+VLOOKUP('BASE DE RESPUESTAS'!AC62,Back!$M$16:$N$20,2,0)","v":"#N/A"},{"$f":"+VLOOKUP('BASE DE RESPUESTAS'!AD62,Back!$M$16:$N$20,2,0)","v":"#N/A"},{"$f":"+VLOOKUP('BASE DE RESPUESTAS'!AE62,Back!$M$16:$N$20,2,0)","v":"#N/A"},{"$f":"+VLOOKUP('BASE DE RESPUESTAS'!AF62,Back!$M$16:$N$20,2,0)","v":"#N/A"},{"$f":"+VLOOKUP('BASE DE RESPUESTAS'!AG62,Back!$M$16:$N$20,2,0)","v":"#N/A"},{"$f":"+VLOOKUP('BASE DE RESPUESTAS'!AH62,Back!$M$16:$N$20,2,0)","v":"#N/A"},{"$f":"+VLOOKUP('BASE DE RESPUESTAS'!AI62,Back!$M$16:$N$20,2,0)","v":"#N/A"},{"$f":"+VLOOKUP('BASE DE RESPUESTAS'!AJ62,Back!$M$16:$N$20,2,0)","v":"#N/A"},{"$f":"+VLOOKUP('BASE DE RESPUESTAS'!AK62,Back!$M$16:$N$20,2,0)","v":"#N/A"},{"$f":"+VLOOKUP('BASE DE RESPUESTAS'!AL62,Back!$M$16:$N$20,2,0)","v":"#N/A"},{"$f":"+VLOOKUP('BASE DE RESPUESTAS'!AM62,Back!$M$16:$N$20,2,0)","v":"#N/A"},{"$f":"+VLOOKUP('BASE DE RESPUESTAS'!AN62,Back!$M$16:$N$20,2,0)","v":"#N/A"},{"$f":"+VLOOKUP('BASE DE RESPUESTAS'!AO62,Back!$M$16:$N$20,2,0)","v":"#N/A"},{"$f":"+VLOOKUP('BASE DE RESPUESTAS'!AP62,Back!$M$16:$N$20,2,0)","v":"#N/A"},{"$f":"+VLOOKUP('BASE DE RESPUESTAS'!AQ62,Back!$M$16:$N$20,2,0)","v":"#N/A"},{"$f":"+VLOOKUP('BASE DE RESPUESTAS'!AR62,Back!$M$16:$N$20,2,0)","v":"#N/A"},{"$f":"+VLOOKUP('BASE DE RESPUESTAS'!AS62,Back!$M$16:$N$20,2,0)","v":"#N/A"},{"$f":"+VLOOKUP('BASE DE RESPUESTAS'!AT62,Back!$M$16:$N$20,2,0)","v":"#N/A"},{"$f":"+VLOOKUP('BASE DE RESPUESTAS'!AU62,Back!$M$16:$N$20,2,0)","v":"#N/A"},{"$f":"+VLOOKUP('BASE DE RESPUESTAS'!AV62,Back!$M$16:$N$20,2,0)","v":"#N/A"},{"$f":"+VLOOKUP('BASE DE RESPUESTAS'!AW62,Back!$M$16:$N$20,2,0)","v":"#N/A"},{"$f":"+VLOOKUP('BASE DE RESPUESTAS'!AX62,Back!$M$16:$N$20,2,0)","v":"#N/A"},{"$f":"+VLOOKUP('BASE DE RESPUESTAS'!AY62,Back!$M$16:$N$20,2,0)","v":"#N/A"},{"$f":"+VLOOKUP('BASE DE RESPUESTAS'!AZ62,Back!$M$16:$N$20,2,0)","v":"#N/A"},{"$f":"+VLOOKUP('BASE DE RESPUESTAS'!BA62,Back!$M$16:$N$20,2,0)","v":"#N/A"},{"$f":"+VLOOKUP('BASE DE RESPUESTAS'!BB62,Back!$M$16:$N$20,2,0)","v":"#N/A"},{"$f":"+VLOOKUP('BASE DE RESPUESTAS'!BC62,Back!$M$16:$N$20,2,0)","v":"#N/A"},{"$f":"+VLOOKUP('BASE DE RESPUESTAS'!BD62,Back!$M$16:$N$20,2,0)","v":"#N/A"},{"$f":"+VLOOKUP('BASE DE RESPUESTAS'!BE62,Back!$M$16:$N$20,2,0)","v":"#N/A"}]
[null,"FR","Violencia Escolar","El o la estudiante siente que sus compañeros se burlan de él o ella.",57.0,"En mi colegio, algunos compañeros(as) se burlan de mí, me fastidian.",null,{"$f":"+VLOOKUP('BASE DE RESPUESTAS'!H63,Back!$M$16:$N$20,2,0)","v":"#N/A"},{"$f":"+VLOOKUP('BASE DE RESPUESTAS'!I63,Back!$M$16:$N$20,2,0)","v":"#N/A"},{"$f":"+VLOOKUP('BASE DE RESPUESTAS'!J63,Back!$M$16:$N$20,2,0)","v":"#N/A"},{"$f":"+VLOOKUP('BASE DE RESPUESTAS'!K63,Back!$M$16:$N$20,2,0)","v":"#N/A"},{"$f":"+VLOOKUP('BASE DE RESPUESTAS'!L63,Back!$M$16:$N$20,2,0)","v":"#N/A"},{"$f":"+VLOOKUP('BASE DE RESPUESTAS'!M63,Back!$M$16:$N$20,2,0)","v":"#N/A"},{"$f":"+VLOOKUP('BASE DE RESPUESTAS'!N63,Back!$M$16:$N$20,2,0)","v":"#N/A"},{"$f":"+VLOOKUP('BASE DE RESPUESTAS'!O63,Back!$M$16:$N$20,2,0)","v":"#N/A"},{"$f":"+VLOOKUP('BASE DE RESPUESTAS'!P63,Back!$M$16:$N$20,2,0)","v":"#N/A"},{"$f":"+VLOOKUP('BASE DE RESPUESTAS'!Q63,Back!$M$16:$N$20,2,0)","v":"#N/A"},{"$f":"+VLOOKUP('BASE DE RESPUESTAS'!R63,Back!$M$16:$N$20,2,0)","v":"#N/A"},{"$f":"+VLOOKUP('BASE DE RESPUESTAS'!S63,Back!$M$16:$N$20,2,0)","v":"#N/A"},{"$f":"+VLOOKUP('BASE DE RESPUESTAS'!T63,Back!$M$16:$N$20,2,0)","v":"#N/A"},{"$f":"+VLOOKUP('BASE DE RESPUESTAS'!U63,Back!$M$16:$N$20,2,0)","v":"#N/A"},{"$f":"+VLOOKUP('BASE DE RESPUESTAS'!V63,Back!$M$16:$N$20,2,0)","v":"#N/A"},{"$f":"+VLOOKUP('BASE DE RESPUESTAS'!W63,Back!$M$16:$N$20,2,0)","v":"#N/A"},{"$f":"+VLOOKUP('BASE DE RESPUESTAS'!X63,Back!$M$16:$N$20,2,0)","v":"#N/A"},{"$f":"+VLOOKUP('BASE DE RESPUESTAS'!Y63,Back!$M$16:$N$20,2,0)","v":"#N/A"},{"$f":"+VLOOKUP('BASE DE RESPUESTAS'!Z63,Back!$M$16:$N$20,2,0)","v":"#N/A"},{"$f":"+VLOOKUP('BASE DE RESPUESTAS'!AA63,Back!$M$16:$N$20,2,0)","v":"#N/A"},{"$f":"+VLOOKUP('BASE DE RESPUESTAS'!AB63,Back!$M$16:$N$20,2,0)","v":"#N/A"},{"$f":"+VLOOKUP('BASE DE RESPUESTAS'!AC63,Back!$M$16:$N$20,2,0)","v":"#N/A"},{"$f":"+VLOOKUP('BASE DE RESPUESTAS'!AD63,Back!$M$16:$N$20,2,0)","v":"#N/A"},{"$f":"+VLOOKUP('BASE DE RESPUESTAS'!AE63,Back!$M$16:$N$20,2,0)","v":"#N/A"},{"$f":"+VLOOKUP('BASE DE RESPUESTAS'!AF63,Back!$M$16:$N$20,2,0)","v":"#N/A"},{"$f":"+VLOOKUP('BASE DE RESPUESTAS'!AG63,Back!$M$16:$N$20,2,0)","v":"#N/A"},{"$f":"+VLOOKUP('BASE DE RESPUESTAS'!AH63,Back!$M$16:$N$20,2,0)","v":"#N/A"},{"$f":"+VLOOKUP('BASE DE RESPUESTAS'!AI63,Back!$M$16:$N$20,2,0)","v":"#N/A"},{"$f":"+VLOOKUP('BASE DE RESPUESTAS'!AJ63,Back!$M$16:$N$20,2,0)","v":"#N/A"},{"$f":"+VLOOKUP('BASE DE RESPUESTAS'!AK63,Back!$M$16:$N$20,2,0)","v":"#N/A"},{"$f":"+VLOOKUP('BASE DE RESPUESTAS'!AL63,Back!$M$16:$N$20,2,0)","v":"#N/A"},{"$f":"+VLOOKUP('BASE DE RESPUESTAS'!AM63,Back!$M$16:$N$20,2,0)","v":"#N/A"},{"$f":"+VLOOKUP('BASE DE RESPUESTAS'!AN63,Back!$M$16:$N$20,2,0)","v":"#N/A"},{"$f":"+VLOOKUP('BASE DE RESPUESTAS'!AO63,Back!$M$16:$N$20,2,0)","v":"#N/A"},{"$f":"+VLOOKUP('BASE DE RESPUESTAS'!AP63,Back!$M$16:$N$20,2,0)","v":"#N/A"},{"$f":"+VLOOKUP('BASE DE RESPUESTAS'!AQ63,Back!$M$16:$N$20,2,0)","v":"#N/A"},{"$f":"+VLOOKUP('BASE DE RESPUESTAS'!AR63,Back!$M$16:$N$20,2,0)","v":"#N/A"},{"$f":"+VLOOKUP('BASE DE RESPUESTAS'!AS63,Back!$M$16:$N$20,2,0)","v":"#N/A"},{"$f":"+VLOOKUP('BASE DE RESPUESTAS'!AT63,Back!$M$16:$N$20,2,0)","v":"#N/A"},{"$f":"+VLOOKUP('BASE DE RESPUESTAS'!AU63,Back!$M$16:$N$20,2,0)","v":"#N/A"},{"$f":"+VLOOKUP('BASE DE RESPUESTAS'!AV63,Back!$M$16:$N$20,2,0)","v":"#N/A"},{"$f":"+VLOOKUP('BASE DE RESPUESTAS'!AW63,Back!$M$16:$N$20,2,0)","v":"#N/A"},{"$f":"+VLOOKUP('BASE DE RESPUESTAS'!AX63,Back!$M$16:$N$20,2,0)","v":"#N/A"},{"$f":"+VLOOKUP('BASE DE RESPUESTAS'!AY63,Back!$M$16:$N$20,2,0)","v":"#N/A"},{"$f":"+VLOOKUP('BASE DE RESPUESTAS'!AZ63,Back!$M$16:$N$20,2,0)","v":"#N/A"},{"$f":"+VLOOKUP('BASE DE RESPUESTAS'!BA63,Back!$M$16:$N$20,2,0)","v":"#N/A"},{"$f":"+VLOOKUP('BASE DE RESPUESTAS'!BB63,Back!$M$16:$N$20,2,0)","v":"#N/A"},{"$f":"+VLOOKUP('BASE DE RESPUESTAS'!BC63,Back!$M$16:$N$20,2,0)","v":"#N/A"},{"$f":"+VLOOKUP('BASE DE RESPUESTAS'!BD63,Back!$M$16:$N$20,2,0)","v":"#N/A"},{"$f":"+VLOOKUP('BASE DE RESPUESTAS'!BE63,Back!$M$16:$N$20,2,0)","v":"#N/A"}]
[null,null,null,"El o la estudiante siente temor de asistir al colegio por recibir malos tratos de sus compañeros o profesores.",58.0,"Tengo miedo de ir al colegio porque mis compañeros(as) me tratan mal (me empujan, me quitan mis cosas, me golpean, etc.).",null,{"$f":"+VLOOKUP('BASE DE RESPUESTAS'!H64,Back!$M$16:$N$20,2,0)","v":"#N/A"},{"$f":"+VLOOKUP('BASE DE RESPUESTAS'!I64,Back!$M$16:$N$20,2,0)","v":"#N/A"},{"$f":"+VLOOKUP('BASE DE RESPUESTAS'!J64,Back!$M$16:$N$20,2,0)","v":"#N/A"},{"$f":"+VLOOKUP('BASE DE RESPUESTAS'!K64,Back!$M$16:$N$20,2,0)","v":"#N/A"},{"$f":"+VLOOKUP('BASE DE RESPUESTAS'!L64,Back!$M$16:$N$20,2,0)","v":"#N/A"},{"$f":"+VLOOKUP('BASE DE RESPUESTAS'!M64,Back!$M$16:$N$20,2,0)","v":"#N/A"},{"$f":"+VLOOKUP('BASE DE RESPUESTAS'!N64,Back!$M$16:$N$20,2,0)","v":"#N/A"},{"$f":"+VLOOKUP('BASE DE RESPUESTAS'!O64,Back!$M$16:$N$20,2,0)","v":"#N/A"},{"$f":"+VLOOKUP('BASE DE RESPUESTAS'!P64,Back!$M$16:$N$20,2,0)","v":"#N/A"},{"$f":"+VLOOKUP('BASE DE RESPUESTAS'!Q64,Back!$M$16:$N$20,2,0)","v":"#N/A"},{"$f":"+VLOOKUP('BASE DE RESPUESTAS'!R64,Back!$M$16:$N$20,2,0)","v":"#N/A"},{"$f":"+VLOOKUP('BASE DE RESPUESTAS'!S64,Back!$M$16:$N$20,2,0)","v":"#N/A"},{"$f":"+VLOOKUP('BASE DE RESPUESTAS'!T64,Back!$M$16:$N$20,2,0)","v":"#N/A"},{"$f":"+VLOOKUP('BASE DE RESPUESTAS'!U64,Back!$M$16:$N$20,2,0)","v":"#N/A"},{"$f":"+VLOOKUP('BASE DE RESPUESTAS'!V64,Back!$M$16:$N$20,2,0)","v":"#N/A"},{"$f":"+VLOOKUP('BASE DE RESPUESTAS'!W64,Back!$M$16:$N$20,2,0)","v":"#N/A"},{"$f":"+VLOOKUP('BASE DE RESPUESTAS'!X64,Back!$M$16:$N$20,2,0)","v":"#N/A"},{"$f":"+VLOOKUP('BASE DE RESPUESTAS'!Y64,Back!$M$16:$N$20,2,0)","v":"#N/A"},{"$f":"+VLOOKUP('BASE DE RESPUESTAS'!Z64,Back!$M$16:$N$20,2,0)","v":"#N/A"},{"$f":"+VLOOKUP('BASE DE RESPUESTAS'!AA64,Back!$M$16:$N$20,2,0)","v":"#N/A"},{"$f":"+VLOOKUP('BASE DE RESPUESTAS'!AB64,Back!$M$16:$N$20,2,0)","v":"#N/A"},{"$f":"+VLOOKUP('BASE DE RESPUESTAS'!AC64,Back!$M$16:$N$20,2,0)","v":"#N/A"},{"$f":"+VLOOKUP('BASE DE RESPUESTAS'!AD64,Back!$M$16:$N$20,2,0)","v":"#N/A"},{"$f":"+VLOOKUP('BASE DE RESPUESTAS'!AE64,Back!$M$16:$N$20,2,0)","v":"#N/A"},{"$f":"+VLOOKUP('BASE DE RESPUESTAS'!AF64,Back!$M$16:$N$20,2,0)","v":"#N/A"},{"$f":"+VLOOKUP('BASE DE RESPUESTAS'!AG64,Back!$M$16:$N$20,2,0)","v":"#N/A"},{"$f":"+VLOOKUP('BASE DE RESPUESTAS'!AH64,Back!$M$16:$N$20,2,0)","v":"#N/A"},{"$f":"+VLOOKUP('BASE DE RESPUESTAS'!AI64,Back!$M$16:$N$20,2,0)","v":"#N/A"},{"$f":"+VLOOKUP('BASE DE RESPUESTAS'!AJ64,Back!$M$16:$N$20,2,0)","v":"#N/A"},{"$f":"+VLOOKUP('BASE DE RESPUESTAS'!AK64,Back!$M$16:$N$20,2,0)","v":"#N/A"},{"$f":"+VLOOKUP('BASE DE RESPUESTAS'!AL64,Back!$M$16:$N$20,2,0)","v":"#N/A"},{"$f":"+VLOOKUP('BASE DE RESPUESTAS'!AM64,Back!$M$16:$N$20,2,0)","v":"#N/A"},{"$f":"+VLOOKUP('BASE DE RESPUESTAS'!AN64,Back!$M$16:$N$20,2,0)","v":"#N/A"},{"$f":"+VLOOKUP('BASE DE RESPUESTAS'!AO64,Back!$M$16:$N$20,2,0)","v":"#N/A"},{"$f":"+VLOOKUP('BASE DE RESPUESTAS'!AP64,Back!$M$16:$N$20,2,0)","v":"#N/A"},{"$f":"+VLOOKUP('BASE DE RESPUESTAS'!AQ64,Back!$M$16:$N$20,2,0)","v":"#N/A"},{"$f":"+VLOOKUP('BASE DE RESPUESTAS'!AR64,Back!$M$16:$N$20,2,0)","v":"#N/A"},{"$f":"+VLOOKUP('BASE DE RESPUESTAS'!AS64,Back!$M$16:$N$20,2,0)","v":"#N/A"},{"$f":"+VLOOKUP('BASE DE RESPUESTAS'!AT64,Back!$M$16:$N$20,2,0)","v":"#N/A"},{"$f":"+VLOOKUP('BASE DE RESPUESTAS'!AU64,Back!$M$16:$N$20,2,0)","v":"#N/A"},{"$f":"+VLOOKUP('BASE DE RESPUESTAS'!AV64,Back!$M$16:$N$20,2,0)","v":"#N/A"},{"$f":"+VLOOKUP('BASE DE RESPUESTAS'!AW64,Back!$M$16:$N$20,2,0)","v":"#N/A"},{"$f":"+VLOOKUP('BASE DE RESPUESTAS'!AX64,Back!$M$16:$N$20,2,0)","v":"#N/A"},{"$f":"+VLOOKUP('BASE DE RESPUESTAS'!AY64,Back!$M$16:$N$20,2,0)","v":"#N/A"},{"$f":"+VLOOKUP('BASE DE RESPUESTAS'!AZ64,Back!$M$16:$N$20,2,0)","v":"#N/A"},{"$f":"+VLOOKUP('BASE DE RESPUESTAS'!BA64,Back!$M$16:$N$20,2,0)","v":"#N/A"},{"$f":"+VLOOKUP('BASE DE RESPUESTAS'!BB64,Back!$M$16:$N$20,2,0)","v":"#N/A"},{"$f":"+VLOOKUP('BASE DE RESPUESTAS'!BC64,Back!$M$16:$N$20,2,0)","v":"#N/A"},{"$f":"+VLOOKUP('BASE DE RESPUESTAS'!BD64,Back!$M$16:$N$20,2,0)","v":"#N/A"},{"$f":"+VLOOKUP('BASE DE RESPUESTAS'!BE64,Back!$M$16:$N$20,2,0)","v":"#N/A"}]
[null,null,null,"El o la estudiante se siente acosado sexualmente por un compañero o adulto del colegio.",59.0,"Me he dado cuenta que en mi colegio, alguien me mira de forma extraña que me incomoda.",null,{"$f":"+VLOOKUP('BASE DE RESPUESTAS'!H65,Back!$M$16:$N$20,2,0)","v":"#N/A"},{"$f":"+VLOOKUP('BASE DE RESPUESTAS'!I65,Back!$M$16:$N$20,2,0)","v":"#N/A"},{"$f":"+VLOOKUP('BASE DE RESPUESTAS'!J65,Back!$M$16:$N$20,2,0)","v":"#N/A"},{"$f":"+VLOOKUP('BASE DE RESPUESTAS'!K65,Back!$M$16:$N$20,2,0)","v":"#N/A"},{"$f":"+VLOOKUP('BASE DE RESPUESTAS'!L65,Back!$M$16:$N$20,2,0)","v":"#N/A"},{"$f":"+VLOOKUP('BASE DE RESPUESTAS'!M65,Back!$M$16:$N$20,2,0)","v":"#N/A"},{"$f":"+VLOOKUP('BASE DE RESPUESTAS'!N65,Back!$M$16:$N$20,2,0)","v":"#N/A"},{"$f":"+VLOOKUP('BASE DE RESPUESTAS'!O65,Back!$M$16:$N$20,2,0)","v":"#N/A"},{"$f":"+VLOOKUP('BASE DE RESPUESTAS'!P65,Back!$M$16:$N$20,2,0)","v":"#N/A"},{"$f":"+VLOOKUP('BASE DE RESPUESTAS'!Q65,Back!$M$16:$N$20,2,0)","v":"#N/A"},{"$f":"+VLOOKUP('BASE DE RESPUESTAS'!R65,Back!$M$16:$N$20,2,0)","v":"#N/A"},{"$f":"+VLOOKUP('BASE DE RESPUESTAS'!S65,Back!$M$16:$N$20,2,0)","v":"#N/A"},{"$f":"+VLOOKUP('BASE DE RESPUESTAS'!T65,Back!$M$16:$N$20,2,0)","v":"#N/A"},{"$f":"+VLOOKUP('BASE DE RESPUESTAS'!U65,Back!$M$16:$N$20,2,0)","v":"#N/A"},{"$f":"+VLOOKUP('BASE DE RESPUESTAS'!V65,Back!$M$16:$N$20,2,0)","v":"#N/A"},{"$f":"+VLOOKUP('BASE DE RESPUESTAS'!W65,Back!$M$16:$N$20,2,0)","v":"#N/A"},{"$f":"+VLOOKUP('BASE DE RESPUESTAS'!X65,Back!$M$16:$N$20,2,0)","v":"#N/A"},{"$f":"+VLOOKUP('BASE DE RESPUESTAS'!Y65,Back!$M$16:$N$20,2,0)","v":"#N/A"},{"$f":"+VLOOKUP('BASE DE RESPUESTAS'!Z65,Back!$M$16:$N$20,2,0)","v":"#N/A"},{"$f":"+VLOOKUP('BASE DE RESPUESTAS'!AA65,Back!$M$16:$N$20,2,0)","v":"#N/A"},{"$f":"+VLOOKUP('BASE DE RESPUESTAS'!AB65,Back!$M$16:$N$20,2,0)","v":"#N/A"},{"$f":"+VLOOKUP('BASE DE RESPUESTAS'!AC65,Back!$M$16:$N$20,2,0)","v":"#N/A"},{"$f":"+VLOOKUP('BASE DE RESPUESTAS'!AD65,Back!$M$16:$N$20,2,0)","v":"#N/A"},{"$f":"+VLOOKUP('BASE DE RESPUESTAS'!AE65,Back!$M$16:$N$20,2,0)","v":"#N/A"},{"$f":"+VLOOKUP('BASE DE RESPUESTAS'!AF65,Back!$M$16:$N$20,2,0)","v":"#N/A"},{"$f":"+VLOOKUP('BASE DE RESPUESTAS'!AG65,Back!$M$16:$N$20,2,0)","v":"#N/A"},{"$f":"+VLOOKUP('BASE DE RESPUESTAS'!AH65,Back!$M$16:$N$20,2,0)","v":"#N/A"},{"$f":"+VLOOKUP('BASE DE RESPUESTAS'!AI65,Back!$M$16:$N$20,2,0)","v":"#N/A"},{"$f":"+VLOOKUP('BASE DE RESPUESTAS'!AJ65,Back!$M$16:$N$20,2,0)","v":"#N/A"},{"$f":"+VLOOKUP('BASE DE RESPUESTAS'!AK65,Back!$M$16:$N$20,2,0)","v":"#N/A"},{"$f":"+VLOOKUP('BASE DE RESPUESTAS'!AL65,Back!$M$16:$N$20,2,0)","v":"#N/A"},{"$f":"+VLOOKUP('BASE DE RESPUESTAS'!AM65,Back!$M$16:$N$20,2,0)","v":"#N/A"},{"$f":"+VLOOKUP('BASE DE RESPUESTAS'!AN65,Back!$M$16:$N$20,2,0)","v":"#N/A"},{"$f":"+VLOOKUP('BASE DE RESPUESTAS'!AO65,Back!$M$16:$N$20,2,0)","v":"#N/A"},{"$f":"+VLOOKUP('BASE DE RESPUESTAS'!AP65,Back!$M$16:$N$20,2,0)","v":"#N/A"},{"$f":"+VLOOKUP('BASE DE RESPUESTAS'!AQ65,Back!$M$16:$N$20,2,0)","v":"#N/A"},{"$f":"+VLOOKUP('BASE DE RESPUESTAS'!AR65,Back!$M$16:$N$20,2,0)","v":"#N/A"},{"$f":"+VLOOKUP('BASE DE RESPUESTAS'!AS65,Back!$M$16:$N$20,2,0)","v":"#N/A"},{"$f":"+VLOOKUP('BASE DE RESPUESTAS'!AT65,Back!$M$16:$N$20,2,0)","v":"#N/A"},{"$f":"+VLOOKUP('BASE DE RESPUESTAS'!AU65,Back!$M$16:$N$20,2,0)","v":"#N/A"},{"$f":"+VLOOKUP('BASE DE RESPUESTAS'!AV65,Back!$M$16:$N$20,2,0)","v":"#N/A"},{"$f":"+VLOOKUP('BASE DE RESPUESTAS'!AW65,Back!$M$16:$N$20,2,0)","v":"#N/A"},{"$f":"+VLOOKUP('BASE DE RESPUESTAS'!AX65,Back!$M$16:$N$20,2,0)","v":"#N/A"},{"$f":"+VLOOKUP('BASE DE RESPUESTAS'!AY65,Back!$M$16:$N$20,2,0)","v":"#N/A"},{"$f":"+VLOOKUP('BASE DE RESPUESTAS'!AZ65,Back!$M$16:$N$20,2,0)","v":"#N/A"},{"$f":"+VLOOKUP('BASE DE RESPUESTAS'!BA65,Back!$M$16:$N$20,2,0)","v":"#N/A"},{"$f":"+VLOOKUP('BASE DE RESPUESTAS'!BB65,Back!$M$16:$N$20,2,0)","v":"#N/A"},{"$f":"+VLOOKUP('BASE DE RESPUESTAS'!BC65,Back!$M$16:$N$20,2,0)","v":"#N/A"},{"$f":"+VLOOKUP('BASE DE RESPUESTAS'!BD65,Back!$M$16:$N$20,2,0)","v":"#N/A"},{"$f":"+VLOOKUP('BASE DE RESPUESTAS'!BE65,Back!$M$16:$N$20,2,0)","v":"#N/A"}]
[null,null,null,"El o la estudiante manifiesta agresividad verbal y/o física hacia otras personas",60.0,"Me gusta poner apodos a mis compañeros para molestarlos.",null,{"$f":"+VLOOKUP('BASE DE RESPUESTAS'!H66,Back!$M$16:$N$20,2,0)","v":"#N/A"},{"$f":"+VLOOKUP('BASE DE RESPUESTAS'!I66,Back!$M$16:$N$20,2,0)","v":"#N/A"},{"$f":"+VLOOKUP('BASE DE RESPUESTAS'!J66,Back!$M$16:$N$20,2,0)","v":"#N/A"},{"$f":"+VLOOKUP('BASE DE RESPUESTAS'!K66,Back!$M$16:$N$20,2,0)","v":"#N/A"},{"$f":"+VLOOKUP('BASE DE RESPUESTAS'!L66,Back!$M$16:$N$20,2,0)","v":"#N/A"},{"$f":"+VLOOKUP('BASE DE RESPUESTAS'!M66,Back!$M$16:$N$20,2,0)","v":"#N/A"},{"$f":"+VLOOKUP('BASE DE RESPUESTAS'!N66,Back!$M$16:$N$20,2,0)","v":"#N/A"},{"$f":"+VLOOKUP('BASE DE RESPUESTAS'!O66,Back!$M$16:$N$20,2,0)","v":"#N/A"},{"$f":"+VLOOKUP('BASE DE RESPUESTAS'!P66,Back!$M$16:$N$20,2,0)","v":"#N/A"},{"$f":"+VLOOKUP('BASE DE RESPUESTAS'!Q66,Back!$M$16:$N$20,2,0)","v":"#N/A"},{"$f":"+VLOOKUP('BASE DE RESPUESTAS'!R66,Back!$M$16:$N$20,2,0)","v":"#N/A"},{"$f":"+VLOOKUP('BASE DE RESPUESTAS'!S66,Back!$M$16:$N$20,2,0)","v":"#N/A"},{"$f":"+VLOOKUP('BASE DE RESPUESTAS'!T66,Back!$M$16:$N$20,2,0)","v":"#N/A"},{"$f":"+VLOOKUP('BASE DE RESPUESTAS'!U66,Back!$M$16:$N$20,2,0)","v":"#N/A"},{"$f":"+VLOOKUP('BASE DE RESPUESTAS'!V66,Back!$M$16:$N$20,2,0)","v":"#N/A"},{"$f":"+VLOOKUP('BASE DE RESPUESTAS'!W66,Back!$M$16:$N$20,2,0)","v":"#N/A"},{"$f":"+VLOOKUP('BASE DE RESPUESTAS'!X66,Back!$M$16:$N$20,2,0)","v":"#N/A"},{"$f":"+VLOOKUP('BASE DE RESPUESTAS'!Y66,Back!$M$16:$N$20,2,0)","v":"#N/A"},{"$f":"+VLOOKUP('BASE DE RESPUESTAS'!Z66,Back!$M$16:$N$20,2,0)","v":"#N/A"},{"$f":"+VLOOKUP('BASE DE RESPUESTAS'!AA66,Back!$M$16:$N$20,2,0)","v":"#N/A"},{"$f":"+VLOOKUP('BASE DE RESPUESTAS'!AB66,Back!$M$16:$N$20,2,0)","v":"#N/A"},{"$f":"+VLOOKUP('BASE DE RESPUESTAS'!AC66,Back!$M$16:$N$20,2,0)","v":"#N/A"},{"$f":"+VLOOKUP('BASE DE RESPUESTAS'!AD66,Back!$M$16:$N$20,2,0)","v":"#N/A"},{"$f":"+VLOOKUP('BASE DE RESPUESTAS'!AE66,Back!$M$16:$N$20,2,0)","v":"#N/A"},{"$f":"+VLOOKUP('BASE DE RESPUESTAS'!AF66,Back!$M$16:$N$20,2,0)","v":"#N/A"},{"$f":"+VLOOKUP('BASE DE RESPUESTAS'!AG66,Back!$M$16:$N$20,2,0)","v":"#N/A"},{"$f":"+VLOOKUP('BASE DE RESPUESTAS'!AH66,Back!$M$16:$N$20,2,0)","v":"#N/A"},{"$f":"+VLOOKUP('BASE DE RESPUESTAS'!AI66,Back!$M$16:$N$20,2,0)","v":"#N/A"},{"$f":"+VLOOKUP('BASE DE RESPUESTAS'!AJ66,Back!$M$16:$N$20,2,0)","v":"#N/A"},{"$f":"+VLOOKUP('BASE DE RESPUESTAS'!AK66,Back!$M$16:$N$20,2,0)","v":"#N/A"},{"$f":"+VLOOKUP('BASE DE RESPUESTAS'!AL66,Back!$M$16:$N$20,2,0)","v":"#N/A"},{"$f":"+VLOOKUP('BASE DE RESPUESTAS'!AM66,Back!$M$16:$N$20,2,0)","v":"#N/A"},{"$f":"+VLOOKUP('BASE DE RESPUESTAS'!AN66,Back!$M$16:$N$20,2,0)","v":"#N/A"},{"$f":"+VLOOKUP('BASE DE RESPUESTAS'!AO66,Back!$M$16:$N$20,2,0)","v":"#N/A"},{"$f":"+VLOOKUP('BASE DE RESPUESTAS'!AP66,Back!$M$16:$N$20,2,0)","v":"#N/A"},{"$f":"+VLOOKUP('BASE DE RESPUESTAS'!AQ66,Back!$M$16:$N$20,2,0)","v":"#N/A"},{"$f":"+VLOOKUP('BASE DE RESPUESTAS'!AR66,Back!$M$16:$N$20,2,0)","v":"#N/A"},{"$f":"+VLOOKUP('BASE DE RESPUESTAS'!AS66,Back!$M$16:$N$20,2,0)","v":"#N/A"},{"$f":"+VLOOKUP('BASE DE RESPUESTAS'!AT66,Back!$M$16:$N$20,2,0)","v":"#N/A"},{"$f":"+VLOOKUP('BASE DE RESPUESTAS'!AU66,Back!$M$16:$N$20,2,0)","v":"#N/A"},{"$f":"+VLOOKUP('BASE DE RESPUESTAS'!AV66,Back!$M$16:$N$20,2,0)","v":"#N/A"},{"$f":"+VLOOKUP('BASE DE RESPUESTAS'!AW66,Back!$M$16:$N$20,2,0)","v":"#N/A"},{"$f":"+VLOOKUP('BASE DE RESPUESTAS'!AX66,Back!$M$16:$N$20,2,0)","v":"#N/A"},{"$f":"+VLOOKUP('BASE DE RESPUESTAS'!AY66,Back!$M$16:$N$20,2,0)","v":"#N/A"},{"$f":"+VLOOKUP('BASE DE RESPUESTAS'!AZ66,Back!$M$16:$N$20,2,0)","v":"#N/A"},{"$f":"+VLOOKUP('BASE DE RESPUESTAS'!BA66,Back!$M$16:$N$20,2,0)","v":"#N/A"},{"$f":"+VLOOKUP('BASE DE RESPUESTAS'!BB66,Back!$M$16:$N$20,2,0)","v":"#N/A"},{"$f":"+VLOOKUP('BASE DE RESPUESTAS'!BC66,Back!$M$16:$N$20,2,0)","v":"#N/A"},{"$f":"+VLOOKUP('BASE DE RESPUESTAS'!BD66,Back!$M$16:$N$20,2,0)","v":"#N/A"},{"$f":"+VLOOKUP('BASE DE RESPUESTAS'!BE66,Back!$M$16:$N$20,2,0)","v":"#N/A"}]
[null,"FR","Limitados recursos económicos","El o la estudiante no tiene acceso a servicios de salud.",61.0,"Cuando tengo un problema de salud no puedo asistir a un servicio de salud.",null,{"$f":"+VLOOKUP('BASE DE RESPUESTAS'!H67,Back!$M$16:$N$20,2,0)","v":"#N/A"},{"$f":"+VLOOKUP('BASE DE RESPUESTAS'!I67,Back!$M$16:$N$20,2,0)","v":"#N/A"},{"$f":"+VLOOKUP('BASE DE RESPUESTAS'!J67,Back!$M$16:$N$20,2,0)","v":"#N/A"},{"$f":"+VLOOKUP('BASE DE RESPUESTAS'!K67,Back!$M$16:$N$20,2,0)","v":"#N/A"},{"$f":"+VLOOKUP('BASE DE RESPUESTAS'!L67,Back!$M$16:$N$20,2,0)","v":"#N/A"},{"$f":"+VLOOKUP('BASE DE RESPUESTAS'!M67,Back!$M$16:$N$20,2,0)","v":"#N/A"},{"$f":"+VLOOKUP('BASE DE RESPUESTAS'!N67,Back!$M$16:$N$20,2,0)","v":"#N/A"},{"$f":"+VLOOKUP('BASE DE RESPUESTAS'!O67,Back!$M$16:$N$20,2,0)","v":"#N/A"},{"$f":"+VLOOKUP('BASE DE RESPUESTAS'!P67,Back!$M$16:$N$20,2,0)","v":"#N/A"},{"$f":"+VLOOKUP('BASE DE RESPUESTAS'!Q67,Back!$M$16:$N$20,2,0)","v":"#N/A"},{"$f":"+VLOOKUP('BASE DE RESPUESTAS'!R67,Back!$M$16:$N$20,2,0)","v":"#N/A"},{"$f":"+VLOOKUP('BASE DE RESPUESTAS'!S67,Back!$M$16:$N$20,2,0)","v":"#N/A"},{"$f":"+VLOOKUP('BASE DE RESPUESTAS'!T67,Back!$M$16:$N$20,2,0)","v":"#N/A"},{"$f":"+VLOOKUP('BASE DE RESPUESTAS'!U67,Back!$M$16:$N$20,2,0)","v":"#N/A"},{"$f":"+VLOOKUP('BASE DE RESPUESTAS'!V67,Back!$M$16:$N$20,2,0)","v":"#N/A"},{"$f":"+VLOOKUP('BASE DE RESPUESTAS'!W67,Back!$M$16:$N$20,2,0)","v":"#N/A"},{"$f":"+VLOOKUP('BASE DE RESPUESTAS'!X67,Back!$M$16:$N$20,2,0)","v":"#N/A"},{"$f":"+VLOOKUP('BASE DE RESPUESTAS'!Y67,Back!$M$16:$N$20,2,0)","v":"#N/A"},{"$f":"+VLOOKUP('BASE DE RESPUESTAS'!Z67,Back!$M$16:$N$20,2,0)","v":"#N/A"},{"$f":"+VLOOKUP('BASE DE RESPUESTAS'!AA67,Back!$M$16:$N$20,2,0)","v":"#N/A"},{"$f":"+VLOOKUP('BASE DE RESPUESTAS'!AB67,Back!$M$16:$N$20,2,0)","v":"#N/A"},{"$f":"+VLOOKUP('BASE DE RESPUESTAS'!AC67,Back!$M$16:$N$20,2,0)","v":"#N/A"},{"$f":"+VLOOKUP('BASE DE RESPUESTAS'!AD67,Back!$M$16:$N$20,2,0)","v":"#N/A"},{"$f":"+VLOOKUP('BASE DE RESPUESTAS'!AE67,Back!$M$16:$N$20,2,0)","v":"#N/A"},{"$f":"+VLOOKUP('BASE DE RESPUESTAS'!AF67,Back!$M$16:$N$20,2,0)","v":"#N/A"},{"$f":"+VLOOKUP('BASE DE RESPUESTAS'!AG67,Back!$M$16:$N$20,2,0)","v":"#N/A"},{"$f":"+VLOOKUP('BASE DE RESPUESTAS'!AH67,Back!$M$16:$N$20,2,0)","v":"#N/A"},{"$f":"+VLOOKUP('BASE DE RESPUESTAS'!AI67,Back!$M$16:$N$20,2,0)","v":"#N/A"},{"$f":"+VLOOKUP('BASE DE RESPUESTAS'!AJ67,Back!$M$16:$N$20,2,0)","v":"#N/A"},{"$f":"+VLOOKUP('BASE DE RESPUESTAS'!AK67,Back!$M$16:$N$20,2,0)","v":"#N/A"},{"$f":"+VLOOKUP('BASE DE RESPUESTAS'!AL67,Back!$M$16:$N$20,2,0)","v":"#N/A"},{"$f":"+VLOOKUP('BASE DE RESPUESTAS'!AM67,Back!$M$16:$N$20,2,0)","v":"#N/A"},{"$f":"+VLOOKUP('BASE DE RESPUESTAS'!AN67,Back!$M$16:$N$20,2,0)","v":"#N/A"},{"$f":"+VLOOKUP('BASE DE RESPUESTAS'!AO67,Back!$M$16:$N$20,2,0)","v":"#N/A"},{"$f":"+VLOOKUP('BASE DE RESPUESTAS'!AP67,Back!$M$16:$N$20,2,0)","v":"#N/A"},{"$f":"+VLOOKUP('BASE DE RESPUESTAS'!AQ67,Back!$M$16:$N$20,2,0)","v":"#N/A"},{"$f":"+VLOOKUP('BASE DE RESPUESTAS'!AR67,Back!$M$16:$N$20,2,0)","v":"#N/A"},{"$f":"+VLOOKUP('BASE DE RESPUESTAS'!AS67,Back!$M$16:$N$20,2,0)","v":"#N/A"},{"$f":"+VLOOKUP('BASE DE RESPUESTAS'!AT67,Back!$M$16:$N$20,2,0)","v":"#N/A"},{"$f":"+VLOOKUP('BASE DE RESPUESTAS'!AU67,Back!$M$16:$N$20,2,0)","v":"#N/A"},{"$f":"+VLOOKUP('BASE DE RESPUESTAS'!AV67,Back!$M$16:$N$20,2,0)","v":"#N/A"},{"$f":"+VLOOKUP('BASE DE RESPUESTAS'!AW67,Back!$M$16:$N$20,2,0)","v":"#N/A"},{"$f":"+VLOOKUP('BASE DE RESPUESTAS'!AX67,Back!$M$16:$N$20,2,0)","v":"#N/A"},{"$f":"+VLOOKUP('BASE DE RESPUESTAS'!AY67,Back!$M$16:$N$20,2,0)","v":"#N/A"},{"$f":"+VLOOKUP('BASE DE RESPUESTAS'!AZ67,Back!$M$16:$N$20,2,0)","v":"#N/A"},{"$f":"+VLOOKUP('BASE DE RESPUESTAS'!BA67,Back!$M$16:$N$20,2,0)","v":"#N/A"},{"$f":"+VLOOKUP('BASE DE RESPUESTAS'!BB67,Back!$M$16:$N$20,2,0)","v":"#N/A"},{"$f":"+VLOOKUP('BASE DE RESPUESTAS'!BC67,Back!$M$16:$N$20,2,0)","v":"#N/A"},{"$f":"+VLOOKUP('BASE DE RESPUESTAS'!BD67,Back!$M$16:$N$20,2,0)","v":"#N/A"},{"$f":"+VLOOKUP('BASE DE RESPUESTAS'!BE67,Back!$M$16:$N$20,2,0)","v":"#N/A"}]
[null,null,null,"El o la estudiante no tiene acceso a una alimentación adecuada.",62.0,"Los alimentos que tenemos en casa no alcanzan para todos.",null,{"$f":"+VLOOKUP('BASE DE RESPUESTAS'!H68,Back!$M$16:$N$20,2,0)","v":"#N/A"},{"$f":"+VLOOKUP('BASE DE RESPUESTAS'!I68,Back!$M$16:$N$20,2,0)","v":"#N/A"},{"$f":"+VLOOKUP('BASE DE RESPUESTAS'!J68,Back!$M$16:$N$20,2,0)","v":"#N/A"},{"$f":"+VLOOKUP('BASE DE RESPUESTAS'!K68,Back!$M$16:$N$20,2,0)","v":"#N/A"},{"$f":"+VLOOKUP('BASE DE RESPUESTAS'!L68,Back!$M$16:$N$20,2,0)","v":"#N/A"},{"$f":"+VLOOKUP('BASE DE RESPUESTAS'!M68,Back!$M$16:$N$20,2,0)","v":"#N/A"},{"$f":"+VLOOKUP('BASE DE RESPUESTAS'!N68,Back!$M$16:$N$20,2,0)","v":"#N/A"},{"$f":"+VLOOKUP('BASE DE RESPUESTAS'!O68,Back!$M$16:$N$20,2,0)","v":"#N/A"},{"$f":"+VLOOKUP('BASE DE RESPUESTAS'!P68,Back!$M$16:$N$20,2,0)","v":"#N/A"},{"$f":"+VLOOKUP('BASE DE RESPUESTAS'!Q68,Back!$M$16:$N$20,2,0)","v":"#N/A"},{"$f":"+VLOOKUP('BASE DE RESPUESTAS'!R68,Back!$M$16:$N$20,2,0)","v":"#N/A"},{"$f":"+VLOOKUP('BASE DE RESPUESTAS'!S68,Back!$M$16:$N$20,2,0)","v":"#N/A"},{"$f":"+VLOOKUP('BASE DE RESPUESTAS'!T68,Back!$M$16:$N$20,2,0)","v":"#N/A"},{"$f":"+VLOOKUP('BASE DE RESPUESTAS'!U68,Back!$M$16:$N$20,2,0)","v":"#N/A"},{"$f":"+VLOOKUP('BASE DE RESPUESTAS'!V68,Back!$M$16:$N$20,2,0)","v":"#N/A"},{"$f":"+VLOOKUP('BASE DE RESPUESTAS'!W68,Back!$M$16:$N$20,2,0)","v":"#N/A"},{"$f":"+VLOOKUP('BASE DE RESPUESTAS'!X68,Back!$M$16:$N$20,2,0)","v":"#N/A"},{"$f":"+VLOOKUP('BASE DE RESPUESTAS'!Y68,Back!$M$16:$N$20,2,0)","v":"#N/A"},{"$f":"+VLOOKUP('BASE DE RESPUESTAS'!Z68,Back!$M$16:$N$20,2,0)","v":"#N/A"},{"$f":"+VLOOKUP('BASE DE RESPUESTAS'!AA68,Back!$M$16:$N$20,2,0)","v":"#N/A"},{"$f":"+VLOOKUP('BASE DE RESPUESTAS'!AB68,Back!$M$16:$N$20,2,0)","v":"#N/A"},{"$f":"+VLOOKUP('BASE DE RESPUESTAS'!AC68,Back!$M$16:$N$20,2,0)","v":"#N/A"},{"$f":"+VLOOKUP('BASE DE RESPUESTAS'!AD68,Back!$M$16:$N$20,2,0)","v":"#N/A"},{"$f":"+VLOOKUP('BASE DE RESPUESTAS'!AE68,Back!$M$16:$N$20,2,0)","v":"#N/A"},{"$f":"+VLOOKUP('BASE DE RESPUESTAS'!AF68,Back!$M$16:$N$20,2,0)","v":"#N/A"},{"$f":"+VLOOKUP('BASE DE RESPUESTAS'!AG68,Back!$M$16:$N$20,2,0)","v":"#N/A"},{"$f":"+VLOOKUP('BASE DE RESPUESTAS'!AH68,Back!$M$16:$N$20,2,0)","v":"#N/A"},{"$f":"+VLOOKUP('BASE DE RESPUESTAS'!AI68,Back!$M$16:$N$20,2,0)","v":"#N/A"},{"$f":"+VLOOKUP('BASE DE RESPUESTAS'!AJ68,Back!$M$16:$N$20,2,0)","v":"#N/A"},{"$f":"+VLOOKUP('BASE DE RESPUESTAS'!AK68,Back!$M$16:$N$20,2,0)","v":"#N/A"},{"$f":"+VLOOKUP('BASE DE RESPUESTAS'!AL68,Back!$M$16:$N$20,2,0)","v":"#N/A"},{"$f":"+VLOOKUP('BASE DE RESPUESTAS'!AM68,Back!$M$16:$N$20,2,0)","v":"#N/A"},{"$f":"+VLOOKUP('BASE DE RESPUESTAS'!AN68,Back!$M$16:$N$20,2,0)","v":"#N/A"},{"$f":"+VLOOKUP('BASE DE RESPUESTAS'!AO68,Back!$M$16:$N$20,2,0)","v":"#N/A"},{"$f":"+VLOOKUP('BASE DE RESPUESTAS'!AP68,Back!$M$16:$N$20,2,0)","v":"#N/A"},{"$f":"+VLOOKUP('BASE DE RESPUESTAS'!AQ68,Back!$M$16:$N$20,2,0)","v":"#N/A"},{"$f":"+VLOOKUP('BASE DE RESPUESTAS'!AR68,Back!$M$16:$N$20,2,0)","v":"#N/A"},{"$f":"+VLOOKUP('BASE DE RESPUESTAS'!AS68,Back!$M$16:$N$20,2,0)","v":"#N/A"},{"$f":"+VLOOKUP('BASE DE RESPUESTAS'!AT68,Back!$M$16:$N$20,2,0)","v":"#N/A"},{"$f":"+VLOOKUP('BASE DE RESPUESTAS'!AU68,Back!$M$16:$N$20,2,0)","v":"#N/A"},{"$f":"+VLOOKUP('BASE DE RESPUESTAS'!AV68,Back!$M$16:$N$20,2,0)","v":"#N/A"},{"$f":"+VLOOKUP('BASE DE RESPUESTAS'!AW68,Back!$M$16:$N$20,2,0)","v":"#N/A"},{"$f":"+VLOOKUP('BASE DE RESPUESTAS'!AX68,Back!$M$16:$N$20,2,0)","v":"#N/A"},{"$f":"+VLOOKUP('BASE DE RESPUESTAS'!AY68,Back!$M$16:$N$20,2,0)","v":"#N/A"},{"$f":"+VLOOKUP('BASE DE RESPUESTAS'!AZ68,Back!$M$16:$N$20,2,0)","v":"#N/A"},{"$f":"+VLOOKUP('BASE DE RESPUESTAS'!BA68,Back!$M$16:$N$20,2,0)","v":"#N/A"},{"$f":"+VLOOKUP('BASE DE RESPUESTAS'!BB68,Back!$M$16:$N$20,2,0)","v":"#N/A"},{"$f":"+VLOOKUP('BASE DE RESPUESTAS'!BC68,Back!$M$16:$N$20,2,0)","v":"#N/A"},{"$f":"+VLOOKUP('BASE DE RESPUESTAS'!BD68,Back!$M$16:$N$20,2,0)","v":"#N/A"},{"$f":"+VLOOKUP('BASE DE RESPUESTAS'!BE68,Back!$M$16:$N$20,2,0)","v":"#N/A"}]
[null,null,null,"La vivienda del o la estudiante no cuenta con alguno de los servicios básicos: luz, agua potable",63.0,"En mi casa nos falta algunos servicios como luz, agua o desagüe.",null,{"$f":"+VLOOKUP('BASE DE RESPUESTAS'!H69,Back!$M$16:$N$20,2,0)","v":"#N/A"},{"$f":"+VLOOKUP('BASE DE RESPUESTAS'!I69,Back!$M$16:$N$20,2,0)","v":"#N/A"},{"$f":"+VLOOKUP('BASE DE RESPUESTAS'!J69,Back!$M$16:$N$20,2,0)","v":"#N/A"},{"$f":"+VLOOKUP('BASE DE RESPUESTAS'!K69,Back!$M$16:$N$20,2,0)","v":"#N/A"},{"$f":"+VLOOKUP('BASE DE RESPUESTAS'!L69,Back!$M$16:$N$20,2,0)","v":"#N/A"},{"$f":"+VLOOKUP('BASE DE RESPUESTAS'!M69,Back!$M$16:$N$20,2,0)","v":"#N/A"},{"$f":"+VLOOKUP('BASE DE RESPUESTAS'!N69,Back!$M$16:$N$20,2,0)","v":"#N/A"},{"$f":"+VLOOKUP('BASE DE RESPUESTAS'!O69,Back!$M$16:$N$20,2,0)","v":"#N/A"},{"$f":"+VLOOKUP('BASE DE RESPUESTAS'!P69,Back!$M$16:$N$20,2,0)","v":"#N/A"},{"$f":"+VLOOKUP('BASE DE RESPUESTAS'!Q69,Back!$M$16:$N$20,2,0)","v":"#N/A"},{"$f":"+VLOOKUP('BASE DE RESPUESTAS'!R69,Back!$M$16:$N$20,2,0)","v":"#N/A"},{"$f":"+VLOOKUP('BASE DE RESPUESTAS'!S69,Back!$M$16:$N$20,2,0)","v":"#N/A"},{"$f":"+VLOOKUP('BASE DE RESPUESTAS'!T69,Back!$M$16:$N$20,2,0)","v":"#N/A"},{"$f":"+VLOOKUP('BASE DE RESPUESTAS'!U69,Back!$M$16:$N$20,2,0)","v":"#N/A"},{"$f":"+VLOOKUP('BASE DE RESPUESTAS'!V69,Back!$M$16:$N$20,2,0)","v":"#N/A"},{"$f":"+VLOOKUP('BASE DE RESPUESTAS'!W69,Back!$M$16:$N$20,2,0)","v":"#N/A"},{"$f":"+VLOOKUP('BASE DE RESPUESTAS'!X69,Back!$M$16:$N$20,2,0)","v":"#N/A"},{"$f":"+VLOOKUP('BASE DE RESPUESTAS'!Y69,Back!$M$16:$N$20,2,0)","v":"#N/A"},{"$f":"+VLOOKUP('BASE DE RESPUESTAS'!Z69,Back!$M$16:$N$20,2,0)","v":"#N/A"},{"$f":"+VLOOKUP('BASE DE RESPUESTAS'!AA69,Back!$M$16:$N$20,2,0)","v":"#N/A"},{"$f":"+VLOOKUP('BASE DE RESPUESTAS'!AB69,Back!$M$16:$N$20,2,0)","v":"#N/A"},{"$f":"+VLOOKUP('BASE DE RESPUESTAS'!AC69,Back!$M$16:$N$20,2,0)","v":"#N/A"},{"$f":"+VLOOKUP('BASE DE RESPUESTAS'!AD69,Back!$M$16:$N$20,2,0)","v":"#N/A"},{"$f":"+VLOOKUP('BASE DE RESPUESTAS'!AE69,Back!$M$16:$N$20,2,0)","v":"#N/A"},{"$f":"+VLOOKUP('BASE DE RESPUESTAS'!AF69,Back!$M$16:$N$20,2,0)","v":"#N/A"},{"$f":"+VLOOKUP('BASE DE RESPUESTAS'!AG69,Back!$M$16:$N$20,2,0)","v":"#N/A"},{"$f":"+VLOOKUP('BASE DE RESPUESTAS'!AH69,Back!$M$16:$N$20,2,0)","v":"#N/A"},{"$f":"+VLOOKUP('BASE DE RESPUESTAS'!AI69,Back!$M$16:$N$20,2,0)","v":"#N/A"},{"$f":"+VLOOKUP('BASE DE RESPUESTAS'!AJ69,Back!$M$16:$N$20,2,0)","v":"#N/A"},{"$f":"+VLOOKUP('BASE DE RESPUESTAS'!AK69,Back!$M$16:$N$20,2,0)","v":"#N/A"},{"$f":"+VLOOKUP('BASE DE RESPUESTAS'!AL69,Back!$M$16:$N$20,2,0)","v":"#N/A"},{"$f":"+VLOOKUP('BASE DE RESPUESTAS'!AM69,Back!$M$16:$N$20,2,0)","v":"#N/A"},{"$f":"+VLOOKUP('BASE DE RESPUESTAS'!AN69,Back!$M$16:$N$20,2,0)","v":"#N/A"},{"$f":"+VLOOKUP('BASE DE RESPUESTAS'!AO69,Back!$M$16:$N$20,2,0)","v":"#N/A"},{"$f":"+VLOOKUP('BASE DE RESPUESTAS'!AP69,Back!$M$16:$N$20,2,0)","v":"#N/A"},{"$f":"+VLOOKUP('BASE DE RESPUESTAS'!AQ69,Back!$M$16:$N$20,2,0)","v":"#N/A"},{"$f":"+VLOOKUP('BASE DE RESPUESTAS'!AR69,Back!$M$16:$N$20,2,0)","v":"#N/A"},{"$f":"+VLOOKUP('BASE DE RESPUESTAS'!AS69,Back!$M$16:$N$20,2,0)","v":"#N/A"},{"$f":"+VLOOKUP('BASE DE RESPUESTAS'!AT69,Back!$M$16:$N$20,2,0)","v":"#N/A"},{"$f":"+VLOOKUP('BASE DE RESPUESTAS'!AU69,Back!$M$16:$N$20,2,0)","v":"#N/A"},{"$f":"+VLOOKUP('BASE DE RESPUESTAS'!AV69,Back!$M$16:$N$20,2,0)","v":"#N/A"},{"$f":"+VLOOKUP('BASE DE RESPUESTAS'!AW69,Back!$M$16:$N$20,2,0)","v":"#N/A"},{"$f":"+VLOOKUP('BASE DE RESPUESTAS'!AX69,Back!$M$16:$N$20,2,0)","v":"#N/A"},{"$f":"+VLOOKUP('BASE DE RESPUESTAS'!AY69,Back!$M$16:$N$20,2,0)","v":"#N/A"},{"$f":"+VLOOKUP('BASE DE RESPUESTAS'!AZ69,Back!$M$16:$N$20,2,0)","v":"#N/A"},{"$f":"+VLOOKUP('BASE DE RESPUESTAS'!BA69,Back!$M$16:$N$20,2,0)","v":"#N/A"},{"$f":"+VLOOKUP('BASE DE RESPUESTAS'!BB69,Back!$M$16:$N$20,2,0)","v":"#N/A"},{"$f":"+VLOOKUP('BASE DE RESPUESTAS'!BC69,Back!$M$16:$N$20,2,0)","v":"#N/A"},{"$f":"+VLOOKUP('BASE DE RESPUESTAS'!BD69,Back!$M$16:$N$20,2,0)","v":"#N/A"},{"$f":"+VLOOKUP('BASE DE RESPUESTAS'!BE69,Back!$M$16:$N$20,2,0)","v":"#N/A"}]
[null,null,null,"La familia del o la estudiante tiene ingresos económicos limitados.",64.0,"Mi familia no me ha podido comprar mis útiles y uniforme para el colegio.",null,{"$f":"+VLOOKUP('BASE DE RESPUESTAS'!H70,Back!$M$16:$N$20,2,0)","v":"#N/A"},{"$f":"+VLOOKUP('BASE DE RESPUESTAS'!I70,Back!$M$16:$N$20,2,0)","v":"#N/A"},{"$f":"+VLOOKUP('BASE DE RESPUESTAS'!J70,Back!$M$16:$N$20,2,0)","v":"#N/A"},{"$f":"+VLOOKUP('BASE DE RESPUESTAS'!K70,Back!$M$16:$N$20,2,0)","v":"#N/A"},{"$f":"+VLOOKUP('BASE DE RESPUESTAS'!L70,Back!$M$16:$N$20,2,0)","v":"#N/A"},{"$f":"+VLOOKUP('BASE DE RESPUESTAS'!M70,Back!$M$16:$N$20,2,0)","v":"#N/A"},{"$f":"+VLOOKUP('BASE DE RESPUESTAS'!N70,Back!$M$16:$N$20,2,0)","v":"#N/A"},{"$f":"+VLOOKUP('BASE DE RESPUESTAS'!O70,Back!$M$16:$N$20,2,0)","v":"#N/A"},{"$f":"+VLOOKUP('BASE DE RESPUESTAS'!P70,Back!$M$16:$N$20,2,0)","v":"#N/A"},{"$f":"+VLOOKUP('BASE DE RESPUESTAS'!Q70,Back!$M$16:$N$20,2,0)","v":"#N/A"},{"$f":"+VLOOKUP('BASE DE RESPUESTAS'!R70,Back!$M$16:$N$20,2,0)","v":"#N/A"},{"$f":"+VLOOKUP('BASE DE RESPUESTAS'!S70,Back!$M$16:$N$20,2,0)","v":"#N/A"},{"$f":"+VLOOKUP('BASE DE RESPUESTAS'!T70,Back!$M$16:$N$20,2,0)","v":"#N/A"},{"$f":"+VLOOKUP('BASE DE RESPUESTAS'!U70,Back!$M$16:$N$20,2,0)","v":"#N/A"},{"$f":"+VLOOKUP('BASE DE RESPUESTAS'!V70,Back!$M$16:$N$20,2,0)","v":"#N/A"},{"$f":"+VLOOKUP('BASE DE RESPUESTAS'!W70,Back!$M$16:$N$20,2,0)","v":"#N/A"},{"$f":"+VLOOKUP('BASE DE RESPUESTAS'!X70,Back!$M$16:$N$20,2,0)","v":"#N/A"},{"$f":"+VLOOKUP('BASE DE RESPUESTAS'!Y70,Back!$M$16:$N$20,2,0)","v":"#N/A"},{"$f":"+VLOOKUP('BASE DE RESPUESTAS'!Z70,Back!$M$16:$N$20,2,0)","v":"#N/A"},{"$f":"+VLOOKUP('BASE DE RESPUESTAS'!AA70,Back!$M$16:$N$20,2,0)","v":"#N/A"},{"$f":"+VLOOKUP('BASE DE RESPUESTAS'!AB70,Back!$M$16:$N$20,2,0)","v":"#N/A"},{"$f":"+VLOOKUP('BASE DE RESPUESTAS'!AC70,Back!$M$16:$N$20,2,0)","v":"#N/A"},{"$f":"+VLOOKUP('BASE DE RESPUESTAS'!AD70,Back!$M$16:$N$20,2,0)","v":"#N/A"},{"$f":"+VLOOKUP('BASE DE RESPUESTAS'!AE70,Back!$M$16:$N$20,2,0)","v":"#N/A"},{"$f":"+VLOOKUP('BASE DE RESPUESTAS'!AF70,Back!$M$16:$N$20,2,0)","v":"#N/A"},{"$f":"+VLOOKUP('BASE DE RESPUESTAS'!AG70,Back!$M$16:$N$20,2,0)","v":"#N/A"},{"$f":"+VLOOKUP('BASE DE RESPUESTAS'!AH70,Back!$M$16:$N$20,2,0)","v":"#N/A"},{"$f":"+VLOOKUP('BASE DE RESPUESTAS'!AI70,Back!$M$16:$N$20,2,0)","v":"#N/A"},{"$f":"+VLOOKUP('BASE DE RESPUESTAS'!AJ70,Back!$M$16:$N$20,2,0)","v":"#N/A"},{"$f":"+VLOOKUP('BASE DE RESPUESTAS'!AK70,Back!$M$16:$N$20,2,0)","v":"#N/A"},{"$f":"+VLOOKUP('BASE DE RESPUESTAS'!AL70,Back!$M$16:$N$20,2,0)","v":"#N/A"},{"$f":"+VLOOKUP('BASE DE RESPUESTAS'!AM70,Back!$M$16:$N$20,2,0)","v":"#N/A"},{"$f":"+VLOOKUP('BASE DE RESPUESTAS'!AN70,Back!$M$16:$N$20,2,0)","v":"#N/A"},{"$f":"+VLOOKUP('BASE DE RESPUESTAS'!AO70,Back!$M$16:$N$20,2,0)","v":"#N/A"},{"$f":"+VLOOKUP('BASE DE RESPUESTAS'!AP70,Back!$M$16:$N$20,2,0)","v":"#N/A"},{"$f":"+VLOOKUP('BASE DE RESPUESTAS'!AQ70,Back!$M$16:$N$20,2,0)","v":"#N/A"},{"$f":"+VLOOKUP('BASE DE RESPUESTAS'!AR70,Back!$M$16:$N$20,2,0)","v":"#N/A"},{"$f":"+VLOOKUP('BASE DE RESPUESTAS'!AS70,Back!$M$16:$N$20,2,0)","v":"#N/A"},{"$f":"+VLOOKUP('BASE DE RESPUESTAS'!AT70,Back!$M$16:$N$20,2,0)","v":"#N/A"},{"$f":"+VLOOKUP('BASE DE RESPUESTAS'!AU70,Back!$M$16:$N$20,2,0)","v":"#N/A"},{"$f":"+VLOOKUP('BASE DE RESPUESTAS'!AV70,Back!$M$16:$N$20,2,0)","v":"#N/A"},{"$f":"+VLOOKUP('BASE DE RESPUESTAS'!AW70,Back!$M$16:$N$20,2,0)","v":"#N/A"},{"$f":"+VLOOKUP('BASE DE RESPUESTAS'!AX70,Back!$M$16:$N$20,2,0)","v":"#N/A"},{"$f":"+VLOOKUP('BASE DE RESPUESTAS'!AY70,Back!$M$16:$N$20,2,0)","v":"#N/A"},{"$f":"+VLOOKUP('BASE DE RESPUESTAS'!AZ70,Back!$M$16:$N$20,2,0)","v":"#N/A"},{"$f":"+VLOOKUP('BASE DE RESPUESTAS'!BA70,Back!$M$16:$N$20,2,0)","v":"#N/A"},{"$f":"+VLOOKUP('BASE DE RESPUESTAS'!BB70,Back!$M$16:$N$20,2,0)","v":"#N/A"},{"$f":"+VLOOKUP('BASE DE RESPUESTAS'!BC70,Back!$M$16:$N$20,2,0)","v":"#N/A"},{"$f":"+VLOOKUP('BASE DE RESPUESTAS'!BD70,Back!$M$16:$N$20,2,0)","v":"#N/A"},{"$f":"+VLOOKUP('BASE DE RESPUESTAS'!BE70,Back!$M$16:$N$20,2,0)","v":"#N/A"}]
[null,"FR","Entorno de riesgo","El o la estudiante tiene amistad con personas que infringen la ley.",65.0,"Algunos amigos cercanos han cometido actos en contra de la ley (Ej. Robar, vender droga, actos de violencia, etc.)",null,{"$f":"+VLOOKUP('BASE DE RESPUESTAS'!H71,Back!$M$16:$N$20,2,0)","v":"#N/A"},{"$f":"+VLOOKUP('BASE DE RESPUESTAS'!I71,Back!$M$16:$N$20,2,0)","v":"#N/A"},{"$f":"+VLOOKUP('BASE DE RESPUESTAS'!J71,Back!$M$16:$N$20,2,0)","v":"#N/A"},{"$f":"+VLOOKUP('BASE DE RESPUESTAS'!K71,Back!$M$16:$N$20,2,0)","v":"#N/A"},{"$f":"+VLOOKUP('BASE DE RESPUESTAS'!L71,Back!$M$16:$N$20,2,0)","v":"#N/A"},{"$f":"+VLOOKUP('BASE DE RESPUESTAS'!M71,Back!$M$16:$N$20,2,0)","v":"#N/A"},{"$f":"+VLOOKUP('BASE DE RESPUESTAS'!N71,Back!$M$16:$N$20,2,0)","v":"#N/A"},{"$f":"+VLOOKUP('BASE DE RESPUESTAS'!O71,Back!$M$16:$N$20,2,0)","v":"#N/A"},{"$f":"+VLOOKUP('BASE DE RESPUESTAS'!P71,Back!$M$16:$N$20,2,0)","v":"#N/A"},{"$f":"+VLOOKUP('BASE DE RESPUESTAS'!Q71,Back!$M$16:$N$20,2,0)","v":"#N/A"},{"$f":"+VLOOKUP('BASE DE RESPUESTAS'!R71,Back!$M$16:$N$20,2,0)","v":"#N/A"},{"$f":"+VLOOKUP('BASE DE RESPUESTAS'!S71,Back!$M$16:$N$20,2,0)","v":"#N/A"},{"$f":"+VLOOKUP('BASE DE RESPUESTAS'!T71,Back!$M$16:$N$20,2,0)","v":"#N/A"},{"$f":"+VLOOKUP('BASE DE RESPUESTAS'!U71,Back!$M$16:$N$20,2,0)","v":"#N/A"},{"$f":"+VLOOKUP('BASE DE RESPUESTAS'!V71,Back!$M$16:$N$20,2,0)","v":"#N/A"},{"$f":"+VLOOKUP('BASE DE RESPUESTAS'!W71,Back!$M$16:$N$20,2,0)","v":"#N/A"},{"$f":"+VLOOKUP('BASE DE RESPUESTAS'!X71,Back!$M$16:$N$20,2,0)","v":"#N/A"},{"$f":"+VLOOKUP('BASE DE RESPUESTAS'!Y71,Back!$M$16:$N$20,2,0)","v":"#N/A"},{"$f":"+VLOOKUP('BASE DE RESPUESTAS'!Z71,Back!$M$16:$N$20,2,0)","v":"#N/A"},{"$f":"+VLOOKUP('BASE DE RESPUESTAS'!AA71,Back!$M$16:$N$20,2,0)","v":"#N/A"},{"$f":"+VLOOKUP('BASE DE RESPUESTAS'!AB71,Back!$M$16:$N$20,2,0)","v":"#N/A"},{"$f":"+VLOOKUP('BASE DE RESPUESTAS'!AC71,Back!$M$16:$N$20,2,0)","v":"#N/A"},{"$f":"+VLOOKUP('BASE DE RESPUESTAS'!AD71,Back!$M$16:$N$20,2,0)","v":"#N/A"},{"$f":"+VLOOKUP('BASE DE RESPUESTAS'!AE71,Back!$M$16:$N$20,2,0)","v":"#N/A"},{"$f":"+VLOOKUP('BASE DE RESPUESTAS'!AF71,Back!$M$16:$N$20,2,0)","v":"#N/A"},{"$f":"+VLOOKUP('BASE DE RESPUESTAS'!AG71,Back!$M$16:$N$20,2,0)","v":"#N/A"},{"$f":"+VLOOKUP('BASE DE RESPUESTAS'!AH71,Back!$M$16:$N$20,2,0)","v":"#N/A"},{"$f":"+VLOOKUP('BASE DE RESPUESTAS'!AI71,Back!$M$16:$N$20,2,0)","v":"#N/A"},{"$f":"+VLOOKUP('BASE DE RESPUESTAS'!AJ71,Back!$M$16:$N$20,2,0)","v":"#N/A"},{"$f":"+VLOOKUP('BASE DE RESPUESTAS'!AK71,Back!$M$16:$N$20,2,0)","v":"#N/A"},{"$f":"+VLOOKUP('BASE DE RESPUESTAS'!AL71,Back!$M$16:$N$20,2,0)","v":"#N/A"},{"$f":"+VLOOKUP('BASE DE RESPUESTAS'!AM71,Back!$M$16:$N$20,2,0)","v":"#N/A"},{"$f":"+VLOOKUP('BASE DE RESPUESTAS'!AN71,Back!$M$16:$N$20,2,0)","v":"#N/A"},{"$f":"+VLOOKUP('BASE DE RESPUESTAS'!AO71,Back!$M$16:$N$20,2,0)","v":"#N/A"},{"$f":"+VLOOKUP('BASE DE RESPUESTAS'!AP71,Back!$M$16:$N$20,2,0)","v":"#N/A"},{"$f":"+VLOOKUP('BASE DE RESPUESTAS'!AQ71,Back!$M$16:$N$20,2,0)","v":"#N/A"},{"$f":"+VLOOKUP('BASE DE RESPUESTAS'!AR71,Back!$M$16:$N$20,2,0)","v":"#N/A"},{"$f":"+VLOOKUP('BASE DE RESPUESTAS'!AS71,Back!$M$16:$N$20,2,0)","v":"#N/A"},{"$f":"+VLOOKUP('BASE DE RESPUESTAS'!AT71,Back!$M$16:$N$20,2,0)","v":"#N/A"},{"$f":"+VLOOKUP('BASE DE RESPUESTAS'!AU71,Back!$M$16:$N$20,2,0)","v":"#N/A"},{"$f":"+VLOOKUP('BASE DE RESPUESTAS'!AV71,Back!$M$16:$N$20,2,0)","v":"#N/A"},{"$f":"+VLOOKUP('BASE DE RESPUESTAS'!AW71,Back!$M$16:$N$20,2,0)","v":"#N/A"},{"$f":"+VLOOKUP('BASE DE RESPUESTAS'!AX71,Back!$M$16:$N$20,2,0)","v":"#N/A"},{"$f":"+VLOOKUP('BASE DE RESPUESTAS'!AY71,Back!$M$16:$N$20,2,0)","v":"#N/A"},{"$f":"+VLOOKUP('BASE DE RESPUESTAS'!AZ71,Back!$M$16:$N$20,2,0)","v":"#N/A"},{"$f":"+VLOOKUP('BASE DE RESPUESTAS'!BA71,Back!$M$16:$N$20,2,0)","v":"#N/A"},{"$f":"+VLOOKUP('BASE DE RESPUESTAS'!BB71,Back!$M$16:$N$20,2,0)","v":"#N/A"},{"$f":"+VLOOKUP('BASE DE RESPUESTAS'!BC71,Back!$M$16:$N$20,2,0)","v":"#N/A"},{"$f":"+VLOOKUP('BASE DE RESPUESTAS'!BD71,Back!$M$16:$N$20,2,0)","v":"#N/A"},{"$f":"+VLOOKUP('BASE DE RESPUESTAS'!BE71,Back!$M$16:$N$20,2,0)","v":"#N/A"}]
[null,null,null,"El o la estudiante frecuenta lugares peligrosos. .",66.0,"Considero que mi barrio o comunidad es una zona peligrosa",null,{"$f":"+VLOOKUP('BASE DE RESPUESTAS'!H72,Back!$M$16:$N$20,2,0)","v":"#N/A"},{"$f":"+VLOOKUP('BASE DE RESPUESTAS'!I72,Back!$M$16:$N$20,2,0)","v":"#N/A"},{"$f":"+VLOOKUP('BASE DE RESPUESTAS'!J72,Back!$M$16:$N$20,2,0)","v":"#N/A"},{"$f":"+VLOOKUP('BASE DE RESPUESTAS'!K72,Back!$M$16:$N$20,2,0)","v":"#N/A"},{"$f":"+VLOOKUP('BASE DE RESPUESTAS'!L72,Back!$M$16:$N$20,2,0)","v":"#N/A"},{"$f":"+VLOOKUP('BASE DE RESPUESTAS'!M72,Back!$M$16:$N$20,2,0)","v":"#N/A"},{"$f":"+VLOOKUP('BASE DE RESPUESTAS'!N72,Back!$M$16:$N$20,2,0)","v":"#N/A"},{"$f":"+VLOOKUP('BASE DE RESPUESTAS'!O72,Back!$M$16:$N$20,2,0)","v":"#N/A"},{"$f":"+VLOOKUP('BASE DE RESPUESTAS'!P72,Back!$M$16:$N$20,2,0)","v":"#N/A"},{"$f":"+VLOOKUP('BASE DE RESPUESTAS'!Q72,Back!$M$16:$N$20,2,0)","v":"#N/A"},{"$f":"+VLOOKUP('BASE DE RESPUESTAS'!R72,Back!$M$16:$N$20,2,0)","v":"#N/A"},{"$f":"+VLOOKUP('BASE DE RESPUESTAS'!S72,Back!$M$16:$N$20,2,0)","v":"#N/A"},{"$f":"+VLOOKUP('BASE DE RESPUESTAS'!T72,Back!$M$16:$N$20,2,0)","v":"#N/A"},{"$f":"+VLOOKUP('BASE DE RESPUESTAS'!U72,Back!$M$16:$N$20,2,0)","v":"#N/A"},{"$f":"+VLOOKUP('BASE DE RESPUESTAS'!V72,Back!$M$16:$N$20,2,0)","v":"#N/A"},{"$f":"+VLOOKUP('BASE DE RESPUESTAS'!W72,Back!$M$16:$N$20,2,0)","v":"#N/A"},{"$f":"+VLOOKUP('BASE DE RESPUESTAS'!X72,Back!$M$16:$N$20,2,0)","v":"#N/A"},{"$f":"+VLOOKUP('BASE DE RESPUESTAS'!Y72,Back!$M$16:$N$20,2,0)","v":"#N/A"},{"$f":"+VLOOKUP('BASE DE RESPUESTAS'!Z72,Back!$M$16:$N$20,2,0)","v":"#N/A"},{"$f":"+VLOOKUP('BASE DE RESPUESTAS'!AA72,Back!$M$16:$N$20,2,0)","v":"#N/A"},{"$f":"+VLOOKUP('BASE DE RESPUESTAS'!AB72,Back!$M$16:$N$20,2,0)","v":"#N/A"},{"$f":"+VLOOKUP('BASE DE RESPUESTAS'!AC72,Back!$M$16:$N$20,2,0)","v":"#N/A"},{"$f":"+VLOOKUP('BASE DE RESPUESTAS'!AD72,Back!$M$16:$N$20,2,0)","v":"#N/A"},{"$f":"+VLOOKUP('BASE DE RESPUESTAS'!AE72,Back!$M$16:$N$20,2,0)","v":"#N/A"},{"$f":"+VLOOKUP('BASE DE RESPUESTAS'!AF72,Back!$M$16:$N$20,2,0)","v":"#N/A"},{"$f":"+VLOOKUP('BASE DE RESPUESTAS'!AG72,Back!$M$16:$N$20,2,0)","v":"#N/A"},{"$f":"+VLOOKUP('BASE DE RESPUESTAS'!AH72,Back!$M$16:$N$20,2,0)","v":"#N/A"},{"$f":"+VLOOKUP('BASE DE RESPUESTAS'!AI72,Back!$M$16:$N$20,2,0)","v":"#N/A"},{"$f":"+VLOOKUP('BASE DE RESPUESTAS'!AJ72,Back!$M$16:$N$20,2,0)","v":"#N/A"},{"$f":"+VLOOKUP('BASE DE RESPUESTAS'!AK72,Back!$M$16:$N$20,2,0)","v":"#N/A"},{"$f":"+VLOOKUP('BASE DE RESPUESTAS'!AL72,Back!$M$16:$N$20,2,0)","v":"#N/A"},{"$f":"+VLOOKUP('BASE DE RESPUESTAS'!AM72,Back!$M$16:$N$20,2,0)","v":"#N/A"},{"$f":"+VLOOKUP('BASE DE RESPUESTAS'!AN72,Back!$M$16:$N$20,2,0)","v":"#N/A"},{"$f":"+VLOOKUP('BASE DE RESPUESTAS'!AO72,Back!$M$16:$N$20,2,0)","v":"#N/A"},{"$f":"+VLOOKUP('BASE DE RESPUESTAS'!AP72,Back!$M$16:$N$20,2,0)","v":"#N/A"},{"$f":"+VLOOKUP('BASE DE RESPUESTAS'!AQ72,Back!$M$16:$N$20,2,0)","v":"#N/A"},{"$f":"+VLOOKUP('BASE DE RESPUESTAS'!AR72,Back!$M$16:$N$20,2,0)","v":"#N/A"},{"$f":"+VLOOKUP('BASE DE RESPUESTAS'!AS72,Back!$M$16:$N$20,2,0)","v":"#N/A"},{"$f":"+VLOOKUP('BASE DE RESPUESTAS'!AT72,Back!$M$16:$N$20,2,0)","v":"#N/A"},{"$f":"+VLOOKUP('BASE DE RESPUESTAS'!AU72,Back!$M$16:$N$20,2,0)","v":"#N/A"},{"$f":"+VLOOKUP('BASE DE RESPUESTAS'!AV72,Back!$M$16:$N$20,2,0)","v":"#N/A"},{"$f":"+VLOOKUP('BASE DE RESPUESTAS'!AW72,Back!$M$16:$N$20,2,0)","v":"#N/A"},{"$f":"+VLOOKUP('BASE DE RESPUESTAS'!AX72,Back!$M$16:$N$20,2,0)","v":"#N/A"},{"$f":"+VLOOKUP('BASE DE RESPUESTAS'!AY72,Back!$M$16:$N$20,2,0)","v":"#N/A"},{"$f":"+VLOOKUP('BASE DE RESPUESTAS'!AZ72,Back!$M$16:$N$20,2,0)","v":"#N/A"},{"$f":"+VLOOKUP('BASE DE RESPUESTAS'!BA72,Back!$M$16:$N$20,2,0)","v":"#N/A"},{"$f":"+VLOOKUP('BASE DE RESPUESTAS'!BB72,Back!$M$16:$N$20,2,0)","v":"#N/A"},{"$f":"+VLOOKUP('BASE DE RESPUESTAS'!BC72,Back!$M$16:$N$20,2,0)","v":"#N/A"},{"$f":"+VLOOKUP('BASE DE RESPUESTAS'!BD72,Back!$M$16:$N$20,2,0)","v":"#N/A"},{"$f":"+VLOOKUP('BASE DE RESPUESTAS'!BE72,Back!$M$16:$N$20,2,0)","v":"#N/A"}]

{"sheet":"BASE DE RESPUESTAS","index":3,"n_rows":72,"n_cols":57,"rows_kept":72,"cut":false,"hidden":false,"merged":[[4,21,5,21],[4,22,5,22],[4,23,5,23],[4,24,5,24],[4,25,5,25],[4,26,5,26],[4,27,5,27],[4,28,5,28],[4,29,5,29],[4,30,5,30],[4,31,5,31],[4,32,5,32],[4,33,5,33],[4,34,5,34],[4,49,5,49],[4,50,5,50],[4,51,5,51],[4,52,5,52],[4,53,5,53],[4,54,5,54],[4,55,5,55],[4,56,5,56],[3,1,3,5],[3,7,3,56],[4,1,5,1],[4,2,5,2],[4,3,5,3],[4,4,5,4],[4,5,5,5],[4,35,5,35],[4,36,5,36],[4,37,5,37],[4,38,5,38],[4,39,5,39],[4,40,5,40],[4,41,5,41],[4,42,5,42],[4,43,5,43],[4,44,5,44],[4,45,5,45],[4,46,5,46],[4,47,5,47],[4,48,5,48],[11,1,13,1],[14,1,16,1],[14,2,16,2],[15,3,16,3],[17,1,19,1],[17,2,19,2],[20,2,22,2],[20,1,22,1],[23,1,25,1],[23,2,25,2],[26,1,28,1],[26,2,28,2],[29,1,31,1],[29,2,31,2],[32,1,33,1],[32,2,33,2],[34,1,35,1],[34,2,35,2],[36,1,37,1],[36,2,37,2],[38,2,39,2],[38,1,39,1],[40,1,42,1],[40,2,42,2],[43,1,45,1],[43,2,45,2],[46,1,47,1],[46,2,47,2],[58,1,61,1],[62,1,65,1],[66,1,69,1],[70,1,71,1],[62,2,65,2],[66,2,69,2],[70,2,71,2],[48,1,50,1],[48,2,50,2],[51,1,54,1],[51,2,54,2],[55,1,57,1],[55,2,57,2],[58,2,61,2],[4,9,5,9],[4,10,5,10],[4,11,5,11],[4,12,5,12],[4,13,5,13],[4,14,5,14],[4,15,5,15],[4,16,5,16],[4,17,5,17],[4,18,5,18],[4,19,5,19],[4,20,5,20],[4,7,5,7],[4,8,5,8],[6,1,7,1],[6,2,7,2],[8,1,10,1],[8,2,10,2],[11,2,13,2]]}
[]
[null,null,null,null,null,null,null,{"$f":"IF(COUNTA(H7:H72)>=66,\"Respuestas Completas\",\"Falta Completar\")","v":"Falta Completar"},"Falta Completar","Falta Completar","Falta Completar","Falta Completar","Falta Completar","Falta Completar","Falta Completar","Falta Completar","Falta Completar","Falta Completar","Falta Completar","Falta Completar","Falta Completar","Falta Completar","Falta Completar","Falta Completar","Falta Completar","Falta Completar","Falta Completar","Falta Completar","Falta Completar","Falta Completar","Falta Completar","Falta Completar","Falta Completar","Falta Completar","Falta Completar","Falta Completar","Falta Completar","Falta Completar","Falta Completar","Falta Completar","Falta Completar","Falta Completar","Falta Completar","Falta Completar","Falta Completar","Falta Completar","Falta Completar","Falta Completar","Falta Completar","Falta Completar","Falta Completar","Falta Completar","Falta Completar","Falta Completar","Falta Completar","Falta Completar","Falta Completar"]
[]
[null,"INFORMACIÓN BÁSICA",null,null,null,null,null,"ESTUDIANTES"]
[null,"Dimensión","Escala","Indicador","Número","Preguntas",null,"Estudiante 1","Estudiante 2","Estudiante 3","Estudiante 4","Estudiante 5","Estudiante 6","Estudiante 7","Estudiante 8","Estudiante 9","Estudiante 10","Estudiante 11","Estudiante 12","Estudiante 13","Estudiante 14","Estudiante 15","Estudiante 16","Estudiante 17","Estudiante 18","Estudiante 19","Estudiante 20","Estudiante 21","Estudiante 22","Estudiante 23","Estudiante 24","Estudiante 25","Estudiante 26","Estudiante 27","Estudiante 28","Estudiante 29","Estudiante 30","Estudiante 31","Estudiante 32","Estudiante 33","Estudiante 34","Estudiante 35","Estudiante 36","Estudiante 37","Estudiante 38","Estudiante 39","Estudiante 40","Estudiante 41","Estudiante 42","Estudiante 43","Estudiante 44","Estudiante 45","Estudiante 46","Estudiante 47","Estudiante 48","Estudiante 49","Estudiante 50"]
[]
[null,"HSE","Autoconcepto","El o la estudiante describe sus características personales (físicas, sociales, emocionales, académicas, etc.)",1.0,"Reconozco cómo soy, lo que pienso, lo que siento y cómo me relaciono con los demás"]
[null,null,null,"El o la estudiante reconoce sus aspectos por mejorar.",2.0,"Reconozco algunas características en mí que puedo mejorar."]
[null,"HSE","Autoestima","El o la estudiante tiene una imagen positiva de sí mismo.",3.0,"Me considero una persona valiosa."]
[null,null,null,"El o la estudiante se encuentra satisfecho consigo mismo.",4.0,"Me gusta como soy."]
[null,null,null,"El o la estudiante puede manifestar las ideas que tiene de sí mismo sin temor, ni vergüenza.",5.0,"Me siento seguro y satisfecho cuando hablo de mí mismo."]
[null,"HSE","Conciencia emocional","El o la estudiante tiene la capacidad de nombrar y diferenciar sus emociones.",6.0,"Reconozco cuando estoy triste, enojado, avergonzado, preocupado, feliz, etc."]
[null,null,null,"El o la estudiante puede explicar las causas y las consecuencias de sus emociones.",7.0,"Me doy cuenta de las cosas y situaciones que me ponen triste, molesto, preocupado, o que me alegran, etc."]
[null,null,null,"El o la estudiante comprende cómo sus emociones afectan su comportamiento.",8.0,"Me doy cuenta que mi comportamiento cambia cuando estoy triste, molesto, preocupado, alegre, etc."]
[null,"HSE","Autocuidado","El o la estudiante reconoce y pone en práctica hábitos que le permiten tener una adecuada salud física.",9.0,"Practico hábitos para tener una buena salud física (ejercicios, alimentación, sueño, etc.)"]
[null,null,null,"El o la estudiante realiza acciones para promover su bienestar emocional. Identifica situaciones que pueden afectar su salud emocional.",10.0,"Cuido mi salud emocional realizando acciones que me hacen sentir bien (cantar, conversar con amigos, jugar, ayudar a las personas, evitar discusiones, etc.)"]
[null,null,null,null,11.0,"Me doy cuenta de situaciones que me pueden hacer daño (accidentes, lugares y personas desconocidas, etc.)."]
[null,"HSE","Regulación emocional","El o la estudiante reconoce que sus pensamientos cambian de acuerdo a sus emociones.",12.0,"Me doy cuenta que mis pensamientos cambian o son diferentes cuando estoy triste, preocupado, enojado o alegre."]
[null,null,null,"El o la estudiante expresa sus emociones de forma apropiada.",13.0,"Cuando estoy discutiendo con alguien, intento tranquilizarme para no perder el control."]
[null,null,null,"El o la estudiante sabe cómo regular sus emociones teniendo en cuenta su autocuidado y el impacto en los demás",14.0,"Cuando estoy molesto/a o triste busco sentirme mejor relajándome o haciendo una actividad que me distraiga."]
[null,"HSE","Creatividad","El o la estudiante es capaz de producir algo nuevo o generar proyectos novedosos",15.0,"Me gusta hacer o inventar cosas nuevas."]
[null,null,null,"El o la estudiante ante un problema piensa en diferentes posibles soluciones.",16.0,"Ante un problema, pienso en varias soluciones."]
[null,null,null,"El o la estudiante toma la iniciativa transformar o mejorar algo que ya existe.",17.0,"Puedo transformar y mejorar cosas que veo a mi alrededor."]
[null,"HSE","Toma de decisiones responsables","El o la estudiante identifica las diferentes opciones antes de tomar decisiones.",18.0,"Me informo bien antes de tomar una decisión."]
[null,null,null,"El o la estudiante evalúa los posibles riesgos y consecuencias antes de tomar una decisión.",19.0,"Antes de tomar una decisión, pienso en los riesgos que pudieran existir."]
[null,null,null,"Al tomar decisiones, el o la estudiante toma en cuenta su bienestar personal y de su entorno.",20.0,"Cuando tomo decisiones pienso en mí y mi familia."]
[null,"HSE","Comunicación asertiva","El o la estudiante escucha atentamente a su interlocutor.",21.0,"Cuando alguien me habla, presto atención para comprender lo que me está diciendo."]
[null,null,null,"El o la estudiante comunica de forma directa y clara aquellas situaciones que le incomodan, sin agredir a otras personas.",22.0,"Cuando no estoy de acuerdo con algo, digo lo que siento y pienso con respeto, sin lastimar o herir a la otra persona."]
[null,null,null,"El o la estudiante expresa de forma coherente su mensaje verbal y gestual",23.0,"Cuando digo lo que pienso, cuido mi tono de voz y los gestos de mi cara."]
[null,"HSE","Trabajo en equipo","El o la estudiante es capaz de trabajar en equipo para alcanzar un objetivo común.",24.0,"Me gusta trabajar en equipo y apoyarnos entre todos para alcanzar nuestra meta."]
[null,null,null,"El o la estudiante considera y valora las diferentes características de sus compañeros, al distribuir tareas.",25.0,"Cuando trabajo en equipo, nos distribuimos las tareas de acuerdo a nuestras habilidades."]
[null,null,null,"El o la estudiante cumple con las indicaciones y plazos de las tareas contribuyendo al trabajo en equipo.",26.0,"Cumplo a tiempo con las tareas que me encarga el equipo."]
[null,"HSE","Empatía","El o la estudiante comprende las emociones de otras personas a través de sus gestos y expresiones verbales.",27.0,"Me doy cuenta de lo que sienten las otras personas por sus palabras y sus gestos."]
[null,null,null,"El o la estudiante entiende la situación o necesidades que está viviendo la otra persona y busca como ayudarla.",28.0,"Cuando veo que alguien está triste, preocupado o necesita ayuda, busco como apoyarlo."]
[null,"HSE","Resolución de conflictos","El estudiante es capaz de reconocer una situación conflictiva",29.0,"Me doy cuenta cuando hay problemas o conflictos entre mis compañeros(as)"]
[null,null,null,"El o la estudiante participa en una acción para resolver un conflicto",30.0,"Cuando ayudo a resolver un problema o conflicto, busco que todos queden tranquilos o contentos al final."]
[null,"HSE","Consciencia social","El o la estudiante es sensible ante los temas o problemas de interés de la comunidad formulando preguntas sobre sus causas y consecuencias.",31.0,"Cuando veo un problema que afecta a mi barrio o comunidad, me pongo sensible y averiguo para saber que está pasando."]
[null,null,null,"El o la estudiante toma en cuenta distintas perspectivas para buscar el bien común.",32.0,"Escucho y respeto las opiniones que brindan otras personas para solucionar algún problema que afecta a la comunidad."]
[null,"HSE","Comportamiento prosocial","El o la estudiante es capaz de colaborar y/o ayudar a otros sin que lo soliciten.",33.0,"Participo en actividades que se realizan para beneficiar a mi comunidad y/o ayudar a alguien que lo necesita."]
[null,null,null,"El o la estudiante convive reconociendo las diferencias, valorando la diversidad de las personas sin discriminarlas.",34.0,"Reconozco que cada uno de nosotros es diferente y respeto a todas las personas sin discriminarlas."]
[null,"FR","Consumo de alcohol y drogas","El o la estudiante ha consumido alcohol u otras drogas.",35.0,"He probado alguna bebida con alcohol en reuniones con amigos o familiares."]
[null,null,null,"El o la estudiante tiene curiosidad por consumir drogas.",36.0,"A veces tengo curiosidad por conocer que se siente al consumir una droga."]
[null,null,null,"El o la estudiante tiene amigos o familiares cercanos que consumen drogas.",37.0,"Algunos de mis amigos o familiares consumen alcohol y otras drogas."]
[null,"FR","Trabajo adolescente","El o la estudiante se siente obligado a trabajar para apoyar a su familia en la compra de alimentos y/u otros gastos.",38.0,"Siento la necesidad de trabajar para ayudar a mi familia en la compra de alimentos y/ otras necesidades."]
[null,null,null,"El o la estudiante suele estar cansado/a y no cumple con sus otras responsabilidades escolares porque trabaja.",39.0,"Me cuesta cumplir con mis tareas escolares porque vengo cansado/a de trabajar."]
[null,null,null,"El o la adolescente descuida sus estudios porque pasa demasiado tiempo encargándose de las labores de su hogar.",40.0,"A veces no voy a estudiar porque tengo muchas cosas que hacer en mi casa (cocinar, cuidar a mis hermanos, ayudar en la chacra o en la tienda, etc.)"]
[null,"FR","Ausentismo y deserción Escolar","El o la estudiante falta al menos una vez a la semana a la escuela, sin justificación.",41.0,"Falto a la escuela por lo menos una vez a la semana."]
[null,null,null,"El o la estudiante no se encuentra motivado para seguir estudiando.",42.0,"No me siento motivado a seguir estudiando, he pensado dejar la escuela."]
[null,"FR","Desinformación sobre educación sexual reproductiva","El o la estudiante conoce sobre educación sexual.",43.0,"No he recibido información sobre educación sexual en mi escuela, ni en mi familia."]
[null,null,null,"El o la estudiante reconoce los cambios que está experimentando en su cuerpo.",44.0,"Tengo dudas sobre los cambios en mi cuerpo y no sé a dónde consultar."]
[null,null,null,"El o la estudiante sabe cómo prevenir riesgos en relación a su salud sexual.",45.0,"No sé cómo cuidarme ante peligros que puedan afectar mi sexualidad (acoso, sexting, infecciones, trata, etc.)."]
[null,"FR","Violencia familiar","Al menos uno de los padres o cuidador(a) ejerce violencia física al estudiante.",46.0,"Cuando me equivoco o no cumplo mis obligaciones, me castigan"]
[null,null,null,"Al menos uno de los padres o cuidador(a) maltrata emocionalmente al estudiante.",47.0,"Alguien de mi familia me hace sentir mal con sus palabras. (por ejemplo: insultos, gritos, malos tratos, etc.)."]
[null,null,null,"Al menos uno de los padres o cuidador(a) no asume su responsabilidad con el estudiante.",48.0,"Uno de mis padres se ausenta mucho tiempo y no se preocupa por mí."]
[null,null,null,"Los padres o cuidadores del estudiante se pelean entre sí delante de sus hijos.",49.0,"Cuando hay problemas, mis padres discuten y se gritan entre ellos."]
[null,"FR","Limitada expectativa sobre la educación","El o la estudiante reconoce los beneficios de la educación en su vida.",50.0,"Siento que lo que aprendo en la escuela no me servirá para mi futuro."]
[null,null,null,"El o la estudiante considera que los docentes aportan y le motivan a su aprendizaje.",51.0,"No me siento motivado por mis maestras/os"]
[null,null,null,"El o la estudiante siente que sus padres confían en su capacidad para aprender.",52.0,"Mi familia no cree que la educación sea importante"]
[null,"FR","Percepción sobre Estereotipos de género","El o la estudiante cree que los hombres tienen superioridad física e intelectual sobre las mujeres.",53.0,"Pienso que las mujeres son débiles y los hombres fuertes y rudos."]
[null,null,null,"El o la estudiante considera que hombres y mujeres deben optar carreras o profesiones de acuerdo a su sexo.",54.0,"Considero que los hombres son más hábiles para las carreras de ciencias que las mujeres."]
[null,null,null,"El o la estudiante cree que hombres y mujeres cumplen diversos roles en el hogar y la sociedad",55.0,"Pienso que las mujeres son las indicadas para las tareas de la casa y el cuidado de los hijos."]
[null,null,null,"El o la estudiante cree que los hombres no sienten las mismas emociones que las mujeres.",56.0,"Pienso que los hombres no deben llorar, ni expresar sus sentimientos en público."]
[null,"FR","Violencia Escolar","El o la estudiante siente que sus compañeros se burlan de él o ella.",57.0,"En mi colegio, algunos compañeros(as) se burlan de mí, me fastidian."]
[null,null,null,"El o la estudiante siente temor de asistir al colegio por recibir malos tratos de sus compañeros o profesores.",58.0,"Tengo miedo de ir al colegio porque mis compañeros(as) me tratan mal (me empujan, me quitan mis cosas, me golpean, etc.)."]
[null,null,null,"El o la estudiante se siente acosado sexualmente por un compañero o adulto del colegio.",59.0,"Me he dado cuenta que en mi colegio, alguien me mira de forma extraña que me incomoda."]
[null,null,null,"El o la estudiante manifiesta agresividad verbal y/o física hacia otras personas",60.0,"Me gusta poner apodos a mis compañeros para molestarlos."]
[null,"FR","Limitados recursos económicos","El o la estudiante no tiene acceso a servicios de salud.",61.0,"Cuando tengo un problema de salud no puedo asistir a un servicio de salud."]
[null,null,null,"El o la estudiante no tiene acceso a una alimentación adecuada.",62.0,"Los alimentos que tenemos en casa no alcanzan para todos."]
[null,null,null,"La vivienda del o la estudiante no cuenta con alguno de los servicios básicos: luz, agua potable",63.0,"En mi casa nos falta algunos servicios como luz, agua o desagüe."]
[null,null,null,"La familia del o la estudiante tiene ingresos económicos limitados.",64.0,"Mi familia no me ha podido comprar mis útiles y uniforme para el colegio."]
[null,"FR","Entorno de riesgo","El o la estudiante tiene amistad con personas que infringen la ley.",65.0,"Algunos amigos cercanos han cometido actos en contra de la ley (Ej. Robar, vender droga, actos de violencia, etc.)"]
[null,null,null,"El o la estudiante frecuenta lugares peligrosos. .",66.0,"Considero que mi barrio o comunidad es una zona peligrosa"]

{"sheet":"Resumen de indicadores HSE","index":4,"n_rows":45,"n_cols":57,"rows_kept":45,"cut":false,"hidden":false,"merged":[[3,3,3,4],[4,2,5,2],[4,3,4,4],[5,3,5,4],[6,3,6,4],[7,3,7,4],[8,3,8,4],[9,3,9,4],[10,3,10,4],[11,3,11,4],[12,3,12,4],[13,3,13,4],[14,3,14,4],[15,3,15,4],[16,3,16,4],[17,3,17,4],[18,3,18,4],[19,3,19,4],[20,3,20,4],[21,3,21,4],[22,3,22,4],[26,2,28,2],[29,2,30,2],[31,2,32,2],[33,2,34,2],[35,2,36,2],[6,2,8,2],[9,2,11,2],[12,2,13,2],[14,2,16,2],[17,2,19,2],[20,2,22,2],[23,2,25,2],[30,3,30,4],[31,3,31,4],[32,3,32,4],[33,3,33,4],[34,3,34,4],[35,3,35,4],[36,3,36,4],[23,3,23,4],[24,3,24,4],[25,3,25,4],[26,3,26,4],[27,3,27,4],[28,3,28,4],[29,3,29,4]]}
[]
[]
[]
[null,"Dimensión","Escala","Indicadores",null,"Puntaje Promedio del aula, por indicador",null,{"$f":"+'BASE DE RESPUESTAS'!H5","v":"Estudiante 1"},{"$f":"+'BASE DE RESPUESTAS'!I5","v":"Estudiante 2"},{"$f":"+'BASE DE RESPUESTAS'!J5","v":"Estudiante 3"},{"$f":"+'BASE DE RESPUESTAS'!K5","v":"Estudiante 4"},{"$f":"+'BASE DE RESPUESTAS'!L5","v":"Estudiante 5"},{"$f":"+'BASE DE RESPUESTAS'!M5","v":"Estudiante 6"},{"$f":"+'BASE DE RESPUESTAS'!N5","v":"Estudiante 7"},{"$f":"+'BASE DE RESPUESTAS'!O5","v":"Estudiante 8"},{"$f":"+'BASE DE RESPUESTAS'!P5","v":"Estudiante 9"},{"$f":"+'BASE DE RESPUESTAS'!Q5","v":"Estudiante 10"},{"$f":"+'BASE DE RESPUESTAS'!R5","v":"Estudiante 11"},{"$f":"+'BASE DE RESPUESTAS'!S5","v":"Estudiante 12"},{"$f":"+'BASE DE RESPUESTAS'!T5","v":"Estudiante 13"},{"$f":"+'BASE DE RESPUESTAS'!U5","v":"Estudiante 14"},{"$f":"+'BASE DE RESPUESTAS'!V5","v":"Estudiante 15"},{"$f":"+'BASE DE RESPUESTAS'!W5","v":"Estudiante 16"},{"$f":"+'BASE DE RESPUESTAS'!X5","v":"Estudiante 17"},{"$f":"+'BASE DE RESPUESTAS'!Y5","v":"Estudiante 18"},{"$f":"+'BASE DE RESPUESTAS'!Z5","v":"Estudiante 19"},{"$f":"+'BASE DE RESPUESTAS'!AA5","v":"Estudiante 20"},{"$f":"+'BASE DE RESPUESTAS'!AB5","v":"Estudiante 21"},{"$f":"+'BASE DE RESPUESTAS'!AC5","v":"Estudiante 22"},{"$f":"+'BASE DE RESPUESTAS'!AD5","v":"Estudiante 23"},{"$f":"+'BASE DE RESPUESTAS'!AE5","v":"Estudiante 24"},{"$f":"+'BASE DE RESPUESTAS'!AF5","v":"Estudiante 25"},{"$f":"+'BASE DE RESPUESTAS'!AG5","v":"Estudiante 26"},{"$f":"+'BASE DE RESPUESTAS'!AH5","v":"Estudiante 27"},{"$f":"+'BASE DE RESPUESTAS'!AI5","v":"Estudiante 28"},{"$f":"+'BASE DE RESPUESTAS'!AJ5","v":"Estudiante 29"},{"$f":"+'BASE DE RESPUESTAS'!AK5","v":"Estudiante 30"},{"$f":"+'BASE DE RESPUESTAS'!AL5","v":"Estudiante 31"},{"$f":"+'BASE DE RESPUESTAS'!AM5","v":"Estudiante 32"},{"$f":"+'BASE DE RESPUESTAS'!AN5","v":"Estudiante 33"},{"$f":"+'BASE DE RESPUESTAS'!AO5","v":"Estudiante 34"},{"$f":"+'BASE DE RESPUESTAS'!AP5","v":"Estudiante 35"},{"$f":"+'BASE DE RESPUESTAS'!AQ5","v":"Estudiante 36"},{"$f":"+'BASE DE RESPUESTAS'!AR5","v":"Estudiante 37"},{"$f":"+'BASE DE RESPUESTAS'!AS5","v":"Estudiante 38"},{"$f":"+'BASE DE RESPUESTAS'!AT5","v":"Estudiante 39"},{"$f":"+'BASE DE RESPUESTAS'!AU5","v":"Estudiante 40"},{"$f":"+'BASE DE RESPUESTAS'!AV5","v":"Estudiante 41"},{"$f":"+'BASE DE RESPUESTAS'!AW5","v":"Estudiante 42"},{"$f":"+'BASE DE RESPUESTAS'!AX5","v":"Estudiante 43"},{"$f":"+'BASE DE RESPUESTAS'!AY5","v":"Estudiante 44"},{"$f":"+'BASE DE RESPUESTAS'!AZ5","v":"Estudiante 45"},{"$f":"+'BASE DE RESPUESTAS'!BA5","v":"Estudiante 46"},{"$f":"+'BASE DE RESPUESTAS'!BB5","v":"Estudiante 47"},{"$f":"+'BASE DE RESPUESTAS'!BC5","v":"Estudiante 48"},{"$f":"+'BASE DE RESPUESTAS'!BD5","v":"Estudiante 49"},{"$f":"+'BASE DE RESPUESTAS'!BE5","v":"Estudiante 50"}]
[null,"HSE","Autoconcepto","El o la estudiante describe sus características personales (físicas, sociales, emocionales, académicas, etc.)",null,{"$f":"+IFERROR(AVERAGEIFS(H5:BE5,H5:BE5,\">=0\"),\"\")","v":""},null,{"$f":"+IFERROR((VLOOKUP('BASE DE RESPUESTAS'!H7,Back!$M$16:$N$20,2,0)),\"\")","v":""},{"$f":"+IFERROR((VLOOKUP('BASE DE RESPUESTAS'!I7,Back!$M$16:$N$20,2,0)),\"\")","v":""},{"$f":"+IFERROR((VLOOKUP('BASE DE RESPUESTAS'!J7,Back!$M$16:$N$20,2,0)),\"\")","v":""},{"$f":"+IFERROR((VLOOKUP('BASE DE RESPUESTAS'!K7,Back!$M$16:$N$20,2,0)),\"\")","v":""},{"$f":"+IFERROR((VLOOKUP('BASE DE RESPUESTAS'!L7,Back!$M$16:$N$20,2,0)),\"\")","v":""},{"$f":"+IFERROR((VLOOKUP('BASE DE RESPUESTAS'!M7,Back!$M$16:$N$20,2,0)),\"\")","v":""},{"$f":"+IFERROR((VLOOKUP('BASE DE RESPUESTAS'!N7,Back!$M$16:$N$20,2,0)),\"\")","v":""},{"$f":"+IFERROR((VLOOKUP('BASE DE RESPUESTAS'!O7,Back!$M$16:$N$20,2,0)),\"\")","v":""},{"$f":"+IFERROR((VLOOKUP('BASE DE RESPUESTAS'!P7,Back!$M$16:$N$20,2,0)),\"\")","v":""},{"$f":"+IFERROR((VLOOKUP('BASE DE RESPUESTAS'!Q7,Back!$M$16:$N$20,2,0)),\"\")","v":""},{"$f":"+IFERROR((VLOOKUP('BASE DE RESPUESTAS'!R7,Back!$M$16:$N$20,2,0)),\"\")","v":""},{"$f":"+IFERROR((VLOOKUP('BASE DE RESPUESTAS'!S7,Back!$M$16:$N$20,2,0)),\"\")","v":""},{"$f":"+IFERROR((VLOOKUP('BASE DE RESPUESTAS'!T7,Back!$M$16:$N$20,2,0)),\"\")","v":""},{"$f":"+IFERROR((VLOOKUP('BASE DE RESPUESTAS'!U7,Back!$M$16:$N$20,2,0)),\"\")","v":""},{"$f":"+IFERROR((VLOOKUP('BASE DE RESPUESTAS'!V7,Back!$M$16:$N$20,2,0)),\"\")","v":""},{"$f":"+IFERROR((VLOOKUP('BASE DE RESPUESTAS'!W7,Back!$M$16:$N$20,2,0)),\"\")","v":""},{"$f":"+IFERROR((VLOOKUP('BASE DE RESPUESTAS'!X7,Back!$M$16:$N$20,2,0)),\"\")","v":""},{"$f":"+IFERROR((VLOOKUP('BASE DE RESPUESTAS'!Y7,Back!$M$16:$N$20,2,0)),\"\")","v":""},{"$f":"+IFERROR((VLOOKUP('BASE DE RESPUESTAS'!Z7,Back!$M$16:$N$20,2,0)),\"\")","v":""},{"$f":"+IFERROR((VLOOKUP('BASE DE RESPUESTAS'!AA7,Back!$M$16:$N$20,2,0)),\"\")","v":""},{"$f":"+IFERROR((VLOOKUP('BASE DE RESPUESTAS'!AB7,Back!$M$16:$N$20,2,0)),\"\")","v":""},{"$f":"+IFERROR((VLOOKUP('BASE DE RESPUESTAS'!AC7,Back!$M$16:$N$20,2,0)),\"\")","v":""},{"$f":"+IFERROR((VLOOKUP('BASE DE RESPUESTAS'!AD7,Back!$M$16:$N$20,2,0)),\"\")","v":""},{"$f":"+IFERROR((VLOOKUP('BASE DE RESPUESTAS'!AE7,Back!$M$16:$N$20,2,0)),\"\")","v":""},{"$f":"+IFERROR((VLOOKUP('BASE DE RESPUESTAS'!AF7,Back!$M$16:$N$20,2,0)),\"\")","v":""},{"$f":"+IFERROR((VLOOKUP('BASE DE RESPUESTAS'!AG7,Back!$M$16:$N$20,2,0)),\"\")","v":""},{"$f":"+IFERROR((VLOOKUP('BASE DE RESPUESTAS'!AH7,Back!$M$16:$N$20,2,0)),\"\")","v":""},{"$f":"+IFERROR((VLOOKUP('BASE DE RESPUESTAS'!AI7,Back!$M$16:$N$20,2,0)),\"\")","v":""},{"$f":"+IFERROR((VLOOKUP('BASE DE RESPUESTAS'!AJ7,Back!$M$16:$N$20,2,0)),\"\")","v":""},{"$f":"+IFERROR((VLOOKUP('BASE DE RESPUESTAS'!AK7,Back!$M$16:$N$20,2,0)),\"\")","v":""},{"$f":"+IFERROR((VLOOKUP('BASE DE RESPUESTAS'!AL7,Back!$M$16:$N$20,2,0)),\"\")","v":""},{"$f":"+IFERROR((VLOOKUP('BASE DE RESPUESTAS'!AM7,Back!$M$16:$N$20,2,0)),\"\")","v":""},{"$f":"+IFERROR((VLOOKUP('BASE DE RESPUESTAS'!AN7,Back!$M$16:$N$20,2,0)),\"\")","v":""},{"$f":"+IFERROR((VLOOKUP('BASE DE RESPUESTAS'!AO7,Back!$M$16:$N$20,2,0)),\"\")","v":""},{"$f":"+IFERROR((VLOOKUP('BASE DE RESPUESTAS'!AP7,Back!$M$16:$N$20,2,0)),\"\")","v":""},{"$f":"+IFERROR((VLOOKUP('BASE DE RESPUESTAS'!AQ7,Back!$M$16:$N$20,2,0)),\"\")","v":""},{"$f":"+IFERROR((VLOOKUP('BASE DE RESPUESTAS'!AR7,Back!$M$16:$N$20,2,0)),\"\")","v":""},{"$f":"+IFERROR((VLOOKUP('BASE DE RESPUESTAS'!AS7,Back!$M$16:$N$20,2,0)),\"\")","v":""},{"$f":"+IFERROR((VLOOKUP('BASE DE RESPUESTAS'!AT7,Back!$M$16:$N$20,2,0)),\"\")","v":""},{"$f":"+IFERROR((VLOOKUP('BASE DE RESPUESTAS'!AU7,Back!$M$16:$N$20,2,0)),\"\")","v":""},{"$f":"+IFERROR((VLOOKUP('BASE DE RESPUESTAS'!AV7,Back!$M$16:$N$20,2,0)),\"\")","v":""},{"$f":"+IFERROR((VLOOKUP('BASE DE RESPUESTAS'!AW7,Back!$M$16:$N$20,2,0)),\"\")","v":""},{"$f":"+IFERROR((VLOOKUP('BASE DE RESPUESTAS'!AX7,Back!$M$16:$N$20,2,0)),\"\")","v":""},{"$f":"+IFERROR((VLOOKUP('BASE DE RESPUESTAS'!AY7,Back!$M$16:$N$20,2,0)),\"\")","v":""},{"$f":"+IFERROR((VLOOKUP('BASE DE RESPUESTAS'!AZ7,Back!$M$16:$N$20,2,0)),\"\")","v":""},{"$f":"+IFERROR((VLOOKUP('BASE DE RESPUESTAS'!BA7,Back!$M$16:$N$20,2,0)),\"\")","v":""},{"$f":"+IFERROR((VLOOKUP('BASE DE RESPUESTAS'!BB7,Back!$M$16:$N$20,2,0)),\"\")","v":""},{"$f":"+IFERROR((VLOOKUP('BASE DE RESPUESTAS'!BC7,Back!$M$16:$N$20,2,0)),\"\")","v":""},{"$f":"+IFERROR((VLOOKUP('BASE DE RESPUESTAS'!BD7,Back!$M$16:$N$20,2,0)),\"\")","v":""},{"$f":"+IFERROR((VLOOKUP('BASE DE RESPUESTAS'!BE7,Back!$M$16:$N$20,2,0)),\"\")","v":""}]
[null,"HSE",null,"El o la estudiante reconoce sus aspectos por mejorar.",null,"",null,{"$f":"+IFERROR((VLOOKUP('BASE DE RESPUESTAS'!H8,Back!$M$16:$N$20,2,0)),\"\")","v":""},{"$f":"+IFERROR((VLOOKUP('BASE DE RESPUESTAS'!I8,Back!$M$16:$N$20,2,0)),\"\")","v":""},{"$f":"+IFERROR((VLOOKUP('BASE DE RESPUESTAS'!J8,Back!$M$16:$N$20,2,0)),\"\")","v":""},{"$f":"+IFERROR((VLOOKUP('BASE DE RESPUESTAS'!K8,Back!$M$16:$N$20,2,0)),\"\")","v":""},{"$f":"+IFERROR((VLOOKUP('BASE DE RESPUESTAS'!L8,Back!$M$16:$N$20,2,0)),\"\")","v":""},{"$f":"+IFERROR((VLOOKUP('BASE DE RESPUESTAS'!M8,Back!$M$16:$N$20,2,0)),\"\")","v":""},{"$f":"+IFERROR((VLOOKUP('BASE DE RESPUESTAS'!N8,Back!$M$16:$N$20,2,0)),\"\")","v":""},{"$f":"+IFERROR((VLOOKUP('BASE DE RESPUESTAS'!O8,Back!$M$16:$N$20,2,0)),\"\")","v":""},{"$f":"+IFERROR((VLOOKUP('BASE DE RESPUESTAS'!P8,Back!$M$16:$N$20,2,0)),\"\")","v":""},{"$f":"+IFERROR((VLOOKUP('BASE DE RESPUESTAS'!Q8,Back!$M$16:$N$20,2,0)),\"\")","v":""},{"$f":"+IFERROR((VLOOKUP('BASE DE RESPUESTAS'!R8,Back!$M$16:$N$20,2,0)),\"\")","v":""},{"$f":"+IFERROR((VLOOKUP('BASE DE RESPUESTAS'!S8,Back!$M$16:$N$20,2,0)),\"\")","v":""},{"$f":"+IFERROR((VLOOKUP('BASE DE RESPUESTAS'!T8,Back!$M$16:$N$20,2,0)),\"\")","v":""},{"$f":"+IFERROR((VLOOKUP('BASE DE RESPUESTAS'!U8,Back!$M$16:$N$20,2,0)),\"\")","v":""},{"$f":"+IFERROR((VLOOKUP('BASE DE RESPUESTAS'!V8,Back!$M$16:$N$20,2,0)),\"\")","v":""},{"$f":"+IFERROR((VLOOKUP('BASE DE RESPUESTAS'!W8,Back!$M$16:$N$20,2,0)),\"\")","v":""},{"$f":"+IFERROR((VLOOKUP('BASE DE RESPUESTAS'!X8,Back!$M$16:$N$20,2,0)),\"\")","v":""},{"$f":"+IFERROR((VLOOKUP('BASE DE RESPUESTAS'!Y8,Back!$M$16:$N$20,2,0)),\"\")","v":""},{"$f":"+IFERROR((VLOOKUP('BASE DE RESPUESTAS'!Z8,Back!$M$16:$N$20,2,0)),\"\")","v":""},{"$f":"+IFERROR((VLOOKUP('BASE DE RESPUESTAS'!AA8,Back!$M$16:$N$20,2,0)),\"\")","v":""},{"$f":"+IFERROR((VLOOKUP('BASE DE RESPUESTAS'!AB8,Back!$M$16:$N$20,2,0)),\"\")","v":""},{"$f":"+IFERROR((VLOOKUP('BASE DE RESPUESTAS'!AC8,Back!$M$16:$N$20,2,0)),\"\")","v":""},{"$f":"+IFERROR((VLOOKUP('BASE DE RESPUESTAS'!AD8,Back!$M$16:$N$20,2,0)),\"\")","v":""},{"$f":"+IFERROR((VLOOKUP('BASE DE RESPUESTAS'!AE8,Back!$M$16:$N$20,2,0)),\"\")","v":""},{"$f":"+IFERROR((VLOOKUP('BASE DE RESPUESTAS'!AF8,Back!$M$16:$N$20,2,0)),\"\")","v":""},{"$f":"+IFERROR((VLOOKUP('BASE DE RESPUESTAS'!AG8,Back!$M$16:$N$20,2,0)),\"\")","v":""},{"$f":"+IFERROR((VLOOKUP('BASE DE RESPUESTAS'!AH8,Back!$M$16:$N$20,2,0)),\"\")","v":""},{"$f":"+IFERROR((VLOOKUP('BASE DE RESPUESTAS'!AI8,Back!$M$16:$N$20,2,0)),\"\")","v":""},{"$f":"+IFERROR((VLOOKUP('BASE DE RESPUESTAS'!AJ8,Back!$M$16:$N$20,2,0)),\"\")","v":""},{"$f":"+IFERROR((VLOOKUP('BASE DE RESPUESTAS'!AK8,Back!$M$16:$N$20,2,0)),\"\")","v":""},{"$f":"+IFERROR((VLOOKUP('BASE DE RESPUESTAS'!AL8,Back!$M$16:$N$20,2,0)),\"\")","v":""},{"$f":"+IFERROR((VLOOKUP('BASE DE RESPUESTAS'!AM8,Back!$M$16:$N$20,2,0)),\"\")","v":""},{"$f":"+IFERROR((VLOOKUP('BASE DE RESPUESTAS'!AN8,Back!$M$16:$N$20,2,0)),\"\")","v":""},{"$f":"+IFERROR((VLOOKUP('BASE DE RESPUESTAS'!AO8,Back!$M$16:$N$20,2,0)),\"\")","v":""},{"$f":"+IFERROR((VLOOKUP('BASE DE RESPUESTAS'!AP8,Back!$M$16:$N$20,2,0)),\"\")","v":""},{"$f":"+IFERROR((VLOOKUP('BASE DE RESPUESTAS'!AQ8,Back!$M$16:$N$20,2,0)),\"\")","v":""},{"$f":"+IFERROR((VLOOKUP('BASE DE RESPUESTAS'!AR8,Back!$M$16:$N$20,2,0)),\"\")","v":""},{"$f":"+IFERROR((VLOOKUP('BASE DE RESPUESTAS'!AS8,Back!$M$16:$N$20,2,0)),\"\")","v":""},{"$f":"+IFERROR((VLOOKUP('BASE DE RESPUESTAS'!AT8,Back!$M$16:$N$20,2,0)),\"\")","v":""},{"$f":"+IFERROR((VLOOKUP('BASE DE RESPUESTAS'!AU8,Back!$M$16:$N$20,2,0)),\"\")","v":""},{"$f":"+IFERROR((VLOOKUP('BASE DE RESPUESTAS'!AV8,Back!$M$16:$N$20,2,0)),\"\")","v":""},{"$f":"+IFERROR((VLOOKUP('BASE DE RESPUESTAS'!AW8,Back!$M$16:$N$20,2,0)),\"\")","v":""},{"$f":"+IFERROR((VLOOKUP('BASE DE RESPUESTAS'!AX8,Back!$M$16:$N$20,2,0)),\"\")","v":""},{"$f":"+IFERROR((VLOOKUP('BASE DE RESPUESTAS'!AY8,Back!$M$16:$N$20,2,0)),\"\")","v":""},{"$f":"+IFERROR((VLOOKUP('BASE DE RESPUESTAS'!AZ8,Back!$M$16:$N$20,2,0)),\"\")","v":""},{"$f":"+IFERROR((VLOOKUP('BASE DE RESPUESTAS'!BA8,Back!$M$16:$N$20,2,0)),\"\")","v":""},{"$f":"+IFERROR((VLOOKUP('BASE DE RESPUESTAS'!BB8,Back!$M$16:$N$20,2,0)),\"\")","v":""},{"$f":"+IFERROR((VLOOKUP('BASE DE RESPUESTAS'!BC8,Back!$M$16:$N$20,2,0)),\"\")","v":""},{"$f":"+IFERROR((VLOOKUP('BASE DE RESPUESTAS'!BD8,Back!$M$16:$N$20,2,0)),\"\")","v":""},{"$f":"+IFERROR((VLOOKUP('BASE DE RESPUESTAS'!BE8,Back!$M$16:$N$20,2,0)),\"\")","v":""}]
[null,"HSE","Autoestima","El o la estudiante tiene una imagen positiva de sí mismo.",null,"",null,{"$f":"+IFERROR((VLOOKUP('BASE DE RESPUESTAS'!H9,Back!$M$16:$N$20,2,0)),\"\")","v":""},{"$f":"+IFERROR((VLOOKUP('BASE DE RESPUESTAS'!I9,Back!$M$16:$N$20,2,0)),\"\")","v":""},{"$f":"+IFERROR((VLOOKUP('BASE DE RESPUESTAS'!J9,Back!$M$16:$N$20,2,0)),\"\")","v":""},{"$f":"+IFERROR((VLOOKUP('BASE DE RESPUESTAS'!K9,Back!$M$16:$N$20,2,0)),\"\")","v":""},{"$f":"+IFERROR((VLOOKUP('BASE DE RESPUESTAS'!L9,Back!$M$16:$N$20,2,0)),\"\")","v":""},{"$f":"+IFERROR((VLOOKUP('BASE DE RESPUESTAS'!M9,Back!$M$16:$N$20,2,0)),\"\")","v":""},{"$f":"+IFERROR((VLOOKUP('BASE DE RESPUESTAS'!N9,Back!$M$16:$N$20,2,0)),\"\")","v":""},{"$f":"+IFERROR((VLOOKUP('BASE DE RESPUESTAS'!O9,Back!$M$16:$N$20,2,0)),\"\")","v":""},{"$f":"+IFERROR((VLOOKUP('BASE DE RESPUESTAS'!P9,Back!$M$16:$N$20,2,0)),\"\")","v":""},{"$f":"+IFERROR((VLOOKUP('BASE DE RESPUESTAS'!Q9,Back!$M$16:$N$20,2,0)),\"\")","v":""},{"$f":"+IFERROR((VLOOKUP('BASE DE RESPUESTAS'!R9,Back!$M$16:$N$20,2,0)),\"\")","v":""},{"$f":"+IFERROR((VLOOKUP('BASE DE RESPUESTAS'!S9,Back!$M$16:$N$20,2,0)),\"\")","v":""},{"$f":"+IFERROR((VLOOKUP('BASE DE RESPUESTAS'!T9,Back!$M$16:$N$20,2,0)),\"\")","v":""},{"$f":"+IFERROR((VLOOKUP('BASE DE RESPUESTAS'!U9,Back!$M$16:$N$20,2,0)),\"\")","v":""},{"$f":"+IFERROR((VLOOKUP('BASE DE RESPUESTAS'!V9,Back!$M$16:$N$20,2,0)),\"\")","v":""},{"$f":"+IFERROR((VLOOKUP('BASE DE RESPUESTAS'!W9,Back!$M$16:$N$20,2,0)),\"\")","v":""},{"$f":"+IFERROR((VLOOKUP('BASE DE RESPUESTAS'!X9,Back!$M$16:$N$20,2,0)),\"\")","v":""},{"$f":"+IFERROR((VLOOKUP('BASE DE RESPUESTAS'!Y9,Back!$M$16:$N$20,2,0)),\"\")","v":""},{"$f":"+IFERROR((VLOOKUP('BASE DE RESPUESTAS'!Z9,Back!$M$16:$N$20,2,0)),\"\")","v":""},{"$f":"+IFERROR((VLOOKUP('BASE DE RESPUESTAS'!AA9,Back!$M$16:$N$20,2,0)),\"\")","v":""},{"$f":"+IFERROR((VLOOKUP('BASE DE RESPUESTAS'!AB9,Back!$M$16:$N$20,2,0)),\"\")","v":""},{"$f":"+IFERROR((VLOOKUP('BASE DE RESPUESTAS'!AC9,Back!$M$16:$N$20,2,0)),\"\")","v":""},{"$f":"+IFERROR((VLOOKUP('BASE DE RESPUESTAS'!AD9,Back!$M$16:$N$20,2,0)),\"\")","v":""},{"$f":"+IFERROR((VLOOKUP('BASE DE RESPUESTAS'!AE9,Back!$M$16:$N$20,2,0)),\"\")","v":""},{"$f":"+IFERROR((VLOOKUP('BASE DE RESPUESTAS'!AF9,Back!$M$16:$N$20,2,0)),\"\")","v":""},{"$f":"+IFERROR((VLOOKUP('BASE DE RESPUESTAS'!AG9,Back!$M$16:$N$20,2,0)),\"\")","v":""},{"$f":"+IFERROR((VLOOKUP('BASE DE RESPUESTAS'!AH9,Back!$M$16:$N$20,2,0)),\"\")","v":""},{"$f":"+IFERROR((VLOOKUP('BASE DE RESPUESTAS'!AI9,Back!$M$16:$N$20,2,0)),\"\")","v":""},{"$f":"+IFERROR((VLOOKUP('BASE DE RESPUESTAS'!AJ9,Back!$M$16:$N$20,2,0)),\"\")","v":""},{"$f":"+IFERROR((VLOOKUP('BASE DE RESPUESTAS'!AK9,Back!$M$16:$N$20,2,0)),\"\")","v":""},{"$f":"+IFERROR((VLOOKUP('BASE DE RESPUESTAS'!AL9,Back!$M$16:$N$20,2,0)),\"\")","v":""},{"$f":"+IFERROR((VLOOKUP('BASE DE RESPUESTAS'!AM9,Back!$M$16:$N$20,2,0)),\"\")","v":""},{"$f":"+IFERROR((VLOOKUP('BASE DE RESPUESTAS'!AN9,Back!$M$16:$N$20,2,0)),\"\")","v":""},{"$f":"+IFERROR((VLOOKUP('BASE DE RESPUESTAS'!AO9,Back!$M$16:$N$20,2,0)),\"\")","v":""},{"$f":"+IFERROR((VLOOKUP('BASE DE RESPUESTAS'!AP9,Back!$M$16:$N$20,2,0)),\"\")","v":""},{"$f":"+IFERROR((VLOOKUP('BASE DE RESPUESTAS'!AQ9,Back!$M$16:$N$20,2,0)),\"\")","v":""},{"$f":"+IFERROR((VLOOKUP('BASE DE RESPUESTAS'!AR9,Back!$M$16:$N$20,2,0)),\"\")","v":""},{"$f":"+IFERROR((VLOOKUP('BASE DE RESPUESTAS'!AS9,Back!$M$16:$N$20,2,0)),\"\")","v":""},{"$f":"+IFERROR((VLOOKUP('BASE DE RESPUESTAS'!AT9,Back!$M$16:$N$20,2,0)),\"\")","v":""},{"$f":"+IFERROR((VLOOKUP('BASE DE RESPUESTAS'!AU9,Back!$M$16:$N$20,2,0)),\"\")","v":""},{"$f":"+IFERROR((VLOOKUP('BASE DE RESPUESTAS'!AV9,Back!$M$16:$N$20,2,0)),\"\")","v":""},{"$f":"+IFERROR((VLOOKUP('BASE DE RESPUESTAS'!AW9,Back!$M$16:$N$20,2,0)),\"\")","v":""},{"$f":"+IFERROR((VLOOKUP('BASE DE RESPUESTAS'!AX9,Back!$M$16:$N$20,2,0)),\"\")","v":""},{"$f":"+IFERROR((VLOOKUP('BASE DE RESPUESTAS'!AY9,Back!$M$16:$N$20,2,0)),\"\")","v":""},{"$f":"+IFERROR((VLOOKUP('BASE DE RESPUESTAS'!AZ9,Back!$M$16:$N$20,2,0)),\"\")","v":""},{"$f":"+IFERROR((VLOOKUP('BASE DE RESPUESTAS'!BA9,Back!$M$16:$N$20,2,0)),\"\")","v":""},{"$f":"+IFERROR((VLOOKUP('BASE DE RESPUESTAS'!BB9,Back!$M$16:$N$20,2,0)),\"\")","v":""},{"$f":"+IFERROR((VLOOKUP('BASE DE RESPUESTAS'!BC9,Back!$M$16:$N$20,2,0)),\"\")","v":""},{"$f":"+IFERROR((VLOOKUP('BASE DE RESPUESTAS'!BD9,Back!$M$16:$N$20,2,0)),\"\")","v":""},{"$f":"+IFERROR((VLOOKUP('BASE DE RESPUESTAS'!BE9,Back!$M$16:$N$20,2,0)),\"\")","v":""}]
[null,"HSE",null,"El o la estudiante se encuentra satisfecho consigo mismo.",null,"",null,{"$f":"+IFERROR((VLOOKUP('BASE DE RESPUESTAS'!H10,Back!$M$16:$N$20,2,0)),\"\")","v":""},{"$f":"+IFERROR((VLOOKUP('BASE DE RESPUESTAS'!I10,Back!$M$16:$N$20,2,0)),\"\")","v":""},{"$f":"+IFERROR((VLOOKUP('BASE DE RESPUESTAS'!J10,Back!$M$16:$N$20,2,0)),\"\")","v":""},{"$f":"+IFERROR((VLOOKUP('BASE DE RESPUESTAS'!K10,Back!$M$16:$N$20,2,0)),\"\")","v":""},{"$f":"+IFERROR((VLOOKUP('BASE DE RESPUESTAS'!L10,Back!$M$16:$N$20,2,0)),\"\")","v":""},{"$f":"+IFERROR((VLOOKUP('BASE DE RESPUESTAS'!M10,Back!$M$16:$N$20,2,0)),\"\")","v":""},{"$f":"+IFERROR((VLOOKUP('BASE DE RESPUESTAS'!N10,Back!$M$16:$N$20,2,0)),\"\")","v":""},{"$f":"+IFERROR((VLOOKUP('BASE DE RESPUESTAS'!O10,Back!$M$16:$N$20,2,0)),\"\")","v":""},{"$f":"+IFERROR((VLOOKUP('BASE DE RESPUESTAS'!P10,Back!$M$16:$N$20,2,0)),\"\")","v":""},{"$f":"+IFERROR((VLOOKUP('BASE DE RESPUESTAS'!Q10,Back!$M$16:$N$20,2,0)),\"\")","v":""},{"$f":"+IFERROR((VLOOKUP('BASE DE RESPUESTAS'!R10,Back!$M$16:$N$20,2,0)),\"\")","v":""},{"$f":"+IFERROR((VLOOKUP('BASE DE RESPUESTAS'!S10,Back!$M$16:$N$20,2,0)),\"\")","v":""},{"$f":"+IFERROR((VLOOKUP('BASE DE RESPUESTAS'!T10,Back!$M$16:$N$20,2,0)),\"\")","v":""},{"$f":"+IFERROR((VLOOKUP('BASE DE RESPUESTAS'!U10,Back!$M$16:$N$20,2,0)),\"\")","v":""},{"$f":"+IFERROR((VLOOKUP('BASE DE RESPUESTAS'!V10,Back!$M$16:$N$20,2,0)),\"\")","v":""},{"$f":"+IFERROR((VLOOKUP('BASE DE RESPUESTAS'!W10,Back!$M$16:$N$20,2,0)),\"\")","v":""},{"$f":"+IFERROR((VLOOKUP('BASE DE RESPUESTAS'!X10,Back!$M$16:$N$20,2,0)),\"\")","v":""},{"$f":"+IFERROR((VLOOKUP('BASE DE RESPUESTAS'!Y10,Back!$M$16:$N$20,2,0)),\"\")","v":""},{"$f":"+IFERROR((VLOOKUP('BASE DE RESPUESTAS'!Z10,Back!$M$16:$N$20,2,0)),\"\")","v":""},{"$f":"+IFERROR((VLOOKUP('BASE DE RESPUESTAS'!AA10,Back!$M$16:$N$20,2,0)),\"\")","v":""},{"$f":"+IFERROR((VLOOKUP('BASE DE RESPUESTAS'!AB10,Back!$M$16:$N$20,2,0)),\"\")","v":""},{"$f":"+IFERROR((VLOOKUP('BASE DE RESPUESTAS'!AC10,Back!$M$16:$N$20,2,0)),\"\")","v":""},{"$f":"+IFERROR((VLOOKUP('BASE DE RESPUESTAS'!AD10,Back!$M$16:$N$20,2,0)),\"\")","v":""},{"$f":"+IFERROR((VLOOKUP('BASE DE RESPUESTAS'!AE10,Back!$M$16:$N$20,2,0)),\"\")","v":""},{"$f":"+IFERROR((VLOOKUP('BASE DE RESPUESTAS'!AF10,Back!$M$16:$N$20,2,0)),\"\")","v":""},{"$f":"+IFERROR((VLOOKUP('BASE DE RESPUESTAS'!AG10,Back!$M$16:$N$20,2,0)),\"\")","v":""},{"$f":"+IFERROR((VLOOKUP('BASE DE RESPUESTAS'!AH10,Back!$M$16:$N$20,2,0)),\"\")","v":""},{"$f":"+IFERROR((VLOOKUP('BASE DE RESPUESTAS'!AI10,Back!$M$16:$N$20,2,0)),\"\")","v":""},{"$f":"+IFERROR((VLOOKUP('BASE DE RESPUESTAS'!AJ10,Back!$M$16:$N$20,2,0)),\"\")","v":""},{"$f":"+IFERROR((VLOOKUP('BASE DE RESPUESTAS'!AK10,Back!$M$16:$N$20,2,0)),\"\")","v":""},{"$f":"+IFERROR((VLOOKUP('BASE DE RESPUESTAS'!AL10,Back!$M$16:$N$20,2,0)),\"\")","v":""},{"$f":"+IFERROR((VLOOKUP('BASE DE RESPUESTAS'!AM10,Back!$M$16:$N$20,2,0)),\"\")","v":""},{"$f":"+IFERROR((VLOOKUP('BASE DE RESPUESTAS'!AN10,Back!$M$16:$N$20,2,0)),\"\")","v":""},{"$f":"+IFERROR((VLOOKUP('BASE DE RESPUESTAS'!AO10,Back!$M$16:$N$20,2,0)),\"\")","v":""},{"$f":"+IFERROR((VLOOKUP('BASE DE RESPUESTAS'!AP10,Back!$M$16:$N$20,2,0)),\"\")","v":""},{"$f":"+IFERROR((VLOOKUP('BASE DE RESPUESTAS'!AQ10,Back!$M$16:$N$20,2,0)),\"\")","v":""},{"$f":"+IFERROR((VLOOKUP('BASE DE RESPUESTAS'!AR10,Back!$M$16:$N$20,2,0)),\"\")","v":""},{"$f":"+IFERROR((VLOOKUP('BASE DE RESPUESTAS'!AS10,Back!$M$16:$N$20,2,0)),\"\")","v":""},{"$f":"+IFERROR((VLOOKUP('BASE DE RESPUESTAS'!AT10,Back!$M$16:$N$20,2,0)),\"\")","v":""},{"$f":"+IFERROR((VLOOKUP('BASE DE RESPUESTAS'!AU10,Back!$M$16:$N$20,2,0)),\"\")","v":""},{"$f":"+IFERROR((VLOOKUP('BASE DE RESPUESTAS'!AV10,Back!$M$16:$N$20,2,0)),\"\")","v":""},{"$f":"+IFERROR((VLOOKUP('BASE DE RESPUESTAS'!AW10,Back!$M$16:$N$20,2,0)),\"\")","v":""},{"$f":"+IFERROR((VLOOKUP('BASE DE RESPUESTAS'!AX10,Back!$M$16:$N$20,2,0)),\"\")","v":""},{"$f":"+IFERROR((VLOOKUP('BASE DE RESPUESTAS'!AY10,Back!$M$16:$N$20,2,0)),\"\")","v":""},{"$f":"+IFERROR((VLOOKUP('BASE DE RESPUESTAS'!AZ10,Back!$M$16:$N$20,2,0)),\"\")","v":""},{"$f":"+IFERROR((VLOOKUP('BASE DE RESPUESTAS'!BA10,Back!$M$16:$N$20,2,0)),\"\")","v":""},{"$f":"+IFERROR((VLOOKUP('BASE DE RESPUESTAS'!BB10,Back!$M$16:$N$20,2,0)),\"\")","v":""},{"$f":"+IFERROR((VLOOKUP('BASE DE RESPUESTAS'!BC10,Back!$M$16:$N$20,2,0)),\"\")","v":""},{"$f":"+IFERROR((VLOOKUP('BASE DE RESPUESTAS'!BD10,Back!$M$16:$N$20,2,0)),\"\")","v":""},{"$f":"+IFERROR((VLOOKUP('BASE DE RESPUESTAS'!BE10,Back!$M$16:$N$20,2,0)),\"\")","v":""}]
[null,"HSE",null,"El o la estudiante puede manifestar las ideas que tiene de sí mismo sin temor, ni vergüenza.",null,"",null,{"$f":"+IFERROR((VLOOKUP('BASE DE RESPUESTAS'!H11,Back!$M$16:$N$20,2,0)),\"\")","v":""},{"$f":"+IFERROR((VLOOKUP('BASE DE RESPUESTAS'!I11,Back!$M$16:$N$20,2,0)),\"\")","v":""},{"$f":"+IFERROR((VLOOKUP('BASE DE RESPUESTAS'!J11,Back!$M$16:$N$20,2,0)),\"\")","v":""},{"$f":"+IFERROR((VLOOKUP('BASE DE RESPUESTAS'!K11,Back!$M$16:$N$20,2,0)),\"\")","v":""},{"$f":"+IFERROR((VLOOKUP('BASE DE RESPUESTAS'!L11,Back!$M$16:$N$20,2,0)),\"\")","v":""},{"$f":"+IFERROR((VLOOKUP('BASE DE RESPUESTAS'!M11,Back!$M$16:$N$20,2,0)),\"\")","v":""},{"$f":"+IFERROR((VLOOKUP('BASE DE RESPUESTAS'!N11,Back!$M$16:$N$20,2,0)),\"\")","v":""},{"$f":"+IFERROR((VLOOKUP('BASE DE RESPUESTAS'!O11,Back!$M$16:$N$20,2,0)),\"\")","v":""},{"$f":"+IFERROR((VLOOKUP('BASE DE RESPUESTAS'!P11,Back!$M$16:$N$20,2,0)),\"\")","v":""},{"$f":"+IFERROR((VLOOKUP('BASE DE RESPUESTAS'!Q11,Back!$M$16:$N$20,2,0)),\"\")","v":""},{"$f":"+IFERROR((VLOOKUP('BASE DE RESPUESTAS'!R11,Back!$M$16:$N$20,2,0)),\"\")","v":""},{"$f":"+IFERROR((VLOOKUP('BASE DE RESPUESTAS'!S11,Back!$M$16:$N$20,2,0)),\"\")","v":""},{"$f":"+IFERROR((VLOOKUP('BASE DE RESPUESTAS'!T11,Back!$M$16:$N$20,2,0)),\"\")","v":""},{"$f":"+IFERROR((VLOOKUP('BASE DE RESPUESTAS'!U11,Back!$M$16:$N$20,2,0)),\"\")","v":""},{"$f":"+IFERROR((VLOOKUP('BASE DE RESPUESTAS'!V11,Back!$M$16:$N$20,2,0)),\"\")","v":""},{"$f":"+IFERROR((VLOOKUP('BASE DE RESPUESTAS'!W11,Back!$M$16:$N$20,2,0)),\"\")","v":""},{"$f":"+IFERROR((VLOOKUP('BASE DE RESPUESTAS'!X11,Back!$M$16:$N$20,2,0)),\"\")","v":""},{"$f":"+IFERROR((VLOOKUP('BASE DE RESPUESTAS'!Y11,Back!$M$16:$N$20,2,0)),\"\")","v":""},{"$f":"+IFERROR((VLOOKUP('BASE DE RESPUESTAS'!Z11,Back!$M$16:$N$20,2,0)),\"\")","v":""},{"$f":"+IFERROR((VLOOKUP('BASE DE RESPUESTAS'!AA11,Back!$M$16:$N$20,2,0)),\"\")","v":""},{"$f":"+IFERROR((VLOOKUP('BASE DE RESPUESTAS'!AB11,Back!$M$16:$N$20,2,0)),\"\")","v":""},{"$f":"+IFERROR((VLOOKUP('BASE DE RESPUESTAS'!AC11,Back!$M$16:$N$20,2,0)),\"\")","v":""},{"$f":"+IFERROR((VLOOKUP('BASE DE RESPUESTAS'!AD11,Back!$M$16:$N$20,2,0)),\"\")","v":""},{"$f":"+IFERROR((VLOOKUP('BASE DE RESPUESTAS'!AE11,Back!$M$16:$N$20,2,0)),\"\")","v":""},{"$f":"+IFERROR((VLOOKUP('BASE DE RESPUESTAS'!AF11,Back!$M$16:$N$20,2,0)),\"\")","v":""},{"$f":"+IFERROR((VLOOKUP('BASE DE RESPUESTAS'!AG11,Back!$M$16:$N$20,2,0)),\"\")","v":""},{"$f":"+IFERROR((VLOOKUP('BASE DE RESPUESTAS'!AH11,Back!$M$16:$N$20,2,0)),\"\")","v":""},{"$f":"+IFERROR((VLOOKUP('BASE DE RESPUESTAS'!AI11,Back!$M$16:$N$20,2,0)),\"\")","v":""},{"$f":"+IFERROR((VLOOKUP('BASE DE RESPUESTAS'!AJ11,Back!$M$16:$N$20,2,0)),\"\")","v":""},{"$f":"+IFERROR((VLOOKUP('BASE DE RESPUESTAS'!AK11,Back!$M$16:$N$20,2,0)),\"\")","v":""},{"$f":"+IFERROR((VLOOKUP('BASE DE RESPUESTAS'!AL11,Back!$M$16:$N$20,2,0)),\"\")","v":""},{"$f":"+IFERROR((VLOOKUP('BASE DE RESPUESTAS'!AM11,Back!$M$16:$N$20,2,0)),\"\")","v":""},{"$f":"+IFERROR((VLOOKUP('BASE DE RESPUESTAS'!AN11,Back!$M$16:$N$20,2,0)),\"\")","v":""},{"$f":"+IFERROR((VLOOKUP('BASE DE RESPUESTAS'!AO11,Back!$M$16:$N$20,2,0)),\"\")","v":""},{"$f":"+IFERROR((VLOOKUP('BASE DE RESPUESTAS'!AP11,Back!$M$16:$N$20,2,0)),\"\")","v":""},{"$f":"+IFERROR((VLOOKUP('BASE DE RESPUESTAS'!AQ11,Back!$M$16:$N$20,2,0)),\"\")","v":""},{"$f":"+IFERROR((VLOOKUP('BASE DE RESPUESTAS'!AR11,Back!$M$16:$N$20,2,0)),\"\")","v":""},{"$f":"+IFERROR((VLOOKUP('BASE DE RESPUESTAS'!AS11,Back!$M$16:$N$20,2,0)),\"\")","v":""},{"$f":"+IFERROR((VLOOKUP('BASE DE RESPUESTAS'!AT11,Back!$M$16:$N$20,2,0)),\"\")","v":""},{"$f":"+IFERROR((VLOOKUP('BASE DE RESPUESTAS'!AU11,Back!$M$16:$N$20,2,0)),\"\")","v":""},{"$f":"+IFERROR((VLOOKUP('BASE DE RESPUESTAS'!AV11,Back!$M$16:$N$20,2,0)),\"\")","v":""},{"$f":"+IFERROR((VLOOKUP('BASE DE RESPUESTAS'!AW11,Back!$M$16:$N$20,2,0)),\"\")","v":""},{"$f":"+IFERROR((VLOOKUP('BASE DE RESPUESTAS'!AX11,Back!$M$16:$N$20,2,0)),\"\")","v":""},{"$f":"+IFERROR((VLOOKUP('BASE DE RESPUESTAS'!AY11,Back!$M$16:$N$20,2,0)),\"\")","v":""},{"$f":"+IFERROR((VLOOKUP('BASE DE RESPUESTAS'!AZ11,Back!$M$16:$N$20,2,0)),\"\")","v":""},{"$f":"+IFERROR((VLOOKUP('BASE DE RESPUESTAS'!BA11,Back!$M$16:$N$20,2,0)),\"\")","v":""},{"$f":"+IFERROR((VLOOKUP('BASE DE RESPUESTAS'!BB11,Back!$M$16:$N$20,2,0)),\"\")","v":""},{"$f":"+IFERROR((VLOOKUP('BASE DE RESPUESTAS'!BC11,Back!$M$16:$N$20,2,0)),\"\")","v":""},{"$f":"+IFERROR((VLOOKUP('BASE DE RESPUESTAS'!BD11,Back!$M$16:$N$20,2,0)),\"\")","v":""},{"$f":"+IFERROR((VLOOKUP('BASE DE RESPUESTAS'!BE11,Back!$M$16:$N$20,2,0)),\"\")","v":""}]
[null,"HSE","Conciencia emocional","El o la estudiante tiene la capacidad de nombrar y diferenciar sus emociones.",null,"",null,{"$f":"+IFERROR((VLOOKUP('BASE DE RESPUESTAS'!H12,Back!$M$16:$N$20,2,0)),\"\")","v":""},{"$f":"+IFERROR((VLOOKUP('BASE DE RESPUESTAS'!I12,Back!$M$16:$N$20,2,0)),\"\")","v":""},{"$f":"+IFERROR((VLOOKUP('BASE DE RESPUESTAS'!J12,Back!$M$16:$N$20,2,0)),\"\")","v":""},{"$f":"+IFERROR((VLOOKUP('BASE DE RESPUESTAS'!K12,Back!$M$16:$N$20,2,0)),\"\")","v":""},{"$f":"+IFERROR((VLOOKUP('BASE DE RESPUESTAS'!L12,Back!$M$16:$N$20,2,0)),\"\")","v":""},{"$f":"+IFERROR((VLOOKUP('BASE DE RESPUESTAS'!M12,Back!$M$16:$N$20,2,0)),\"\")","v":""},{"$f":"+IFERROR((VLOOKUP('BASE DE RESPUESTAS'!N12,Back!$M$16:$N$20,2,0)),\"\")","v":""},{"$f":"+IFERROR((VLOOKUP('BASE DE RESPUESTAS'!O12,Back!$M$16:$N$20,2,0)),\"\")","v":""},{"$f":"+IFERROR((VLOOKUP('BASE DE RESPUESTAS'!P12,Back!$M$16:$N$20,2,0)),\"\")","v":""},{"$f":"+IFERROR((VLOOKUP('BASE DE RESPUESTAS'!Q12,Back!$M$16:$N$20,2,0)),\"\")","v":""},{"$f":"+IFERROR((VLOOKUP('BASE DE RESPUESTAS'!R12,Back!$M$16:$N$20,2,0)),\"\")","v":""},{"$f":"+IFERROR((VLOOKUP('BASE DE RESPUESTAS'!S12,Back!$M$16:$N$20,2,0)),\"\")","v":""},{"$f":"+IFERROR((VLOOKUP('BASE DE RESPUESTAS'!T12,Back!$M$16:$N$20,2,0)),\"\")","v":""},{"$f":"+IFERROR((VLOOKUP('BASE DE RESPUESTAS'!U12,Back!$M$16:$N$20,2,0)),\"\")","v":""},{"$f":"+IFERROR((VLOOKUP('BASE DE RESPUESTAS'!V12,Back!$M$16:$N$20,2,0)),\"\")","v":""},{"$f":"+IFERROR((VLOOKUP('BASE DE RESPUESTAS'!W12,Back!$M$16:$N$20,2,0)),\"\")","v":""},{"$f":"+IFERROR((VLOOKUP('BASE DE RESPUESTAS'!X12,Back!$M$16:$N$20,2,0)),\"\")","v":""},{"$f":"+IFERROR((VLOOKUP('BASE DE RESPUESTAS'!Y12,Back!$M$16:$N$20,2,0)),\"\")","v":""},{"$f":"+IFERROR((VLOOKUP('BASE DE RESPUESTAS'!Z12,Back!$M$16:$N$20,2,0)),\"\")","v":""},{"$f":"+IFERROR((VLOOKUP('BASE DE RESPUESTAS'!AA12,Back!$M$16:$N$20,2,0)),\"\")","v":""},{"$f":"+IFERROR((VLOOKUP('BASE DE RESPUESTAS'!AB12,Back!$M$16:$N$20,2,0)),\"\")","v":""},{"$f":"+IFERROR((VLOOKUP('BASE DE RESPUESTAS'!AC12,Back!$M$16:$N$20,2,0)),\"\")","v":""},{"$f":"+IFERROR((VLOOKUP('BASE DE RESPUESTAS'!AD12,Back!$M$16:$N$20,2,0)),\"\")","v":""},{"$f":"+IFERROR((VLOOKUP('BASE DE RESPUESTAS'!AE12,Back!$M$16:$N$20,2,0)),\"\")","v":""},{"$f":"+IFERROR((VLOOKUP('BASE DE RESPUESTAS'!AF12,Back!$M$16:$N$20,2,0)),\"\")","v":""},{"$f":"+IFERROR((VLOOKUP('BASE DE RESPUESTAS'!AG12,Back!$M$16:$N$20,2,0)),\"\")","v":""},{"$f":"+IFERROR((VLOOKUP('BASE DE RESPUESTAS'!AH12,Back!$M$16:$N$20,2,0)),\"\")","v":""},{"$f":"+IFERROR((VLOOKUP('BASE DE RESPUESTAS'!AI12,Back!$M$16:$N$20,2,0)),\"\")","v":""},{"$f":"+IFERROR((VLOOKUP('BASE DE RESPUESTAS'!AJ12,Back!$M$16:$N$20,2,0)),\"\")","v":""},{"$f":"+IFERROR((VLOOKUP('BASE DE RESPUESTAS'!AK12,Back!$M$16:$N$20,2,0)),\"\")","v":""},{"$f":"+IFERROR((VLOOKUP('BASE DE RESPUESTAS'!AL12,Back!$M$16:$N$20,2,0)),\"\")","v":""},{"$f":"+IFERROR((VLOOKUP('BASE DE RESPUESTAS'!AM12,Back!$M$16:$N$20,2,0)),\"\")","v":""},{"$f":"+IFERROR((VLOOKUP('BASE DE RESPUESTAS'!AN12,Back!$M$16:$N$20,2,0)),\"\")","v":""},{"$f":"+IFERROR((VLOOKUP('BASE DE RESPUESTAS'!AO12,Back!$M$16:$N$20,2,0)),\"\")","v":""},{"$f":"+IFERROR((VLOOKUP('BASE DE RESPUESTAS'!AP12,Back!$M$16:$N$20,2,0)),\"\")","v":""},{"$f":"+IFERROR((VLOOKUP('BASE DE RESPUESTAS'!AQ12,Back!$M$16:$N$20,2,0)),\"\")","v":""},{"$f":"+IFERROR((VLOOKUP('BASE DE RESPUESTAS'!AR12,Back!$M$16:$N$20,2,0)),\"\")","v":""},{"$f":"+IFERROR((VLOOKUP('BASE DE RESPUESTAS'!AS12,Back!$M$16:$N$20,2,0)),\"\")","v":""},{"$f":"+IFERROR((VLOOKUP('BASE DE RESPUESTAS'!AT12,Back!$M$16:$N$20,2,0)),\"\")","v":""},{"$f":"+IFERROR((VLOOKUP('BASE DE RESPUESTAS'!AU12,Back!$M$16:$N$20,2,0)),\"\")","v":""},{"$f":"+IFERROR((VLOOKUP('BASE DE RESPUESTAS'!AV12,Back!$M$16:$N$20,2,0)),\"\")","v":""},{"$f":"+IFERROR((VLOOKUP('BASE DE RESPUESTAS'!AW12,Back!$M$16:$N$20,2,0)),\"\")","v":""},{"$f":"+IFERROR((VLOOKUP('BASE DE RESPUESTAS'!AX12,Back!$M$16:$N$20,2,0)),\"\")","v":""},{"$f":"+IFERROR((VLOOKUP('BASE DE RESPUESTAS'!AY12,Back!$M$16:$N$20,2,0)),\"\")","v":""},{"$f":"+IFERROR((VLOOKUP('BASE DE RESPUESTAS'!AZ12,Back!$M$16:$N$20,2,0)),\"\")","v":""},{"$f":"+IFERROR((VLOOKUP('BASE DE RESPUESTAS'!BA12,Back!$M$16:$N$20,2,0)),\"\")","v":""},{"$f":"+IFERROR((VLOOKUP('BASE DE RESPUESTAS'!BB12,Back!$M$16:$N$20,2,0)),\"\")","v":""},{"$f":"+IFERROR((VLOOKUP('BASE DE RESPUESTAS'!BC12,Back!$M$16:$N$20,2,0)),\"\")","v":""},{"$f":"+IFERROR((VLOOKUP('BASE DE RESPUESTAS'!BD12,Back!$M$16:$N$20,2,0)),\"\")","v":""},{"$f":"+IFERROR((VLOOKUP('BASE DE RESPUESTAS'!BE12,Back!$M$16:$N$20,2,0)),\"\")","v":""}]
[null,"HSE",null,"El o la estudiante puede explicar las causas y las consecuencias de sus emociones.",null,"",null,{"$f":"+IFERROR((VLOOKUP('BASE DE RESPUESTAS'!H13,Back!$M$16:$N$20,2,0)),\"\")","v":""},{"$f":"+IFERROR((VLOOKUP('BASE DE RESPUESTAS'!I13,Back!$M$16:$N$20,2,0)),\"\")","v":""},{"$f":"+IFERROR((VLOOKUP('BASE DE RESPUESTAS'!J13,Back!$M$16:$N$20,2,0)),\"\")","v":""},{"$f":"+IFERROR((VLOOKUP('BASE DE RESPUESTAS'!K13,Back!$M$16:$N$20,2,0)),\"\")","v":""},{"$f":"+IFERROR((VLOOKUP('BASE DE RESPUESTAS'!L13,Back!$M$16:$N$20,2,0)),\"\")","v":""},{"$f":"+IFERROR((VLOOKUP('BASE DE RESPUESTAS'!M13,Back!$M$16:$N$20,2,0)),\"\")","v":""},{"$f":"+IFERROR((VLOOKUP('BASE DE RESPUESTAS'!N13,Back!$M$16:$N$20,2,0)),\"\")","v":""},{"$f":"+IFERROR((VLOOKUP('BASE DE RESPUESTAS'!O13,Back!$M$16:$N$20,2,0)),\"\")","v":""},{"$f":"+IFERROR((VLOOKUP('BASE DE RESPUESTAS'!P13,Back!$M$16:$N$20,2,0)),\"\")","v":""},{"$f":"+IFERROR((VLOOKUP('BASE DE RESPUESTAS'!Q13,Back!$M$16:$N$20,2,0)),\"\")","v":""},{"$f":"+IFERROR((VLOOKUP('BASE DE RESPUESTAS'!R13,Back!$M$16:$N$20,2,0)),\"\")","v":""},{"$f":"+IFERROR((VLOOKUP('BASE DE RESPUESTAS'!S13,Back!$M$16:$N$20,2,0)),\"\")","v":""},{"$f":"+IFERROR((VLOOKUP('BASE DE RESPUESTAS'!T13,Back!$M$16:$N$20,2,0)),\"\")","v":""},{"$f":"+IFERROR((VLOOKUP('BASE DE RESPUESTAS'!U13,Back!$M$16:$N$20,2,0)),\"\")","v":""},{"$f":"+IFERROR((VLOOKUP('BASE DE RESPUESTAS'!V13,Back!$M$16:$N$20,2,0)),\"\")","v":""},{"$f":"+IFERROR((VLOOKUP('BASE DE RESPUESTAS'!W13,Back!$M$16:$N$20,2,0)),\"\")","v":""},{"$f":"+IFERROR((VLOOKUP('BASE DE RESPUESTAS'!X13,Back!$M$16:$N$20,2,0)),\"\")","v":""},{"$f":"+IFERROR((VLOOKUP('BASE DE RESPUESTAS'!Y13,Back!$M$16:$N$20,2,0)),\"\")","v":""},{"$f":"+IFERROR((VLOOKUP('BASE DE RESPUESTAS'!Z13,Back!$M$16:$N$20,2,0)),\"\")","v":""},{"$f":"+IFERROR((VLOOKUP('BASE DE RESPUESTAS'!AA13,Back!$M$16:$N$20,2,0)),\"\")","v":""},{"$f":"+IFERROR((VLOOKUP('BASE DE RESPUESTAS'!AB13,Back!$M$16:$N$20,2,0)),\"\")","v":""},{"$f":"+IFERROR((VLOOKUP('BASE DE RESPUESTAS'!AC13,Back!$M$16:$N$20,2,0)),\"\")","v":""},{"$f":"+IFERROR((VLOOKUP('BASE DE RESPUESTAS'!AD13,Back!$M$16:$N$20,2,0)),\"\")","v":""},{"$f":"+IFERROR((VLOOKUP('BASE DE RESPUESTAS'!AE13,Back!$M$16:$N$20,2,0)),\"\")","v":""},{"$f":"+IFERROR((VLOOKUP('BASE DE RESPUESTAS'!AF13,Back!$M$16:$N$20,2,0)),\"\")","v":""},{"$f":"+IFERROR((VLOOKUP('BASE DE RESPUESTAS'!AG13,Back!$M$16:$N$20,2,0)),\"\")","v":""},{"$f":"+IFERROR((VLOOKUP('BASE DE RESPUESTAS'!AH13,Back!$M$16:$N$20,2,0)),\"\")","v":""},{"$f":"+IFERROR((VLOOKUP('BASE DE RESPUESTAS'!AI13,Back!$M$16:$N$20,2,0)),\"\")","v":""},{"$f":"+IFERROR((VLOOKUP('BASE DE RESPUESTAS'!AJ13,Back!$M$16:$N$20,2,0)),\"\")","v":""},{"$f":"+IFERROR((VLOOKUP('BASE DE RESPUESTAS'!AK13,Back!$M$16:$N$20,2,0)),\"\")","v":""},{"$f":"+IFERROR((VLOOKUP('BASE DE RESPUESTAS'!AL13,Back!$M$16:$N$20,2,0)),\"\")","v":""},{"$f":"+IFERROR((VLOOKUP('BASE DE RESPUESTAS'!AM13,Back!$M$16:$N$20,2,0)),\"\")","v":""},{"$f":"+IFERROR((VLOOKUP('BASE DE RESPUESTAS'!AN13,Back!$M$16:$N$20,2,0)),\"\")","v":""},{"$f":"+IFERROR((VLOOKUP('BASE DE RESPUESTAS'!AO13,Back!$M$16:$N$20,2,0)),\"\")","v":""},{"$f":"+IFERROR((VLOOKUP('BASE DE RESPUESTAS'!AP13,Back!$M$16:$N$20,2,0)),\"\")","v":""},{"$f":"+IFERROR((VLOOKUP('BASE DE RESPUESTAS'!AQ13,Back!$M$16:$N$20,2,0)),\"\")","v":""},{"$f":"+IFERROR((VLOOKUP('BASE DE RESPUESTAS'!AR13,Back!$M$16:$N$20,2,0)),\"\")","v":""},{"$f":"+IFERROR((VLOOKUP('BASE DE RESPUESTAS'!AS13,Back!$M$16:$N$20,2,0)),\"\")","v":""},{"$f":"+IFERROR((VLOOKUP('BASE DE RESPUESTAS'!AT13,Back!$M$16:$N$20,2,0)),\"\")","v":""},{"$f":"+IFERROR((VLOOKUP('BASE DE RESPUESTAS'!AU13,Back!$M$16:$N$20,2,0)),\"\")","v":""},{"$f":"+IFERROR((VLOOKUP('BASE DE RESPUESTAS'!AV13,Back!$M$16:$N$20,2,0)),\"\")","v":""},{"$f":"+IFERROR((VLOOKUP('BASE DE RESPUESTAS'!AW13,Back!$M$16:$N$20,2,0)),\"\")","v":""},{"$f":"+IFERROR((VLOOKUP('BASE DE RESPUESTAS'!AX13,Back!$M$16:$N$20,2,0)),\"\")","v":""},{"$f":"+IFERROR((VLOOKUP('BASE DE RESPUESTAS'!AY13,Back!$M$16:$N$20,2,0)),\"\")","v":""},{"$f":"+IFERROR((VLOOKUP('BASE DE RESPUESTAS'!AZ13,Back!$M$16:$N$20,2,0)),\"\")","v":""},{"$f":"+IFERROR((VLOOKUP('BASE DE RESPUESTAS'!BA13,Back!$M$16:$N$20,2,0)),\"\")","v":""},{"$f":"+IFERROR((VLOOKUP('BASE DE RESPUESTAS'!BB13,Back!$M$16:$N$20,2,0)),\"\")","v":""},{"$f":"+IFERROR((VLOOKUP('BASE DE RESPUESTAS'!BC13,Back!$M$16:$N$20,2,0)),\"\")","v":""},{"$f":"+IFERROR((VLOOKUP('BASE DE RESPUESTAS'!BD13,Back!$M$16:$N$20,2,0)),\"\")","v":""},{"$f":"+IFERROR((VLOOKUP('BASE DE RESPUESTAS'!BE13,Back!$M$16:$N$20,2,0)),\"\")","v":""}]
[null,"HSE",null,"El o la estudiante comprende cómo sus emociones afectan su comportamiento.",null,"",null,{"$f":"+IFERROR((VLOOKUP('BASE DE RESPUESTAS'!H14,Back!$M$16:$N$20,2,0)),\"\")","v":""},{"$f":"+IFERROR((VLOOKUP('BASE DE RESPUESTAS'!I14,Back!$M$16:$N$20,2,0)),\"\")","v":""},{"$f":"+IFERROR((VLOOKUP('BASE DE RESPUESTAS'!J14,Back!$M$16:$N$20,2,0)),\"\")","v":""},{"$f":"+IFERROR((VLOOKUP('BASE DE RESPUESTAS'!K14,Back!$M$16:$N$20,2,0)),\"\")","v":""},{"$f":"+IFERROR((VLOOKUP('BASE DE RESPUESTAS'!L14,Back!$M$16:$N$20,2,0)),\"\")","v":""},{"$f":"+IFERROR((VLOOKUP('BASE DE RESPUESTAS'!M14,Back!$M$16:$N$20,2,0)),\"\")","v":""},{"$f":"+IFERROR((VLOOKUP('BASE DE RESPUESTAS'!N14,Back!$M$16:$N$20,2,0)),\"\")","v":""},{"$f":"+IFERROR((VLOOKUP('BASE DE RESPUESTAS'!O14,Back!$M$16:$N$20,2,0)),\"\")","v":""},{"$f":"+IFERROR((VLOOKUP('BASE DE RESPUESTAS'!P14,Back!$M$16:$N$20,2,0)),\"\")","v":""},{"$f":"+IFERROR((VLOOKUP('BASE DE RESPUESTAS'!Q14,Back!$M$16:$N$20,2,0)),\"\")","v":""},{"$f":"+IFERROR((VLOOKUP('BASE DE RESPUESTAS'!R14,Back!$M$16:$N$20,2,0)),\"\")","v":""},{"$f":"+IFERROR((VLOOKUP('BASE DE RESPUESTAS'!S14,Back!$M$16:$N$20,2,0)),\"\")","v":""},{"$f":"+IFERROR((VLOOKUP('BASE DE RESPUESTAS'!T14,Back!$M$16:$N$20,2,0)),\"\")","v":""},{"$f":"+IFERROR((VLOOKUP('BASE DE RESPUESTAS'!U14,Back!$M$16:$N$20,2,0)),\"\")","v":""},{"$f":"+IFERROR((VLOOKUP('BASE DE RESPUESTAS'!V14,Back!$M$16:$N$20,2,0)),\"\")","v":""},{"$f":"+IFERROR((VLOOKUP('BASE DE RESPUESTAS'!W14,Back!$M$16:$N$20,2,0)),\"\")","v":""},{"$f":"+IFERROR((VLOOKUP('BASE DE RESPUESTAS'!X14,Back!$M$16:$N$20,2,0)),\"\")","v":""},{"$f":"+IFERROR((VLOOKUP('BASE DE RESPUESTAS'!Y14,Back!$M$16:$N$20,2,0)),\"\")","v":""},{"$f":"+IFERROR((VLOOKUP('BASE DE RESPUESTAS'!Z14,Back!$M$16:$N$20,2,0)),\"\")","v":""},{"$f":"+IFERROR((VLOOKUP('BASE DE RESPUESTAS'!AA14,Back!$M$16:$N$20,2,0)),\"\")","v":""},{"$f":"+IFERROR((VLOOKUP('BASE DE RESPUESTAS'!AB14,Back!$M$16:$N$20,2,0)),\"\")","v":""},{"$f":"+IFERROR((VLOOKUP('BASE DE RESPUESTAS'!AC14,Back!$M$16:$N$20,2,0)),\"\")","v":""},{"$f":"+IFERROR((VLOOKUP('BASE DE RESPUESTAS'!AD14,Back!$M$16:$N$20,2,0)),\"\")","v":""},{"$f":"+IFERROR((VLOOKUP('BASE DE RESPUESTAS'!AE14,Back!$M$16:$N$20,2,0)),\"\")","v":""},{"$f":"+IFERROR((VLOOKUP('BASE DE RESPUESTAS'!AF14,Back!$M$16:$N$20,2,0)),\"\")","v":""},{"$f":"+IFERROR((VLOOKUP('BASE DE RESPUESTAS'!AG14,Back!$M$16:$N$20,2,0)),\"\")","v":""},{"$f":"+IFERROR((VLOOKUP('BASE DE RESPUESTAS'!AH14,Back!$M$16:$N$20,2,0)),\"\")","v":""},{"$f":"+IFERROR((VLOOKUP('BASE DE RESPUESTAS'!AI14,Back!$M$16:$N$20,2,0)),\"\")","v":""},{"$f":"+IFERROR((VLOOKUP('BASE DE RESPUESTAS'!AJ14,Back!$M$16:$N$20,2,0)),\"\")","v":""},{"$f":"+IFERROR((VLOOKUP('BASE DE RESPUESTAS'!AK14,Back!$M$16:$N$20,2,0)),\"\")","v":""},{"$f":"+IFERROR((VLOOKUP('BASE DE RESPUESTAS'!AL14,Back!$M$16:$N$20,2,0)),\"\")","v":""},{"$f":"+IFERROR((VLOOKUP('BASE DE RESPUESTAS'!AM14,Back!$M$16:$N$20,2,0)),\"\")","v":""},{"$f":"+IFERROR((VLOOKUP('BASE DE RESPUESTAS'!AN14,Back!$M$16:$N$20,2,0)),\"\")","v":""},{"$f":"+IFERROR((VLOOKUP('BASE DE RESPUESTAS'!AO14,Back!$M$16:$N$20,2,0)),\"\")","v":""},{"$f":"+IFERROR((VLOOKUP('BASE DE RESPUESTAS'!AP14,Back!$M$16:$N$20,2,0)),\"\")","v":""},{"$f":"+IFERROR((VLOOKUP('BASE DE RESPUESTAS'!AQ14,Back!$M$16:$N$20,2,0)),\"\")","v":""},{"$f":"+IFERROR((VLOOKUP('BASE DE RESPUESTAS'!AR14,Back!$M$16:$N$20,2,0)),\"\")","v":""},{"$f":"+IFERROR((VLOOKUP('BASE DE RESPUESTAS'!AS14,Back!$M$16:$N$20,2,0)),\"\")","v":""},{"$f":"+IFERROR((VLOOKUP('BASE DE RESPUESTAS'!AT14,Back!$M$16:$N$20,2,0)),\"\")","v":""},{"$f":"+IFERROR((VLOOKUP('BASE DE RESPUESTAS'!AU14,Back!$M$16:$N$20,2,0)),\"\")","v":""},{"$f":"+IFERROR((VLOOKUP('BASE DE RESPUESTAS'!AV14,Back!$M$16:$N$20,2,0)),\"\")","v":""},{"$f":"+IFERROR((VLOOKUP('BASE DE RESPUESTAS'!AW14,Back!$M$16:$N$20,2,0)),\"\")","v":""},{"$f":"+IFERROR((VLOOKUP('BASE DE RESPUESTAS'!AX14,Back!$M$16:$N$20,2,0)),\"\")","v":""},{"$f":"+IFERROR((VLOOKUP('BASE DE RESPUESTAS'!AY14,Back!$M$16:$N$20,2,0)),\"\")","v":""},{"$f":"+IFERROR((VLOOKUP('BASE DE RESPUESTAS'!AZ14,Back!$M$16:$N$20,2,0)),\"\")","v":""},{"$f":"+IFERROR((VLOOKUP('BASE DE RESPUESTAS'!BA14,Back!$M$16:$N$20,2,0)),\"\")","v":""},{"$f":"+IFERROR((VLOOKUP('BASE DE RESPUESTAS'!BB14,Back!$M$16:$N$20,2,0)),\"\")","v":""},{"$f":"+IFERROR((VLOOKUP('BASE DE RESPUESTAS'!BC14,Back!$M$16:$N$20,2,0)),\"\")","v":""},{"$f":"+IFERROR((VLOOKUP('BASE DE RESPUESTAS'!BD14,Back!$M$16:$N$20,2,0)),\"\")","v":""},{"$f":"+IFERROR((VLOOKUP('BASE DE RESPUESTAS'!BE14,Back!$M$16:$N$20,2,0)),\"\")","v":""}]
[null,"HSE","Autocuidado","El o la estudiante reconoce y pone en práctica hábitos que le permiten tener una adecuada salud física.",null,"",null,{"$f":"+IFERROR((VLOOKUP('BASE DE RESPUESTAS'!H15,Back!$M$16:$N$20,2,0)),\"\")","v":""},{"$f":"+IFERROR((VLOOKUP('BASE DE RESPUESTAS'!I15,Back!$M$16:$N$20,2,0)),\"\")","v":""},{"$f":"+IFERROR((VLOOKUP('BASE DE RESPUESTAS'!J15,Back!$M$16:$N$20,2,0)),\"\")","v":""},{"$f":"+IFERROR((VLOOKUP('BASE DE RESPUESTAS'!K15,Back!$M$16:$N$20,2,0)),\"\")","v":""},{"$f":"+IFERROR((VLOOKUP('BASE DE RESPUESTAS'!L15,Back!$M$16:$N$20,2,0)),\"\")","v":""},{"$f":"+IFERROR((VLOOKUP('BASE DE RESPUESTAS'!M15,Back!$M$16:$N$20,2,0)),\"\")","v":""},{"$f":"+IFERROR((VLOOKUP('BASE DE RESPUESTAS'!N15,Back!$M$16:$N$20,2,0)),\"\")","v":""},{"$f":"+IFERROR((VLOOKUP('BASE DE RESPUESTAS'!O15,Back!$M$16:$N$20,2,0)),\"\")","v":""},{"$f":"+IFERROR((VLOOKUP('BASE DE RESPUESTAS'!P15,Back!$M$16:$N$20,2,0)),\"\")","v":""},{"$f":"+IFERROR((VLOOKUP('BASE DE RESPUESTAS'!Q15,Back!$M$16:$N$20,2,0)),\"\")","v":""},{"$f":"+IFERROR((VLOOKUP('BASE DE RESPUESTAS'!R15,Back!$M$16:$N$20,2,0)),\"\")","v":""},{"$f":"+IFERROR((VLOOKUP('BASE DE RESPUESTAS'!S15,Back!$M$16:$N$20,2,0)),\"\")","v":""},{"$f":"+IFERROR((VLOOKUP('BASE DE RESPUESTAS'!T15,Back!$M$16:$N$20,2,0)),\"\")","v":""},{"$f":"+IFERROR((VLOOKUP('BASE DE RESPUESTAS'!U15,Back!$M$16:$N$20,2,0)),\"\")","v":""},{"$f":"+IFERROR((VLOOKUP('BASE DE RESPUESTAS'!V15,Back!$M$16:$N$20,2,0)),\"\")","v":""},{"$f":"+IFERROR((VLOOKUP('BASE DE RESPUESTAS'!W15,Back!$M$16:$N$20,2,0)),\"\")","v":""},{"$f":"+IFERROR((VLOOKUP('BASE DE RESPUESTAS'!X15,Back!$M$16:$N$20,2,0)),\"\")","v":""},{"$f":"+IFERROR((VLOOKUP('BASE DE RESPUESTAS'!Y15,Back!$M$16:$N$20,2,0)),\"\")","v":""},{"$f":"+IFERROR((VLOOKUP('BASE DE RESPUESTAS'!Z15,Back!$M$16:$N$20,2,0)),\"\")","v":""},{"$f":"+IFERROR((VLOOKUP('BASE DE RESPUESTAS'!AA15,Back!$M$16:$N$20,2,0)),\"\")","v":""},{"$f":"+IFERROR((VLOOKUP('BASE DE RESPUESTAS'!AB15,Back!$M$16:$N$20,2,0)),\"\")","v":""},{"$f":"+IFERROR((VLOOKUP('BASE DE RESPUESTAS'!AC15,Back!$M$16:$N$20,2,0)),\"\")","v":""},{"$f":"+IFERROR((VLOOKUP('BASE DE RESPUESTAS'!AD15,Back!$M$16:$N$20,2,0)),\"\")","v":""},{"$f":"+IFERROR((VLOOKUP('BASE DE RESPUESTAS'!AE15,Back!$M$16:$N$20,2,0)),\"\")","v":""},{"$f":"+IFERROR((VLOOKUP('BASE DE RESPUESTAS'!AF15,Back!$M$16:$N$20,2,0)),\"\")","v":""},{"$f":"+IFERROR((VLOOKUP('BASE DE RESPUESTAS'!AG15,Back!$M$16:$N$20,2,0)),\"\")","v":""},{"$f":"+IFERROR((VLOOKUP('BASE DE RESPUESTAS'!AH15,Back!$M$16:$N$20,2,0)),\"\")","v":""},{"$f":"+IFERROR((VLOOKUP('BASE DE RESPUESTAS'!AI15,Back!$M$16:$N$20,2,0)),\"\")","v":""},{"$f":"+IFERROR((VLOOKUP('BASE DE RESPUESTAS'!AJ15,Back!$M$16:$N$20,2,0)),\"\")","v":""},{"$f":"+IFERROR((VLOOKUP('BASE DE RESPUESTAS'!AK15,Back!$M$16:$N$20,2,0)),\"\")","v":""},{"$f":"+IFERROR((VLOOKUP('BASE DE RESPUESTAS'!AL15,Back!$M$16:$N$20,2,0)),\"\")","v":""},{"$f":"+IFERROR((VLOOKUP('BASE DE RESPUESTAS'!AM15,Back!$M$16:$N$20,2,0)),\"\")","v":""},{"$f":"+IFERROR((VLOOKUP('BASE DE RESPUESTAS'!AN15,Back!$M$16:$N$20,2,0)),\"\")","v":""},{"$f":"+IFERROR((VLOOKUP('BASE DE RESPUESTAS'!AO15,Back!$M$16:$N$20,2,0)),\"\")","v":""},{"$f":"+IFERROR((VLOOKUP('BASE DE RESPUESTAS'!AP15,Back!$M$16:$N$20,2,0)),\"\")","v":""},{"$f":"+IFERROR((VLOOKUP('BASE DE RESPUESTAS'!AQ15,Back!$M$16:$N$20,2,0)),\"\")","v":""},{"$f":"+IFERROR((VLOOKUP('BASE DE RESPUESTAS'!AR15,Back!$M$16:$N$20,2,0)),\"\")","v":""},{"$f":"+IFERROR((VLOOKUP('BASE DE RESPUESTAS'!AS15,Back!$M$16:$N$20,2,0)),\"\")","v":""},{"$f":"+IFERROR((VLOOKUP('BASE DE RESPUESTAS'!AT15,Back!$M$16:$N$20,2,0)),\"\")","v":""},{"$f":"+IFERROR((VLOOKUP('BASE DE RESPUESTAS'!AU15,Back!$M$16:$N$20,2,0)),\"\")","v":""},{"$f":"+IFERROR((VLOOKUP('BASE DE RESPUESTAS'!AV15,Back!$M$16:$N$20,2,0)),\"\")","v":""},{"$f":"+IFERROR((VLOOKUP('BASE DE RESPUESTAS'!AW15,Back!$M$16:$N$20,2,0)),\"\")","v":""},{"$f":"+IFERROR((VLOOKUP('BASE DE RESPUESTAS'!AX15,Back!$M$16:$N$20,2,0)),\"\")","v":""},{"$f":"+IFERROR((VLOOKUP('BASE DE RESPUESTAS'!AY15,Back!$M$16:$N$20,2,0)),\"\")","v":""},{"$f":"+IFERROR((VLOOKUP('BASE DE RESPUESTAS'!AZ15,Back!$M$16:$N$20,2,0)),\"\")","v":""},{"$f":"+IFERROR((VLOOKUP('BASE DE RESPUESTAS'!BA15,Back!$M$16:$N$20,2,0)),\"\")","v":""},{"$f":"+IFERROR((VLOOKUP('BASE DE RESPUESTAS'!BB15,Back!$M$16:$N$20,2,0)),\"\")","v":""},{"$f":"+IFERROR((VLOOKUP('BASE DE RESPUESTAS'!BC15,Back!$M$16:$N$20,2,0)),\"\")","v":""},{"$f":"+IFERROR((VLOOKUP('BASE DE RESPUESTAS'!BD15,Back!$M$16:$N$20,2,0)),\"\")","v":""},{"$f":"+IFERROR((VLOOKUP('BASE DE RESPUESTAS'!BE15,Back!$M$16:$N$20,2,0)),\"\")","v":""}]
[null,"HSE",null,"El o la estudiante realiza acciones para promover su bienestar emocional. Identifica situaciones que pueden afectar su salud emocional.",null,"",null,{"$f":"+IFERROR((AVERAGE(Espejo!H14:H15)),\"\")","v":""},{"$f":"+IFERROR((AVERAGE(Espejo!I14:I15)),\"\")","v":""},{"$f":"+IFERROR((AVERAGE(Espejo!J14:J15)),\"\")","v":""},{"$f":"+IFERROR((AVERAGE(Espejo!K14:K15)),\"\")","v":""},{"$f":"+IFERROR((AVERAGE(Espejo!L14:L15)),\"\")","v":""},{"$f":"+IFERROR((AVERAGE(Espejo!M14:M15)),\"\")","v":""},{"$f":"+IFERROR((AVERAGE(Espejo!N14:N15)),\"\")","v":""},{"$f":"+IFERROR((AVERAGE(Espejo!O14:O15)),\"\")","v":""},{"$f":"+IFERROR((AVERAGE(Espejo!P14:P15)),\"\")","v":""},{"$f":"+IFERROR((AVERAGE(Espejo!Q14:Q15)),\"\")","v":""},{"$f":"+IFERROR((AVERAGE(Espejo!R14:R15)),\"\")","v":""},{"$f":"+IFERROR((AVERAGE(Espejo!S14:S15)),\"\")","v":""},{"$f":"+IFERROR((AVERAGE(Espejo!T14:T15)),\"\")","v":""},{"$f":"+IFERROR((AVERAGE(Espejo!U14:U15)),\"\")","v":""},{"$f":"+IFERROR((AVERAGE(Espejo!V14:V15)),\"\")","v":""},{"$f":"+IFERROR((AVERAGE(Espejo!W14:W15)),\"\")","v":""},{"$f":"+IFERROR((AVERAGE(Espejo!X14:X15)),\"\")","v":""},{"$f":"+IFERROR((AVERAGE(Espejo!Y14:Y15)),\"\")","v":""},{"$f":"+IFERROR((AVERAGE(Espejo!Z14:Z15)),\"\")","v":""},{"$f":"+IFERROR((AVERAGE(Espejo!AA14:AA15)),\"\")","v":""},{"$f":"+IFERROR((AVERAGE(Espejo!AB14:AB15)),\"\")","v":""},{"$f":"+IFERROR((AVERAGE(Espejo!AC14:AC15)),\"\")","v":""},{"$f":"+IFERROR((AVERAGE(Espejo!AD14:AD15)),\"\")","v":""},{"$f":"+IFERROR((AVERAGE(Espejo!AE14:AE15)),\"\")","v":""},{"$f":"+IFERROR((AVERAGE(Espejo!AF14:AF15)),\"\")","v":""},{"$f":"+IFERROR((AVERAGE(Espejo!AG14:AG15)),\"\")","v":""},{"$f":"+IFERROR((AVERAGE(Espejo!AH14:AH15)),\"\")","v":""},{"$f":"+IFERROR((AVERAGE(Espejo!AI14:AI15)),\"\")","v":""},{"$f":"+IFERROR((AVERAGE(Espejo!AJ14:AJ15)),\"\")","v":""},{"$f":"+IFERROR((AVERAGE(Espejo!AK14:AK15)),\"\")","v":""},{"$f":"+IFERROR((AVERAGE(Espejo!AL14:AL15)),\"\")","v":""},{"$f":"+IFERROR((AVERAGE(Espejo!AM14:AM15)),\"\")","v":""},{"$f":"+IFERROR((AVERAGE(Espejo!AN14:AN15)),\"\")","v":""},{"$f":"+IFERROR((AVERAGE(Espejo!AO14:AO15)),\"\")","v":""},{"$f":"+IFERROR((AVERAGE(Espejo!AP14:AP15)),\"\")","v":""},{"$f":"+IFERROR((AVERAGE(Espejo!AQ14:AQ15)),\"\")","v":""},{"$f":"+IFERROR((AVERAGE(Espejo!AR14:AR15)),\"\")","v":""},{"$f":"+IFERROR((AVERAGE(Espejo!AS14:AS15)),\"\")","v":""},{"$f":"+IFERROR((AVERAGE(Espejo!AT14:AT15)),\"\")","v":""},{"$f":"+IFERROR((AVERAGE(Espejo!AU14:AU15)),\"\")","v":""},{"$f":"+IFERROR((AVERAGE(Espejo!AV14:AV15)),\"\")","v":""},{"$f":"+IFERROR((AVERAGE(Espejo!AW14:AW15)),\"\")","v":""},{"$f":"+IFERROR((AVERAGE(Espejo!AX14:AX15)),\"\")","v":""},{"$f":"+IFERROR((AVERAGE(Espejo!AY14:AY15)),\"\")","v":""},{"$f":"+IFERROR((AVERAGE(Espejo!AZ14:AZ15)),\"\")","v":""},{"$f":"+IFERROR((AVERAGE(Espejo!BA14:BA15)),\"\")","v":""},{"$f":"+IFERROR((AVERAGE(Espejo!BB14:BB15)),\"\")","v":""},{"$f":"+IFERROR((AVERAGE(Espejo!BC14:BC15)),\"\")","v":""},{"$f":"+IFERROR((AVERAGE(Espejo!BD14:BD15)),\"\")","v":""},{"$f":"+IFERROR((AVERAGE(Espejo!BE14:BE15)),\"\")","v":""}]
[null,"HSE","Regulación emocional","El o la estudiante reconoce que sus pensamientos cambian de acuerdo a sus emociones.",null,"",null,{"$f":"+IFERROR((VLOOKUP('BASE DE RESPUESTAS'!H18,Back!$M$16:$N$20,2,0)),\"\")","v":""},{"$f":"+IFERROR((VLOOKUP('BASE DE RESPUESTAS'!I18,Back!$M$16:$N$20,2,0)),\"\")","v":""},{"$f":"+IFERROR((VLOOKUP('BASE DE RESPUESTAS'!J18,Back!$M$16:$N$20,2,0)),\"\")","v":""},{"$f":"+IFERROR((VLOOKUP('BASE DE RESPUESTAS'!K18,Back!$M$16:$N$20,2,0)),\"\")","v":""},{"$f":"+IFERROR((VLOOKUP('BASE DE RESPUESTAS'!L18,Back!$M$16:$N$20,2,0)),\"\")","v":""},{"$f":"+IFERROR((VLOOKUP('BASE DE RESPUESTAS'!M18,Back!$M$16:$N$20,2,0)),\"\")","v":""},{"$f":"+IFERROR((VLOOKUP('BASE DE RESPUESTAS'!N18,Back!$M$16:$N$20,2,0)),\"\")","v":""},{"$f":"+IFERROR((VLOOKUP('BASE DE RESPUESTAS'!O18,Back!$M$16:$N$20,2,0)),\"\")","v":""},{"$f":"+IFERROR((VLOOKUP('BASE DE RESPUESTAS'!P18,Back!$M$16:$N$20,2,0)),\"\")","v":""},{"$f":"+IFERROR((VLOOKUP('BASE DE RESPUESTAS'!Q18,Back!$M$16:$N$20,2,0)),\"\")","v":""},{"$f":"+IFERROR((VLOOKUP('BASE DE RESPUESTAS'!R18,Back!$M$16:$N$20,2,0)),\"\")","v":""},{"$f":"+IFERROR((VLOOKUP('BASE DE RESPUESTAS'!S18,Back!$M$16:$N$20,2,0)),\"\")","v":""},{"$f":"+IFERROR((VLOOKUP('BASE DE RESPUESTAS'!T18,Back!$M$16:$N$20,2,0)),\"\")","v":""},{"$f":"+IFERROR((VLOOKUP('BASE DE RESPUESTAS'!U18,Back!$M$16:$N$20,2,0)),\"\")","v":""},{"$f":"+IFERROR((VLOOKUP('BASE DE RESPUESTAS'!V18,Back!$M$16:$N$20,2,0)),\"\")","v":""},{"$f":"+IFERROR((VLOOKUP('BASE DE RESPUESTAS'!W18,Back!$M$16:$N$20,2,0)),\"\")","v":""},{"$f":"+IFERROR((VLOOKUP('BASE DE RESPUESTAS'!X18,Back!$M$16:$N$20,2,0)),\"\")","v":""},{"$f":"+IFERROR((VLOOKUP('BASE DE RESPUESTAS'!Y18,Back!$M$16:$N$20,2,0)),\"\")","v":""},{"$f":"+IFERROR((VLOOKUP('BASE DE RESPUESTAS'!Z18,Back!$M$16:$N$20,2,0)),\"\")","v":""},{"$f":"+IFERROR((VLOOKUP('BASE DE RESPUESTAS'!AA18,Back!$M$16:$N$20,2,0)),\"\")","v":""},{"$f":"+IFERROR((VLOOKUP('BASE DE RESPUESTAS'!AB18,Back!$M$16:$N$20,2,0)),\"\")","v":""},{"$f":"+IFERROR((VLOOKUP('BASE DE RESPUESTAS'!AC18,Back!$M$16:$N$20,2,0)),\"\")","v":""},{"$f":"+IFERROR((VLOOKUP('BASE DE RESPUESTAS'!AD18,Back!$M$16:$N$20,2,0)),\"\")","v":""},{"$f":"+IFERROR((VLOOKUP('BASE DE RESPUESTAS'!AE18,Back!$M$16:$N$20,2,0)),\"\")","v":""},{"$f":"+IFERROR((VLOOKUP('BASE DE RESPUESTAS'!AF18,Back!$M$16:$N$20,2,0)),\"\")","v":""},{"$f":"+IFERROR((VLOOKUP('BASE DE RESPUESTAS'!AG18,Back!$M$16:$N$20,2,0)),\"\")","v":""},{"$f":"+IFERROR((VLOOKUP('BASE DE RESPUESTAS'!AH18,Back!$M$16:$N$20,2,0)),\"\")","v":""},{"$f":"+IFERROR((VLOOKUP('BASE DE RESPUESTAS'!AI18,Back!$M$16:$N$20,2,0)),\"\")","v":""},{"$f":"+IFERROR((VLOOKUP('BASE DE RESPUESTAS'!AJ18,Back!$M$16:$N$20,2,0)),\"\")","v":""},{"$f":"+IFERROR((VLOOKUP('BASE DE RESPUESTAS'!AK18,Back!$M$16:$N$20,2,0)),\"\")","v":""},{"$f":"+IFERROR((VLOOKUP('BASE DE RESPUESTAS'!AL18,Back!$M$16:$N$20,2,0)),\"\")","v":""},{"$f":"+IFERROR((VLOOKUP('BASE DE RESPUESTAS'!AM18,Back!$M$16:$N$20,2,0)),\"\")","v":""},{"$f":"+IFERROR((VLOOKUP('BASE DE RESPUESTAS'!AN18,Back!$M$16:$N$20,2,0)),\"\")","v":""},{"$f":"+IFERROR((VLOOKUP('BASE DE RESPUESTAS'!AO18,Back!$M$16:$N$20,2,0)),\"\")","v":""},{"$f":"+IFERROR((VLOOKUP('BASE DE RESPUESTAS'!AP18,Back!$M$16:$N$20,2,0)),\"\")","v":""},{"$f":"+IFERROR((VLOOKUP('BASE DE RESPUESTAS'!AQ18,Back!$M$16:$N$20,2,0)),\"\")","v":""},{"$f":"+IFERROR((VLOOKUP('BASE DE RESPUESTAS'!AR18,Back!$M$16:$N$20,2,0)),\"\")","v":""},{"$f":"+IFERROR((VLOOKUP('BASE DE RESPUESTAS'!AS18,Back!$M$16:$N$20,2,0)),\"\")","v":""},{"$f":"+IFERROR((VLOOKUP('BASE DE RESPUESTAS'!AT18,Back!$M$16:$N$20,2,0)),\"\")","v":""},{"$f":"+IFERROR((VLOOKUP('BASE DE RESPUESTAS'!AU18,Back!$M$16:$N$20,2,0)),\"\")","v":""},{"$f":"+IFERROR((VLOOKUP('BASE DE RESPUESTAS'!AV18,Back!$M$16:$N$20,2,0)),\"\")","v":""},{"$f":"+IFERROR((VLOOKUP('BASE DE RESPUESTAS'!AW18,Back!$M$16:$N$20,2,0)),\"\")","v":""},{"$f":"+IFERROR((VLOOKUP('BASE DE RESPUESTAS'!AX18,Back!$M$16:$N$20,2,0)),\"\")","v":""},{"$f":"+IFERROR((VLOOKUP('BASE DE RESPUESTAS'!AY18,Back!$M$16:$N$20,2,0)),\"\")","v":""},{"$f":"+IFERROR((VLOOKUP('BASE DE RESPUESTAS'!AZ18,Back!$M$16:$N$20,2,0)),\"\")","v":""},{"$f":"+IFERROR((VLOOKUP('BASE DE RESPUESTAS'!BA18,Back!$M$16:$N$20,2,0)),\"\")","v":""},{"$f":"+IFERROR((VLOOKUP('BASE DE RESPUESTAS'!BB18,Back!$M$16:$N$20,2,0)),\"\")","v":""},{"$f":"+IFERROR((VLOOKUP('BASE DE RESPUESTAS'!BC18,Back!$M$16:$N$20,2,0)),\"\")","v":""},{"$f":"+IFERROR((VLOOKUP('BASE DE RESPUESTAS'!BD18,Back!$M$16:$N$20,2,0)),\"\")","v":""},{"$f":"+IFERROR((VLOOKUP('BASE DE RESPUESTAS'!BE18,Back!$M$16:$N$20,2,0)),\"\")","v":""}]
[null,"HSE",null,"El o la estudiante expresa sus emociones de forma apropiada.",null,"",null,{"$f":"+IFERROR((VLOOKUP('BASE DE RESPUESTAS'!H19,Back!$M$16:$N$20,2,0)),\"\")","v":""},{"$f":"+IFERROR((VLOOKUP('BASE DE RESPUESTAS'!I19,Back!$M$16:$N$20,2,0)),\"\")","v":""},{"$f":"+IFERROR((VLOOKUP('BASE DE RESPUESTAS'!J19,Back!$M$16:$N$20,2,0)),\"\")","v":""},{"$f":"+IFERROR((VLOOKUP('BASE DE RESPUESTAS'!K19,Back!$M$16:$N$20,2,0)),\"\")","v":""},{"$f":"+IFERROR((VLOOKUP('BASE DE RESPUESTAS'!L19,Back!$M$16:$N$20,2,0)),\"\")","v":""},{"$f":"+IFERROR((VLOOKUP('BASE DE RESPUESTAS'!M19,Back!$M$16:$N$20,2,0)),\"\")","v":""},{"$f":"+IFERROR((VLOOKUP('BASE DE RESPUESTAS'!N19,Back!$M$16:$N$20,2,0)),\"\")","v":""},{"$f":"+IFERROR((VLOOKUP('BASE DE RESPUESTAS'!O19,Back!$M$16:$N$20,2,0)),\"\")","v":""},{"$f":"+IFERROR((VLOOKUP('BASE DE RESPUESTAS'!P19,Back!$M$16:$N$20,2,0)),\"\")","v":""},{"$f":"+IFERROR((VLOOKUP('BASE DE RESPUESTAS'!Q19,Back!$M$16:$N$20,2,0)),\"\")","v":""},{"$f":"+IFERROR((VLOOKUP('BASE DE RESPUESTAS'!R19,Back!$M$16:$N$20,2,0)),\"\")","v":""},{"$f":"+IFERROR((VLOOKUP('BASE DE RESPUESTAS'!S19,Back!$M$16:$N$20,2,0)),\"\")","v":""},{"$f":"+IFERROR((VLOOKUP('BASE DE RESPUESTAS'!T19,Back!$M$16:$N$20,2,0)),\"\")","v":""},{"$f":"+IFERROR((VLOOKUP('BASE DE RESPUESTAS'!U19,Back!$M$16:$N$20,2,0)),\"\")","v":""},{"$f":"+IFERROR((VLOOKUP('BASE DE RESPUESTAS'!V19,Back!$M$16:$N$20,2,0)),\"\")","v":""},{"$f":"+IFERROR((VLOOKUP('BASE DE RESPUESTAS'!W19,Back!$M$16:$N$20,2,0)),\"\")","v":""},{"$f":"+IFERROR((VLOOKUP('BASE DE RESPUESTAS'!X19,Back!$M$16:$N$20,2,0)),\"\")","v":""},{"$f":"+IFERROR((VLOOKUP('BASE DE RESPUESTAS'!Y19,Back!$M$16:$N$20,2,0)),\"\")","v":""},{"$f":"+IFERROR((VLOOKUP('BASE DE RESPUESTAS'!Z19,Back!$M$16:$N$20,2,0)),\"\")","v":""},{"$f":"+IFERROR((VLOOKUP('BASE DE RESPUESTAS'!AA19,Back!$M$16:$N$20,2,0)),\"\")","v":""},{"$f":"+IFERROR((VLOOKUP('BASE DE RESPUESTAS'!AB19,Back!$M$16:$N$20,2,0)),\"\")","v":""},{"$f":"+IFERROR((VLOOKUP('BASE DE RESPUESTAS'!AC19,Back!$M$16:$N$20,2,0)),\"\")","v":""},{"$f":"+IFERROR((VLOOKUP('BASE DE RESPUESTAS'!AD19,Back!$M$16:$N$20,2,0)),\"\")","v":""},{"$f":"+IFERROR((VLOOKUP('BASE DE RESPUESTAS'!AE19,Back!$M$16:$N$20,2,0)),\"\")","v":""},{"$f":"+IFERROR((VLOOKUP('BASE DE RESPUESTAS'!AF19,Back!$M$16:$N$20,2,0)),\"\")","v":""},{"$f":"+IFERROR((VLOOKUP('BASE DE RESPUESTAS'!AG19,Back!$M$16:$N$20,2,0)),\"\")","v":""},{"$f":"+IFERROR((VLOOKUP('BASE DE RESPUESTAS'!AH19,Back!$M$16:$N$20,2,0)),\"\")","v":""},{"$f":"+IFERROR((VLOOKUP('BASE DE RESPUESTAS'!AI19,Back!$M$16:$N$20,2,0)),\"\")","v":""},{"$f":"+IFERROR((VLOOKUP('BASE DE RESPUESTAS'!AJ19,Back!$M$16:$N$20,2,0)),\"\")","v":""},{"$f":"+IFERROR((VLOOKUP('BASE DE RESPUESTAS'!AK19,Back!$M$16:$N$20,2,0)),\"\")","v":""},{"$f":"+IFERROR((VLOOKUP('BASE DE RESPUESTAS'!AL19,Back!$M$16:$N$20,2,0)),\"\")","v":""},{"$f":"+IFERROR((VLOOKUP('BASE DE RESPUESTAS'!AM19,Back!$M$16:$N$20,2,0)),\"\")","v":""},{"$f":"+IFERROR((VLOOKUP('BASE DE RESPUESTAS'!AN19,Back!$M$16:$N$20,2,0)),\"\")","v":""},{"$f":"+IFERROR((VLOOKUP('BASE DE RESPUESTAS'!AO19,Back!$M$16:$N$20,2,0)),\"\")","v":""},{"$f":"+IFERROR((VLOOKUP('BASE DE RESPUESTAS'!AP19,Back!$M$16:$N$20,2,0)),\"\")","v":""},{"$f":"+IFERROR((VLOOKUP('BASE DE RESPUESTAS'!AQ19,Back!$M$16:$N$20,2,0)),\"\")","v":""},{"$f":"+IFERROR((VLOOKUP('BASE DE RESPUESTAS'!AR19,Back!$M$16:$N$20,2,0)),\"\")","v":""},{"$f":"+IFERROR((VLOOKUP('BASE DE RESPUESTAS'!AS19,Back!$M$16:$N$20,2,0)),\"\")","v":""},{"$f":"+IFERROR((VLOOKUP('BASE DE RESPUESTAS'!AT19,Back!$M$16:$N$20,2,0)),\"\")","v":""},{"$f":"+IFERROR((VLOOKUP('BASE DE RESPUESTAS'!AU19,Back!$M$16:$N$20,2,0)),\"\")","v":""},{"$f":"+IFERROR((VLOOKUP('BASE DE RESPUESTAS'!AV19,Back!$M$16:$N$20,2,0)),\"\")","v":""},{"$f":"+IFERROR((VLOOKUP('BASE DE RESPUESTAS'!AW19,Back!$M$16:$N$20,2,0)),\"\")","v":""},{"$f":"+IFERROR((VLOOKUP('BASE DE RESPUESTAS'!AX19,Back!$M$16:$N$20,2,0)),\"\")","v":""},{"$f":"+IFERROR((VLOOKUP('BASE DE RESPUESTAS'!AY19,Back!$M$16:$N$20,2,0)),\"\")","v":""},{"$f":"+IFERROR((VLOOKUP('BASE DE RESPUESTAS'!AZ19,Back!$M$16:$N$20,2,0)),\"\")","v":""},{"$f":"+IFERROR((VLOOKUP('BASE DE RESPUESTAS'!BA19,Back!$M$16:$N$20,2,0)),\"\")","v":""},{"$f":"+IFERROR((VLOOKUP('BASE DE RESPUESTAS'!BB19,Back!$M$16:$N$20,2,0)),\"\")","v":""},{"$f":"+IFERROR((VLOOKUP('BASE DE RESPUESTAS'!BC19,Back!$M$16:$N$20,2,0)),\"\")","v":""},{"$f":"+IFERROR((VLOOKUP('BASE DE RESPUESTAS'!BD19,Back!$M$16:$N$20,2,0)),\"\")","v":""},{"$f":"+IFERROR((VLOOKUP('BASE DE RESPUESTAS'!BE19,Back!$M$16:$N$20,2,0)),\"\")","v":""}]
[null,"HSE",null,"El o la estudiante sabe cómo regular sus emociones teniendo en cuenta su autocuidado y el impacto en los demás",null,"",null,{"$f":"+IFERROR((VLOOKUP('BASE DE RESPUESTAS'!H20,Back!$M$16:$N$20,2,0)),\"\")","v":""},{"$f":"+IFERROR((VLOOKUP('BASE DE RESPUESTAS'!I20,Back!$M$16:$N$20,2,0)),\"\")","v":""},{"$f":"+IFERROR((VLOOKUP('BASE DE RESPUESTAS'!J20,Back!$M$16:$N$20,2,0)),\"\")","v":""},{"$f":"+IFERROR((VLOOKUP('BASE DE RESPUESTAS'!K20,Back!$M$16:$N$20,2,0)),\"\")","v":""},{"$f":"+IFERROR((VLOOKUP('BASE DE RESPUESTAS'!L20,Back!$M$16:$N$20,2,0)),\"\")","v":""},{"$f":"+IFERROR((VLOOKUP('BASE DE RESPUESTAS'!M20,Back!$M$16:$N$20,2,0)),\"\")","v":""},{"$f":"+IFERROR((VLOOKUP('BASE DE RESPUESTAS'!N20,Back!$M$16:$N$20,2,0)),\"\")","v":""},{"$f":"+IFERROR((VLOOKUP('BASE DE RESPUESTAS'!O20,Back!$M$16:$N$20,2,0)),\"\")","v":""},{"$f":"+IFERROR((VLOOKUP('BASE DE RESPUESTAS'!P20,Back!$M$16:$N$20,2,0)),\"\")","v":""},{"$f":"+IFERROR((VLOOKUP('BASE DE RESPUESTAS'!Q20,Back!$M$16:$N$20,2,0)),\"\")","v":""},{"$f":"+IFERROR((VLOOKUP('BASE DE RESPUESTAS'!R20,Back!$M$16:$N$20,2,0)),\"\")","v":""},{"$f":"+IFERROR((VLOOKUP('BASE DE RESPUESTAS'!S20,Back!$M$16:$N$20,2,0)),\"\")","v":""},{"$f":"+IFERROR((VLOOKUP('BASE DE RESPUESTAS'!T20,Back!$M$16:$N$20,2,0)),\"\")","v":""},{"$f":"+IFERROR((VLOOKUP('BASE DE RESPUESTAS'!U20,Back!$M$16:$N$20,2,0)),\"\")","v":""},{"$f":"+IFERROR((VLOOKUP('BASE DE RESPUESTAS'!V20,Back!$M$16:$N$20,2,0)),\"\")","v":""},{"$f":"+IFERROR((VLOOKUP('BASE DE RESPUESTAS'!W20,Back!$M$16:$N$20,2,0)),\"\")","v":""},{"$f":"+IFERROR((VLOOKUP('BASE DE RESPUESTAS'!X20,Back!$M$16:$N$20,2,0)),\"\")","v":""},{"$f":"+IFERROR((VLOOKUP('BASE DE RESPUESTAS'!Y20,Back!$M$16:$N$20,2,0)),\"\")","v":""},{"$f":"+IFERROR((VLOOKUP('BASE DE RESPUESTAS'!Z20,Back!$M$16:$N$20,2,0)),\"\")","v":""},{"$f":"+IFERROR((VLOOKUP('BASE DE RESPUESTAS'!AA20,Back!$M$16:$N$20,2,0)),\"\")","v":""},{"$f":"+IFERROR((VLOOKUP('BASE DE RESPUESTAS'!AB20,Back!$M$16:$N$20,2,0)),\"\")","v":""},{"$f":"+IFERROR((VLOOKUP('BASE DE RESPUESTAS'!AC20,Back!$M$16:$N$20,2,0)),\"\")","v":""},{"$f":"+IFERROR((VLOOKUP('BASE DE RESPUESTAS'!AD20,Back!$M$16:$N$20,2,0)),\"\")","v":""},{"$f":"+IFERROR((VLOOKUP('BASE DE RESPUESTAS'!AE20,Back!$M$16:$N$20,2,0)),\"\")","v":""},{"$f":"+IFERROR((VLOOKUP('BASE DE RESPUESTAS'!AF20,Back!$M$16:$N$20,2,0)),\"\")","v":""},{"$f":"+IFERROR((VLOOKUP('BASE DE RESPUESTAS'!AG20,Back!$M$16:$N$20,2,0)),\"\")","v":""},{"$f":"+IFERROR((VLOOKUP('BASE DE RESPUESTAS'!AH20,Back!$M$16:$N$20,2,0)),\"\")","v":""},{"$f":"+IFERROR((VLOOKUP('BASE DE RESPUESTAS'!AI20,Back!$M$16:$N$20,2,0)),\"\")","v":""},{"$f":"+IFERROR((VLOOKUP('BASE DE RESPUESTAS'!AJ20,Back!$M$16:$N$20,2,0)),\"\")","v":""},{"$f":"+IFERROR((VLOOKUP('BASE DE RESPUESTAS'!AK20,Back!$M$16:$N$20,2,0)),\"\")","v":""},{"$f":"+IFERROR((VLOOKUP('BASE DE RESPUESTAS'!AL20,Back!$M$16:$N$20,2,0)),\"\")","v":""},{"$f":"+IFERROR((VLOOKUP('BASE DE RESPUESTAS'!AM20,Back!$M$16:$N$20,2,0)),\"\")","v":""},{"$f":"+IFERROR((VLOOKUP('BASE DE RESPUESTAS'!AN20,Back!$M$16:$N$20,2,0)),\"\")","v":""},{"$f":"+IFERROR((VLOOKUP('BASE DE RESPUESTAS'!AO20,Back!$M$16:$N$20,2,0)),\"\")","v":""},{"$f":"+IFERROR((VLOOKUP('BASE DE RESPUESTAS'!AP20,Back!$M$16:$N$20,2,0)),\"\")","v":""},{"$f":"+IFERROR((VLOOKUP('BASE DE RESPUESTAS'!AQ20,Back!$M$16:$N$20,2,0)),\"\")","v":""},{"$f":"+IFERROR((VLOOKUP('BASE DE RESPUESTAS'!AR20,Back!$M$16:$N$20,2,0)),\"\")","v":""},{"$f":"+IFERROR((VLOOKUP('BASE DE RESPUESTAS'!AS20,Back!$M$16:$N$20,2,0)),\"\")","v":""},{"$f":"+IFERROR((VLOOKUP('BASE DE RESPUESTAS'!AT20,Back!$M$16:$N$20,2,0)),\"\")","v":""},{"$f":"+IFERROR((VLOOKUP('BASE DE RESPUESTAS'!AU20,Back!$M$16:$N$20,2,0)),\"\")","v":""},{"$f":"+IFERROR((VLOOKUP('BASE DE RESPUESTAS'!AV20,Back!$M$16:$N$20,2,0)),\"\")","v":""},{"$f":"+IFERROR((VLOOKUP('BASE DE RESPUESTAS'!AW20,Back!$M$16:$N$20,2,0)),\"\")","v":""},{"$f":"+IFERROR((VLOOKUP('BASE DE RESPUESTAS'!AX20,Back!$M$16:$N$20,2,0)),\"\")","v":""},{"$f":"+IFERROR((VLOOKUP('BASE DE RESPUESTAS'!AY20,Back!$M$16:$N$20,2,0)),\"\")","v":""},{"$f":"+IFERROR((VLOOKUP('BASE DE RESPUESTAS'!AZ20,Back!$M$16:$N$20,2,0)),\"\")","v":""},{"$f":"+IFERROR((VLOOKUP('BASE DE RESPUESTAS'!BA20,Back!$M$16:$N$20,2,0)),\"\")","v":""},{"$f":"+IFERROR((VLOOKUP('BASE DE RESPUESTAS'!BB20,Back!$M$16:$N$20,2,0)),\"\")","v":""},{"$f":"+IFERROR((VLOOKUP('BASE DE RESPUESTAS'!BC20,Back!$M$16:$N$20,2,0)),\"\")","v":""},{"$f":"+IFERROR((VLOOKUP('BASE DE RESPUESTAS'!BD20,Back!$M$16:$N$20,2,0)),\"\")","v":""},{"$f":"+IFERROR((VLOOKUP('BASE DE RESPUESTAS'!BE20,Back!$M$16:$N$20,2,0)),\"\")","v":""}]
[null,"HSE","Creatividad","El o la estudiante es capaz de producir algo nuevo o generar proyectos novedosos",null,"",null,{"$f":"+IFERROR((VLOOKUP('BASE DE RESPUESTAS'!H21,Back!$M$16:$N$20,2,0)),\"\")","v":""},{"$f":"+IFERROR((VLOOKUP('BASE DE RESPUESTAS'!I21,Back!$M$16:$N$20,2,0)),\"\")","v":""},{"$f":"+IFERROR((VLOOKUP('BASE DE RESPUESTAS'!J21,Back!$M$16:$N$20,2,0)),\"\")","v":""},{"$f":"+IFERROR((VLOOKUP('BASE DE RESPUESTAS'!K21,Back!$M$16:$N$20,2,0)),\"\")","v":""},{"$f":"+IFERROR((VLOOKUP('BASE DE RESPUESTAS'!L21,Back!$M$16:$N$20,2,0)),\"\")","v":""},{"$f":"+IFERROR((VLOOKUP('BASE DE RESPUESTAS'!M21,Back!$M$16:$N$20,2,0)),\"\")","v":""},{"$f":"+IFERROR((VLOOKUP('BASE DE RESPUESTAS'!N21,Back!$M$16:$N$20,2,0)),\"\")","v":""},{"$f":"+IFERROR((VLOOKUP('BASE DE RESPUESTAS'!O21,Back!$M$16:$N$20,2,0)),\"\")","v":""},{"$f":"+IFERROR((VLOOKUP('BASE DE RESPUESTAS'!P21,Back!$M$16:$N$20,2,0)),\"\")","v":""},{"$f":"+IFERROR((VLOOKUP('BASE DE RESPUESTAS'!Q21,Back!$M$16:$N$20,2,0)),\"\")","v":""},{"$f":"+IFERROR((VLOOKUP('BASE DE RESPUESTAS'!R21,Back!$M$16:$N$20,2,0)),\"\")","v":""},{"$f":"+IFERROR((VLOOKUP('BASE DE RESPUESTAS'!S21,Back!$M$16:$N$20,2,0)),\"\")","v":""},{"$f":"+IFERROR((VLOOKUP('BASE DE RESPUESTAS'!T21,Back!$M$16:$N$20,2,0)),\"\")","v":""},{"$f":"+IFERROR((VLOOKUP('BASE DE RESPUESTAS'!U21,Back!$M$16:$N$20,2,0)),\"\")","v":""},{"$f":"+IFERROR((VLOOKUP('BASE DE RESPUESTAS'!V21,Back!$M$16:$N$20,2,0)),\"\")","v":""},{"$f":"+IFERROR((VLOOKUP('BASE DE RESPUESTAS'!W21,Back!$M$16:$N$20,2,0)),\"\")","v":""},{"$f":"+IFERROR((VLOOKUP('BASE DE RESPUESTAS'!X21,Back!$M$16:$N$20,2,0)),\"\")","v":""},{"$f":"+IFERROR((VLOOKUP('BASE DE RESPUESTAS'!Y21,Back!$M$16:$N$20,2,0)),\"\")","v":""},{"$f":"+IFERROR((VLOOKUP('BASE DE RESPUESTAS'!Z21,Back!$M$16:$N$20,2,0)),\"\")","v":""},{"$f":"+IFERROR((VLOOKUP('BASE DE RESPUESTAS'!AA21,Back!$M$16:$N$20,2,0)),\"\")","v":""},{"$f":"+IFERROR((VLOOKUP('BASE DE RESPUESTAS'!AB21,Back!$M$16:$N$20,2,0)),\"\")","v":""},{"$f":"+IFERROR((VLOOKUP('BASE DE RESPUESTAS'!AC21,Back!$M$16:$N$20,2,0)),\"\")","v":""},{"$f":"+IFERROR((VLOOKUP('BASE DE RESPUESTAS'!AD21,Back!$M$16:$N$20,2,0)),\"\")","v":""},{"$f":"+IFERROR((VLOOKUP('BASE DE RESPUESTAS'!AE21,Back!$M$16:$N$20,2,0)),\"\")","v":""},{"$f":"+IFERROR((VLOOKUP('BASE DE RESPUESTAS'!AF21,Back!$M$16:$N$20,2,0)),\"\")","v":""},{"$f":"+IFERROR((VLOOKUP('BASE DE RESPUESTAS'!AG21,Back!$M$16:$N$20,2,0)),\"\")","v":""},{"$f":"+IFERROR((VLOOKUP('BASE DE RESPUESTAS'!AH21,Back!$M$16:$N$20,2,0)),\"\")","v":""},{"$f":"+IFERROR((VLOOKUP('BASE DE RESPUESTAS'!AI21,Back!$M$16:$N$20,2,0)),\"\")","v":""},{"$f":"+IFERROR((VLOOKUP('BASE DE RESPUESTAS'!AJ21,Back!$M$16:$N$20,2,0)),\"\")","v":""},{"$f":"+IFERROR((VLOOKUP('BASE DE RESPUESTAS'!AK21,Back!$M$16:$N$20,2,0)),\"\")","v":""},{"$f":"+IFERROR((VLOOKUP('BASE DE RESPUESTAS'!AL21,Back!$M$16:$N$20,2,0)),\"\")","v":""},{"$f":"+IFERROR((VLOOKUP('BASE DE RESPUESTAS'!AM21,Back!$M$16:$N$20,2,0)),\"\")","v":""},{"$f":"+IFERROR((VLOOKUP('BASE DE RESPUESTAS'!AN21,Back!$M$16:$N$20,2,0)),\"\")","v":""},{"$f":"+IFERROR((VLOOKUP('BASE DE RESPUESTAS'!AO21,Back!$M$16:$N$20,2,0)),\"\")","v":""},{"$f":"+IFERROR((VLOOKUP('BASE DE RESPUESTAS'!AP21,Back!$M$16:$N$20,2,0)),\"\")","v":""},{"$f":"+IFERROR((VLOOKUP('BASE DE RESPUESTAS'!AQ21,Back!$M$16:$N$20,2,0)),\"\")","v":""},{"$f":"+IFERROR((VLOOKUP('BASE DE RESPUESTAS'!AR21,Back!$M$16:$N$20,2,0)),\"\")","v":""},{"$f":"+IFERROR((VLOOKUP('BASE DE RESPUESTAS'!AS21,Back!$M$16:$N$20,2,0)),\"\")","v":""},{"$f":"+IFERROR((VLOOKUP('BASE DE RESPUESTAS'!AT21,Back!$M$16:$N$20,2,0)),\"\")","v":""},{"$f":"+IFERROR((VLOOKUP('BASE DE RESPUESTAS'!AU21,Back!$M$16:$N$20,2,0)),\"\")","v":""},{"$f":"+IFERROR((VLOOKUP('BASE DE RESPUESTAS'!AV21,Back!$M$16:$N$20,2,0)),\"\")","v":""},{"$f":"+IFERROR((VLOOKUP('BASE DE RESPUESTAS'!AW21,Back!$M$16:$N$20,2,0)),\"\")","v":""},{"$f":"+IFERROR((VLOOKUP('BASE DE RESPUESTAS'!AX21,Back!$M$16:$N$20,2,0)),\"\")","v":""},{"$f":"+IFERROR((VLOOKUP('BASE DE RESPUESTAS'!AY21,Back!$M$16:$N$20,2,0)),\"\")","v":""},{"$f":"+IFERROR((VLOOKUP('BASE DE RESPUESTAS'!AZ21,Back!$M$16:$N$20,2,0)),\"\")","v":""},{"$f":"+IFERROR((VLOOKUP('BASE DE RESPUESTAS'!BA21,Back!$M$16:$N$20,2,0)),\"\")","v":""},{"$f":"+IFERROR((VLOOKUP('BASE DE RESPUESTAS'!BB21,Back!$M$16:$N$20,2,0)),\"\")","v":""},{"$f":"+IFERROR((VLOOKUP('BASE DE RESPUESTAS'!BC21,Back!$M$16:$N$20,2,0)),\"\")","v":""},{"$f":"+IFERROR((VLOOKUP('BASE DE RESPUESTAS'!BD21,Back!$M$16:$N$20,2,0)),\"\")","v":""},{"$f":"+IFERROR((VLOOKUP('BASE DE RESPUESTAS'!BE21,Back!$M$16:$N$20,2,0)),\"\")","v":""}]
[null,"HSE",null,"El o la estudiante ante un problema piensa en diferentes posibles soluciones.",null,"",null,{"$f":"+IFERROR((VLOOKUP('BASE DE RESPUESTAS'!H22,Back!$M$16:$N$20,2,0)),\"\")","v":""},{"$f":"+IFERROR((VLOOKUP('BASE DE RESPUESTAS'!I22,Back!$M$16:$N$20,2,0)),\"\")","v":""},{"$f":"+IFERROR((VLOOKUP('BASE DE RESPUESTAS'!J22,Back!$M$16:$N$20,2,0)),\"\")","v":""},{"$f":"+IFERROR((VLOOKUP('BASE DE RESPUESTAS'!K22,Back!$M$16:$N$20,2,0)),\"\")","v":""},{"$f":"+IFERROR((VLOOKUP('BASE DE RESPUESTAS'!L22,Back!$M$16:$N$20,2,0)),\"\")","v":""},{"$f":"+IFERROR((VLOOKUP('BASE DE RESPUESTAS'!M22,Back!$M$16:$N$20,2,0)),\"\")","v":""},{"$f":"+IFERROR((VLOOKUP('BASE DE RESPUESTAS'!N22,Back!$M$16:$N$20,2,0)),\"\")","v":""},{"$f":"+IFERROR((VLOOKUP('BASE DE RESPUESTAS'!O22,Back!$M$16:$N$20,2,0)),\"\")","v":""},{"$f":"+IFERROR((VLOOKUP('BASE DE RESPUESTAS'!P22,Back!$M$16:$N$20,2,0)),\"\")","v":""},{"$f":"+IFERROR((VLOOKUP('BASE DE RESPUESTAS'!Q22,Back!$M$16:$N$20,2,0)),\"\")","v":""},{"$f":"+IFERROR((VLOOKUP('BASE DE RESPUESTAS'!R22,Back!$M$16:$N$20,2,0)),\"\")","v":""},{"$f":"+IFERROR((VLOOKUP('BASE DE RESPUESTAS'!S22,Back!$M$16:$N$20,2,0)),\"\")","v":""},{"$f":"+IFERROR((VLOOKUP('BASE DE RESPUESTAS'!T22,Back!$M$16:$N$20,2,0)),\"\")","v":""},{"$f":"+IFERROR((VLOOKUP('BASE DE RESPUESTAS'!U22,Back!$M$16:$N$20,2,0)),\"\")","v":""},{"$f":"+IFERROR((VLOOKUP('BASE DE RESPUESTAS'!V22,Back!$M$16:$N$20,2,0)),\"\")","v":""},{"$f":"+IFERROR((VLOOKUP('BASE DE RESPUESTAS'!W22,Back!$M$16:$N$20,2,0)),\"\")","v":""},{"$f":"+IFERROR((VLOOKUP('BASE DE RESPUESTAS'!X22,Back!$M$16:$N$20,2,0)),\"\")","v":""},{"$f":"+IFERROR((VLOOKUP('BASE DE RESPUESTAS'!Y22,Back!$M$16:$N$20,2,0)),\"\")","v":""},{"$f":"+IFERROR((VLOOKUP('BASE DE RESPUESTAS'!Z22,Back!$M$16:$N$20,2,0)),\"\")","v":""},{"$f":"+IFERROR((VLOOKUP('BASE DE RESPUESTAS'!AA22,Back!$M$16:$N$20,2,0)),\"\")","v":""},{"$f":"+IFERROR((VLOOKUP('BASE DE RESPUESTAS'!AB22,Back!$M$16:$N$20,2,0)),\"\")","v":""},{"$f":"+IFERROR((VLOOKUP('BASE DE RESPUESTAS'!AC22,Back!$M$16:$N$20,2,0)),\"\")","v":""},{"$f":"+IFERROR((VLOOKUP('BASE DE RESPUESTAS'!AD22,Back!$M$16:$N$20,2,0)),\"\")","v":""},{"$f":"+IFERROR((VLOOKUP('BASE DE RESPUESTAS'!AE22,Back!$M$16:$N$20,2,0)),\"\")","v":""},{"$f":"+IFERROR((VLOOKUP('BASE DE RESPUESTAS'!AF22,Back!$M$16:$N$20,2,0)),\"\")","v":""},{"$f":"+IFERROR((VLOOKUP('BASE DE RESPUESTAS'!AG22,Back!$M$16:$N$20,2,0)),\"\")","v":""},{"$f":"+IFERROR((VLOOKUP('BASE DE RESPUESTAS'!AH22,Back!$M$16:$N$20,2,0)),\"\")","v":""},{"$f":"+IFERROR((VLOOKUP('BASE DE RESPUESTAS'!AI22,Back!$M$16:$N$20,2,0)),\"\")","v":""},{"$f":"+IFERROR((VLOOKUP('BASE DE RESPUESTAS'!AJ22,Back!$M$16:$N$20,2,0)),\"\")","v":""},{"$f":"+IFERROR((VLOOKUP('BASE DE RESPUESTAS'!AK22,Back!$M$16:$N$20,2,0)),\"\")","v":""},{"$f":"+IFERROR((VLOOKUP('BASE DE RESPUESTAS'!AL22,Back!$M$16:$N$20,2,0)),\"\")","v":""},{"$f":"+IFERROR((VLOOKUP('BASE DE RESPUESTAS'!AM22,Back!$M$16:$N$20,2,0)),\"\")","v":""},{"$f":"+IFERROR((VLOOKUP('BASE DE RESPUESTAS'!AN22,Back!$M$16:$N$20,2,0)),\"\")","v":""},{"$f":"+IFERROR((VLOOKUP('BASE DE RESPUESTAS'!AO22,Back!$M$16:$N$20,2,0)),\"\")","v":""},{"$f":"+IFERROR((VLOOKUP('BASE DE RESPUESTAS'!AP22,Back!$M$16:$N$20,2,0)),\"\")","v":""},{"$f":"+IFERROR((VLOOKUP('BASE DE RESPUESTAS'!AQ22,Back!$M$16:$N$20,2,0)),\"\")","v":""},{"$f":"+IFERROR((VLOOKUP('BASE DE RESPUESTAS'!AR22,Back!$M$16:$N$20,2,0)),\"\")","v":""},{"$f":"+IFERROR((VLOOKUP('BASE DE RESPUESTAS'!AS22,Back!$M$16:$N$20,2,0)),\"\")","v":""},{"$f":"+IFERROR((VLOOKUP('BASE DE RESPUESTAS'!AT22,Back!$M$16:$N$20,2,0)),\"\")","v":""},{"$f":"+IFERROR((VLOOKUP('BASE DE RESPUESTAS'!AU22,Back!$M$16:$N$20,2,0)),\"\")","v":""},{"$f":"+IFERROR((VLOOKUP('BASE DE RESPUESTAS'!AV22,Back!$M$16:$N$20,2,0)),\"\")","v":""},{"$f":"+IFERROR((VLOOKUP('BASE DE RESPUESTAS'!AW22,Back!$M$16:$N$20,2,0)),\"\")","v":""},{"$f":"+IFERROR((VLOOKUP('BASE DE RESPUESTAS'!AX22,Back!$M$16:$N$20,2,0)),\"\")","v":""},{"$f":"+IFERROR((VLOOKUP('BASE DE RESPUESTAS'!AY22,Back!$M$16:$N$20,2,0)),\"\")","v":""},{"$f":"+IFERROR((VLOOKUP('BASE DE RESPUESTAS'!AZ22,Back!$M$16:$N$20,2,0)),\"\")","v":""},{"$f":"+IFERROR((VLOOKUP('BASE DE RESPUESTAS'!BA22,Back!$M$16:$N$20,2,0)),\"\")","v":""},{"$f":"+IFERROR((VLOOKUP('BASE DE RESPUESTAS'!BB22,Back!$M$16:$N$20,2,0)),\"\")","v":""},{"$f":"+IFERROR((VLOOKUP('BASE DE RESPUESTAS'!BC22,Back!$M$16:$N$20,2,0)),\"\")","v":""},{"$f":"+IFERROR((VLOOKUP('BASE DE RESPUESTAS'!BD22,Back!$M$16:$N$20,2,0)),\"\")","v":""},{"$f":"+IFERROR((VLOOKUP('BASE DE RESPUESTAS'!BE22,Back!$M$16:$N$20,2,0)),\"\")","v":""}]
[null,"HSE",null,"El o la estudiante toma la iniciativa transformar o mejorar algo que ya existe.",null,"",null,{"$f":"+IFERROR((VLOOKUP('BASE DE RESPUESTAS'!H23,Back!$M$16:$N$20,2,0)),\"\")","v":""},{"$f":"+IFERROR((VLOOKUP('BASE DE RESPUESTAS'!I23,Back!$M$16:$N$20,2,0)),\"\")","v":""},{"$f":"+IFERROR((VLOOKUP('BASE DE RESPUESTAS'!J23,Back!$M$16:$N$20,2,0)),\"\")","v":""},{"$f":"+IFERROR((VLOOKUP('BASE DE RESPUESTAS'!K23,Back!$M$16:$N$20,2,0)),\"\")","v":""},{"$f":"+IFERROR((VLOOKUP('BASE DE RESPUESTAS'!L23,Back!$M$16:$N$20,2,0)),\"\")","v":""},{"$f":"+IFERROR((VLOOKUP('BASE DE RESPUESTAS'!M23,Back!$M$16:$N$20,2,0)),\"\")","v":""},{"$f":"+IFERROR((VLOOKUP('BASE DE RESPUESTAS'!N23,Back!$M$16:$N$20,2,0)),\"\")","v":""},{"$f":"+IFERROR((VLOOKUP('BASE DE RESPUESTAS'!O23,Back!$M$16:$N$20,2,0)),\"\")","v":""},{"$f":"+IFERROR((VLOOKUP('BASE DE RESPUESTAS'!P23,Back!$M$16:$N$20,2,0)),\"\")","v":""},{"$f":"+IFERROR((VLOOKUP('BASE DE RESPUESTAS'!Q23,Back!$M$16:$N$20,2,0)),\"\")","v":""},{"$f":"+IFERROR((VLOOKUP('BASE DE RESPUESTAS'!R23,Back!$M$16:$N$20,2,0)),\"\")","v":""},{"$f":"+IFERROR((VLOOKUP('BASE DE RESPUESTAS'!S23,Back!$M$16:$N$20,2,0)),\"\")","v":""},{"$f":"+IFERROR((VLOOKUP('BASE DE RESPUESTAS'!T23,Back!$M$16:$N$20,2,0)),\"\")","v":""},{"$f":"+IFERROR((VLOOKUP('BASE DE RESPUESTAS'!U23,Back!$M$16:$N$20,2,0)),\"\")","v":""},{"$f":"+IFERROR((VLOOKUP('BASE DE RESPUESTAS'!V23,Back!$M$16:$N$20,2,0)),\"\")","v":""},{"$f":"+IFERROR((VLOOKUP('BASE DE RESPUESTAS'!W23,Back!$M$16:$N$20,2,0)),\"\")","v":""},{"$f":"+IFERROR((VLOOKUP('BASE DE RESPUESTAS'!X23,Back!$M$16:$N$20,2,0)),\"\")","v":""},{"$f":"+IFERROR((VLOOKUP('BASE DE RESPUESTAS'!Y23,Back!$M$16:$N$20,2,0)),\"\")","v":""},{"$f":"+IFERROR((VLOOKUP('BASE DE RESPUESTAS'!Z23,Back!$M$16:$N$20,2,0)),\"\")","v":""},{"$f":"+IFERROR((VLOOKUP('BASE DE RESPUESTAS'!AA23,Back!$M$16:$N$20,2,0)),\"\")","v":""},{"$f":"+IFERROR((VLOOKUP('BASE DE RESPUESTAS'!AB23,Back!$M$16:$N$20,2,0)),\"\")","v":""},{"$f":"+IFERROR((VLOOKUP('BASE DE RESPUESTAS'!AC23,Back!$M$16:$N$20,2,0)),\"\")","v":""},{"$f":"+IFERROR((VLOOKUP('BASE DE RESPUESTAS'!AD23,Back!$M$16:$N$20,2,0)),\"\")","v":""},{"$f":"+IFERROR((VLOOKUP('BASE DE RESPUESTAS'!AE23,Back!$M$16:$N$20,2,0)),\"\")","v":""},{"$f":"+IFERROR((VLOOKUP('BASE DE RESPUESTAS'!AF23,Back!$M$16:$N$20,2,0)),\"\")","v":""},{"$f":"+IFERROR((VLOOKUP('BASE DE RESPUESTAS'!AG23,Back!$M$16:$N$20,2,0)),\"\")","v":""},{"$f":"+IFERROR((VLOOKUP('BASE DE RESPUESTAS'!AH23,Back!$M$16:$N$20,2,0)),\"\")","v":""},{"$f":"+IFERROR((VLOOKUP('BASE DE RESPUESTAS'!AI23,Back!$M$16:$N$20,2,0)),\"\")","v":""},{"$f":"+IFERROR((VLOOKUP('BASE DE RESPUESTAS'!AJ23,Back!$M$16:$N$20,2,0)),\"\")","v":""},{"$f":"+IFERROR((VLOOKUP('BASE DE RESPUESTAS'!AK23,Back!$M$16:$N$20,2,0)),\"\")","v":""},{"$f":"+IFERROR((VLOOKUP('BASE DE RESPUESTAS'!AL23,Back!$M$16:$N$20,2,0)),\"\")","v":""},{"$f":"+IFERROR((VLOOKUP('BASE DE RESPUESTAS'!AM23,Back!$M$16:$N$20,2,0)),\"\")","v":""},{"$f":"+IFERROR((VLOOKUP('BASE DE RESPUESTAS'!AN23,Back!$M$16:$N$20,2,0)),\"\")","v":""},{"$f":"+IFERROR((VLOOKUP('BASE DE RESPUESTAS'!AO23,Back!$M$16:$N$20,2,0)),\"\")","v":""},{"$f":"+IFERROR((VLOOKUP('BASE DE RESPUESTAS'!AP23,Back!$M$16:$N$20,2,0)),\"\")","v":""},{"$f":"+IFERROR((VLOOKUP('BASE DE RESPUESTAS'!AQ23,Back!$M$16:$N$20,2,0)),\"\")","v":""},{"$f":"+IFERROR((VLOOKUP('BASE DE RESPUESTAS'!AR23,Back!$M$16:$N$20,2,0)),\"\")","v":""},{"$f":"+IFERROR((VLOOKUP('BASE DE RESPUESTAS'!AS23,Back!$M$16:$N$20,2,0)),\"\")","v":""},{"$f":"+IFERROR((VLOOKUP('BASE DE RESPUESTAS'!AT23,Back!$M$16:$N$20,2,0)),\"\")","v":""},{"$f":"+IFERROR((VLOOKUP('BASE DE RESPUESTAS'!AU23,Back!$M$16:$N$20,2,0)),\"\")","v":""},{"$f":"+IFERROR((VLOOKUP('BASE DE RESPUESTAS'!AV23,Back!$M$16:$N$20,2,0)),\"\")","v":""},{"$f":"+IFERROR((VLOOKUP('BASE DE RESPUESTAS'!AW23,Back!$M$16:$N$20,2,0)),\"\")","v":""},{"$f":"+IFERROR((VLOOKUP('BASE DE RESPUESTAS'!AX23,Back!$M$16:$N$20,2,0)),\"\")","v":""},{"$f":"+IFERROR((VLOOKUP('BASE DE RESPUESTAS'!AY23,Back!$M$16:$N$20,2,0)),\"\")","v":""},{"$f":"+IFERROR((VLOOKUP('BASE DE RESPUESTAS'!AZ23,Back!$M$16:$N$20,2,0)),\"\")","v":""},{"$f":"+IFERROR((VLOOKUP('BASE DE RESPUESTAS'!BA23,Back!$M$16:$N$20,2,0)),\"\")","v":""},{"$f":"+IFERROR((VLOOKUP('BASE DE RESPUESTAS'!BB23,Back!$M$16:$N$20,2,0)),\"\")","v":""},{"$f":"+IFERROR((VLOOKUP('BASE DE RESPUESTAS'!BC23,Back!$M$16:$N$20,2,0)),\"\")","v":""},{"$f":"+IFERROR((VLOOKUP('BASE DE RESPUESTAS'!BD23,Back!$M$16:$N$20,2,0)),\"\")","v":""},{"$f":"+IFERROR((VLOOKUP('BASE DE RESPUESTAS'!BE23,Back!$M$16:$N$20,2,0)),\"\")","v":""}]
[null,"HSE","Toma de decisiones responsables","El o la estudiante identifica las diferentes opciones antes de tomar decisiones.",null,"",null,{"$f":"+IFERROR((VLOOKUP('BASE DE RESPUESTAS'!H24,Back!$M$16:$N$20,2,0)),\"\")","v":""},{"$f":"+IFERROR((VLOOKUP('BASE DE RESPUESTAS'!I24,Back!$M$16:$N$20,2,0)),\"\")","v":""},{"$f":"+IFERROR((VLOOKUP('BASE DE RESPUESTAS'!J24,Back!$M$16:$N$20,2,0)),\"\")","v":""},{"$f":"+IFERROR((VLOOKUP('BASE DE RESPUESTAS'!K24,Back!$M$16:$N$20,2,0)),\"\")","v":""},{"$f":"+IFERROR((VLOOKUP('BASE DE RESPUESTAS'!L24,Back!$M$16:$N$20,2,0)),\"\")","v":""},{"$f":"+IFERROR((VLOOKUP('BASE DE RESPUESTAS'!M24,Back!$M$16:$N$20,2,0)),\"\")","v":""},{"$f":"+IFERROR((VLOOKUP('BASE DE RESPUESTAS'!N24,Back!$M$16:$N$20,2,0)),\"\")","v":""},{"$f":"+IFERROR((VLOOKUP('BASE DE RESPUESTAS'!O24,Back!$M$16:$N$20,2,0)),\"\")","v":""},{"$f":"+IFERROR((VLOOKUP('BASE DE RESPUESTAS'!P24,Back!$M$16:$N$20,2,0)),\"\")","v":""},{"$f":"+IFERROR((VLOOKUP('BASE DE RESPUESTAS'!Q24,Back!$M$16:$N$20,2,0)),\"\")","v":""},{"$f":"+IFERROR((VLOOKUP('BASE DE RESPUESTAS'!R24,Back!$M$16:$N$20,2,0)),\"\")","v":""},{"$f":"+IFERROR((VLOOKUP('BASE DE RESPUESTAS'!S24,Back!$M$16:$N$20,2,0)),\"\")","v":""},{"$f":"+IFERROR((VLOOKUP('BASE DE RESPUESTAS'!T24,Back!$M$16:$N$20,2,0)),\"\")","v":""},{"$f":"+IFERROR((VLOOKUP('BASE DE RESPUESTAS'!U24,Back!$M$16:$N$20,2,0)),\"\")","v":""},{"$f":"+IFERROR((VLOOKUP('BASE DE RESPUESTAS'!V24,Back!$M$16:$N$20,2,0)),\"\")","v":""},{"$f":"+IFERROR((VLOOKUP('BASE DE RESPUESTAS'!W24,Back!$M$16:$N$20,2,0)),\"\")","v":""},{"$f":"+IFERROR((VLOOKUP('BASE DE RESPUESTAS'!X24,Back!$M$16:$N$20,2,0)),\"\")","v":""},{"$f":"+IFERROR((VLOOKUP('BASE DE RESPUESTAS'!Y24,Back!$M$16:$N$20,2,0)),\"\")","v":""},{"$f":"+IFERROR((VLOOKUP('BASE DE RESPUESTAS'!Z24,Back!$M$16:$N$20,2,0)),\"\")","v":""},{"$f":"+IFERROR((VLOOKUP('BASE DE RESPUESTAS'!AA24,Back!$M$16:$N$20,2,0)),\"\")","v":""},{"$f":"+IFERROR((VLOOKUP('BASE DE RESPUESTAS'!AB24,Back!$M$16:$N$20,2,0)),\"\")","v":""},{"$f":"+IFERROR((VLOOKUP('BASE DE RESPUESTAS'!AC24,Back!$M$16:$N$20,2,0)),\"\")","v":""},{"$f":"+IFERROR((VLOOKUP('BASE DE RESPUESTAS'!AD24,Back!$M$16:$N$20,2,0)),\"\")","v":""},{"$f":"+IFERROR((VLOOKUP('BASE DE RESPUESTAS'!AE24,Back!$M$16:$N$20,2,0)),\"\")","v":""},{"$f":"+IFERROR((VLOOKUP('BASE DE RESPUESTAS'!AF24,Back!$M$16:$N$20,2,0)),\"\")","v":""},{"$f":"+IFERROR((VLOOKUP('BASE DE RESPUESTAS'!AG24,Back!$M$16:$N$20,2,0)),\"\")","v":""},{"$f":"+IFERROR((VLOOKUP('BASE DE RESPUESTAS'!AH24,Back!$M$16:$N$20,2,0)),\"\")","v":""},{"$f":"+IFERROR((VLOOKUP('BASE DE RESPUESTAS'!AI24,Back!$M$16:$N$20,2,0)),\"\")","v":""},{"$f":"+IFERROR((VLOOKUP('BASE DE RESPUESTAS'!AJ24,Back!$M$16:$N$20,2,0)),\"\")","v":""},{"$f":"+IFERROR((VLOOKUP('BASE DE RESPUESTAS'!AK24,Back!$M$16:$N$20,2,0)),\"\")","v":""},{"$f":"+IFERROR((VLOOKUP('BASE DE RESPUESTAS'!AL24,Back!$M$16:$N$20,2,0)),\"\")","v":""},{"$f":"+IFERROR((VLOOKUP('BASE DE RESPUESTAS'!AM24,Back!$M$16:$N$20,2,0)),\"\")","v":""},{"$f":"+IFERROR((VLOOKUP('BASE DE RESPUESTAS'!AN24,Back!$M$16:$N$20,2,0)),\"\")","v":""},{"$f":"+IFERROR((VLOOKUP('BASE DE RESPUESTAS'!AO24,Back!$M$16:$N$20,2,0)),\"\")","v":""},{"$f":"+IFERROR((VLOOKUP('BASE DE RESPUESTAS'!AP24,Back!$M$16:$N$20,2,0)),\"\")","v":""},{"$f":"+IFERROR((VLOOKUP('BASE DE RESPUESTAS'!AQ24,Back!$M$16:$N$20,2,0)),\"\")","v":""},{"$f":"+IFERROR((VLOOKUP('BASE DE RESPUESTAS'!AR24,Back!$M$16:$N$20,2,0)),\"\")","v":""},{"$f":"+IFERROR((VLOOKUP('BASE DE RESPUESTAS'!AS24,Back!$M$16:$N$20,2,0)),\"\")","v":""},{"$f":"+IFERROR((VLOOKUP('BASE DE RESPUESTAS'!AT24,Back!$M$16:$N$20,2,0)),\"\")","v":""},{"$f":"+IFERROR((VLOOKUP('BASE DE RESPUESTAS'!AU24,Back!$M$16:$N$20,2,0)),\"\")","v":""},{"$f":"+IFERROR((VLOOKUP('BASE DE RESPUESTAS'!AV24,Back!$M$16:$N$20,2,0)),\"\")","v":""},{"$f":"+IFERROR((VLOOKUP('BASE DE RESPUESTAS'!AW24,Back!$M$16:$N$20,2,0)),\"\")","v":""},{"$f":"+IFERROR((VLOOKUP('BASE DE RESPUESTAS'!AX24,Back!$M$16:$N$20,2,0)),\"\")","v":""},{"$f":"+IFERROR((VLOOKUP('BASE DE RESPUESTAS'!AY24,Back!$M$16:$N$20,2,0)),\"\")","v":""},{"$f":"+IFERROR((VLOOKUP('BASE DE RESPUESTAS'!AZ24,Back!$M$16:$N$20,2,0)),\"\")","v":""},{"$f":"+IFERROR((VLOOKUP('BASE DE RESPUESTAS'!BA24,Back!$M$16:$N$20,2,0)),\"\")","v":""},{"$f":"+IFERROR((VLOOKUP('BASE DE RESPUESTAS'!BB24,Back!$M$16:$N$20,2,0)),\"\")","v":""},{"$f":"+IFERROR((VLOOKUP('BASE DE RESPUESTAS'!BC24,Back!$M$16:$N$20,2,0)),\"\")","v":""},{"$f":"+IFERROR((VLOOKUP('BASE DE RESPUESTAS'!BD24,Back!$M$16:$N$20,2,0)),\"\")","v":""},{"$f":"+IFERROR((VLOOKUP('BASE DE RESPUESTAS'!BE24,Back!$M$16:$N$20,2,0)),\"\")","v":""}]
[null,"HSE",null,"El o la estudiante evalúa los posibles riesgos y consecuencias antes de tomar una decisión.",null,"",null,{"$f":"+IFERROR((VLOOKUP('BASE DE RESPUESTAS'!H25,Back!$M$16:$N$20,2,0)),\"\")","v":""},{"$f":"+IFERROR((VLOOKUP('BASE DE RESPUESTAS'!I25,Back!$M$16:$N$20,2,0)),\"\")","v":""},{"$f":"+IFERROR((VLOOKUP('BASE DE RESPUESTAS'!J25,Back!$M$16:$N$20,2,0)),\"\")","v":""},{"$f":"+IFERROR((VLOOKUP('BASE DE RESPUESTAS'!K25,Back!$M$16:$N$20,2,0)),\"\")","v":""},{"$f":"+IFERROR((VLOOKUP('BASE DE RESPUESTAS'!L25,Back!$M$16:$N$20,2,0)),\"\")","v":""},{"$f":"+IFERROR((VLOOKUP('BASE DE RESPUESTAS'!M25,Back!$M$16:$N$20,2,0)),\"\")","v":""},{"$f":"+IFERROR((VLOOKUP('BASE DE RESPUESTAS'!N25,Back!$M$16:$N$20,2,0)),\"\")","v":""},{"$f":"+IFERROR((VLOOKUP('BASE DE RESPUESTAS'!O25,Back!$M$16:$N$20,2,0)),\"\")","v":""},{"$f":"+IFERROR((VLOOKUP('BASE DE RESPUESTAS'!P25,Back!$M$16:$N$20,2,0)),\"\")","v":""},{"$f":"+IFERROR((VLOOKUP('BASE DE RESPUESTAS'!Q25,Back!$M$16:$N$20,2,0)),\"\")","v":""},{"$f":"+IFERROR((VLOOKUP('BASE DE RESPUESTAS'!R25,Back!$M$16:$N$20,2,0)),\"\")","v":""},{"$f":"+IFERROR((VLOOKUP('BASE DE RESPUESTAS'!S25,Back!$M$16:$N$20,2,0)),\"\")","v":""},{"$f":"+IFERROR((VLOOKUP('BASE DE RESPUESTAS'!T25,Back!$M$16:$N$20,2,0)),\"\")","v":""},{"$f":"+IFERROR((VLOOKUP('BASE DE RESPUESTAS'!U25,Back!$M$16:$N$20,2,0)),\"\")","v":""},{"$f":"+IFERROR((VLOOKUP('BASE DE RESPUESTAS'!V25,Back!$M$16:$N$20,2,0)),\"\")","v":""},{"$f":"+IFERROR((VLOOKUP('BASE DE RESPUESTAS'!W25,Back!$M$16:$N$20,2,0)),\"\")","v":""},{"$f":"+IFERROR((VLOOKUP('BASE DE RESPUESTAS'!X25,Back!$M$16:$N$20,2,0)),\"\")","v":""},{"$f":"+IFERROR((VLOOKUP('BASE DE RESPUESTAS'!Y25,Back!$M$16:$N$20,2,0)),\"\")","v":""},{"$f":"+IFERROR((VLOOKUP('BASE DE RESPUESTAS'!Z25,Back!$M$16:$N$20,2,0)),\"\")","v":""},{"$f":"+IFERROR((VLOOKUP('BASE DE RESPUESTAS'!AA25,Back!$M$16:$N$20,2,0)),\"\")","v":""},{"$f":"+IFERROR((VLOOKUP('BASE DE RESPUESTAS'!AB25,Back!$M$16:$N$20,2,0)),\"\")","v":""},{"$f":"+IFERROR((VLOOKUP('BASE DE RESPUESTAS'!AC25,Back!$M$16:$N$20,2,0)),\"\")","v":""},{"$f":"+IFERROR((VLOOKUP('BASE DE RESPUESTAS'!AD25,Back!$M$16:$N$20,2,0)),\"\")","v":""},{"$f":"+IFERROR((VLOOKUP('BASE DE RESPUESTAS'!AE25,Back!$M$16:$N$20,2,0)),\"\")","v":""},{"$f":"+IFERROR((VLOOKUP('BASE DE RESPUESTAS'!AF25,Back!$M$16:$N$20,2,0)),\"\")","v":""},{"$f":"+IFERROR((VLOOKUP('BASE DE RESPUESTAS'!AG25,Back!$M$16:$N$20,2,0)),\"\")","v":""},{"$f":"+IFERROR((VLOOKUP('BASE DE RESPUESTAS'!AH25,Back!$M$16:$N$20,2,0)),\"\")","v":""},{"$f":"+IFERROR((VLOOKUP('BASE DE RESPUESTAS'!AI25,Back!$M$16:$N$20,2,0)),\"\")","v":""},{"$f":"+IFERROR((VLOOKUP('BASE DE RESPUESTAS'!AJ25,Back!$M$16:$N$20,2,0)),\"\")","v":""},{"$f":"+IFERROR((VLOOKUP('BASE DE RESPUESTAS'!AK25,Back!$M$16:$N$20,2,0)),\"\")","v":""},{"$f":"+IFERROR((VLOOKUP('BASE DE RESPUESTAS'!AL25,Back!$M$16:$N$20,2,0)),\"\")","v":""},{"$f":"+IFERROR((VLOOKUP('BASE DE RESPUESTAS'!AM25,Back!$M$16:$N$20,2,0)),\"\")","v":""},{"$f":"+IFERROR((VLOOKUP('BASE DE RESPUESTAS'!AN25,Back!$M$16:$N$20,2,0)),\"\")","v":""},{"$f":"+IFERROR((VLOOKUP('BASE DE RESPUESTAS'!AO25,Back!$M$16:$N$20,2,0)),\"\")","v":""},{"$f":"+IFERROR((VLOOKUP('BASE DE RESPUESTAS'!AP25,Back!$M$16:$N$20,2,0)),\"\")","v":""},{"$f":"+IFERROR((VLOOKUP('BASE DE RESPUESTAS'!AQ25,Back!$M$16:$N$20,2,0)),\"\")","v":""},{"$f":"+IFERROR((VLOOKUP('BASE DE RESPUESTAS'!AR25,Back!$M$16:$N$20,2,0)),\"\")","v":""},{"$f":"+IFERROR((VLOOKUP('BASE DE RESPUESTAS'!AS25,Back!$M$16:$N$20,2,0)),\"\")","v":""},{"$f":"+IFERROR((VLOOKUP('BASE DE RESPUESTAS'!AT25,Back!$M$16:$N$20,2,0)),\"\")","v":""},{"$f":"+IFERROR((VLOOKUP('BASE DE RESPUESTAS'!AU25,Back!$M$16:$N$20,2,0)),\"\")","v":""},{"$f":"+IFERROR((VLOOKUP('BASE DE RESPUESTAS'!AV25,Back!$M$16:$N$20,2,0)),\"\")","v":""},{"$f":"+IFERROR((VLOOKUP('BASE DE RESPUESTAS'!AW25,Back!$M$16:$N$20,2,0)),\"\")","v":""},{"$f":"+IFERROR((VLOOKUP('BASE DE RESPUESTAS'!AX25,Back!$M$16:$N$20,2,0)),\"\")","v":""},{"$f":"+IFERROR((VLOOKUP('BASE DE RESPUESTAS'!AY25,Back!$M$16:$N$20,2,0)),\"\")","v":""},{"$f":"+IFERROR((VLOOKUP('BASE DE RESPUESTAS'!AZ25,Back!$M$16:$N$20,2,0)),\"\")","v":""},{"$f":"+IFERROR((VLOOKUP('BASE DE RESPUESTAS'!BA25,Back!$M$16:$N$20,2,0)),\"\")","v":""},{"$f":"+IFERROR((VLOOKUP('BASE DE RESPUESTAS'!BB25,Back!$M$16:$N$20,2,0)),\"\")","v":""},{"$f":"+IFERROR((VLOOKUP('BASE DE RESPUESTAS'!BC25,Back!$M$16:$N$20,2,0)),\"\")","v":""},{"$f":"+IFERROR((VLOOKUP('BASE DE RESPUESTAS'!BD25,Back!$M$16:$N$20,2,0)),\"\")","v":""},{"$f":"+IFERROR((VLOOKUP('BASE DE RESPUESTAS'!BE25,Back!$M$16:$N$20,2,0)),\"\")","v":""}]
[null,"HSE",null,"Al tomar decisiones, el o la estudiante toma en cuenta su bienestar personal y de su entorno.",null,"",null,{"$f":"+IFERROR((VLOOKUP('BASE DE RESPUESTAS'!H26,Back!$M$16:$N$20,2,0)),\"\")","v":""},{"$f":"+IFERROR((VLOOKUP('BASE DE RESPUESTAS'!I26,Back!$M$16:$N$20,2,0)),\"\")","v":""},{"$f":"+IFERROR((VLOOKUP('BASE DE RESPUESTAS'!J26,Back!$M$16:$N$20,2,0)),\"\")","v":""},{"$f":"+IFERROR((VLOOKUP('BASE DE RESPUESTAS'!K26,Back!$M$16:$N$20,2,0)),\"\")","v":""},{"$f":"+IFERROR((VLOOKUP('BASE DE RESPUESTAS'!L26,Back!$M$16:$N$20,2,0)),\"\")","v":""},{"$f":"+IFERROR((VLOOKUP('BASE DE RESPUESTAS'!M26,Back!$M$16:$N$20,2,0)),\"\")","v":""},{"$f":"+IFERROR((VLOOKUP('BASE DE RESPUESTAS'!N26,Back!$M$16:$N$20,2,0)),\"\")","v":""},{"$f":"+IFERROR((VLOOKUP('BASE DE RESPUESTAS'!O26,Back!$M$16:$N$20,2,0)),\"\")","v":""},{"$f":"+IFERROR((VLOOKUP('BASE DE RESPUESTAS'!P26,Back!$M$16:$N$20,2,0)),\"\")","v":""},{"$f":"+IFERROR((VLOOKUP('BASE DE RESPUESTAS'!Q26,Back!$M$16:$N$20,2,0)),\"\")","v":""},{"$f":"+IFERROR((VLOOKUP('BASE DE RESPUESTAS'!R26,Back!$M$16:$N$20,2,0)),\"\")","v":""},{"$f":"+IFERROR((VLOOKUP('BASE DE RESPUESTAS'!S26,Back!$M$16:$N$20,2,0)),\"\")","v":""},{"$f":"+IFERROR((VLOOKUP('BASE DE RESPUESTAS'!T26,Back!$M$16:$N$20,2,0)),\"\")","v":""},{"$f":"+IFERROR((VLOOKUP('BASE DE RESPUESTAS'!U26,Back!$M$16:$N$20,2,0)),\"\")","v":""},{"$f":"+IFERROR((VLOOKUP('BASE DE RESPUESTAS'!V26,Back!$M$16:$N$20,2,0)),\"\")","v":""},{"$f":"+IFERROR((VLOOKUP('BASE DE RESPUESTAS'!W26,Back!$M$16:$N$20,2,0)),\"\")","v":""},{"$f":"+IFERROR((VLOOKUP('BASE DE RESPUESTAS'!X26,Back!$M$16:$N$20,2,0)),\"\")","v":""},{"$f":"+IFERROR((VLOOKUP('BASE DE RESPUESTAS'!Y26,Back!$M$16:$N$20,2,0)),\"\")","v":""},{"$f":"+IFERROR((VLOOKUP('BASE DE RESPUESTAS'!Z26,Back!$M$16:$N$20,2,0)),\"\")","v":""},{"$f":"+IFERROR((VLOOKUP('BASE DE RESPUESTAS'!AA26,Back!$M$16:$N$20,2,0)),\"\")","v":""},{"$f":"+IFERROR((VLOOKUP('BASE DE RESPUESTAS'!AB26,Back!$M$16:$N$20,2,0)),\"\")","v":""},{"$f":"+IFERROR((VLOOKUP('BASE DE RESPUESTAS'!AC26,Back!$M$16:$N$20,2,0)),\"\")","v":""},{"$f":"+IFERROR((VLOOKUP('BASE DE RESPUESTAS'!AD26,Back!$M$16:$N$20,2,0)),\"\")","v":""},{"$f":"+IFERROR((VLOOKUP('BASE DE RESPUESTAS'!AE26,Back!$M$16:$N$20,2,0)),\"\")","v":""},{"$f":"+IFERROR((VLOOKUP('BASE DE RESPUESTAS'!AF26,Back!$M$16:$N$20,2,0)),\"\")","v":""},{"$f":"+IFERROR((VLOOKUP('BASE DE RESPUESTAS'!AG26,Back!$M$16:$N$20,2,0)),\"\")","v":""},{"$f":"+IFERROR((VLOOKUP('BASE DE RESPUESTAS'!AH26,Back!$M$16:$N$20,2,0)),\"\")","v":""},{"$f":"+IFERROR((VLOOKUP('BASE DE RESPUESTAS'!AI26,Back!$M$16:$N$20,2,0)),\"\")","v":""},{"$f":"+IFERROR((VLOOKUP('BASE DE RESPUESTAS'!AJ26,Back!$M$16:$N$20,2,0)),\"\")","v":""},{"$f":"+IFERROR((VLOOKUP('BASE DE RESPUESTAS'!AK26,Back!$M$16:$N$20,2,0)),\"\")","v":""},{"$f":"+IFERROR((VLOOKUP('BASE DE RESPUESTAS'!AL26,Back!$M$16:$N$20,2,0)),\"\")","v":""},{"$f":"+IFERROR((VLOOKUP('BASE DE RESPUESTAS'!AM26,Back!$M$16:$N$20,2,0)),\"\")","v":""},{"$f":"+IFERROR((VLOOKUP('BASE DE RESPUESTAS'!AN26,Back!$M$16:$N$20,2,0)),\"\")","v":""},{"$f":"+IFERROR((VLOOKUP('BASE DE RESPUESTAS'!AO26,Back!$M$16:$N$20,2,0)),\"\")","v":""},{"$f":"+IFERROR((VLOOKUP('BASE DE RESPUESTAS'!AP26,Back!$M$16:$N$20,2,0)),\"\")","v":""},{"$f":"+IFERROR((VLOOKUP('BASE DE RESPUESTAS'!AQ26,Back!$M$16:$N$20,2,0)),\"\")","v":""},{"$f":"+IFERROR((VLOOKUP('BASE DE RESPUESTAS'!AR26,Back!$M$16:$N$20,2,0)),\"\")","v":""},{"$f":"+IFERROR((VLOOKUP('BASE DE RESPUESTAS'!AS26,Back!$M$16:$N$20,2,0)),\"\")","v":""},{"$f":"+IFERROR((VLOOKUP('BASE DE RESPUESTAS'!AT26,Back!$M$16:$N$20,2,0)),\"\")","v":""},{"$f":"+IFERROR((VLOOKUP('BASE DE RESPUESTAS'!AU26,Back!$M$16:$N$20,2,0)),\"\")","v":""},{"$f":"+IFERROR((VLOOKUP('BASE DE RESPUESTAS'!AV26,Back!$M$16:$N$20,2,0)),\"\")","v":""},{"$f":"+IFERROR((VLOOKUP('BASE DE RESPUESTAS'!AW26,Back!$M$16:$N$20,2,0)),\"\")","v":""},{"$f":"+IFERROR((VLOOKUP('BASE DE RESPUESTAS'!AX26,Back!$M$16:$N$20,2,0)),\"\")","v":""},{"$f":"+IFERROR((VLOOKUP('BASE DE RESPUESTAS'!AY26,Back!$M$16:$N$20,2,0)),\"\")","v":""},{"$f":"+IFERROR((VLOOKUP('BASE DE RESPUESTAS'!AZ26,Back!$M$16:$N$20,2,0)),\"\")","v":""},{"$f":"+IFERROR((VLOOKUP('BASE DE RESPUESTAS'!BA26,Back!$M$16:$N$20,2,0)),\"\")","v":""},{"$f":"+IFERROR((VLOOKUP('BASE DE RESPUESTAS'!BB26,Back!$M$16:$N$20,2,0)),\"\")","v":""},{"$f":"+IFERROR((VLOOKUP('BASE DE RESPUESTAS'!BC26,Back!$M$16:$N$20,2,0)),\"\")","v":""},{"$f":"+IFERROR((VLOOKUP('BASE DE RESPUESTAS'!BD26,Back!$M$16:$N$20,2,0)),\"\")","v":""},{"$f":"+IFERROR((VLOOKUP('BASE DE RESPUESTAS'!BE26,Back!$M$16:$N$20,2,0)),\"\")","v":""}]
[null,"HSE","Comunicación asertiva","El o la estudiante escucha atentamente a su interlocutor.",null,"",null,{"$f":"+IFERROR((VLOOKUP('BASE DE RESPUESTAS'!H27,Back!$M$16:$N$20,2,0)),\"\")","v":""},{"$f":"+IFERROR((VLOOKUP('BASE DE RESPUESTAS'!I27,Back!$M$16:$N$20,2,0)),\"\")","v":""},{"$f":"+IFERROR((VLOOKUP('BASE DE RESPUESTAS'!J27,Back!$M$16:$N$20,2,0)),\"\")","v":""},{"$f":"+IFERROR((VLOOKUP('BASE DE RESPUESTAS'!K27,Back!$M$16:$N$20,2,0)),\"\")","v":""},{"$f":"+IFERROR((VLOOKUP('BASE DE RESPUESTAS'!L27,Back!$M$16:$N$20,2,0)),\"\")","v":""},{"$f":"+IFERROR((VLOOKUP('BASE DE RESPUESTAS'!M27,Back!$M$16:$N$20,2,0)),\"\")","v":""},{"$f":"+IFERROR((VLOOKUP('BASE DE RESPUESTAS'!N27,Back!$M$16:$N$20,2,0)),\"\")","v":""},{"$f":"+IFERROR((VLOOKUP('BASE DE RESPUESTAS'!O27,Back!$M$16:$N$20,2,0)),\"\")","v":""},{"$f":"+IFERROR((VLOOKUP('BASE DE RESPUESTAS'!P27,Back!$M$16:$N$20,2,0)),\"\")","v":""},{"$f":"+IFERROR((VLOOKUP('BASE DE RESPUESTAS'!Q27,Back!$M$16:$N$20,2,0)),\"\")","v":""},{"$f":"+IFERROR((VLOOKUP('BASE DE RESPUESTAS'!R27,Back!$M$16:$N$20,2,0)),\"\")","v":""},{"$f":"+IFERROR((VLOOKUP('BASE DE RESPUESTAS'!S27,Back!$M$16:$N$20,2,0)),\"\")","v":""},{"$f":"+IFERROR((VLOOKUP('BASE DE RESPUESTAS'!T27,Back!$M$16:$N$20,2,0)),\"\")","v":""},{"$f":"+IFERROR((VLOOKUP('BASE DE RESPUESTAS'!U27,Back!$M$16:$N$20,2,0)),\"\")","v":""},{"$f":"+IFERROR((VLOOKUP('BASE DE RESPUESTAS'!V27,Back!$M$16:$N$20,2,0)),\"\")","v":""},{"$f":"+IFERROR((VLOOKUP('BASE DE RESPUESTAS'!W27,Back!$M$16:$N$20,2,0)),\"\")","v":""},{"$f":"+IFERROR((VLOOKUP('BASE DE RESPUESTAS'!X27,Back!$M$16:$N$20,2,0)),\"\")","v":""},{"$f":"+IFERROR((VLOOKUP('BASE DE RESPUESTAS'!Y27,Back!$M$16:$N$20,2,0)),\"\")","v":""},{"$f":"+IFERROR((VLOOKUP('BASE DE RESPUESTAS'!Z27,Back!$M$16:$N$20,2,0)),\"\")","v":""},{"$f":"+IFERROR((VLOOKUP('BASE DE RESPUESTAS'!AA27,Back!$M$16:$N$20,2,0)),\"\")","v":""},{"$f":"+IFERROR((VLOOKUP('BASE DE RESPUESTAS'!AB27,Back!$M$16:$N$20,2,0)),\"\")","v":""},{"$f":"+IFERROR((VLOOKUP('BASE DE RESPUESTAS'!AC27,Back!$M$16:$N$20,2,0)),\"\")","v":""},{"$f":"+IFERROR((VLOOKUP('BASE DE RESPUESTAS'!AD27,Back!$M$16:$N$20,2,0)),\"\")","v":""},{"$f":"+IFERROR((VLOOKUP('BASE DE RESPUESTAS'!AE27,Back!$M$16:$N$20,2,0)),\"\")","v":""},{"$f":"+IFERROR((VLOOKUP('BASE DE RESPUESTAS'!AF27,Back!$M$16:$N$20,2,0)),\"\")","v":""},{"$f":"+IFERROR((VLOOKUP('BASE DE RESPUESTAS'!AG27,Back!$M$16:$N$20,2,0)),\"\")","v":""},{"$f":"+IFERROR((VLOOKUP('BASE DE RESPUESTAS'!AH27,Back!$M$16:$N$20,2,0)),\"\")","v":""},{"$f":"+IFERROR((VLOOKUP('BASE DE RESPUESTAS'!AI27,Back!$M$16:$N$20,2,0)),\"\")","v":""},{"$f":"+IFERROR((VLOOKUP('BASE DE RESPUESTAS'!AJ27,Back!$M$16:$N$20,2,0)),\"\")","v":""},{"$f":"+IFERROR((VLOOKUP('BASE DE RESPUESTAS'!AK27,Back!$M$16:$N$20,2,0)),\"\")","v":""},{"$f":"+IFERROR((VLOOKUP('BASE DE RESPUESTAS'!AL27,Back!$M$16:$N$20,2,0)),\"\")","v":""},{"$f":"+IFERROR((VLOOKUP('BASE DE RESPUESTAS'!AM27,Back!$M$16:$N$20,2,0)),\"\")","v":""},{"$f":"+IFERROR((VLOOKUP('BASE DE RESPUESTAS'!AN27,Back!$M$16:$N$20,2,0)),\"\")","v":""},{"$f":"+IFERROR((VLOOKUP('BASE DE RESPUESTAS'!AO27,Back!$M$16:$N$20,2,0)),\"\")","v":""},{"$f":"+IFERROR((VLOOKUP('BASE DE RESPUESTAS'!AP27,Back!$M$16:$N$20,2,0)),\"\")","v":""},{"$f":"+IFERROR((VLOOKUP('BASE DE RESPUESTAS'!AQ27,Back!$M$16:$N$20,2,0)),\"\")","v":""},{"$f":"+IFERROR((VLOOKUP('BASE DE RESPUESTAS'!AR27,Back!$M$16:$N$20,2,0)),\"\")","v":""},{"$f":"+IFERROR((VLOOKUP('BASE DE RESPUESTAS'!AS27,Back!$M$16:$N$20,2,0)),\"\")","v":""},{"$f":"+IFERROR((VLOOKUP('BASE DE RESPUESTAS'!AT27,Back!$M$16:$N$20,2,0)),\"\")","v":""},{"$f":"+IFERROR((VLOOKUP('BASE DE RESPUESTAS'!AU27,Back!$M$16:$N$20,2,0)),\"\")","v":""},{"$f":"+IFERROR((VLOOKUP('BASE DE RESPUESTAS'!AV27,Back!$M$16:$N$20,2,0)),\"\")","v":""},{"$f":"+IFERROR((VLOOKUP('BASE DE RESPUESTAS'!AW27,Back!$M$16:$N$20,2,0)),\"\")","v":""},{"$f":"+IFERROR((VLOOKUP('BASE DE RESPUESTAS'!AX27,Back!$M$16:$N$20,2,0)),\"\")","v":""},{"$f":"+IFERROR((VLOOKUP('BASE DE RESPUESTAS'!AY27,Back!$M$16:$N$20,2,0)),\"\")","v":""},{"$f":"+IFERROR((VLOOKUP('BASE DE RESPUESTAS'!AZ27,Back!$M$16:$N$20,2,0)),\"\")","v":""},{"$f":"+IFERROR((VLOOKUP('BASE DE RESPUESTAS'!BA27,Back!$M$16:$N$20,2,0)),\"\")","v":""},{"$f":"+IFERROR((VLOOKUP('BASE DE RESPUESTAS'!BB27,Back!$M$16:$N$20,2,0)),\"\")","v":""},{"$f":"+IFERROR((VLOOKUP('BASE DE RESPUESTAS'!BC27,Back!$M$16:$N$20,2,0)),\"\")","v":""},{"$f":"+IFERROR((VLOOKUP('BASE DE RESPUESTAS'!BD27,Back!$M$16:$N$20,2,0)),\"\")","v":""},{"$f":"+IFERROR((VLOOKUP('BASE DE RESPUESTAS'!BE27,Back!$M$16:$N$20,2,0)),\"\")","v":""}]
[null,"HSE",null,"El o la estudiante comunica de forma directa y clara aquellas situaciones que le incomodan, sin agredir a otras personas.",null,"",null,{"$f":"+IFERROR((VLOOKUP('BASE DE RESPUESTAS'!H28,Back!$M$16:$N$20,2,0)),\"\")","v":""},{"$f":"+IFERROR((VLOOKUP('BASE DE RESPUESTAS'!I28,Back!$M$16:$N$20,2,0)),\"\")","v":""},{"$f":"+IFERROR((VLOOKUP('BASE DE RESPUESTAS'!J28,Back!$M$16:$N$20,2,0)),\"\")","v":""},{"$f":"+IFERROR((VLOOKUP('BASE DE RESPUESTAS'!K28,Back!$M$16:$N$20,2,0)),\"\")","v":""},{"$f":"+IFERROR((VLOOKUP('BASE DE RESPUESTAS'!L28,Back!$M$16:$N$20,2,0)),\"\")","v":""},{"$f":"+IFERROR((VLOOKUP('BASE DE RESPUESTAS'!M28,Back!$M$16:$N$20,2,0)),\"\")","v":""},{"$f":"+IFERROR((VLOOKUP('BASE DE RESPUESTAS'!N28,Back!$M$16:$N$20,2,0)),\"\")","v":""},{"$f":"+IFERROR((VLOOKUP('BASE DE RESPUESTAS'!O28,Back!$M$16:$N$20,2,0)),\"\")","v":""},{"$f":"+IFERROR((VLOOKUP('BASE DE RESPUESTAS'!P28,Back!$M$16:$N$20,2,0)),\"\")","v":""},{"$f":"+IFERROR((VLOOKUP('BASE DE RESPUESTAS'!Q28,Back!$M$16:$N$20,2,0)),\"\")","v":""},{"$f":"+IFERROR((VLOOKUP('BASE DE RESPUESTAS'!R28,Back!$M$16:$N$20,2,0)),\"\")","v":""},{"$f":"+IFERROR((VLOOKUP('BASE DE RESPUESTAS'!S28,Back!$M$16:$N$20,2,0)),\"\")","v":""},{"$f":"+IFERROR((VLOOKUP('BASE DE RESPUESTAS'!T28,Back!$M$16:$N$20,2,0)),\"\")","v":""},{"$f":"+IFERROR((VLOOKUP('BASE DE RESPUESTAS'!U28,Back!$M$16:$N$20,2,0)),\"\")","v":""},{"$f":"+IFERROR((VLOOKUP('BASE DE RESPUESTAS'!V28,Back!$M$16:$N$20,2,0)),\"\")","v":""},{"$f":"+IFERROR((VLOOKUP('BASE DE RESPUESTAS'!W28,Back!$M$16:$N$20,2,0)),\"\")","v":""},{"$f":"+IFERROR((VLOOKUP('BASE DE RESPUESTAS'!X28,Back!$M$16:$N$20,2,0)),\"\")","v":""},{"$f":"+IFERROR((VLOOKUP('BASE DE RESPUESTAS'!Y28,Back!$M$16:$N$20,2,0)),\"\")","v":""},{"$f":"+IFERROR((VLOOKUP('BASE DE RESPUESTAS'!Z28,Back!$M$16:$N$20,2,0)),\"\")","v":""},{"$f":"+IFERROR((VLOOKUP('BASE DE RESPUESTAS'!AA28,Back!$M$16:$N$20,2,0)),\"\")","v":""},{"$f":"+IFERROR((VLOOKUP('BASE DE RESPUESTAS'!AB28,Back!$M$16:$N$20,2,0)),\"\")","v":""},{"$f":"+IFERROR((VLOOKUP('BASE DE RESPUESTAS'!AC28,Back!$M$16:$N$20,2,0)),\"\")","v":""},{"$f":"+IFERROR((VLOOKUP('BASE DE RESPUESTAS'!AD28,Back!$M$16:$N$20,2,0)),\"\")","v":""},{"$f":"+IFERROR((VLOOKUP('BASE DE RESPUESTAS'!AE28,Back!$M$16:$N$20,2,0)),\"\")","v":""},{"$f":"+IFERROR((VLOOKUP('BASE DE RESPUESTAS'!AF28,Back!$M$16:$N$20,2,0)),\"\")","v":""},{"$f":"+IFERROR((VLOOKUP('BASE DE RESPUESTAS'!AG28,Back!$M$16:$N$20,2,0)),\"\")","v":""},{"$f":"+IFERROR((VLOOKUP('BASE DE RESPUESTAS'!AH28,Back!$M$16:$N$20,2,0)),\"\")","v":""},{"$f":"+IFERROR((VLOOKUP('BASE DE RESPUESTAS'!AI28,Back!$M$16:$N$20,2,0)),\"\")","v":""},{"$f":"+IFERROR((VLOOKUP('BASE DE RESPUESTAS'!AJ28,Back!$M$16:$N$20,2,0)),\"\")","v":""},{"$f":"+IFERROR((VLOOKUP('BASE DE RESPUESTAS'!AK28,Back!$M$16:$N$20,2,0)),\"\")","v":""},{"$f":"+IFERROR((VLOOKUP('BASE DE RESPUESTAS'!AL28,Back!$M$16:$N$20,2,0)),\"\")","v":""},{"$f":"+IFERROR((VLOOKUP('BASE DE RESPUESTAS'!AM28,Back!$M$16:$N$20,2,0)),\"\")","v":""},{"$f":"+IFERROR((VLOOKUP('BASE DE RESPUESTAS'!AN28,Back!$M$16:$N$20,2,0)),\"\")","v":""},{"$f":"+IFERROR((VLOOKUP('BASE DE RESPUESTAS'!AO28,Back!$M$16:$N$20,2,0)),\"\")","v":""},{"$f":"+IFERROR((VLOOKUP('BASE DE RESPUESTAS'!AP28,Back!$M$16:$N$20,2,0)),\"\")","v":""},{"$f":"+IFERROR((VLOOKUP('BASE DE RESPUESTAS'!AQ28,Back!$M$16:$N$20,2,0)),\"\")","v":""},{"$f":"+IFERROR((VLOOKUP('BASE DE RESPUESTAS'!AR28,Back!$M$16:$N$20,2,0)),\"\")","v":""},{"$f":"+IFERROR((VLOOKUP('BASE DE RESPUESTAS'!AS28,Back!$M$16:$N$20,2,0)),\"\")","v":""},{"$f":"+IFERROR((VLOOKUP('BASE DE RESPUESTAS'!AT28,Back!$M$16:$N$20,2,0)),\"\")","v":""},{"$f":"+IFERROR((VLOOKUP('BASE DE RESPUESTAS'!AU28,Back!$M$16:$N$20,2,0)),\"\")","v":""},{"$f":"+IFERROR((VLOOKUP('BASE DE RESPUESTAS'!AV28,Back!$M$16:$N$20,2,0)),\"\")","v":""},{"$f":"+IFERROR((VLOOKUP('BASE DE RESPUESTAS'!AW28,Back!$M$16:$N$20,2,0)),\"\")","v":""},{"$f":"+IFERROR((VLOOKUP('BASE DE RESPUESTAS'!AX28,Back!$M$16:$N$20,2,0)),\"\")","v":""},{"$f":"+IFERROR((VLOOKUP('BASE DE RESPUESTAS'!AY28,Back!$M$16:$N$20,2,0)),\"\")","v":""},{"$f":"+IFERROR((VLOOKUP('BASE DE RESPUESTAS'!AZ28,Back!$M$16:$N$20,2,0)),\"\")","v":""},{"$f":"+IFERROR((VLOOKUP('BASE DE RESPUESTAS'!BA28,Back!$M$16:$N$20,2,0)),\"\")","v":""},{"$f":"+IFERROR((VLOOKUP('BASE DE RESPUESTAS'!BB28,Back!$M$16:$N$20,2,0)),\"\")","v":""},{"$f":"+IFERROR((VLOOKUP('BASE DE RESPUESTAS'!BC28,Back!$M$16:$N$20,2,0)),\"\")","v":""},{"$f":"+IFERROR((VLOOKUP('BASE DE RESPUESTAS'!BD28,Back!$M$16:$N$20,2,0)),\"\")","v":""},{"$f":"+IFERROR((VLOOKUP('BASE DE RESPUESTAS'!BE28,Back!$M$16:$N$20,2,0)),\"\")","v":""}]
[null,"HSE",null,"El o la estudiante expresa de forma coherente su mensaje verbal y gestual",null,"",null,{"$f":"+IFERROR((VLOOKUP('BASE DE RESPUESTAS'!H29,Back!$M$16:$N$20,2,0)),\"\")","v":""},{"$f":"+IFERROR((VLOOKUP('BASE DE RESPUESTAS'!I29,Back!$M$16:$N$20,2,0)),\"\")","v":""},{"$f":"+IFERROR((VLOOKUP('BASE DE RESPUESTAS'!J29,Back!$M$16:$N$20,2,0)),\"\")","v":""},{"$f":"+IFERROR((VLOOKUP('BASE DE RESPUESTAS'!K29,Back!$M$16:$N$20,2,0)),\"\")","v":""},{"$f":"+IFERROR((VLOOKUP('BASE DE RESPUESTAS'!L29,Back!$M$16:$N$20,2,0)),\"\")","v":""},{"$f":"+IFERROR((VLOOKUP('BASE DE RESPUESTAS'!M29,Back!$M$16:$N$20,2,0)),\"\")","v":""},{"$f":"+IFERROR((VLOOKUP('BASE DE RESPUESTAS'!N29,Back!$M$16:$N$20,2,0)),\"\")","v":""},{"$f":"+IFERROR((VLOOKUP('BASE DE RESPUESTAS'!O29,Back!$M$16:$N$20,2,0)),\"\")","v":""},{"$f":"+IFERROR((VLOOKUP('BASE DE RESPUESTAS'!P29,Back!$M$16:$N$20,2,0)),\"\")","v":""},{"$f":"+IFERROR((VLOOKUP('BASE DE RESPUESTAS'!Q29,Back!$M$16:$N$20,2,0)),\"\")","v":""},{"$f":"+IFERROR((VLOOKUP('BASE DE RESPUESTAS'!R29,Back!$M$16:$N$20,2,0)),\"\")","v":""},{"$f":"+IFERROR((VLOOKUP('BASE DE RESPUESTAS'!S29,Back!$M$16:$N$20,2,0)),\"\")","v":""},{"$f":"+IFERROR((VLOOKUP('BASE DE RESPUESTAS'!T29,Back!$M$16:$N$20,2,0)),\"\")","v":""},{"$f":"+IFERROR((VLOOKUP('BASE DE RESPUESTAS'!U29,Back!$M$16:$N$20,2,0)),\"\")","v":""},{"$f":"+IFERROR((VLOOKUP('BASE DE RESPUESTAS'!V29,Back!$M$16:$N$20,2,0)),\"\")","v":""},{"$f":"+IFERROR((VLOOKUP('BASE DE RESPUESTAS'!W29,Back!$M$16:$N$20,2,0)),\"\")","v":""},{"$f":"+IFERROR((VLOOKUP('BASE DE RESPUESTAS'!X29,Back!$M$16:$N$20,2,0)),\"\")","v":""},{"$f":"+IFERROR((VLOOKUP('BASE DE RESPUESTAS'!Y29,Back!$M$16:$N$20,2,0)),\"\")","v":""},{"$f":"+IFERROR((VLOOKUP('BASE DE RESPUESTAS'!Z29,Back!$M$16:$N$20,2,0)),\"\")","v":""},{"$f":"+IFERROR((VLOOKUP('BASE DE RESPUESTAS'!AA29,Back!$M$16:$N$20,2,0)),\"\")","v":""},{"$f":"+IFERROR((VLOOKUP('BASE DE RESPUESTAS'!AB29,Back!$M$16:$N$20,2,0)),\"\")","v":""},{"$f":"+IFERROR((VLOOKUP('BASE DE RESPUESTAS'!AC29,Back!$M$16:$N$20,2,0)),\"\")","v":""},{"$f":"+IFERROR((VLOOKUP('BASE DE RESPUESTAS'!AD29,Back!$M$16:$N$20,2,0)),\"\")","v":""},{"$f":"+IFERROR((VLOOKUP('BASE DE RESPUESTAS'!AE29,Back!$M$16:$N$20,2,0)),\"\")","v":""},{"$f":"+IFERROR((VLOOKUP('BASE DE RESPUESTAS'!AF29,Back!$M$16:$N$20,2,0)),\"\")","v":""},{"$f":"+IFERROR((VLOOKUP('BASE DE RESPUESTAS'!AG29,Back!$M$16:$N$20,2,0)),\"\")","v":""},{"$f":"+IFERROR((VLOOKUP('BASE DE RESPUESTAS'!AH29,Back!$M$16:$N$20,2,0)),\"\")","v":""},{"$f":"+IFERROR((VLOOKUP('BASE DE RESPUESTAS'!AI29,Back!$M$16:$N$20,2,0)),\"\")","v":""},{"$f":"+IFERROR((VLOOKUP('BASE DE RESPUESTAS'!AJ29,Back!$M$16:$N$20,2,0)),\"\")","v":""},{"$f":"+IFERROR((VLOOKUP('BASE DE RESPUESTAS'!AK29,Back!$M$16:$N$20,2,0)),\"\")","v":""},{"$f":"+IFERROR((VLOOKUP('BASE DE RESPUESTAS'!AL29,Back!$M$16:$N$20,2,0)),\"\")","v":""},{"$f":"+IFERROR((VLOOKUP('BASE DE RESPUESTAS'!AM29,Back!$M$16:$N$20,2,0)),\"\")","v":""},{"$f":"+IFERROR((VLOOKUP('BASE DE RESPUESTAS'!AN29,Back!$M$16:$N$20,2,0)),\"\")","v":""},{"$f":"+IFERROR((VLOOKUP('BASE DE RESPUESTAS'!AO29,Back!$M$16:$N$20,2,0)),\"\")","v":""},{"$f":"+IFERROR((VLOOKUP('BASE DE RESPUESTAS'!AP29,Back!$M$16:$N$20,2,0)),\"\")","v":""},{"$f":"+IFERROR((VLOOKUP('BASE DE RESPUESTAS'!AQ29,Back!$M$16:$N$20,2,0)),\"\")","v":""},{"$f":"+IFERROR((VLOOKUP('BASE DE RESPUESTAS'!AR29,Back!$M$16:$N$20,2,0)),\"\")","v":""},{"$f":"+IFERROR((VLOOKUP('BASE DE RESPUESTAS'!AS29,Back!$M$16:$N$20,2,0)),\"\")","v":""},{"$f":"+IFERROR((VLOOKUP('BASE DE RESPUESTAS'!AT29,Back!$M$16:$N$20,2,0)),\"\")","v":""},{"$f":"+IFERROR((VLOOKUP('BASE DE RESPUESTAS'!AU29,Back!$M$16:$N$20,2,0)),\"\")","v":""},{"$f":"+IFERROR((VLOOKUP('BASE DE RESPUESTAS'!AV29,Back!$M$16:$N$20,2,0)),\"\")","v":""},{"$f":"+IFERROR((VLOOKUP('BASE DE RESPUESTAS'!AW29,Back!$M$16:$N$20,2,0)),\"\")","v":""},{"$f":"+IFERROR((VLOOKUP('BASE DE RESPUESTAS'!AX29,Back!$M$16:$N$20,2,0)),\"\")","v":""},{"$f":"+IFERROR((VLOOKUP('BASE DE RESPUESTAS'!AY29,Back!$M$16:$N$20,2,0)),\"\")","v":""},{"$f":"+IFERROR((VLOOKUP('BASE DE RESPUESTAS'!AZ29,Back!$M$16:$N$20,2,0)),\"\")","v":""},{"$f":"+IFERROR((VLOOKUP('BASE DE RESPUESTAS'!BA29,Back!$M$16:$N$20,2,0)),\"\")","v":""},{"$f":"+IFERROR((VLOOKUP('BASE DE RESPUESTAS'!BB29,Back!$M$16:$N$20,2,0)),\"\")","v":""},{"$f":"+IFERROR((VLOOKUP('BASE DE RESPUESTAS'!BC29,Back!$M$16:$N$20,2,0)),\"\")","v":""},{"$f":"+IFERROR((VLOOKUP('BASE DE RESPUESTAS'!BD29,Back!$M$16:$N$20,2,0)),\"\")","v":""},{"$f":"+IFERROR((VLOOKUP('BASE DE RESPUESTAS'!BE29,Back!$M$16:$N$20,2,0)),\"\")","v":""}]
[null,"HSE","Trabajo en equipo","El o la estudiante es capaz de trabajar en equipo para alcanzar un objetivo común.",null,"",null,{"$f":"+IFERROR((VLOOKUP('BASE DE RESPUESTAS'!H30,Back!$M$16:$N$20,2,0)),\"\")","v":""},{"$f":"+IFERROR((VLOOKUP('BASE DE RESPUESTAS'!I30,Back!$M$16:$N$20,2,0)),\"\")","v":""},{"$f":"+IFERROR((VLOOKUP('BASE DE RESPUESTAS'!J30,Back!$M$16:$N$20,2,0)),\"\")","v":""},{"$f":"+IFERROR((VLOOKUP('BASE DE RESPUESTAS'!K30,Back!$M$16:$N$20,2,0)),\"\")","v":""},{"$f":"+IFERROR((VLOOKUP('BASE DE RESPUESTAS'!L30,Back!$M$16:$N$20,2,0)),\"\")","v":""},{"$f":"+IFERROR((VLOOKUP('BASE DE RESPUESTAS'!M30,Back!$M$16:$N$20,2,0)),\"\")","v":""},{"$f":"+IFERROR((VLOOKUP('BASE DE RESPUESTAS'!N30,Back!$M$16:$N$20,2,0)),\"\")","v":""},{"$f":"+IFERROR((VLOOKUP('BASE DE RESPUESTAS'!O30,Back!$M$16:$N$20,2,0)),\"\")","v":""},{"$f":"+IFERROR((VLOOKUP('BASE DE RESPUESTAS'!P30,Back!$M$16:$N$20,2,0)),\"\")","v":""},{"$f":"+IFERROR((VLOOKUP('BASE DE RESPUESTAS'!Q30,Back!$M$16:$N$20,2,0)),\"\")","v":""},{"$f":"+IFERROR((VLOOKUP('BASE DE RESPUESTAS'!R30,Back!$M$16:$N$20,2,0)),\"\")","v":""},{"$f":"+IFERROR((VLOOKUP('BASE DE RESPUESTAS'!S30,Back!$M$16:$N$20,2,0)),\"\")","v":""},{"$f":"+IFERROR((VLOOKUP('BASE DE RESPUESTAS'!T30,Back!$M$16:$N$20,2,0)),\"\")","v":""},{"$f":"+IFERROR((VLOOKUP('BASE DE RESPUESTAS'!U30,Back!$M$16:$N$20,2,0)),\"\")","v":""},{"$f":"+IFERROR((VLOOKUP('BASE DE RESPUESTAS'!V30,Back!$M$16:$N$20,2,0)),\"\")","v":""},{"$f":"+IFERROR((VLOOKUP('BASE DE RESPUESTAS'!W30,Back!$M$16:$N$20,2,0)),\"\")","v":""},{"$f":"+IFERROR((VLOOKUP('BASE DE RESPUESTAS'!X30,Back!$M$16:$N$20,2,0)),\"\")","v":""},{"$f":"+IFERROR((VLOOKUP('BASE DE RESPUESTAS'!Y30,Back!$M$16:$N$20,2,0)),\"\")","v":""},{"$f":"+IFERROR((VLOOKUP('BASE DE RESPUESTAS'!Z30,Back!$M$16:$N$20,2,0)),\"\")","v":""},{"$f":"+IFERROR((VLOOKUP('BASE DE RESPUESTAS'!AA30,Back!$M$16:$N$20,2,0)),\"\")","v":""},{"$f":"+IFERROR((VLOOKUP('BASE DE RESPUESTAS'!AB30,Back!$M$16:$N$20,2,0)),\"\")","v":""},{"$f":"+IFERROR((VLOOKUP('BASE DE RESPUESTAS'!AC30,Back!$M$16:$N$20,2,0)),\"\")","v":""},{"$f":"+IFERROR((VLOOKUP('BASE DE RESPUESTAS'!AD30,Back!$M$16:$N$20,2,0)),\"\")","v":""},{"$f":"+IFERROR((VLOOKUP('BASE DE RESPUESTAS'!AE30,Back!$M$16:$N$20,2,0)),\"\")","v":""},{"$f":"+IFERROR((VLOOKUP('BASE DE RESPUESTAS'!AF30,Back!$M$16:$N$20,2,0)),\"\")","v":""},{"$f":"+IFERROR((VLOOKUP('BASE DE RESPUESTAS'!AG30,Back!$M$16:$N$20,2,0)),\"\")","v":""},{"$f":"+IFERROR((VLOOKUP('BASE DE RESPUESTAS'!AH30,Back!$M$16:$N$20,2,0)),\"\")","v":""},{"$f":"+IFERROR((VLOOKUP('BASE DE RESPUESTAS'!AI30,Back!$M$16:$N$20,2,0)),\"\")","v":""},{"$f":"+IFERROR((VLOOKUP('BASE DE RESPUESTAS'!AJ30,Back!$M$16:$N$20,2,0)),\"\")","v":""},{"$f":"+IFERROR((VLOOKUP('BASE DE RESPUESTAS'!AK30,Back!$M$16:$N$20,2,0)),\"\")","v":""},{"$f":"+IFERROR((VLOOKUP('BASE DE RESPUESTAS'!AL30,Back!$M$16:$N$20,2,0)),\"\")","v":""},{"$f":"+IFERROR((VLOOKUP('BASE DE RESPUESTAS'!AM30,Back!$M$16:$N$20,2,0)),\"\")","v":""},{"$f":"+IFERROR((VLOOKUP('BASE DE RESPUESTAS'!AN30,Back!$M$16:$N$20,2,0)),\"\")","v":""},{"$f":"+IFERROR((VLOOKUP('BASE DE RESPUESTAS'!AO30,Back!$M$16:$N$20,2,0)),\"\")","v":""},{"$f":"+IFERROR((VLOOKUP('BASE DE RESPUESTAS'!AP30,Back!$M$16:$N$20,2,0)),\"\")","v":""},{"$f":"+IFERROR((VLOOKUP('BASE DE RESPUESTAS'!AQ30,Back!$M$16:$N$20,2,0)),\"\")","v":""},{"$f":"+IFERROR((VLOOKUP('BASE DE RESPUESTAS'!AR30,Back!$M$16:$N$20,2,0)),\"\")","v":""},{"$f":"+IFERROR((VLOOKUP('BASE DE RESPUESTAS'!AS30,Back!$M$16:$N$20,2,0)),\"\")","v":""},{"$f":"+IFERROR((VLOOKUP('BASE DE RESPUESTAS'!AT30,Back!$M$16:$N$20,2,0)),\"\")","v":""},{"$f":"+IFERROR((VLOOKUP('BASE DE RESPUESTAS'!AU30,Back!$M$16:$N$20,2,0)),\"\")","v":""},{"$f":"+IFERROR((VLOOKUP('BASE DE RESPUESTAS'!AV30,Back!$M$16:$N$20,2,0)),\"\")","v":""},{"$f":"+IFERROR((VLOOKUP('BASE DE RESPUESTAS'!AW30,Back!$M$16:$N$20,2,0)),\"\")","v":""},{"$f":"+IFERROR((VLOOKUP('BASE DE RESPUESTAS'!AX30,Back!$M$16:$N$20,2,0)),\"\")","v":""},{"$f":"+IFERROR((VLOOKUP('BASE DE RESPUESTAS'!AY30,Back!$M$16:$N$20,2,0)),\"\")","v":""},{"$f":"+IFERROR((VLOOKUP('BASE DE RESPUESTAS'!AZ30,Back!$M$16:$N$20,2,0)),\"\")","v":""},{"$f":"+IFERROR((VLOOKUP('BASE DE RESPUESTAS'!BA30,Back!$M$16:$N$20,2,0)),\"\")","v":""},{"$f":"+IFERROR((VLOOKUP('BASE DE RESPUESTAS'!BB30,Back!$M$16:$N$20,2,0)),\"\")","v":""},{"$f":"+IFERROR((VLOOKUP('BASE DE RESPUESTAS'!BC30,Back!$M$16:$N$20,2,0)),\"\")","v":""},{"$f":"+IFERROR((VLOOKUP('BASE DE RESPUESTAS'!BD30,Back!$M$16:$N$20,2,0)),\"\")","v":""},{"$f":"+IFERROR((VLOOKUP('BASE DE RESPUESTAS'!BE30,Back!$M$16:$N$20,2,0)),\"\")","v":""}]
[null,"HSE",null,"El o la estudiante considera y valora las diferentes características de sus compañeros, al distribuir tareas.",null,"",null,{"$f":"+IFERROR((VLOOKUP('BASE DE RESPUESTAS'!H31,Back!$M$16:$N$20,2,0)),\"\")","v":""},{"$f":"+IFERROR((VLOOKUP('BASE DE RESPUESTAS'!I31,Back!$M$16:$N$20,2,0)),\"\")","v":""},{"$f":"+IFERROR((VLOOKUP('BASE DE RESPUESTAS'!J31,Back!$M$16:$N$20,2,0)),\"\")","v":""},{"$f":"+IFERROR((VLOOKUP('BASE DE RESPUESTAS'!K31,Back!$M$16:$N$20,2,0)),\"\")","v":""},{"$f":"+IFERROR((VLOOKUP('BASE DE RESPUESTAS'!L31,Back!$M$16:$N$20,2,0)),\"\")","v":""},{"$f":"+IFERROR((VLOOKUP('BASE DE RESPUESTAS'!M31,Back!$M$16:$N$20,2,0)),\"\")","v":""},{"$f":"+IFERROR((VLOOKUP('BASE DE RESPUESTAS'!N31,Back!$M$16:$N$20,2,0)),\"\")","v":""},{"$f":"+IFERROR((VLOOKUP('BASE DE RESPUESTAS'!O31,Back!$M$16:$N$20,2,0)),\"\")","v":""},{"$f":"+IFERROR((VLOOKUP('BASE DE RESPUESTAS'!P31,Back!$M$16:$N$20,2,0)),\"\")","v":""},{"$f":"+IFERROR((VLOOKUP('BASE DE RESPUESTAS'!Q31,Back!$M$16:$N$20,2,0)),\"\")","v":""},{"$f":"+IFERROR((VLOOKUP('BASE DE RESPUESTAS'!R31,Back!$M$16:$N$20,2,0)),\"\")","v":""},{"$f":"+IFERROR((VLOOKUP('BASE DE RESPUESTAS'!S31,Back!$M$16:$N$20,2,0)),\"\")","v":""},{"$f":"+IFERROR((VLOOKUP('BASE DE RESPUESTAS'!T31,Back!$M$16:$N$20,2,0)),\"\")","v":""},{"$f":"+IFERROR((VLOOKUP('BASE DE RESPUESTAS'!U31,Back!$M$16:$N$20,2,0)),\"\")","v":""},{"$f":"+IFERROR((VLOOKUP('BASE DE RESPUESTAS'!V31,Back!$M$16:$N$20,2,0)),\"\")","v":""},{"$f":"+IFERROR((VLOOKUP('BASE DE RESPUESTAS'!W31,Back!$M$16:$N$20,2,0)),\"\")","v":""},{"$f":"+IFERROR((VLOOKUP('BASE DE RESPUESTAS'!X31,Back!$M$16:$N$20,2,0)),\"\")","v":""},{"$f":"+IFERROR((VLOOKUP('BASE DE RESPUESTAS'!Y31,Back!$M$16:$N$20,2,0)),\"\")","v":""},{"$f":"+IFERROR((VLOOKUP('BASE DE RESPUESTAS'!Z31,Back!$M$16:$N$20,2,0)),\"\")","v":""},{"$f":"+IFERROR((VLOOKUP('BASE DE RESPUESTAS'!AA31,Back!$M$16:$N$20,2,0)),\"\")","v":""},{"$f":"+IFERROR((VLOOKUP('BASE DE RESPUESTAS'!AB31,Back!$M$16:$N$20,2,0)),\"\")","v":""},{"$f":"+IFERROR((VLOOKUP('BASE DE RESPUESTAS'!AC31,Back!$M$16:$N$20,2,0)),\"\")","v":""},{"$f":"+IFERROR((VLOOKUP('BASE DE RESPUESTAS'!AD31,Back!$M$16:$N$20,2,0)),\"\")","v":""},{"$f":"+IFERROR((VLOOKUP('BASE DE RESPUESTAS'!AE31,Back!$M$16:$N$20,2,0)),\"\")","v":""},{"$f":"+IFERROR((VLOOKUP('BASE DE RESPUESTAS'!AF31,Back!$M$16:$N$20,2,0)),\"\")","v":""},{"$f":"+IFERROR((VLOOKUP('BASE DE RESPUESTAS'!AG31,Back!$M$16:$N$20,2,0)),\"\")","v":""},{"$f":"+IFERROR((VLOOKUP('BASE DE RESPUESTAS'!AH31,Back!$M$16:$N$20,2,0)),\"\")","v":""},{"$f":"+IFERROR((VLOOKUP('BASE DE RESPUESTAS'!AI31,Back!$M$16:$N$20,2,0)),\"\")","v":""},{"$f":"+IFERROR((VLOOKUP('BASE DE RESPUESTAS'!AJ31,Back!$M$16:$N$20,2,0)),\"\")","v":""},{"$f":"+IFERROR((VLOOKUP('BASE DE RESPUESTAS'!AK31,Back!$M$16:$N$20,2,0)),\"\")","v":""},{"$f":"+IFERROR((VLOOKUP('BASE DE RESPUESTAS'!AL31,Back!$M$16:$N$20,2,0)),\"\")","v":""},{"$f":"+IFERROR((VLOOKUP('BASE DE RESPUESTAS'!AM31,Back!$M$16:$N$20,2,0)),\"\")","v":""},{"$f":"+IFERROR((VLOOKUP('BASE DE RESPUESTAS'!AN31,Back!$M$16:$N$20,2,0)),\"\")","v":""},{"$f":"+IFERROR((VLOOKUP('BASE DE RESPUESTAS'!AO31,Back!$M$16:$N$20,2,0)),\"\")","v":""},{"$f":"+IFERROR((VLOOKUP('BASE DE RESPUESTAS'!AP31,Back!$M$16:$N$20,2,0)),\"\")","v":""},{"$f":"+IFERROR((VLOOKUP('BASE DE RESPUESTAS'!AQ31,Back!$M$16:$N$20,2,0)),\"\")","v":""},{"$f":"+IFERROR((VLOOKUP('BASE DE RESPUESTAS'!AR31,Back!$M$16:$N$20,2,0)),\"\")","v":""},{"$f":"+IFERROR((VLOOKUP('BASE DE RESPUESTAS'!AS31,Back!$M$16:$N$20,2,0)),\"\")","v":""},{"$f":"+IFERROR((VLOOKUP('BASE DE RESPUESTAS'!AT31,Back!$M$16:$N$20,2,0)),\"\")","v":""},{"$f":"+IFERROR((VLOOKUP('BASE DE RESPUESTAS'!AU31,Back!$M$16:$N$20,2,0)),\"\")","v":""},{"$f":"+IFERROR((VLOOKUP('BASE DE RESPUESTAS'!AV31,Back!$M$16:$N$20,2,0)),\"\")","v":""},{"$f":"+IFERROR((VLOOKUP('BASE DE RESPUESTAS'!AW31,Back!$M$16:$N$20,2,0)),\"\")","v":""},{"$f":"+IFERROR((VLOOKUP('BASE DE RESPUESTAS'!AX31,Back!$M$16:$N$20,2,0)),\"\")","v":""},{"$f":"+IFERROR((VLOOKUP('BASE DE RESPUESTAS'!AY31,Back!$M$16:$N$20,2,0)),\"\")","v":""},{"$f":"+IFERROR((VLOOKUP('BASE DE RESPUESTAS'!AZ31,Back!$M$16:$N$20,2,0)),\"\")","v":""},{"$f":"+IFERROR((VLOOKUP('BASE DE RESPUESTAS'!BA31,Back!$M$16:$N$20,2,0)),\"\")","v":""},{"$f":"+IFERROR((VLOOKUP('BASE DE RESPUESTAS'!BB31,Back!$M$16:$N$20,2,0)),\"\")","v":""},{"$f":"+IFERROR((VLOOKUP('BASE DE RESPUESTAS'!BC31,Back!$M$16:$N$20,2,0)),\"\")","v":""},{"$f":"+IFERROR((VLOOKUP('BASE DE RESPUESTAS'!BD31,Back!$M$16:$N$20,2,0)),\"\")","v":""},{"$f":"+IFERROR((VLOOKUP('BASE DE RESPUESTAS'!BE31,Back!$M$16:$N$20,2,0)),\"\")","v":""}]
[null,"HSE",null,"El o la estudiante cumple con las indicaciones y plazos de las tareas contribuyendo al trabajo en equipo.",null,"",null,{"$f":"+IFERROR((VLOOKUP('BASE DE RESPUESTAS'!H32,Back!$M$16:$N$20,2,0)),\"\")","v":""},{"$f":"+IFERROR((VLOOKUP('BASE DE RESPUESTAS'!I32,Back!$M$16:$N$20,2,0)),\"\")","v":""},{"$f":"+IFERROR((VLOOKUP('BASE DE RESPUESTAS'!J32,Back!$M$16:$N$20,2,0)),\"\")","v":""},{"$f":"+IFERROR((VLOOKUP('BASE DE RESPUESTAS'!K32,Back!$M$16:$N$20,2,0)),\"\")","v":""},{"$f":"+IFERROR((VLOOKUP('BASE DE RESPUESTAS'!L32,Back!$M$16:$N$20,2,0)),\"\")","v":""},{"$f":"+IFERROR((VLOOKUP('BASE DE RESPUESTAS'!M32,Back!$M$16:$N$20,2,0)),\"\")","v":""},{"$f":"+IFERROR((VLOOKUP('BASE DE RESPUESTAS'!N32,Back!$M$16:$N$20,2,0)),\"\")","v":""},{"$f":"+IFERROR((VLOOKUP('BASE DE RESPUESTAS'!O32,Back!$M$16:$N$20,2,0)),\"\")","v":""},{"$f":"+IFERROR((VLOOKUP('BASE DE RESPUESTAS'!P32,Back!$M$16:$N$20,2,0)),\"\")","v":""},{"$f":"+IFERROR((VLOOKUP('BASE DE RESPUESTAS'!Q32,Back!$M$16:$N$20,2,0)),\"\")","v":""},{"$f":"+IFERROR((VLOOKUP('BASE DE RESPUESTAS'!R32,Back!$M$16:$N$20,2,0)),\"\")","v":""},{"$f":"+IFERROR((VLOOKUP('BASE DE RESPUESTAS'!S32,Back!$M$16:$N$20,2,0)),\"\")","v":""},{"$f":"+IFERROR((VLOOKUP('BASE DE RESPUESTAS'!T32,Back!$M$16:$N$20,2,0)),\"\")","v":""},{"$f":"+IFERROR((VLOOKUP('BASE DE RESPUESTAS'!U32,Back!$M$16:$N$20,2,0)),\"\")","v":""},{"$f":"+IFERROR((VLOOKUP('BASE DE RESPUESTAS'!V32,Back!$M$16:$N$20,2,0)),\"\")","v":""},{"$f":"+IFERROR((VLOOKUP('BASE DE RESPUESTAS'!W32,Back!$M$16:$N$20,2,0)),\"\")","v":""},{"$f":"+IFERROR((VLOOKUP('BASE DE RESPUESTAS'!X32,Back!$M$16:$N$20,2,0)),\"\")","v":""},{"$f":"+IFERROR((VLOOKUP('BASE DE RESPUESTAS'!Y32,Back!$M$16:$N$20,2,0)),\"\")","v":""},{"$f":"+IFERROR((VLOOKUP('BASE DE RESPUESTAS'!Z32,Back!$M$16:$N$20,2,0)),\"\")","v":""},{"$f":"+IFERROR((VLOOKUP('BASE DE RESPUESTAS'!AA32,Back!$M$16:$N$20,2,0)),\"\")","v":""},{"$f":"+IFERROR((VLOOKUP('BASE DE RESPUESTAS'!AB32,Back!$M$16:$N$20,2,0)),\"\")","v":""},{"$f":"+IFERROR((VLOOKUP('BASE DE RESPUESTAS'!AC32,Back!$M$16:$N$20,2,0)),\"\")","v":""},{"$f":"+IFERROR((VLOOKUP('BASE DE RESPUESTAS'!AD32,Back!$M$16:$N$20,2,0)),\"\")","v":""},{"$f":"+IFERROR((VLOOKUP('BASE DE RESPUESTAS'!AE32,Back!$M$16:$N$20,2,0)),\"\")","v":""},{"$f":"+IFERROR((VLOOKUP('BASE DE RESPUESTAS'!AF32,Back!$M$16:$N$20,2,0)),\"\")","v":""},{"$f":"+IFERROR((VLOOKUP('BASE DE RESPUESTAS'!AG32,Back!$M$16:$N$20,2,0)),\"\")","v":""},{"$f":"+IFERROR((VLOOKUP('BASE DE RESPUESTAS'!AH32,Back!$M$16:$N$20,2,0)),\"\")","v":""},{"$f":"+IFERROR((VLOOKUP('BASE DE RESPUESTAS'!AI32,Back!$M$16:$N$20,2,0)),\"\")","v":""},{"$f":"+IFERROR((VLOOKUP('BASE DE RESPUESTAS'!AJ32,Back!$M$16:$N$20,2,0)),\"\")","v":""},{"$f":"+IFERROR((VLOOKUP('BASE DE RESPUESTAS'!AK32,Back!$M$16:$N$20,2,0)),\"\")","v":""},{"$f":"+IFERROR((VLOOKUP('BASE DE RESPUESTAS'!AL32,Back!$M$16:$N$20,2,0)),\"\")","v":""},{"$f":"+IFERROR((VLOOKUP('BASE DE RESPUESTAS'!AM32,Back!$M$16:$N$20,2,0)),\"\")","v":""},{"$f":"+IFERROR((VLOOKUP('BASE DE RESPUESTAS'!AN32,Back!$M$16:$N$20,2,0)),\"\")","v":""},{"$f":"+IFERROR((VLOOKUP('BASE DE RESPUESTAS'!AO32,Back!$M$16:$N$20,2,0)),\"\")","v":""},{"$f":"+IFERROR((VLOOKUP('BASE DE RESPUESTAS'!AP32,Back!$M$16:$N$20,2,0)),\"\")","v":""},{"$f":"+IFERROR((VLOOKUP('BASE DE RESPUESTAS'!AQ32,Back!$M$16:$N$20,2,0)),\"\")","v":""},{"$f":"+IFERROR((VLOOKUP('BASE DE RESPUESTAS'!AR32,Back!$M$16:$N$20,2,0)),\"\")","v":""},{"$f":"+IFERROR((VLOOKUP('BASE DE RESPUESTAS'!AS32,Back!$M$16:$N$20,2,0)),\"\")","v":""},{"$f":"+IFERROR((VLOOKUP('BASE DE RESPUESTAS'!AT32,Back!$M$16:$N$20,2,0)),\"\")","v":""},{"$f":"+IFERROR((VLOOKUP('BASE DE RESPUESTAS'!AU32,Back!$M$16:$N$20,2,0)),\"\")","v":""},{"$f":"+IFERROR((VLOOKUP('BASE DE RESPUESTAS'!AV32,Back!$M$16:$N$20,2,0)),\"\")","v":""},{"$f":"+IFERROR((VLOOKUP('BASE DE RESPUESTAS'!AW32,Back!$M$16:$N$20,2,0)),\"\")","v":""},{"$f":"+IFERROR((VLOOKUP('BASE DE RESPUESTAS'!AX32,Back!$M$16:$N$20,2,0)),\"\")","v":""},{"$f":"+IFERROR((VLOOKUP('BASE DE RESPUESTAS'!AY32,Back!$M$16:$N$20,2,0)),\"\")","v":""},{"$f":"+IFERROR((VLOOKUP('BASE DE RESPUESTAS'!AZ32,Back!$M$16:$N$20,2,0)),\"\")","v":""},{"$f":"+IFERROR((VLOOKUP('BASE DE RESPUESTAS'!BA32,Back!$M$16:$N$20,2,0)),\"\")","v":""},{"$f":"+IFERROR((VLOOKUP('BASE DE RESPUESTAS'!BB32,Back!$M$16:$N$20,2,0)),\"\")","v":""},{"$f":"+IFERROR((VLOOKUP('BASE DE RESPUESTAS'!BC32,Back!$M$16:$N$20,2,0)),\"\")","v":""},{"$f":"+IFERROR((VLOOKUP('BASE DE RESPUESTAS'!BD32,Back!$M$16:$N$20,2,0)),\"\")","v":""},{"$f":"+IFERROR((VLOOKUP('BASE DE RESPUESTAS'!BE32,Back!$M$16:$N$20,2,0)),\"\")","v":""}]
[null,"HSE","Empatía","El o la estudiante comprende las emociones de otras personas a través de sus gestos y expresiones verbales.",null,"",null,{"$f":"+IFERROR((VLOOKUP('BASE DE RESPUESTAS'!H33,Back!$M$16:$N$20,2,0)),\"\")","v":""},{"$f":"+IFERROR((VLOOKUP('BASE DE RESPUESTAS'!I33,Back!$M$16:$N$20,2,0)),\"\")","v":""},{"$f":"+IFERROR((VLOOKUP('BASE DE RESPUESTAS'!J33,Back!$M$16:$N$20,2,0)),\"\")","v":""},{"$f":"+IFERROR((VLOOKUP('BASE DE RESPUESTAS'!K33,Back!$M$16:$N$20,2,0)),\"\")","v":""},{"$f":"+IFERROR((VLOOKUP('BASE DE RESPUESTAS'!L33,Back!$M$16:$N$20,2,0)),\"\")","v":""},{"$f":"+IFERROR((VLOOKUP('BASE DE RESPUESTAS'!M33,Back!$M$16:$N$20,2,0)),\"\")","v":""},{"$f":"+IFERROR((VLOOKUP('BASE DE RESPUESTAS'!N33,Back!$M$16:$N$20,2,0)),\"\")","v":""},{"$f":"+IFERROR((VLOOKUP('BASE DE RESPUESTAS'!O33,Back!$M$16:$N$20,2,0)),\"\")","v":""},{"$f":"+IFERROR((VLOOKUP('BASE DE RESPUESTAS'!P33,Back!$M$16:$N$20,2,0)),\"\")","v":""},{"$f":"+IFERROR((VLOOKUP('BASE DE RESPUESTAS'!Q33,Back!$M$16:$N$20,2,0)),\"\")","v":""},{"$f":"+IFERROR((VLOOKUP('BASE DE RESPUESTAS'!R33,Back!$M$16:$N$20,2,0)),\"\")","v":""},{"$f":"+IFERROR((VLOOKUP('BASE DE RESPUESTAS'!S33,Back!$M$16:$N$20,2,0)),\"\")","v":""},{"$f":"+IFERROR((VLOOKUP('BASE DE RESPUESTAS'!T33,Back!$M$16:$N$20,2,0)),\"\")","v":""},{"$f":"+IFERROR((VLOOKUP('BASE DE RESPUESTAS'!U33,Back!$M$16:$N$20,2,0)),\"\")","v":""},{"$f":"+IFERROR((VLOOKUP('BASE DE RESPUESTAS'!V33,Back!$M$16:$N$20,2,0)),\"\")","v":""},{"$f":"+IFERROR((VLOOKUP('BASE DE RESPUESTAS'!W33,Back!$M$16:$N$20,2,0)),\"\")","v":""},{"$f":"+IFERROR((VLOOKUP('BASE DE RESPUESTAS'!X33,Back!$M$16:$N$20,2,0)),\"\")","v":""},{"$f":"+IFERROR((VLOOKUP('BASE DE RESPUESTAS'!Y33,Back!$M$16:$N$20,2,0)),\"\")","v":""},{"$f":"+IFERROR((VLOOKUP('BASE DE RESPUESTAS'!Z33,Back!$M$16:$N$20,2,0)),\"\")","v":""},{"$f":"+IFERROR((VLOOKUP('BASE DE RESPUESTAS'!AA33,Back!$M$16:$N$20,2,0)),\"\")","v":""},{"$f":"+IFERROR((VLOOKUP('BASE DE RESPUESTAS'!AB33,Back!$M$16:$N$20,2,0)),\"\")","v":""},{"$f":"+IFERROR((VLOOKUP('BASE DE RESPUESTAS'!AC33,Back!$M$16:$N$20,2,0)),\"\")","v":""},{"$f":"+IFERROR((VLOOKUP('BASE DE RESPUESTAS'!AD33,Back!$M$16:$N$20,2,0)),\"\")","v":""},{"$f":"+IFERROR((VLOOKUP('BASE DE RESPUESTAS'!AE33,Back!$M$16:$N$20,2,0)),\"\")","v":""},{"$f":"+IFERROR((VLOOKUP('BASE DE RESPUESTAS'!AF33,Back!$M$16:$N$20,2,0)),\"\")","v":""},{"$f":"+IFERROR((VLOOKUP('BASE DE RESPUESTAS'!AG33,Back!$M$16:$N$20,2,0)),\"\")","v":""},{"$f":"+IFERROR((VLOOKUP('BASE DE RESPUESTAS'!AH33,Back!$M$16:$N$20,2,0)),\"\")","v":""},{"$f":"+IFERROR((VLOOKUP('BASE DE RESPUESTAS'!AI33,Back!$M$16:$N$20,2,0)),\"\")","v":""},{"$f":"+IFERROR((VLOOKUP('BASE DE RESPUESTAS'!AJ33,Back!$M$16:$N$20,2,0)),\"\")","v":""},{"$f":"+IFERROR((VLOOKUP('BASE DE RESPUESTAS'!AK33,Back!$M$16:$N$20,2,0)),\"\")","v":""},{"$f":"+IFERROR((VLOOKUP('BASE DE RESPUESTAS'!AL33,Back!$M$16:$N$20,2,0)),\"\")","v":""},{"$f":"+IFERROR((VLOOKUP('BASE DE RESPUESTAS'!AM33,Back!$M$16:$N$20,2,0)),\"\")","v":""},{"$f":"+IFERROR((VLOOKUP('BASE DE RESPUESTAS'!AN33,Back!$M$16:$N$20,2,0)),\"\")","v":""},{"$f":"+IFERROR((VLOOKUP('BASE DE RESPUESTAS'!AO33,Back!$M$16:$N$20,2,0)),\"\")","v":""},{"$f":"+IFERROR((VLOOKUP('BASE DE RESPUESTAS'!AP33,Back!$M$16:$N$20,2,0)),\"\")","v":""},{"$f":"+IFERROR((VLOOKUP('BASE DE RESPUESTAS'!AQ33,Back!$M$16:$N$20,2,0)),\"\")","v":""},{"$f":"+IFERROR((VLOOKUP('BASE DE RESPUESTAS'!AR33,Back!$M$16:$N$20,2,0)),\"\")","v":""},{"$f":"+IFERROR((VLOOKUP('BASE DE RESPUESTAS'!AS33,Back!$M$16:$N$20,2,0)),\"\")","v":""},{"$f":"+IFERROR((VLOOKUP('BASE DE RESPUESTAS'!AT33,Back!$M$16:$N$20,2,0)),\"\")","v":""},{"$f":"+IFERROR((VLOOKUP('BASE DE RESPUESTAS'!AU33,Back!$M$16:$N$20,2,0)),\"\")","v":""},{"$f":"+IFERROR((VLOOKUP('BASE DE RESPUESTAS'!AV33,Back!$M$16:$N$20,2,0)),\"\")","v":""},{"$f":"+IFERROR((VLOOKUP('BASE DE RESPUESTAS'!AW33,Back!$M$16:$N$20,2,0)),\"\")","v":""},{"$f":"+IFERROR((VLOOKUP('BASE DE RESPUESTAS'!AX33,Back!$M$16:$N$20,2,0)),\"\")","v":""},{"$f":"+IFERROR((VLOOKUP('BASE DE RESPUESTAS'!AY33,Back!$M$16:$N$20,2,0)),\"\")","v":""},{"$f":"+IFERROR((VLOOKUP('BASE DE RESPUESTAS'!AZ33,Back!$M$16:$N$20,2,0)),\"\")","v":""},{"$f":"+IFERROR((VLOOKUP('BASE DE RESPUESTAS'!BA33,Back!$M$16:$N$20,2,0)),\"\")","v":""},{"$f":"+IFERROR((VLOOKUP('BASE DE RESPUESTAS'!BB33,Back!$M$16:$N$20,2,0)),\"\")","v":""},{"$f":"+IFERROR((VLOOKUP('BASE DE RESPUESTAS'!BC33,Back!$M$16:$N$20,2,0)),\"\")","v":""},{"$f":"+IFERROR((VLOOKUP('BASE DE RESPUESTAS'!BD33,Back!$M$16:$N$20,2,0)),\"\")","v":""},{"$f":"+IFERROR((VLOOKUP('BASE DE RESPUESTAS'!BE33,Back!$M$16:$N$20,2,0)),\"\")","v":""}]
[null,"HSE",null,"El o la estudiante entiende la situación o necesidades que está viviendo la otra persona y busca como ayudarla.",null,"",null,{"$f":"+IFERROR((VLOOKUP('BASE DE RESPUESTAS'!H34,Back!$M$16:$N$20,2,0)),\"\")","v":""},{"$f":"+IFERROR((VLOOKUP('BASE DE RESPUESTAS'!I34,Back!$M$16:$N$20,2,0)),\"\")","v":""},{"$f":"+IFERROR((VLOOKUP('BASE DE RESPUESTAS'!J34,Back!$M$16:$N$20,2,0)),\"\")","v":""},{"$f":"+IFERROR((VLOOKUP('BASE DE RESPUESTAS'!K34,Back!$M$16:$N$20,2,0)),\"\")","v":""},{"$f":"+IFERROR((VLOOKUP('BASE DE RESPUESTAS'!L34,Back!$M$16:$N$20,2,0)),\"\")","v":""},{"$f":"+IFERROR((VLOOKUP('BASE DE RESPUESTAS'!M34,Back!$M$16:$N$20,2,0)),\"\")","v":""},{"$f":"+IFERROR((VLOOKUP('BASE DE RESPUESTAS'!N34,Back!$M$16:$N$20,2,0)),\"\")","v":""},{"$f":"+IFERROR((VLOOKUP('BASE DE RESPUESTAS'!O34,Back!$M$16:$N$20,2,0)),\"\")","v":""},{"$f":"+IFERROR((VLOOKUP('BASE DE RESPUESTAS'!P34,Back!$M$16:$N$20,2,0)),\"\")","v":""},{"$f":"+IFERROR((VLOOKUP('BASE DE RESPUESTAS'!Q34,Back!$M$16:$N$20,2,0)),\"\")","v":""},{"$f":"+IFERROR((VLOOKUP('BASE DE RESPUESTAS'!R34,Back!$M$16:$N$20,2,0)),\"\")","v":""},{"$f":"+IFERROR((VLOOKUP('BASE DE RESPUESTAS'!S34,Back!$M$16:$N$20,2,0)),\"\")","v":""},{"$f":"+IFERROR((VLOOKUP('BASE DE RESPUESTAS'!T34,Back!$M$16:$N$20,2,0)),\"\")","v":""},{"$f":"+IFERROR((VLOOKUP('BASE DE RESPUESTAS'!U34,Back!$M$16:$N$20,2,0)),\"\")","v":""},{"$f":"+IFERROR((VLOOKUP('BASE DE RESPUESTAS'!V34,Back!$M$16:$N$20,2,0)),\"\")","v":""},{"$f":"+IFERROR((VLOOKUP('BASE DE RESPUESTAS'!W34,Back!$M$16:$N$20,2,0)),\"\")","v":""},{"$f":"+IFERROR((VLOOKUP('BASE DE RESPUESTAS'!X34,Back!$M$16:$N$20,2,0)),\"\")","v":""},{"$f":"+IFERROR((VLOOKUP('BASE DE RESPUESTAS'!Y34,Back!$M$16:$N$20,2,0)),\"\")","v":""},{"$f":"+IFERROR((VLOOKUP('BASE DE RESPUESTAS'!Z34,Back!$M$16:$N$20,2,0)),\"\")","v":""},{"$f":"+IFERROR((VLOOKUP('BASE DE RESPUESTAS'!AA34,Back!$M$16:$N$20,2,0)),\"\")","v":""},{"$f":"+IFERROR((VLOOKUP('BASE DE RESPUESTAS'!AB34,Back!$M$16:$N$20,2,0)),\"\")","v":""},{"$f":"+IFERROR((VLOOKUP('BASE DE RESPUESTAS'!AC34,Back!$M$16:$N$20,2,0)),\"\")","v":""},{"$f":"+IFERROR((VLOOKUP('BASE DE RESPUESTAS'!AD34,Back!$M$16:$N$20,2,0)),\"\")","v":""},{"$f":"+IFERROR((VLOOKUP('BASE DE RESPUESTAS'!AE34,Back!$M$16:$N$20,2,0)),\"\")","v":""},{"$f":"+IFERROR((VLOOKUP('BASE DE RESPUESTAS'!AF34,Back!$M$16:$N$20,2,0)),\"\")","v":""},{"$f":"+IFERROR((VLOOKUP('BASE DE RESPUESTAS'!AG34,Back!$M$16:$N$20,2,0)),\"\")","v":""},{"$f":"+IFERROR((VLOOKUP('BASE DE RESPUESTAS'!AH34,Back!$M$16:$N$20,2,0)),\"\")","v":""},{"$f":"+IFERROR((VLOOKUP('BASE DE RESPUESTAS'!AI34,Back!$M$16:$N$20,2,0)),\"\")","v":""},{"$f":"+IFERROR((VLOOKUP('BASE DE RESPUESTAS'!AJ34,Back!$M$16:$N$20,2,0)),\"\")","v":""},{"$f":"+IFERROR((VLOOKUP('BASE DE RESPUESTAS'!AK34,Back!$M$16:$N$20,2,0)),\"\")","v":""},{"$f":"+IFERROR((VLOOKUP('BASE DE RESPUESTAS'!AL34,Back!$M$16:$N$20,2,0)),\"\")","v":""},{"$f":"+IFERROR((VLOOKUP('BASE DE RESPUESTAS'!AM34,Back!$M$16:$N$20,2,0)),\"\")","v":""},{"$f":"+IFERROR((VLOOKUP('BASE DE RESPUESTAS'!AN34,Back!$M$16:$N$20,2,0)),\"\")","v":""},{"$f":"+IFERROR((VLOOKUP('BASE DE RESPUESTAS'!AO34,Back!$M$16:$N$20,2,0)),\"\")","v":""},{"$f":"+IFERROR((VLOOKUP('BASE DE RESPUESTAS'!AP34,Back!$M$16:$N$20,2,0)),\"\")","v":""},{"$f":"+IFERROR((VLOOKUP('BASE DE RESPUESTAS'!AQ34,Back!$M$16:$N$20,2,0)),\"\")","v":""},{"$f":"+IFERROR((VLOOKUP('BASE DE RESPUESTAS'!AR34,Back!$M$16:$N$20,2,0)),\"\")","v":""},{"$f":"+IFERROR((VLOOKUP('BASE DE RESPUESTAS'!AS34,Back!$M$16:$N$20,2,0)),\"\")","v":""},{"$f":"+IFERROR((VLOOKUP('BASE DE RESPUESTAS'!AT34,Back!$M$16:$N$20,2,0)),\"\")","v":""},{"$f":"+IFERROR((VLOOKUP('BASE DE RESPUESTAS'!AU34,Back!$M$16:$N$20,2,0)),\"\")","v":""},{"$f":"+IFERROR((VLOOKUP('BASE DE RESPUESTAS'!AV34,Back!$M$16:$N$20,2,0)),\"\")","v":""},{"$f":"+IFERROR((VLOOKUP('BASE DE RESPUESTAS'!AW34,Back!$M$16:$N$20,2,0)),\"\")","v":""},{"$f":"+IFERROR((VLOOKUP('BASE DE RESPUESTAS'!AX34,Back!$M$16:$N$20,2,0)),\"\")","v":""},{"$f":"+IFERROR((VLOOKUP('BASE DE RESPUESTAS'!AY34,Back!$M$16:$N$20,2,0)),\"\")","v":""},{"$f":"+IFERROR((VLOOKUP('BASE DE RESPUESTAS'!AZ34,Back!$M$16:$N$20,2,0)),\"\")","v":""},{"$f":"+IFERROR((VLOOKUP('BASE DE RESPUESTAS'!BA34,Back!$M$16:$N$20,2,0)),\"\")","v":""},{"$f":"+IFERROR((VLOOKUP('BASE DE RESPUESTAS'!BB34,Back!$M$16:$N$20,2,0)),\"\")","v":""},{"$f":"+IFERROR((VLOOKUP('BASE DE RESPUESTAS'!BC34,Back!$M$16:$N$20,2,0)),\"\")","v":""},{"$f":"+IFERROR((VLOOKUP('BASE DE RESPUESTAS'!BD34,Back!$M$16:$N$20,2,0)),\"\")","v":""},{"$f":"+IFERROR((VLOOKUP('BASE DE RESPUESTAS'!BE34,Back!$M$16:$N$20,2,0)),\"\")","v":""}]
[null,"HSE","Resolución de conflictos","El estudiante es capaz de reconocer una situación conflictiva",null,"",null,{"$f":"+IFERROR((VLOOKUP('BASE DE RESPUESTAS'!H35,Back!$M$16:$N$20,2,0)),\"\")","v":""},{"$f":"+IFERROR((VLOOKUP('BASE DE RESPUESTAS'!I35,Back!$M$16:$N$20,2,0)),\"\")","v":""},{"$f":"+IFERROR((VLOOKUP('BASE DE RESPUESTAS'!J35,Back!$M$16:$N$20,2,0)),\"\")","v":""},{"$f":"+IFERROR((VLOOKUP('BASE DE RESPUESTAS'!K35,Back!$M$16:$N$20,2,0)),\"\")","v":""},{"$f":"+IFERROR((VLOOKUP('BASE DE RESPUESTAS'!L35,Back!$M$16:$N$20,2,0)),\"\")","v":""},{"$f":"+IFERROR((VLOOKUP('BASE DE RESPUESTAS'!M35,Back!$M$16:$N$20,2,0)),\"\")","v":""},{"$f":"+IFERROR((VLOOKUP('BASE DE RESPUESTAS'!N35,Back!$M$16:$N$20,2,0)),\"\")","v":""},{"$f":"+IFERROR((VLOOKUP('BASE DE RESPUESTAS'!O35,Back!$M$16:$N$20,2,0)),\"\")","v":""},{"$f":"+IFERROR((VLOOKUP('BASE DE RESPUESTAS'!P35,Back!$M$16:$N$20,2,0)),\"\")","v":""},{"$f":"+IFERROR((VLOOKUP('BASE DE RESPUESTAS'!Q35,Back!$M$16:$N$20,2,0)),\"\")","v":""},{"$f":"+IFERROR((VLOOKUP('BASE DE RESPUESTAS'!R35,Back!$M$16:$N$20,2,0)),\"\")","v":""},{"$f":"+IFERROR((VLOOKUP('BASE DE RESPUESTAS'!S35,Back!$M$16:$N$20,2,0)),\"\")","v":""},{"$f":"+IFERROR((VLOOKUP('BASE DE RESPUESTAS'!T35,Back!$M$16:$N$20,2,0)),\"\")","v":""},{"$f":"+IFERROR((VLOOKUP('BASE DE RESPUESTAS'!U35,Back!$M$16:$N$20,2,0)),\"\")","v":""},{"$f":"+IFERROR((VLOOKUP('BASE DE RESPUESTAS'!V35,Back!$M$16:$N$20,2,0)),\"\")","v":""},{"$f":"+IFERROR((VLOOKUP('BASE DE RESPUESTAS'!W35,Back!$M$16:$N$20,2,0)),\"\")","v":""},{"$f":"+IFERROR((VLOOKUP('BASE DE RESPUESTAS'!X35,Back!$M$16:$N$20,2,0)),\"\")","v":""},{"$f":"+IFERROR((VLOOKUP('BASE DE RESPUESTAS'!Y35,Back!$M$16:$N$20,2,0)),\"\")","v":""},{"$f":"+IFERROR((VLOOKUP('BASE DE RESPUESTAS'!Z35,Back!$M$16:$N$20,2,0)),\"\")","v":""},{"$f":"+IFERROR((VLOOKUP('BASE DE RESPUESTAS'!AA35,Back!$M$16:$N$20,2,0)),\"\")","v":""},{"$f":"+IFERROR((VLOOKUP('BASE DE RESPUESTAS'!AB35,Back!$M$16:$N$20,2,0)),\"\")","v":""},{"$f":"+IFERROR((VLOOKUP('BASE DE RESPUESTAS'!AC35,Back!$M$16:$N$20,2,0)),\"\")","v":""},{"$f":"+IFERROR((VLOOKUP('BASE DE RESPUESTAS'!AD35,Back!$M$16:$N$20,2,0)),\"\")","v":""},{"$f":"+IFERROR((VLOOKUP('BASE DE RESPUESTAS'!AE35,Back!$M$16:$N$20,2,0)),\"\")","v":""},{"$f":"+IFERROR((VLOOKUP('BASE DE RESPUESTAS'!AF35,Back!$M$16:$N$20,2,0)),\"\")","v":""},{"$f":"+IFERROR((VLOOKUP('BASE DE RESPUESTAS'!AG35,Back!$M$16:$N$20,2,0)),\"\")","v":""},{"$f":"+IFERROR((VLOOKUP('BASE DE RESPUESTAS'!AH35,Back!$M$16:$N$20,2,0)),\"\")","v":""},{"$f":"+IFERROR((VLOOKUP('BASE DE RESPUESTAS'!AI35,Back!$M$16:$N$20,2,0)),\"\")","v":""},{"$f":"+IFERROR((VLOOKUP('BASE DE RESPUESTAS'!AJ35,Back!$M$16:$N$20,2,0)),\"\")","v":""},{"$f":"+IFERROR((VLOOKUP('BASE DE RESPUESTAS'!AK35,Back!$M$16:$N$20,2,0)),\"\")","v":""},{"$f":"+IFERROR((VLOOKUP('BASE DE RESPUESTAS'!AL35,Back!$M$16:$N$20,2,0)),\"\")","v":""},{"$f":"+IFERROR((VLOOKUP('BASE DE RESPUESTAS'!AM35,Back!$M$16:$N$20,2,0)),\"\")","v":""},{"$f":"+IFERROR((VLOOKUP('BASE DE RESPUESTAS'!AN35,Back!$M$16:$N$20,2,0)),\"\")","v":""},{"$f":"+IFERROR((VLOOKUP('BASE DE RESPUESTAS'!AO35,Back!$M$16:$N$20,2,0)),\"\")","v":""},{"$f":"+IFERROR((VLOOKUP('BASE DE RESPUESTAS'!AP35,Back!$M$16:$N$20,2,0)),\"\")","v":""},{"$f":"+IFERROR((VLOOKUP('BASE DE RESPUESTAS'!AQ35,Back!$M$16:$N$20,2,0)),\"\")","v":""},{"$f":"+IFERROR((VLOOKUP('BASE DE RESPUESTAS'!AR35,Back!$M$16:$N$20,2,0)),\"\")","v":""},{"$f":"+IFERROR((VLOOKUP('BASE DE RESPUESTAS'!AS35,Back!$M$16:$N$20,2,0)),\"\")","v":""},{"$f":"+IFERROR((VLOOKUP('BASE DE RESPUESTAS'!AT35,Back!$M$16:$N$20,2,0)),\"\")","v":""},{"$f":"+IFERROR((VLOOKUP('BASE DE RESPUESTAS'!AU35,Back!$M$16:$N$20,2,0)),\"\")","v":""},{"$f":"+IFERROR((VLOOKUP('BASE DE RESPUESTAS'!AV35,Back!$M$16:$N$20,2,0)),\"\")","v":""},{"$f":"+IFERROR((VLOOKUP('BASE DE RESPUESTAS'!AW35,Back!$M$16:$N$20,2,0)),\"\")","v":""},{"$f":"+IFERROR((VLOOKUP('BASE DE RESPUESTAS'!AX35,Back!$M$16:$N$20,2,0)),\"\")","v":""},{"$f":"+IFERROR((VLOOKUP('BASE DE RESPUESTAS'!AY35,Back!$M$16:$N$20,2,0)),\"\")","v":""},{"$f":"+IFERROR((VLOOKUP('BASE DE RESPUESTAS'!AZ35,Back!$M$16:$N$20,2,0)),\"\")","v":""},{"$f":"+IFERROR((VLOOKUP('BASE DE RESPUESTAS'!BA35,Back!$M$16:$N$20,2,0)),\"\")","v":""},{"$f":"+IFERROR((VLOOKUP('BASE DE RESPUESTAS'!BB35,Back!$M$16:$N$20,2,0)),\"\")","v":""},{"$f":"+IFERROR((VLOOKUP('BASE DE RESPUESTAS'!BC35,Back!$M$16:$N$20,2,0)),\"\")","v":""},{"$f":"+IFERROR((VLOOKUP('BASE DE RESPUESTAS'!BD35,Back!$M$16:$N$20,2,0)),\"\")","v":""},{"$f":"+IFERROR((VLOOKUP('BASE DE RESPUESTAS'!BE35,Back!$M$16:$N$20,2,0)),\"\")","v":""}]
[null,"HSE",null,"El o la estudiante participa en una acción para resolver un conflicto",null,"",null,{"$f":"+IFERROR((VLOOKUP('BASE DE RESPUESTAS'!H36,Back!$M$16:$N$20,2,0)),\"\")","v":""},{"$f":"+IFERROR((VLOOKUP('BASE DE RESPUESTAS'!I36,Back!$M$16:$N$20,2,0)),\"\")","v":""},{"$f":"+IFERROR((VLOOKUP('BASE DE RESPUESTAS'!J36,Back!$M$16:$N$20,2,0)),\"\")","v":""},{"$f":"+IFERROR((VLOOKUP('BASE DE RESPUESTAS'!K36,Back!$M$16:$N$20,2,0)),\"\")","v":""},{"$f":"+IFERROR((VLOOKUP('BASE DE RESPUESTAS'!L36,Back!$M$16:$N$20,2,0)),\"\")","v":""},{"$f":"+IFERROR((VLOOKUP('BASE DE RESPUESTAS'!M36,Back!$M$16:$N$20,2,0)),\"\")","v":""},{"$f":"+IFERROR((VLOOKUP('BASE DE RESPUESTAS'!N36,Back!$M$16:$N$20,2,0)),\"\")","v":""},{"$f":"+IFERROR((VLOOKUP('BASE DE RESPUESTAS'!O36,Back!$M$16:$N$20,2,0)),\"\")","v":""},{"$f":"+IFERROR((VLOOKUP('BASE DE RESPUESTAS'!P36,Back!$M$16:$N$20,2,0)),\"\")","v":""},{"$f":"+IFERROR((VLOOKUP('BASE DE RESPUESTAS'!Q36,Back!$M$16:$N$20,2,0)),\"\")","v":""},{"$f":"+IFERROR((VLOOKUP('BASE DE RESPUESTAS'!R36,Back!$M$16:$N$20,2,0)),\"\")","v":""},{"$f":"+IFERROR((VLOOKUP('BASE DE RESPUESTAS'!S36,Back!$M$16:$N$20,2,0)),\"\")","v":""},{"$f":"+IFERROR((VLOOKUP('BASE DE RESPUESTAS'!T36,Back!$M$16:$N$20,2,0)),\"\")","v":""},{"$f":"+IFERROR((VLOOKUP('BASE DE RESPUESTAS'!U36,Back!$M$16:$N$20,2,0)),\"\")","v":""},{"$f":"+IFERROR((VLOOKUP('BASE DE RESPUESTAS'!V36,Back!$M$16:$N$20,2,0)),\"\")","v":""},{"$f":"+IFERROR((VLOOKUP('BASE DE RESPUESTAS'!W36,Back!$M$16:$N$20,2,0)),\"\")","v":""},{"$f":"+IFERROR((VLOOKUP('BASE DE RESPUESTAS'!X36,Back!$M$16:$N$20,2,0)),\"\")","v":""},{"$f":"+IFERROR((VLOOKUP('BASE DE RESPUESTAS'!Y36,Back!$M$16:$N$20,2,0)),\"\")","v":""},{"$f":"+IFERROR((VLOOKUP('BASE DE RESPUESTAS'!Z36,Back!$M$16:$N$20,2,0)),\"\")","v":""},{"$f":"+IFERROR((VLOOKUP('BASE DE RESPUESTAS'!AA36,Back!$M$16:$N$20,2,0)),\"\")","v":""},{"$f":"+IFERROR((VLOOKUP('BASE DE RESPUESTAS'!AB36,Back!$M$16:$N$20,2,0)),\"\")","v":""},{"$f":"+IFERROR((VLOOKUP('BASE DE RESPUESTAS'!AC36,Back!$M$16:$N$20,2,0)),\"\")","v":""},{"$f":"+IFERROR((VLOOKUP('BASE DE RESPUESTAS'!AD36,Back!$M$16:$N$20,2,0)),\"\")","v":""},{"$f":"+IFERROR((VLOOKUP('BASE DE RESPUESTAS'!AE36,Back!$M$16:$N$20,2,0)),\"\")","v":""},{"$f":"+IFERROR((VLOOKUP('BASE DE RESPUESTAS'!AF36,Back!$M$16:$N$20,2,0)),\"\")","v":""},{"$f":"+IFERROR((VLOOKUP('BASE DE RESPUESTAS'!AG36,Back!$M$16:$N$20,2,0)),\"\")","v":""},{"$f":"+IFERROR((VLOOKUP('BASE DE RESPUESTAS'!AH36,Back!$M$16:$N$20,2,0)),\"\")","v":""},{"$f":"+IFERROR((VLOOKUP('BASE DE RESPUESTAS'!AI36,Back!$M$16:$N$20,2,0)),\"\")","v":""},{"$f":"+IFERROR((VLOOKUP('BASE DE RESPUESTAS'!AJ36,Back!$M$16:$N$20,2,0)),\"\")","v":""},{"$f":"+IFERROR((VLOOKUP('BASE DE RESPUESTAS'!AK36,Back!$M$16:$N$20,2,0)),\"\")","v":""},{"$f":"+IFERROR((VLOOKUP('BASE DE RESPUESTAS'!AL36,Back!$M$16:$N$20,2,0)),\"\")","v":""},{"$f":"+IFERROR((VLOOKUP('BASE DE RESPUESTAS'!AM36,Back!$M$16:$N$20,2,0)),\"\")","v":""},{"$f":"+IFERROR((VLOOKUP('BASE DE RESPUESTAS'!AN36,Back!$M$16:$N$20,2,0)),\"\")","v":""},{"$f":"+IFERROR((VLOOKUP('BASE DE RESPUESTAS'!AO36,Back!$M$16:$N$20,2,0)),\"\")","v":""},{"$f":"+IFERROR((VLOOKUP('BASE DE RESPUESTAS'!AP36,Back!$M$16:$N$20,2,0)),\"\")","v":""},{"$f":"+IFERROR((VLOOKUP('BASE DE RESPUESTAS'!AQ36,Back!$M$16:$N$20,2,0)),\"\")","v":""},{"$f":"+IFERROR((VLOOKUP('BASE DE RESPUESTAS'!AR36,Back!$M$16:$N$20,2,0)),\"\")","v":""},{"$f":"+IFERROR((VLOOKUP('BASE DE RESPUESTAS'!AS36,Back!$M$16:$N$20,2,0)),\"\")","v":""},{"$f":"+IFERROR((VLOOKUP('BASE DE RESPUESTAS'!AT36,Back!$M$16:$N$20,2,0)),\"\")","v":""},{"$f":"+IFERROR((VLOOKUP('BASE DE RESPUESTAS'!AU36,Back!$M$16:$N$20,2,0)),\"\")","v":""},{"$f":"+IFERROR((VLOOKUP('BASE DE RESPUESTAS'!AV36,Back!$M$16:$N$20,2,0)),\"\")","v":""},{"$f":"+IFERROR((VLOOKUP('BASE DE RESPUESTAS'!AW36,Back!$M$16:$N$20,2,0)),\"\")","v":""},{"$f":"+IFERROR((VLOOKUP('BASE DE RESPUESTAS'!AX36,Back!$M$16:$N$20,2,0)),\"\")","v":""},{"$f":"+IFERROR((VLOOKUP('BASE DE RESPUESTAS'!AY36,Back!$M$16:$N$20,2,0)),\"\")","v":""},{"$f":"+IFERROR((VLOOKUP('BASE DE RESPUESTAS'!AZ36,Back!$M$16:$N$20,2,0)),\"\")","v":""},{"$f":"+IFERROR((VLOOKUP('BASE DE RESPUESTAS'!BA36,Back!$M$16:$N$20,2,0)),\"\")","v":""},{"$f":"+IFERROR((VLOOKUP('BASE DE RESPUESTAS'!BB36,Back!$M$16:$N$20,2,0)),\"\")","v":""},{"$f":"+IFERROR((VLOOKUP('BASE DE RESPUESTAS'!BC36,Back!$M$16:$N$20,2,0)),\"\")","v":""},{"$f":"+IFERROR((VLOOKUP('BASE DE RESPUESTAS'!BD36,Back!$M$16:$N$20,2,0)),\"\")","v":""},{"$f":"+IFERROR((VLOOKUP('BASE DE RESPUESTAS'!BE36,Back!$M$16:$N$20,2,0)),\"\")","v":""}]
[null,"HSE","Consciencia social","El o la estudiante es sensible ante los temas o problemas de interés de la comunidad formulando preguntas sobre sus causas y consecuencias.",null,"",null,{"$f":"+IFERROR((VLOOKUP('BASE DE RESPUESTAS'!H37,Back!$M$16:$N$20,2,0)),\"\")","v":""},{"$f":"+IFERROR((VLOOKUP('BASE DE RESPUESTAS'!I37,Back!$M$16:$N$20,2,0)),\"\")","v":""},{"$f":"+IFERROR((VLOOKUP('BASE DE RESPUESTAS'!J37,Back!$M$16:$N$20,2,0)),\"\")","v":""},{"$f":"+IFERROR((VLOOKUP('BASE DE RESPUESTAS'!K37,Back!$M$16:$N$20,2,0)),\"\")","v":""},{"$f":"+IFERROR((VLOOKUP('BASE DE RESPUESTAS'!L37,Back!$M$16:$N$20,2,0)),\"\")","v":""},{"$f":"+IFERROR((VLOOKUP('BASE DE RESPUESTAS'!M37,Back!$M$16:$N$20,2,0)),\"\")","v":""},{"$f":"+IFERROR((VLOOKUP('BASE DE RESPUESTAS'!N37,Back!$M$16:$N$20,2,0)),\"\")","v":""},{"$f":"+IFERROR((VLOOKUP('BASE DE RESPUESTAS'!O37,Back!$M$16:$N$20,2,0)),\"\")","v":""},{"$f":"+IFERROR((VLOOKUP('BASE DE RESPUESTAS'!P37,Back!$M$16:$N$20,2,0)),\"\")","v":""},{"$f":"+IFERROR((VLOOKUP('BASE DE RESPUESTAS'!Q37,Back!$M$16:$N$20,2,0)),\"\")","v":""},{"$f":"+IFERROR((VLOOKUP('BASE DE RESPUESTAS'!R37,Back!$M$16:$N$20,2,0)),\"\")","v":""},{"$f":"+IFERROR((VLOOKUP('BASE DE RESPUESTAS'!S37,Back!$M$16:$N$20,2,0)),\"\")","v":""},{"$f":"+IFERROR((VLOOKUP('BASE DE RESPUESTAS'!T37,Back!$M$16:$N$20,2,0)),\"\")","v":""},{"$f":"+IFERROR((VLOOKUP('BASE DE RESPUESTAS'!U37,Back!$M$16:$N$20,2,0)),\"\")","v":""},{"$f":"+IFERROR((VLOOKUP('BASE DE RESPUESTAS'!V37,Back!$M$16:$N$20,2,0)),\"\")","v":""},{"$f":"+IFERROR((VLOOKUP('BASE DE RESPUESTAS'!W37,Back!$M$16:$N$20,2,0)),\"\")","v":""},{"$f":"+IFERROR((VLOOKUP('BASE DE RESPUESTAS'!X37,Back!$M$16:$N$20,2,0)),\"\")","v":""},{"$f":"+IFERROR((VLOOKUP('BASE DE RESPUESTAS'!Y37,Back!$M$16:$N$20,2,0)),\"\")","v":""},{"$f":"+IFERROR((VLOOKUP('BASE DE RESPUESTAS'!Z37,Back!$M$16:$N$20,2,0)),\"\")","v":""},{"$f":"+IFERROR((VLOOKUP('BASE DE RESPUESTAS'!AA37,Back!$M$16:$N$20,2,0)),\"\")","v":""},{"$f":"+IFERROR((VLOOKUP('BASE DE RESPUESTAS'!AB37,Back!$M$16:$N$20,2,0)),\"\")","v":""},{"$f":"+IFERROR((VLOOKUP('BASE DE RESPUESTAS'!AC37,Back!$M$16:$N$20,2,0)),\"\")","v":""},{"$f":"+IFERROR((VLOOKUP('BASE DE RESPUESTAS'!AD37,Back!$M$16:$N$20,2,0)),\"\")","v":""},{"$f":"+IFERROR((VLOOKUP('BASE DE RESPUESTAS'!AE37,Back!$M$16:$N$20,2,0)),\"\")","v":""},{"$f":"+IFERROR((VLOOKUP('BASE DE RESPUESTAS'!AF37,Back!$M$16:$N$20,2,0)),\"\")","v":""},{"$f":"+IFERROR((VLOOKUP('BASE DE RESPUESTAS'!AG37,Back!$M$16:$N$20,2,0)),\"\")","v":""},{"$f":"+IFERROR((VLOOKUP('BASE DE RESPUESTAS'!AH37,Back!$M$16:$N$20,2,0)),\"\")","v":""},{"$f":"+IFERROR((VLOOKUP('BASE DE RESPUESTAS'!AI37,Back!$M$16:$N$20,2,0)),\"\")","v":""},{"$f":"+IFERROR((VLOOKUP('BASE DE RESPUESTAS'!AJ37,Back!$M$16:$N$20,2,0)),\"\")","v":""},{"$f":"+IFERROR((VLOOKUP('BASE DE RESPUESTAS'!AK37,Back!$M$16:$N$20,2,0)),\"\")","v":""},{"$f":"+IFERROR((VLOOKUP('BASE DE RESPUESTAS'!AL37,Back!$M$16:$N$20,2,0)),\"\")","v":""},{"$f":"+IFERROR((VLOOKUP('BASE DE RESPUESTAS'!AM37,Back!$M$16:$N$20,2,0)),\"\")","v":""},{"$f":"+IFERROR((VLOOKUP('BASE DE RESPUESTAS'!AN37,Back!$M$16:$N$20,2,0)),\"\")","v":""},{"$f":"+IFERROR((VLOOKUP('BASE DE RESPUESTAS'!AO37,Back!$M$16:$N$20,2,0)),\"\")","v":""},{"$f":"+IFERROR((VLOOKUP('BASE DE RESPUESTAS'!AP37,Back!$M$16:$N$20,2,0)),\"\")","v":""},{"$f":"+IFERROR((VLOOKUP('BASE DE RESPUESTAS'!AQ37,Back!$M$16:$N$20,2,0)),\"\")","v":""},{"$f":"+IFERROR((VLOOKUP('BASE DE RESPUESTAS'!AR37,Back!$M$16:$N$20,2,0)),\"\")","v":""},{"$f":"+IFERROR((VLOOKUP('BASE DE RESPUESTAS'!AS37,Back!$M$16:$N$20,2,0)),\"\")","v":""},{"$f":"+IFERROR((VLOOKUP('BASE DE RESPUESTAS'!AT37,Back!$M$16:$N$20,2,0)),\"\")","v":""},{"$f":"+IFERROR((VLOOKUP('BASE DE RESPUESTAS'!AU37,Back!$M$16:$N$20,2,0)),\"\")","v":""},{"$f":"+IFERROR((VLOOKUP('BASE DE RESPUESTAS'!AV37,Back!$M$16:$N$20,2,0)),\"\")","v":""},{"$f":"+IFERROR((VLOOKUP('BASE DE RESPUESTAS'!AW37,Back!$M$16:$N$20,2,0)),\"\")","v":""},{"$f":"+IFERROR((VLOOKUP('BASE DE RESPUESTAS'!AX37,Back!$M$16:$N$20,2,0)),\"\")","v":""},{"$f":"+IFERROR((VLOOKUP('BASE DE RESPUESTAS'!AY37,Back!$M$16:$N$20,2,0)),\"\")","v":""},{"$f":"+IFERROR((VLOOKUP('BASE DE RESPUESTAS'!AZ37,Back!$M$16:$N$20,2,0)),\"\")","v":""},{"$f":"+IFERROR((VLOOKUP('BASE DE RESPUESTAS'!BA37,Back!$M$16:$N$20,2,0)),\"\")","v":""},{"$f":"+IFERROR((VLOOKUP('BASE DE RESPUESTAS'!BB37,Back!$M$16:$N$20,2,0)),\"\")","v":""},{"$f":"+IFERROR((VLOOKUP('BASE DE RESPUESTAS'!BC37,Back!$M$16:$N$20,2,0)),\"\")","v":""},{"$f":"+IFERROR((VLOOKUP('BASE DE RESPUESTAS'!BD37,Back!$M$16:$N$20,2,0)),\"\")","v":""},{"$f":"+IFERROR((VLOOKUP('BASE DE RESPUESTAS'!BE37,Back!$M$16:$N$20,2,0)),\"\")","v":""}]
[null,"HSE",null,"El o la estudiante toma en cuenta distintas perspectivas para buscar el bien común.",null,"",null,{"$f":"+IFERROR((VLOOKUP('BASE DE RESPUESTAS'!H38,Back!$M$16:$N$20,2,0)),\"\")","v":""},{"$f":"+IFERROR((VLOOKUP('BASE DE RESPUESTAS'!I38,Back!$M$16:$N$20,2,0)),\"\")","v":""},{"$f":"+IFERROR((VLOOKUP('BASE DE RESPUESTAS'!J38,Back!$M$16:$N$20,2,0)),\"\")","v":""},{"$f":"+IFERROR((VLOOKUP('BASE DE RESPUESTAS'!K38,Back!$M$16:$N$20,2,0)),\"\")","v":""},{"$f":"+IFERROR((VLOOKUP('BASE DE RESPUESTAS'!L38,Back!$M$16:$N$20,2,0)),\"\")","v":""},{"$f":"+IFERROR((VLOOKUP('BASE DE RESPUESTAS'!M38,Back!$M$16:$N$20,2,0)),\"\")","v":""},{"$f":"+IFERROR((VLOOKUP('BASE DE RESPUESTAS'!N38,Back!$M$16:$N$20,2,0)),\"\")","v":""},{"$f":"+IFERROR((VLOOKUP('BASE DE RESPUESTAS'!O38,Back!$M$16:$N$20,2,0)),\"\")","v":""},{"$f":"+IFERROR((VLOOKUP('BASE DE RESPUESTAS'!P38,Back!$M$16:$N$20,2,0)),\"\")","v":""},{"$f":"+IFERROR((VLOOKUP('BASE DE RESPUESTAS'!Q38,Back!$M$16:$N$20,2,0)),\"\")","v":""},{"$f":"+IFERROR((VLOOKUP('BASE DE RESPUESTAS'!R38,Back!$M$16:$N$20,2,0)),\"\")","v":""},{"$f":"+IFERROR((VLOOKUP('BASE DE RESPUESTAS'!S38,Back!$M$16:$N$20,2,0)),\"\")","v":""},{"$f":"+IFERROR((VLOOKUP('BASE DE RESPUESTAS'!T38,Back!$M$16:$N$20,2,0)),\"\")","v":""},{"$f":"+IFERROR((VLOOKUP('BASE DE RESPUESTAS'!U38,Back!$M$16:$N$20,2,0)),\"\")","v":""},{"$f":"+IFERROR((VLOOKUP('BASE DE RESPUESTAS'!V38,Back!$M$16:$N$20,2,0)),\"\")","v":""},{"$f":"+IFERROR((VLOOKUP('BASE DE RESPUESTAS'!W38,Back!$M$16:$N$20,2,0)),\"\")","v":""},{"$f":"+IFERROR((VLOOKUP('BASE DE RESPUESTAS'!X38,Back!$M$16:$N$20,2,0)),\"\")","v":""},{"$f":"+IFERROR((VLOOKUP('BASE DE RESPUESTAS'!Y38,Back!$M$16:$N$20,2,0)),\"\")","v":""},{"$f":"+IFERROR((VLOOKUP('BASE DE RESPUESTAS'!Z38,Back!$M$16:$N$20,2,0)),\"\")","v":""},{"$f":"+IFERROR((VLOOKUP('BASE DE RESPUESTAS'!AA38,Back!$M$16:$N$20,2,0)),\"\")","v":""},{"$f":"+IFERROR((VLOOKUP('BASE DE RESPUESTAS'!AB38,Back!$M$16:$N$20,2,0)),\"\")","v":""},{"$f":"+IFERROR((VLOOKUP('BASE DE RESPUESTAS'!AC38,Back!$M$16:$N$20,2,0)),\"\")","v":""},{"$f":"+IFERROR((VLOOKUP('BASE DE RESPUESTAS'!AD38,Back!$M$16:$N$20,2,0)),\"\")","v":""},{"$f":"+IFERROR((VLOOKUP('BASE DE RESPUESTAS'!AE38,Back!$M$16:$N$20,2,0)),\"\")","v":""},{"$f":"+IFERROR((VLOOKUP('BASE DE RESPUESTAS'!AF38,Back!$M$16:$N$20,2,0)),\"\")","v":""},{"$f":"+IFERROR((VLOOKUP('BASE DE RESPUESTAS'!AG38,Back!$M$16:$N$20,2,0)),\"\")","v":""},{"$f":"+IFERROR((VLOOKUP('BASE DE RESPUESTAS'!AH38,Back!$M$16:$N$20,2,0)),\"\")","v":""},{"$f":"+IFERROR((VLOOKUP('BASE DE RESPUESTAS'!AI38,Back!$M$16:$N$20,2,0)),\"\")","v":""},{"$f":"+IFERROR((VLOOKUP('BASE DE RESPUESTAS'!AJ38,Back!$M$16:$N$20,2,0)),\"\")","v":""},{"$f":"+IFERROR((VLOOKUP('BASE DE RESPUESTAS'!AK38,Back!$M$16:$N$20,2,0)),\"\")","v":""},{"$f":"+IFERROR((VLOOKUP('BASE DE RESPUESTAS'!AL38,Back!$M$16:$N$20,2,0)),\"\")","v":""},{"$f":"+IFERROR((VLOOKUP('BASE DE RESPUESTAS'!AM38,Back!$M$16:$N$20,2,0)),\"\")","v":""},{"$f":"+IFERROR((VLOOKUP('BASE DE RESPUESTAS'!AN38,Back!$M$16:$N$20,2,0)),\"\")","v":""},{"$f":"+IFERROR((VLOOKUP('BASE DE RESPUESTAS'!AO38,Back!$M$16:$N$20,2,0)),\"\")","v":""},{"$f":"+IFERROR((VLOOKUP('BASE DE RESPUESTAS'!AP38,Back!$M$16:$N$20,2,0)),\"\")","v":""},{"$f":"+IFERROR((VLOOKUP('BASE DE RESPUESTAS'!AQ38,Back!$M$16:$N$20,2,0)),\"\")","v":""},{"$f":"+IFERROR((VLOOKUP('BASE DE RESPUESTAS'!AR38,Back!$M$16:$N$20,2,0)),\"\")","v":""},{"$f":"+IFERROR((VLOOKUP('BASE DE RESPUESTAS'!AS38,Back!$M$16:$N$20,2,0)),\"\")","v":""},{"$f":"+IFERROR((VLOOKUP('BASE DE RESPUESTAS'!AT38,Back!$M$16:$N$20,2,0)),\"\")","v":""},{"$f":"+IFERROR((VLOOKUP('BASE DE RESPUESTAS'!AU38,Back!$M$16:$N$20,2,0)),\"\")","v":""},{"$f":"+IFERROR((VLOOKUP('BASE DE RESPUESTAS'!AV38,Back!$M$16:$N$20,2,0)),\"\")","v":""},{"$f":"+IFERROR((VLOOKUP('BASE DE RESPUESTAS'!AW38,Back!$M$16:$N$20,2,0)),\"\")","v":""},{"$f":"+IFERROR((VLOOKUP('BASE DE RESPUESTAS'!AX38,Back!$M$16:$N$20,2,0)),\"\")","v":""},{"$f":"+IFERROR((VLOOKUP('BASE DE RESPUESTAS'!AY38,Back!$M$16:$N$20,2,0)),\"\")","v":""},{"$f":"+IFERROR((VLOOKUP('BASE DE RESPUESTAS'!AZ38,Back!$M$16:$N$20,2,0)),\"\")","v":""},{"$f":"+IFERROR((VLOOKUP('BASE DE RESPUESTAS'!BA38,Back!$M$16:$N$20,2,0)),\"\")","v":""},{"$f":"+IFERROR((VLOOKUP('BASE DE RESPUESTAS'!BB38,Back!$M$16:$N$20,2,0)),\"\")","v":""},{"$f":"+IFERROR((VLOOKUP('BASE DE RESPUESTAS'!BC38,Back!$M$16:$N$20,2,0)),\"\")","v":""},{"$f":"+IFERROR((VLOOKUP('BASE DE RESPUESTAS'!BD38,Back!$M$16:$N$20,2,0)),\"\")","v":""},{"$f":"+IFERROR((VLOOKUP('BASE DE RESPUESTAS'!BE38,Back!$M$16:$N$20,2,0)),\"\")","v":""}]
[null,"HSE","Comportamiento prosocial","El o la estudiante es capaz de colaborar y/o ayudar a otros sin que lo soliciten.",null,"",null,{"$f":"+IFERROR((VLOOKUP('BASE DE RESPUESTAS'!H39,Back!$M$16:$N$20,2,0)),\"\")","v":""},{"$f":"+IFERROR((VLOOKUP('BASE DE RESPUESTAS'!I39,Back!$M$16:$N$20,2,0)),\"\")","v":""},{"$f":"+IFERROR((VLOOKUP('BASE DE RESPUESTAS'!J39,Back!$M$16:$N$20,2,0)),\"\")","v":""},{"$f":"+IFERROR((VLOOKUP('BASE DE RESPUESTAS'!K39,Back!$M$16:$N$20,2,0)),\"\")","v":""},{"$f":"+IFERROR((VLOOKUP('BASE DE RESPUESTAS'!L39,Back!$M$16:$N$20,2,0)),\"\")","v":""},{"$f":"+IFERROR((VLOOKUP('BASE DE RESPUESTAS'!M39,Back!$M$16:$N$20,2,0)),\"\")","v":""},{"$f":"+IFERROR((VLOOKUP('BASE DE RESPUESTAS'!N39,Back!$M$16:$N$20,2,0)),\"\")","v":""},{"$f":"+IFERROR((VLOOKUP('BASE DE RESPUESTAS'!O39,Back!$M$16:$N$20,2,0)),\"\")","v":""},{"$f":"+IFERROR((VLOOKUP('BASE DE RESPUESTAS'!P39,Back!$M$16:$N$20,2,0)),\"\")","v":""},{"$f":"+IFERROR((VLOOKUP('BASE DE RESPUESTAS'!Q39,Back!$M$16:$N$20,2,0)),\"\")","v":""},{"$f":"+IFERROR((VLOOKUP('BASE DE RESPUESTAS'!R39,Back!$M$16:$N$20,2,0)),\"\")","v":""},{"$f":"+IFERROR((VLOOKUP('BASE DE RESPUESTAS'!S39,Back!$M$16:$N$20,2,0)),\"\")","v":""},{"$f":"+IFERROR((VLOOKUP('BASE DE RESPUESTAS'!T39,Back!$M$16:$N$20,2,0)),\"\")","v":""},{"$f":"+IFERROR((VLOOKUP('BASE DE RESPUESTAS'!U39,Back!$M$16:$N$20,2,0)),\"\")","v":""},{"$f":"+IFERROR((VLOOKUP('BASE DE RESPUESTAS'!V39,Back!$M$16:$N$20,2,0)),\"\")","v":""},{"$f":"+IFERROR((VLOOKUP('BASE DE RESPUESTAS'!W39,Back!$M$16:$N$20,2,0)),\"\")","v":""},{"$f":"+IFERROR((VLOOKUP('BASE DE RESPUESTAS'!X39,Back!$M$16:$N$20,2,0)),\"\")","v":""},{"$f":"+IFERROR((VLOOKUP('BASE DE RESPUESTAS'!Y39,Back!$M$16:$N$20,2,0)),\"\")","v":""},{"$f":"+IFERROR((VLOOKUP('BASE DE RESPUESTAS'!Z39,Back!$M$16:$N$20,2,0)),\"\")","v":""},{"$f":"+IFERROR((VLOOKUP('BASE DE RESPUESTAS'!AA39,Back!$M$16:$N$20,2,0)),\"\")","v":""},{"$f":"+IFERROR((VLOOKUP('BASE DE RESPUESTAS'!AB39,Back!$M$16:$N$20,2,0)),\"\")","v":""},{"$f":"+IFERROR((VLOOKUP('BASE DE RESPUESTAS'!AC39,Back!$M$16:$N$20,2,0)),\"\")","v":""},{"$f":"+IFERROR((VLOOKUP('BASE DE RESPUESTAS'!AD39,Back!$M$16:$N$20,2,0)),\"\")","v":""},{"$f":"+IFERROR((VLOOKUP('BASE DE RESPUESTAS'!AE39,Back!$M$16:$N$20,2,0)),\"\")","v":""},{"$f":"+IFERROR((VLOOKUP('BASE DE RESPUESTAS'!AF39,Back!$M$16:$N$20,2,0)),\"\")","v":""},{"$f":"+IFERROR((VLOOKUP('BASE DE RESPUESTAS'!AG39,Back!$M$16:$N$20,2,0)),\"\")","v":""},{"$f":"+IFERROR((VLOOKUP('BASE DE RESPUESTAS'!AH39,Back!$M$16:$N$20,2,0)),\"\")","v":""},{"$f":"+IFERROR((VLOOKUP('BASE DE RESPUESTAS'!AI39,Back!$M$16:$N$20,2,0)),\"\")","v":""},{"$f":"+IFERROR((VLOOKUP('BASE DE RESPUESTAS'!AJ39,Back!$M$16:$N$20,2,0)),\"\")","v":""},{"$f":"+IFERROR((VLOOKUP('BASE DE RESPUESTAS'!AK39,Back!$M$16:$N$20,2,0)),\"\")","v":""},{"$f":"+IFERROR((VLOOKUP('BASE DE RESPUESTAS'!AL39,Back!$M$16:$N$20,2,0)),\"\")","v":""},{"$f":"+IFERROR((VLOOKUP('BASE DE RESPUESTAS'!AM39,Back!$M$16:$N$20,2,0)),\"\")","v":""},{"$f":"+IFERROR((VLOOKUP('BASE DE RESPUESTAS'!AN39,Back!$M$16:$N$20,2,0)),\"\")","v":""},{"$f":"+IFERROR((VLOOKUP('BASE DE RESPUESTAS'!AO39,Back!$M$16:$N$20,2,0)),\"\")","v":""},{"$f":"+IFERROR((VLOOKUP('BASE DE RESPUESTAS'!AP39,Back!$M$16:$N$20,2,0)),\"\")","v":""},{"$f":"+IFERROR((VLOOKUP('BASE DE RESPUESTAS'!AQ39,Back!$M$16:$N$20,2,0)),\"\")","v":""},{"$f":"+IFERROR((VLOOKUP('BASE DE RESPUESTAS'!AR39,Back!$M$16:$N$20,2,0)),\"\")","v":""},{"$f":"+IFERROR((VLOOKUP('BASE DE RESPUESTAS'!AS39,Back!$M$16:$N$20,2,0)),\"\")","v":""},{"$f":"+IFERROR((VLOOKUP('BASE DE RESPUESTAS'!AT39,Back!$M$16:$N$20,2,0)),\"\")","v":""},{"$f":"+IFERROR((VLOOKUP('BASE DE RESPUESTAS'!AU39,Back!$M$16:$N$20,2,0)),\"\")","v":""},{"$f":"+IFERROR((VLOOKUP('BASE DE RESPUESTAS'!AV39,Back!$M$16:$N$20,2,0)),\"\")","v":""},{"$f":"+IFERROR((VLOOKUP('BASE DE RESPUESTAS'!AW39,Back!$M$16:$N$20,2,0)),\"\")","v":""},{"$f":"+IFERROR((VLOOKUP('BASE DE RESPUESTAS'!AX39,Back!$M$16:$N$20,2,0)),\"\")","v":""},{"$f":"+IFERROR((VLOOKUP('BASE DE RESPUESTAS'!AY39,Back!$M$16:$N$20,2,0)),\"\")","v":""},{"$f":"+IFERROR((VLOOKUP('BASE DE RESPUESTAS'!AZ39,Back!$M$16:$N$20,2,0)),\"\")","v":""},{"$f":"+IFERROR((VLOOKUP('BASE DE RESPUESTAS'!BA39,Back!$M$16:$N$20,2,0)),\"\")","v":""},{"$f":"+IFERROR((VLOOKUP('BASE DE RESPUESTAS'!BB39,Back!$M$16:$N$20,2,0)),\"\")","v":""},{"$f":"+IFERROR((VLOOKUP('BASE DE RESPUESTAS'!BC39,Back!$M$16:$N$20,2,0)),\"\")","v":""},{"$f":"+IFERROR((VLOOKUP('BASE DE RESPUESTAS'!BD39,Back!$M$16:$N$20,2,0)),\"\")","v":""},{"$f":"+IFERROR((VLOOKUP('BASE DE RESPUESTAS'!BE39,Back!$M$16:$N$20,2,0)),\"\")","v":""}]
[null,"HSE",null,"El o la estudiante convive reconociendo las diferencias, valorando la diversidad de las personas sin discriminarlas.",null,"",null,{"$f":"+IFERROR((VLOOKUP('BASE DE RESPUESTAS'!H40,Back!$M$16:$N$20,2,0)),\"\")","v":""},{"$f":"+IFERROR((VLOOKUP('BASE DE RESPUESTAS'!I40,Back!$M$16:$N$20,2,0)),\"\")","v":""},{"$f":"+IFERROR((VLOOKUP('BASE DE RESPUESTAS'!J40,Back!$M$16:$N$20,2,0)),\"\")","v":""},{"$f":"+IFERROR((VLOOKUP('BASE DE RESPUESTAS'!K40,Back!$M$16:$N$20,2,0)),\"\")","v":""},{"$f":"+IFERROR((VLOOKUP('BASE DE RESPUESTAS'!L40,Back!$M$16:$N$20,2,0)),\"\")","v":""},{"$f":"+IFERROR((VLOOKUP('BASE DE RESPUESTAS'!M40,Back!$M$16:$N$20,2,0)),\"\")","v":""},{"$f":"+IFERROR((VLOOKUP('BASE DE RESPUESTAS'!N40,Back!$M$16:$N$20,2,0)),\"\")","v":""},{"$f":"+IFERROR((VLOOKUP('BASE DE RESPUESTAS'!O40,Back!$M$16:$N$20,2,0)),\"\")","v":""},{"$f":"+IFERROR((VLOOKUP('BASE DE RESPUESTAS'!P40,Back!$M$16:$N$20,2,0)),\"\")","v":""},{"$f":"+IFERROR((VLOOKUP('BASE DE RESPUESTAS'!Q40,Back!$M$16:$N$20,2,0)),\"\")","v":""},{"$f":"+IFERROR((VLOOKUP('BASE DE RESPUESTAS'!R40,Back!$M$16:$N$20,2,0)),\"\")","v":""},{"$f":"+IFERROR((VLOOKUP('BASE DE RESPUESTAS'!S40,Back!$M$16:$N$20,2,0)),\"\")","v":""},{"$f":"+IFERROR((VLOOKUP('BASE DE RESPUESTAS'!T40,Back!$M$16:$N$20,2,0)),\"\")","v":""},{"$f":"+IFERROR((VLOOKUP('BASE DE RESPUESTAS'!U40,Back!$M$16:$N$20,2,0)),\"\")","v":""},{"$f":"+IFERROR((VLOOKUP('BASE DE RESPUESTAS'!V40,Back!$M$16:$N$20,2,0)),\"\")","v":""},{"$f":"+IFERROR((VLOOKUP('BASE DE RESPUESTAS'!W40,Back!$M$16:$N$20,2,0)),\"\")","v":""},{"$f":"+IFERROR((VLOOKUP('BASE DE RESPUESTAS'!X40,Back!$M$16:$N$20,2,0)),\"\")","v":""},{"$f":"+IFERROR((VLOOKUP('BASE DE RESPUESTAS'!Y40,Back!$M$16:$N$20,2,0)),\"\")","v":""},{"$f":"+IFERROR((VLOOKUP('BASE DE RESPUESTAS'!Z40,Back!$M$16:$N$20,2,0)),\"\")","v":""},{"$f":"+IFERROR((VLOOKUP('BASE DE RESPUESTAS'!AA40,Back!$M$16:$N$20,2,0)),\"\")","v":""},{"$f":"+IFERROR((VLOOKUP('BASE DE RESPUESTAS'!AB40,Back!$M$16:$N$20,2,0)),\"\")","v":""},{"$f":"+IFERROR((VLOOKUP('BASE DE RESPUESTAS'!AC40,Back!$M$16:$N$20,2,0)),\"\")","v":""},{"$f":"+IFERROR((VLOOKUP('BASE DE RESPUESTAS'!AD40,Back!$M$16:$N$20,2,0)),\"\")","v":""},{"$f":"+IFERROR((VLOOKUP('BASE DE RESPUESTAS'!AE40,Back!$M$16:$N$20,2,0)),\"\")","v":""},{"$f":"+IFERROR((VLOOKUP('BASE DE RESPUESTAS'!AF40,Back!$M$16:$N$20,2,0)),\"\")","v":""},{"$f":"+IFERROR((VLOOKUP('BASE DE RESPUESTAS'!AG40,Back!$M$16:$N$20,2,0)),\"\")","v":""},{"$f":"+IFERROR((VLOOKUP('BASE DE RESPUESTAS'!AH40,Back!$M$16:$N$20,2,0)),\"\")","v":""},{"$f":"+IFERROR((VLOOKUP('BASE DE RESPUESTAS'!AI40,Back!$M$16:$N$20,2,0)),\"\")","v":""},{"$f":"+IFERROR((VLOOKUP('BASE DE RESPUESTAS'!AJ40,Back!$M$16:$N$20,2,0)),\"\")","v":""},{"$f":"+IFERROR((VLOOKUP('BASE DE RESPUESTAS'!AK40,Back!$M$16:$N$20,2,0)),\"\")","v":""},{"$f":"+IFERROR((VLOOKUP('BASE DE RESPUESTAS'!AL40,Back!$M$16:$N$20,2,0)),\"\")","v":""},{"$f":"+IFERROR((VLOOKUP('BASE DE RESPUESTAS'!AM40,Back!$M$16:$N$20,2,0)),\"\")","v":""},{"$f":"+IFERROR((VLOOKUP('BASE DE RESPUESTAS'!AN40,Back!$M$16:$N$20,2,0)),\"\")","v":""},{"$f":"+IFERROR((VLOOKUP('BASE DE RESPUESTAS'!AO40,Back!$M$16:$N$20,2,0)),\"\")","v":""},{"$f":"+IFERROR((VLOOKUP('BASE DE RESPUESTAS'!AP40,Back!$M$16:$N$20,2,0)),\"\")","v":""},{"$f":"+IFERROR((VLOOKUP('BASE DE RESPUESTAS'!AQ40,Back!$M$16:$N$20,2,0)),\"\")","v":""},{"$f":"+IFERROR((VLOOKUP('BASE DE RESPUESTAS'!AR40,Back!$M$16:$N$20,2,0)),\"\")","v":""},{"$f":"+IFERROR((VLOOKUP('BASE DE RESPUESTAS'!AS40,Back!$M$16:$N$20,2,0)),\"\")","v":""},{"$f":"+IFERROR((VLOOKUP('BASE DE RESPUESTAS'!AT40,Back!$M$16:$N$20,2,0)),\"\")","v":""},{"$f":"+IFERROR((VLOOKUP('BASE DE RESPUESTAS'!AU40,Back!$M$16:$N$20,2,0)),\"\")","v":""},{"$f":"+IFERROR((VLOOKUP('BASE DE RESPUESTAS'!AV40,Back!$M$16:$N$20,2,0)),\"\")","v":""},{"$f":"+IFERROR((VLOOKUP('BASE DE RESPUESTAS'!AW40,Back!$M$16:$N$20,2,0)),\"\")","v":""},{"$f":"+IFERROR((VLOOKUP('BASE DE RESPUESTAS'!AX40,Back!$M$16:$N$20,2,0)),\"\")","v":""},{"$f":"+IFERROR((VLOOKUP('BASE DE RESPUESTAS'!AY40,Back!$M$16:$N$20,2,0)),\"\")","v":""},{"$f":"+IFERROR((VLOOKUP('BASE DE RESPUESTAS'!AZ40,Back!$M$16:$N$20,2,0)),\"\")","v":""},{"$f":"+IFERROR((VLOOKUP('BASE DE RESPUESTAS'!BA40,Back!$M$16:$N$20,2,0)),\"\")","v":""},{"$f":"+IFERROR((VLOOKUP('BASE DE RESPUESTAS'!BB40,Back!$M$16:$N$20,2,0)),\"\")","v":""},{"$f":"+IFERROR((VLOOKUP('BASE DE RESPUESTAS'!BC40,Back!$M$16:$N$20,2,0)),\"\")","v":""},{"$f":"+IFERROR((VLOOKUP('BASE DE RESPUESTAS'!BD40,Back!$M$16:$N$20,2,0)),\"\")","v":""},{"$f":"+IFERROR((VLOOKUP('BASE DE RESPUESTAS'!BE40,Back!$M$16:$N$20,2,0)),\"\")","v":""}]
[]
[]
[null,null,null,null,null,"Indicadores",null,{"$f":"+H4","v":"Estudiante 1"},"Estudiante 2","Estudiante 3","Estudiante 4","Estudiante 5","Estudiante 6","Estudiante 7","Estudiante 8","Estudiante 9","Estudiante 10","Estudiante 11","Estudiante 12","Estudiante 13","Estudiante 14","Estudiante 15","Estudiante 16","Estudiante 17","Estudiante 18","Estudiante 19","Estudiante 20","Estudiante 21","Estudiante 22","Estudiante 23","Estudiante 24","Estudiante 25","Estudiante 26","Estudiante 27","Estudiante 28","Estudiante 29","Estudiante 30","Estudiante 31","Estudiante 32","Estudiante 33","Estudiante 34","Estudiante 35","Estudiante 36","Estudiante 37","Estudiante 38","Estudiante 39","Estudiante 40","Estudiante 41","Estudiante 42","Estudiante 43","Estudiante 44","Estudiante 45","Estudiante 46","Estudiante 47","Estudiante 48","Estudiante 49","Estudiante 50"]
[null,null,null,null,null,"En Blanco",null,{"$f":"IFERROR(COUNTIFS(H5:H37,\"-\"),\"-\")","v":0},0,0,0,0,0,0,0,0,0,0,0,0,0,0,0,0,0,0,0,0,0,0,0,0,0,0,0,0,0,0,0,0,0,0,0,0,0,0,0,0,0,0,0,0,0,0,0,0,0]
[null,null,null,null,null,"En inicio",null,{"$f":"IFERROR(COUNTIFS(H5:H37,\">=0\",H5:H37,\"<=1\"),\"-\")","v":0},0,0,0,0,0,0,0,0,0,0,0,0,0,0,0,0,0,0,0,0,0,0,0,0,0,0,0,0,0,0,0,0,0,0,0,0,0,0,0,0,0,0,0,0,0,0,0,0,0]
[null,null,null,null,null,"En Proceso",null,{"$f":"IFERROR(COUNTIFS(H5:H37,\">=1.1\",H5:H37,\"<=2.9\"),\"-\")","v":0},0,0,0,0,0,0,0,0,0,0,0,0,0,0,0,0,0,0,0,0,0,0,0,0,0,0,0,0,0,0,0,0,0,0,0,0,0,0,0,0,0,0,0,0,0,0,0,0,0]
[null,null,null,null,null,"Satisfactorio",null,{"$f":"IFERROR((COUNTIFS(H5:H37,\">=3\")),\"-\")","v":0},0,0,0,0,0,0,0,0,0,0,0,0,0,0,0,0,0,0,0,0,0,0,0,0,0,0,0,0,0,0,0,0,0,0,0,0,0,0,0,0,0,0,0,0,0,0,0,0,0]
[null,null,null,null,null,"TOTAL",null,{"$f":"+SUM(H41:H44)","v":0},0,0,0,0,0,0,0,0,0,0,0,0,0,0,0,0,0,0,0,0,0,0,0,0,0,0,0,0,0,0,0,0,0,0,0,0,0,0,0,0,0,0,0,0,0,0,0,0,0]

{"sheet":"Resumen de Escala HSE","index":5,"n_rows":25,"n_cols":55,"rows_kept":25,"cut":false,"hidden":false,"merged":[]}
[]
[]
[]
[null,"Dimensión","Escala","Resultado Promedio del aula",null,{"$f":"+'BASE DE RESPUESTAS'!H5","v":"Estudiante 1"},{"$f":"+'BASE DE RESPUESTAS'!I5","v":"Estudiante 2"},{"$f":"+'BASE DE RESPUESTAS'!J5","v":"Estudiante 3"},{"$f":"+'BASE DE RESPUESTAS'!K5","v":"Estudiante 4"},{"$f":"+'BASE DE RESPUESTAS'!L5","v":"Estudiante 5"},{"$f":"+'BASE DE RESPUESTAS'!M5","v":"Estudiante 6"},{"$f":"+'BASE DE RESPUESTAS'!N5","v":"Estudiante 7"},{"$f":"+'BASE DE RESPUESTAS'!O5","v":"Estudiante 8"},{"$f":"+'BASE DE RESPUESTAS'!P5","v":"Estudiante 9"},{"$f":"+'BASE DE RESPUESTAS'!Q5","v":"Estudiante 10"},{"$f":"+'BASE DE RESPUESTAS'!R5","v":"Estudiante 11"},{"$f":"+'BASE DE RESPUESTAS'!S5","v":"Estudiante 12"},{"$f":"+'BASE DE RESPUESTAS'!T5","v":"Estudiante 13"},{"$f":"+'BASE DE RESPUESTAS'!U5","v":"Estudiante 14"},{"$f":"+'BASE DE RESPUESTAS'!V5","v":"Estudiante 15"},{"$f":"+'BASE DE RESPUESTAS'!W5","v":"Estudiante 16"},{"$f":"+'BASE DE RESPUESTAS'!X5","v":"Estudiante 17"},{"$f":"+'BASE DE RESPUESTAS'!Y5","v":"Estudiante 18"},{"$f":"+'BASE DE RESPUESTAS'!Z5","v":"Estudiante 19"},{"$f":"+'BASE DE RESPUESTAS'!AA5","v":"Estudiante 20"},{"$f":"+'BASE DE RESPUESTAS'!AB5","v":"Estudiante 21"},{"$f":"+'BASE DE RESPUESTAS'!AC5","v":"Estudiante 22"},{"$f":"+'BASE DE RESPUESTAS'!AD5","v":"Estudiante 23"},{"$f":"+'BASE DE RESPUESTAS'!AE5","v":"Estudiante 24"},{"$f":"+'BASE DE RESPUESTAS'!AF5","v":"Estudiante 25"},{"$f":"+'BASE DE RESPUESTAS'!AG5","v":"Estudiante 26"},{"$f":"+'BASE DE RESPUESTAS'!AH5","v":"Estudiante 27"},{"$f":"+'BASE DE RESPUESTAS'!AI5","v":"Estudiante 28"},{"$f":"+'BASE DE RESPUESTAS'!AJ5","v":"Estudiante 29"},{"$f":"+'BASE DE RESPUESTAS'!AK5","v":"Estudiante 30"},{"$f":"+'BASE DE RESPUESTAS'!AL5","v":"Estudiante 31"},{"$f":"+'BASE DE RESPUESTAS'!AM5","v":"Estudiante 32"},{"$f":"+'BASE DE RESPUESTAS'!AN5","v":"Estudiante 33"},{"$f":"+'BASE DE RESPUESTAS'!AO5","v":"Estudiante 34"},{"$f":"+'BASE DE RESPUESTAS'!AP5","v":"Estudiante 35"},{"$f":"+'BASE DE RESPUESTAS'!AQ5","v":"Estudiante 36"},{"$f":"+'BASE DE RESPUESTAS'!AR5","v":"Estudiante 37"},{"$f":"+'BASE DE RESPUESTAS'!AS5","v":"Estudiante 38"},{"$f":"+'BASE DE RESPUESTAS'!AT5","v":"Estudiante 39"},{"$f":"+'BASE DE RESPUESTAS'!AU5","v":"Estudiante 40"},{"$f":"+'BASE DE RESPUESTAS'!AV5","v":"Estudiante 41"},{"$f":"+'BASE DE RESPUESTAS'!AW5","v":"Estudiante 42"},{"$f":"+'BASE DE RESPUESTAS'!AX5","v":"Estudiante 43"},{"$f":"+'BASE DE RESPUESTAS'!AY5","v":"Estudiante 44"},{"$f":"+'BASE DE RESPUESTAS'!AZ5","v":"Estudiante 45"},{"$f":"+'BASE DE RESPUESTAS'!BA5","v":"Estudiante 46"},{"$f":"+'BASE DE RESPUESTAS'!BB5","v":"Estudiante 47"},{"$f":"+'BASE DE RESPUESTAS'!BC5","v":"Estudiante 48"},{"$f":"+'BASE DE RESPUESTAS'!BD5","v":"Estudiante 49"},{"$f":"+'BASE DE RESPUESTAS'!BE5","v":"Estudiante 50"}]
[]
[null,"HSE","Autoconcepto",{"$f":"+IFERROR(AVERAGEIFS(F6:BC6,F6:BC6,\">=0\"),\"-\")","v":"-"},null,{"$f":"+IFERROR(AVERAGEIFS('Resumen de indicadores HSE'!H5:H6,'Resumen de indicadores HSE'!H5:H6,\">=0\"),\"-\")","v":"-"},{"$f":"+IFERROR(AVERAGEIFS('Resumen de indicadores HSE'!I5:I6,'Resumen de indicadores HSE'!I5:I6,\">=0\"),\"-\")","v":"-"},{"$f":"+IFERROR(AVERAGEIFS('Resumen de indicadores HSE'!J5:J6,'Resumen de indicadores HSE'!J5:J6,\">=0\"),\"-\")","v":"-"},{"$f":"+IFERROR(AVERAGEIFS('Resumen de indicadores HSE'!K5:K6,'Resumen de indicadores HSE'!K5:K6,\">=0\"),\"-\")","v":"-"},{"$f":"+IFERROR(AVERAGEIFS('Resumen de indicadores HSE'!L5:L6,'Resumen de indicadores HSE'!L5:L6,\">=0\"),\"-\")","v":"-"},{"$f":"+IFERROR(AVERAGEIFS('Resumen de indicadores HSE'!M5:M6,'Resumen de indicadores HSE'!M5:M6,\">=0\"),\"-\")","v":"-"},{"$f":"+IFERROR(AVERAGEIFS('Resumen de indicadores HSE'!N5:N6,'Resumen de indicadores HSE'!N5:N6,\">=0\"),\"-\")","v":"-"},{"$f":"+IFERROR(AVERAGEIFS('Resumen de indicadores HSE'!O5:O6,'Resumen de indicadores HSE'!O5:O6,\">=0\"),\"-\")","v":"-"},{"$f":"+IFERROR(AVERAGEIFS('Resumen de indicadores HSE'!P5:P6,'Resumen de indicadores HSE'!P5:P6,\">=0\"),\"-\")","v":"-"},{"$f":"+IFERROR(AVERAGEIFS('Resumen de indicadores HSE'!Q5:Q6,'Resumen de indicadores HSE'!Q5:Q6,\">=0\"),\"-\")","v":"-"},{"$f":"+IFERROR(AVERAGEIFS('Resumen de indicadores HSE'!R5:R6,'Resumen de indicadores HSE'!R5:R6,\">=0\"),\"-\")","v":"-"},{"$f":"+IFERROR(AVERAGEIFS('Resumen de indicadores HSE'!S5:S6,'Resumen de indicadores HSE'!S5:S6,\">=0\"),\"-\")","v":"-"},{"$f":"+IFERROR(AVERAGEIFS('Resumen de indicadores HSE'!T5:T6,'Resumen de indicadores HSE'!T5:T6,\">=0\"),\"-\")","v":"-"},{"$f":"+IFERROR(AVERAGEIFS('Resumen de indicadores HSE'!U5:U6,'Resumen de indicadores HSE'!U5:U6,\">=0\"),\"-\")","v":"-"},{"$f":"+IFERROR(AVERAGEIFS('Resumen de indicadores HSE'!V5:V6,'Resumen de indicadores HSE'!V5:V6,\">=0\"),\"-\")","v":"-"},{"$f":"+IFERROR(AVERAGEIFS('Resumen de indicadores HSE'!W5:W6,'Resumen de indicadores HSE'!W5:W6,\">=0\"),\"-\")","v":"-"},{"$f":"+IFERROR(AVERAGEIFS('Resumen de indicadores HSE'!X5:X6,'Resumen de indicadores HSE'!X5:X6,\">=0\"),\"-\")","v":"-"},{"$f":"+IFERROR(AVERAGEIFS('Resumen de indicadores HSE'!Y5:Y6,'Resumen de indicadores HSE'!Y5:Y6,\">=0\"),\"-\")","v":"-"},{"$f":"+IFERROR(AVERAGEIFS('Resumen de indicadores HSE'!Z5:Z6,'Resumen de indicadores HSE'!Z5:Z6,\">=0\"),\"-\")","v":"-"},{"$f":"+IFERROR(AVERAGEIFS('Resumen de indicadores HSE'!AA5:AA6,'Resumen de indicadores HSE'!AA5:AA6,\">=0\"),\"-\")","v":"-"},{"$f":"+IFERROR(AVERAGEIFS('Resumen de indicadores HSE'!AB5:AB6,'Resumen de indicadores HSE'!AB5:AB6,\">=0\"),\"-\")","v":"-"},{"$f":"+IFERROR(AVERAGEIFS('Resumen de indicadores HSE'!AC5:AC6,'Resumen de indicadores HSE'!AC5:AC6,\">=0\"),\"-\")","v":"-"},{"$f":"+IFERROR(AVERAGEIFS('Resumen de indicadores HSE'!AD5:AD6,'Resumen de indicadores HSE'!AD5:AD6,\">=0\"),\"-\")","v":"-"},{"$f":"+IFERROR(AVERAGEIFS('Resumen de indicadores HSE'!AE5:AE6,'Resumen de indicadores HSE'!AE5:AE6,\">=0\"),\"-\")","v":"-"},{"$f":"+IFERROR(AVERAGEIFS('Resumen de indicadores HSE'!AF5:AF6,'Resumen de indicadores HSE'!AF5:AF6,\">=0\"),\"-\")","v":"-"},{"$f":"+IFERROR(AVERAGEIFS('Resumen de indicadores HSE'!AG5:AG6,'Resumen de indicadores HSE'!AG5:AG6,\">=0\"),\"-\")","v":"-"},{"$f":"+IFERROR(AVERAGEIFS('Resumen de indicadores HSE'!AH5:AH6,'Resumen de indicadores HSE'!AH5:AH6,\">=0\"),\"-\")","v":"-"},{"$f":"+IFERROR(AVERAGEIFS('Resumen de indicadores HSE'!AI5:AI6,'Resumen de indicadores HSE'!AI5:AI6,\">=0\"),\"-\")","v":"-"},{"$f":"+IFERROR(AVERAGEIFS('Resumen de indicadores HSE'!AJ5:AJ6,'Resumen de indicadores HSE'!AJ5:AJ6,\">=0\"),\"-\")","v":"-"},{"$f":"+IFERROR(AVERAGEIFS('Resumen de indicadores HSE'!AK5:AK6,'Resumen de indicadores HSE'!AK5:AK6,\">=0\"),\"-\")","v":"-"},{"$f":"+IFERROR(AVERAGEIFS('Resumen de indicadores HSE'!AL5:AL6,'Resumen de indicadores HSE'!AL5:AL6,\">=0\"),\"-\")","v":"-"},{"$f":"+IFERROR(AVERAGEIFS('Resumen de indicadores HSE'!AM5:AM6,'Resumen de indicadores HSE'!AM5:AM6,\">=0\"),\"-\")","v":"-"},{"$f":"+IFERROR(AVERAGEIFS('Resumen de indicadores HSE'!AN5:AN6,'Resumen de indicadores HSE'!AN5:AN6,\">=0\"),\"-\")","v":"-"},{"$f":"+IFERROR(AVERAGEIFS('Resumen de indicadores HSE'!AO5:AO6,'Resumen de indicadores HSE'!AO5:AO6,\">=0\"),\"-\")","v":"-"},{"$f":"+IFERROR(AVERAGEIFS('Resumen de indicadores HSE'!AP5:AP6,'Resumen de indicadores HSE'!AP5:AP6,\">=0\"),\"-\")","v":"-"},{"$f":"+IFERROR(AVERAGEIFS('Resumen de indicadores HSE'!AQ5:AQ6,'Resumen de indicadores HSE'!AQ5:AQ6,\">=0\"),\"-\")","v":"-"},{"$f":"+IFERROR(AVERAGEIFS('Resumen de indicadores HSE'!AR5:AR6,'Resumen de indicadores HSE'!AR5:AR6,\">=0\"),\"-\")","v":"-"},{"$f":"+IFERROR(AVERAGEIFS('Resumen de indicadores HSE'!AS5:AS6,'Resumen de indicadores HSE'!AS5:AS6,\">=0\"),\"-\")","v":"-"},{"$f":"+IFERROR(AVERAGEIFS('Resumen de indicadores HSE'!AT5:AT6,'Resumen de indicadores HSE'!AT5:AT6,\">=0\"),\"-\")","v":"-"},{"$f":"+IFERROR(AVERAGEIFS('Resumen de indicadores HSE'!AU5:AU6,'Resumen de indicadores HSE'!AU5:AU6,\">=0\"),\"-\")","v":"-"},{"$f":"+IFERROR(AVERAGEIFS('Resumen de indicadores HSE'!AV5:AV6,'Resumen de indicadores HSE'!AV5:AV6,\">=0\"),\"-\")","v":"-"},{"$f":"+IFERROR(AVERAGEIFS('Resumen de indicadores HSE'!AW5:AW6,'Resumen de indicadores HSE'!AW5:AW6,\">=0\"),\"-\")","v":"-"},{"$f":"+IFERROR(AVERAGEIFS('Resumen de indicadores HSE'!AX5:AX6,'Resumen de indicadores HSE'!AX5:AX6,\">=0\"),\"-\")","v":"-"},{"$f":"+IFERROR(AVERAGEIFS('Resumen de indicadores HSE'!AY5:AY6,'Resumen de indicadores HSE'!AY5:AY6,\">=0\"),\"-\")","v":"-"},{"$f":"+IFERROR(AVERAGEIFS('Resumen de indicadores HSE'!AZ5:AZ6,'Resumen de indicadores HSE'!AZ5:AZ6,\">=0\"),\"-\")","v":"-"},{"$f":"+IFERROR(AVERAGEIFS('Resumen de indicadores HSE'!BA5:BA6,'Resumen de indicadores HSE'!BA5:BA6,\">=0\"),\"-\")","v":"-"},{"$f":"+IFERROR(AVERAGEIFS('Resumen de indicadores HSE'!BB5:BB6,'Resumen de indicadores HSE'!BB5:BB6,\">=0\"),\"-\")","v":"-"},{"$f":"+IFERROR(AVERAGEIFS('Resumen de indicadores HSE'!BC5:BC6,'Resumen de indicadores HSE'!BC5:BC6,\">=0\"),\"-\")","v":"-"},{"$f":"+IFERROR(AVERAGEIFS('Resumen de indicadores HSE'!BD5:BD6,'Resumen de indicadores HSE'!BD5:BD6,\">=0\"),\"-\")","v":"-"},{"$f":"+IFERROR(AVERAGEIFS('Resumen de indicadores HSE'!BE5:BE6,'Resumen de indicadores HSE'!BE5:BE6,\">=0\"),\"-\")","v":"-"}]
[null,"HSE","Autoestima","-",null,{"$f":"+IFERROR(AVERAGEIFS('Resumen de indicadores HSE'!H7:H9,'Resumen de indicadores HSE'!H7:H9,\">=0\"),\"-\")","v":"-"},{"$f":"+IFERROR(AVERAGEIFS('Resumen de indicadores HSE'!I7:I9,'Resumen de indicadores HSE'!I7:I9,\">=0\"),\"-\")","v":"-"},{"$f":"+IFERROR(AVERAGEIFS('Resumen de indicadores HSE'!J7:J9,'Resumen de indicadores HSE'!J7:J9,\">=0\"),\"-\")","v":"-"},{"$f":"+IFERROR(AVERAGEIFS('Resumen de indicadores HSE'!K7:K9,'Resumen de indicadores HSE'!K7:K9,\">=0\"),\"-\")","v":"-"},{"$f":"+IFERROR(AVERAGEIFS('Resumen de indicadores HSE'!L7:L9,'Resumen de indicadores HSE'!L7:L9,\">=0\"),\"-\")","v":"-"},{"$f":"+IFERROR(AVERAGEIFS('Resumen de indicadores HSE'!M7:M9,'Resumen de indicadores HSE'!M7:M9,\">=0\"),\"-\")","v":"-"},{"$f":"+IFERROR(AVERAGEIFS('Resumen de indicadores HSE'!N7:N9,'Resumen de indicadores HSE'!N7:N9,\">=0\"),\"-\")","v":"-"},{"$f":"+IFERROR(AVERAGEIFS('Resumen de indicadores HSE'!O7:O9,'Resumen de indicadores HSE'!O7:O9,\">=0\"),\"-\")","v":"-"},{"$f":"+IFERROR(AVERAGEIFS('Resumen de indicadores HSE'!P7:P9,'Resumen de indicadores HSE'!P7:P9,\">=0\"),\"-\")","v":"-"},{"$f":"+IFERROR(AVERAGEIFS('Resumen de indicadores HSE'!Q7:Q9,'Resumen de indicadores HSE'!Q7:Q9,\">=0\"),\"-\")","v":"-"},{"$f":"+IFERROR(AVERAGEIFS('Resumen de indicadores HSE'!R7:R9,'Resumen de indicadores HSE'!R7:R9,\">=0\"),\"-\")","v":"-"},{"$f":"+IFERROR(AVERAGEIFS('Resumen de indicadores HSE'!S7:S9,'Resumen de indicadores HSE'!S7:S9,\">=0\"),\"-\")","v":"-"},{"$f":"+IFERROR(AVERAGEIFS('Resumen de indicadores HSE'!T7:T9,'Resumen de indicadores HSE'!T7:T9,\">=0\"),\"-\")","v":"-"},{"$f":"+IFERROR(AVERAGEIFS('Resumen de indicadores HSE'!U7:U9,'Resumen de indicadores HSE'!U7:U9,\">=0\"),\"-\")","v":"-"},{"$f":"+IFERROR(AVERAGEIFS('Resumen de indicadores HSE'!V7:V9,'Resumen de indicadores HSE'!V7:V9,\">=0\"),\"-\")","v":"-"},{"$f":"+IFERROR(AVERAGEIFS('Resumen de indicadores HSE'!W7:W9,'Resumen de indicadores HSE'!W7:W9,\">=0\"),\"-\")","v":"-"},{"$f":"+IFERROR(AVERAGEIFS('Resumen de indicadores HSE'!X7:X9,'Resumen de indicadores HSE'!X7:X9,\">=0\"),\"-\")","v":"-"},{"$f":"+IFERROR(AVERAGEIFS('Resumen de indicadores HSE'!Y7:Y9,'Resumen de indicadores HSE'!Y7:Y9,\">=0\"),\"-\")","v":"-"},{"$f":"+IFERROR(AVERAGEIFS('Resumen de indicadores HSE'!Z7:Z9,'Resumen de indicadores HSE'!Z7:Z9,\">=0\"),\"-\")","v":"-"},{"$f":"+IFERROR(AVERAGEIFS('Resumen de indicadores HSE'!AA7:AA9,'Resumen de indicadores HSE'!AA7:AA9,\">=0\"),\"-\")","v":"-"},{"$f":"+IFERROR(AVERAGEIFS('Resumen de indicadores HSE'!AB7:AB9,'Resumen de indicadores HSE'!AB7:AB9,\">=0\"),\"-\")","v":"-"},{"$f":"+IFERROR(AVERAGEIFS('Resumen de indicadores HSE'!AC7:AC9,'Resumen de indicadores HSE'!AC7:AC9,\">=0\"),\"-\")","v":"-"},{"$f":"+IFERROR(AVERAGEIFS('Resumen de indicadores HSE'!AD7:AD9,'Resumen de indicadores HSE'!AD7:AD9,\">=0\"),\"-\")","v":"-"},{"$f":"+IFERROR(AVERAGEIFS('Resumen de indicadores HSE'!AE7:AE9,'Resumen de indicadores HSE'!AE7:AE9,\">=0\"),\"-\")","v":"-"},{"$f":"+IFERROR(AVERAGEIFS('Resumen de indicadores HSE'!AF7:AF9,'Resumen de indicadores HSE'!AF7:AF9,\">=0\"),\"-\")","v":"-"},{"$f":"+IFERROR(AVERAGEIFS('Resumen de indicadores HSE'!AG7:AG9,'Resumen de indicadores HSE'!AG7:AG9,\">=0\"),\"-\")","v":"-"},{"$f":"+IFERROR(AVERAGEIFS('Resumen de indicadores HSE'!AH7:AH9,'Resumen de indicadores HSE'!AH7:AH9,\">=0\"),\"-\")","v":"-"},{"$f":"+IFERROR(AVERAGEIFS('Resumen de indicadores HSE'!AI7:AI9,'Resumen de indicadores HSE'!AI7:AI9,\">=0\"),\"-\")","v":"-"},{"$f":"+IFERROR(AVERAGEIFS('Resumen de indicadores HSE'!AJ7:AJ9,'Resumen de indicadores HSE'!AJ7:AJ9,\">=0\"),\"-\")","v":"-"},{"$f":"+IFERROR(AVERAGEIFS('Resumen de indicadores HSE'!AK7:AK9,'Resumen de indicadores HSE'!AK7:AK9,\">=0\"),\"-\")","v":"-"},{"$f":"+IFERROR(AVERAGEIFS('Resumen de indicadores HSE'!AL7:AL9,'Resumen de indicadores HSE'!AL7:AL9,\">=0\"),\"-\")","v":"-"},{"$f":"+IFERROR(AVERAGEIFS('Resumen de indicadores HSE'!AM7:AM9,'Resumen de indicadores HSE'!AM7:AM9,\">=0\"),\"-\")","v":"-"},{"$f":"+IFERROR(AVERAGEIFS('Resumen de indicadores HSE'!AN7:AN9,'Resumen de indicadores HSE'!AN7:AN9,\">=0\"),\"-\")","v":"-"},{"$f":"+IFERROR(AVERAGEIFS('Resumen de indicadores HSE'!AO7:AO9,'Resumen de indicadores HSE'!AO7:AO9,\">=0\"),\"-\")","v":"-"},{"$f":"+IFERROR(AVERAGEIFS('Resumen de indicadores HSE'!AP7:AP9,'Resumen de indicadores HSE'!AP7:AP9,\">=0\"),\"-\")","v":"-"},{"$f":"+IFERROR(AVERAGEIFS('Resumen de indicadores HSE'!AQ7:AQ9,'Resumen de indicadores HSE'!AQ7:AQ9,\">=0\"),\"-\")","v":"-"},{"$f":"+IFERROR(AVERAGEIFS('Resumen de indicadores HSE'!AR7:AR9,'Resumen de indicadores HSE'!AR7:AR9,\">=0\"),\"-\")","v":"-"},{"$f":"+IFERROR(AVERAGEIFS('Resumen de indicadores HSE'!AS7:AS9,'Resumen de indicadores HSE'!AS7:AS9,\">=0\"),\"-\")","v":"-"},{"$f":"+IFERROR(AVERAGEIFS('Resumen de indicadores HSE'!AT7:AT9,'Resumen de indicadores HSE'!AT7:AT9,\">=0\"),\"-\")","v":"-"},{"$f":"+IFERROR(AVERAGEIFS('Resumen de indicadores HSE'!AU7:AU9,'Resumen de indicadores HSE'!AU7:AU9,\">=0\"),\"-\")","v":"-"},{"$f":"+IFERROR(AVERAGEIFS('Resumen de indicadores HSE'!AV7:AV9,'Resumen de indicadores HSE'!AV7:AV9,\">=0\"),\"-\")","v":"-"},{"$f":"+IFERROR(AVERAGEIFS('Resumen de indicadores HSE'!AW7:AW9,'Resumen de indicadores HSE'!AW7:AW9,\">=0\"),\"-\")","v":"-"},{"$f":"+IFERROR(AVERAGEIFS('Resumen de indicadores HSE'!AX7:AX9,'Resumen de indicadores HSE'!AX7:AX9,\">=0\"),\"-\")","v":"-"},{"$f":"+IFERROR(AVERAGEIFS('Resumen de indicadores HSE'!AY7:AY9,'Resumen de indicadores HSE'!AY7:AY9,\">=0\"),\"-\")","v":"-"},{"$f":"+IFERROR(AVERAGEIFS('Resumen de indicadores HSE'!AZ7:AZ9,'Resumen de indicadores HSE'!AZ7:AZ9,\">=0\"),\"-\")","v":"-"},{"$f":"+IFERROR(AVERAGEIFS('Resumen de indicadores HSE'!BA7:BA9,'Resumen de indicadores HSE'!BA7:BA9,\">=0\"),\"-\")","v":"-"},{"$f":"+IFERROR(AVERAGEIFS('Resumen de indicadores HSE'!BB7:BB9,'Resumen de indicadores HSE'!BB7:BB9,\">=0\"),\"-\")","v":"-"},{"$f":"+IFERROR(AVERAGEIFS('Resumen de indicadores HSE'!BC7:BC9,'Resumen de indicadores HSE'!BC7:BC9,\">=0\"),\"-\")","v":"-"},{"$f":"+IFERROR(AVERAGEIFS('Resumen de indicadores HSE'!BD7:BD9,'Resumen de indicadores HSE'!BD7:BD9,\">=0\"),\"-\")","v":"-"},{"$f":"+IFERROR(AVERAGEIFS('Resumen de indicadores HSE'!BE7:BE9,'Resumen de indicadores HSE'!BE7:BE9,\">=0\"),\"-\")","v":"-"}]
[null,"HSE","Conciencia Emocional","-",null,{"$f":"+IFERROR(AVERAGEIFS('Resumen de indicadores HSE'!H10:H12,'Resumen de indicadores HSE'!H10:H12,\">=0\"),\"-\")","v":"-"},{"$f":"+IFERROR(AVERAGEIFS('Resumen de indicadores HSE'!I10:I12,'Resumen de indicadores HSE'!I10:I12,\">=0\"),\"-\")","v":"-"},{"$f":"+IFERROR(AVERAGEIFS('Resumen de indicadores HSE'!J10:J12,'Resumen de indicadores HSE'!J10:J12,\">=0\"),\"-\")","v":"-"},{"$f":"+IFERROR(AVERAGEIFS('Resumen de indicadores HSE'!K10:K12,'Resumen de indicadores HSE'!K10:K12,\">=0\"),\"-\")","v":"-"},{"$f":"+IFERROR(AVERAGEIFS('Resumen de indicadores HSE'!L10:L12,'Resumen de indicadores HSE'!L10:L12,\">=0\"),\"-\")","v":"-"},{"$f":"+IFERROR(AVERAGEIFS('Resumen de indicadores HSE'!M10:M12,'Resumen de indicadores HSE'!M10:M12,\">=0\"),\"-\")","v":"-"},{"$f":"+IFERROR(AVERAGEIFS('Resumen de indicadores HSE'!N10:N12,'Resumen de indicadores HSE'!N10:N12,\">=0\"),\"-\")","v":"-"},{"$f":"+IFERROR(AVERAGEIFS('Resumen de indicadores HSE'!O10:O12,'Resumen de indicadores HSE'!O10:O12,\">=0\"),\"-\")","v":"-"},{"$f":"+IFERROR(AVERAGEIFS('Resumen de indicadores HSE'!P10:P12,'Resumen de indicadores HSE'!P10:P12,\">=0\"),\"-\")","v":"-"},{"$f":"+IFERROR(AVERAGEIFS('Resumen de indicadores HSE'!Q10:Q12,'Resumen de indicadores HSE'!Q10:Q12,\">=0\"),\"-\")","v":"-"},{"$f":"+IFERROR(AVERAGEIFS('Resumen de indicadores HSE'!R10:R12,'Resumen de indicadores HSE'!R10:R12,\">=0\"),\"-\")","v":"-"},{"$f":"+IFERROR(AVERAGEIFS('Resumen de indicadores HSE'!S10:S12,'Resumen de indicadores HSE'!S10:S12,\">=0\"),\"-\")","v":"-"},{"$f":"+IFERROR(AVERAGEIFS('Resumen de indicadores HSE'!T10:T12,'Resumen de indicadores HSE'!T10:T12,\">=0\"),\"-\")","v":"-"},{"$f":"+IFERROR(AVERAGEIFS('Resumen de indicadores HSE'!U10:U12,'Resumen de indicadores HSE'!U10:U12,\">=0\"),\"-\")","v":"-"},{"$f":"+IFERROR(AVERAGEIFS('Resumen de indicadores HSE'!V10:V12,'Resumen de indicadores HSE'!V10:V12,\">=0\"),\"-\")","v":"-"},{"$f":"+IFERROR(AVERAGEIFS('Resumen de indicadores HSE'!W10:W12,'Resumen de indicadores HSE'!W10:W12,\">=0\"),\"-\")","v":"-"},{"$f":"+IFERROR(AVERAGEIFS('Resumen de indicadores HSE'!X10:X12,'Resumen de indicadores HSE'!X10:X12,\">=0\"),\"-\")","v":"-"},{"$f":"+IFERROR(AVERAGEIFS('Resumen de indicadores HSE'!Y10:Y12,'Resumen de indicadores HSE'!Y10:Y12,\">=0\"),\"-\")","v":"-"},{"$f":"+IFERROR(AVERAGEIFS('Resumen de indicadores HSE'!Z10:Z12,'Resumen de indicadores HSE'!Z10:Z12,\">=0\"),\"-\")","v":"-"},{"$f":"+IFERROR(AVERAGEIFS('Resumen de indicadores HSE'!AA10:AA12,'Resumen de indicadores HSE'!AA10:AA12,\">=0\"),\"-\")","v":"-"},{"$f":"+IFERROR(AVERAGEIFS('Resumen de indicadores HSE'!AB10:AB12,'Resumen de indicadores HSE'!AB10:AB12,\">=0\"),\"-\")","v":"-"},{"$f":"+IFERROR(AVERAGEIFS('Resumen de indicadores HSE'!AC10:AC12,'Resumen de indicadores HSE'!AC10:AC12,\">=0\"),\"-\")","v":"-"},{"$f":"+IFERROR(AVERAGEIFS('Resumen de indicadores HSE'!AD10:AD12,'Resumen de indicadores HSE'!AD10:AD12,\">=0\"),\"-\")","v":"-"},{"$f":"+IFERROR(AVERAGEIFS('Resumen de indicadores HSE'!AE10:AE12,'Resumen de indicadores HSE'!AE10:AE12,\">=0\"),\"-\")","v":"-"},{"$f":"+IFERROR(AVERAGEIFS('Resumen de indicadores HSE'!AF10:AF12,'Resumen de indicadores HSE'!AF10:AF12,\">=0\"),\"-\")","v":"-"},{"$f":"+IFERROR(AVERAGEIFS('Resumen de indicadores HSE'!AG10:AG12,'Resumen de indicadores HSE'!AG10:AG12,\">=0\"),\"-\")","v":"-"},{"$f":"+IFERROR(AVERAGEIFS('Resumen de indicadores HSE'!AH10:AH12,'Resumen de indicadores HSE'!AH10:AH12,\">=0\"),\"-\")","v":"-"},{"$f":"+IFERROR(AVERAGEIFS('Resumen de indicadores HSE'!AI10:AI12,'Resumen de indicadores HSE'!AI10:AI12,\">=0\"),\"-\")","v":"-"},{"$f":"+IFERROR(AVERAGEIFS('Resumen de indicadores HSE'!AJ10:AJ12,'Resumen de indicadores HSE'!AJ10:AJ12,\">=0\"),\"-\")","v":"-"},{"$f":"+IFERROR(AVERAGEIFS('Resumen de indicadores HSE'!AK10:AK12,'Resumen de indicadores HSE'!AK10:AK12,\">=0\"),\"-\")","v":"-"},{"$f":"+IFERROR(AVERAGEIFS('Resumen de indicadores HSE'!AL10:AL12,'Resumen de indicadores HSE'!AL10:AL12,\">=0\"),\"-\")","v":"-"},{"$f":"+IFERROR(AVERAGEIFS('Resumen de indicadores HSE'!AM10:AM12,'Resumen de indicadores HSE'!AM10:AM12,\">=0\"),\"-\")","v":"-"},{"$f":"+IFERROR(AVERAGEIFS('Resumen de indicadores HSE'!AN10:AN12,'Resumen de indicadores HSE'!AN10:AN12,\">=0\"),\"-\")","v":"-"},{"$f":"+IFERROR(AVERAGEIFS('Resumen de indicadores HSE'!AO10:AO12,'Resumen de indicadores HSE'!AO10:AO12,\">=0\"),\"-\")","v":"-"},{"$f":"+IFERROR(AVERAGEIFS('Resumen de indicadores HSE'!AP10:AP12,'Resumen de indicadores HSE'!AP10:AP12,\">=0\"),\"-\")","v":"-"},{"$f":"+IFERROR(AVERAGEIFS('Resumen de indicadores HSE'!AQ10:AQ12,'Resumen de indicadores HSE'!AQ10:AQ12,\">=0\"),\"-\")","v":"-"},{"$f":"+IFERROR(AVERAGEIFS('Resumen de indicadores HSE'!AR10:AR12,'Resumen de indicadores HSE'!AR10:AR12,\">=0\"),\"-\")","v":"-"},{"$f":"+IFERROR(AVERAGEIFS('Resumen de indicadores HSE'!AS10:AS12,'Resumen de indicadores HSE'!AS10:AS12,\">=0\"),\"-\")","v":"-"},{"$f":"+IFERROR(AVERAGEIFS('Resumen de indicadores HSE'!AT10:AT12,'Resumen de indicadores HSE'!AT10:AT12,\">=0\"),\"-\")","v":"-"},{"$f":"+IFERROR(AVERAGEIFS('Resumen de indicadores HSE'!AU10:AU12,'Resumen de indicadores HSE'!AU10:AU12,\">=0\"),\"-\")","v":"-"},{"$f":"+IFERROR(AVERAGEIFS('Resumen de indicadores HSE'!AV10:AV12,'Resumen de indicadores HSE'!AV10:AV12,\">=0\"),\"-\")","v":"-"},{"$f":"+IFERROR(AVERAGEIFS('Resumen de indicadores HSE'!AW10:AW12,'Resumen de indicadores HSE'!AW10:AW12,\">=0\"),\"-\")","v":"-"},{"$f":"+IFERROR(AVERAGEIFS('Resumen de indicadores HSE'!AX10:AX12,'Resumen de indicadores HSE'!AX10:AX12,\">=0\"),\"-\")","v":"-"},{"$f":"+IFERROR(AVERAGEIFS('Resumen de indicadores HSE'!AY10:AY12,'Resumen de indicadores HSE'!AY10:AY12,\">=0\"),\"-\")","v":"-"},{"$f":"+IFERROR(AVERAGEIFS('Resumen de indicadores HSE'!AZ10:AZ12,'Resumen de indicadores HSE'!AZ10:AZ12,\">=0\"),\"-\")","v":"-"},{"$f":"+IFERROR(AVERAGEIFS('Resumen de indicadores HSE'!BA10:BA12,'Resumen de indicadores HSE'!BA10:BA12,\">=0\"),\"-\")","v":"-"},{"$f":"+IFERROR(AVERAGEIFS('Resumen de indicadores HSE'!BB10:BB12,'Resumen de indicadores HSE'!BB10:BB12,\">=0\"),\"-\")","v":"-"},{"$f":"+IFERROR(AVERAGEIFS('Resumen de indicadores HSE'!BC10:BC12,'Resumen de indicadores HSE'!BC10:BC12,\">=0\"),\"-\")","v":"-"},{"$f":"+IFERROR(AVERAGEIFS('Resumen de indicadores HSE'!BD10:BD12,'Resumen de indicadores HSE'!BD10:BD12,\">=0\"),\"-\")","v":"-"},{"$f":"+IFERROR(AVERAGEIFS('Resumen de indicadores HSE'!BE10:BE12,'Resumen de indicadores HSE'!BE10:BE12,\">=0\"),\"-\")","v":"-"}]
[null,"HSE","Autocuidado","-",null,{"$f":"+IFERROR(AVERAGEIFS('Resumen de indicadores HSE'!H13:H14,'Resumen de indicadores HSE'!H13:H14,\">=0\"),\"-\")","v":"-"},{"$f":"+IFERROR(AVERAGEIFS('Resumen de indicadores HSE'!I13:I14,'Resumen de indicadores HSE'!I13:I14,\">=0\"),\"-\")","v":"-"},{"$f":"+IFERROR(AVERAGEIFS('Resumen de indicadores HSE'!J13:J14,'Resumen de indicadores HSE'!J13:J14,\">=0\"),\"-\")","v":"-"},{"$f":"+IFERROR(AVERAGEIFS('Resumen de indicadores HSE'!K13:K14,'Resumen de indicadores HSE'!K13:K14,\">=0\"),\"-\")","v":"-"},{"$f":"+IFERROR(AVERAGEIFS('Resumen de indicadores HSE'!L13:L14,'Resumen de indicadores HSE'!L13:L14,\">=0\"),\"-\")","v":"-"},{"$f":"+IFERROR(AVERAGEIFS('Resumen de indicadores HSE'!M13:M14,'Resumen de indicadores HSE'!M13:M14,\">=0\"),\"-\")","v":"-"},{"$f":"+IFERROR(AVERAGEIFS('Resumen de indicadores HSE'!N13:N14,'Resumen de indicadores HSE'!N13:N14,\">=0\"),\"-\")","v":"-"},{"$f":"+IFERROR(AVERAGEIFS('Resumen de indicadores HSE'!O13:O14,'Resumen de indicadores HSE'!O13:O14,\">=0\"),\"-\")","v":"-"},{"$f":"+IFERROR(AVERAGEIFS('Resumen de indicadores HSE'!P13:P14,'Resumen de indicadores HSE'!P13:P14,\">=0\"),\"-\")","v":"-"},{"$f":"+IFERROR(AVERAGEIFS('Resumen de indicadores HSE'!Q13:Q14,'Resumen de indicadores HSE'!Q13:Q14,\">=0\"),\"-\")","v":"-"},{"$f":"+IFERROR(AVERAGEIFS('Resumen de indicadores HSE'!R13:R14,'Resumen de indicadores HSE'!R13:R14,\">=0\"),\"-\")","v":"-"},{"$f":"+IFERROR(AVERAGEIFS('Resumen de indicadores HSE'!S13:S14,'Resumen de indicadores HSE'!S13:S14,\">=0\"),\"-\")","v":"-"},{"$f":"+IFERROR(AVERAGEIFS('Resumen de indicadores HSE'!T13:T14,'Resumen de indicadores HSE'!T13:T14,\">=0\"),\"-\")","v":"-"},{"$f":"+IFERROR(AVERAGEIFS('Resumen de indicadores HSE'!U13:U14,'Resumen de indicadores HSE'!U13:U14,\">=0\"),\"-\")","v":"-"},{"$f":"+IFERROR(AVERAGEIFS('Resumen de indicadores HSE'!V13:V14,'Resumen de indicadores HSE'!V13:V14,\">=0\"),\"-\")","v":"-"},{"$f":"+IFERROR(AVERAGEIFS('Resumen de indicadores HSE'!W13:W14,'Resumen de indicadores HSE'!W13:W14,\">=0\"),\"-\")","v":"-"},{"$f":"+IFERROR(AVERAGEIFS('Resumen de indicadores HSE'!X13:X14,'Resumen de indicadores HSE'!X13:X14,\">=0\"),\"-\")","v":"-"},{"$f":"+IFERROR(AVERAGEIFS('Resumen de indicadores HSE'!Y13:Y14,'Resumen de indicadores HSE'!Y13:Y14,\">=0\"),\"-\")","v":"-"},{"$f":"+IFERROR(AVERAGEIFS('Resumen de indicadores HSE'!Z13:Z14,'Resumen de indicadores HSE'!Z13:Z14,\">=0\"),\"-\")","v":"-"},{"$f":"+IFERROR(AVERAGEIFS('Resumen de indicadores HSE'!AA13:AA14,'Resumen de indicadores HSE'!AA13:AA14,\">=0\"),\"-\")","v":"-"},{"$f":"+IFERROR(AVERAGEIFS('Resumen de indicadores HSE'!AB13:AB14,'Resumen de indicadores HSE'!AB13:AB14,\">=0\"),\"-\")","v":"-"},{"$f":"+IFERROR(AVERAGEIFS('Resumen de indicadores HSE'!AC13:AC14,'Resumen de indicadores HSE'!AC13:AC14,\">=0\"),\"-\")","v":"-"},{"$f":"+IFERROR(AVERAGEIFS('Resumen de indicadores HSE'!AD13:AD14,'Resumen de indicadores HSE'!AD13:AD14,\">=0\"),\"-\")","v":"-"},{"$f":"+IFERROR(AVERAGEIFS('Resumen de indicadores HSE'!AE13:AE14,'Resumen de indicadores HSE'!AE13:AE14,\">=0\"),\"-\")","v":"-"},{"$f":"+IFERROR(AVERAGEIFS('Resumen de indicadores HSE'!AF13:AF14,'Resumen de indicadores HSE'!AF13:AF14,\">=0\"),\"-\")","v":"-"},{"$f":"+IFERROR(AVERAGEIFS('Resumen de indicadores HSE'!AG13:AG14,'Resumen de indicadores HSE'!AG13:AG14,\">=0\"),\"-\")","v":"-"},{"$f":"+IFERROR(AVERAGEIFS('Resumen de indicadores HSE'!AH13:AH14,'Resumen de indicadores HSE'!AH13:AH14,\">=0\"),\"-\")","v":"-"},{"$f":"+IFERROR(AVERAGEIFS('Resumen de indicadores HSE'!AI13:AI14,'Resumen de indicadores HSE'!AI13:AI14,\">=0\"),\"-\")","v":"-"},{"$f":"+IFERROR(AVERAGEIFS('Resumen de indicadores HSE'!AJ13:AJ14,'Resumen de indicadores HSE'!AJ13:AJ14,\">=0\"),\"-\")","v":"-"},{"$f":"+IFERROR(AVERAGEIFS('Resumen de indicadores HSE'!AK13:AK14,'Resumen de indicadores HSE'!AK13:AK14,\">=0\"),\"-\")","v":"-"},{"$f":"+IFERROR(AVERAGEIFS('Resumen de indicadores HSE'!AL13:AL14,'Resumen de indicadores HSE'!AL13:AL14,\">=0\"),\"-\")","v":"-"},{"$f":"+IFERROR(AVERAGEIFS('Resumen de indicadores HSE'!AM13:AM14,'Resumen de indicadores HSE'!AM13:AM14,\">=0\"),\"-\")","v":"-"},{"$f":"+IFERROR(AVERAGEIFS('Resumen de indicadores HSE'!AN13:AN14,'Resumen de indicadores HSE'!AN13:AN14,\">=0\"),\"-\")","v":"-"},{"$f":"+IFERROR(AVERAGEIFS('Resumen de indicadores HSE'!AO13:AO14,'Resumen de indicadores HSE'!AO13:AO14,\">=0\"),\"-\")","v":"-"},{"$f":"+IFERROR(AVERAGEIFS('Resumen de indicadores HSE'!AP13:AP14,'Resumen de indicadores HSE'!AP13:AP14,\">=0\"),\"-\")","v":"-"},{"$f":"+IFERROR(AVERAGEIFS('Resumen de indicadores HSE'!AQ13:AQ14,'Resumen de indicadores HSE'!AQ13:AQ14,\">=0\"),\"-\")","v":"-"},{"$f":"+IFERROR(AVERAGEIFS('Resumen de indicadores HSE'!AR13:AR14,'Resumen de indicadores HSE'!AR13:AR14,\">=0\"),\"-\")","v":"-"},{"$f":"+IFERROR(AVERAGEIFS('Resumen de indicadores HSE'!AS13:AS14,'Resumen de indicadores HSE'!AS13:AS14,\">=0\"),\"-\")","v":"-"},{"$f":"+IFERROR(AVERAGEIFS('Resumen de indicadores HSE'!AT13:AT14,'Resumen de indicadores HSE'!AT13:AT14,\">=0\"),\"-\")","v":"-"},{"$f":"+IFERROR(AVERAGEIFS('Resumen de indicadores HSE'!AU13:AU14,'Resumen de indicadores HSE'!AU13:AU14,\">=0\"),\"-\")","v":"-"},{"$f":"+IFERROR(AVERAGEIFS('Resumen de indicadores HSE'!AV13:AV14,'Resumen de indicadores HSE'!AV13:AV14,\">=0\"),\"-\")","v":"-"},{"$f":"+IFERROR(AVERAGEIFS('Resumen de indicadores HSE'!AW13:AW14,'Resumen de indicadores HSE'!AW13:AW14,\">=0\"),\"-\")","v":"-"},{"$f":"+IFERROR(AVERAGEIFS('Resumen de indicadores HSE'!AX13:AX14,'Resumen de indicadores HSE'!AX13:AX14,\">=0\"),\"-\")","v":"-"},{"$f":"+IFERROR(AVERAGEIFS('Resumen de indicadores HSE'!AY13:AY14,'Resumen de indicadores HSE'!AY13:AY14,\">=0\"),\"-\")","v":"-"},{"$f":"+IFERROR(AVERAGEIFS('Resumen de indicadores HSE'!AZ13:AZ14,'Resumen de indicadores HSE'!AZ13:AZ14,\">=0\"),\"-\")","v":"-"},{"$f":"+IFERROR(AVERAGEIFS('Resumen de indicadores HSE'!BA13:BA14,'Resumen de indicadores HSE'!BA13:BA14,\">=0\"),\"-\")","v":"-"},{"$f":"+IFERROR(AVERAGEIFS('Resumen de indicadores HSE'!BB13:BB14,'Resumen de indicadores HSE'!BB13:BB14,\">=0\"),\"-\")","v":"-"},{"$f":"+IFERROR(AVERAGEIFS('Resumen de indicadores HSE'!BC13:BC14,'Resumen de indicadores HSE'!BC13:BC14,\">=0\"),\"-\")","v":"-"},{"$f":"+IFERROR(AVERAGEIFS('Resumen de indicadores HSE'!BD13:BD14,'Resumen de indicadores HSE'!BD13:BD14,\">=0\"),\"-\")","v":"-"},{"$f":"+IFERROR(AVERAGEIFS('Resumen de indicadores HSE'!BE13:BE14,'Resumen de indicadores HSE'!BE13:BE14,\">=0\"),\"-\")","v":"-"}]
[null,"HSE","Regulación Emocional","-",null,{"$f":"+IFERROR(AVERAGEIFS('Resumen de indicadores HSE'!H15:H17,'Resumen de indicadores HSE'!H15:H17,\">=0\"),\"-\")","v":"-"},{"$f":"+IFERROR(AVERAGEIFS('Resumen de indicadores HSE'!I15:I17,'Resumen de indicadores HSE'!I15:I17,\">=0\"),\"-\")","v":"-"},{"$f":"+IFERROR(AVERAGEIFS('Resumen de indicadores HSE'!J15:J17,'Resumen de indicadores HSE'!J15:J17,\">=0\"),\"-\")","v":"-"},{"$f":"+IFERROR(AVERAGEIFS('Resumen de indicadores HSE'!K15:K17,'Resumen de indicadores HSE'!K15:K17,\">=0\"),\"-\")","v":"-"},{"$f":"+IFERROR(AVERAGEIFS('Resumen de indicadores HSE'!L15:L17,'Resumen de indicadores HSE'!L15:L17,\">=0\"),\"-\")","v":"-"},{"$f":"+IFERROR(AVERAGEIFS('Resumen de indicadores HSE'!M15:M17,'Resumen de indicadores HSE'!M15:M17,\">=0\"),\"-\")","v":"-"},{"$f":"+IFERROR(AVERAGEIFS('Resumen de indicadores HSE'!N15:N17,'Resumen de indicadores HSE'!N15:N17,\">=0\"),\"-\")","v":"-"},{"$f":"+IFERROR(AVERAGEIFS('Resumen de indicadores HSE'!O15:O17,'Resumen de indicadores HSE'!O15:O17,\">=0\"),\"-\")","v":"-"},{"$f":"+IFERROR(AVERAGEIFS('Resumen de indicadores HSE'!P15:P17,'Resumen de indicadores HSE'!P15:P17,\">=0\"),\"-\")","v":"-"},{"$f":"+IFERROR(AVERAGEIFS('Resumen de indicadores HSE'!Q15:Q17,'Resumen de indicadores HSE'!Q15:Q17,\">=0\"),\"-\")","v":"-"},{"$f":"+IFERROR(AVERAGEIFS('Resumen de indicadores HSE'!R15:R17,'Resumen de indicadores HSE'!R15:R17,\">=0\"),\"-\")","v":"-"},{"$f":"+IFERROR(AVERAGEIFS('Resumen de indicadores HSE'!S15:S17,'Resumen de indicadores HSE'!S15:S17,\">=0\"),\"-\")","v":"-"},{"$f":"+IFERROR(AVERAGEIFS('Resumen de indicadores HSE'!T15:T17,'Resumen de indicadores HSE'!T15:T17,\">=0\"),\"-\")","v":"-"},{"$f":"+IFERROR(AVERAGEIFS('Resumen de indicadores HSE'!U15:U17,'Resumen de indicadores HSE'!U15:U17,\">=0\"),\"-\")","v":"-"},{"$f":"+IFERROR(AVERAGEIFS('Resumen de indicadores HSE'!V15:V17,'Resumen de indicadores HSE'!V15:V17,\">=0\"),\"-\")","v":"-"},{"$f":"+IFERROR(AVERAGEIFS('Resumen de indicadores HSE'!W15:W17,'Resumen de indicadores HSE'!W15:W17,\">=0\"),\"-\")","v":"-"},{"$f":"+IFERROR(AVERAGEIFS('Resumen de indicadores HSE'!X15:X17,'Resumen de indicadores HSE'!X15:X17,\">=0\"),\"-\")","v":"-"},{"$f":"+IFERROR(AVERAGEIFS('Resumen de indicadores HSE'!Y15:Y17,'Resumen de indicadores HSE'!Y15:Y17,\">=0\"),\"-\")","v":"-"},{"$f":"+IFERROR(AVERAGEIFS('Resumen de indicadores HSE'!Z15:Z17,'Resumen de indicadores HSE'!Z15:Z17,\">=0\"),\"-\")","v":"-"},{"$f":"+IFERROR(AVERAGEIFS('Resumen de indicadores HSE'!AA15:AA17,'Resumen de indicadores HSE'!AA15:AA17,\">=0\"),\"-\")","v":"-"},{"$f":"+IFERROR(AVERAGEIFS('Resumen de indicadores HSE'!AB15:AB17,'Resumen de indicadores HSE'!AB15:AB17,\">=0\"),\"-\")","v":"-"},{"$f":"+IFERROR(AVERAGEIFS('Resumen de indicadores HSE'!AC15:AC17,'Resumen de indicadores HSE'!AC15:AC17,\">=0\"),\"-\")","v":"-"},{"$f":"+IFERROR(AVERAGEIFS('Resumen de indicadores HSE'!AD15:AD17,'Resumen de indicadores HSE'!AD15:AD17,\">=0\"),\"-\")","v":"-"},{"$f":"+IFERROR(AVERAGEIFS('Resumen de indicadores HSE'!AE15:AE17,'Resumen de indicadores HSE'!AE15:AE17,\">=0\"),\"-\")","v":"-"},{"$f":"+IFERROR(AVERAGEIFS('Resumen de indicadores HSE'!AF15:AF17,'Resumen de indicadores HSE'!AF15:AF17,\">=0\"),\"-\")","v":"-"},{"$f":"+IFERROR(AVERAGEIFS('Resumen de indicadores HSE'!AG15:AG17,'Resumen de indicadores HSE'!AG15:AG17,\">=0\"),\"-\")","v":"-"},{"$f":"+IFERROR(AVERAGEIFS('Resumen de indicadores HSE'!AH15:AH17,'Resumen de indicadores HSE'!AH15:AH17,\">=0\"),\"-\")","v":"-"},{"$f":"+IFERROR(AVERAGEIFS('Resumen de indicadores HSE'!AI15:AI17,'Resumen de indicadores HSE'!AI15:AI17,\">=0\"),\"-\")","v":"-"},{"$f":"+IFERROR(AVERAGEIFS('Resumen de indicadores HSE'!AJ15:AJ17,'Resumen de indicadores HSE'!AJ15:AJ17,\">=0\"),\"-\")","v":"-"},{"$f":"+IFERROR(AVERAGEIFS('Resumen de indicadores HSE'!AK15:AK17,'Resumen de indicadores HSE'!AK15:AK17,\">=0\"),\"-\")","v":"-"},{"$f":"+IFERROR(AVERAGEIFS('Resumen de indicadores HSE'!AL15:AL17,'Resumen de indicadores HSE'!AL15:AL17,\">=0\"),\"-\")","v":"-"},{"$f":"+IFERROR(AVERAGEIFS('Resumen de indicadores HSE'!AM15:AM17,'Resumen de indicadores HSE'!AM15:AM17,\">=0\"),\"-\")","v":"-"},{"$f":"+IFERROR(AVERAGEIFS('Resumen de indicadores HSE'!AN15:AN17,'Resumen de indicadores HSE'!AN15:AN17,\">=0\"),\"-\")","v":"-"},{"$f":"+IFERROR(AVERAGEIFS('Resumen de indicadores HSE'!AO15:AO17,'Resumen de indicadores HSE'!AO15:AO17,\">=0\"),\"-\")","v":"-"},{"$f":"+IFERROR(AVERAGEIFS('Resumen de indicadores HSE'!AP15:AP17,'Resumen de indicadores HSE'!AP15:AP17,\">=0\"),\"-\")","v":"-"},{"$f":"+IFERROR(AVERAGEIFS('Resumen de indicadores HSE'!AQ15:AQ17,'Resumen de indicadores HSE'!AQ15:AQ17,\">=0\"),\"-\")","v":"-"},{"$f":"+IFERROR(AVERAGEIFS('Resumen de indicadores HSE'!AR15:AR17,'Resumen de indicadores HSE'!AR15:AR17,\">=0\"),\"-\")","v":"-"},{"$f":"+IFERROR(AVERAGEIFS('Resumen de indicadores HSE'!AS15:AS17,'Resumen de indicadores HSE'!AS15:AS17,\">=0\"),\"-\")","v":"-"},{"$f":"+IFERROR(AVERAGEIFS('Resumen de indicadores HSE'!AT15:AT17,'Resumen de indicadores HSE'!AT15:AT17,\">=0\"),\"-\")","v":"-"},{"$f":"+IFERROR(AVERAGEIFS('Resumen de indicadores HSE'!AU15:AU17,'Resumen de indicadores HSE'!AU15:AU17,\">=0\"),\"-\")","v":"-"},{"$f":"+IFERROR(AVERAGEIFS('Resumen de indicadores HSE'!AV15:AV17,'Resumen de indicadores HSE'!AV15:AV17,\">=0\"),\"-\")","v":"-"},{"$f":"+IFERROR(AVERAGEIFS('Resumen de indicadores HSE'!AW15:AW17,'Resumen de indicadores HSE'!AW15:AW17,\">=0\"),\"-\")","v":"-"},{"$f":"+IFERROR(AVERAGEIFS('Resumen de indicadores HSE'!AX15:AX17,'Resumen de indicadores HSE'!AX15:AX17,\">=0\"),\"-\")","v":"-"},{"$f":"+IFERROR(AVERAGEIFS('Resumen de indicadores HSE'!AY15:AY17,'Resumen de indicadores HSE'!AY15:AY17,\">=0\"),\"-\")","v":"-"},{"$f":"+IFERROR(AVERAGEIFS('Resumen de indicadores HSE'!AZ15:AZ17,'Resumen de indicadores HSE'!AZ15:AZ17,\">=0\"),\"-\")","v":"-"},{"$f":"+IFERROR(AVERAGEIFS('Resumen de indicadores HSE'!BA15:BA17,'Resumen de indicadores HSE'!BA15:BA17,\">=0\"),\"-\")","v":"-"},{"$f":"+IFERROR(AVERAGEIFS('Resumen de indicadores HSE'!BB15:BB17,'Resumen de indicadores HSE'!BB15:BB17,\">=0\"),\"-\")","v":"-"},{"$f":"+IFERROR(AVERAGEIFS('Resumen de indicadores HSE'!BC15:BC17,'Resumen de indicadores HSE'!BC15:BC17,\">=0\"),\"-\")","v":"-"},{"$f":"+IFERROR(AVERAGEIFS('Resumen de indicadores HSE'!BD15:BD17,'Resumen de indicadores HSE'!BD15:BD17,\">=0\"),\"-\")","v":"-"},{"$f":"+IFERROR(AVERAGEIFS('Resumen de indicadores HSE'!BE15:BE17,'Resumen de indicadores HSE'!BE15:BE17,\">=0\"),\"-\")","v":"-"}]
[null,"HSE","Creatividad","-",null,{"$f":"+IFERROR(AVERAGEIFS('Resumen de indicadores HSE'!H18:H20,'Resumen de indicadores HSE'!H18:H20,\">=0\"),\"-\")","v":"-"},{"$f":"+IFERROR(AVERAGEIFS('Resumen de indicadores HSE'!I18:I20,'Resumen de indicadores HSE'!I18:I20,\">=0\"),\"-\")","v":"-"},{"$f":"+IFERROR(AVERAGEIFS('Resumen de indicadores HSE'!J18:J20,'Resumen de indicadores HSE'!J18:J20,\">=0\"),\"-\")","v":"-"},{"$f":"+IFERROR(AVERAGEIFS('Resumen de indicadores HSE'!K18:K20,'Resumen de indicadores HSE'!K18:K20,\">=0\"),\"-\")","v":"-"},{"$f":"+IFERROR(AVERAGEIFS('Resumen de indicadores HSE'!L18:L20,'Resumen de indicadores HSE'!L18:L20,\">=0\"),\"-\")","v":"-"},{"$f":"+IFERROR(AVERAGEIFS('Resumen de indicadores HSE'!M18:M20,'Resumen de indicadores HSE'!M18:M20,\">=0\"),\"-\")","v":"-"},{"$f":"+IFERROR(AVERAGEIFS('Resumen de indicadores HSE'!N18:N20,'Resumen de indicadores HSE'!N18:N20,\">=0\"),\"-\")","v":"-"},{"$f":"+IFERROR(AVERAGEIFS('Resumen de indicadores HSE'!O18:O20,'Resumen de indicadores HSE'!O18:O20,\">=0\"),\"-\")","v":"-"},{"$f":"+IFERROR(AVERAGEIFS('Resumen de indicadores HSE'!P18:P20,'Resumen de indicadores HSE'!P18:P20,\">=0\"),\"-\")","v":"-"},{"$f":"+IFERROR(AVERAGEIFS('Resumen de indicadores HSE'!Q18:Q20,'Resumen de indicadores HSE'!Q18:Q20,\">=0\"),\"-\")","v":"-"},{"$f":"+IFERROR(AVERAGEIFS('Resumen de indicadores HSE'!R18:R20,'Resumen de indicadores HSE'!R18:R20,\">=0\"),\"-\")","v":"-"},{"$f":"+IFERROR(AVERAGEIFS('Resumen de indicadores HSE'!S18:S20,'Resumen de indicadores HSE'!S18:S20,\">=0\"),\"-\")","v":"-"},{"$f":"+IFERROR(AVERAGEIFS('Resumen de indicadores HSE'!T18:T20,'Resumen de indicadores HSE'!T18:T20,\">=0\"),\"-\")","v":"-"},{"$f":"+IFERROR(AVERAGEIFS('Resumen de indicadores HSE'!U18:U20,'Resumen de indicadores HSE'!U18:U20,\">=0\"),\"-\")","v":"-"},{"$f":"+IFERROR(AVERAGEIFS('Resumen de indicadores HSE'!V18:V20,'Resumen de indicadores HSE'!V18:V20,\">=0\"),\"-\")","v":"-"},{"$f":"+IFERROR(AVERAGEIFS('Resumen de indicadores HSE'!W18:W20,'Resumen de indicadores HSE'!W18:W20,\">=0\"),\"-\")","v":"-"},{"$f":"+IFERROR(AVERAGEIFS('Resumen de indicadores HSE'!X18:X20,'Resumen de indicadores HSE'!X18:X20,\">=0\"),\"-\")","v":"-"},{"$f":"+IFERROR(AVERAGEIFS('Resumen de indicadores HSE'!Y18:Y20,'Resumen de indicadores HSE'!Y18:Y20,\">=0\"),\"-\")","v":"-"},{"$f":"+IFERROR(AVERAGEIFS('Resumen de indicadores HSE'!Z18:Z20,'Resumen de indicadores HSE'!Z18:Z20,\">=0\"),\"-\")","v":"-"},{"$f":"+IFERROR(AVERAGEIFS('Resumen de indicadores HSE'!AA18:AA20,'Resumen de indicadores HSE'!AA18:AA20,\">=0\"),\"-\")","v":"-"},{"$f":"+IFERROR(AVERAGEIFS('Resumen de indicadores HSE'!AB18:AB20,'Resumen de indicadores HSE'!AB18:AB20,\">=0\"),\"-\")","v":"-"},{"$f":"+IFERROR(AVERAGEIFS('Resumen de indicadores HSE'!AC18:AC20,'Resumen de indicadores HSE'!AC18:AC20,\">=0\"),\"-\")","v":"-"},{"$f":"+IFERROR(AVERAGEIFS('Resumen de indicadores HSE'!AD18:AD20,'Resumen de indicadores HSE'!AD18:AD20,\">=0\"),\"-\")","v":"-"},{"$f":"+IFERROR(AVERAGEIFS('Resumen de indicadores HSE'!AE18:AE20,'Resumen de indicadores HSE'!AE18:AE20,\">=0\"),\"-\")","v":"-"},{"$f":"+IFERROR(AVERAGEIFS('Resumen de indicadores HSE'!AF18:AF20,'Resumen de indicadores HSE'!AF18:AF20,\">=0\"),\"-\")","v":"-"},{"$f":"+IFERROR(AVERAGEIFS('Resumen de indicadores HSE'!AG18:AG20,'Resumen de indicadores HSE'!AG18:AG20,\">=0\"),\"-\")","v":"-"},{"$f":"+IFERROR(AVERAGEIFS('Resumen de indicadores HSE'!AH18:AH20,'Resumen de indicadores HSE'!AH18:AH20,\">=0\"),\"-\")","v":"-"},{"$f":"+IFERROR(AVERAGEIFS('Resumen de indicadores HSE'!AI18:AI20,'Resumen de indicadores HSE'!AI18:AI20,\">=0\"),\"-\")","v":"-"},{"$f":"+IFERROR(AVERAGEIFS('Resumen de indicadores HSE'!AJ18:AJ20,'Resumen de indicadores HSE'!AJ18:AJ20,\">=0\"),\"-\")","v":"-"},{"$f":"+IFERROR(AVERAGEIFS('Resumen de indicadores HSE'!AK18:AK20,'Resumen de indicadores HSE'!AK18:AK20,\">=0\"),\"-\")","v":"-"},{"$f":"+IFERROR(AVERAGEIFS('Resumen de indicadores HSE'!AL18:AL20,'Resumen de indicadores HSE'!AL18:AL20,\">=0\"),\"-\")","v":"-"},{"$f":"+IFERROR(AVERAGEIFS('Resumen de indicadores HSE'!AM18:AM20,'Resumen de indicadores HSE'!AM18:AM20,\">=0\"),\"-\")","v":"-"},{"$f":"+IFERROR(AVERAGEIFS('Resumen de indicadores HSE'!AN18:AN20,'Resumen de indicadores HSE'!AN18:AN20,\">=0\"),\"-\")","v":"-"},{"$f":"+IFERROR(AVERAGEIFS('Resumen de indicadores HSE'!AO18:AO20,'Resumen de indicadores HSE'!AO18:AO20,\">=0\"),\"-\")","v":"-"},{"$f":"+IFERROR(AVERAGEIFS('Resumen de indicadores HSE'!AP18:AP20,'Resumen de indicadores HSE'!AP18:AP20,\">=0\"),\"-\")","v":"-"},{"$f":"+IFERROR(AVERAGEIFS('Resumen de indicadores HSE'!AQ18:AQ20,'Resumen de indicadores HSE'!AQ18:AQ20,\">=0\"),\"-\")","v":"-"},{"$f":"+IFERROR(AVERAGEIFS('Resumen de indicadores HSE'!AR18:AR20,'Resumen de indicadores HSE'!AR18:AR20,\">=0\"),\"-\")","v":"-"},{"$f":"+IFERROR(AVERAGEIFS('Resumen de indicadores HSE'!AS18:AS20,'Resumen de indicadores HSE'!AS18:AS20,\">=0\"),\"-\")","v":"-"},{"$f":"+IFERROR(AVERAGEIFS('Resumen de indicadores HSE'!AT18:AT20,'Resumen de indicadores HSE'!AT18:AT20,\">=0\"),\"-\")","v":"-"},{"$f":"+IFERROR(AVERAGEIFS('Resumen de indicadores HSE'!AU18:AU20,'Resumen de indicadores HSE'!AU18:AU20,\">=0\"),\"-\")","v":"-"},{"$f":"+IFERROR(AVERAGEIFS('Resumen de indicadores HSE'!AV18:AV20,'Resumen de indicadores HSE'!AV18:AV20,\">=0\"),\"-\")","v":"-"},{"$f":"+IFERROR(AVERAGEIFS('Resumen de indicadores HSE'!AW18:AW20,'Resumen de indicadores HSE'!AW18:AW20,\">=0\"),\"-\")","v":"-"},{"$f":"+IFERROR(AVERAGEIFS('Resumen de indicadores HSE'!AX18:AX20,'Resumen de indicadores HSE'!AX18:AX20,\">=0\"),\"-\")","v":"-"},{"$f":"+IFERROR(AVERAGEIFS('Resumen de indicadores HSE'!AY18:AY20,'Resumen de indicadores HSE'!AY18:AY20,\">=0\"),\"-\")","v":"-"},{"$f":"+IFERROR(AVERAGEIFS('Resumen de indicadores HSE'!AZ18:AZ20,'Resumen de indicadores HSE'!AZ18:AZ20,\">=0\"),\"-\")","v":"-"},{"$f":"+IFERROR(AVERAGEIFS('Resumen de indicadores HSE'!BA18:BA20,'Resumen de indicadores HSE'!BA18:BA20,\">=0\"),\"-\")","v":"-"},{"$f":"+IFERROR(AVERAGEIFS('Resumen de indicadores HSE'!BB18:BB20,'Resumen de indicadores HSE'!BB18:BB20,\">=0\"),\"-\")","v":"-"},{"$f":"+IFERROR(AVERAGEIFS('Resumen de indicadores HSE'!BC18:BC20,'Resumen de indicadores HSE'!BC18:BC20,\">=0\"),\"-\")","v":"-"},{"$f":"+IFERROR(AVERAGEIFS('Resumen de indicadores HSE'!BD18:BD20,'Resumen de indicadores HSE'!BD18:BD20,\">=0\"),\"-\")","v":"-"},{"$f":"+IFERROR(AVERAGEIFS('Resumen de indicadores HSE'!BE18:BE20,'Resumen de indicadores HSE'!BE18:BE20,\">=0\"),\"-\")","v":"-"}]
[null,"HSE","Toma de decisiones responsables","-",null,{"$f":"+IFERROR(AVERAGEIFS('Resumen de indicadores HSE'!H21:H23,'Resumen de indicadores HSE'!H21:H23,\">=0\"),\"-\")","v":"-"},{"$f":"+IFERROR(AVERAGEIFS('Resumen de indicadores HSE'!I21:I23,'Resumen de indicadores HSE'!I21:I23,\">=0\"),\"-\")","v":"-"},{"$f":"+IFERROR(AVERAGEIFS('Resumen de indicadores HSE'!J21:J23,'Resumen de indicadores HSE'!J21:J23,\">=0\"),\"-\")","v":"-"},{"$f":"+IFERROR(AVERAGEIFS('Resumen de indicadores HSE'!K21:K23,'Resumen de indicadores HSE'!K21:K23,\">=0\"),\"-\")","v":"-"},{"$f":"+IFERROR(AVERAGEIFS('Resumen de indicadores HSE'!L21:L23,'Resumen de indicadores HSE'!L21:L23,\">=0\"),\"-\")","v":"-"},{"$f":"+IFERROR(AVERAGEIFS('Resumen de indicadores HSE'!M21:M23,'Resumen de indicadores HSE'!M21:M23,\">=0\"),\"-\")","v":"-"},{"$f":"+IFERROR(AVERAGEIFS('Resumen de indicadores HSE'!N21:N23,'Resumen de indicadores HSE'!N21:N23,\">=0\"),\"-\")","v":"-"},{"$f":"+IFERROR(AVERAGEIFS('Resumen de indicadores HSE'!O21:O23,'Resumen de indicadores HSE'!O21:O23,\">=0\"),\"-\")","v":"-"},{"$f":"+IFERROR(AVERAGEIFS('Resumen de indicadores HSE'!P21:P23,'Resumen de indicadores HSE'!P21:P23,\">=0\"),\"-\")","v":"-"},{"$f":"+IFERROR(AVERAGEIFS('Resumen de indicadores HSE'!Q21:Q23,'Resumen de indicadores HSE'!Q21:Q23,\">=0\"),\"-\")","v":"-"},{"$f":"+IFERROR(AVERAGEIFS('Resumen de indicadores HSE'!R21:R23,'Resumen de indicadores HSE'!R21:R23,\">=0\"),\"-\")","v":"-"},{"$f":"+IFERROR(AVERAGEIFS('Resumen de indicadores HSE'!S21:S23,'Resumen de indicadores HSE'!S21:S23,\">=0\"),\"-\")","v":"-"},{"$f":"+IFERROR(AVERAGEIFS('Resumen de indicadores HSE'!T21:T23,'Resumen de indicadores HSE'!T21:T23,\">=0\"),\"-\")","v":"-"},{"$f":"+IFERROR(AVERAGEIFS('Resumen de indicadores HSE'!U21:U23,'Resumen de indicadores HSE'!U21:U23,\">=0\"),\"-\")","v":"-"},{"$f":"+IFERROR(AVERAGEIFS('Resumen de indicadores HSE'!V21:V23,'Resumen de indicadores HSE'!V21:V23,\">=0\"),\"-\")","v":"-"},{"$f":"+IFERROR(AVERAGEIFS('Resumen de indicadores HSE'!W21:W23,'Resumen de indicadores HSE'!W21:W23,\">=0\"),\"-\")","v":"-"},{"$f":"+IFERROR(AVERAGEIFS('Resumen de indicadores HSE'!X21:X23,'Resumen de indicadores HSE'!X21:X23,\">=0\"),\"-\")","v":"-"},{"$f":"+IFERROR(AVERAGEIFS('Resumen de indicadores HSE'!Y21:Y23,'Resumen de indicadores HSE'!Y21:Y23,\">=0\"),\"-\")","v":"-"},{"$f":"+IFERROR(AVERAGEIFS('Resumen de indicadores HSE'!Z21:Z23,'Resumen de indicadores HSE'!Z21:Z23,\">=0\"),\"-\")","v":"-"},{"$f":"+IFERROR(AVERAGEIFS('Resumen de indicadores HSE'!AA21:AA23,'Resumen de indicadores HSE'!AA21:AA23,\">=0\"),\"-\")","v":"-"},{"$f":"+IFERROR(AVERAGEIFS('Resumen de indicadores HSE'!AB21:AB23,'Resumen de indicadores HSE'!AB21:AB23,\">=0\"),\"-\")","v":"-"},{"$f":"+IFERROR(AVERAGEIFS('Resumen de indicadores HSE'!AC21:AC23,'Resumen de indicadores HSE'!AC21:AC23,\">=0\"),\"-\")","v":"-"},{"$f":"+IFERROR(AVERAGEIFS('Resumen de indicadores HSE'!AD21:AD23,'Resumen de indicadores HSE'!AD21:AD23,\">=0\"),\"-\")","v":"-"},{"$f":"+IFERROR(AVERAGEIFS('Resumen de indicadores HSE'!AE21:AE23,'Resumen de indicadores HSE'!AE21:AE23,\">=0\"),\"-\")","v":"-"},{"$f":"+IFERROR(AVERAGEIFS('Resumen de indicadores HSE'!AF21:AF23,'Resumen de indicadores HSE'!AF21:AF23,\">=0\"),\"-\")","v":"-"},{"$f":"+IFERROR(AVERAGEIFS('Resumen de indicadores HSE'!AG21:AG23,'Resumen de indicadores HSE'!AG21:AG23,\">=0\"),\"-\")","v":"-"},{"$f":"+IFERROR(AVERAGEIFS('Resumen de indicadores HSE'!AH21:AH23,'Resumen de indicadores HSE'!AH21:AH23,\">=0\"),\"-\")","v":"-"},{"$f":"+IFERROR(AVERAGEIFS('Resumen de indicadores HSE'!AI21:AI23,'Resumen de indicadores HSE'!AI21:AI23,\">=0\"),\"-\")","v":"-"},{"$f":"+IFERROR(AVERAGEIFS('Resumen de indicadores HSE'!AJ21:AJ23,'Resumen de indicadores HSE'!AJ21:AJ23,\">=0\"),\"-\")","v":"-"},{"$f":"+IFERROR(AVERAGEIFS('Resumen de indicadores HSE'!AK21:AK23,'Resumen de indicadores HSE'!AK21:AK23,\">=0\"),\"-\")","v":"-"},{"$f":"+IFERROR(AVERAGEIFS('Resumen de indicadores HSE'!AL21:AL23,'Resumen de indicadores HSE'!AL21:AL23,\">=0\"),\"-\")","v":"-"},{"$f":"+IFERROR(AVERAGEIFS('Resumen de indicadores HSE'!AM21:AM23,'Resumen de indicadores HSE'!AM21:AM23,\">=0\"),\"-\")","v":"-"},{"$f":"+IFERROR(AVERAGEIFS('Resumen de indicadores HSE'!AN21:AN23,'Resumen de indicadores HSE'!AN21:AN23,\">=0\"),\"-\")","v":"-"},{"$f":"+IFERROR(AVERAGEIFS('Resumen de indicadores HSE'!AO21:AO23,'Resumen de indicadores HSE'!AO21:AO23,\">=0\"),\"-\")","v":"-"},{"$f":"+IFERROR(AVERAGEIFS('Resumen de indicadores HSE'!AP21:AP23,'Resumen de indicadores HSE'!AP21:AP23,\">=0\"),\"-\")","v":"-"},{"$f":"+IFERROR(AVERAGEIFS('Resumen de indicadores HSE'!AQ21:AQ23,'Resumen de indicadores HSE'!AQ21:AQ23,\">=0\"),\"-\")","v":"-"},{"$f":"+IFERROR(AVERAGEIFS('Resumen de indicadores HSE'!AR21:AR23,'Resumen de indicadores HSE'!AR21:AR23,\">=0\"),\"-\")","v":"-"},{"$f":"+IFERROR(AVERAGEIFS('Resumen de indicadores HSE'!AS21:AS23,'Resumen de indicadores HSE'!AS21:AS23,\">=0\"),\"-\")","v":"-"},{"$f":"+IFERROR(AVERAGEIFS('Resumen de indicadores HSE'!AT21:AT23,'Resumen de indicadores HSE'!AT21:AT23,\">=0\"),\"-\")","v":"-"},{"$f":"+IFERROR(AVERAGEIFS('Resumen de indicadores HSE'!AU21:AU23,'Resumen de indicadores HSE'!AU21:AU23,\">=0\"),\"-\")","v":"-"},{"$f":"+IFERROR(AVERAGEIFS('Resumen de indicadores HSE'!AV21:AV23,'Resumen de indicadores HSE'!AV21:AV23,\">=0\"),\"-\")","v":"-"},{"$f":"+IFERROR(AVERAGEIFS('Resumen de indicadores HSE'!AW21:AW23,'Resumen de indicadores HSE'!AW21:AW23,\">=0\"),\"-\")","v":"-"},{"$f":"+IFERROR(AVERAGEIFS('Resumen de indicadores HSE'!AX21:AX23,'Resumen de indicadores HSE'!AX21:AX23,\">=0\"),\"-\")","v":"-"},{"$f":"+IFERROR(AVERAGEIFS('Resumen de indicadores HSE'!AY21:AY23,'Resumen de indicadores HSE'!AY21:AY23,\">=0\"),\"-\")","v":"-"},{"$f":"+IFERROR(AVERAGEIFS('Resumen de indicadores HSE'!AZ21:AZ23,'Resumen de indicadores HSE'!AZ21:AZ23,\">=0\"),\"-\")","v":"-"},{"$f":"+IFERROR(AVERAGEIFS('Resumen de indicadores HSE'!BA21:BA23,'Resumen de indicadores HSE'!BA21:BA23,\">=0\"),\"-\")","v":"-"},{"$f":"+IFERROR(AVERAGEIFS('Resumen de indicadores HSE'!BB21:BB23,'Resumen de indicadores HSE'!BB21:BB23,\">=0\"),\"-\")","v":"-"},{"$f":"+IFERROR(AVERAGEIFS('Resumen de indicadores HSE'!BC21:BC23,'Resumen de indicadores HSE'!BC21:BC23,\">=0\"),\"-\")","v":"-"},{"$f":"+IFERROR(AVERAGEIFS('Resumen de indicadores HSE'!BD21:BD23,'Resumen de indicadores HSE'!BD21:BD23,\">=0\"),\"-\")","v":"-"},{"$f":"+IFERROR(AVERAGEIFS('Resumen de indicadores HSE'!BE21:BE23,'Resumen de indicadores HSE'!BE21:BE23,\">=0\"),\"-\")","v":"-"}]
[null,"HSE","Comunicación Asertiva","-",null,{"$f":"+IFERROR(AVERAGEIFS('Resumen de indicadores HSE'!H24:H26,'Resumen de indicadores HSE'!H24:H26,\">=0\"),\"-\")","v":"-"},{"$f":"+IFERROR(AVERAGEIFS('Resumen de indicadores HSE'!I24:I26,'Resumen de indicadores HSE'!I24:I26,\">=0\"),\"-\")","v":"-"},{"$f":"+IFERROR(AVERAGEIFS('Resumen de indicadores HSE'!J24:J26,'Resumen de indicadores HSE'!J24:J26,\">=0\"),\"-\")","v":"-"},{"$f":"+IFERROR(AVERAGEIFS('Resumen de indicadores HSE'!K24:K26,'Resumen de indicadores HSE'!K24:K26,\">=0\"),\"-\")","v":"-"},{"$f":"+IFERROR(AVERAGEIFS('Resumen de indicadores HSE'!L24:L26,'Resumen de indicadores HSE'!L24:L26,\">=0\"),\"-\")","v":"-"},{"$f":"+IFERROR(AVERAGEIFS('Resumen de indicadores HSE'!M24:M26,'Resumen de indicadores HSE'!M24:M26,\">=0\"),\"-\")","v":"-"},{"$f":"+IFERROR(AVERAGEIFS('Resumen de indicadores HSE'!N24:N26,'Resumen de indicadores HSE'!N24:N26,\">=0\"),\"-\")","v":"-"},{"$f":"+IFERROR(AVERAGEIFS('Resumen de indicadores HSE'!O24:O26,'Resumen de indicadores HSE'!O24:O26,\">=0\"),\"-\")","v":"-"},{"$f":"+IFERROR(AVERAGEIFS('Resumen de indicadores HSE'!P24:P26,'Resumen de indicadores HSE'!P24:P26,\">=0\"),\"-\")","v":"-"},{"$f":"+IFERROR(AVERAGEIFS('Resumen de indicadores HSE'!Q24:Q26,'Resumen de indicadores HSE'!Q24:Q26,\">=0\"),\"-\")","v":"-"},{"$f":"+IFERROR(AVERAGEIFS('Resumen de indicadores HSE'!R24:R26,'Resumen de indicadores HSE'!R24:R26,\">=0\"),\"-\")","v":"-"},{"$f":"+IFERROR(AVERAGEIFS('Resumen de indicadores HSE'!S24:S26,'Resumen de indicadores HSE'!S24:S26,\">=0\"),\"-\")","v":"-"},{"$f":"+IFERROR(AVERAGEIFS('Resumen de indicadores HSE'!T24:T26,'Resumen de indicadores HSE'!T24:T26,\">=0\"),\"-\")","v":"-"},{"$f":"+IFERROR(AVERAGEIFS('Resumen de indicadores HSE'!U24:U26,'Resumen de indicadores HSE'!U24:U26,\">=0\"),\"-\")","v":"-"},{"$f":"+IFERROR(AVERAGEIFS('Resumen de indicadores HSE'!V24:V26,'Resumen de indicadores HSE'!V24:V26,\">=0\"),\"-\")","v":"-"},{"$f":"+IFERROR(AVERAGEIFS('Resumen de indicadores HSE'!W24:W26,'Resumen de indicadores HSE'!W24:W26,\">=0\"),\"-\")","v":"-"},{"$f":"+IFERROR(AVERAGEIFS('Resumen de indicadores HSE'!X24:X26,'Resumen de indicadores HSE'!X24:X26,\">=0\"),\"-\")","v":"-"},{"$f":"+IFERROR(AVERAGEIFS('Resumen de indicadores HSE'!Y24:Y26,'Resumen de indicadores HSE'!Y24:Y26,\">=0\"),\"-\")","v":"-"},{"$f":"+IFERROR(AVERAGEIFS('Resumen de indicadores HSE'!Z24:Z26,'Resumen de indicadores HSE'!Z24:Z26,\">=0\"),\"-\")","v":"-"},{"$f":"+IFERROR(AVERAGEIFS('Resumen de indicadores HSE'!AA24:AA26,'Resumen de indicadores HSE'!AA24:AA26,\">=0\"),\"-\")","v":"-"},{"$f":"+IFERROR(AVERAGEIFS('Resumen de indicadores HSE'!AB24:AB26,'Resumen de indicadores HSE'!AB24:AB26,\">=0\"),\"-\")","v":"-"},{"$f":"+IFERROR(AVERAGEIFS('Resumen de indicadores HSE'!AC24:AC26,'Resumen de indicadores HSE'!AC24:AC26,\">=0\"),\"-\")","v":"-"},{"$f":"+IFERROR(AVERAGEIFS('Resumen de indicadores HSE'!AD24:AD26,'Resumen de indicadores HSE'!AD24:AD26,\">=0\"),\"-\")","v":"-"},{"$f":"+IFERROR(AVERAGEIFS('Resumen de indicadores HSE'!AE24:AE26,'Resumen de indicadores HSE'!AE24:AE26,\">=0\"),\"-\")","v":"-"},{"$f":"+IFERROR(AVERAGEIFS('Resumen de indicadores HSE'!AF24:AF26,'Resumen de indicadores HSE'!AF24:AF26,\">=0\"),\"-\")","v":"-"},{"$f":"+IFERROR(AVERAGEIFS('Resumen de indicadores HSE'!AG24:AG26,'Resumen de indicadores HSE'!AG24:AG26,\">=0\"),\"-\")","v":"-"},{"$f":"+IFERROR(AVERAGEIFS('Resumen de indicadores HSE'!AH24:AH26,'Resumen de indicadores HSE'!AH24:AH26,\">=0\"),\"-\")","v":"-"},{"$f":"+IFERROR(AVERAGEIFS('Resumen de indicadores HSE'!AI24:AI26,'Resumen de indicadores HSE'!AI24:AI26,\">=0\"),\"-\")","v":"-"},{"$f":"+IFERROR(AVERAGEIFS('Resumen de indicadores HSE'!AJ24:AJ26,'Resumen de indicadores HSE'!AJ24:AJ26,\">=0\"),\"-\")","v":"-"},{"$f":"+IFERROR(AVERAGEIFS('Resumen de indicadores HSE'!AK24:AK26,'Resumen de indicadores HSE'!AK24:AK26,\">=0\"),\"-\")","v":"-"},{"$f":"+IFERROR(AVERAGEIFS('Resumen de indicadores HSE'!AL24:AL26,'Resumen de indicadores HSE'!AL24:AL26,\">=0\"),\"-\")","v":"-"},{"$f":"+IFERROR(AVERAGEIFS('Resumen de indicadores HSE'!AM24:AM26,'Resumen de indicadores HSE'!AM24:AM26,\">=0\"),\"-\")","v":"-"},{"$f":"+IFERROR(AVERAGEIFS('Resumen de indicadores HSE'!AN24:AN26,'Resumen de indicadores HSE'!AN24:AN26,\">=0\"),\"-\")","v":"-"},{"$f":"+IFERROR(AVERAGEIFS('Resumen de indicadores HSE'!AO24:AO26,'Resumen de indicadores HSE'!AO24:AO26,\">=0\"),\"-\")","v":"-"},{"$f":"+IFERROR(AVERAGEIFS('Resumen de indicadores HSE'!AP24:AP26,'Resumen de indicadores HSE'!AP24:AP26,\">=0\"),\"-\")","v":"-"},{"$f":"+IFERROR(AVERAGEIFS('Resumen de indicadores HSE'!AQ24:AQ26,'Resumen de indicadores HSE'!AQ24:AQ26,\">=0\"),\"-\")","v":"-"},{"$f":"+IFERROR(AVERAGEIFS('Resumen de indicadores HSE'!AR24:AR26,'Resumen de indicadores HSE'!AR24:AR26,\">=0\"),\"-\")","v":"-"},{"$f":"+IFERROR(AVERAGEIFS('Resumen de indicadores HSE'!AS24:AS26,'Resumen de indicadores HSE'!AS24:AS26,\">=0\"),\"-\")","v":"-"},{"$f":"+IFERROR(AVERAGEIFS('Resumen de indicadores HSE'!AT24:AT26,'Resumen de indicadores HSE'!AT24:AT26,\">=0\"),\"-\")","v":"-"},{"$f":"+IFERROR(AVERAGEIFS('Resumen de indicadores HSE'!AU24:AU26,'Resumen de indicadores HSE'!AU24:AU26,\">=0\"),\"-\")","v":"-"},{"$f":"+IFERROR(AVERAGEIFS('Resumen de indicadores HSE'!AV24:AV26,'Resumen de indicadores HSE'!AV24:AV26,\">=0\"),\"-\")","v":"-"},{"$f":"+IFERROR(AVERAGEIFS('Resumen de indicadores HSE'!AW24:AW26,'Resumen de indicadores HSE'!AW24:AW26,\">=0\"),\"-\")","v":"-"},{"$f":"+IFERROR(AVERAGEIFS('Resumen de indicadores HSE'!AX24:AX26,'Resumen de indicadores HSE'!AX24:AX26,\">=0\"),\"-\")","v":"-"},{"$f":"+IFERROR(AVERAGEIFS('Resumen de indicadores HSE'!AY24:AY26,'Resumen de indicadores HSE'!AY24:AY26,\">=0\"),\"-\")","v":"-"},{"$f":"+IFERROR(AVERAGEIFS('Resumen de indicadores HSE'!AZ24:AZ26,'Resumen de indicadores HSE'!AZ24:AZ26,\">=0\"),\"-\")","v":"-"},{"$f":"+IFERROR(AVERAGEIFS('Resumen de indicadores HSE'!BA24:BA26,'Resumen de indicadores HSE'!BA24:BA26,\">=0\"),\"-\")","v":"-"},{"$f":"+IFERROR(AVERAGEIFS('Resumen de indicadores HSE'!BB24:BB26,'Resumen de indicadores HSE'!BB24:BB26,\">=0\"),\"-\")","v":"-"},{"$f":"+IFERROR(AVERAGEIFS('Resumen de indicadores HSE'!BC24:BC26,'Resumen de indicadores HSE'!BC24:BC26,\">=0\"),\"-\")","v":"-"},{"$f":"+IFERROR(AVERAGEIFS('Resumen de indicadores HSE'!BD24:BD26,'Resumen de indicadores HSE'!BD24:BD26,\">=0\"),\"-\")","v":"-"},{"$f":"+IFERROR(AVERAGEIFS('Resumen de indicadores HSE'!BE24:BE26,'Resumen de indicadores HSE'!BE24:BE26,\">=0\"),\"-\")","v":"-"}]
[null,"HSE","Trabajo en Equipo","-",null,{"$f":"+IFERROR(AVERAGEIFS('Resumen de indicadores HSE'!H27:H29,'Resumen de indicadores HSE'!H27:H29,\">=0\"),\"-\")","v":"-"},{"$f":"+IFERROR(AVERAGEIFS('Resumen de indicadores HSE'!I27:I29,'Resumen de indicadores HSE'!I27:I29,\">=0\"),\"-\")","v":"-"},{"$f":"+IFERROR(AVERAGEIFS('Resumen de indicadores HSE'!J27:J29,'Resumen de indicadores HSE'!J27:J29,\">=0\"),\"-\")","v":"-"},{"$f":"+IFERROR(AVERAGEIFS('Resumen de indicadores HSE'!K27:K29,'Resumen de indicadores HSE'!K27:K29,\">=0\"),\"-\")","v":"-"},{"$f":"+IFERROR(AVERAGEIFS('Resumen de indicadores HSE'!L27:L29,'Resumen de indicadores HSE'!L27:L29,\">=0\"),\"-\")","v":"-"},{"$f":"+IFERROR(AVERAGEIFS('Resumen de indicadores HSE'!M27:M29,'Resumen de indicadores HSE'!M27:M29,\">=0\"),\"-\")","v":"-"},{"$f":"+IFERROR(AVERAGEIFS('Resumen de indicadores HSE'!N27:N29,'Resumen de indicadores HSE'!N27:N29,\">=0\"),\"-\")","v":"-"},{"$f":"+IFERROR(AVERAGEIFS('Resumen de indicadores HSE'!O27:O29,'Resumen de indicadores HSE'!O27:O29,\">=0\"),\"-\")","v":"-"},{"$f":"+IFERROR(AVERAGEIFS('Resumen de indicadores HSE'!P27:P29,'Resumen de indicadores HSE'!P27:P29,\">=0\"),\"-\")","v":"-"},{"$f":"+IFERROR(AVERAGEIFS('Resumen de indicadores HSE'!Q27:Q29,'Resumen de indicadores HSE'!Q27:Q29,\">=0\"),\"-\")","v":"-"},{"$f":"+IFERROR(AVERAGEIFS('Resumen de indicadores HSE'!R27:R29,'Resumen de indicadores HSE'!R27:R29,\">=0\"),\"-\")","v":"-"},{"$f":"+IFERROR(AVERAGEIFS('Resumen de indicadores HSE'!S27:S29,'Resumen de indicadores HSE'!S27:S29,\">=0\"),\"-\")","v":"-"},{"$f":"+IFERROR(AVERAGEIFS('Resumen de indicadores HSE'!T27:T29,'Resumen de indicadores HSE'!T27:T29,\">=0\"),\"-\")","v":"-"},{"$f":"+IFERROR(AVERAGEIFS('Resumen de indicadores HSE'!U27:U29,'Resumen de indicadores HSE'!U27:U29,\">=0\"),\"-\")","v":"-"},{"$f":"+IFERROR(AVERAGEIFS('Resumen de indicadores HSE'!V27:V29,'Resumen de indicadores HSE'!V27:V29,\">=0\"),\"-\")","v":"-"},{"$f":"+IFERROR(AVERAGEIFS('Resumen de indicadores HSE'!W27:W29,'Resumen de indicadores HSE'!W27:W29,\">=0\"),\"-\")","v":"-"},{"$f":"+IFERROR(AVERAGEIFS('Resumen de indicadores HSE'!X27:X29,'Resumen de indicadores HSE'!X27:X29,\">=0\"),\"-\")","v":"-"},{"$f":"+IFERROR(AVERAGEIFS('Resumen de indicadores HSE'!Y27:Y29,'Resumen de indicadores HSE'!Y27:Y29,\">=0\"),\"-\")","v":"-"},{"$f":"+IFERROR(AVERAGEIFS('Resumen de indicadores HSE'!Z27:Z29,'Resumen de indicadores HSE'!Z27:Z29,\">=0\"),\"-\")","v":"-"},{"$f":"+IFERROR(AVERAGEIFS('Resumen de indicadores HSE'!AA27:AA29,'Resumen de indicadores HSE'!AA27:AA29,\">=0\"),\"-\")","v":"-"},{"$f":"+IFERROR(AVERAGEIFS('Resumen de indicadores HSE'!AB27:AB29,'Resumen de indicadores HSE'!AB27:AB29,\">=0\"),\"-\")","v":"-"},{"$f":"+IFERROR(AVERAGEIFS('Resumen de indicadores HSE'!AC27:AC29,'Resumen de indicadores HSE'!AC27:AC29,\">=0\"),\"-\")","v":"-"},{"$f":"+IFERROR(AVERAGEIFS('Resumen de indicadores HSE'!AD27:AD29,'Resumen de indicadores HSE'!AD27:AD29,\">=0\"),\"-\")","v":"-"},{"$f":"+IFERROR(AVERAGEIFS('Resumen de indicadores HSE'!AE27:AE29,'Resumen de indicadores HSE'!AE27:AE29,\">=0\"),\"-\")","v":"-"},{"$f":"+IFERROR(AVERAGEIFS('Resumen de indicadores HSE'!AF27:AF29,'Resumen de indicadores HSE'!AF27:AF29,\">=0\"),\"-\")","v":"-"},{"$f":"+IFERROR(AVERAGEIFS('Resumen de indicadores HSE'!AG27:AG29,'Resumen de indicadores HSE'!AG27:AG29,\">=0\"),\"-\")","v":"-"},{"$f":"+IFERROR(AVERAGEIFS('Resumen de indicadores HSE'!AH27:AH29,'Resumen de indicadores HSE'!AH27:AH29,\">=0\"),\"-\")","v":"-"},{"$f":"+IFERROR(AVERAGEIFS('Resumen de indicadores HSE'!AI27:AI29,'Resumen de indicadores HSE'!AI27:AI29,\">=0\"),\"-\")","v":"-"},{"$f":"+IFERROR(AVERAGEIFS('Resumen de indicadores HSE'!AJ27:AJ29,'Resumen de indicadores HSE'!AJ27:AJ29,\">=0\"),\"-\")","v":"-"},{"$f":"+IFERROR(AVERAGEIFS('Resumen de indicadores HSE'!AK27:AK29,'Resumen de indicadores HSE'!AK27:AK29,\">=0\"),\"-\")","v":"-"},{"$f":"+IFERROR(AVERAGEIFS('Resumen de indicadores HSE'!AL27:AL29,'Resumen de indicadores HSE'!AL27:AL29,\">=0\"),\"-\")","v":"-"},{"$f":"+IFERROR(AVERAGEIFS('Resumen de indicadores HSE'!AM27:AM29,'Resumen de indicadores HSE'!AM27:AM29,\">=0\"),\"-\")","v":"-"},{"$f":"+IFERROR(AVERAGEIFS('Resumen de indicadores HSE'!AN27:AN29,'Resumen de indicadores HSE'!AN27:AN29,\">=0\"),\"-\")","v":"-"},{"$f":"+IFERROR(AVERAGEIFS('Resumen de indicadores HSE'!AO27:AO29,'Resumen de indicadores HSE'!AO27:AO29,\">=0\"),\"-\")","v":"-"},{"$f":"+IFERROR(AVERAGEIFS('Resumen de indicadores HSE'!AP27:AP29,'Resumen de indicadores HSE'!AP27:AP29,\">=0\"),\"-\")","v":"-"},{"$f":"+IFERROR(AVERAGEIFS('Resumen de indicadores HSE'!AQ27:AQ29,'Resumen de indicadores HSE'!AQ27:AQ29,\">=0\"),\"-\")","v":"-"},{"$f":"+IFERROR(AVERAGEIFS('Resumen de indicadores HSE'!AR27:AR29,'Resumen de indicadores HSE'!AR27:AR29,\">=0\"),\"-\")","v":"-"},{"$f":"+IFERROR(AVERAGEIFS('Resumen de indicadores HSE'!AS27:AS29,'Resumen de indicadores HSE'!AS27:AS29,\">=0\"),\"-\")","v":"-"},{"$f":"+IFERROR(AVERAGEIFS('Resumen de indicadores HSE'!AT27:AT29,'Resumen de indicadores HSE'!AT27:AT29,\">=0\"),\"-\")","v":"-"},{"$f":"+IFERROR(AVERAGEIFS('Resumen de indicadores HSE'!AU27:AU29,'Resumen de indicadores HSE'!AU27:AU29,\">=0\"),\"-\")","v":"-"},{"$f":"+IFERROR(AVERAGEIFS('Resumen de indicadores HSE'!AV27:AV29,'Resumen de indicadores HSE'!AV27:AV29,\">=0\"),\"-\")","v":"-"},{"$f":"+IFERROR(AVERAGEIFS('Resumen de indicadores HSE'!AW27:AW29,'Resumen de indicadores HSE'!AW27:AW29,\">=0\"),\"-\")","v":"-"},{"$f":"+IFERROR(AVERAGEIFS('Resumen de indicadores HSE'!AX27:AX29,'Resumen de indicadores HSE'!AX27:AX29,\">=0\"),\"-\")","v":"-"},{"$f":"+IFERROR(AVERAGEIFS('Resumen de indicadores HSE'!AY27:AY29,'Resumen de indicadores HSE'!AY27:AY29,\">=0\"),\"-\")","v":"-"},{"$f":"+IFERROR(AVERAGEIFS('Resumen de indicadores HSE'!AZ27:AZ29,'Resumen de indicadores HSE'!AZ27:AZ29,\">=0\"),\"-\")","v":"-"},{"$f":"+IFERROR(AVERAGEIFS('Resumen de indicadores HSE'!BA27:BA29,'Resumen de indicadores HSE'!BA27:BA29,\">=0\"),\"-\")","v":"-"},{"$f":"+IFERROR(AVERAGEIFS('Resumen de indicadores HSE'!BB27:BB29,'Resumen de indicadores HSE'!BB27:BB29,\">=0\"),\"-\")","v":"-"},{"$f":"+IFERROR(AVERAGEIFS('Resumen de indicadores HSE'!BC27:BC29,'Resumen de indicadores HSE'!BC27:BC29,\">=0\"),\"-\")","v":"-"},{"$f":"+IFERROR(AVERAGEIFS('Resumen de indicadores HSE'!BD27:BD29,'Resumen de indicadores HSE'!BD27:BD29,\">=0\"),\"-\")","v":"-"},{"$f":"+IFERROR(AVERAGEIFS('Resumen de indicadores HSE'!BE27:BE29,'Resumen de indicadores HSE'!BE27:BE29,\">=0\"),\"-\")","v":"-"}]
[null,"HSE","Empatía","-",null,{"$f":"+IFERROR(AVERAGEIFS('Resumen de indicadores HSE'!H30:H31,'Resumen de indicadores HSE'!H30:H31,\">=0\"),\"-\")","v":"-"},{"$f":"+IFERROR(AVERAGEIFS('Resumen de indicadores HSE'!I30:I31,'Resumen de indicadores HSE'!I30:I31,\">=0\"),\"-\")","v":"-"},{"$f":"+IFERROR(AVERAGEIFS('Resumen de indicadores HSE'!J30:J31,'Resumen de indicadores HSE'!J30:J31,\">=0\"),\"-\")","v":"-"},{"$f":"+IFERROR(AVERAGEIFS('Resumen de indicadores HSE'!K30:K31,'Resumen de indicadores HSE'!K30:K31,\">=0\"),\"-\")","v":"-"},{"$f":"+IFERROR(AVERAGEIFS('Resumen de indicadores HSE'!L30:L31,'Resumen de indicadores HSE'!L30:L31,\">=0\"),\"-\")","v":"-"},{"$f":"+IFERROR(AVERAGEIFS('Resumen de indicadores HSE'!M30:M31,'Resumen de indicadores HSE'!M30:M31,\">=0\"),\"-\")","v":"-"},{"$f":"+IFERROR(AVERAGEIFS('Resumen de indicadores HSE'!N30:N31,'Resumen de indicadores HSE'!N30:N31,\">=0\"),\"-\")","v":"-"},{"$f":"+IFERROR(AVERAGEIFS('Resumen de indicadores HSE'!O30:O31,'Resumen de indicadores HSE'!O30:O31,\">=0\"),\"-\")","v":"-"},{"$f":"+IFERROR(AVERAGEIFS('Resumen de indicadores HSE'!P30:P31,'Resumen de indicadores HSE'!P30:P31,\">=0\"),\"-\")","v":"-"},{"$f":"+IFERROR(AVERAGEIFS('Resumen de indicadores HSE'!Q30:Q31,'Resumen de indicadores HSE'!Q30:Q31,\">=0\"),\"-\")","v":"-"},{"$f":"+IFERROR(AVERAGEIFS('Resumen de indicadores HSE'!R30:R31,'Resumen de indicadores HSE'!R30:R31,\">=0\"),\"-\")","v":"-"},{"$f":"+IFERROR(AVERAGEIFS('Resumen de indicadores HSE'!S30:S31,'Resumen de indicadores HSE'!S30:S31,\">=0\"),\"-\")","v":"-"},{"$f":"+IFERROR(AVERAGEIFS('Resumen de indicadores HSE'!T30:T31,'Resumen de indicadores HSE'!T30:T31,\">=0\"),\"-\")","v":"-"},{"$f":"+IFERROR(AVERAGEIFS('Resumen de indicadores HSE'!U30:U31,'Resumen de indicadores HSE'!U30:U31,\">=0\"),\"-\")","v":"-"},{"$f":"+IFERROR(AVERAGEIFS('Resumen de indicadores HSE'!V30:V31,'Resumen de indicadores HSE'!V30:V31,\">=0\"),\"-\")","v":"-"},{"$f":"+IFERROR(AVERAGEIFS('Resumen de indicadores HSE'!W30:W31,'Resumen de indicadores HSE'!W30:W31,\">=0\"),\"-\")","v":"-"},{"$f":"+IFERROR(AVERAGEIFS('Resumen de indicadores HSE'!X30:X31,'Resumen de indicadores HSE'!X30:X31,\">=0\"),\"-\")","v":"-"},{"$f":"+IFERROR(AVERAGEIFS('Resumen de indicadores HSE'!Y30:Y31,'Resumen de indicadores HSE'!Y30:Y31,\">=0\"),\"-\")","v":"-"},{"$f":"+IFERROR(AVERAGEIFS('Resumen de indicadores HSE'!Z30:Z31,'Resumen de indicadores HSE'!Z30:Z31,\">=0\"),\"-\")","v":"-"},{"$f":"+IFERROR(AVERAGEIFS('Resumen de indicadores HSE'!AA30:AA31,'Resumen de indicadores HSE'!AA30:AA31,\">=0\"),\"-\")","v":"-"},{"$f":"+IFERROR(AVERAGEIFS('Resumen de indicadores HSE'!AB30:AB31,'Resumen de indicadores HSE'!AB30:AB31,\">=0\"),\"-\")","v":"-"},{"$f":"+IFERROR(AVERAGEIFS('Resumen de indicadores HSE'!AC30:AC31,'Resumen de indicadores HSE'!AC30:AC31,\">=0\"),\"-\")","v":"-"},{"$f":"+IFERROR(AVERAGEIFS('Resumen de indicadores HSE'!AD30:AD31,'Resumen de indicadores HSE'!AD30:AD31,\">=0\"),\"-\")","v":"-"},{"$f":"+IFERROR(AVERAGEIFS('Resumen de indicadores HSE'!AE30:AE31,'Resumen de indicadores HSE'!AE30:AE31,\">=0\"),\"-\")","v":"-"},{"$f":"+IFERROR(AVERAGEIFS('Resumen de indicadores HSE'!AF30:AF31,'Resumen de indicadores HSE'!AF30:AF31,\">=0\"),\"-\")","v":"-"},{"$f":"+IFERROR(AVERAGEIFS('Resumen de indicadores HSE'!AG30:AG31,'Resumen de indicadores HSE'!AG30:AG31,\">=0\"),\"-\")","v":"-"},{"$f":"+IFERROR(AVERAGEIFS('Resumen de indicadores HSE'!AH30:AH31,'Resumen de indicadores HSE'!AH30:AH31,\">=0\"),\"-\")","v":"-"},{"$f":"+IFERROR(AVERAGEIFS('Resumen de indicadores HSE'!AI30:AI31,'Resumen de indicadores HSE'!AI30:AI31,\">=0\"),\"-\")","v":"-"},{"$f":"+IFERROR(AVERAGEIFS('Resumen de indicadores HSE'!AJ30:AJ31,'Resumen de indicadores HSE'!AJ30:AJ31,\">=0\"),\"-\")","v":"-"},{"$f":"+IFERROR(AVERAGEIFS('Resumen de indicadores HSE'!AK30:AK31,'Resumen de indicadores HSE'!AK30:AK31,\">=0\"),\"-\")","v":"-"},{"$f":"+IFERROR(AVERAGEIFS('Resumen de indicadores HSE'!AL30:AL31,'Resumen de indicadores HSE'!AL30:AL31,\">=0\"),\"-\")","v":"-"},{"$f":"+IFERROR(AVERAGEIFS('Resumen de indicadores HSE'!AM30:AM31,'Resumen de indicadores HSE'!AM30:AM31,\">=0\"),\"-\")","v":"-"},{"$f":"+IFERROR(AVERAGEIFS('Resumen de indicadores HSE'!AN30:AN31,'Resumen de indicadores HSE'!AN30:AN31,\">=0\"),\"-\")","v":"-"},{"$f":"+IFERROR(AVERAGEIFS('Resumen de indicadores HSE'!AO30:AO31,'Resumen de indicadores HSE'!AO30:AO31,\">=0\"),\"-\")","v":"-"},{"$f":"+IFERROR(AVERAGEIFS('Resumen de indicadores HSE'!AP30:AP31,'Resumen de indicadores HSE'!AP30:AP31,\">=0\"),\"-\")","v":"-"},{"$f":"+IFERROR(AVERAGEIFS('Resumen de indicadores HSE'!AQ30:AQ31,'Resumen de indicadores HSE'!AQ30:AQ31,\">=0\"),\"-\")","v":"-"},{"$f":"+IFERROR(AVERAGEIFS('Resumen de indicadores HSE'!AR30:AR31,'Resumen de indicadores HSE'!AR30:AR31,\">=0\"),\"-\")","v":"-"},{"$f":"+IFERROR(AVERAGEIFS('Resumen de indicadores HSE'!AS30:AS31,'Resumen de indicadores HSE'!AS30:AS31,\">=0\"),\"-\")","v":"-"},{"$f":"+IFERROR(AVERAGEIFS('Resumen de indicadores HSE'!AT30:AT31,'Resumen de indicadores HSE'!AT30:AT31,\">=0\"),\"-\")","v":"-"},{"$f":"+IFERROR(AVERAGEIFS('Resumen de indicadores HSE'!AU30:AU31,'Resumen de indicadores HSE'!AU30:AU31,\">=0\"),\"-\")","v":"-"},{"$f":"+IFERROR(AVERAGEIFS('Resumen de indicadores HSE'!AV30:AV31,'Resumen de indicadores HSE'!AV30:AV31,\">=0\"),\"-\")","v":"-"},{"$f":"+IFERROR(AVERAGEIFS('Resumen de indicadores HSE'!AW30:AW31,'Resumen de indicadores HSE'!AW30:AW31,\">=0\"),\"-\")","v":"-"},{"$f":"+IFERROR(AVERAGEIFS('Resumen de indicadores HSE'!AX30:AX31,'Resumen de indicadores HSE'!AX30:AX31,\">=0\"),\"-\")","v":"-"},{"$f":"+IFERROR(AVERAGEIFS('Resumen de indicadores HSE'!AY30:AY31,'Resumen de indicadores HSE'!AY30:AY31,\">=0\"),\"-\")","v":"-"},{"$f":"+IFERROR(AVERAGEIFS('Resumen de indicadores HSE'!AZ30:AZ31,'Resumen de indicadores HSE'!AZ30:AZ31,\">=0\"),\"-\")","v":"-"},{"$f":"+IFERROR(AVERAGEIFS('Resumen de indicadores HSE'!BA30:BA31,'Resumen de indicadores HSE'!BA30:BA31,\">=0\"),\"-\")","v":"-"},{"$f":"+IFERROR(AVERAGEIFS('Resumen de indicadores HSE'!BB30:BB31,'Resumen de indicadores HSE'!BB30:BB31,\">=0\"),\"-\")","v":"-"},{"$f":"+IFERROR(AVERAGEIFS('Resumen de indicadores HSE'!BC30:BC31,'Resumen de indicadores HSE'!BC30:BC31,\">=0\"),\"-\")","v":"-"},{"$f":"+IFERROR(AVERAGEIFS('Resumen de indicadores HSE'!BD30:BD31,'Resumen de indicadores HSE'!BD30:BD31,\">=0\"),\"-\")","v":"-"},{"$f":"+IFERROR(AVERAGEIFS('Resumen de indicadores HSE'!BE30:BE31,'Resumen de indicadores HSE'!BE30:BE31,\">=0\"),\"-\")","v":"-"}]
[null,"HSE","Resolución de Conflictos","-",null,{"$f":"+IFERROR(AVERAGEIFS('Resumen de indicadores HSE'!H32:H33,'Resumen de indicadores HSE'!H32:H33,\">=0\"),\"-\")","v":"-"},{"$f":"+IFERROR(AVERAGEIFS('Resumen de indicadores HSE'!I32:I33,'Resumen de indicadores HSE'!I32:I33,\">=0\"),\"-\")","v":"-"},{"$f":"+IFERROR(AVERAGEIFS('Resumen de indicadores HSE'!J32:J33,'Resumen de indicadores HSE'!J32:J33,\">=0\"),\"-\")","v":"-"},{"$f":"+IFERROR(AVERAGEIFS('Resumen de indicadores HSE'!K32:K33,'Resumen de indicadores HSE'!K32:K33,\">=0\"),\"-\")","v":"-"},{"$f":"+IFERROR(AVERAGEIFS('Resumen de indicadores HSE'!L32:L33,'Resumen de indicadores HSE'!L32:L33,\">=0\"),\"-\")","v":"-"},{"$f":"+IFERROR(AVERAGEIFS('Resumen de indicadores HSE'!M32:M33,'Resumen de indicadores HSE'!M32:M33,\">=0\"),\"-\")","v":"-"},{"$f":"+IFERROR(AVERAGEIFS('Resumen de indicadores HSE'!N32:N33,'Resumen de indicadores HSE'!N32:N33,\">=0\"),\"-\")","v":"-"},{"$f":"+IFERROR(AVERAGEIFS('Resumen de indicadores HSE'!O32:O33,'Resumen de indicadores HSE'!O32:O33,\">=0\"),\"-\")","v":"-"},{"$f":"+IFERROR(AVERAGEIFS('Resumen de indicadores HSE'!P32:P33,'Resumen de indicadores HSE'!P32:P33,\">=0\"),\"-\")","v":"-"},{"$f":"+IFERROR(AVERAGEIFS('Resumen de indicadores HSE'!Q32:Q33,'Resumen de indicadores HSE'!Q32:Q33,\">=0\"),\"-\")","v":"-"},{"$f":"+IFERROR(AVERAGEIFS('Resumen de indicadores HSE'!R32:R33,'Resumen de indicadores HSE'!R32:R33,\">=0\"),\"-\")","v":"-"},{"$f":"+IFERROR(AVERAGEIFS('Resumen de indicadores HSE'!S32:S33,'Resumen de indicadores HSE'!S32:S33,\">=0\"),\"-\")","v":"-"},{"$f":"+IFERROR(AVERAGEIFS('Resumen de indicadores HSE'!T32:T33,'Resumen de indicadores HSE'!T32:T33,\">=0\"),\"-\")","v":"-"},{"$f":"+IFERROR(AVERAGEIFS('Resumen de indicadores HSE'!U32:U33,'Resumen de indicadores HSE'!U32:U33,\">=0\"),\"-\")","v":"-"},{"$f":"+IFERROR(AVERAGEIFS('Resumen de indicadores HSE'!V32:V33,'Resumen de indicadores HSE'!V32:V33,\">=0\"),\"-\")","v":"-"},{"$f":"+IFERROR(AVERAGEIFS('Resumen de indicadores HSE'!W32:W33,'Resumen de indicadores HSE'!W32:W33,\">=0\"),\"-\")","v":"-"},{"$f":"+IFERROR(AVERAGEIFS('Resumen de indicadores HSE'!X32:X33,'Resumen de indicadores HSE'!X32:X33,\">=0\"),\"-\")","v":"-"},{"$f":"+IFERROR(AVERAGEIFS('Resumen de indicadores HSE'!Y32:Y33,'Resumen de indicadores HSE'!Y32:Y33,\">=0\"),\"-\")","v":"-"},{"$f":"+IFERROR(AVERAGEIFS('Resumen de indicadores HSE'!Z32:Z33,'Resumen de indicadores HSE'!Z32:Z33,\">=0\"),\"-\")","v":"-"},{"$f":"+IFERROR(AVERAGEIFS('Resumen de indicadores HSE'!AA32:AA33,'Resumen de indicadores HSE'!AA32:AA33,\">=0\"),\"-\")","v":"-"},{"$f":"+IFERROR(AVERAGEIFS('Resumen de indicadores HSE'!AB32:AB33,'Resumen de indicadores HSE'!AB32:AB33,\">=0\"),\"-\")","v":"-"},{"$f":"+IFERROR(AVERAGEIFS('Resumen de indicadores HSE'!AC32:AC33,'Resumen de indicadores HSE'!AC32:AC33,\">=0\"),\"-\")","v":"-"},{"$f":"+IFERROR(AVERAGEIFS('Resumen de indicadores HSE'!AD32:AD33,'Resumen de indicadores HSE'!AD32:AD33,\">=0\"),\"-\")","v":"-"},{"$f":"+IFERROR(AVERAGEIFS('Resumen de indicadores HSE'!AE32:AE33,'Resumen de indicadores HSE'!AE32:AE33,\">=0\"),\"-\")","v":"-"},{"$f":"+IFERROR(AVERAGEIFS('Resumen de indicadores HSE'!AF32:AF33,'Resumen de indicadores HSE'!AF32:AF33,\">=0\"),\"-\")","v":"-"},{"$f":"+IFERROR(AVERAGEIFS('Resumen de indicadores HSE'!AG32:AG33,'Resumen de indicadores HSE'!AG32:AG33,\">=0\"),\"-\")","v":"-"},{"$f":"+IFERROR(AVERAGEIFS('Resumen de indicadores HSE'!AH32:AH33,'Resumen de indicadores HSE'!AH32:AH33,\">=0\"),\"-\")","v":"-"},{"$f":"+IFERROR(AVERAGEIFS('Resumen de indicadores HSE'!AI32:AI33,'Resumen de indicadores HSE'!AI32:AI33,\">=0\"),\"-\")","v":"-"},{"$f":"+IFERROR(AVERAGEIFS('Resumen de indicadores HSE'!AJ32:AJ33,'Resumen de indicadores HSE'!AJ32:AJ33,\">=0\"),\"-\")","v":"-"},{"$f":"+IFERROR(AVERAGEIFS('Resumen de indicadores HSE'!AK32:AK33,'Resumen de indicadores HSE'!AK32:AK33,\">=0\"),\"-\")","v":"-"},{"$f":"+IFERROR(AVERAGEIFS('Resumen de indicadores HSE'!AL32:AL33,'Resumen de indicadores HSE'!AL32:AL33,\">=0\"),\"-\")","v":"-"},{"$f":"+IFERROR(AVERAGEIFS('Resumen de indicadores HSE'!AM32:AM33,'Resumen de indicadores HSE'!AM32:AM33,\">=0\"),\"-\")","v":"-"},{"$f":"+IFERROR(AVERAGEIFS('Resumen de indicadores HSE'!AN32:AN33,'Resumen de indicadores HSE'!AN32:AN33,\">=0\"),\"-\")","v":"-"},{"$f":"+IFERROR(AVERAGEIFS('Resumen de indicadores HSE'!AO32:AO33,'Resumen de indicadores HSE'!AO32:AO33,\">=0\"),\"-\")","v":"-"},{"$f":"+IFERROR(AVERAGEIFS('Resumen de indicadores HSE'!AP32:AP33,'Resumen de indicadores HSE'!AP32:AP33,\">=0\"),\"-\")","v":"-"},{"$f":"+IFERROR(AVERAGEIFS('Resumen de indicadores HSE'!AQ32:AQ33,'Resumen de indicadores HSE'!AQ32:AQ33,\">=0\"),\"-\")","v":"-"},{"$f":"+IFERROR(AVERAGEIFS('Resumen de indicadores HSE'!AR32:AR33,'Resumen de indicadores HSE'!AR32:AR33,\">=0\"),\"-\")","v":"-"},{"$f":"+IFERROR(AVERAGEIFS('Resumen de indicadores HSE'!AS32:AS33,'Resumen de indicadores HSE'!AS32:AS33,\">=0\"),\"-\")","v":"-"},{"$f":"+IFERROR(AVERAGEIFS('Resumen de indicadores HSE'!AT32:AT33,'Resumen de indicadores HSE'!AT32:AT33,\">=0\"),\"-\")","v":"-"},{"$f":"+IFERROR(AVERAGEIFS('Resumen de indicadores HSE'!AU32:AU33,'Resumen de indicadores HSE'!AU32:AU33,\">=0\"),\"-\")","v":"-"},{"$f":"+IFERROR(AVERAGEIFS('Resumen de indicadores HSE'!AV32:AV33,'Resumen de indicadores HSE'!AV32:AV33,\">=0\"),\"-\")","v":"-"},{"$f":"+IFERROR(AVERAGEIFS('Resumen de indicadores HSE'!AW32:AW33,'Resumen de indicadores HSE'!AW32:AW33,\">=0\"),\"-\")","v":"-"},{"$f":"+IFERROR(AVERAGEIFS('Resumen de indicadores HSE'!AX32:AX33,'Resumen de indicadores HSE'!AX32:AX33,\">=0\"),\"-\")","v":"-"},{"$f":"+IFERROR(AVERAGEIFS('Resumen de indicadores HSE'!AY32:AY33,'Resumen de indicadores HSE'!AY32:AY33,\">=0\"),\"-\")","v":"-"},{"$f":"+IFERROR(AVERAGEIFS('Resumen de indicadores HSE'!AZ32:AZ33,'Resumen de indicadores HSE'!AZ32:AZ33,\">=0\"),\"-\")","v":"-"},{"$f":"+IFERROR(AVERAGEIFS('Resumen de indicadores HSE'!BA32:BA33,'Resumen de indicadores HSE'!BA32:BA33,\">=0\"),\"-\")","v":"-"},{"$f":"+IFERROR(AVERAGEIFS('Resumen de indicadores HSE'!BB32:BB33,'Resumen de indicadores HSE'!BB32:BB33,\">=0\"),\"-\")","v":"-"},{"$f":"+IFERROR(AVERAGEIFS('Resumen de indicadores HSE'!BC32:BC33,'Resumen de indicadores HSE'!BC32:BC33,\">=0\"),\"-\")","v":"-"},{"$f":"+IFERROR(AVERAGEIFS('Resumen de indicadores HSE'!BD32:BD33,'Resumen de indicadores HSE'!BD32:BD33,\">=0\"),\"-\")","v":"-"},{"$f":"+IFERROR(AVERAGEIFS('Resumen de indicadores HSE'!BE32:BE33,'Resumen de indicadores HSE'!BE32:BE33,\">=0\"),\"-\")","v":"-"}]
[null,"HSE","Conciencia Social","-",null,{"$f":"+IFERROR(AVERAGEIFS('Resumen de indicadores HSE'!H34:H35,'Resumen de indicadores HSE'!H34:H35,\">=0\"),\"-\")","v":"-"},{"$f":"+IFERROR(AVERAGEIFS('Resumen de indicadores HSE'!I34:I35,'Resumen de indicadores HSE'!I34:I35,\">=0\"),\"-\")","v":"-"},{"$f":"+IFERROR(AVERAGEIFS('Resumen de indicadores HSE'!J34:J35,'Resumen de indicadores HSE'!J34:J35,\">=0\"),\"-\")","v":"-"},{"$f":"+IFERROR(AVERAGEIFS('Resumen de indicadores HSE'!K34:K35,'Resumen de indicadores HSE'!K34:K35,\">=0\"),\"-\")","v":"-"},{"$f":"+IFERROR(AVERAGEIFS('Resumen de indicadores HSE'!L34:L35,'Resumen de indicadores HSE'!L34:L35,\">=0\"),\"-\")","v":"-"},{"$f":"+IFERROR(AVERAGEIFS('Resumen de indicadores HSE'!M34:M35,'Resumen de indicadores HSE'!M34:M35,\">=0\"),\"-\")","v":"-"},{"$f":"+IFERROR(AVERAGEIFS('Resumen de indicadores HSE'!N34:N35,'Resumen de indicadores HSE'!N34:N35,\">=0\"),\"-\")","v":"-"},{"$f":"+IFERROR(AVERAGEIFS('Resumen de indicadores HSE'!O34:O35,'Resumen de indicadores HSE'!O34:O35,\">=0\"),\"-\")","v":"-"},{"$f":"+IFERROR(AVERAGEIFS('Resumen de indicadores HSE'!P34:P35,'Resumen de indicadores HSE'!P34:P35,\">=0\"),\"-\")","v":"-"},{"$f":"+IFERROR(AVERAGEIFS('Resumen de indicadores HSE'!Q34:Q35,'Resumen de indicadores HSE'!Q34:Q35,\">=0\"),\"-\")","v":"-"},{"$f":"+IFERROR(AVERAGEIFS('Resumen de indicadores HSE'!R34:R35,'Resumen de indicadores HSE'!R34:R35,\">=0\"),\"-\")","v":"-"},{"$f":"+IFERROR(AVERAGEIFS('Resumen de indicadores HSE'!S34:S35,'Resumen de indicadores HSE'!S34:S35,\">=0\"),\"-\")","v":"-"},{"$f":"+IFERROR(AVERAGEIFS('Resumen de indicadores HSE'!T34:T35,'Resumen de indicadores HSE'!T34:T35,\">=0\"),\"-\")","v":"-"},{"$f":"+IFERROR(AVERAGEIFS('Resumen de indicadores HSE'!U34:U35,'Resumen de indicadores HSE'!U34:U35,\">=0\"),\"-\")","v":"-"},{"$f":"+IFERROR(AVERAGEIFS('Resumen de indicadores HSE'!V34:V35,'Resumen de indicadores HSE'!V34:V35,\">=0\"),\"-\")","v":"-"},{"$f":"+IFERROR(AVERAGEIFS('Resumen de indicadores HSE'!W34:W35,'Resumen de indicadores HSE'!W34:W35,\">=0\"),\"-\")","v":"-"},{"$f":"+IFERROR(AVERAGEIFS('Resumen de indicadores HSE'!X34:X35,'Resumen de indicadores HSE'!X34:X35,\">=0\"),\"-\")","v":"-"},{"$f":"+IFERROR(AVERAGEIFS('Resumen de indicadores HSE'!Y34:Y35,'Resumen de indicadores HSE'!Y34:Y35,\">=0\"),\"-\")","v":"-"},{"$f":"+IFERROR(AVERAGEIFS('Resumen de indicadores HSE'!Z34:Z35,'Resumen de indicadores HSE'!Z34:Z35,\">=0\"),\"-\")","v":"-"},{"$f":"+IFERROR(AVERAGEIFS('Resumen de indicadores HSE'!AA34:AA35,'Resumen de indicadores HSE'!AA34:AA35,\">=0\"),\"-\")","v":"-"},{"$f":"+IFERROR(AVERAGEIFS('Resumen de indicadores HSE'!AB34:AB35,'Resumen de indicadores HSE'!AB34:AB35,\">=0\"),\"-\")","v":"-"},{"$f":"+IFERROR(AVERAGEIFS('Resumen de indicadores HSE'!AC34:AC35,'Resumen de indicadores HSE'!AC34:AC35,\">=0\"),\"-\")","v":"-"},{"$f":"+IFERROR(AVERAGEIFS('Resumen de indicadores HSE'!AD34:AD35,'Resumen de indicadores HSE'!AD34:AD35,\">=0\"),\"-\")","v":"-"},{"$f":"+IFERROR(AVERAGEIFS('Resumen de indicadores HSE'!AE34:AE35,'Resumen de indicadores HSE'!AE34:AE35,\">=0\"),\"-\")","v":"-"},{"$f":"+IFERROR(AVERAGEIFS('Resumen de indicadores HSE'!AF34:AF35,'Resumen de indicadores HSE'!AF34:AF35,\">=0\"),\"-\")","v":"-"},{"$f":"+IFERROR(AVERAGEIFS('Resumen de indicadores HSE'!AG34:AG35,'Resumen de indicadores HSE'!AG34:AG35,\">=0\"),\"-\")","v":"-"},{"$f":"+IFERROR(AVERAGEIFS('Resumen de indicadores HSE'!AH34:AH35,'Resumen de indicadores HSE'!AH34:AH35,\">=0\"),\"-\")","v":"-"},{"$f":"+IFERROR(AVERAGEIFS('Resumen de indicadores HSE'!AI34:AI35,'Resumen de indicadores HSE'!AI34:AI35,\">=0\"),\"-\")","v":"-"},{"$f":"+IFERROR(AVERAGEIFS('Resumen de indicadores HSE'!AJ34:AJ35,'Resumen de indicadores HSE'!AJ34:AJ35,\">=0\"),\"-\")","v":"-"},{"$f":"+IFERROR(AVERAGEIFS('Resumen de indicadores HSE'!AK34:AK35,'Resumen de indicadores HSE'!AK34:AK35,\">=0\"),\"-\")","v":"-"},{"$f":"+IFERROR(AVERAGEIFS('Resumen de indicadores HSE'!AL34:AL35,'Resumen de indicadores HSE'!AL34:AL35,\">=0\"),\"-\")","v":"-"},{"$f":"+IFERROR(AVERAGEIFS('Resumen de indicadores HSE'!AM34:AM35,'Resumen de indicadores HSE'!AM34:AM35,\">=0\"),\"-\")","v":"-"},{"$f":"+IFERROR(AVERAGEIFS('Resumen de indicadores HSE'!AN34:AN35,'Resumen de indicadores HSE'!AN34:AN35,\">=0\"),\"-\")","v":"-"},{"$f":"+IFERROR(AVERAGEIFS('Resumen de indicadores HSE'!AO34:AO35,'Resumen de indicadores HSE'!AO34:AO35,\">=0\"),\"-\")","v":"-"},{"$f":"+IFERROR(AVERAGEIFS('Resumen de indicadores HSE'!AP34:AP35,'Resumen de indicadores HSE'!AP34:AP35,\">=0\"),\"-\")","v":"-"},{"$f":"+IFERROR(AVERAGEIFS('Resumen de indicadores HSE'!AQ34:AQ35,'Resumen de indicadores HSE'!AQ34:AQ35,\">=0\"),\"-\")","v":"-"},{"$f":"+IFERROR(AVERAGEIFS('Resumen de indicadores HSE'!AR34:AR35,'Resumen de indicadores HSE'!AR34:AR35,\">=0\"),\"-\")","v":"-"},{"$f":"+IFERROR(AVERAGEIFS('Resumen de indicadores HSE'!AS34:AS35,'Resumen de indicadores HSE'!AS34:AS35,\">=0\"),\"-\")","v":"-"},{"$f":"+IFERROR(AVERAGEIFS('Resumen de indicadores HSE'!AT34:AT35,'Resumen de indicadores HSE'!AT34:AT35,\">=0\"),\"-\")","v":"-"},{"$f":"+IFERROR(AVERAGEIFS('Resumen de indicadores HSE'!AU34:AU35,'Resumen de indicadores HSE'!AU34:AU35,\">=0\"),\"-\")","v":"-"},{"$f":"+IFERROR(AVERAGEIFS('Resumen de indicadores HSE'!AV34:AV35,'Resumen de indicadores HSE'!AV34:AV35,\">=0\"),\"-\")","v":"-"},{"$f":"+IFERROR(AVERAGEIFS('Resumen de indicadores HSE'!AW34:AW35,'Resumen de indicadores HSE'!AW34:AW35,\">=0\"),\"-\")","v":"-"},{"$f":"+IFERROR(AVERAGEIFS('Resumen de indicadores HSE'!AX34:AX35,'Resumen de indicadores HSE'!AX34:AX35,\">=0\"),\"-\")","v":"-"},{"$f":"+IFERROR(AVERAGEIFS('Resumen de indicadores HSE'!AY34:AY35,'Resumen de indicadores HSE'!AY34:AY35,\">=0\"),\"-\")","v":"-"},{"$f":"+IFERROR(AVERAGEIFS('Resumen de indicadores HSE'!AZ34:AZ35,'Resumen de indicadores HSE'!AZ34:AZ35,\">=0\"),\"-\")","v":"-"},{"$f":"+IFERROR(AVERAGEIFS('Resumen de indicadores HSE'!BA34:BA35,'Resumen de indicadores HSE'!BA34:BA35,\">=0\"),\"-\")","v":"-"},{"$f":"+IFERROR(AVERAGEIFS('Resumen de indicadores HSE'!BB34:BB35,'Resumen de indicadores HSE'!BB34:BB35,\">=0\"),\"-\")","v":"-"},{"$f":"+IFERROR(AVERAGEIFS('Resumen de indicadores HSE'!BC34:BC35,'Resumen de indicadores HSE'!BC34:BC35,\">=0\"),\"-\")","v":"-"},{"$f":"+IFERROR(AVERAGEIFS('Resumen de indicadores HSE'!BD34:BD35,'Resumen de indicadores HSE'!BD34:BD35,\">=0\"),\"-\")","v":"-"},{"$f":"+IFERROR(AVERAGEIFS('Resumen de indicadores HSE'!BE34:BE35,'Resumen de indicadores HSE'!BE34:BE35,\">=0\"),\"-\")","v":"-"}]
[null,"HSE","Comportamiento Prosocial","-",null,{"$f":"+IFERROR(AVERAGEIFS('Resumen de indicadores HSE'!H36:H37,'Resumen de indicadores HSE'!H36:H37,\">=0\"),\"-\")","v":"-"},{"$f":"+IFERROR(AVERAGEIFS('Resumen de indicadores HSE'!I36:I37,'Resumen de indicadores HSE'!I36:I37,\">=0\"),\"-\")","v":"-"},{"$f":"+IFERROR(AVERAGEIFS('Resumen de indicadores HSE'!J36:J37,'Resumen de indicadores HSE'!J36:J37,\">=0\"),\"-\")","v":"-"},{"$f":"+IFERROR(AVERAGEIFS('Resumen de indicadores HSE'!K36:K37,'Resumen de indicadores HSE'!K36:K37,\">=0\"),\"-\")","v":"-"},{"$f":"+IFERROR(AVERAGEIFS('Resumen de indicadores HSE'!L36:L37,'Resumen de indicadores HSE'!L36:L37,\">=0\"),\"-\")","v":"-"},{"$f":"+IFERROR(AVERAGEIFS('Resumen de indicadores HSE'!M36:M37,'Resumen de indicadores HSE'!M36:M37,\">=0\"),\"-\")","v":"-"},{"$f":"+IFERROR(AVERAGEIFS('Resumen de indicadores HSE'!N36:N37,'Resumen de indicadores HSE'!N36:N37,\">=0\"),\"-\")","v":"-"},{"$f":"+IFERROR(AVERAGEIFS('Resumen de indicadores HSE'!O36:O37,'Resumen de indicadores HSE'!O36:O37,\">=0\"),\"-\")","v":"-"},{"$f":"+IFERROR(AVERAGEIFS('Resumen de indicadores HSE'!P36:P37,'Resumen de indicadores HSE'!P36:P37,\">=0\"),\"-\")","v":"-"},{"$f":"+IFERROR(AVERAGEIFS('Resumen de indicadores HSE'!Q36:Q37,'Resumen de indicadores HSE'!Q36:Q37,\">=0\"),\"-\")","v":"-"},{"$f":"+IFERROR(AVERAGEIFS('Resumen de indicadores HSE'!R36:R37,'Resumen de indicadores HSE'!R36:R37,\">=0\"),\"-\")","v":"-"},{"$f":"+IFERROR(AVERAGEIFS('Resumen de indicadores HSE'!S36:S37,'Resumen de indicadores HSE'!S36:S37,\">=0\"),\"-\")","v":"-"},{"$f":"+IFERROR(AVERAGEIFS('Resumen de indicadores HSE'!T36:T37,'Resumen de indicadores HSE'!T36:T37,\">=0\"),\"-\")","v":"-"},{"$f":"+IFERROR(AVERAGEIFS('Resumen de indicadores HSE'!U36:U37,'Resumen de indicadores HSE'!U36:U37,\">=0\"),\"-\")","v":"-"},{"$f":"+IFERROR(AVERAGEIFS('Resumen de indicadores HSE'!V36:V37,'Resumen de indicadores HSE'!V36:V37,\">=0\"),\"-\")","v":"-"},{"$f":"+IFERROR(AVERAGEIFS('Resumen de indicadores HSE'!W36:W37,'Resumen de indicadores HSE'!W36:W37,\">=0\"),\"-\")","v":"-"},{"$f":"+IFERROR(AVERAGEIFS('Resumen de indicadores HSE'!X36:X37,'Resumen de indicadores HSE'!X36:X37,\">=0\"),\"-\")","v":"-"},{"$f":"+IFERROR(AVERAGEIFS('Resumen de indicadores HSE'!Y36:Y37,'Resumen de indicadores HSE'!Y36:Y37,\">=0\"),\"-\")","v":"-"},{"$f":"+IFERROR(AVERAGEIFS('Resumen de indicadores HSE'!Z36:Z37,'Resumen de indicadores HSE'!Z36:Z37,\">=0\"),\"-\")","v":"-"},{"$f":"+IFERROR(AVERAGEIFS('Resumen de indicadores HSE'!AA36:AA37,'Resumen de indicadores HSE'!AA36:AA37,\">=0\"),\"-\")","v":"-"},{"$f":"+IFERROR(AVERAGEIFS('Resumen de indicadores HSE'!AB36:AB37,'Resumen de indicadores HSE'!AB36:AB37,\">=0\"),\"-\")","v":"-"},{"$f":"+IFERROR(AVERAGEIFS('Resumen de indicadores HSE'!AC36:AC37,'Resumen de indicadores HSE'!AC36:AC37,\">=0\"),\"-\")","v":"-"},{"$f":"+IFERROR(AVERAGEIFS('Resumen de indicadores HSE'!AD36:AD37,'Resumen de indicadores HSE'!AD36:AD37,\">=0\"),\"-\")","v":"-"},{"$f":"+IFERROR(AVERAGEIFS('Resumen de indicadores HSE'!AE36:AE37,'Resumen de indicadores HSE'!AE36:AE37,\">=0\"),\"-\")","v":"-"},{"$f":"+IFERROR(AVERAGEIFS('Resumen de indicadores HSE'!AF36:AF37,'Resumen de indicadores HSE'!AF36:AF37,\">=0\"),\"-\")","v":"-"},{"$f":"+IFERROR(AVERAGEIFS('Resumen de indicadores HSE'!AG36:AG37,'Resumen de indicadores HSE'!AG36:AG37,\">=0\"),\"-\")","v":"-"},{"$f":"+IFERROR(AVERAGEIFS('Resumen de indicadores HSE'!AH36:AH37,'Resumen de indicadores HSE'!AH36:AH37,\">=0\"),\"-\")","v":"-"},{"$f":"+IFERROR(AVERAGEIFS('Resumen de indicadores HSE'!AI36:AI37,'Resumen de indicadores HSE'!AI36:AI37,\">=0\"),\"-\")","v":"-"},{"$f":"+IFERROR(AVERAGEIFS('Resumen de indicadores HSE'!AJ36:AJ37,'Resumen de indicadores HSE'!AJ36:AJ37,\">=0\"),\"-\")","v":"-"},{"$f":"+IFERROR(AVERAGEIFS('Resumen de indicadores HSE'!AK36:AK37,'Resumen de indicadores HSE'!AK36:AK37,\">=0\"),\"-\")","v":"-"},{"$f":"+IFERROR(AVERAGEIFS('Resumen de indicadores HSE'!AL36:AL37,'Resumen de indicadores HSE'!AL36:AL37,\">=0\"),\"-\")","v":"-"},{"$f":"+IFERROR(AVERAGEIFS('Resumen de indicadores HSE'!AM36:AM37,'Resumen de indicadores HSE'!AM36:AM37,\">=0\"),\"-\")","v":"-"},{"$f":"+IFERROR(AVERAGEIFS('Resumen de indicadores HSE'!AN36:AN37,'Resumen de indicadores HSE'!AN36:AN37,\">=0\"),\"-\")","v":"-"},{"$f":"+IFERROR(AVERAGEIFS('Resumen de indicadores HSE'!AO36:AO37,'Resumen de indicadores HSE'!AO36:AO37,\">=0\"),\"-\")","v":"-"},{"$f":"+IFERROR(AVERAGEIFS('Resumen de indicadores HSE'!AP36:AP37,'Resumen de indicadores HSE'!AP36:AP37,\">=0\"),\"-\")","v":"-"},{"$f":"+IFERROR(AVERAGEIFS('Resumen de indicadores HSE'!AQ36:AQ37,'Resumen de indicadores HSE'!AQ36:AQ37,\">=0\"),\"-\")","v":"-"},{"$f":"+IFERROR(AVERAGEIFS('Resumen de indicadores HSE'!AR36:AR37,'Resumen de indicadores HSE'!AR36:AR37,\">=0\"),\"-\")","v":"-"},{"$f":"+IFERROR(AVERAGEIFS('Resumen de indicadores HSE'!AS36:AS37,'Resumen de indicadores HSE'!AS36:AS37,\">=0\"),\"-\")","v":"-"},{"$f":"+IFERROR(AVERAGEIFS('Resumen de indicadores HSE'!AT36:AT37,'Resumen de indicadores HSE'!AT36:AT37,\">=0\"),\"-\")","v":"-"},{"$f":"+IFERROR(AVERAGEIFS('Resumen de indicadores HSE'!AU36:AU37,'Resumen de indicadores HSE'!AU36:AU37,\">=0\"),\"-\")","v":"-"},{"$f":"+IFERROR(AVERAGEIFS('Resumen de indicadores HSE'!AV36:AV37,'Resumen de indicadores HSE'!AV36:AV37,\">=0\"),\"-\")","v":"-"},{"$f":"+IFERROR(AVERAGEIFS('Resumen de indicadores HSE'!AW36:AW37,'Resumen de indicadores HSE'!AW36:AW37,\">=0\"),\"-\")","v":"-"},{"$f":"+IFERROR(AVERAGEIFS('Resumen de indicadores HSE'!AX36:AX37,'Resumen de indicadores HSE'!AX36:AX37,\">=0\"),\"-\")","v":"-"},{"$f":"+IFERROR(AVERAGEIFS('Resumen de indicadores HSE'!AY36:AY37,'Resumen de indicadores HSE'!AY36:AY37,\">=0\"),\"-\")","v":"-"},{"$f":"+IFERROR(AVERAGEIFS('Resumen de indicadores HSE'!AZ36:AZ37,'Resumen de indicadores HSE'!AZ36:AZ37,\">=0\"),\"-\")","v":"-"},{"$f":"+IFERROR(AVERAGEIFS('Resumen de indicadores HSE'!BA36:BA37,'Resumen de indicadores HSE'!BA36:BA37,\">=0\"),\"-\")","v":"-"},{"$f":"+IFERROR(AVERAGEIFS('Resumen de indicadores HSE'!BB36:BB37,'Resumen de indicadores HSE'!BB36:BB37,\">=0\"),\"-\")","v":"-"},{"$f":"+IFERROR(AVERAGEIFS('Resumen de indicadores HSE'!BC36:BC37,'Resumen de indicadores HSE'!BC36:BC37,\">=0\"),\"-\")","v":"-"},{"$f":"+IFERROR(AVERAGEIFS('Resumen de indicadores HSE'!BD36:BD37,'Resumen de indicadores HSE'!BD36:BD37,\">=0\"),\"-\")","v":"-"},{"$f":"+IFERROR(AVERAGEIFS('Resumen de indicadores HSE'!BE36:BE37,'Resumen de indicadores HSE'!BE36:BE37,\">=0\"),\"-\")","v":"-"}]
[]
[null,null,null,"Indicadores",null,{"$f":"+F4","v":"Estudiante 1"},"Estudiante 2","Estudiante 3","Estudiante 4","Estudiante 5","Estudiante 6","Estudiante 7","Estudiante 8","Estudiante 9","Estudiante 10","Estudiante 11","Estudiante 12","Estudiante 13","Estudiante 14","Estudiante 15","Estudiante 16","Estudiante 17","Estudiante 18","Estudiante 19","Estudiante 20","Estudiante 21","Estudiante 22","Estudiante 23","Estudiante 24","Estudiante 25","Estudiante 26","Estudiante 27","Estudiante 28","Estudiante 29","Estudiante 30","Estudiante 31","Estudiante 32","Estudiante 33","Estudiante 34","Estudiante 35","Estudiante 36","Estudiante 37","Estudiante 38","Estudiante 39","Estudiante 40","Estudiante 41","Estudiante 42","Estudiante 43","Estudiante 44","Estudiante 45","Estudiante 46","Estudiante 47","Estudiante 48","Estudiante 49","Estudiante 50"]
[null,null,null,"Promedio Escala",null,{"$f":"IFERROR(AVERAGEIFS(F6:F18,F6:F18,\">=0\"),\"-\")","v":"-"},"-","-","-","-","-","-","-","-","-","-","-","-","-","-","-","-","-","-","-","-","-","-","-","-","-","-","-","-","-","-","-","-","-","-","-","-","-","-","-","-","-","-","-","-","-","-","-","-","-"]
[null,null,null,"En inicio",null,{"$f":"IF(ISNUMBER(F21),COUNTIFS(F6:F18,\">=0\",F6:F18,\"<=1\"),0)","v":0},0,0,0,0,0,0,0,0,0,0,0,0,0,0,0,0,0,0,0,0,0,0,0,0,0,0,0,0,0,0,0,0,0,0,0,0,0,0,0,0,0,0,0,0,0,0,0,0,0]
[null,null,null,"En Proceso",null,{"$f":"IF(ISNUMBER(F21),COUNTIFS(F6:F18,\">=1.1\",F6:F18,\"<=2.9\"),0)","v":0},0,0,0,0,0,0,0,0,0,0,0,0,0,0,0,0,0,0,0,0,0,0,0,0,0,0,0,0,0,0,0,0,0,0,0,0,0,0,0,0,0,0,0,0,0,0,0,0,0]
[null,null,null,"Satisfactorio",null,{"$f":"IF(ISNUMBER(F21),COUNTIFS(F6:F18,\">=3\"),0)","v":0},0,0,0,0,0,0,0,0,0,0,0,0,0,0,0,0,0,0,0,0,0,0,0,0,0,0,0,0,0,0,0,0,0,0,0,0,0,0,0,0,0,0,0,0,0,0,0,0,0]
[null,null,null,"TOTAL",null,{"$f":"+SUM(F22:F24)","v":0},0,0,0,0,0,0,0,0,0,0,0,0,0,0,0,0,0,0,0,0,0,0,0,0,0,0,0,0,0,0,0,0,0,0,0,0,0,0,0,0,0,0,0,0,0,0,0,0,0]

{"sheet":"Resumen de indicadores FR","index":6,"n_rows":43,"n_cols":57,"rows_kept":43,"cut":false,"hidden":false,"merged":[[10,1,11,1],[10,2,11,2],[12,1,14,1],[12,2,14,2],[15,1,18,1],[15,2,18,2],[19,1,21,1],[19,2,21,2],[22,2,25,2],[23,1,25,1],[26,1,29,1],[26,2,29,2],[30,1,33,1],[30,2,33,2],[6,3,6,4],[7,3,7,4],[3,3,3,4],[4,1,6,1],[4,2,6,2],[4,3,4,4],[5,3,5,4],[7,1,9,1],[7,2,9,2],[8,3,8,4],[9,3,9,4],[10,3,10,4],[11,3,11,4],[12,3,12,4],[13,3,13,4],[14,3,14,4],[15,3,15,4],[16,3,16,4],[17,3,17,4],[18,3,18,4],[19,3,19,4],[20,3,20,4],[21,3,21,4],[29,3,29,4],[30,3,30,4],[31,3,31,4],[32,3,32,4],[33,3,33,4],[34,3,34,4],[35,3,35,4],[22,3,22,4],[23,3,23,4],[24,3,24,4],[25,3,25,4],[26,3,26,4],[27,3,27,4],[28,3,28,4],[34,1,35,1],[34,2,35,2]]}
[]
[]
[]
[null,"Dimensión","Escala","Indicadores",null,"Puntaje Promedio del aula, por indicador",null,{"$f":"'BASE DE RESPUESTAS'!H5","v":"Estudiante 1"},{"$f":"'BASE DE RESPUESTAS'!I5","v":"Estudiante 2"},{"$f":"'BASE DE RESPUESTAS'!J5","v":"Estudiante 3"},{"$f":"'BASE DE RESPUESTAS'!K5","v":"Estudiante 4"},{"$f":"'BASE DE RESPUESTAS'!L5","v":"Estudiante 5"},{"$f":"'BASE DE RESPUESTAS'!M5","v":"Estudiante 6"},{"$f":"'BASE DE RESPUESTAS'!N5","v":"Estudiante 7"},{"$f":"'BASE DE RESPUESTAS'!O5","v":"Estudiante 8"},{"$f":"'BASE DE RESPUESTAS'!P5","v":"Estudiante 9"},{"$f":"'BASE DE RESPUESTAS'!Q5","v":"Estudiante 10"},{"$f":"'BASE DE RESPUESTAS'!R5","v":"Estudiante 11"},{"$f":"'BASE DE RESPUESTAS'!S5","v":"Estudiante 12"},{"$f":"'BASE DE RESPUESTAS'!T5","v":"Estudiante 13"},{"$f":"'BASE DE RESPUESTAS'!U5","v":"Estudiante 14"},{"$f":"'BASE DE RESPUESTAS'!V5","v":"Estudiante 15"},{"$f":"'BASE DE RESPUESTAS'!W5","v":"Estudiante 16"},{"$f":"'BASE DE RESPUESTAS'!X5","v":"Estudiante 17"},{"$f":"'BASE DE RESPUESTAS'!Y5","v":"Estudiante 18"},{"$f":"'BASE DE RESPUESTAS'!Z5","v":"Estudiante 19"},{"$f":"'BASE DE RESPUESTAS'!AA5","v":"Estudiante 20"},{"$f":"'BASE DE RESPUESTAS'!AB5","v":"Estudiante 21"},{"$f":"'BASE DE RESPUESTAS'!AC5","v":"Estudiante 22"},{"$f":"'BASE DE RESPUESTAS'!AD5","v":"Estudiante 23"},{"$f":"'BASE DE RESPUESTAS'!AE5","v":"Estudiante 24"},{"$f":"'BASE DE RESPUESTAS'!AF5","v":"Estudiante 25"},{"$f":"'BASE DE RESPUESTAS'!AG5","v":"Estudiante 26"},{"$f":"'BASE DE RESPUESTAS'!AH5","v":"Estudiante 27"},{"$f":"'BASE DE RESPUESTAS'!AI5","v":"Estudiante 28"},{"$f":"'BASE DE RESPUESTAS'!AJ5","v":"Estudiante 29"},{"$f":"'BASE DE RESPUESTAS'!AK5","v":"Estudiante 30"},{"$f":"'BASE DE RESPUESTAS'!AL5","v":"Estudiante 31"},{"$f":"'BASE DE RESPUESTAS'!AM5","v":"Estudiante 32"},{"$f":"'BASE DE RESPUESTAS'!AN5","v":"Estudiante 33"},{"$f":"'BASE DE RESPUESTAS'!AO5","v":"Estudiante 34"},{"$f":"'BASE DE RESPUESTAS'!AP5","v":"Estudiante 35"},{"$f":"'BASE DE RESPUESTAS'!AQ5","v":"Estudiante 36"},{"$f":"'BASE DE RESPUESTAS'!AR5","v":"Estudiante 37"},{"$f":"'BASE DE RESPUESTAS'!AS5","v":"Estudiante 38"},{"$f":"'BASE DE RESPUESTAS'!AT5","v":"Estudiante 39"},{"$f":"'BASE DE RESPUESTAS'!AU5","v":"Estudiante 40"},{"$f":"'BASE DE RESPUESTAS'!AV5","v":"Estudiante 41"},{"$f":"'BASE DE RESPUESTAS'!AW5","v":"Estudiante 42"},{"$f":"'BASE DE RESPUESTAS'!AX5","v":"Estudiante 43"},{"$f":"'BASE DE RESPUESTAS'!AY5","v":"Estudiante 44"},{"$f":"'BASE DE RESPUESTAS'!AZ5","v":"Estudiante 45"},{"$f":"'BASE DE RESPUESTAS'!BA5","v":"Estudiante 46"},{"$f":"'BASE DE RESPUESTAS'!BB5","v":"Estudiante 47"},{"$f":"'BASE DE RESPUESTAS'!BC5","v":"Estudiante 48"},{"$f":"'BASE DE RESPUESTAS'!BD5","v":"Estudiante 49"},{"$f":"'BASE DE RESPUESTAS'!BE5","v":"Estudiante 50"}]
[null,"FR","Consumo de alcohol y drogas","El o la estudiante ha consumido alcohol u otras drogas.",null,{"$f":"+IFERROR(AVERAGEIFS(H5:BE5,H5:BE5,\">=0\"),\"\")","v":""},null,{"$f":"+IFERROR((VLOOKUP('BASE DE RESPUESTAS'!H41,Back!$M$16:$N$20,2,0)),\"\")","v":""},{"$f":"+IFERROR((VLOOKUP('BASE DE RESPUESTAS'!I41,Back!$M$16:$N$20,2,0)),\"\")","v":""},{"$f":"+IFERROR((VLOOKUP('BASE DE RESPUESTAS'!J41,Back!$M$16:$N$20,2,0)),\"\")","v":""},{"$f":"+IFERROR((VLOOKUP('BASE DE RESPUESTAS'!K41,Back!$M$16:$N$20,2,0)),\"\")","v":""},{"$f":"+IFERROR((VLOOKUP('BASE DE RESPUESTAS'!L41,Back!$M$16:$N$20,2,0)),\"\")","v":""},{"$f":"+IFERROR((VLOOKUP('BASE DE RESPUESTAS'!M41,Back!$M$16:$N$20,2,0)),\"\")","v":""},{"$f":"+IFERROR((VLOOKUP('BASE DE RESPUESTAS'!N41,Back!$M$16:$N$20,2,0)),\"\")","v":""},{"$f":"+IFERROR((VLOOKUP('BASE DE RESPUESTAS'!O41,Back!$M$16:$N$20,2,0)),\"\")","v":""},{"$f":"+IFERROR((VLOOKUP('BASE DE RESPUESTAS'!P41,Back!$M$16:$N$20,2,0)),\"\")","v":""},{"$f":"+IFERROR((VLOOKUP('BASE DE RESPUESTAS'!Q41,Back!$M$16:$N$20,2,0)),\"\")","v":""},{"$f":"+IFERROR((VLOOKUP('BASE DE RESPUESTAS'!R41,Back!$M$16:$N$20,2,0)),\"\")","v":""},{"$f":"+IFERROR((VLOOKUP('BASE DE RESPUESTAS'!S41,Back!$M$16:$N$20,2,0)),\"\")","v":""},{"$f":"+IFERROR((VLOOKUP('BASE DE RESPUESTAS'!T41,Back!$M$16:$N$20,2,0)),\"\")","v":""},{"$f":"+IFERROR((VLOOKUP('BASE DE RESPUESTAS'!U41,Back!$M$16:$N$20,2,0)),\"\")","v":""},{"$f":"+IFERROR((VLOOKUP('BASE DE RESPUESTAS'!V41,Back!$M$16:$N$20,2,0)),\"\")","v":""},{"$f":"+IFERROR((VLOOKUP('BASE DE RESPUESTAS'!W41,Back!$M$16:$N$20,2,0)),\"\")","v":""},{"$f":"+IFERROR((VLOOKUP('BASE DE RESPUESTAS'!X41,Back!$M$16:$N$20,2,0)),\"\")","v":""},{"$f":"+IFERROR((VLOOKUP('BASE DE RESPUESTAS'!Y41,Back!$M$16:$N$20,2,0)),\"\")","v":""},{"$f":"+IFERROR((VLOOKUP('BASE DE RESPUESTAS'!Z41,Back!$M$16:$N$20,2,0)),\"\")","v":""},{"$f":"+IFERROR((VLOOKUP('BASE DE RESPUESTAS'!AA41,Back!$M$16:$N$20,2,0)),\"\")","v":""},{"$f":"+IFERROR((VLOOKUP('BASE DE RESPUESTAS'!AB41,Back!$M$16:$N$20,2,0)),\"\")","v":""},{"$f":"+IFERROR((VLOOKUP('BASE DE RESPUESTAS'!AC41,Back!$M$16:$N$20,2,0)),\"\")","v":""},{"$f":"+IFERROR((VLOOKUP('BASE DE RESPUESTAS'!AD41,Back!$M$16:$N$20,2,0)),\"\")","v":""},{"$f":"+IFERROR((VLOOKUP('BASE DE RESPUESTAS'!AE41,Back!$M$16:$N$20,2,0)),\"\")","v":""},{"$f":"+IFERROR((VLOOKUP('BASE DE RESPUESTAS'!AF41,Back!$M$16:$N$20,2,0)),\"\")","v":""},{"$f":"+IFERROR((VLOOKUP('BASE DE RESPUESTAS'!AG41,Back!$M$16:$N$20,2,0)),\"\")","v":""},{"$f":"+IFERROR((VLOOKUP('BASE DE RESPUESTAS'!AH41,Back!$M$16:$N$20,2,0)),\"\")","v":""},{"$f":"+IFERROR((VLOOKUP('BASE DE RESPUESTAS'!AI41,Back!$M$16:$N$20,2,0)),\"\")","v":""},{"$f":"+IFERROR((VLOOKUP('BASE DE RESPUESTAS'!AJ41,Back!$M$16:$N$20,2,0)),\"\")","v":""},{"$f":"+IFERROR((VLOOKUP('BASE DE RESPUESTAS'!AK41,Back!$M$16:$N$20,2,0)),\"\")","v":""},{"$f":"+IFERROR((VLOOKUP('BASE DE RESPUESTAS'!AL41,Back!$M$16:$N$20,2,0)),\"\")","v":""},{"$f":"+IFERROR((VLOOKUP('BASE DE RESPUESTAS'!AM41,Back!$M$16:$N$20,2,0)),\"\")","v":""},{"$f":"+IFERROR((VLOOKUP('BASE DE RESPUESTAS'!AN41,Back!$M$16:$N$20,2,0)),\"\")","v":""},{"$f":"+IFERROR((VLOOKUP('BASE DE RESPUESTAS'!AO41,Back!$M$16:$N$20,2,0)),\"\")","v":""},{"$f":"+IFERROR((VLOOKUP('BASE DE RESPUESTAS'!AP41,Back!$M$16:$N$20,2,0)),\"\")","v":""},{"$f":"+IFERROR((VLOOKUP('BASE DE RESPUESTAS'!AQ41,Back!$M$16:$N$20,2,0)),\"\")","v":""},{"$f":"+IFERROR((VLOOKUP('BASE DE RESPUESTAS'!AR41,Back!$M$16:$N$20,2,0)),\"\")","v":""},{"$f":"+IFERROR((VLOOKUP('BASE DE RESPUESTAS'!AS41,Back!$M$16:$N$20,2,0)),\"\")","v":""},{"$f":"+IFERROR((VLOOKUP('BASE DE RESPUESTAS'!AT41,Back!$M$16:$N$20,2,0)),\"\")","v":""},{"$f":"+IFERROR((VLOOKUP('BASE DE RESPUESTAS'!AU41,Back!$M$16:$N$20,2,0)),\"\")","v":""},{"$f":"+IFERROR((VLOOKUP('BASE DE RESPUESTAS'!AV41,Back!$M$16:$N$20,2,0)),\"\")","v":""},{"$f":"+IFERROR((VLOOKUP('BASE DE RESPUESTAS'!AW41,Back!$M$16:$N$20,2,0)),\"\")","v":""},{"$f":"+IFERROR((VLOOKUP('BASE DE RESPUESTAS'!AX41,Back!$M$16:$N$20,2,0)),\"\")","v":""},{"$f":"+IFERROR((VLOOKUP('BASE DE RESPUESTAS'!AY41,Back!$M$16:$N$20,2,0)),\"\")","v":""},{"$f":"+IFERROR((VLOOKUP('BASE DE RESPUESTAS'!AZ41,Back!$M$16:$N$20,2,0)),\"\")","v":""},{"$f":"+IFERROR((VLOOKUP('BASE DE RESPUESTAS'!BA41,Back!$M$16:$N$20,2,0)),\"\")","v":""},{"$f":"+IFERROR((VLOOKUP('BASE DE RESPUESTAS'!BB41,Back!$M$16:$N$20,2,0)),\"\")","v":""},{"$f":"+IFERROR((VLOOKUP('BASE DE RESPUESTAS'!BC41,Back!$M$16:$N$20,2,0)),\"\")","v":""},{"$f":"+IFERROR((VLOOKUP('BASE DE RESPUESTAS'!BD41,Back!$M$16:$N$20,2,0)),\"\")","v":""},{"$f":"+IFERROR((VLOOKUP('BASE DE RESPUESTAS'!BE41,Back!$M$16:$N$20,2,0)),\"\")","v":""}]
[null,null,null,"El o la estudiante tiene curiosidad por consumir drogas.",null,"",null,{"$f":"+IFERROR((VLOOKUP('BASE DE RESPUESTAS'!H42,Back!$M$16:$N$20,2,0)),\"\")","v":""},{"$f":"+IFERROR((VLOOKUP('BASE DE RESPUESTAS'!I42,Back!$M$16:$N$20,2,0)),\"\")","v":""},{"$f":"+IFERROR((VLOOKUP('BASE DE RESPUESTAS'!J42,Back!$M$16:$N$20,2,0)),\"\")","v":""},{"$f":"+IFERROR((VLOOKUP('BASE DE RESPUESTAS'!K42,Back!$M$16:$N$20,2,0)),\"\")","v":""},{"$f":"+IFERROR((VLOOKUP('BASE DE RESPUESTAS'!L42,Back!$M$16:$N$20,2,0)),\"\")","v":""},{"$f":"+IFERROR((VLOOKUP('BASE DE RESPUESTAS'!M42,Back!$M$16:$N$20,2,0)),\"\")","v":""},{"$f":"+IFERROR((VLOOKUP('BASE DE RESPUESTAS'!N42,Back!$M$16:$N$20,2,0)),\"\")","v":""},{"$f":"+IFERROR((VLOOKUP('BASE DE RESPUESTAS'!O42,Back!$M$16:$N$20,2,0)),\"\")","v":""},{"$f":"+IFERROR((VLOOKUP('BASE DE RESPUESTAS'!P42,Back!$M$16:$N$20,2,0)),\"\")","v":""},{"$f":"+IFERROR((VLOOKUP('BASE DE RESPUESTAS'!Q42,Back!$M$16:$N$20,2,0)),\"\")","v":""},{"$f":"+IFERROR((VLOOKUP('BASE DE RESPUESTAS'!R42,Back!$M$16:$N$20,2,0)),\"\")","v":""},{"$f":"+IFERROR((VLOOKUP('BASE DE RESPUESTAS'!S42,Back!$M$16:$N$20,2,0)),\"\")","v":""},{"$f":"+IFERROR((VLOOKUP('BASE DE RESPUESTAS'!T42,Back!$M$16:$N$20,2,0)),\"\")","v":""},{"$f":"+IFERROR((VLOOKUP('BASE DE RESPUESTAS'!U42,Back!$M$16:$N$20,2,0)),\"\")","v":""},{"$f":"+IFERROR((VLOOKUP('BASE DE RESPUESTAS'!V42,Back!$M$16:$N$20,2,0)),\"\")","v":""},{"$f":"+IFERROR((VLOOKUP('BASE DE RESPUESTAS'!W42,Back!$M$16:$N$20,2,0)),\"\")","v":""},{"$f":"+IFERROR((VLOOKUP('BASE DE RESPUESTAS'!X42,Back!$M$16:$N$20,2,0)),\"\")","v":""},{"$f":"+IFERROR((VLOOKUP('BASE DE RESPUESTAS'!Y42,Back!$M$16:$N$20,2,0)),\"\")","v":""},{"$f":"+IFERROR((VLOOKUP('BASE DE RESPUESTAS'!Z42,Back!$M$16:$N$20,2,0)),\"\")","v":""},{"$f":"+IFERROR((VLOOKUP('BASE DE RESPUESTAS'!AA42,Back!$M$16:$N$20,2,0)),\"\")","v":""},{"$f":"+IFERROR((VLOOKUP('BASE DE RESPUESTAS'!AB42,Back!$M$16:$N$20,2,0)),\"\")","v":""},{"$f":"+IFERROR((VLOOKUP('BASE DE RESPUESTAS'!AC42,Back!$M$16:$N$20,2,0)),\"\")","v":""},{"$f":"+IFERROR((VLOOKUP('BASE DE RESPUESTAS'!AD42,Back!$M$16:$N$20,2,0)),\"\")","v":""},{"$f":"+IFERROR((VLOOKUP('BASE DE RESPUESTAS'!AE42,Back!$M$16:$N$20,2,0)),\"\")","v":""},{"$f":"+IFERROR((VLOOKUP('BASE DE RESPUESTAS'!AF42,Back!$M$16:$N$20,2,0)),\"\")","v":""},{"$f":"+IFERROR((VLOOKUP('BASE DE RESPUESTAS'!AG42,Back!$M$16:$N$20,2,0)),\"\")","v":""},{"$f":"+IFERROR((VLOOKUP('BASE DE RESPUESTAS'!AH42,Back!$M$16:$N$20,2,0)),\"\")","v":""},{"$f":"+IFERROR((VLOOKUP('BASE DE RESPUESTAS'!AI42,Back!$M$16:$N$20,2,0)),\"\")","v":""},{"$f":"+IFERROR((VLOOKUP('BASE DE RESPUESTAS'!AJ42,Back!$M$16:$N$20,2,0)),\"\")","v":""},{"$f":"+IFERROR((VLOOKUP('BASE DE RESPUESTAS'!AK42,Back!$M$16:$N$20,2,0)),\"\")","v":""},{"$f":"+IFERROR((VLOOKUP('BASE DE RESPUESTAS'!AL42,Back!$M$16:$N$20,2,0)),\"\")","v":""},{"$f":"+IFERROR((VLOOKUP('BASE DE RESPUESTAS'!AM42,Back!$M$16:$N$20,2,0)),\"\")","v":""},{"$f":"+IFERROR((VLOOKUP('BASE DE RESPUESTAS'!AN42,Back!$M$16:$N$20,2,0)),\"\")","v":""},{"$f":"+IFERROR((VLOOKUP('BASE DE RESPUESTAS'!AO42,Back!$M$16:$N$20,2,0)),\"\")","v":""},{"$f":"+IFERROR((VLOOKUP('BASE DE RESPUESTAS'!AP42,Back!$M$16:$N$20,2,0)),\"\")","v":""},{"$f":"+IFERROR((VLOOKUP('BASE DE RESPUESTAS'!AQ42,Back!$M$16:$N$20,2,0)),\"\")","v":""},{"$f":"+IFERROR((VLOOKUP('BASE DE RESPUESTAS'!AR42,Back!$M$16:$N$20,2,0)),\"\")","v":""},{"$f":"+IFERROR((VLOOKUP('BASE DE RESPUESTAS'!AS42,Back!$M$16:$N$20,2,0)),\"\")","v":""},{"$f":"+IFERROR((VLOOKUP('BASE DE RESPUESTAS'!AT42,Back!$M$16:$N$20,2,0)),\"\")","v":""},{"$f":"+IFERROR((VLOOKUP('BASE DE RESPUESTAS'!AU42,Back!$M$16:$N$20,2,0)),\"\")","v":""},{"$f":"+IFERROR((VLOOKUP('BASE DE RESPUESTAS'!AV42,Back!$M$16:$N$20,2,0)),\"\")","v":""},{"$f":"+IFERROR((VLOOKUP('BASE DE RESPUESTAS'!AW42,Back!$M$16:$N$20,2,0)),\"\")","v":""},{"$f":"+IFERROR((VLOOKUP('BASE DE RESPUESTAS'!AX42,Back!$M$16:$N$20,2,0)),\"\")","v":""},{"$f":"+IFERROR((VLOOKUP('BASE DE RESPUESTAS'!AY42,Back!$M$16:$N$20,2,0)),\"\")","v":""},{"$f":"+IFERROR((VLOOKUP('BASE DE RESPUESTAS'!AZ42,Back!$M$16:$N$20,2,0)),\"\")","v":""},{"$f":"+IFERROR((VLOOKUP('BASE DE RESPUESTAS'!BA42,Back!$M$16:$N$20,2,0)),\"\")","v":""},{"$f":"+IFERROR((VLOOKUP('BASE DE RESPUESTAS'!BB42,Back!$M$16:$N$20,2,0)),\"\")","v":""},{"$f":"+IFERROR((VLOOKUP('BASE DE RESPUESTAS'!BC42,Back!$M$16:$N$20,2,0)),\"\")","v":""},{"$f":"+IFERROR((VLOOKUP('BASE DE RESPUESTAS'!BD42,Back!$M$16:$N$20,2,0)),\"\")","v":""},{"$f":"+IFERROR((VLOOKUP('BASE DE RESPUESTAS'!BE42,Back!$M$16:$N$20,2,0)),\"\")","v":""}]
[null,null,null,"El o la estudiante tiene amigos o familiares cercanos que consumen drogas.",null,"",null,{"$f":"+IFERROR((VLOOKUP('BASE DE RESPUESTAS'!H43,Back!$M$16:$N$20,2,0)),\"\")","v":""},{"$f":"+IFERROR((VLOOKUP('BASE DE RESPUESTAS'!I43,Back!$M$16:$N$20,2,0)),\"\")","v":""},{"$f":"+IFERROR((VLOOKUP('BASE DE RESPUESTAS'!J43,Back!$M$16:$N$20,2,0)),\"\")","v":""},{"$f":"+IFERROR((VLOOKUP('BASE DE RESPUESTAS'!K43,Back!$M$16:$N$20,2,0)),\"\")","v":""},{"$f":"+IFERROR((VLOOKUP('BASE DE RESPUESTAS'!L43,Back!$M$16:$N$20,2,0)),\"\")","v":""},{"$f":"+IFERROR((VLOOKUP('BASE DE RESPUESTAS'!M43,Back!$M$16:$N$20,2,0)),\"\")","v":""},{"$f":"+IFERROR((VLOOKUP('BASE DE RESPUESTAS'!N43,Back!$M$16:$N$20,2,0)),\"\")","v":""},{"$f":"+IFERROR((VLOOKUP('BASE DE RESPUESTAS'!O43,Back!$M$16:$N$20,2,0)),\"\")","v":""},{"$f":"+IFERROR((VLOOKUP('BASE DE RESPUESTAS'!P43,Back!$M$16:$N$20,2,0)),\"\")","v":""},{"$f":"+IFERROR((VLOOKUP('BASE DE RESPUESTAS'!Q43,Back!$M$16:$N$20,2,0)),\"\")","v":""},{"$f":"+IFERROR((VLOOKUP('BASE DE RESPUESTAS'!R43,Back!$M$16:$N$20,2,0)),\"\")","v":""},{"$f":"+IFERROR((VLOOKUP('BASE DE RESPUESTAS'!S43,Back!$M$16:$N$20,2,0)),\"\")","v":""},{"$f":"+IFERROR((VLOOKUP('BASE DE RESPUESTAS'!T43,Back!$M$16:$N$20,2,0)),\"\")","v":""},{"$f":"+IFERROR((VLOOKUP('BASE DE RESPUESTAS'!U43,Back!$M$16:$N$20,2,0)),\"\")","v":""},{"$f":"+IFERROR((VLOOKUP('BASE DE RESPUESTAS'!V43,Back!$M$16:$N$20,2,0)),\"\")","v":""},{"$f":"+IFERROR((VLOOKUP('BASE DE RESPUESTAS'!W43,Back!$M$16:$N$20,2,0)),\"\")","v":""},{"$f":"+IFERROR((VLOOKUP('BASE DE RESPUESTAS'!X43,Back!$M$16:$N$20,2,0)),\"\")","v":""},{"$f":"+IFERROR((VLOOKUP('BASE DE RESPUESTAS'!Y43,Back!$M$16:$N$20,2,0)),\"\")","v":""},{"$f":"+IFERROR((VLOOKUP('BASE DE RESPUESTAS'!Z43,Back!$M$16:$N$20,2,0)),\"\")","v":""},{"$f":"+IFERROR((VLOOKUP('BASE DE RESPUESTAS'!AA43,Back!$M$16:$N$20,2,0)),\"\")","v":""},{"$f":"+IFERROR((VLOOKUP('BASE DE RESPUESTAS'!AB43,Back!$M$16:$N$20,2,0)),\"\")","v":""},{"$f":"+IFERROR((VLOOKUP('BASE DE RESPUESTAS'!AC43,Back!$M$16:$N$20,2,0)),\"\")","v":""},{"$f":"+IFERROR((VLOOKUP('BASE DE RESPUESTAS'!AD43,Back!$M$16:$N$20,2,0)),\"\")","v":""},{"$f":"+IFERROR((VLOOKUP('BASE DE RESPUESTAS'!AE43,Back!$M$16:$N$20,2,0)),\"\")","v":""},{"$f":"+IFERROR((VLOOKUP('BASE DE RESPUESTAS'!AF43,Back!$M$16:$N$20,2,0)),\"\")","v":""},{"$f":"+IFERROR((VLOOKUP('BASE DE RESPUESTAS'!AG43,Back!$M$16:$N$20,2,0)),\"\")","v":""},{"$f":"+IFERROR((VLOOKUP('BASE DE RESPUESTAS'!AH43,Back!$M$16:$N$20,2,0)),\"\")","v":""},{"$f":"+IFERROR((VLOOKUP('BASE DE RESPUESTAS'!AI43,Back!$M$16:$N$20,2,0)),\"\")","v":""},{"$f":"+IFERROR((VLOOKUP('BASE DE RESPUESTAS'!AJ43,Back!$M$16:$N$20,2,0)),\"\")","v":""},{"$f":"+IFERROR((VLOOKUP('BASE DE RESPUESTAS'!AK43,Back!$M$16:$N$20,2,0)),\"\")","v":""},{"$f":"+IFERROR((VLOOKUP('BASE DE RESPUESTAS'!AL43,Back!$M$16:$N$20,2,0)),\"\")","v":""},{"$f":"+IFERROR((VLOOKUP('BASE DE RESPUESTAS'!AM43,Back!$M$16:$N$20,2,0)),\"\")","v":""},{"$f":"+IFERROR((VLOOKUP('BASE DE RESPUESTAS'!AN43,Back!$M$16:$N$20,2,0)),\"\")","v":""},{"$f":"+IFERROR((VLOOKUP('BASE DE RESPUESTAS'!AO43,Back!$M$16:$N$20,2,0)),\"\")","v":""},{"$f":"+IFERROR((VLOOKUP('BASE DE RESPUESTAS'!AP43,Back!$M$16:$N$20,2,0)),\"\")","v":""},{"$f":"+IFERROR((VLOOKUP('BASE DE RESPUESTAS'!AQ43,Back!$M$16:$N$20,2,0)),\"\")","v":""},{"$f":"+IFERROR((VLOOKUP('BASE DE RESPUESTAS'!AR43,Back!$M$16:$N$20,2,0)),\"\")","v":""},{"$f":"+IFERROR((VLOOKUP('BASE DE RESPUESTAS'!AS43,Back!$M$16:$N$20,2,0)),\"\")","v":""},{"$f":"+IFERROR((VLOOKUP('BASE DE RESPUESTAS'!AT43,Back!$M$16:$N$20,2,0)),\"\")","v":""},{"$f":"+IFERROR((VLOOKUP('BASE DE RESPUESTAS'!AU43,Back!$M$16:$N$20,2,0)),\"\")","v":""},{"$f":"+IFERROR((VLOOKUP('BASE DE RESPUESTAS'!AV43,Back!$M$16:$N$20,2,0)),\"\")","v":""},{"$f":"+IFERROR((VLOOKUP('BASE DE RESPUESTAS'!AW43,Back!$M$16:$N$20,2,0)),\"\")","v":""},{"$f":"+IFERROR((VLOOKUP('BASE DE RESPUESTAS'!AX43,Back!$M$16:$N$20,2,0)),\"\")","v":""},{"$f":"+IFERROR((VLOOKUP('BASE DE RESPUESTAS'!AY43,Back!$M$16:$N$20,2,0)),\"\")","v":""},{"$f":"+IFERROR((VLOOKUP('BASE DE RESPUESTAS'!AZ43,Back!$M$16:$N$20,2,0)),\"\")","v":""},{"$f":"+IFERROR((VLOOKUP('BASE DE RESPUESTAS'!BA43,Back!$M$16:$N$20,2,0)),\"\")","v":""},{"$f":"+IFERROR((VLOOKUP('BASE DE RESPUESTAS'!BB43,Back!$M$16:$N$20,2,0)),\"\")","v":""},{"$f":"+IFERROR((VLOOKUP('BASE DE RESPUESTAS'!BC43,Back!$M$16:$N$20,2,0)),\"\")","v":""},{"$f":"+IFERROR((VLOOKUP('BASE DE RESPUESTAS'!BD43,Back!$M$16:$N$20,2,0)),\"\")","v":""},{"$f":"+IFERROR((VLOOKUP('BASE DE RESPUESTAS'!BE43,Back!$M$16:$N$20,2,0)),\"\")","v":""}]
[null,"FR","Trabajo adolescente","El o la estudiante se siente obligado a trabajar para apoyar a su familia en la compra de alimentos y/u otros gastos.",null,"",null,{"$f":"+IFERROR((VLOOKUP('BASE DE RESPUESTAS'!H44,Back!$M$16:$N$20,2,0)),\"\")","v":""},{"$f":"+IFERROR((VLOOKUP('BASE DE RESPUESTAS'!I44,Back!$M$16:$N$20,2,0)),\"\")","v":""},{"$f":"+IFERROR((VLOOKUP('BASE DE RESPUESTAS'!J44,Back!$M$16:$N$20,2,0)),\"\")","v":""},{"$f":"+IFERROR((VLOOKUP('BASE DE RESPUESTAS'!K44,Back!$M$16:$N$20,2,0)),\"\")","v":""},{"$f":"+IFERROR((VLOOKUP('BASE DE RESPUESTAS'!L44,Back!$M$16:$N$20,2,0)),\"\")","v":""},{"$f":"+IFERROR((VLOOKUP('BASE DE RESPUESTAS'!M44,Back!$M$16:$N$20,2,0)),\"\")","v":""},{"$f":"+IFERROR((VLOOKUP('BASE DE RESPUESTAS'!N44,Back!$M$16:$N$20,2,0)),\"\")","v":""},{"$f":"+IFERROR((VLOOKUP('BASE DE RESPUESTAS'!O44,Back!$M$16:$N$20,2,0)),\"\")","v":""},{"$f":"+IFERROR((VLOOKUP('BASE DE RESPUESTAS'!P44,Back!$M$16:$N$20,2,0)),\"\")","v":""},{"$f":"+IFERROR((VLOOKUP('BASE DE RESPUESTAS'!Q44,Back!$M$16:$N$20,2,0)),\"\")","v":""},{"$f":"+IFERROR((VLOOKUP('BASE DE RESPUESTAS'!R44,Back!$M$16:$N$20,2,0)),\"\")","v":""},{"$f":"+IFERROR((VLOOKUP('BASE DE RESPUESTAS'!S44,Back!$M$16:$N$20,2,0)),\"\")","v":""},{"$f":"+IFERROR((VLOOKUP('BASE DE RESPUESTAS'!T44,Back!$M$16:$N$20,2,0)),\"\")","v":""},{"$f":"+IFERROR((VLOOKUP('BASE DE RESPUESTAS'!U44,Back!$M$16:$N$20,2,0)),\"\")","v":""},{"$f":"+IFERROR((VLOOKUP('BASE DE RESPUESTAS'!V44,Back!$M$16:$N$20,2,0)),\"\")","v":""},{"$f":"+IFERROR((VLOOKUP('BASE DE RESPUESTAS'!W44,Back!$M$16:$N$20,2,0)),\"\")","v":""},{"$f":"+IFERROR((VLOOKUP('BASE DE RESPUESTAS'!X44,Back!$M$16:$N$20,2,0)),\"\")","v":""},{"$f":"+IFERROR((VLOOKUP('BASE DE RESPUESTAS'!Y44,Back!$M$16:$N$20,2,0)),\"\")","v":""},{"$f":"+IFERROR((VLOOKUP('BASE DE RESPUESTAS'!Z44,Back!$M$16:$N$20,2,0)),\"\")","v":""},{"$f":"+IFERROR((VLOOKUP('BASE DE RESPUESTAS'!AA44,Back!$M$16:$N$20,2,0)),\"\")","v":""},{"$f":"+IFERROR((VLOOKUP('BASE DE RESPUESTAS'!AB44,Back!$M$16:$N$20,2,0)),\"\")","v":""},{"$f":"+IFERROR((VLOOKUP('BASE DE RESPUESTAS'!AC44,Back!$M$16:$N$20,2,0)),\"\")","v":""},{"$f":"+IFERROR((VLOOKUP('BASE DE RESPUESTAS'!AD44,Back!$M$16:$N$20,2,0)),\"\")","v":""},{"$f":"+IFERROR((VLOOKUP('BASE DE RESPUESTAS'!AE44,Back!$M$16:$N$20,2,0)),\"\")","v":""},{"$f":"+IFERROR((VLOOKUP('BASE DE RESPUESTAS'!AF44,Back!$M$16:$N$20,2,0)),\"\")","v":""},{"$f":"+IFERROR((VLOOKUP('BASE DE RESPUESTAS'!AG44,Back!$M$16:$N$20,2,0)),\"\")","v":""},{"$f":"+IFERROR((VLOOKUP('BASE DE RESPUESTAS'!AH44,Back!$M$16:$N$20,2,0)),\"\")","v":""},{"$f":"+IFERROR((VLOOKUP('BASE DE RESPUESTAS'!AI44,Back!$M$16:$N$20,2,0)),\"\")","v":""},{"$f":"+IFERROR((VLOOKUP('BASE DE RESPUESTAS'!AJ44,Back!$M$16:$N$20,2,0)),\"\")","v":""},{"$f":"+IFERROR((VLOOKUP('BASE DE RESPUESTAS'!AK44,Back!$M$16:$N$20,2,0)),\"\")","v":""},{"$f":"+IFERROR((VLOOKUP('BASE DE RESPUESTAS'!AL44,Back!$M$16:$N$20,2,0)),\"\")","v":""},{"$f":"+IFERROR((VLOOKUP('BASE DE RESPUESTAS'!AM44,Back!$M$16:$N$20,2,0)),\"\")","v":""},{"$f":"+IFERROR((VLOOKUP('BASE DE RESPUESTAS'!AN44,Back!$M$16:$N$20,2,0)),\"\")","v":""},{"$f":"+IFERROR((VLOOKUP('BASE DE RESPUESTAS'!AO44,Back!$M$16:$N$20,2,0)),\"\")","v":""},{"$f":"+IFERROR((VLOOKUP('BASE DE RESPUESTAS'!AP44,Back!$M$16:$N$20,2,0)),\"\")","v":""},{"$f":"+IFERROR((VLOOKUP('BASE DE RESPUESTAS'!AQ44,Back!$M$16:$N$20,2,0)),\"\")","v":""},{"$f":"+IFERROR((VLOOKUP('BASE DE RESPUESTAS'!AR44,Back!$M$16:$N$20,2,0)),\"\")","v":""},{"$f":"+IFERROR((VLOOKUP('BASE DE RESPUESTAS'!AS44,Back!$M$16:$N$20,2,0)),\"\")","v":""},{"$f":"+IFERROR((VLOOKUP('BASE DE RESPUESTAS'!AT44,Back!$M$16:$N$20,2,0)),\"\")","v":""},{"$f":"+IFERROR((VLOOKUP('BASE DE RESPUESTAS'!AU44,Back!$M$16:$N$20,2,0)),\"\")","v":""},{"$f":"+IFERROR((VLOOKUP('BASE DE RESPUESTAS'!AV44,Back!$M$16:$N$20,2,0)),\"\")","v":""},{"$f":"+IFERROR((VLOOKUP('BASE DE RESPUESTAS'!AW44,Back!$M$16:$N$20,2,0)),\"\")","v":""},{"$f":"+IFERROR((VLOOKUP('BASE DE RESPUESTAS'!AX44,Back!$M$16:$N$20,2,0)),\"\")","v":""},{"$f":"+IFERROR((VLOOKUP('BASE DE RESPUESTAS'!AY44,Back!$M$16:$N$20,2,0)),\"\")","v":""},{"$f":"+IFERROR((VLOOKUP('BASE DE RESPUESTAS'!AZ44,Back!$M$16:$N$20,2,0)),\"\")","v":""},{"$f":"+IFERROR((VLOOKUP('BASE DE RESPUESTAS'!BA44,Back!$M$16:$N$20,2,0)),\"\")","v":""},{"$f":"+IFERROR((VLOOKUP('BASE DE RESPUESTAS'!BB44,Back!$M$16:$N$20,2,0)),\"\")","v":""},{"$f":"+IFERROR((VLOOKUP('BASE DE RESPUESTAS'!BC44,Back!$M$16:$N$20,2,0)),\"\")","v":""},{"$f":"+IFERROR((VLOOKUP('BASE DE RESPUESTAS'!BD44,Back!$M$16:$N$20,2,0)),\"\")","v":""},{"$f":"+IFERROR((VLOOKUP('BASE DE RESPUESTAS'!BE44,Back!$M$16:$N$20,2,0)),\"\")","v":""}]
[null,null,null,"El o la estudiante suele estar cansado/a y no cumple con sus otras responsabilidades escolares porque trabaja.",null,"",null,{"$f":"+IFERROR((VLOOKUP('BASE DE RESPUESTAS'!H45,Back!$M$16:$N$20,2,0)),\"\")","v":""},{"$f":"+IFERROR((VLOOKUP('BASE DE RESPUESTAS'!I45,Back!$M$16:$N$20,2,0)),\"\")","v":""},{"$f":"+IFERROR((VLOOKUP('BASE DE RESPUESTAS'!J45,Back!$M$16:$N$20,2,0)),\"\")","v":""},{"$f":"+IFERROR((VLOOKUP('BASE DE RESPUESTAS'!K45,Back!$M$16:$N$20,2,0)),\"\")","v":""},{"$f":"+IFERROR((VLOOKUP('BASE DE RESPUESTAS'!L45,Back!$M$16:$N$20,2,0)),\"\")","v":""},{"$f":"+IFERROR((VLOOKUP('BASE DE RESPUESTAS'!M45,Back!$M$16:$N$20,2,0)),\"\")","v":""},{"$f":"+IFERROR((VLOOKUP('BASE DE RESPUESTAS'!N45,Back!$M$16:$N$20,2,0)),\"\")","v":""},{"$f":"+IFERROR((VLOOKUP('BASE DE RESPUESTAS'!O45,Back!$M$16:$N$20,2,0)),\"\")","v":""},{"$f":"+IFERROR((VLOOKUP('BASE DE RESPUESTAS'!P45,Back!$M$16:$N$20,2,0)),\"\")","v":""},{"$f":"+IFERROR((VLOOKUP('BASE DE RESPUESTAS'!Q45,Back!$M$16:$N$20,2,0)),\"\")","v":""},{"$f":"+IFERROR((VLOOKUP('BASE DE RESPUESTAS'!R45,Back!$M$16:$N$20,2,0)),\"\")","v":""},{"$f":"+IFERROR((VLOOKUP('BASE DE RESPUESTAS'!S45,Back!$M$16:$N$20,2,0)),\"\")","v":""},{"$f":"+IFERROR((VLOOKUP('BASE DE RESPUESTAS'!T45,Back!$M$16:$N$20,2,0)),\"\")","v":""},{"$f":"+IFERROR((VLOOKUP('BASE DE RESPUESTAS'!U45,Back!$M$16:$N$20,2,0)),\"\")","v":""},{"$f":"+IFERROR((VLOOKUP('BASE DE RESPUESTAS'!V45,Back!$M$16:$N$20,2,0)),\"\")","v":""},{"$f":"+IFERROR((VLOOKUP('BASE DE RESPUESTAS'!W45,Back!$M$16:$N$20,2,0)),\"\")","v":""},{"$f":"+IFERROR((VLOOKUP('BASE DE RESPUESTAS'!X45,Back!$M$16:$N$20,2,0)),\"\")","v":""},{"$f":"+IFERROR((VLOOKUP('BASE DE RESPUESTAS'!Y45,Back!$M$16:$N$20,2,0)),\"\")","v":""},{"$f":"+IFERROR((VLOOKUP('BASE DE RESPUESTAS'!Z45,Back!$M$16:$N$20,2,0)),\"\")","v":""},{"$f":"+IFERROR((VLOOKUP('BASE DE RESPUESTAS'!AA45,Back!$M$16:$N$20,2,0)),\"\")","v":""},{"$f":"+IFERROR((VLOOKUP('BASE DE RESPUESTAS'!AB45,Back!$M$16:$N$20,2,0)),\"\")","v":""},{"$f":"+IFERROR((VLOOKUP('BASE DE RESPUESTAS'!AC45,Back!$M$16:$N$20,2,0)),\"\")","v":""},{"$f":"+IFERROR((VLOOKUP('BASE DE RESPUESTAS'!AD45,Back!$M$16:$N$20,2,0)),\"\")","v":""},{"$f":"+IFERROR((VLOOKUP('BASE DE RESPUESTAS'!AE45,Back!$M$16:$N$20,2,0)),\"\")","v":""},{"$f":"+IFERROR((VLOOKUP('BASE DE RESPUESTAS'!AF45,Back!$M$16:$N$20,2,0)),\"\")","v":""},{"$f":"+IFERROR((VLOOKUP('BASE DE RESPUESTAS'!AG45,Back!$M$16:$N$20,2,0)),\"\")","v":""},{"$f":"+IFERROR((VLOOKUP('BASE DE RESPUESTAS'!AH45,Back!$M$16:$N$20,2,0)),\"\")","v":""},{"$f":"+IFERROR((VLOOKUP('BASE DE RESPUESTAS'!AI45,Back!$M$16:$N$20,2,0)),\"\")","v":""},{"$f":"+IFERROR((VLOOKUP('BASE DE RESPUESTAS'!AJ45,Back!$M$16:$N$20,2,0)),\"\")","v":""},{"$f":"+IFERROR((VLOOKUP('BASE DE RESPUESTAS'!AK45,Back!$M$16:$N$20,2,0)),\"\")","v":""},{"$f":"+IFERROR((VLOOKUP('BASE DE RESPUESTAS'!AL45,Back!$M$16:$N$20,2,0)),\"\")","v":""},{"$f":"+IFERROR((VLOOKUP('BASE DE RESPUESTAS'!AM45,Back!$M$16:$N$20,2,0)),\"\")","v":""},{"$f":"+IFERROR((VLOOKUP('BASE DE RESPUESTAS'!AN45,Back!$M$16:$N$20,2,0)),\"\")","v":""},{"$f":"+IFERROR((VLOOKUP('BASE DE RESPUESTAS'!AO45,Back!$M$16:$N$20,2,0)),\"\")","v":""},{"$f":"+IFERROR((VLOOKUP('BASE DE RESPUESTAS'!AP45,Back!$M$16:$N$20,2,0)),\"\")","v":""},{"$f":"+IFERROR((VLOOKUP('BASE DE RESPUESTAS'!AQ45,Back!$M$16:$N$20,2,0)),\"\")","v":""},{"$f":"+IFERROR((VLOOKUP('BASE DE RESPUESTAS'!AR45,Back!$M$16:$N$20,2,0)),\"\")","v":""},{"$f":"+IFERROR((VLOOKUP('BASE DE RESPUESTAS'!AS45,Back!$M$16:$N$20,2,0)),\"\")","v":""},{"$f":"+IFERROR((VLOOKUP('BASE DE RESPUESTAS'!AT45,Back!$M$16:$N$20,2,0)),\"\")","v":""},{"$f":"+IFERROR((VLOOKUP('BASE DE RESPUESTAS'!AU45,Back!$M$16:$N$20,2,0)),\"\")","v":""},{"$f":"+IFERROR((VLOOKUP('BASE DE RESPUESTAS'!AV45,Back!$M$16:$N$20,2,0)),\"\")","v":""},{"$f":"+IFERROR((VLOOKUP('BASE DE RESPUESTAS'!AW45,Back!$M$16:$N$20,2,0)),\"\")","v":""},{"$f":"+IFERROR((VLOOKUP('BASE DE RESPUESTAS'!AX45,Back!$M$16:$N$20,2,0)),\"\")","v":""},{"$f":"+IFERROR((VLOOKUP('BASE DE RESPUESTAS'!AY45,Back!$M$16:$N$20,2,0)),\"\")","v":""},{"$f":"+IFERROR((VLOOKUP('BASE DE RESPUESTAS'!AZ45,Back!$M$16:$N$20,2,0)),\"\")","v":""},{"$f":"+IFERROR((VLOOKUP('BASE DE RESPUESTAS'!BA45,Back!$M$16:$N$20,2,0)),\"\")","v":""},{"$f":"+IFERROR((VLOOKUP('BASE DE RESPUESTAS'!BB45,Back!$M$16:$N$20,2,0)),\"\")","v":""},{"$f":"+IFERROR((VLOOKUP('BASE DE RESPUESTAS'!BC45,Back!$M$16:$N$20,2,0)),\"\")","v":""},{"$f":"+IFERROR((VLOOKUP('BASE DE RESPUESTAS'!BD45,Back!$M$16:$N$20,2,0)),\"\")","v":""},{"$f":"+IFERROR((VLOOKUP('BASE DE RESPUESTAS'!BE45,Back!$M$16:$N$20,2,0)),\"\")","v":""}]
[null,null,null,"El o la adolescente descuida sus estudios porque pasa demasiado tiempo encargándose de las labores de su hogar.",null,"",null,{"$f":"+IFERROR((VLOOKUP('BASE DE RESPUESTAS'!H46,Back!$M$16:$N$20,2,0)),\"\")","v":""},{"$f":"+IFERROR((VLOOKUP('BASE DE RESPUESTAS'!I46,Back!$M$16:$N$20,2,0)),\"\")","v":""},{"$f":"+IFERROR((VLOOKUP('BASE DE RESPUESTAS'!J46,Back!$M$16:$N$20,2,0)),\"\")","v":""},{"$f":"+IFERROR((VLOOKUP('BASE DE RESPUESTAS'!K46,Back!$M$16:$N$20,2,0)),\"\")","v":""},{"$f":"+IFERROR((VLOOKUP('BASE DE RESPUESTAS'!L46,Back!$M$16:$N$20,2,0)),\"\")","v":""},{"$f":"+IFERROR((VLOOKUP('BASE DE RESPUESTAS'!M46,Back!$M$16:$N$20,2,0)),\"\")","v":""},{"$f":"+IFERROR((VLOOKUP('BASE DE RESPUESTAS'!N46,Back!$M$16:$N$20,2,0)),\"\")","v":""},{"$f":"+IFERROR((VLOOKUP('BASE DE RESPUESTAS'!O46,Back!$M$16:$N$20,2,0)),\"\")","v":""},{"$f":"+IFERROR((VLOOKUP('BASE DE RESPUESTAS'!P46,Back!$M$16:$N$20,2,0)),\"\")","v":""},{"$f":"+IFERROR((VLOOKUP('BASE DE RESPUESTAS'!Q46,Back!$M$16:$N$20,2,0)),\"\")","v":""},{"$f":"+IFERROR((VLOOKUP('BASE DE RESPUESTAS'!R46,Back!$M$16:$N$20,2,0)),\"\")","v":""},{"$f":"+IFERROR((VLOOKUP('BASE DE RESPUESTAS'!S46,Back!$M$16:$N$20,2,0)),\"\")","v":""},{"$f":"+IFERROR((VLOOKUP('BASE DE RESPUESTAS'!T46,Back!$M$16:$N$20,2,0)),\"\")","v":""},{"$f":"+IFERROR((VLOOKUP('BASE DE RESPUESTAS'!U46,Back!$M$16:$N$20,2,0)),\"\")","v":""},{"$f":"+IFERROR((VLOOKUP('BASE DE RESPUESTAS'!V46,Back!$M$16:$N$20,2,0)),\"\")","v":""},{"$f":"+IFERROR((VLOOKUP('BASE DE RESPUESTAS'!W46,Back!$M$16:$N$20,2,0)),\"\")","v":""},{"$f":"+IFERROR((VLOOKUP('BASE DE RESPUESTAS'!X46,Back!$M$16:$N$20,2,0)),\"\")","v":""},{"$f":"+IFERROR((VLOOKUP('BASE DE RESPUESTAS'!Y46,Back!$M$16:$N$20,2,0)),\"\")","v":""},{"$f":"+IFERROR((VLOOKUP('BASE DE RESPUESTAS'!Z46,Back!$M$16:$N$20,2,0)),\"\")","v":""},{"$f":"+IFERROR((VLOOKUP('BASE DE RESPUESTAS'!AA46,Back!$M$16:$N$20,2,0)),\"\")","v":""},{"$f":"+IFERROR((VLOOKUP('BASE DE RESPUESTAS'!AB46,Back!$M$16:$N$20,2,0)),\"\")","v":""},{"$f":"+IFERROR((VLOOKUP('BASE DE RESPUESTAS'!AC46,Back!$M$16:$N$20,2,0)),\"\")","v":""},{"$f":"+IFERROR((VLOOKUP('BASE DE RESPUESTAS'!AD46,Back!$M$16:$N$20,2,0)),\"\")","v":""},{"$f":"+IFERROR((VLOOKUP('BASE DE RESPUESTAS'!AE46,Back!$M$16:$N$20,2,0)),\"\")","v":""},{"$f":"+IFERROR((VLOOKUP('BASE DE RESPUESTAS'!AF46,Back!$M$16:$N$20,2,0)),\"\")","v":""},{"$f":"+IFERROR((VLOOKUP('BASE DE RESPUESTAS'!AG46,Back!$M$16:$N$20,2,0)),\"\")","v":""},{"$f":"+IFERROR((VLOOKUP('BASE DE RESPUESTAS'!AH46,Back!$M$16:$N$20,2,0)),\"\")","v":""},{"$f":"+IFERROR((VLOOKUP('BASE DE RESPUESTAS'!AI46,Back!$M$16:$N$20,2,0)),\"\")","v":""},{"$f":"+IFERROR((VLOOKUP('BASE DE RESPUESTAS'!AJ46,Back!$M$16:$N$20,2,0)),\"\")","v":""},{"$f":"+IFERROR((VLOOKUP('BASE DE RESPUESTAS'!AK46,Back!$M$16:$N$20,2,0)),\"\")","v":""},{"$f":"+IFERROR((VLOOKUP('BASE DE RESPUESTAS'!AL46,Back!$M$16:$N$20,2,0)),\"\")","v":""},{"$f":"+IFERROR((VLOOKUP('BASE DE RESPUESTAS'!AM46,Back!$M$16:$N$20,2,0)),\"\")","v":""},{"$f":"+IFERROR((VLOOKUP('BASE DE RESPUESTAS'!AN46,Back!$M$16:$N$20,2,0)),\"\")","v":""},{"$f":"+IFERROR((VLOOKUP('BASE DE RESPUESTAS'!AO46,Back!$M$16:$N$20,2,0)),\"\")","v":""},{"$f":"+IFERROR((VLOOKUP('BASE DE RESPUESTAS'!AP46,Back!$M$16:$N$20,2,0)),\"\")","v":""},{"$f":"+IFERROR((VLOOKUP('BASE DE RESPUESTAS'!AQ46,Back!$M$16:$N$20,2,0)),\"\")","v":""},{"$f":"+IFERROR((VLOOKUP('BASE DE RESPUESTAS'!AR46,Back!$M$16:$N$20,2,0)),\"\")","v":""},{"$f":"+IFERROR((VLOOKUP('BASE DE RESPUESTAS'!AS46,Back!$M$16:$N$20,2,0)),\"\")","v":""},{"$f":"+IFERROR((VLOOKUP('BASE DE RESPUESTAS'!AT46,Back!$M$16:$N$20,2,0)),\"\")","v":""},{"$f":"+IFERROR((VLOOKUP('BASE DE RESPUESTAS'!AU46,Back!$M$16:$N$20,2,0)),\"\")","v":""},{"$f":"+IFERROR((VLOOKUP('BASE DE RESPUESTAS'!AV46,Back!$M$16:$N$20,2,0)),\"\")","v":""},{"$f":"+IFERROR((VLOOKUP('BASE DE RESPUESTAS'!AW46,Back!$M$16:$N$20,2,0)),\"\")","v":""},{"$f":"+IFERROR((VLOOKUP('BASE DE RESPUESTAS'!AX46,Back!$M$16:$N$20,2,0)),\"\")","v":""},{"$f":"+IFERROR((VLOOKUP('BASE DE RESPUESTAS'!AY46,Back!$M$16:$N$20,2,0)),\"\")","v":""},{"$f":"+IFERROR((VLOOKUP('BASE DE RESPUESTAS'!AZ46,Back!$M$16:$N$20,2,0)),\"\")","v":""},{"$f":"+IFERROR((VLOOKUP('BASE DE RESPUESTAS'!BA46,Back!$M$16:$N$20,2,0)),\"\")","v":""},{"$f":"+IFERROR((VLOOKUP('BASE DE RESPUESTAS'!BB46,Back!$M$16:$N$20,2,0)),\"\")","v":""},{"$f":"+IFERROR((VLOOKUP('BASE DE RESPUESTAS'!BC46,Back!$M$16:$N$20,2,0)),\"\")","v":""},{"$f":"+IFERROR((VLOOKUP('BASE DE RESPUESTAS'!BD46,Back!$M$16:$N$20,2,0)),\"\")","v":""},{"$f":"+IFERROR((VLOOKUP('BASE DE RESPUESTAS'!BE46,Back!$M$16:$N$20,2,0)),\"\")","v":""}]
[null,"FR","Ausentismo y deserción Escolar","El o la estudiante falta al menos una vez a la semana a la escuela, sin justificación.",null,"",null,{"$f":"+IFERROR((VLOOKUP('BASE DE RESPUESTAS'!H47,Back!$M$16:$N$20,2,0)),\"\")","v":""},{"$f":"+IFERROR((VLOOKUP('BASE DE RESPUESTAS'!I47,Back!$M$16:$N$20,2,0)),\"\")","v":""},{"$f":"+IFERROR((VLOOKUP('BASE DE RESPUESTAS'!J47,Back!$M$16:$N$20,2,0)),\"\")","v":""},{"$f":"+IFERROR((VLOOKUP('BASE DE RESPUESTAS'!K47,Back!$M$16:$N$20,2,0)),\"\")","v":""},{"$f":"+IFERROR((VLOOKUP('BASE DE RESPUESTAS'!L47,Back!$M$16:$N$20,2,0)),\"\")","v":""},{"$f":"+IFERROR((VLOOKUP('BASE DE RESPUESTAS'!M47,Back!$M$16:$N$20,2,0)),\"\")","v":""},{"$f":"+IFERROR((VLOOKUP('BASE DE RESPUESTAS'!N47,Back!$M$16:$N$20,2,0)),\"\")","v":""},{"$f":"+IFERROR((VLOOKUP('BASE DE RESPUESTAS'!O47,Back!$M$16:$N$20,2,0)),\"\")","v":""},{"$f":"+IFERROR((VLOOKUP('BASE DE RESPUESTAS'!P47,Back!$M$16:$N$20,2,0)),\"\")","v":""},{"$f":"+IFERROR((VLOOKUP('BASE DE RESPUESTAS'!Q47,Back!$M$16:$N$20,2,0)),\"\")","v":""},{"$f":"+IFERROR((VLOOKUP('BASE DE RESPUESTAS'!R47,Back!$M$16:$N$20,2,0)),\"\")","v":""},{"$f":"+IFERROR((VLOOKUP('BASE DE RESPUESTAS'!S47,Back!$M$16:$N$20,2,0)),\"\")","v":""},{"$f":"+IFERROR((VLOOKUP('BASE DE RESPUESTAS'!T47,Back!$M$16:$N$20,2,0)),\"\")","v":""},{"$f":"+IFERROR((VLOOKUP('BASE DE RESPUESTAS'!U47,Back!$M$16:$N$20,2,0)),\"\")","v":""},{"$f":"+IFERROR((VLOOKUP('BASE DE RESPUESTAS'!V47,Back!$M$16:$N$20,2,0)),\"\")","v":""},{"$f":"+IFERROR((VLOOKUP('BASE DE RESPUESTAS'!W47,Back!$M$16:$N$20,2,0)),\"\")","v":""},{"$f":"+IFERROR((VLOOKUP('BASE DE RESPUESTAS'!X47,Back!$M$16:$N$20,2,0)),\"\")","v":""},{"$f":"+IFERROR((VLOOKUP('BASE DE RESPUESTAS'!Y47,Back!$M$16:$N$20,2,0)),\"\")","v":""},{"$f":"+IFERROR((VLOOKUP('BASE DE RESPUESTAS'!Z47,Back!$M$16:$N$20,2,0)),\"\")","v":""},{"$f":"+IFERROR((VLOOKUP('BASE DE RESPUESTAS'!AA47,Back!$M$16:$N$20,2,0)),\"\")","v":""},{"$f":"+IFERROR((VLOOKUP('BASE DE RESPUESTAS'!AB47,Back!$M$16:$N$20,2,0)),\"\")","v":""},{"$f":"+IFERROR((VLOOKUP('BASE DE RESPUESTAS'!AC47,Back!$M$16:$N$20,2,0)),\"\")","v":""},{"$f":"+IFERROR((VLOOKUP('BASE DE RESPUESTAS'!AD47,Back!$M$16:$N$20,2,0)),\"\")","v":""},{"$f":"+IFERROR((VLOOKUP('BASE DE RESPUESTAS'!AE47,Back!$M$16:$N$20,2,0)),\"\")","v":""},{"$f":"+IFERROR((VLOOKUP('BASE DE RESPUESTAS'!AF47,Back!$M$16:$N$20,2,0)),\"\")","v":""},{"$f":"+IFERROR((VLOOKUP('BASE DE RESPUESTAS'!AG47,Back!$M$16:$N$20,2,0)),\"\")","v":""},{"$f":"+IFERROR((VLOOKUP('BASE DE RESPUESTAS'!AH47,Back!$M$16:$N$20,2,0)),\"\")","v":""},{"$f":"+IFERROR((VLOOKUP('BASE DE RESPUESTAS'!AI47,Back!$M$16:$N$20,2,0)),\"\")","v":""},{"$f":"+IFERROR((VLOOKUP('BASE DE RESPUESTAS'!AJ47,Back!$M$16:$N$20,2,0)),\"\")","v":""},{"$f":"+IFERROR((VLOOKUP('BASE DE RESPUESTAS'!AK47,Back!$M$16:$N$20,2,0)),\"\")","v":""},{"$f":"+IFERROR((VLOOKUP('BASE DE RESPUESTAS'!AL47,Back!$M$16:$N$20,2,0)),\"\")","v":""},{"$f":"+IFERROR((VLOOKUP('BASE DE RESPUESTAS'!AM47,Back!$M$16:$N$20,2,0)),\"\")","v":""},{"$f":"+IFERROR((VLOOKUP('BASE DE RESPUESTAS'!AN47,Back!$M$16:$N$20,2,0)),\"\")","v":""},{"$f":"+IFERROR((VLOOKUP('BASE DE RESPUESTAS'!AO47,Back!$M$16:$N$20,2,0)),\"\")","v":""},{"$f":"+IFERROR((VLOOKUP('BASE DE RESPUESTAS'!AP47,Back!$M$16:$N$20,2,0)),\"\")","v":""},{"$f":"+IFERROR((VLOOKUP('BASE DE RESPUESTAS'!AQ47,Back!$M$16:$N$20,2,0)),\"\")","v":""},{"$f":"+IFERROR((VLOOKUP('BASE DE RESPUESTAS'!AR47,Back!$M$16:$N$20,2,0)),\"\")","v":""},{"$f":"+IFERROR((VLOOKUP('BASE DE RESPUESTAS'!AS47,Back!$M$16:$N$20,2,0)),\"\")","v":""},{"$f":"+IFERROR((VLOOKUP('BASE DE RESPUESTAS'!AT47,Back!$M$16:$N$20,2,0)),\"\")","v":""},{"$f":"+IFERROR((VLOOKUP('BASE DE RESPUESTAS'!AU47,Back!$M$16:$N$20,2,0)),\"\")","v":""},{"$f":"+IFERROR((VLOOKUP('BASE DE RESPUESTAS'!AV47,Back!$M$16:$N$20,2,0)),\"\")","v":""},{"$f":"+IFERROR((VLOOKUP('BASE DE RESPUESTAS'!AW47,Back!$M$16:$N$20,2,0)),\"\")","v":""},{"$f":"+IFERROR((VLOOKUP('BASE DE RESPUESTAS'!AX47,Back!$M$16:$N$20,2,0)),\"\")","v":""},{"$f":"+IFERROR((VLOOKUP('BASE DE RESPUESTAS'!AY47,Back!$M$16:$N$20,2,0)),\"\")","v":""},{"$f":"+IFERROR((VLOOKUP('BASE DE RESPUESTAS'!AZ47,Back!$M$16:$N$20,2,0)),\"\")","v":""},{"$f":"+IFERROR((VLOOKUP('BASE DE RESPUESTAS'!BA47,Back!$M$16:$N$20,2,0)),\"\")","v":""},{"$f":"+IFERROR((VLOOKUP('BASE DE RESPUESTAS'!BB47,Back!$M$16:$N$20,2,0)),\"\")","v":""},{"$f":"+IFERROR((VLOOKUP('BASE DE RESPUESTAS'!BC47,Back!$M$16:$N$20,2,0)),\"\")","v":""},{"$f":"+IFERROR((VLOOKUP('BASE DE RESPUESTAS'!BD47,Back!$M$16:$N$20,2,0)),\"\")","v":""},{"$f":"+IFERROR((VLOOKUP('BASE DE RESPUESTAS'!BE47,Back!$M$16:$N$20,2,0)),\"\")","v":""}]
[null,null,null,"El o la estudiante no se encuentra motivado para seguir estudiando.",null,"",null,{"$f":"+IFERROR((VLOOKUP('BASE DE RESPUESTAS'!H48,Back!$M$16:$N$20,2,0)),\"\")","v":""},{"$f":"+IFERROR((VLOOKUP('BASE DE RESPUESTAS'!I48,Back!$M$16:$N$20,2,0)),\"\")","v":""},{"$f":"+IFERROR((VLOOKUP('BASE DE RESPUESTAS'!J48,Back!$M$16:$N$20,2,0)),\"\")","v":""},{"$f":"+IFERROR((VLOOKUP('BASE DE RESPUESTAS'!K48,Back!$M$16:$N$20,2,0)),\"\")","v":""},{"$f":"+IFERROR((VLOOKUP('BASE DE RESPUESTAS'!L48,Back!$M$16:$N$20,2,0)),\"\")","v":""},{"$f":"+IFERROR((VLOOKUP('BASE DE RESPUESTAS'!M48,Back!$M$16:$N$20,2,0)),\"\")","v":""},{"$f":"+IFERROR((VLOOKUP('BASE DE RESPUESTAS'!N48,Back!$M$16:$N$20,2,0)),\"\")","v":""},{"$f":"+IFERROR((VLOOKUP('BASE DE RESPUESTAS'!O48,Back!$M$16:$N$20,2,0)),\"\")","v":""},{"$f":"+IFERROR((VLOOKUP('BASE DE RESPUESTAS'!P48,Back!$M$16:$N$20,2,0)),\"\")","v":""},{"$f":"+IFERROR((VLOOKUP('BASE DE RESPUESTAS'!Q48,Back!$M$16:$N$20,2,0)),\"\")","v":""},{"$f":"+IFERROR((VLOOKUP('BASE DE RESPUESTAS'!R48,Back!$M$16:$N$20,2,0)),\"\")","v":""},{"$f":"+IFERROR((VLOOKUP('BASE DE RESPUESTAS'!S48,Back!$M$16:$N$20,2,0)),\"\")","v":""},{"$f":"+IFERROR((VLOOKUP('BASE DE RESPUESTAS'!T48,Back!$M$16:$N$20,2,0)),\"\")","v":""},{"$f":"+IFERROR((VLOOKUP('BASE DE RESPUESTAS'!U48,Back!$M$16:$N$20,2,0)),\"\")","v":""},{"$f":"+IFERROR((VLOOKUP('BASE DE RESPUESTAS'!V48,Back!$M$16:$N$20,2,0)),\"\")","v":""},{"$f":"+IFERROR((VLOOKUP('BASE DE RESPUESTAS'!W48,Back!$M$16:$N$20,2,0)),\"\")","v":""},{"$f":"+IFERROR((VLOOKUP('BASE DE RESPUESTAS'!X48,Back!$M$16:$N$20,2,0)),\"\")","v":""},{"$f":"+IFERROR((VLOOKUP('BASE DE RESPUESTAS'!Y48,Back!$M$16:$N$20,2,0)),\"\")","v":""},{"$f":"+IFERROR((VLOOKUP('BASE DE RESPUESTAS'!Z48,Back!$M$16:$N$20,2,0)),\"\")","v":""},{"$f":"+IFERROR((VLOOKUP('BASE DE RESPUESTAS'!AA48,Back!$M$16:$N$20,2,0)),\"\")","v":""},{"$f":"+IFERROR((VLOOKUP('BASE DE RESPUESTAS'!AB48,Back!$M$16:$N$20,2,0)),\"\")","v":""},{"$f":"+IFERROR((VLOOKUP('BASE DE RESPUESTAS'!AC48,Back!$M$16:$N$20,2,0)),\"\")","v":""},{"$f":"+IFERROR((VLOOKUP('BASE DE RESPUESTAS'!AD48,Back!$M$16:$N$20,2,0)),\"\")","v":""},{"$f":"+IFERROR((VLOOKUP('BASE DE RESPUESTAS'!AE48,Back!$M$16:$N$20,2,0)),\"\")","v":""},{"$f":"+IFERROR((VLOOKUP('BASE DE RESPUESTAS'!AF48,Back!$M$16:$N$20,2,0)),\"\")","v":""},{"$f":"+IFERROR((VLOOKUP('BASE DE RESPUESTAS'!AG48,Back!$M$16:$N$20,2,0)),\"\")","v":""},{"$f":"+IFERROR((VLOOKUP('BASE DE RESPUESTAS'!AH48,Back!$M$16:$N$20,2,0)),\"\")","v":""},{"$f":"+IFERROR((VLOOKUP('BASE DE RESPUESTAS'!AI48,Back!$M$16:$N$20,2,0)),\"\")","v":""},{"$f":"+IFERROR((VLOOKUP('BASE DE RESPUESTAS'!AJ48,Back!$M$16:$N$20,2,0)),\"\")","v":""},{"$f":"+IFERROR((VLOOKUP('BASE DE RESPUESTAS'!AK48,Back!$M$16:$N$20,2,0)),\"\")","v":""},{"$f":"+IFERROR((VLOOKUP('BASE DE RESPUESTAS'!AL48,Back!$M$16:$N$20,2,0)),\"\")","v":""},{"$f":"+IFERROR((VLOOKUP('BASE DE RESPUESTAS'!AM48,Back!$M$16:$N$20,2,0)),\"\")","v":""},{"$f":"+IFERROR((VLOOKUP('BASE DE RESPUESTAS'!AN48,Back!$M$16:$N$20,2,0)),\"\")","v":""},{"$f":"+IFERROR((VLOOKUP('BASE DE RESPUESTAS'!AO48,Back!$M$16:$N$20,2,0)),\"\")","v":""},{"$f":"+IFERROR((VLOOKUP('BASE DE RESPUESTAS'!AP48,Back!$M$16:$N$20,2,0)),\"\")","v":""},{"$f":"+IFERROR((VLOOKUP('BASE DE RESPUESTAS'!AQ48,Back!$M$16:$N$20,2,0)),\"\")","v":""},{"$f":"+IFERROR((VLOOKUP('BASE DE RESPUESTAS'!AR48,Back!$M$16:$N$20,2,0)),\"\")","v":""},{"$f":"+IFERROR((VLOOKUP('BASE DE RESPUESTAS'!AS48,Back!$M$16:$N$20,2,0)),\"\")","v":""},{"$f":"+IFERROR((VLOOKUP('BASE DE RESPUESTAS'!AT48,Back!$M$16:$N$20,2,0)),\"\")","v":""},{"$f":"+IFERROR((VLOOKUP('BASE DE RESPUESTAS'!AU48,Back!$M$16:$N$20,2,0)),\"\")","v":""},{"$f":"+IFERROR((VLOOKUP('BASE DE RESPUESTAS'!AV48,Back!$M$16:$N$20,2,0)),\"\")","v":""},{"$f":"+IFERROR((VLOOKUP('BASE DE RESPUESTAS'!AW48,Back!$M$16:$N$20,2,0)),\"\")","v":""},{"$f":"+IFERROR((VLOOKUP('BASE DE RESPUESTAS'!AX48,Back!$M$16:$N$20,2,0)),\"\")","v":""},{"$f":"+IFERROR((VLOOKUP('BASE DE RESPUESTAS'!AY48,Back!$M$16:$N$20,2,0)),\"\")","v":""},{"$f":"+IFERROR((VLOOKUP('BASE DE RESPUESTAS'!AZ48,Back!$M$16:$N$20,2,0)),\"\")","v":""},{"$f":"+IFERROR((VLOOKUP('BASE DE RESPUESTAS'!BA48,Back!$M$16:$N$20,2,0)),\"\")","v":""},{"$f":"+IFERROR((VLOOKUP('BASE DE RESPUESTAS'!BB48,Back!$M$16:$N$20,2,0)),\"\")","v":""},{"$f":"+IFERROR((VLOOKUP('BASE DE RESPUESTAS'!BC48,Back!$M$16:$N$20,2,0)),\"\")","v":""},{"$f":"+IFERROR((VLOOKUP('BASE DE RESPUESTAS'!BD48,Back!$M$16:$N$20,2,0)),\"\")","v":""},{"$f":"+IFERROR((VLOOKUP('BASE DE RESPUESTAS'!BE48,Back!$M$16:$N$20,2,0)),\"\")","v":""}]
[null,"FR","Desinformación sobre educación sexual reproductiva","El o la estudiante conoce sobre educación sexual.",null,"",null,{"$f":"+IFERROR((VLOOKUP('BASE DE RESPUESTAS'!H49,Back!$M$16:$N$20,2,0)),\"\")","v":""},{"$f":"+IFERROR((VLOOKUP('BASE DE RESPUESTAS'!I49,Back!$M$16:$N$20,2,0)),\"\")","v":""},{"$f":"+IFERROR((VLOOKUP('BASE DE RESPUESTAS'!J49,Back!$M$16:$N$20,2,0)),\"\")","v":""},{"$f":"+IFERROR((VLOOKUP('BASE DE RESPUESTAS'!K49,Back!$M$16:$N$20,2,0)),\"\")","v":""},{"$f":"+IFERROR((VLOOKUP('BASE DE RESPUESTAS'!L49,Back!$M$16:$N$20,2,0)),\"\")","v":""},{"$f":"+IFERROR((VLOOKUP('BASE DE RESPUESTAS'!M49,Back!$M$16:$N$20,2,0)),\"\")","v":""},{"$f":"+IFERROR((VLOOKUP('BASE DE RESPUESTAS'!N49,Back!$M$16:$N$20,2,0)),\"\")","v":""},{"$f":"+IFERROR((VLOOKUP('BASE DE RESPUESTAS'!O49,Back!$M$16:$N$20,2,0)),\"\")","v":""},{"$f":"+IFERROR((VLOOKUP('BASE DE RESPUESTAS'!P49,Back!$M$16:$N$20,2,0)),\"\")","v":""},{"$f":"+IFERROR((VLOOKUP('BASE DE RESPUESTAS'!Q49,Back!$M$16:$N$20,2,0)),\"\")","v":""},{"$f":"+IFERROR((VLOOKUP('BASE DE RESPUESTAS'!R49,Back!$M$16:$N$20,2,0)),\"\")","v":""},{"$f":"+IFERROR((VLOOKUP('BASE DE RESPUESTAS'!S49,Back!$M$16:$N$20,2,0)),\"\")","v":""},{"$f":"+IFERROR((VLOOKUP('BASE DE RESPUESTAS'!T49,Back!$M$16:$N$20,2,0)),\"\")","v":""},{"$f":"+IFERROR((VLOOKUP('BASE DE RESPUESTAS'!U49,Back!$M$16:$N$20,2,0)),\"\")","v":""},{"$f":"+IFERROR((VLOOKUP('BASE DE RESPUESTAS'!V49,Back!$M$16:$N$20,2,0)),\"\")","v":""},{"$f":"+IFERROR((VLOOKUP('BASE DE RESPUESTAS'!W49,Back!$M$16:$N$20,2,0)),\"\")","v":""},{"$f":"+IFERROR((VLOOKUP('BASE DE RESPUESTAS'!X49,Back!$M$16:$N$20,2,0)),\"\")","v":""},{"$f":"+IFERROR((VLOOKUP('BASE DE RESPUESTAS'!Y49,Back!$M$16:$N$20,2,0)),\"\")","v":""},{"$f":"+IFERROR((VLOOKUP('BASE DE RESPUESTAS'!Z49,Back!$M$16:$N$20,2,0)),\"\")","v":""},{"$f":"+IFERROR((VLOOKUP('BASE DE RESPUESTAS'!AA49,Back!$M$16:$N$20,2,0)),\"\")","v":""},{"$f":"+IFERROR((VLOOKUP('BASE DE RESPUESTAS'!AB49,Back!$M$16:$N$20,2,0)),\"\")","v":""},{"$f":"+IFERROR((VLOOKUP('BASE DE RESPUESTAS'!AC49,Back!$M$16:$N$20,2,0)),\"\")","v":""},{"$f":"+IFERROR((VLOOKUP('BASE DE RESPUESTAS'!AD49,Back!$M$16:$N$20,2,0)),\"\")","v":""},{"$f":"+IFERROR((VLOOKUP('BASE DE RESPUESTAS'!AE49,Back!$M$16:$N$20,2,0)),\"\")","v":""},{"$f":"+IFERROR((VLOOKUP('BASE DE RESPUESTAS'!AF49,Back!$M$16:$N$20,2,0)),\"\")","v":""},{"$f":"+IFERROR((VLOOKUP('BASE DE RESPUESTAS'!AG49,Back!$M$16:$N$20,2,0)),\"\")","v":""},{"$f":"+IFERROR((VLOOKUP('BASE DE RESPUESTAS'!AH49,Back!$M$16:$N$20,2,0)),\"\")","v":""},{"$f":"+IFERROR((VLOOKUP('BASE DE RESPUESTAS'!AI49,Back!$M$16:$N$20,2,0)),\"\")","v":""},{"$f":"+IFERROR((VLOOKUP('BASE DE RESPUESTAS'!AJ49,Back!$M$16:$N$20,2,0)),\"\")","v":""},{"$f":"+IFERROR((VLOOKUP('BASE DE RESPUESTAS'!AK49,Back!$M$16:$N$20,2,0)),\"\")","v":""},{"$f":"+IFERROR((VLOOKUP('BASE DE RESPUESTAS'!AL49,Back!$M$16:$N$20,2,0)),\"\")","v":""},{"$f":"+IFERROR((VLOOKUP('BASE DE RESPUESTAS'!AM49,Back!$M$16:$N$20,2,0)),\"\")","v":""},{"$f":"+IFERROR((VLOOKUP('BASE DE RESPUESTAS'!AN49,Back!$M$16:$N$20,2,0)),\"\")","v":""},{"$f":"+IFERROR((VLOOKUP('BASE DE RESPUESTAS'!AO49,Back!$M$16:$N$20,2,0)),\"\")","v":""},{"$f":"+IFERROR((VLOOKUP('BASE DE RESPUESTAS'!AP49,Back!$M$16:$N$20,2,0)),\"\")","v":""},{"$f":"+IFERROR((VLOOKUP('BASE DE RESPUESTAS'!AQ49,Back!$M$16:$N$20,2,0)),\"\")","v":""},{"$f":"+IFERROR((VLOOKUP('BASE DE RESPUESTAS'!AR49,Back!$M$16:$N$20,2,0)),\"\")","v":""},{"$f":"+IFERROR((VLOOKUP('BASE DE RESPUESTAS'!AS49,Back!$M$16:$N$20,2,0)),\"\")","v":""},{"$f":"+IFERROR((VLOOKUP('BASE DE RESPUESTAS'!AT49,Back!$M$16:$N$20,2,0)),\"\")","v":""},{"$f":"+IFERROR((VLOOKUP('BASE DE RESPUESTAS'!AU49,Back!$M$16:$N$20,2,0)),\"\")","v":""},{"$f":"+IFERROR((VLOOKUP('BASE DE RESPUESTAS'!AV49,Back!$M$16:$N$20,2,0)),\"\")","v":""},{"$f":"+IFERROR((VLOOKUP('BASE DE RESPUESTAS'!AW49,Back!$M$16:$N$20,2,0)),\"\")","v":""},{"$f":"+IFERROR((VLOOKUP('BASE DE RESPUESTAS'!AX49,Back!$M$16:$N$20,2,0)),\"\")","v":""},{"$f":"+IFERROR((VLOOKUP('BASE DE RESPUESTAS'!AY49,Back!$M$16:$N$20,2,0)),\"\")","v":""},{"$f":"+IFERROR((VLOOKUP('BASE DE RESPUESTAS'!AZ49,Back!$M$16:$N$20,2,0)),\"\")","v":""},{"$f":"+IFERROR((VLOOKUP('BASE DE RESPUESTAS'!BA49,Back!$M$16:$N$20,2,0)),\"\")","v":""},{"$f":"+IFERROR((VLOOKUP('BASE DE RESPUESTAS'!BB49,Back!$M$16:$N$20,2,0)),\"\")","v":""},{"$f":"+IFERROR((VLOOKUP('BASE DE RESPUESTAS'!BC49,Back!$M$16:$N$20,2,0)),\"\")","v":""},{"$f":"+IFERROR((VLOOKUP('BASE DE RESPUESTAS'!BD49,Back!$M$16:$N$20,2,0)),\"\")","v":""},{"$f":"+IFERROR((VLOOKUP('BASE DE RESPUESTAS'!BE49,Back!$M$16:$N$20,2,0)),\"\")","v":""}]
[null,null,null,"El o la estudiante reconoce los cambios que está experimentando en su cuerpo.",null,"",null,{"$f":"+IFERROR((VLOOKUP('BASE DE RESPUESTAS'!H50,Back!$M$16:$N$20,2,0)),\"\")","v":""},{"$f":"+IFERROR((VLOOKUP('BASE DE RESPUESTAS'!I50,Back!$M$16:$N$20,2,0)),\"\")","v":""},{"$f":"+IFERROR((VLOOKUP('BASE DE RESPUESTAS'!J50,Back!$M$16:$N$20,2,0)),\"\")","v":""},{"$f":"+IFERROR((VLOOKUP('BASE DE RESPUESTAS'!K50,Back!$M$16:$N$20,2,0)),\"\")","v":""},{"$f":"+IFERROR((VLOOKUP('BASE DE RESPUESTAS'!L50,Back!$M$16:$N$20,2,0)),\"\")","v":""},{"$f":"+IFERROR((VLOOKUP('BASE DE RESPUESTAS'!M50,Back!$M$16:$N$20,2,0)),\"\")","v":""},{"$f":"+IFERROR((VLOOKUP('BASE DE RESPUESTAS'!N50,Back!$M$16:$N$20,2,0)),\"\")","v":""},{"$f":"+IFERROR((VLOOKUP('BASE DE RESPUESTAS'!O50,Back!$M$16:$N$20,2,0)),\"\")","v":""},{"$f":"+IFERROR((VLOOKUP('BASE DE RESPUESTAS'!P50,Back!$M$16:$N$20,2,0)),\"\")","v":""},{"$f":"+IFERROR((VLOOKUP('BASE DE RESPUESTAS'!Q50,Back!$M$16:$N$20,2,0)),\"\")","v":""},{"$f":"+IFERROR((VLOOKUP('BASE DE RESPUESTAS'!R50,Back!$M$16:$N$20,2,0)),\"\")","v":""},{"$f":"+IFERROR((VLOOKUP('BASE DE RESPUESTAS'!S50,Back!$M$16:$N$20,2,0)),\"\")","v":""},{"$f":"+IFERROR((VLOOKUP('BASE DE RESPUESTAS'!T50,Back!$M$16:$N$20,2,0)),\"\")","v":""},{"$f":"+IFERROR((VLOOKUP('BASE DE RESPUESTAS'!U50,Back!$M$16:$N$20,2,0)),\"\")","v":""},{"$f":"+IFERROR((VLOOKUP('BASE DE RESPUESTAS'!V50,Back!$M$16:$N$20,2,0)),\"\")","v":""},{"$f":"+IFERROR((VLOOKUP('BASE DE RESPUESTAS'!W50,Back!$M$16:$N$20,2,0)),\"\")","v":""},{"$f":"+IFERROR((VLOOKUP('BASE DE RESPUESTAS'!X50,Back!$M$16:$N$20,2,0)),\"\")","v":""},{"$f":"+IFERROR((VLOOKUP('BASE DE RESPUESTAS'!Y50,Back!$M$16:$N$20,2,0)),\"\")","v":""},{"$f":"+IFERROR((VLOOKUP('BASE DE RESPUESTAS'!Z50,Back!$M$16:$N$20,2,0)),\"\")","v":""},{"$f":"+IFERROR((VLOOKUP('BASE DE RESPUESTAS'!AA50,Back!$M$16:$N$20,2,0)),\"\")","v":""},{"$f":"+IFERROR((VLOOKUP('BASE DE RESPUESTAS'!AB50,Back!$M$16:$N$20,2,0)),\"\")","v":""},{"$f":"+IFERROR((VLOOKUP('BASE DE RESPUESTAS'!AC50,Back!$M$16:$N$20,2,0)),\"\")","v":""},{"$f":"+IFERROR((VLOOKUP('BASE DE RESPUESTAS'!AD50,Back!$M$16:$N$20,2,0)),\"\")","v":""},{"$f":"+IFERROR((VLOOKUP('BASE DE RESPUESTAS'!AE50,Back!$M$16:$N$20,2,0)),\"\")","v":""},{"$f":"+IFERROR((VLOOKUP('BASE DE RESPUESTAS'!AF50,Back!$M$16:$N$20,2,0)),\"\")","v":""},{"$f":"+IFERROR((VLOOKUP('BASE DE RESPUESTAS'!AG50,Back!$M$16:$N$20,2,0)),\"\")","v":""},{"$f":"+IFERROR((VLOOKUP('BASE DE RESPUESTAS'!AH50,Back!$M$16:$N$20,2,0)),\"\")","v":""},{"$f":"+IFERROR((VLOOKUP('BASE DE RESPUESTAS'!AI50,Back!$M$16:$N$20,2,0)),\"\")","v":""},{"$f":"+IFERROR((VLOOKUP('BASE DE RESPUESTAS'!AJ50,Back!$M$16:$N$20,2,0)),\"\")","v":""},{"$f":"+IFERROR((VLOOKUP('BASE DE RESPUESTAS'!AK50,Back!$M$16:$N$20,2,0)),\"\")","v":""},{"$f":"+IFERROR((VLOOKUP('BASE DE RESPUESTAS'!AL50,Back!$M$16:$N$20,2,0)),\"\")","v":""},{"$f":"+IFERROR((VLOOKUP('BASE DE RESPUESTAS'!AM50,Back!$M$16:$N$20,2,0)),\"\")","v":""},{"$f":"+IFERROR((VLOOKUP('BASE DE RESPUESTAS'!AN50,Back!$M$16:$N$20,2,0)),\"\")","v":""},{"$f":"+IFERROR((VLOOKUP('BASE DE RESPUESTAS'!AO50,Back!$M$16:$N$20,2,0)),\"\")","v":""},{"$f":"+IFERROR((VLOOKUP('BASE DE RESPUESTAS'!AP50,Back!$M$16:$N$20,2,0)),\"\")","v":""},{"$f":"+IFERROR((VLOOKUP('BASE DE RESPUESTAS'!AQ50,Back!$M$16:$N$20,2,0)),\"\")","v":""},{"$f":"+IFERROR((VLOOKUP('BASE DE RESPUESTAS'!AR50,Back!$M$16:$N$20,2,0)),\"\")","v":""},{"$f":"+IFERROR((VLOOKUP('BASE DE RESPUESTAS'!AS50,Back!$M$16:$N$20,2,0)),\"\")","v":""},{"$f":"+IFERROR((VLOOKUP('BASE DE RESPUESTAS'!AT50,Back!$M$16:$N$20,2,0)),\"\")","v":""},{"$f":"+IFERROR((VLOOKUP('BASE DE RESPUESTAS'!AU50,Back!$M$16:$N$20,2,0)),\"\")","v":""},{"$f":"+IFERROR((VLOOKUP('BASE DE RESPUESTAS'!AV50,Back!$M$16:$N$20,2,0)),\"\")","v":""},{"$f":"+IFERROR((VLOOKUP('BASE DE RESPUESTAS'!AW50,Back!$M$16:$N$20,2,0)),\"\")","v":""},{"$f":"+IFERROR((VLOOKUP('BASE DE RESPUESTAS'!AX50,Back!$M$16:$N$20,2,0)),\"\")","v":""},{"$f":"+IFERROR((VLOOKUP('BASE DE RESPUESTAS'!AY50,Back!$M$16:$N$20,2,0)),\"\")","v":""},{"$f":"+IFERROR((VLOOKUP('BASE DE RESPUESTAS'!AZ50,Back!$M$16:$N$20,2,0)),\"\")","v":""},{"$f":"+IFERROR((VLOOKUP('BASE DE RESPUESTAS'!BA50,Back!$M$16:$N$20,2,0)),\"\")","v":""},{"$f":"+IFERROR((VLOOKUP('BASE DE RESPUESTAS'!BB50,Back!$M$16:$N$20,2,0)),\"\")","v":""},{"$f":"+IFERROR((VLOOKUP('BASE DE RESPUESTAS'!BC50,Back!$M$16:$N$20,2,0)),\"\")","v":""},{"$f":"+IFERROR((VLOOKUP('BASE DE RESPUESTAS'!BD50,Back!$M$16:$N$20,2,0)),\"\")","v":""},{"$f":"+IFERROR((VLOOKUP('BASE DE RESPUESTAS'!BE50,Back!$M$16:$N$20,2,0)),\"\")","v":""}]
[null,null,null,"El o la estudiante sabe cómo prevenir riesgos en relación a su salud sexual.",null,"",null,{"$f":"+IFERROR((VLOOKUP('BASE DE RESPUESTAS'!H51,Back!$M$16:$N$20,2,0)),\"\")","v":""},{"$f":"+IFERROR((VLOOKUP('BASE DE RESPUESTAS'!I51,Back!$M$16:$N$20,2,0)),\"\")","v":""},{"$f":"+IFERROR((VLOOKUP('BASE DE RESPUESTAS'!J51,Back!$M$16:$N$20,2,0)),\"\")","v":""},{"$f":"+IFERROR((VLOOKUP('BASE DE RESPUESTAS'!K51,Back!$M$16:$N$20,2,0)),\"\")","v":""},{"$f":"+IFERROR((VLOOKUP('BASE DE RESPUESTAS'!L51,Back!$M$16:$N$20,2,0)),\"\")","v":""},{"$f":"+IFERROR((VLOOKUP('BASE DE RESPUESTAS'!M51,Back!$M$16:$N$20,2,0)),\"\")","v":""},{"$f":"+IFERROR((VLOOKUP('BASE DE RESPUESTAS'!N51,Back!$M$16:$N$20,2,0)),\"\")","v":""},{"$f":"+IFERROR((VLOOKUP('BASE DE RESPUESTAS'!O51,Back!$M$16:$N$20,2,0)),\"\")","v":""},{"$f":"+IFERROR((VLOOKUP('BASE DE RESPUESTAS'!P51,Back!$M$16:$N$20,2,0)),\"\")","v":""},{"$f":"+IFERROR((VLOOKUP('BASE DE RESPUESTAS'!Q51,Back!$M$16:$N$20,2,0)),\"\")","v":""},{"$f":"+IFERROR((VLOOKUP('BASE DE RESPUESTAS'!R51,Back!$M$16:$N$20,2,0)),\"\")","v":""},{"$f":"+IFERROR((VLOOKUP('BASE DE RESPUESTAS'!S51,Back!$M$16:$N$20,2,0)),\"\")","v":""},{"$f":"+IFERROR((VLOOKUP('BASE DE RESPUESTAS'!T51,Back!$M$16:$N$20,2,0)),\"\")","v":""},{"$f":"+IFERROR((VLOOKUP('BASE DE RESPUESTAS'!U51,Back!$M$16:$N$20,2,0)),\"\")","v":""},{"$f":"+IFERROR((VLOOKUP('BASE DE RESPUESTAS'!V51,Back!$M$16:$N$20,2,0)),\"\")","v":""},{"$f":"+IFERROR((VLOOKUP('BASE DE RESPUESTAS'!W51,Back!$M$16:$N$20,2,0)),\"\")","v":""},{"$f":"+IFERROR((VLOOKUP('BASE DE RESPUESTAS'!X51,Back!$M$16:$N$20,2,0)),\"\")","v":""},{"$f":"+IFERROR((VLOOKUP('BASE DE RESPUESTAS'!Y51,Back!$M$16:$N$20,2,0)),\"\")","v":""},{"$f":"+IFERROR((VLOOKUP('BASE DE RESPUESTAS'!Z51,Back!$M$16:$N$20,2,0)),\"\")","v":""},{"$f":"+IFERROR((VLOOKUP('BASE DE RESPUESTAS'!AA51,Back!$M$16:$N$20,2,0)),\"\")","v":""},{"$f":"+IFERROR((VLOOKUP('BASE DE RESPUESTAS'!AB51,Back!$M$16:$N$20,2,0)),\"\")","v":""},{"$f":"+IFERROR((VLOOKUP('BASE DE RESPUESTAS'!AC51,Back!$M$16:$N$20,2,0)),\"\")","v":""},{"$f":"+IFERROR((VLOOKUP('BASE DE RESPUESTAS'!AD51,Back!$M$16:$N$20,2,0)),\"\")","v":""},{"$f":"+IFERROR((VLOOKUP('BASE DE RESPUESTAS'!AE51,Back!$M$16:$N$20,2,0)),\"\")","v":""},{"$f":"+IFERROR((VLOOKUP('BASE DE RESPUESTAS'!AF51,Back!$M$16:$N$20,2,0)),\"\")","v":""},{"$f":"+IFERROR((VLOOKUP('BASE DE RESPUESTAS'!AG51,Back!$M$16:$N$20,2,0)),\"\")","v":""},{"$f":"+IFERROR((VLOOKUP('BASE DE RESPUESTAS'!AH51,Back!$M$16:$N$20,2,0)),\"\")","v":""},{"$f":"+IFERROR((VLOOKUP('BASE DE RESPUESTAS'!AI51,Back!$M$16:$N$20,2,0)),\"\")","v":""},{"$f":"+IFERROR((VLOOKUP('BASE DE RESPUESTAS'!AJ51,Back!$M$16:$N$20,2,0)),\"\")","v":""},{"$f":"+IFERROR((VLOOKUP('BASE DE RESPUESTAS'!AK51,Back!$M$16:$N$20,2,0)),\"\")","v":""},{"$f":"+IFERROR((VLOOKUP('BASE DE RESPUESTAS'!AL51,Back!$M$16:$N$20,2,0)),\"\")","v":""},{"$f":"+IFERROR((VLOOKUP('BASE DE RESPUESTAS'!AM51,Back!$M$16:$N$20,2,0)),\"\")","v":""},{"$f":"+IFERROR((VLOOKUP('BASE DE RESPUESTAS'!AN51,Back!$M$16:$N$20,2,0)),\"\")","v":""},{"$f":"+IFERROR((VLOOKUP('BASE DE RESPUESTAS'!AO51,Back!$M$16:$N$20,2,0)),\"\")","v":""},{"$f":"+IFERROR((VLOOKUP('BASE DE RESPUESTAS'!AP51,Back!$M$16:$N$20,2,0)),\"\")","v":""},{"$f":"+IFERROR((VLOOKUP('BASE DE RESPUESTAS'!AQ51,Back!$M$16:$N$20,2,0)),\"\")","v":""},{"$f":"+IFERROR((VLOOKUP('BASE DE RESPUESTAS'!AR51,Back!$M$16:$N$20,2,0)),\"\")","v":""},{"$f":"+IFERROR((VLOOKUP('BASE DE RESPUESTAS'!AS51,Back!$M$16:$N$20,2,0)),\"\")","v":""},{"$f":"+IFERROR((VLOOKUP('BASE DE RESPUESTAS'!AT51,Back!$M$16:$N$20,2,0)),\"\")","v":""},{"$f":"+IFERROR((VLOOKUP('BASE DE RESPUESTAS'!AU51,Back!$M$16:$N$20,2,0)),\"\")","v":""},{"$f":"+IFERROR((VLOOKUP('BASE DE RESPUESTAS'!AV51,Back!$M$16:$N$20,2,0)),\"\")","v":""},{"$f":"+IFERROR((VLOOKUP('BASE DE RESPUESTAS'!AW51,Back!$M$16:$N$20,2,0)),\"\")","v":""},{"$f":"+IFERROR((VLOOKUP('BASE DE RESPUESTAS'!AX51,Back!$M$16:$N$20,2,0)),\"\")","v":""},{"$f":"+IFERROR((VLOOKUP('BASE DE RESPUESTAS'!AY51,Back!$M$16:$N$20,2,0)),\"\")","v":""},{"$f":"+IFERROR((VLOOKUP('BASE DE RESPUESTAS'!AZ51,Back!$M$16:$N$20,2,0)),\"\")","v":""},{"$f":"+IFERROR((VLOOKUP('BASE DE RESPUESTAS'!BA51,Back!$M$16:$N$20,2,0)),\"\")","v":""},{"$f":"+IFERROR((VLOOKUP('BASE DE RESPUESTAS'!BB51,Back!$M$16:$N$20,2,0)),\"\")","v":""},{"$f":"+IFERROR((VLOOKUP('BASE DE RESPUESTAS'!BC51,Back!$M$16:$N$20,2,0)),\"\")","v":""},{"$f":"+IFERROR((VLOOKUP('BASE DE RESPUESTAS'!BD51,Back!$M$16:$N$20,2,0)),\"\")","v":""},{"$f":"+IFERROR((VLOOKUP('BASE DE RESPUESTAS'!BE51,Back!$M$16:$N$20,2,0)),\"\")","v":""}]
[null,"FR","Violencia familiar","Al menos uno de los padres o cuidador(a) ejerce violencia física al estudiante.",null,"",null,{"$f":"+IFERROR((VLOOKUP('BASE DE RESPUESTAS'!H52,Back!$M$16:$N$20,2,0)),\"\")","v":""},{"$f":"+IFERROR((VLOOKUP('BASE DE RESPUESTAS'!I52,Back!$M$16:$N$20,2,0)),\"\")","v":""},{"$f":"+IFERROR((VLOOKUP('BASE DE RESPUESTAS'!J52,Back!$M$16:$N$20,2,0)),\"\")","v":""},{"$f":"+IFERROR((VLOOKUP('BASE DE RESPUESTAS'!K52,Back!$M$16:$N$20,2,0)),\"\")","v":""},{"$f":"+IFERROR((VLOOKUP('BASE DE RESPUESTAS'!L52,Back!$M$16:$N$20,2,0)),\"\")","v":""},{"$f":"+IFERROR((VLOOKUP('BASE DE RESPUESTAS'!M52,Back!$M$16:$N$20,2,0)),\"\")","v":""},{"$f":"+IFERROR((VLOOKUP('BASE DE RESPUESTAS'!N52,Back!$M$16:$N$20,2,0)),\"\")","v":""},{"$f":"+IFERROR((VLOOKUP('BASE DE RESPUESTAS'!O52,Back!$M$16:$N$20,2,0)),\"\")","v":""},{"$f":"+IFERROR((VLOOKUP('BASE DE RESPUESTAS'!P52,Back!$M$16:$N$20,2,0)),\"\")","v":""},{"$f":"+IFERROR((VLOOKUP('BASE DE RESPUESTAS'!Q52,Back!$M$16:$N$20,2,0)),\"\")","v":""},{"$f":"+IFERROR((VLOOKUP('BASE DE RESPUESTAS'!R52,Back!$M$16:$N$20,2,0)),\"\")","v":""},{"$f":"+IFERROR((VLOOKUP('BASE DE RESPUESTAS'!S52,Back!$M$16:$N$20,2,0)),\"\")","v":""},{"$f":"+IFERROR((VLOOKUP('BASE DE RESPUESTAS'!T52,Back!$M$16:$N$20,2,0)),\"\")","v":""},{"$f":"+IFERROR((VLOOKUP('BASE DE RESPUESTAS'!U52,Back!$M$16:$N$20,2,0)),\"\")","v":""},{"$f":"+IFERROR((VLOOKUP('BASE DE RESPUESTAS'!V52,Back!$M$16:$N$20,2,0)),\"\")","v":""},{"$f":"+IFERROR((VLOOKUP('BASE DE RESPUESTAS'!W52,Back!$M$16:$N$20,2,0)),\"\")","v":""},{"$f":"+IFERROR((VLOOKUP('BASE DE RESPUESTAS'!X52,Back!$M$16:$N$20,2,0)),\"\")","v":""},{"$f":"+IFERROR((VLOOKUP('BASE DE RESPUESTAS'!Y52,Back!$M$16:$N$20,2,0)),\"\")","v":""},{"$f":"+IFERROR((VLOOKUP('BASE DE RESPUESTAS'!Z52,Back!$M$16:$N$20,2,0)),\"\")","v":""},{"$f":"+IFERROR((VLOOKUP('BASE DE RESPUESTAS'!AA52,Back!$M$16:$N$20,2,0)),\"\")","v":""},{"$f":"+IFERROR((VLOOKUP('BASE DE RESPUESTAS'!AB52,Back!$M$16:$N$20,2,0)),\"\")","v":""},{"$f":"+IFERROR((VLOOKUP('BASE DE RESPUESTAS'!AC52,Back!$M$16:$N$20,2,0)),\"\")","v":""},{"$f":"+IFERROR((VLOOKUP('BASE DE RESPUESTAS'!AD52,Back!$M$16:$N$20,2,0)),\"\")","v":""},{"$f":"+IFERROR((VLOOKUP('BASE DE RESPUESTAS'!AE52,Back!$M$16:$N$20,2,0)),\"\")","v":""},{"$f":"+IFERROR((VLOOKUP('BASE DE RESPUESTAS'!AF52,Back!$M$16:$N$20,2,0)),\"\")","v":""},{"$f":"+IFERROR((VLOOKUP('BASE DE RESPUESTAS'!AG52,Back!$M$16:$N$20,2,0)),\"\")","v":""},{"$f":"+IFERROR((VLOOKUP('BASE DE RESPUESTAS'!AH52,Back!$M$16:$N$20,2,0)),\"\")","v":""},{"$f":"+IFERROR((VLOOKUP('BASE DE RESPUESTAS'!AI52,Back!$M$16:$N$20,2,0)),\"\")","v":""},{"$f":"+IFERROR((VLOOKUP('BASE DE RESPUESTAS'!AJ52,Back!$M$16:$N$20,2,0)),\"\")","v":""},{"$f":"+IFERROR((VLOOKUP('BASE DE RESPUESTAS'!AK52,Back!$M$16:$N$20,2,0)),\"\")","v":""},{"$f":"+IFERROR((VLOOKUP('BASE DE RESPUESTAS'!AL52,Back!$M$16:$N$20,2,0)),\"\")","v":""},{"$f":"+IFERROR((VLOOKUP('BASE DE RESPUESTAS'!AM52,Back!$M$16:$N$20,2,0)),\"\")","v":""},{"$f":"+IFERROR((VLOOKUP('BASE DE RESPUESTAS'!AN52,Back!$M$16:$N$20,2,0)),\"\")","v":""},{"$f":"+IFERROR((VLOOKUP('BASE DE RESPUESTAS'!AO52,Back!$M$16:$N$20,2,0)),\"\")","v":""},{"$f":"+IFERROR((VLOOKUP('BASE DE RESPUESTAS'!AP52,Back!$M$16:$N$20,2,0)),\"\")","v":""},{"$f":"+IFERROR((VLOOKUP('BASE DE RESPUESTAS'!AQ52,Back!$M$16:$N$20,2,0)),\"\")","v":""},{"$f":"+IFERROR((VLOOKUP('BASE DE RESPUESTAS'!AR52,Back!$M$16:$N$20,2,0)),\"\")","v":""},{"$f":"+IFERROR((VLOOKUP('BASE DE RESPUESTAS'!AS52,Back!$M$16:$N$20,2,0)),\"\")","v":""},{"$f":"+IFERROR((VLOOKUP('BASE DE RESPUESTAS'!AT52,Back!$M$16:$N$20,2,0)),\"\")","v":""},{"$f":"+IFERROR((VLOOKUP('BASE DE RESPUESTAS'!AU52,Back!$M$16:$N$20,2,0)),\"\")","v":""},{"$f":"+IFERROR((VLOOKUP('BASE DE RESPUESTAS'!AV52,Back!$M$16:$N$20,2,0)),\"\")","v":""},{"$f":"+IFERROR((VLOOKUP('BASE DE RESPUESTAS'!AW52,Back!$M$16:$N$20,2,0)),\"\")","v":""},{"$f":"+IFERROR((VLOOKUP('BASE DE RESPUESTAS'!AX52,Back!$M$16:$N$20,2,0)),\"\")","v":""},{"$f":"+IFERROR((VLOOKUP('BASE DE RESPUESTAS'!AY52,Back!$M$16:$N$20,2,0)),\"\")","v":""},{"$f":"+IFERROR((VLOOKUP('BASE DE RESPUESTAS'!AZ52,Back!$M$16:$N$20,2,0)),\"\")","v":""},{"$f":"+IFERROR((VLOOKUP('BASE DE RESPUESTAS'!BA52,Back!$M$16:$N$20,2,0)),\"\")","v":""},{"$f":"+IFERROR((VLOOKUP('BASE DE RESPUESTAS'!BB52,Back!$M$16:$N$20,2,0)),\"\")","v":""},{"$f":"+IFERROR((VLOOKUP('BASE DE RESPUESTAS'!BC52,Back!$M$16:$N$20,2,0)),\"\")","v":""},{"$f":"+IFERROR((VLOOKUP('BASE DE RESPUESTAS'!BD52,Back!$M$16:$N$20,2,0)),\"\")","v":""},{"$f":"+IFERROR((VLOOKUP('BASE DE RESPUESTAS'!BE52,Back!$M$16:$N$20,2,0)),\"\")","v":""}]
[null,null,null,"Al menos uno de los padres o cuidador(a) maltrata emocionalmente al estudiante.",null,"",null,{"$f":"+IFERROR((VLOOKUP('BASE DE RESPUESTAS'!H53,Back!$M$16:$N$20,2,0)),\"\")","v":""},{"$f":"+IFERROR((VLOOKUP('BASE DE RESPUESTAS'!I53,Back!$M$16:$N$20,2,0)),\"\")","v":""},{"$f":"+IFERROR((VLOOKUP('BASE DE RESPUESTAS'!J53,Back!$M$16:$N$20,2,0)),\"\")","v":""},{"$f":"+IFERROR((VLOOKUP('BASE DE RESPUESTAS'!K53,Back!$M$16:$N$20,2,0)),\"\")","v":""},{"$f":"+IFERROR((VLOOKUP('BASE DE RESPUESTAS'!L53,Back!$M$16:$N$20,2,0)),\"\")","v":""},{"$f":"+IFERROR((VLOOKUP('BASE DE RESPUESTAS'!M53,Back!$M$16:$N$20,2,0)),\"\")","v":""},{"$f":"+IFERROR((VLOOKUP('BASE DE RESPUESTAS'!N53,Back!$M$16:$N$20,2,0)),\"\")","v":""},{"$f":"+IFERROR((VLOOKUP('BASE DE RESPUESTAS'!O53,Back!$M$16:$N$20,2,0)),\"\")","v":""},{"$f":"+IFERROR((VLOOKUP('BASE DE RESPUESTAS'!P53,Back!$M$16:$N$20,2,0)),\"\")","v":""},{"$f":"+IFERROR((VLOOKUP('BASE DE RESPUESTAS'!Q53,Back!$M$16:$N$20,2,0)),\"\")","v":""},{"$f":"+IFERROR((VLOOKUP('BASE DE RESPUESTAS'!R53,Back!$M$16:$N$20,2,0)),\"\")","v":""},{"$f":"+IFERROR((VLOOKUP('BASE DE RESPUESTAS'!S53,Back!$M$16:$N$20,2,0)),\"\")","v":""},{"$f":"+IFERROR((VLOOKUP('BASE DE RESPUESTAS'!T53,Back!$M$16:$N$20,2,0)),\"\")","v":""},{"$f":"+IFERROR((VLOOKUP('BASE DE RESPUESTAS'!U53,Back!$M$16:$N$20,2,0)),\"\")","v":""},{"$f":"+IFERROR((VLOOKUP('BASE DE RESPUESTAS'!V53,Back!$M$16:$N$20,2,0)),\"\")","v":""},{"$f":"+IFERROR((VLOOKUP('BASE DE RESPUESTAS'!W53,Back!$M$16:$N$20,2,0)),\"\")","v":""},{"$f":"+IFERROR((VLOOKUP('BASE DE RESPUESTAS'!X53,Back!$M$16:$N$20,2,0)),\"\")","v":""},{"$f":"+IFERROR((VLOOKUP('BASE DE RESPUESTAS'!Y53,Back!$M$16:$N$20,2,0)),\"\")","v":""},{"$f":"+IFERROR((VLOOKUP('BASE DE RESPUESTAS'!Z53,Back!$M$16:$N$20,2,0)),\"\")","v":""},{"$f":"+IFERROR((VLOOKUP('BASE DE RESPUESTAS'!AA53,Back!$M$16:$N$20,2,0)),\"\")","v":""},{"$f":"+IFERROR((VLOOKUP('BASE DE RESPUESTAS'!AB53,Back!$M$16:$N$20,2,0)),\"\")","v":""},{"$f":"+IFERROR((VLOOKUP('BASE DE RESPUESTAS'!AC53,Back!$M$16:$N$20,2,0)),\"\")","v":""},{"$f":"+IFERROR((VLOOKUP('BASE DE RESPUESTAS'!AD53,Back!$M$16:$N$20,2,0)),\"\")","v":""},{"$f":"+IFERROR((VLOOKUP('BASE DE RESPUESTAS'!AE53,Back!$M$16:$N$20,2,0)),\"\")","v":""},{"$f":"+IFERROR((VLOOKUP('BASE DE RESPUESTAS'!AF53,Back!$M$16:$N$20,2,0)),\"\")","v":""},{"$f":"+IFERROR((VLOOKUP('BASE DE RESPUESTAS'!AG53,Back!$M$16:$N$20,2,0)),\"\")","v":""},{"$f":"+IFERROR((VLOOKUP('BASE DE RESPUESTAS'!AH53,Back!$M$16:$N$20,2,0)),\"\")","v":""},{"$f":"+IFERROR((VLOOKUP('BASE DE RESPUESTAS'!AI53,Back!$M$16:$N$20,2,0)),\"\")","v":""},{"$f":"+IFERROR((VLOOKUP('BASE DE RESPUESTAS'!AJ53,Back!$M$16:$N$20,2,0)),\"\")","v":""},{"$f":"+IFERROR((VLOOKUP('BASE DE RESPUESTAS'!AK53,Back!$M$16:$N$20,2,0)),\"\")","v":""},{"$f":"+IFERROR((VLOOKUP('BASE DE RESPUESTAS'!AL53,Back!$M$16:$N$20,2,0)),\"\")","v":""},{"$f":"+IFERROR((VLOOKUP('BASE DE RESPUESTAS'!AM53,Back!$M$16:$N$20,2,0)),\"\")","v":""},{"$f":"+IFERROR((VLOOKUP('BASE DE RESPUESTAS'!AN53,Back!$M$16:$N$20,2,0)),\"\")","v":""},{"$f":"+IFERROR((VLOOKUP('BASE DE RESPUESTAS'!AO53,Back!$M$16:$N$20,2,0)),\"\")","v":""},{"$f":"+IFERROR((VLOOKUP('BASE DE RESPUESTAS'!AP53,Back!$M$16:$N$20,2,0)),\"\")","v":""},{"$f":"+IFERROR((VLOOKUP('BASE DE RESPUESTAS'!AQ53,Back!$M$16:$N$20,2,0)),\"\")","v":""},{"$f":"+IFERROR((VLOOKUP('BASE DE RESPUESTAS'!AR53,Back!$M$16:$N$20,2,0)),\"\")","v":""},{"$f":"+IFERROR((VLOOKUP('BASE DE RESPUESTAS'!AS53,Back!$M$16:$N$20,2,0)),\"\")","v":""},{"$f":"+IFERROR((VLOOKUP('BASE DE RESPUESTAS'!AT53,Back!$M$16:$N$20,2,0)),\"\")","v":""},{"$f":"+IFERROR((VLOOKUP('BASE DE RESPUESTAS'!AU53,Back!$M$16:$N$20,2,0)),\"\")","v":""},{"$f":"+IFERROR((VLOOKUP('BASE DE RESPUESTAS'!AV53,Back!$M$16:$N$20,2,0)),\"\")","v":""},{"$f":"+IFERROR((VLOOKUP('BASE DE RESPUESTAS'!AW53,Back!$M$16:$N$20,2,0)),\"\")","v":""},{"$f":"+IFERROR((VLOOKUP('BASE DE RESPUESTAS'!AX53,Back!$M$16:$N$20,2,0)),\"\")","v":""},{"$f":"+IFERROR((VLOOKUP('BASE DE RESPUESTAS'!AY53,Back!$M$16:$N$20,2,0)),\"\")","v":""},{"$f":"+IFERROR((VLOOKUP('BASE DE RESPUESTAS'!AZ53,Back!$M$16:$N$20,2,0)),\"\")","v":""},{"$f":"+IFERROR((VLOOKUP('BASE DE RESPUESTAS'!BA53,Back!$M$16:$N$20,2,0)),\"\")","v":""},{"$f":"+IFERROR((VLOOKUP('BASE DE RESPUESTAS'!BB53,Back!$M$16:$N$20,2,0)),\"\")","v":""},{"$f":"+IFERROR((VLOOKUP('BASE DE RESPUESTAS'!BC53,Back!$M$16:$N$20,2,0)),\"\")","v":""},{"$f":"+IFERROR((VLOOKUP('BASE DE RESPUESTAS'!BD53,Back!$M$16:$N$20,2,0)),\"\")","v":""},{"$f":"+IFERROR((VLOOKUP('BASE DE RESPUESTAS'!BE53,Back!$M$16:$N$20,2,0)),\"\")","v":""}]
[null,null,null,"Al menos uno de los padres o cuidador(a) no asume su responsabilidad con el estudiante.",null,"",null,{"$f":"+IFERROR((VLOOKUP('BASE DE RESPUESTAS'!H54,Back!$M$16:$N$20,2,0)),\"\")","v":""},{"$f":"+IFERROR((VLOOKUP('BASE DE RESPUESTAS'!I54,Back!$M$16:$N$20,2,0)),\"\")","v":""},{"$f":"+IFERROR((VLOOKUP('BASE DE RESPUESTAS'!J54,Back!$M$16:$N$20,2,0)),\"\")","v":""},{"$f":"+IFERROR((VLOOKUP('BASE DE RESPUESTAS'!K54,Back!$M$16:$N$20,2,0)),\"\")","v":""},{"$f":"+IFERROR((VLOOKUP('BASE DE RESPUESTAS'!L54,Back!$M$16:$N$20,2,0)),\"\")","v":""},{"$f":"+IFERROR((VLOOKUP('BASE DE RESPUESTAS'!M54,Back!$M$16:$N$20,2,0)),\"\")","v":""},{"$f":"+IFERROR((VLOOKUP('BASE DE RESPUESTAS'!N54,Back!$M$16:$N$20,2,0)),\"\")","v":""},{"$f":"+IFERROR((VLOOKUP('BASE DE RESPUESTAS'!O54,Back!$M$16:$N$20,2,0)),\"\")","v":""},{"$f":"+IFERROR((VLOOKUP('BASE DE RESPUESTAS'!P54,Back!$M$16:$N$20,2,0)),\"\")","v":""},{"$f":"+IFERROR((VLOOKUP('BASE DE RESPUESTAS'!Q54,Back!$M$16:$N$20,2,0)),\"\")","v":""},{"$f":"+IFERROR((VLOOKUP('BASE DE RESPUESTAS'!R54,Back!$M$16:$N$20,2,0)),\"\")","v":""},{"$f":"+IFERROR((VLOOKUP('BASE DE RESPUESTAS'!S54,Back!$M$16:$N$20,2,0)),\"\")","v":""},{"$f":"+IFERROR((VLOOKUP('BASE DE RESPUESTAS'!T54,Back!$M$16:$N$20,2,0)),\"\")","v":""},{"$f":"+IFERROR((VLOOKUP('BASE DE RESPUESTAS'!U54,Back!$M$16:$N$20,2,0)),\"\")","v":""},{"$f":"+IFERROR((VLOOKUP('BASE DE RESPUESTAS'!V54,Back!$M$16:$N$20,2,0)),\"\")","v":""},{"$f":"+IFERROR((VLOOKUP('BASE DE RESPUESTAS'!W54,Back!$M$16:$N$20,2,0)),\"\")","v":""},{"$f":"+IFERROR((VLOOKUP('BASE DE RESPUESTAS'!X54,Back!$M$16:$N$20,2,0)),\"\")","v":""},{"$f":"+IFERROR((VLOOKUP('BASE DE RESPUESTAS'!Y54,Back!$M$16:$N$20,2,0)),\"\")","v":""},{"$f":"+IFERROR((VLOOKUP('BASE DE RESPUESTAS'!Z54,Back!$M$16:$N$20,2,0)),\"\")","v":""},{"$f":"+IFERROR((VLOOKUP('BASE DE RESPUESTAS'!AA54,Back!$M$16:$N$20,2,0)),\"\")","v":""},{"$f":"+IFERROR((VLOOKUP('BASE DE RESPUESTAS'!AB54,Back!$M$16:$N$20,2,0)),\"\")","v":""},{"$f":"+IFERROR((VLOOKUP('BASE DE RESPUESTAS'!AC54,Back!$M$16:$N$20,2,0)),\"\")","v":""},{"$f":"+IFERROR((VLOOKUP('BASE DE RESPUESTAS'!AD54,Back!$M$16:$N$20,2,0)),\"\")","v":""},{"$f":"+IFERROR((VLOOKUP('BASE DE RESPUESTAS'!AE54,Back!$M$16:$N$20,2,0)),\"\")","v":""},{"$f":"+IFERROR((VLOOKUP('BASE DE RESPUESTAS'!AF54,Back!$M$16:$N$20,2,0)),\"\")","v":""},{"$f":"+IFERROR((VLOOKUP('BASE DE RESPUESTAS'!AG54,Back!$M$16:$N$20,2,0)),\"\")","v":""},{"$f":"+IFERROR((VLOOKUP('BASE DE RESPUESTAS'!AH54,Back!$M$16:$N$20,2,0)),\"\")","v":""},{"$f":"+IFERROR((VLOOKUP('BASE DE RESPUESTAS'!AI54,Back!$M$16:$N$20,2,0)),\"\")","v":""},{"$f":"+IFERROR((VLOOKUP('BASE DE RESPUESTAS'!AJ54,Back!$M$16:$N$20,2,0)),\"\")","v":""},{"$f":"+IFERROR((VLOOKUP('BASE DE RESPUESTAS'!AK54,Back!$M$16:$N$20,2,0)),\"\")","v":""},{"$f":"+IFERROR((VLOOKUP('BASE DE RESPUESTAS'!AL54,Back!$M$16:$N$20,2,0)),\"\")","v":""},{"$f":"+IFERROR((VLOOKUP('BASE DE RESPUESTAS'!AM54,Back!$M$16:$N$20,2,0)),\"\")","v":""},{"$f":"+IFERROR((VLOOKUP('BASE DE RESPUESTAS'!AN54,Back!$M$16:$N$20,2,0)),\"\")","v":""},{"$f":"+IFERROR((VLOOKUP('BASE DE RESPUESTAS'!AO54,Back!$M$16:$N$20,2,0)),\"\")","v":""},{"$f":"+IFERROR((VLOOKUP('BASE DE RESPUESTAS'!AP54,Back!$M$16:$N$20,2,0)),\"\")","v":""},{"$f":"+IFERROR((VLOOKUP('BASE DE RESPUESTAS'!AQ54,Back!$M$16:$N$20,2,0)),\"\")","v":""},{"$f":"+IFERROR((VLOOKUP('BASE DE RESPUESTAS'!AR54,Back!$M$16:$N$20,2,0)),\"\")","v":""},{"$f":"+IFERROR((VLOOKUP('BASE DE RESPUESTAS'!AS54,Back!$M$16:$N$20,2,0)),\"\")","v":""},{"$f":"+IFERROR((VLOOKUP('BASE DE RESPUESTAS'!AT54,Back!$M$16:$N$20,2,0)),\"\")","v":""},{"$f":"+IFERROR((VLOOKUP('BASE DE RESPUESTAS'!AU54,Back!$M$16:$N$20,2,0)),\"\")","v":""},{"$f":"+IFERROR((VLOOKUP('BASE DE RESPUESTAS'!AV54,Back!$M$16:$N$20,2,0)),\"\")","v":""},{"$f":"+IFERROR((VLOOKUP('BASE DE RESPUESTAS'!AW54,Back!$M$16:$N$20,2,0)),\"\")","v":""},{"$f":"+IFERROR((VLOOKUP('BASE DE RESPUESTAS'!AX54,Back!$M$16:$N$20,2,0)),\"\")","v":""},{"$f":"+IFERROR((VLOOKUP('BASE DE RESPUESTAS'!AY54,Back!$M$16:$N$20,2,0)),\"\")","v":""},{"$f":"+IFERROR((VLOOKUP('BASE DE RESPUESTAS'!AZ54,Back!$M$16:$N$20,2,0)),\"\")","v":""},{"$f":"+IFERROR((VLOOKUP('BASE DE RESPUESTAS'!BA54,Back!$M$16:$N$20,2,0)),\"\")","v":""},{"$f":"+IFERROR((VLOOKUP('BASE DE RESPUESTAS'!BB54,Back!$M$16:$N$20,2,0)),\"\")","v":""},{"$f":"+IFERROR((VLOOKUP('BASE DE RESPUESTAS'!BC54,Back!$M$16:$N$20,2,0)),\"\")","v":""},{"$f":"+IFERROR((VLOOKUP('BASE DE RESPUESTAS'!BD54,Back!$M$16:$N$20,2,0)),\"\")","v":""},{"$f":"+IFERROR((VLOOKUP('BASE DE RESPUESTAS'!BE54,Back!$M$16:$N$20,2,0)),\"\")","v":""}]
[null,null,null,"Los padres o cuidadores del estudiante se pelean entre sí delante de sus hijos.",null,"",null,{"$f":"+IFERROR((VLOOKUP('BASE DE RESPUESTAS'!H55,Back!$M$16:$N$20,2,0)),\"\")","v":""},{"$f":"+IFERROR((VLOOKUP('BASE DE RESPUESTAS'!I55,Back!$M$16:$N$20,2,0)),\"\")","v":""},{"$f":"+IFERROR((VLOOKUP('BASE DE RESPUESTAS'!J55,Back!$M$16:$N$20,2,0)),\"\")","v":""},{"$f":"+IFERROR((VLOOKUP('BASE DE RESPUESTAS'!K55,Back!$M$16:$N$20,2,0)),\"\")","v":""},{"$f":"+IFERROR((VLOOKUP('BASE DE RESPUESTAS'!L55,Back!$M$16:$N$20,2,0)),\"\")","v":""},{"$f":"+IFERROR((VLOOKUP('BASE DE RESPUESTAS'!M55,Back!$M$16:$N$20,2,0)),\"\")","v":""},{"$f":"+IFERROR((VLOOKUP('BASE DE RESPUESTAS'!N55,Back!$M$16:$N$20,2,0)),\"\")","v":""},{"$f":"+IFERROR((VLOOKUP('BASE DE RESPUESTAS'!O55,Back!$M$16:$N$20,2,0)),\"\")","v":""},{"$f":"+IFERROR((VLOOKUP('BASE DE RESPUESTAS'!P55,Back!$M$16:$N$20,2,0)),\"\")","v":""},{"$f":"+IFERROR((VLOOKUP('BASE DE RESPUESTAS'!Q55,Back!$M$16:$N$20,2,0)),\"\")","v":""},{"$f":"+IFERROR((VLOOKUP('BASE DE RESPUESTAS'!R55,Back!$M$16:$N$20,2,0)),\"\")","v":""},{"$f":"+IFERROR((VLOOKUP('BASE DE RESPUESTAS'!S55,Back!$M$16:$N$20,2,0)),\"\")","v":""},{"$f":"+IFERROR((VLOOKUP('BASE DE RESPUESTAS'!T55,Back!$M$16:$N$20,2,0)),\"\")","v":""},{"$f":"+IFERROR((VLOOKUP('BASE DE RESPUESTAS'!U55,Back!$M$16:$N$20,2,0)),\"\")","v":""},{"$f":"+IFERROR((VLOOKUP('BASE DE RESPUESTAS'!V55,Back!$M$16:$N$20,2,0)),\"\")","v":""},{"$f":"+IFERROR((VLOOKUP('BASE DE RESPUESTAS'!W55,Back!$M$16:$N$20,2,0)),\"\")","v":""},{"$f":"+IFERROR((VLOOKUP('BASE DE RESPUESTAS'!X55,Back!$M$16:$N$20,2,0)),\"\")","v":""},{"$f":"+IFERROR((VLOOKUP('BASE DE RESPUESTAS'!Y55,Back!$M$16:$N$20,2,0)),\"\")","v":""},{"$f":"+IFERROR((VLOOKUP('BASE DE RESPUESTAS'!Z55,Back!$M$16:$N$20,2,0)),\"\")","v":""},{"$f":"+IFERROR((VLOOKUP('BASE DE RESPUESTAS'!AA55,Back!$M$16:$N$20,2,0)),\"\")","v":""},{"$f":"+IFERROR((VLOOKUP('BASE DE RESPUESTAS'!AB55,Back!$M$16:$N$20,2,0)),\"\")","v":""},{"$f":"+IFERROR((VLOOKUP('BASE DE RESPUESTAS'!AC55,Back!$M$16:$N$20,2,0)),\"\")","v":""},{"$f":"+IFERROR((VLOOKUP('BASE DE RESPUESTAS'!AD55,Back!$M$16:$N$20,2,0)),\"\")","v":""},{"$f":"+IFERROR((VLOOKUP('BASE DE RESPUESTAS'!AE55,Back!$M$16:$N$20,2,0)),\"\")","v":""},{"$f":"+IFERROR((VLOOKUP('BASE DE RESPUESTAS'!AF55,Back!$M$16:$N$20,2,0)),\"\")","v":""},{"$f":"+IFERROR((VLOOKUP('BASE DE RESPUESTAS'!AG55,Back!$M$16:$N$20,2,0)),\"\")","v":""},{"$f":"+IFERROR((VLOOKUP('BASE DE RESPUESTAS'!AH55,Back!$M$16:$N$20,2,0)),\"\")","v":""},{"$f":"+IFERROR((VLOOKUP('BASE DE RESPUESTAS'!AI55,Back!$M$16:$N$20,2,0)),\"\")","v":""},{"$f":"+IFERROR((VLOOKUP('BASE DE RESPUESTAS'!AJ55,Back!$M$16:$N$20,2,0)),\"\")","v":""},{"$f":"+IFERROR((VLOOKUP('BASE DE RESPUESTAS'!AK55,Back!$M$16:$N$20,2,0)),\"\")","v":""},{"$f":"+IFERROR((VLOOKUP('BASE DE RESPUESTAS'!AL55,Back!$M$16:$N$20,2,0)),\"\")","v":""},{"$f":"+IFERROR((VLOOKUP('BASE DE RESPUESTAS'!AM55,Back!$M$16:$N$20,2,0)),\"\")","v":""},{"$f":"+IFERROR((VLOOKUP('BASE DE RESPUESTAS'!AN55,Back!$M$16:$N$20,2,0)),\"\")","v":""},{"$f":"+IFERROR((VLOOKUP('BASE DE RESPUESTAS'!AO55,Back!$M$16:$N$20,2,0)),\"\")","v":""},{"$f":"+IFERROR((VLOOKUP('BASE DE RESPUESTAS'!AP55,Back!$M$16:$N$20,2,0)),\"\")","v":""},{"$f":"+IFERROR((VLOOKUP('BASE DE RESPUESTAS'!AQ55,Back!$M$16:$N$20,2,0)),\"\")","v":""},{"$f":"+IFERROR((VLOOKUP('BASE DE RESPUESTAS'!AR55,Back!$M$16:$N$20,2,0)),\"\")","v":""},{"$f":"+IFERROR((VLOOKUP('BASE DE RESPUESTAS'!AS55,Back!$M$16:$N$20,2,0)),\"\")","v":""},{"$f":"+IFERROR((VLOOKUP('BASE DE RESPUESTAS'!AT55,Back!$M$16:$N$20,2,0)),\"\")","v":""},{"$f":"+IFERROR((VLOOKUP('BASE DE RESPUESTAS'!AU55,Back!$M$16:$N$20,2,0)),\"\")","v":""},{"$f":"+IFERROR((VLOOKUP('BASE DE RESPUESTAS'!AV55,Back!$M$16:$N$20,2,0)),\"\")","v":""},{"$f":"+IFERROR((VLOOKUP('BASE DE RESPUESTAS'!AW55,Back!$M$16:$N$20,2,0)),\"\")","v":""},{"$f":"+IFERROR((VLOOKUP('BASE DE RESPUESTAS'!AX55,Back!$M$16:$N$20,2,0)),\"\")","v":""},{"$f":"+IFERROR((VLOOKUP('BASE DE RESPUESTAS'!AY55,Back!$M$16:$N$20,2,0)),\"\")","v":""},{"$f":"+IFERROR((VLOOKUP('BASE DE RESPUESTAS'!AZ55,Back!$M$16:$N$20,2,0)),\"\")","v":""},{"$f":"+IFERROR((VLOOKUP('BASE DE RESPUESTAS'!BA55,Back!$M$16:$N$20,2,0)),\"\")","v":""},{"$f":"+IFERROR((VLOOKUP('BASE DE RESPUESTAS'!BB55,Back!$M$16:$N$20,2,0)),\"\")","v":""},{"$f":"+IFERROR((VLOOKUP('BASE DE RESPUESTAS'!BC55,Back!$M$16:$N$20,2,0)),\"\")","v":""},{"$f":"+IFERROR((VLOOKUP('BASE DE RESPUESTAS'!BD55,Back!$M$16:$N$20,2,0)),\"\")","v":""},{"$f":"+IFERROR((VLOOKUP('BASE DE RESPUESTAS'!BE55,Back!$M$16:$N$20,2,0)),\"\")","v":""}]
[null,"FR","Limitada expectativa sobre la educación","El o la estudiante reconoce los beneficios de la educación en su vida.",null,"",null,{"$f":"+IFERROR((VLOOKUP('BASE DE RESPUESTAS'!H56,Back!$M$16:$N$20,2,0)),\"\")","v":""},{"$f":"+IFERROR((VLOOKUP('BASE DE RESPUESTAS'!I56,Back!$M$16:$N$20,2,0)),\"\")","v":""},{"$f":"+IFERROR((VLOOKUP('BASE DE RESPUESTAS'!J56,Back!$M$16:$N$20,2,0)),\"\")","v":""},{"$f":"+IFERROR((VLOOKUP('BASE DE RESPUESTAS'!K56,Back!$M$16:$N$20,2,0)),\"\")","v":""},{"$f":"+IFERROR((VLOOKUP('BASE DE RESPUESTAS'!L56,Back!$M$16:$N$20,2,0)),\"\")","v":""},{"$f":"+IFERROR((VLOOKUP('BASE DE RESPUESTAS'!M56,Back!$M$16:$N$20,2,0)),\"\")","v":""},{"$f":"+IFERROR((VLOOKUP('BASE DE RESPUESTAS'!N56,Back!$M$16:$N$20,2,0)),\"\")","v":""},{"$f":"+IFERROR((VLOOKUP('BASE DE RESPUESTAS'!O56,Back!$M$16:$N$20,2,0)),\"\")","v":""},{"$f":"+IFERROR((VLOOKUP('BASE DE RESPUESTAS'!P56,Back!$M$16:$N$20,2,0)),\"\")","v":""},{"$f":"+IFERROR((VLOOKUP('BASE DE RESPUESTAS'!Q56,Back!$M$16:$N$20,2,0)),\"\")","v":""},{"$f":"+IFERROR((VLOOKUP('BASE DE RESPUESTAS'!R56,Back!$M$16:$N$20,2,0)),\"\")","v":""},{"$f":"+IFERROR((VLOOKUP('BASE DE RESPUESTAS'!S56,Back!$M$16:$N$20,2,0)),\"\")","v":""},{"$f":"+IFERROR((VLOOKUP('BASE DE RESPUESTAS'!T56,Back!$M$16:$N$20,2,0)),\"\")","v":""},{"$f":"+IFERROR((VLOOKUP('BASE DE RESPUESTAS'!U56,Back!$M$16:$N$20,2,0)),\"\")","v":""},{"$f":"+IFERROR((VLOOKUP('BASE DE RESPUESTAS'!V56,Back!$M$16:$N$20,2,0)),\"\")","v":""},{"$f":"+IFERROR((VLOOKUP('BASE DE RESPUESTAS'!W56,Back!$M$16:$N$20,2,0)),\"\")","v":""},{"$f":"+IFERROR((VLOOKUP('BASE DE RESPUESTAS'!X56,Back!$M$16:$N$20,2,0)),\"\")","v":""},{"$f":"+IFERROR((VLOOKUP('BASE DE RESPUESTAS'!Y56,Back!$M$16:$N$20,2,0)),\"\")","v":""},{"$f":"+IFERROR((VLOOKUP('BASE DE RESPUESTAS'!Z56,Back!$M$16:$N$20,2,0)),\"\")","v":""},{"$f":"+IFERROR((VLOOKUP('BASE DE RESPUESTAS'!AA56,Back!$M$16:$N$20,2,0)),\"\")","v":""},{"$f":"+IFERROR((VLOOKUP('BASE DE RESPUESTAS'!AB56,Back!$M$16:$N$20,2,0)),\"\")","v":""},{"$f":"+IFERROR((VLOOKUP('BASE DE RESPUESTAS'!AC56,Back!$M$16:$N$20,2,0)),\"\")","v":""},{"$f":"+IFERROR((VLOOKUP('BASE DE RESPUESTAS'!AD56,Back!$M$16:$N$20,2,0)),\"\")","v":""},{"$f":"+IFERROR((VLOOKUP('BASE DE RESPUESTAS'!AE56,Back!$M$16:$N$20,2,0)),\"\")","v":""},{"$f":"+IFERROR((VLOOKUP('BASE DE RESPUESTAS'!AF56,Back!$M$16:$N$20,2,0)),\"\")","v":""},{"$f":"+IFERROR((VLOOKUP('BASE DE RESPUESTAS'!AG56,Back!$M$16:$N$20,2,0)),\"\")","v":""},{"$f":"+IFERROR((VLOOKUP('BASE DE RESPUESTAS'!AH56,Back!$M$16:$N$20,2,0)),\"\")","v":""},{"$f":"+IFERROR((VLOOKUP('BASE DE RESPUESTAS'!AI56,Back!$M$16:$N$20,2,0)),\"\")","v":""},{"$f":"+IFERROR((VLOOKUP('BASE DE RESPUESTAS'!AJ56,Back!$M$16:$N$20,2,0)),\"\")","v":""},{"$f":"+IFERROR((VLOOKUP('BASE DE RESPUESTAS'!AK56,Back!$M$16:$N$20,2,0)),\"\")","v":""},{"$f":"+IFERROR((VLOOKUP('BASE DE RESPUESTAS'!AL56,Back!$M$16:$N$20,2,0)),\"\")","v":""},{"$f":"+IFERROR((VLOOKUP('BASE DE RESPUESTAS'!AM56,Back!$M$16:$N$20,2,0)),\"\")","v":""},{"$f":"+IFERROR((VLOOKUP('BASE DE RESPUESTAS'!AN56,Back!$M$16:$N$20,2,0)),\"\")","v":""},{"$f":"+IFERROR((VLOOKUP('BASE DE RESPUESTAS'!AO56,Back!$M$16:$N$20,2,0)),\"\")","v":""},{"$f":"+IFERROR((VLOOKUP('BASE DE RESPUESTAS'!AP56,Back!$M$16:$N$20,2,0)),\"\")","v":""},{"$f":"+IFERROR((VLOOKUP('BASE DE RESPUESTAS'!AQ56,Back!$M$16:$N$20,2,0)),\"\")","v":""},{"$f":"+IFERROR((VLOOKUP('BASE DE RESPUESTAS'!AR56,Back!$M$16:$N$20,2,0)),\"\")","v":""},{"$f":"+IFERROR((VLOOKUP('BASE DE RESPUESTAS'!AS56,Back!$M$16:$N$20,2,0)),\"\")","v":""},{"$f":"+IFERROR((VLOOKUP('BASE DE RESPUESTAS'!AT56,Back!$M$16:$N$20,2,0)),\"\")","v":""},{"$f":"+IFERROR((VLOOKUP('BASE DE RESPUESTAS'!AU56,Back!$M$16:$N$20,2,0)),\"\")","v":""},{"$f":"+IFERROR((VLOOKUP('BASE DE RESPUESTAS'!AV56,Back!$M$16:$N$20,2,0)),\"\")","v":""},{"$f":"+IFERROR((VLOOKUP('BASE DE RESPUESTAS'!AW56,Back!$M$16:$N$20,2,0)),\"\")","v":""},{"$f":"+IFERROR((VLOOKUP('BASE DE RESPUESTAS'!AX56,Back!$M$16:$N$20,2,0)),\"\")","v":""},{"$f":"+IFERROR((VLOOKUP('BASE DE RESPUESTAS'!AY56,Back!$M$16:$N$20,2,0)),\"\")","v":""},{"$f":"+IFERROR((VLOOKUP('BASE DE RESPUESTAS'!AZ56,Back!$M$16:$N$20,2,0)),\"\")","v":""},{"$f":"+IFERROR((VLOOKUP('BASE DE RESPUESTAS'!BA56,Back!$M$16:$N$20,2,0)),\"\")","v":""},{"$f":"+IFERROR((VLOOKUP('BASE DE RESPUESTAS'!BB56,Back!$M$16:$N$20,2,0)),\"\")","v":""},{"$f":"+IFERROR((VLOOKUP('BASE DE RESPUESTAS'!BC56,Back!$M$16:$N$20,2,0)),\"\")","v":""},{"$f":"+IFERROR((VLOOKUP('BASE DE RESPUESTAS'!BD56,Back!$M$16:$N$20,2,0)),\"\")","v":""},{"$f":"+IFERROR((VLOOKUP('BASE DE RESPUESTAS'!BE56,Back!$M$16:$N$20,2,0)),\"\")","v":""}]
[null,null,null,"El o la estudiante considera que los docentes aportan y le motivan a su aprendizaje.",null,"",null,{"$f":"+IFERROR((VLOOKUP('BASE DE RESPUESTAS'!H57,Back!$M$16:$N$20,2,0)),\"\")","v":""},{"$f":"+IFERROR((VLOOKUP('BASE DE RESPUESTAS'!I57,Back!$M$16:$N$20,2,0)),\"\")","v":""},{"$f":"+IFERROR((VLOOKUP('BASE DE RESPUESTAS'!J57,Back!$M$16:$N$20,2,0)),\"\")","v":""},{"$f":"+IFERROR((VLOOKUP('BASE DE RESPUESTAS'!K57,Back!$M$16:$N$20,2,0)),\"\")","v":""},{"$f":"+IFERROR((VLOOKUP('BASE DE RESPUESTAS'!L57,Back!$M$16:$N$20,2,0)),\"\")","v":""},{"$f":"+IFERROR((VLOOKUP('BASE DE RESPUESTAS'!M57,Back!$M$16:$N$20,2,0)),\"\")","v":""},{"$f":"+IFERROR((VLOOKUP('BASE DE RESPUESTAS'!N57,Back!$M$16:$N$20,2,0)),\"\")","v":""},{"$f":"+IFERROR((VLOOKUP('BASE DE RESPUESTAS'!O57,Back!$M$16:$N$20,2,0)),\"\")","v":""},{"$f":"+IFERROR((VLOOKUP('BASE DE RESPUESTAS'!P57,Back!$M$16:$N$20,2,0)),\"\")","v":""},{"$f":"+IFERROR((VLOOKUP('BASE DE RESPUESTAS'!Q57,Back!$M$16:$N$20,2,0)),\"\")","v":""},{"$f":"+IFERROR((VLOOKUP('BASE DE RESPUESTAS'!R57,Back!$M$16:$N$20,2,0)),\"\")","v":""},{"$f":"+IFERROR((VLOOKUP('BASE DE RESPUESTAS'!S57,Back!$M$16:$N$20,2,0)),\"\")","v":""},{"$f":"+IFERROR((VLOOKUP('BASE DE RESPUESTAS'!T57,Back!$M$16:$N$20,2,0)),\"\")","v":""},{"$f":"+IFERROR((VLOOKUP('BASE DE RESPUESTAS'!U57,Back!$M$16:$N$20,2,0)),\"\")","v":""},{"$f":"+IFERROR((VLOOKUP('BASE DE RESPUESTAS'!V57,Back!$M$16:$N$20,2,0)),\"\")","v":""},{"$f":"+IFERROR((VLOOKUP('BASE DE RESPUESTAS'!W57,Back!$M$16:$N$20,2,0)),\"\")","v":""},{"$f":"+IFERROR((VLOOKUP('BASE DE RESPUESTAS'!X57,Back!$M$16:$N$20,2,0)),\"\")","v":""},{"$f":"+IFERROR((VLOOKUP('BASE DE RESPUESTAS'!Y57,Back!$M$16:$N$20,2,0)),\"\")","v":""},{"$f":"+IFERROR((VLOOKUP('BASE DE RESPUESTAS'!Z57,Back!$M$16:$N$20,2,0)),\"\")","v":""},{"$f":"+IFERROR((VLOOKUP('BASE DE RESPUESTAS'!AA57,Back!$M$16:$N$20,2,0)),\"\")","v":""},{"$f":"+IFERROR((VLOOKUP('BASE DE RESPUESTAS'!AB57,Back!$M$16:$N$20,2,0)),\"\")","v":""},{"$f":"+IFERROR((VLOOKUP('BASE DE RESPUESTAS'!AC57,Back!$M$16:$N$20,2,0)),\"\")","v":""},{"$f":"+IFERROR((VLOOKUP('BASE DE RESPUESTAS'!AD57,Back!$M$16:$N$20,2,0)),\"\")","v":""},{"$f":"+IFERROR((VLOOKUP('BASE DE RESPUESTAS'!AE57,Back!$M$16:$N$20,2,0)),\"\")","v":""},{"$f":"+IFERROR((VLOOKUP('BASE DE RESPUESTAS'!AF57,Back!$M$16:$N$20,2,0)),\"\")","v":""},{"$f":"+IFERROR((VLOOKUP('BASE DE RESPUESTAS'!AG57,Back!$M$16:$N$20,2,0)),\"\")","v":""},{"$f":"+IFERROR((VLOOKUP('BASE DE RESPUESTAS'!AH57,Back!$M$16:$N$20,2,0)),\"\")","v":""},{"$f":"+IFERROR((VLOOKUP('BASE DE RESPUESTAS'!AI57,Back!$M$16:$N$20,2,0)),\"\")","v":""},{"$f":"+IFERROR((VLOOKUP('BASE DE RESPUESTAS'!AJ57,Back!$M$16:$N$20,2,0)),\"\")","v":""},{"$f":"+IFERROR((VLOOKUP('BASE DE RESPUESTAS'!AK57,Back!$M$16:$N$20,2,0)),\"\")","v":""},{"$f":"+IFERROR((VLOOKUP('BASE DE RESPUESTAS'!AL57,Back!$M$16:$N$20,2,0)),\"\")","v":""},{"$f":"+IFERROR((VLOOKUP('BASE DE RESPUESTAS'!AM57,Back!$M$16:$N$20,2,0)),\"\")","v":""},{"$f":"+IFERROR((VLOOKUP('BASE DE RESPUESTAS'!AN57,Back!$M$16:$N$20,2,0)),\"\")","v":""},{"$f":"+IFERROR((VLOOKUP('BASE DE RESPUESTAS'!AO57,Back!$M$16:$N$20,2,0)),\"\")","v":""},{"$f":"+IFERROR((VLOOKUP('BASE DE RESPUESTAS'!AP57,Back!$M$16:$N$20,2,0)),\"\")","v":""},{"$f":"+IFERROR((VLOOKUP('BASE DE RESPUESTAS'!AQ57,Back!$M$16:$N$20,2,0)),\"\")","v":""},{"$f":"+IFERROR((VLOOKUP('BASE DE RESPUESTAS'!AR57,Back!$M$16:$N$20,2,0)),\"\")","v":""},{"$f":"+IFERROR((VLOOKUP('BASE DE RESPUESTAS'!AS57,Back!$M$16:$N$20,2,0)),\"\")","v":""},{"$f":"+IFERROR((VLOOKUP('BASE DE RESPUESTAS'!AT57,Back!$M$16:$N$20,2,0)),\"\")","v":""},{"$f":"+IFERROR((VLOOKUP('BASE DE RESPUESTAS'!AU57,Back!$M$16:$N$20,2,0)),\"\")","v":""},{"$f":"+IFERROR((VLOOKUP('BASE DE RESPUESTAS'!AV57,Back!$M$16:$N$20,2,0)),\"\")","v":""},{"$f":"+IFERROR((VLOOKUP('BASE DE RESPUESTAS'!AW57,Back!$M$16:$N$20,2,0)),\"\")","v":""},{"$f":"+IFERROR((VLOOKUP('BASE DE RESPUESTAS'!AX57,Back!$M$16:$N$20,2,0)),\"\")","v":""},{"$f":"+IFERROR((VLOOKUP('BASE DE RESPUESTAS'!AY57,Back!$M$16:$N$20,2,0)),\"\")","v":""},{"$f":"+IFERROR((VLOOKUP('BASE DE RESPUESTAS'!AZ57,Back!$M$16:$N$20,2,0)),\"\")","v":""},{"$f":"+IFERROR((VLOOKUP('BASE DE RESPUESTAS'!BA57,Back!$M$16:$N$20,2,0)),\"\")","v":""},{"$f":"+IFERROR((VLOOKUP('BASE DE RESPUESTAS'!BB57,Back!$M$16:$N$20,2,0)),\"\")","v":""},{"$f":"+IFERROR((VLOOKUP('BASE DE RESPUESTAS'!BC57,Back!$M$16:$N$20,2,0)),\"\")","v":""},{"$f":"+IFERROR((VLOOKUP('BASE DE RESPUESTAS'!BD57,Back!$M$16:$N$20,2,0)),\"\")","v":""},{"$f":"+IFERROR((VLOOKUP('BASE DE RESPUESTAS'!BE57,Back!$M$16:$N$20,2,0)),\"\")","v":""}]
[null,null,null,"El o la estudiante siente que sus padres confían en su capacidad para aprender.",null,"",null,{"$f":"+IFERROR((VLOOKUP('BASE DE RESPUESTAS'!H58,Back!$M$16:$N$20,2,0)),\"\")","v":""},{"$f":"+IFERROR((VLOOKUP('BASE DE RESPUESTAS'!I58,Back!$M$16:$N$20,2,0)),\"\")","v":""},{"$f":"+IFERROR((VLOOKUP('BASE DE RESPUESTAS'!J58,Back!$M$16:$N$20,2,0)),\"\")","v":""},{"$f":"+IFERROR((VLOOKUP('BASE DE RESPUESTAS'!K58,Back!$M$16:$N$20,2,0)),\"\")","v":""},{"$f":"+IFERROR((VLOOKUP('BASE DE RESPUESTAS'!L58,Back!$M$16:$N$20,2,0)),\"\")","v":""},{"$f":"+IFERROR((VLOOKUP('BASE DE RESPUESTAS'!M58,Back!$M$16:$N$20,2,0)),\"\")","v":""},{"$f":"+IFERROR((VLOOKUP('BASE DE RESPUESTAS'!N58,Back!$M$16:$N$20,2,0)),\"\")","v":""},{"$f":"+IFERROR((VLOOKUP('BASE DE RESPUESTAS'!O58,Back!$M$16:$N$20,2,0)),\"\")","v":""},{"$f":"+IFERROR((VLOOKUP('BASE DE RESPUESTAS'!P58,Back!$M$16:$N$20,2,0)),\"\")","v":""},{"$f":"+IFERROR((VLOOKUP('BASE DE RESPUESTAS'!Q58,Back!$M$16:$N$20,2,0)),\"\")","v":""},{"$f":"+IFERROR((VLOOKUP('BASE DE RESPUESTAS'!R58,Back!$M$16:$N$20,2,0)),\"\")","v":""},{"$f":"+IFERROR((VLOOKUP('BASE DE RESPUESTAS'!S58,Back!$M$16:$N$20,2,0)),\"\")","v":""},{"$f":"+IFERROR((VLOOKUP('BASE DE RESPUESTAS'!T58,Back!$M$16:$N$20,2,0)),\"\")","v":""},{"$f":"+IFERROR((VLOOKUP('BASE DE RESPUESTAS'!U58,Back!$M$16:$N$20,2,0)),\"\")","v":""},{"$f":"+IFERROR((VLOOKUP('BASE DE RESPUESTAS'!V58,Back!$M$16:$N$20,2,0)),\"\")","v":""},{"$f":"+IFERROR((VLOOKUP('BASE DE RESPUESTAS'!W58,Back!$M$16:$N$20,2,0)),\"\")","v":""},{"$f":"+IFERROR((VLOOKUP('BASE DE RESPUESTAS'!X58,Back!$M$16:$N$20,2,0)),\"\")","v":""},{"$f":"+IFERROR((VLOOKUP('BASE DE RESPUESTAS'!Y58,Back!$M$16:$N$20,2,0)),\"\")","v":""},{"$f":"+IFERROR((VLOOKUP('BASE DE RESPUESTAS'!Z58,Back!$M$16:$N$20,2,0)),\"\")","v":""},{"$f":"+IFERROR((VLOOKUP('BASE DE RESPUESTAS'!AA58,Back!$M$16:$N$20,2,0)),\"\")","v":""},{"$f":"+IFERROR((VLOOKUP('BASE DE RESPUESTAS'!AB58,Back!$M$16:$N$20,2,0)),\"\")","v":""},{"$f":"+IFERROR((VLOOKUP('BASE DE RESPUESTAS'!AC58,Back!$M$16:$N$20,2,0)),\"\")","v":""},{"$f":"+IFERROR((VLOOKUP('BASE DE RESPUESTAS'!AD58,Back!$M$16:$N$20,2,0)),\"\")","v":""},{"$f":"+IFERROR((VLOOKUP('BASE DE RESPUESTAS'!AE58,Back!$M$16:$N$20,2,0)),\"\")","v":""},{"$f":"+IFERROR((VLOOKUP('BASE DE RESPUESTAS'!AF58,Back!$M$16:$N$20,2,0)),\"\")","v":""},{"$f":"+IFERROR((VLOOKUP('BASE DE RESPUESTAS'!AG58,Back!$M$16:$N$20,2,0)),\"\")","v":""},{"$f":"+IFERROR((VLOOKUP('BASE DE RESPUESTAS'!AH58,Back!$M$16:$N$20,2,0)),\"\")","v":""},{"$f":"+IFERROR((VLOOKUP('BASE DE RESPUESTAS'!AI58,Back!$M$16:$N$20,2,0)),\"\")","v":""},{"$f":"+IFERROR((VLOOKUP('BASE DE RESPUESTAS'!AJ58,Back!$M$16:$N$20,2,0)),\"\")","v":""},{"$f":"+IFERROR((VLOOKUP('BASE DE RESPUESTAS'!AK58,Back!$M$16:$N$20,2,0)),\"\")","v":""},{"$f":"+IFERROR((VLOOKUP('BASE DE RESPUESTAS'!AL58,Back!$M$16:$N$20,2,0)),\"\")","v":""},{"$f":"+IFERROR((VLOOKUP('BASE DE RESPUESTAS'!AM58,Back!$M$16:$N$20,2,0)),\"\")","v":""},{"$f":"+IFERROR((VLOOKUP('BASE DE RESPUESTAS'!AN58,Back!$M$16:$N$20,2,0)),\"\")","v":""},{"$f":"+IFERROR((VLOOKUP('BASE DE RESPUESTAS'!AO58,Back!$M$16:$N$20,2,0)),\"\")","v":""},{"$f":"+IFERROR((VLOOKUP('BASE DE RESPUESTAS'!AP58,Back!$M$16:$N$20,2,0)),\"\")","v":""},{"$f":"+IFERROR((VLOOKUP('BASE DE RESPUESTAS'!AQ58,Back!$M$16:$N$20,2,0)),\"\")","v":""},{"$f":"+IFERROR((VLOOKUP('BASE DE RESPUESTAS'!AR58,Back!$M$16:$N$20,2,0)),\"\")","v":""},{"$f":"+IFERROR((VLOOKUP('BASE DE RESPUESTAS'!AS58,Back!$M$16:$N$20,2,0)),\"\")","v":""},{"$f":"+IFERROR((VLOOKUP('BASE DE RESPUESTAS'!AT58,Back!$M$16:$N$20,2,0)),\"\")","v":""},{"$f":"+IFERROR((VLOOKUP('BASE DE RESPUESTAS'!AU58,Back!$M$16:$N$20,2,0)),\"\")","v":""},{"$f":"+IFERROR((VLOOKUP('BASE DE RESPUESTAS'!AV58,Back!$M$16:$N$20,2,0)),\"\")","v":""},{"$f":"+IFERROR((VLOOKUP('BASE DE RESPUESTAS'!AW58,Back!$M$16:$N$20,2,0)),\"\")","v":""},{"$f":"+IFERROR((VLOOKUP('BASE DE RESPUESTAS'!AX58,Back!$M$16:$N$20,2,0)),\"\")","v":""},{"$f":"+IFERROR((VLOOKUP('BASE DE RESPUESTAS'!AY58,Back!$M$16:$N$20,2,0)),\"\")","v":""},{"$f":"+IFERROR((VLOOKUP('BASE DE RESPUESTAS'!AZ58,Back!$M$16:$N$20,2,0)),\"\")","v":""},{"$f":"+IFERROR((VLOOKUP('BASE DE RESPUESTAS'!BA58,Back!$M$16:$N$20,2,0)),\"\")","v":""},{"$f":"+IFERROR((VLOOKUP('BASE DE RESPUESTAS'!BB58,Back!$M$16:$N$20,2,0)),\"\")","v":""},{"$f":"+IFERROR((VLOOKUP('BASE DE RESPUESTAS'!BC58,Back!$M$16:$N$20,2,0)),\"\")","v":""},{"$f":"+IFERROR((VLOOKUP('BASE DE RESPUESTAS'!BD58,Back!$M$16:$N$20,2,0)),\"\")","v":""},{"$f":"+IFERROR((VLOOKUP('BASE DE RESPUESTAS'!BE58,Back!$M$16:$N$20,2,0)),\"\")","v":""}]
[null,"FR","Percepción sobre Estereotipos de género","El o la estudiante cree que los hombres tienen superioridad física e intelectual sobre las mujeres.",null,"",null,{"$f":"+IFERROR((VLOOKUP('BASE DE RESPUESTAS'!H59,Back!$M$16:$N$20,2,0)),\"\")","v":""},{"$f":"+IFERROR((VLOOKUP('BASE DE RESPUESTAS'!I59,Back!$M$16:$N$20,2,0)),\"\")","v":""},{"$f":"+IFERROR((VLOOKUP('BASE DE RESPUESTAS'!J59,Back!$M$16:$N$20,2,0)),\"\")","v":""},{"$f":"+IFERROR((VLOOKUP('BASE DE RESPUESTAS'!K59,Back!$M$16:$N$20,2,0)),\"\")","v":""},{"$f":"+IFERROR((VLOOKUP('BASE DE RESPUESTAS'!L59,Back!$M$16:$N$20,2,0)),\"\")","v":""},{"$f":"+IFERROR((VLOOKUP('BASE DE RESPUESTAS'!M59,Back!$M$16:$N$20,2,0)),\"\")","v":""},{"$f":"+IFERROR((VLOOKUP('BASE DE RESPUESTAS'!N59,Back!$M$16:$N$20,2,0)),\"\")","v":""},{"$f":"+IFERROR((VLOOKUP('BASE DE RESPUESTAS'!O59,Back!$M$16:$N$20,2,0)),\"\")","v":""},{"$f":"+IFERROR((VLOOKUP('BASE DE RESPUESTAS'!P59,Back!$M$16:$N$20,2,0)),\"\")","v":""},{"$f":"+IFERROR((VLOOKUP('BASE DE RESPUESTAS'!Q59,Back!$M$16:$N$20,2,0)),\"\")","v":""},{"$f":"+IFERROR((VLOOKUP('BASE DE RESPUESTAS'!R59,Back!$M$16:$N$20,2,0)),\"\")","v":""},{"$f":"+IFERROR((VLOOKUP('BASE DE RESPUESTAS'!S59,Back!$M$16:$N$20,2,0)),\"\")","v":""},{"$f":"+IFERROR((VLOOKUP('BASE DE RESPUESTAS'!T59,Back!$M$16:$N$20,2,0)),\"\")","v":""},{"$f":"+IFERROR((VLOOKUP('BASE DE RESPUESTAS'!U59,Back!$M$16:$N$20,2,0)),\"\")","v":""},{"$f":"+IFERROR((VLOOKUP('BASE DE RESPUESTAS'!V59,Back!$M$16:$N$20,2,0)),\"\")","v":""},{"$f":"+IFERROR((VLOOKUP('BASE DE RESPUESTAS'!W59,Back!$M$16:$N$20,2,0)),\"\")","v":""},{"$f":"+IFERROR((VLOOKUP('BASE DE RESPUESTAS'!X59,Back!$M$16:$N$20,2,0)),\"\")","v":""},{"$f":"+IFERROR((VLOOKUP('BASE DE RESPUESTAS'!Y59,Back!$M$16:$N$20,2,0)),\"\")","v":""},{"$f":"+IFERROR((VLOOKUP('BASE DE RESPUESTAS'!Z59,Back!$M$16:$N$20,2,0)),\"\")","v":""},{"$f":"+IFERROR((VLOOKUP('BASE DE RESPUESTAS'!AA59,Back!$M$16:$N$20,2,0)),\"\")","v":""},{"$f":"+IFERROR((VLOOKUP('BASE DE RESPUESTAS'!AB59,Back!$M$16:$N$20,2,0)),\"\")","v":""},{"$f":"+IFERROR((VLOOKUP('BASE DE RESPUESTAS'!AC59,Back!$M$16:$N$20,2,0)),\"\")","v":""},{"$f":"+IFERROR((VLOOKUP('BASE DE RESPUESTAS'!AD59,Back!$M$16:$N$20,2,0)),\"\")","v":""},{"$f":"+IFERROR((VLOOKUP('BASE DE RESPUESTAS'!AE59,Back!$M$16:$N$20,2,0)),\"\")","v":""},{"$f":"+IFERROR((VLOOKUP('BASE DE RESPUESTAS'!AF59,Back!$M$16:$N$20,2,0)),\"\")","v":""},{"$f":"+IFERROR((VLOOKUP('BASE DE RESPUESTAS'!AG59,Back!$M$16:$N$20,2,0)),\"\")","v":""},{"$f":"+IFERROR((VLOOKUP('BASE DE RESPUESTAS'!AH59,Back!$M$16:$N$20,2,0)),\"\")","v":""},{"$f":"+IFERROR((VLOOKUP('BASE DE RESPUESTAS'!AI59,Back!$M$16:$N$20,2,0)),\"\")","v":""},{"$f":"+IFERROR((VLOOKUP('BASE DE RESPUESTAS'!AJ59,Back!$M$16:$N$20,2,0)),\"\")","v":""},{"$f":"+IFERROR((VLOOKUP('BASE DE RESPUESTAS'!AK59,Back!$M$16:$N$20,2,0)),\"\")","v":""},{"$f":"+IFERROR((VLOOKUP('BASE DE RESPUESTAS'!AL59,Back!$M$16:$N$20,2,0)),\"\")","v":""},{"$f":"+IFERROR((VLOOKUP('BASE DE RESPUESTAS'!AM59,Back!$M$16:$N$20,2,0)),\"\")","v":""},{"$f":"+IFERROR((VLOOKUP('BASE DE RESPUESTAS'!AN59,Back!$M$16:$N$20,2,0)),\"\")","v":""},{"$f":"+IFERROR((VLOOKUP('BASE DE RESPUESTAS'!AO59,Back!$M$16:$N$20,2,0)),\"\")","v":""},{"$f":"+IFERROR((VLOOKUP('BASE DE RESPUESTAS'!AP59,Back!$M$16:$N$20,2,0)),\"\")","v":""},{"$f":"+IFERROR((VLOOKUP('BASE DE RESPUESTAS'!AQ59,Back!$M$16:$N$20,2,0)),\"\")","v":""},{"$f":"+IFERROR((VLOOKUP('BASE DE RESPUESTAS'!AR59,Back!$M$16:$N$20,2,0)),\"\")","v":""},{"$f":"+IFERROR((VLOOKUP('BASE DE RESPUESTAS'!AS59,Back!$M$16:$N$20,2,0)),\"\")","v":""},{"$f":"+IFERROR((VLOOKUP('BASE DE RESPUESTAS'!AT59,Back!$M$16:$N$20,2,0)),\"\")","v":""},{"$f":"+IFERROR((VLOOKUP('BASE DE RESPUESTAS'!AU59,Back!$M$16:$N$20,2,0)),\"\")","v":""},{"$f":"+IFERROR((VLOOKUP('BASE DE RESPUESTAS'!AV59,Back!$M$16:$N$20,2,0)),\"\")","v":""},{"$f":"+IFERROR((VLOOKUP('BASE DE RESPUESTAS'!AW59,Back!$M$16:$N$20,2,0)),\"\")","v":""},{"$f":"+IFERROR((VLOOKUP('BASE DE RESPUESTAS'!AX59,Back!$M$16:$N$20,2,0)),\"\")","v":""},{"$f":"+IFERROR((VLOOKUP('BASE DE RESPUESTAS'!AY59,Back!$M$16:$N$20,2,0)),\"\")","v":""},{"$f":"+IFERROR((VLOOKUP('BASE DE RESPUESTAS'!AZ59,Back!$M$16:$N$20,2,0)),\"\")","v":""},{"$f":"+IFERROR((VLOOKUP('BASE DE RESPUESTAS'!BA59,Back!$M$16:$N$20,2,0)),\"\")","v":""},{"$f":"+IFERROR((VLOOKUP('BASE DE RESPUESTAS'!BB59,Back!$M$16:$N$20,2,0)),\"\")","v":""},{"$f":"+IFERROR((VLOOKUP('BASE DE RESPUESTAS'!BC59,Back!$M$16:$N$20,2,0)),\"\")","v":""},{"$f":"+IFERROR((VLOOKUP('BASE DE RESPUESTAS'!BD59,Back!$M$16:$N$20,2,0)),\"\")","v":""},{"$f":"+IFERROR((VLOOKUP('BASE DE RESPUESTAS'!BE59,Back!$M$16:$N$20,2,0)),\"\")","v":""}]
[null,"FR",null,"El o la estudiante considera que hombres y mujeres deben optar carreras o profesiones de acuerdo a su sexo.",null,"",null,{"$f":"+IFERROR((VLOOKUP('BASE DE RESPUESTAS'!H60,Back!$M$16:$N$20,2,0)),\"\")","v":""},{"$f":"+IFERROR((VLOOKUP('BASE DE RESPUESTAS'!I60,Back!$M$16:$N$20,2,0)),\"\")","v":""},{"$f":"+IFERROR((VLOOKUP('BASE DE RESPUESTAS'!J60,Back!$M$16:$N$20,2,0)),\"\")","v":""},{"$f":"+IFERROR((VLOOKUP('BASE DE RESPUESTAS'!K60,Back!$M$16:$N$20,2,0)),\"\")","v":""},{"$f":"+IFERROR((VLOOKUP('BASE DE RESPUESTAS'!L60,Back!$M$16:$N$20,2,0)),\"\")","v":""},{"$f":"+IFERROR((VLOOKUP('BASE DE RESPUESTAS'!M60,Back!$M$16:$N$20,2,0)),\"\")","v":""},{"$f":"+IFERROR((VLOOKUP('BASE DE RESPUESTAS'!N60,Back!$M$16:$N$20,2,0)),\"\")","v":""},{"$f":"+IFERROR((VLOOKUP('BASE DE RESPUESTAS'!O60,Back!$M$16:$N$20,2,0)),\"\")","v":""},{"$f":"+IFERROR((VLOOKUP('BASE DE RESPUESTAS'!P60,Back!$M$16:$N$20,2,0)),\"\")","v":""},{"$f":"+IFERROR((VLOOKUP('BASE DE RESPUESTAS'!Q60,Back!$M$16:$N$20,2,0)),\"\")","v":""},{"$f":"+IFERROR((VLOOKUP('BASE DE RESPUESTAS'!R60,Back!$M$16:$N$20,2,0)),\"\")","v":""},{"$f":"+IFERROR((VLOOKUP('BASE DE RESPUESTAS'!S60,Back!$M$16:$N$20,2,0)),\"\")","v":""},{"$f":"+IFERROR((VLOOKUP('BASE DE RESPUESTAS'!T60,Back!$M$16:$N$20,2,0)),\"\")","v":""},{"$f":"+IFERROR((VLOOKUP('BASE DE RESPUESTAS'!U60,Back!$M$16:$N$20,2,0)),\"\")","v":""},{"$f":"+IFERROR((VLOOKUP('BASE DE RESPUESTAS'!V60,Back!$M$16:$N$20,2,0)),\"\")","v":""},{"$f":"+IFERROR((VLOOKUP('BASE DE RESPUESTAS'!W60,Back!$M$16:$N$20,2,0)),\"\")","v":""},{"$f":"+IFERROR((VLOOKUP('BASE DE RESPUESTAS'!X60,Back!$M$16:$N$20,2,0)),\"\")","v":""},{"$f":"+IFERROR((VLOOKUP('BASE DE RESPUESTAS'!Y60,Back!$M$16:$N$20,2,0)),\"\")","v":""},{"$f":"+IFERROR((VLOOKUP('BASE DE RESPUESTAS'!Z60,Back!$M$16:$N$20,2,0)),\"\")","v":""},{"$f":"+IFERROR((VLOOKUP('BASE DE RESPUESTAS'!AA60,Back!$M$16:$N$20,2,0)),\"\")","v":""},{"$f":"+IFERROR((VLOOKUP('BASE DE RESPUESTAS'!AB60,Back!$M$16:$N$20,2,0)),\"\")","v":""},{"$f":"+IFERROR((VLOOKUP('BASE DE RESPUESTAS'!AC60,Back!$M$16:$N$20,2,0)),\"\")","v":""},{"$f":"+IFERROR((VLOOKUP('BASE DE RESPUESTAS'!AD60,Back!$M$16:$N$20,2,0)),\"\")","v":""},{"$f":"+IFERROR((VLOOKUP('BASE DE RESPUESTAS'!AE60,Back!$M$16:$N$20,2,0)),\"\")","v":""},{"$f":"+IFERROR((VLOOKUP('BASE DE RESPUESTAS'!AF60,Back!$M$16:$N$20,2,0)),\"\")","v":""},{"$f":"+IFERROR((VLOOKUP('BASE DE RESPUESTAS'!AG60,Back!$M$16:$N$20,2,0)),\"\")","v":""},{"$f":"+IFERROR((VLOOKUP('BASE DE RESPUESTAS'!AH60,Back!$M$16:$N$20,2,0)),\"\")","v":""},{"$f":"+IFERROR((VLOOKUP('BASE DE RESPUESTAS'!AI60,Back!$M$16:$N$20,2,0)),\"\")","v":""},{"$f":"+IFERROR((VLOOKUP('BASE DE RESPUESTAS'!AJ60,Back!$M$16:$N$20,2,0)),\"\")","v":""},{"$f":"+IFERROR((VLOOKUP('BASE DE RESPUESTAS'!AK60,Back!$M$16:$N$20,2,0)),\"\")","v":""},{"$f":"+IFERROR((VLOOKUP('BASE DE RESPUESTAS'!AL60,Back!$M$16:$N$20,2,0)),\"\")","v":""},{"$f":"+IFERROR((VLOOKUP('BASE DE RESPUESTAS'!AM60,Back!$M$16:$N$20,2,0)),\"\")","v":""},{"$f":"+IFERROR((VLOOKUP('BASE DE RESPUESTAS'!AN60,Back!$M$16:$N$20,2,0)),\"\")","v":""},{"$f":"+IFERROR((VLOOKUP('BASE DE RESPUESTAS'!AO60,Back!$M$16:$N$20,2,0)),\"\")","v":""},{"$f":"+IFERROR((VLOOKUP('BASE DE RESPUESTAS'!AP60,Back!$M$16:$N$20,2,0)),\"\")","v":""},{"$f":"+IFERROR((VLOOKUP('BASE DE RESPUESTAS'!AQ60,Back!$M$16:$N$20,2,0)),\"\")","v":""},{"$f":"+IFERROR((VLOOKUP('BASE DE RESPUESTAS'!AR60,Back!$M$16:$N$20,2,0)),\"\")","v":""},{"$f":"+IFERROR((VLOOKUP('BASE DE RESPUESTAS'!AS60,Back!$M$16:$N$20,2,0)),\"\")","v":""},{"$f":"+IFERROR((VLOOKUP('BASE DE RESPUESTAS'!AT60,Back!$M$16:$N$20,2,0)),\"\")","v":""},{"$f":"+IFERROR((VLOOKUP('BASE DE RESPUESTAS'!AU60,Back!$M$16:$N$20,2,0)),\"\")","v":""},{"$f":"+IFERROR((VLOOKUP('BASE DE RESPUESTAS'!AV60,Back!$M$16:$N$20,2,0)),\"\")","v":""},{"$f":"+IFERROR((VLOOKUP('BASE DE RESPUESTAS'!AW60,Back!$M$16:$N$20,2,0)),\"\")","v":""},{"$f":"+IFERROR((VLOOKUP('BASE DE RESPUESTAS'!AX60,Back!$M$16:$N$20,2,0)),\"\")","v":""},{"$f":"+IFERROR((VLOOKUP('BASE DE RESPUESTAS'!AY60,Back!$M$16:$N$20,2,0)),\"\")","v":""},{"$f":"+IFERROR((VLOOKUP('BASE DE RESPUESTAS'!AZ60,Back!$M$16:$N$20,2,0)),\"\")","v":""},{"$f":"+IFERROR((VLOOKUP('BASE DE RESPUESTAS'!BA60,Back!$M$16:$N$20,2,0)),\"\")","v":""},{"$f":"+IFERROR((VLOOKUP('BASE DE RESPUESTAS'!BB60,Back!$M$16:$N$20,2,0)),\"\")","v":""},{"$f":"+IFERROR((VLOOKUP('BASE DE RESPUESTAS'!BC60,Back!$M$16:$N$20,2,0)),\"\")","v":""},{"$f":"+IFERROR((VLOOKUP('BASE DE RESPUESTAS'!BD60,Back!$M$16:$N$20,2,0)),\"\")","v":""},{"$f":"+IFERROR((VLOOKUP('BASE DE RESPUESTAS'!BE60,Back!$M$16:$N$20,2,0)),\"\")","v":""}]
[null,null,null,"El o la estudiante cree que hombres y mujeres cumplen diversos roles en el hogar y la sociedad",null,"",null,{"$f":"+IFERROR((VLOOKUP('BASE DE RESPUESTAS'!H61,Back!$M$16:$N$20,2,0)),\"\")","v":""},{"$f":"+IFERROR((VLOOKUP('BASE DE RESPUESTAS'!I61,Back!$M$16:$N$20,2,0)),\"\")","v":""},{"$f":"+IFERROR((VLOOKUP('BASE DE RESPUESTAS'!J61,Back!$M$16:$N$20,2,0)),\"\")","v":""},{"$f":"+IFERROR((VLOOKUP('BASE DE RESPUESTAS'!K61,Back!$M$16:$N$20,2,0)),\"\")","v":""},{"$f":"+IFERROR((VLOOKUP('BASE DE RESPUESTAS'!L61,Back!$M$16:$N$20,2,0)),\"\")","v":""},{"$f":"+IFERROR((VLOOKUP('BASE DE RESPUESTAS'!M61,Back!$M$16:$N$20,2,0)),\"\")","v":""},{"$f":"+IFERROR((VLOOKUP('BASE DE RESPUESTAS'!N61,Back!$M$16:$N$20,2,0)),\"\")","v":""},{"$f":"+IFERROR((VLOOKUP('BASE DE RESPUESTAS'!O61,Back!$M$16:$N$20,2,0)),\"\")","v":""},{"$f":"+IFERROR((VLOOKUP('BASE DE RESPUESTAS'!P61,Back!$M$16:$N$20,2,0)),\"\")","v":""},{"$f":"+IFERROR((VLOOKUP('BASE DE RESPUESTAS'!Q61,Back!$M$16:$N$20,2,0)),\"\")","v":""},{"$f":"+IFERROR((VLOOKUP('BASE DE RESPUESTAS'!R61,Back!$M$16:$N$20,2,0)),\"\")","v":""},{"$f":"+IFERROR((VLOOKUP('BASE DE RESPUESTAS'!S61,Back!$M$16:$N$20,2,0)),\"\")","v":""},{"$f":"+IFERROR((VLOOKUP('BASE DE RESPUESTAS'!T61,Back!$M$16:$N$20,2,0)),\"\")","v":""},{"$f":"+IFERROR((VLOOKUP('BASE DE RESPUESTAS'!U61,Back!$M$16:$N$20,2,0)),\"\")","v":""},{"$f":"+IFERROR((VLOOKUP('BASE DE RESPUESTAS'!V61,Back!$M$16:$N$20,2,0)),\"\")","v":""},{"$f":"+IFERROR((VLOOKUP('BASE DE RESPUESTAS'!W61,Back!$M$16:$N$20,2,0)),\"\")","v":""},{"$f":"+IFERROR((VLOOKUP('BASE DE RESPUESTAS'!X61,Back!$M$16:$N$20,2,0)),\"\")","v":""},{"$f":"+IFERROR((VLOOKUP('BASE DE RESPUESTAS'!Y61,Back!$M$16:$N$20,2,0)),\"\")","v":""},{"$f":"+IFERROR((VLOOKUP('BASE DE RESPUESTAS'!Z61,Back!$M$16:$N$20,2,0)),\"\")","v":""},{"$f":"+IFERROR((VLOOKUP('BASE DE RESPUESTAS'!AA61,Back!$M$16:$N$20,2,0)),\"\")","v":""},{"$f":"+IFERROR((VLOOKUP('BASE DE RESPUESTAS'!AB61,Back!$M$16:$N$20,2,0)),\"\")","v":""},{"$f":"+IFERROR((VLOOKUP('BASE DE RESPUESTAS'!AC61,Back!$M$16:$N$20,2,0)),\"\")","v":""},{"$f":"+IFERROR((VLOOKUP('BASE DE RESPUESTAS'!AD61,Back!$M$16:$N$20,2,0)),\"\")","v":""},{"$f":"+IFERROR((VLOOKUP('BASE DE RESPUESTAS'!AE61,Back!$M$16:$N$20,2,0)),\"\")","v":""},{"$f":"+IFERROR((VLOOKUP('BASE DE RESPUESTAS'!AF61,Back!$M$16:$N$20,2,0)),\"\")","v":""},{"$f":"+IFERROR((VLOOKUP('BASE DE RESPUESTAS'!AG61,Back!$M$16:$N$20,2,0)),\"\")","v":""},{"$f":"+IFERROR((VLOOKUP('BASE DE RESPUESTAS'!AH61,Back!$M$16:$N$20,2,0)),\"\")","v":""},{"$f":"+IFERROR((VLOOKUP('BASE DE RESPUESTAS'!AI61,Back!$M$16:$N$20,2,0)),\"\")","v":""},{"$f":"+IFERROR((VLOOKUP('BASE DE RESPUESTAS'!AJ61,Back!$M$16:$N$20,2,0)),\"\")","v":""},{"$f":"+IFERROR((VLOOKUP('BASE DE RESPUESTAS'!AK61,Back!$M$16:$N$20,2,0)),\"\")","v":""},{"$f":"+IFERROR((VLOOKUP('BASE DE RESPUESTAS'!AL61,Back!$M$16:$N$20,2,0)),\"\")","v":""},{"$f":"+IFERROR((VLOOKUP('BASE DE RESPUESTAS'!AM61,Back!$M$16:$N$20,2,0)),\"\")","v":""},{"$f":"+IFERROR((VLOOKUP('BASE DE RESPUESTAS'!AN61,Back!$M$16:$N$20,2,0)),\"\")","v":""},{"$f":"+IFERROR((VLOOKUP('BASE DE RESPUESTAS'!AO61,Back!$M$16:$N$20,2,0)),\"\")","v":""},{"$f":"+IFERROR((VLOOKUP('BASE DE RESPUESTAS'!AP61,Back!$M$16:$N$20,2,0)),\"\")","v":""},{"$f":"+IFERROR((VLOOKUP('BASE DE RESPUESTAS'!AQ61,Back!$M$16:$N$20,2,0)),\"\")","v":""},{"$f":"+IFERROR((VLOOKUP('BASE DE RESPUESTAS'!AR61,Back!$M$16:$N$20,2,0)),\"\")","v":""},{"$f":"+IFERROR((VLOOKUP('BASE DE RESPUESTAS'!AS61,Back!$M$16:$N$20,2,0)),\"\")","v":""},{"$f":"+IFERROR((VLOOKUP('BASE DE RESPUESTAS'!AT61,Back!$M$16:$N$20,2,0)),\"\")","v":""},{"$f":"+IFERROR((VLOOKUP('BASE DE RESPUESTAS'!AU61,Back!$M$16:$N$20,2,0)),\"\")","v":""},{"$f":"+IFERROR((VLOOKUP('BASE DE RESPUESTAS'!AV61,Back!$M$16:$N$20,2,0)),\"\")","v":""},{"$f":"+IFERROR((VLOOKUP('BASE DE RESPUESTAS'!AW61,Back!$M$16:$N$20,2,0)),\"\")","v":""},{"$f":"+IFERROR((VLOOKUP('BASE DE RESPUESTAS'!AX61,Back!$M$16:$N$20,2,0)),\"\")","v":""},{"$f":"+IFERROR((VLOOKUP('BASE DE RESPUESTAS'!AY61,Back!$M$16:$N$20,2,0)),\"\")","v":""},{"$f":"+IFERROR((VLOOKUP('BASE DE RESPUESTAS'!AZ61,Back!$M$16:$N$20,2,0)),\"\")","v":""},{"$f":"+IFERROR((VLOOKUP('BASE DE RESPUESTAS'!BA61,Back!$M$16:$N$20,2,0)),\"\")","v":""},{"$f":"+IFERROR((VLOOKUP('BASE DE RESPUESTAS'!BB61,Back!$M$16:$N$20,2,0)),\"\")","v":""},{"$f":"+IFERROR((VLOOKUP('BASE DE RESPUESTAS'!BC61,Back!$M$16:$N$20,2,0)),\"\")","v":""},{"$f":"+IFERROR((VLOOKUP('BASE DE RESPUESTAS'!BD61,Back!$M$16:$N$20,2,0)),\"\")","v":""},{"$f":"+IFERROR((VLOOKUP('BASE DE RESPUESTAS'!BE61,Back!$M$16:$N$20,2,0)),\"\")","v":""}]
[null,null,null,"El o la estudiante cree que los hombres no sienten las mismas emociones que las mujeres.",null,"",null,{"$f":"+IFERROR((VLOOKUP('BASE DE RESPUESTAS'!H62,Back!$M$16:$N$20,2,0)),\"\")","v":""},{"$f":"+IFERROR((VLOOKUP('BASE DE RESPUESTAS'!I62,Back!$M$16:$N$20,2,0)),\"\")","v":""},{"$f":"+IFERROR((VLOOKUP('BASE DE RESPUESTAS'!J62,Back!$M$16:$N$20,2,0)),\"\")","v":""},{"$f":"+IFERROR((VLOOKUP('BASE DE RESPUESTAS'!K62,Back!$M$16:$N$20,2,0)),\"\")","v":""},{"$f":"+IFERROR((VLOOKUP('BASE DE RESPUESTAS'!L62,Back!$M$16:$N$20,2,0)),\"\")","v":""},{"$f":"+IFERROR((VLOOKUP('BASE DE RESPUESTAS'!M62,Back!$M$16:$N$20,2,0)),\"\")","v":""},{"$f":"+IFERROR((VLOOKUP('BASE DE RESPUESTAS'!N62,Back!$M$16:$N$20,2,0)),\"\")","v":""},{"$f":"+IFERROR((VLOOKUP('BASE DE RESPUESTAS'!O62,Back!$M$16:$N$20,2,0)),\"\")","v":""},{"$f":"+IFERROR((VLOOKUP('BASE DE RESPUESTAS'!P62,Back!$M$16:$N$20,2,0)),\"\")","v":""},{"$f":"+IFERROR((VLOOKUP('BASE DE RESPUESTAS'!Q62,Back!$M$16:$N$20,2,0)),\"\")","v":""},{"$f":"+IFERROR((VLOOKUP('BASE DE RESPUESTAS'!R62,Back!$M$16:$N$20,2,0)),\"\")","v":""},{"$f":"+IFERROR((VLOOKUP('BASE DE RESPUESTAS'!S62,Back!$M$16:$N$20,2,0)),\"\")","v":""},{"$f":"+IFERROR((VLOOKUP('BASE DE RESPUESTAS'!T62,Back!$M$16:$N$20,2,0)),\"\")","v":""},{"$f":"+IFERROR((VLOOKUP('BASE DE RESPUESTAS'!U62,Back!$M$16:$N$20,2,0)),\"\")","v":""},{"$f":"+IFERROR((VLOOKUP('BASE DE RESPUESTAS'!V62,Back!$M$16:$N$20,2,0)),\"\")","v":""},{"$f":"+IFERROR((VLOOKUP('BASE DE RESPUESTAS'!W62,Back!$M$16:$N$20,2,0)),\"\")","v":""},{"$f":"+IFERROR((VLOOKUP('BASE DE RESPUESTAS'!X62,Back!$M$16:$N$20,2,0)),\"\")","v":""},{"$f":"+IFERROR((VLOOKUP('BASE DE RESPUESTAS'!Y62,Back!$M$16:$N$20,2,0)),\"\")","v":""},{"$f":"+IFERROR((VLOOKUP('BASE DE RESPUESTAS'!Z62,Back!$M$16:$N$20,2,0)),\"\")","v":""},{"$f":"+IFERROR((VLOOKUP('BASE DE RESPUESTAS'!AA62,Back!$M$16:$N$20,2,0)),\"\")","v":""},{"$f":"+IFERROR((VLOOKUP('BASE DE RESPUESTAS'!AB62,Back!$M$16:$N$20,2,0)),\"\")","v":""},{"$f":"+IFERROR((VLOOKUP('BASE DE RESPUESTAS'!AC62,Back!$M$16:$N$20,2,0)),\"\")","v":""},{"$f":"+IFERROR((VLOOKUP('BASE DE RESPUESTAS'!AD62,Back!$M$16:$N$20,2,0)),\"\")","v":""},{"$f":"+IFERROR((VLOOKUP('BASE DE RESPUESTAS'!AE62,Back!$M$16:$N$20,2,0)),\"\")","v":""},{"$f":"+IFERROR((VLOOKUP('BASE DE RESPUESTAS'!AF62,Back!$M$16:$N$20,2,0)),\"\")","v":""},{"$f":"+IFERROR((VLOOKUP('BASE DE RESPUESTAS'!AG62,Back!$M$16:$N$20,2,0)),\"\")","v":""},{"$f":"+IFERROR((VLOOKUP('BASE DE RESPUESTAS'!AH62,Back!$M$16:$N$20,2,0)),\"\")","v":""},{"$f":"+IFERROR((VLOOKUP('BASE DE RESPUESTAS'!AI62,Back!$M$16:$N$20,2,0)),\"\")","v":""},{"$f":"+IFERROR((VLOOKUP('BASE DE RESPUESTAS'!AJ62,Back!$M$16:$N$20,2,0)),\"\")","v":""},{"$f":"+IFERROR((VLOOKUP('BASE DE RESPUESTAS'!AK62,Back!$M$16:$N$20,2,0)),\"\")","v":""},{"$f":"+IFERROR((VLOOKUP('BASE DE RESPUESTAS'!AL62,Back!$M$16:$N$20,2,0)),\"\")","v":""},{"$f":"+IFERROR((VLOOKUP('BASE DE RESPUESTAS'!AM62,Back!$M$16:$N$20,2,0)),\"\")","v":""},{"$f":"+IFERROR((VLOOKUP('BASE DE RESPUESTAS'!AN62,Back!$M$16:$N$20,2,0)),\"\")","v":""},{"$f":"+IFERROR((VLOOKUP('BASE DE RESPUESTAS'!AO62,Back!$M$16:$N$20,2,0)),\"\")","v":""},{"$f":"+IFERROR((VLOOKUP('BASE DE RESPUESTAS'!AP62,Back!$M$16:$N$20,2,0)),\"\")","v":""},{"$f":"+IFERROR((VLOOKUP('BASE DE RESPUESTAS'!AQ62,Back!$M$16:$N$20,2,0)),\"\")","v":""},{"$f":"+IFERROR((VLOOKUP('BASE DE RESPUESTAS'!AR62,Back!$M$16:$N$20,2,0)),\"\")","v":""},{"$f":"+IFERROR((VLOOKUP('BASE DE RESPUESTAS'!AS62,Back!$M$16:$N$20,2,0)),\"\")","v":""},{"$f":"+IFERROR((VLOOKUP('BASE DE RESPUESTAS'!AT62,Back!$M$16:$N$20,2,0)),\"\")","v":""},{"$f":"+IFERROR((VLOOKUP('BASE DE RESPUESTAS'!AU62,Back!$M$16:$N$20,2,0)),\"\")","v":""},{"$f":"+IFERROR((VLOOKUP('BASE DE RESPUESTAS'!AV62,Back!$M$16:$N$20,2,0)),\"\")","v":""},{"$f":"+IFERROR((VLOOKUP('BASE DE RESPUESTAS'!AW62,Back!$M$16:$N$20,2,0)),\"\")","v":""},{"$f":"+IFERROR((VLOOKUP('BASE DE RESPUESTAS'!AX62,Back!$M$16:$N$20,2,0)),\"\")","v":""},{"$f":"+IFERROR((VLOOKUP('BASE DE RESPUESTAS'!AY62,Back!$M$16:$N$20,2,0)),\"\")","v":""},{"$f":"+IFERROR((VLOOKUP('BASE DE RESPUESTAS'!AZ62,Back!$M$16:$N$20,2,0)),\"\")","v":""},{"$f":"+IFERROR((VLOOKUP('BASE DE RESPUESTAS'!BA62,Back!$M$16:$N$20,2,0)),\"\")","v":""},{"$f":"+IFERROR((VLOOKUP('BASE DE RESPUESTAS'!BB62,Back!$M$16:$N$20,2,0)),\"\")","v":""},{"$f":"+IFERROR((VLOOKUP('BASE DE RESPUESTAS'!BC62,Back!$M$16:$N$20,2,0)),\"\")","v":""},{"$f":"+IFERROR((VLOOKUP('BASE DE RESPUESTAS'!BD62,Back!$M$16:$N$20,2,0)),\"\")","v":""},{"$f":"+IFERROR((VLOOKUP('BASE DE RESPUESTAS'!BE62,Back!$M$16:$N$20,2,0)),\"\")","v":""}]
[null,"FR","Violencia Escolar","El o la estudiante siente que sus compañeros se burlan de él o ella.",null,"",null,{"$f":"+IFERROR((VLOOKUP('BASE DE RESPUESTAS'!H63,Back!$M$16:$N$20,2,0)),\"\")","v":""},{"$f":"+IFERROR((VLOOKUP('BASE DE RESPUESTAS'!I63,Back!$M$16:$N$20,2,0)),\"\")","v":""},{"$f":"+IFERROR((VLOOKUP('BASE DE RESPUESTAS'!J63,Back!$M$16:$N$20,2,0)),\"\")","v":""},{"$f":"+IFERROR((VLOOKUP('BASE DE RESPUESTAS'!K63,Back!$M$16:$N$20,2,0)),\"\")","v":""},{"$f":"+IFERROR((VLOOKUP('BASE DE RESPUESTAS'!L63,Back!$M$16:$N$20,2,0)),\"\")","v":""},{"$f":"+IFERROR((VLOOKUP('BASE DE RESPUESTAS'!M63,Back!$M$16:$N$20,2,0)),\"\")","v":""},{"$f":"+IFERROR((VLOOKUP('BASE DE RESPUESTAS'!N63,Back!$M$16:$N$20,2,0)),\"\")","v":""},{"$f":"+IFERROR((VLOOKUP('BASE DE RESPUESTAS'!O63,Back!$M$16:$N$20,2,0)),\"\")","v":""},{"$f":"+IFERROR((VLOOKUP('BASE DE RESPUESTAS'!P63,Back!$M$16:$N$20,2,0)),\"\")","v":""},{"$f":"+IFERROR((VLOOKUP('BASE DE RESPUESTAS'!Q63,Back!$M$16:$N$20,2,0)),\"\")","v":""},{"$f":"+IFERROR((VLOOKUP('BASE DE RESPUESTAS'!R63,Back!$M$16:$N$20,2,0)),\"\")","v":""},{"$f":"+IFERROR((VLOOKUP('BASE DE RESPUESTAS'!S63,Back!$M$16:$N$20,2,0)),\"\")","v":""},{"$f":"+IFERROR((VLOOKUP('BASE DE RESPUESTAS'!T63,Back!$M$16:$N$20,2,0)),\"\")","v":""},{"$f":"+IFERROR((VLOOKUP('BASE DE RESPUESTAS'!U63,Back!$M$16:$N$20,2,0)),\"\")","v":""},{"$f":"+IFERROR((VLOOKUP('BASE DE RESPUESTAS'!V63,Back!$M$16:$N$20,2,0)),\"\")","v":""},{"$f":"+IFERROR((VLOOKUP('BASE DE RESPUESTAS'!W63,Back!$M$16:$N$20,2,0)),\"\")","v":""},{"$f":"+IFERROR((VLOOKUP('BASE DE RESPUESTAS'!X63,Back!$M$16:$N$20,2,0)),\"\")","v":""},{"$f":"+IFERROR((VLOOKUP('BASE DE RESPUESTAS'!Y63,Back!$M$16:$N$20,2,0)),\"\")","v":""},{"$f":"+IFERROR((VLOOKUP('BASE DE RESPUESTAS'!Z63,Back!$M$16:$N$20,2,0)),\"\")","v":""},{"$f":"+IFERROR((VLOOKUP('BASE DE RESPUESTAS'!AA63,Back!$M$16:$N$20,2,0)),\"\")","v":""},{"$f":"+IFERROR((VLOOKUP('BASE DE RESPUESTAS'!AB63,Back!$M$16:$N$20,2,0)),\"\")","v":""},{"$f":"+IFERROR((VLOOKUP('BASE DE RESPUESTAS'!AC63,Back!$M$16:$N$20,2,0)),\"\")","v":""},{"$f":"+IFERROR((VLOOKUP('BASE DE RESPUESTAS'!AD63,Back!$M$16:$N$20,2,0)),\"\")","v":""},{"$f":"+IFERROR((VLOOKUP('BASE DE RESPUESTAS'!AE63,Back!$M$16:$N$20,2,0)),\"\")","v":""},{"$f":"+IFERROR((VLOOKUP('BASE DE RESPUESTAS'!AF63,Back!$M$16:$N$20,2,0)),\"\")","v":""},{"$f":"+IFERROR((VLOOKUP('BASE DE RESPUESTAS'!AG63,Back!$M$16:$N$20,2,0)),\"\")","v":""},{"$f":"+IFERROR((VLOOKUP('BASE DE RESPUESTAS'!AH63,Back!$M$16:$N$20,2,0)),\"\")","v":""},{"$f":"+IFERROR((VLOOKUP('BASE DE RESPUESTAS'!AI63,Back!$M$16:$N$20,2,0)),\"\")","v":""},{"$f":"+IFERROR((VLOOKUP('BASE DE RESPUESTAS'!AJ63,Back!$M$16:$N$20,2,0)),\"\")","v":""},{"$f":"+IFERROR((VLOOKUP('BASE DE RESPUESTAS'!AK63,Back!$M$16:$N$20,2,0)),\"\")","v":""},{"$f":"+IFERROR((VLOOKUP('BASE DE RESPUESTAS'!AL63,Back!$M$16:$N$20,2,0)),\"\")","v":""},{"$f":"+IFERROR((VLOOKUP('BASE DE RESPUESTAS'!AM63,Back!$M$16:$N$20,2,0)),\"\")","v":""},{"$f":"+IFERROR((VLOOKUP('BASE DE RESPUESTAS'!AN63,Back!$M$16:$N$20,2,0)),\"\")","v":""},{"$f":"+IFERROR((VLOOKUP('BASE DE RESPUESTAS'!AO63,Back!$M$16:$N$20,2,0)),\"\")","v":""},{"$f":"+IFERROR((VLOOKUP('BASE DE RESPUESTAS'!AP63,Back!$M$16:$N$20,2,0)),\"\")","v":""},{"$f":"+IFERROR((VLOOKUP('BASE DE RESPUESTAS'!AQ63,Back!$M$16:$N$20,2,0)),\"\")","v":""},{"$f":"+IFERROR((VLOOKUP('BASE DE RESPUESTAS'!AR63,Back!$M$16:$N$20,2,0)),\"\")","v":""},{"$f":"+IFERROR((VLOOKUP('BASE DE RESPUESTAS'!AS63,Back!$M$16:$N$20,2,0)),\"\")","v":""},{"$f":"+IFERROR((VLOOKUP('BASE DE RESPUESTAS'!AT63,Back!$M$16:$N$20,2,0)),\"\")","v":""},{"$f":"+IFERROR((VLOOKUP('BASE DE RESPUESTAS'!AU63,Back!$M$16:$N$20,2,0)),\"\")","v":""},{"$f":"+IFERROR((VLOOKUP('BASE DE RESPUESTAS'!AV63,Back!$M$16:$N$20,2,0)),\"\")","v":""},{"$f":"+IFERROR((VLOOKUP('BASE DE RESPUESTAS'!AW63,Back!$M$16:$N$20,2,0)),\"\")","v":""},{"$f":"+IFERROR((VLOOKUP('BASE DE RESPUESTAS'!AX63,Back!$M$16:$N$20,2,0)),\"\")","v":""},{"$f":"+IFERROR((VLOOKUP('BASE DE RESPUESTAS'!AY63,Back!$M$16:$N$20,2,0)),\"\")","v":""},{"$f":"+IFERROR((VLOOKUP('BASE DE RESPUESTAS'!AZ63,Back!$M$16:$N$20,2,0)),\"\")","v":""},{"$f":"+IFERROR((VLOOKUP('BASE DE RESPUESTAS'!BA63,Back!$M$16:$N$20,2,0)),\"\")","v":""},{"$f":"+IFERROR((VLOOKUP('BASE DE RESPUESTAS'!BB63,Back!$M$16:$N$20,2,0)),\"\")","v":""},{"$f":"+IFERROR((VLOOKUP('BASE DE RESPUESTAS'!BC63,Back!$M$16:$N$20,2,0)),\"\")","v":""},{"$f":"+IFERROR((VLOOKUP('BASE DE RESPUESTAS'!BD63,Back!$M$16:$N$20,2,0)),\"\")","v":""},{"$f":"+IFERROR((VLOOKUP('BASE DE RESPUESTAS'!BE63,Back!$M$16:$N$20,2,0)),\"\")","v":""}]
[null,null,null,"El o la estudiante siente temor de asistir al colegio por recibir malos tratos de sus compañeros o profesores.",null,"",null,{"$f":"+IFERROR((VLOOKUP('BASE DE RESPUESTAS'!H64,Back!$M$16:$N$20,2,0)),\"\")","v":""},{"$f":"+IFERROR((VLOOKUP('BASE DE RESPUESTAS'!I64,Back!$M$16:$N$20,2,0)),\"\")","v":""},{"$f":"+IFERROR((VLOOKUP('BASE DE RESPUESTAS'!J64,Back!$M$16:$N$20,2,0)),\"\")","v":""},{"$f":"+IFERROR((VLOOKUP('BASE DE RESPUESTAS'!K64,Back!$M$16:$N$20,2,0)),\"\")","v":""},{"$f":"+IFERROR((VLOOKUP('BASE DE RESPUESTAS'!L64,Back!$M$16:$N$20,2,0)),\"\")","v":""},{"$f":"+IFERROR((VLOOKUP('BASE DE RESPUESTAS'!M64,Back!$M$16:$N$20,2,0)),\"\")","v":""},{"$f":"+IFERROR((VLOOKUP('BASE DE RESPUESTAS'!N64,Back!$M$16:$N$20,2,0)),\"\")","v":""},{"$f":"+IFERROR((VLOOKUP('BASE DE RESPUESTAS'!O64,Back!$M$16:$N$20,2,0)),\"\")","v":""},{"$f":"+IFERROR((VLOOKUP('BASE DE RESPUESTAS'!P64,Back!$M$16:$N$20,2,0)),\"\")","v":""},{"$f":"+IFERROR((VLOOKUP('BASE DE RESPUESTAS'!Q64,Back!$M$16:$N$20,2,0)),\"\")","v":""},{"$f":"+IFERROR((VLOOKUP('BASE DE RESPUESTAS'!R64,Back!$M$16:$N$20,2,0)),\"\")","v":""},{"$f":"+IFERROR((VLOOKUP('BASE DE RESPUESTAS'!S64,Back!$M$16:$N$20,2,0)),\"\")","v":""},{"$f":"+IFERROR((VLOOKUP('BASE DE RESPUESTAS'!T64,Back!$M$16:$N$20,2,0)),\"\")","v":""},{"$f":"+IFERROR((VLOOKUP('BASE DE RESPUESTAS'!U64,Back!$M$16:$N$20,2,0)),\"\")","v":""},{"$f":"+IFERROR((VLOOKUP('BASE DE RESPUESTAS'!V64,Back!$M$16:$N$20,2,0)),\"\")","v":""},{"$f":"+IFERROR((VLOOKUP('BASE DE RESPUESTAS'!W64,Back!$M$16:$N$20,2,0)),\"\")","v":""},{"$f":"+IFERROR((VLOOKUP('BASE DE RESPUESTAS'!X64,Back!$M$16:$N$20,2,0)),\"\")","v":""},{"$f":"+IFERROR((VLOOKUP('BASE DE RESPUESTAS'!Y64,Back!$M$16:$N$20,2,0)),\"\")","v":""},{"$f":"+IFERROR((VLOOKUP('BASE DE RESPUESTAS'!Z64,Back!$M$16:$N$20,2,0)),\"\")","v":""},{"$f":"+IFERROR((VLOOKUP('BASE DE RESPUESTAS'!AA64,Back!$M$16:$N$20,2,0)),\"\")","v":""},{"$f":"+IFERROR((VLOOKUP('BASE DE RESPUESTAS'!AB64,Back!$M$16:$N$20,2,0)),\"\")","v":""},{"$f":"+IFERROR((VLOOKUP('BASE DE RESPUESTAS'!AC64,Back!$M$16:$N$20,2,0)),\"\")","v":""},{"$f":"+IFERROR((VLOOKUP('BASE DE RESPUESTAS'!AD64,Back!$M$16:$N$20,2,0)),\"\")","v":""},{"$f":"+IFERROR((VLOOKUP('BASE DE RESPUESTAS'!AE64,Back!$M$16:$N$20,2,0)),\"\")","v":""},{"$f":"+IFERROR((VLOOKUP('BASE DE RESPUESTAS'!AF64,Back!$M$16:$N$20,2,0)),\"\")","v":""},{"$f":"+IFERROR((VLOOKUP('BASE DE RESPUESTAS'!AG64,Back!$M$16:$N$20,2,0)),\"\")","v":""},{"$f":"+IFERROR((VLOOKUP('BASE DE RESPUESTAS'!AH64,Back!$M$16:$N$20,2,0)),\"\")","v":""},{"$f":"+IFERROR((VLOOKUP('BASE DE RESPUESTAS'!AI64,Back!$M$16:$N$20,2,0)),\"\")","v":""},{"$f":"+IFERROR((VLOOKUP('BASE DE RESPUESTAS'!AJ64,Back!$M$16:$N$20,2,0)),\"\")","v":""},{"$f":"+IFERROR((VLOOKUP('BASE DE RESPUESTAS'!AK64,Back!$M$16:$N$20,2,0)),\"\")","v":""},{"$f":"+IFERROR((VLOOKUP('BASE DE RESPUESTAS'!AL64,Back!$M$16:$N$20,2,0)),\"\")","v":""},{"$f":"+IFERROR((VLOOKUP('BASE DE RESPUESTAS'!AM64,Back!$M$16:$N$20,2,0)),\"\")","v":""},{"$f":"+IFERROR((VLOOKUP('BASE DE RESPUESTAS'!AN64,Back!$M$16:$N$20,2,0)),\"\")","v":""},{"$f":"+IFERROR((VLOOKUP('BASE DE RESPUESTAS'!AO64,Back!$M$16:$N$20,2,0)),\"\")","v":""},{"$f":"+IFERROR((VLOOKUP('BASE DE RESPUESTAS'!AP64,Back!$M$16:$N$20,2,0)),\"\")","v":""},{"$f":"+IFERROR((VLOOKUP('BASE DE RESPUESTAS'!AQ64,Back!$M$16:$N$20,2,0)),\"\")","v":""},{"$f":"+IFERROR((VLOOKUP('BASE DE RESPUESTAS'!AR64,Back!$M$16:$N$20,2,0)),\"\")","v":""},{"$f":"+IFERROR((VLOOKUP('BASE DE RESPUESTAS'!AS64,Back!$M$16:$N$20,2,0)),\"\")","v":""},{"$f":"+IFERROR((VLOOKUP('BASE DE RESPUESTAS'!AT64,Back!$M$16:$N$20,2,0)),\"\")","v":""},{"$f":"+IFERROR((VLOOKUP('BASE DE RESPUESTAS'!AU64,Back!$M$16:$N$20,2,0)),\"\")","v":""},{"$f":"+IFERROR((VLOOKUP('BASE DE RESPUESTAS'!AV64,Back!$M$16:$N$20,2,0)),\"\")","v":""},{"$f":"+IFERROR((VLOOKUP('BASE DE RESPUESTAS'!AW64,Back!$M$16:$N$20,2,0)),\"\")","v":""},{"$f":"+IFERROR((VLOOKUP('BASE DE RESPUESTAS'!AX64,Back!$M$16:$N$20,2,0)),\"\")","v":""},{"$f":"+IFERROR((VLOOKUP('BASE DE RESPUESTAS'!AY64,Back!$M$16:$N$20,2,0)),\"\")","v":""},{"$f":"+IFERROR((VLOOKUP('BASE DE RESPUESTAS'!AZ64,Back!$M$16:$N$20,2,0)),\"\")","v":""},{"$f":"+IFERROR((VLOOKUP('BASE DE RESPUESTAS'!BA64,Back!$M$16:$N$20,2,0)),\"\")","v":""},{"$f":"+IFERROR((VLOOKUP('BASE DE RESPUESTAS'!BB64,Back!$M$16:$N$20,2,0)),\"\")","v":""},{"$f":"+IFERROR((VLOOKUP('BASE DE RESPUESTAS'!BC64,Back!$M$16:$N$20,2,0)),\"\")","v":""},{"$f":"+IFERROR((VLOOKUP('BASE DE RESPUESTAS'!BD64,Back!$M$16:$N$20,2,0)),\"\")","v":""},{"$f":"+IFERROR((VLOOKUP('BASE DE RESPUESTAS'!BE64,Back!$M$16:$N$20,2,0)),\"\")","v":""}]
[null,null,null,"El o la estudiante se siente acosado sexualmente por un compañero o adulto del colegio.",null,"",null,{"$f":"+IFERROR((VLOOKUP('BASE DE RESPUESTAS'!H65,Back!$M$16:$N$20,2,0)),\"\")","v":""},{"$f":"+IFERROR((VLOOKUP('BASE DE RESPUESTAS'!I65,Back!$M$16:$N$20,2,0)),\"\")","v":""},{"$f":"+IFERROR((VLOOKUP('BASE DE RESPUESTAS'!J65,Back!$M$16:$N$20,2,0)),\"\")","v":""},{"$f":"+IFERROR((VLOOKUP('BASE DE RESPUESTAS'!K65,Back!$M$16:$N$20,2,0)),\"\")","v":""},{"$f":"+IFERROR((VLOOKUP('BASE DE RESPUESTAS'!L65,Back!$M$16:$N$20,2,0)),\"\")","v":""},{"$f":"+IFERROR((VLOOKUP('BASE DE RESPUESTAS'!M65,Back!$M$16:$N$20,2,0)),\"\")","v":""},{"$f":"+IFERROR((VLOOKUP('BASE DE RESPUESTAS'!N65,Back!$M$16:$N$20,2,0)),\"\")","v":""},{"$f":"+IFERROR((VLOOKUP('BASE DE RESPUESTAS'!O65,Back!$M$16:$N$20,2,0)),\"\")","v":""},{"$f":"+IFERROR((VLOOKUP('BASE DE RESPUESTAS'!P65,Back!$M$16:$N$20,2,0)),\"\")","v":""},{"$f":"+IFERROR((VLOOKUP('BASE DE RESPUESTAS'!Q65,Back!$M$16:$N$20,2,0)),\"\")","v":""},{"$f":"+IFERROR((VLOOKUP('BASE DE RESPUESTAS'!R65,Back!$M$16:$N$20,2,0)),\"\")","v":""},{"$f":"+IFERROR((VLOOKUP('BASE DE RESPUESTAS'!S65,Back!$M$16:$N$20,2,0)),\"\")","v":""},{"$f":"+IFERROR((VLOOKUP('BASE DE RESPUESTAS'!T65,Back!$M$16:$N$20,2,0)),\"\")","v":""},{"$f":"+IFERROR((VLOOKUP('BASE DE RESPUESTAS'!U65,Back!$M$16:$N$20,2,0)),\"\")","v":""},{"$f":"+IFERROR((VLOOKUP('BASE DE RESPUESTAS'!V65,Back!$M$16:$N$20,2,0)),\"\")","v":""},{"$f":"+IFERROR((VLOOKUP('BASE DE RESPUESTAS'!W65,Back!$M$16:$N$20,2,0)),\"\")","v":""},{"$f":"+IFERROR((VLOOKUP('BASE DE RESPUESTAS'!X65,Back!$M$16:$N$20,2,0)),\"\")","v":""},{"$f":"+IFERROR((VLOOKUP('BASE DE RESPUESTAS'!Y65,Back!$M$16:$N$20,2,0)),\"\")","v":""},{"$f":"+IFERROR((VLOOKUP('BASE DE RESPUESTAS'!Z65,Back!$M$16:$N$20,2,0)),\"\")","v":""},{"$f":"+IFERROR((VLOOKUP('BASE DE RESPUESTAS'!AA65,Back!$M$16:$N$20,2,0)),\"\")","v":""},{"$f":"+IFERROR((VLOOKUP('BASE DE RESPUESTAS'!AB65,Back!$M$16:$N$20,2,0)),\"\")","v":""},{"$f":"+IFERROR((VLOOKUP('BASE DE RESPUESTAS'!AC65,Back!$M$16:$N$20,2,0)),\"\")","v":""},{"$f":"+IFERROR((VLOOKUP('BASE DE RESPUESTAS'!AD65,Back!$M$16:$N$20,2,0)),\"\")","v":""},{"$f":"+IFERROR((VLOOKUP('BASE DE RESPUESTAS'!AE65,Back!$M$16:$N$20,2,0)),\"\")","v":""},{"$f":"+IFERROR((VLOOKUP('BASE DE RESPUESTAS'!AF65,Back!$M$16:$N$20,2,0)),\"\")","v":""},{"$f":"+IFERROR((VLOOKUP('BASE DE RESPUESTAS'!AG65,Back!$M$16:$N$20,2,0)),\"\")","v":""},{"$f":"+IFERROR((VLOOKUP('BASE DE RESPUESTAS'!AH65,Back!$M$16:$N$20,2,0)),\"\")","v":""},{"$f":"+IFERROR((VLOOKUP('BASE DE RESPUESTAS'!AI65,Back!$M$16:$N$20,2,0)),\"\")","v":""},{"$f":"+IFERROR((VLOOKUP('BASE DE RESPUESTAS'!AJ65,Back!$M$16:$N$20,2,0)),\"\")","v":""},{"$f":"+IFERROR((VLOOKUP('BASE DE RESPUESTAS'!AK65,Back!$M$16:$N$20,2,0)),\"\")","v":""},{"$f":"+IFERROR((VLOOKUP('BASE DE RESPUESTAS'!AL65,Back!$M$16:$N$20,2,0)),\"\")","v":""},{"$f":"+IFERROR((VLOOKUP('BASE DE RESPUESTAS'!AM65,Back!$M$16:$N$20,2,0)),\"\")","v":""},{"$f":"+IFERROR((VLOOKUP('BASE DE RESPUESTAS'!AN65,Back!$M$16:$N$20,2,0)),\"\")","v":""},{"$f":"+IFERROR((VLOOKUP('BASE DE RESPUESTAS'!AO65,Back!$M$16:$N$20,2,0)),\"\")","v":""},{"$f":"+IFERROR((VLOOKUP('BASE DE RESPUESTAS'!AP65,Back!$M$16:$N$20,2,0)),\"\")","v":""},{"$f":"+IFERROR((VLOOKUP('BASE DE RESPUESTAS'!AQ65,Back!$M$16:$N$20,2,0)),\"\")","v":""},{"$f":"+IFERROR((VLOOKUP('BASE DE RESPUESTAS'!AR65,Back!$M$16:$N$20,2,0)),\"\")","v":""},{"$f":"+IFERROR((VLOOKUP('BASE DE RESPUESTAS'!AS65,Back!$M$16:$N$20,2,0)),\"\")","v":""},{"$f":"+IFERROR((VLOOKUP('BASE DE RESPUESTAS'!AT65,Back!$M$16:$N$20,2,0)),\"\")","v":""},{"$f":"+IFERROR((VLOOKUP('BASE DE RESPUESTAS'!AU65,Back!$M$16:$N$20,2,0)),\"\")","v":""},{"$f":"+IFERROR((VLOOKUP('BASE DE RESPUESTAS'!AV65,Back!$M$16:$N$20,2,0)),\"\")","v":""},{"$f":"+IFERROR((VLOOKUP('BASE DE RESPUESTAS'!AW65,Back!$M$16:$N$20,2,0)),\"\")","v":""},{"$f":"+IFERROR((VLOOKUP('BASE DE RESPUESTAS'!AX65,Back!$M$16:$N$20,2,0)),\"\")","v":""},{"$f":"+IFERROR((VLOOKUP('BASE DE RESPUESTAS'!AY65,Back!$M$16:$N$20,2,0)),\"\")","v":""},{"$f":"+IFERROR((VLOOKUP('BASE DE RESPUESTAS'!AZ65,Back!$M$16:$N$20,2,0)),\"\")","v":""},{"$f":"+IFERROR((VLOOKUP('BASE DE RESPUESTAS'!BA65,Back!$M$16:$N$20,2,0)),\"\")","v":""},{"$f":"+IFERROR((VLOOKUP('BASE DE RESPUESTAS'!BB65,Back!$M$16:$N$20,2,0)),\"\")","v":""},{"$f":"+IFERROR((VLOOKUP('BASE DE RESPUESTAS'!BC65,Back!$M$16:$N$20,2,0)),\"\")","v":""},{"$f":"+IFERROR((VLOOKUP('BASE DE RESPUESTAS'!BD65,Back!$M$16:$N$20,2,0)),\"\")","v":""},{"$f":"+IFERROR((VLOOKUP('BASE DE RESPUESTAS'!BE65,Back!$M$16:$N$20,2,0)),\"\")","v":""}]
[null,null,null,"El o la estudiante manifiesta agresividad verbal y/o física hacia otras personas",null,"",null,{"$f":"+IFERROR((VLOOKUP('BASE DE RESPUESTAS'!H66,Back!$M$16:$N$20,2,0)),\"\")","v":""},{"$f":"+IFERROR((VLOOKUP('BASE DE RESPUESTAS'!I66,Back!$M$16:$N$20,2,0)),\"\")","v":""},{"$f":"+IFERROR((VLOOKUP('BASE DE RESPUESTAS'!J66,Back!$M$16:$N$20,2,0)),\"\")","v":""},{"$f":"+IFERROR((VLOOKUP('BASE DE RESPUESTAS'!K66,Back!$M$16:$N$20,2,0)),\"\")","v":""},{"$f":"+IFERROR((VLOOKUP('BASE DE RESPUESTAS'!L66,Back!$M$16:$N$20,2,0)),\"\")","v":""},{"$f":"+IFERROR((VLOOKUP('BASE DE RESPUESTAS'!M66,Back!$M$16:$N$20,2,0)),\"\")","v":""},{"$f":"+IFERROR((VLOOKUP('BASE DE RESPUESTAS'!N66,Back!$M$16:$N$20,2,0)),\"\")","v":""},{"$f":"+IFERROR((VLOOKUP('BASE DE RESPUESTAS'!O66,Back!$M$16:$N$20,2,0)),\"\")","v":""},{"$f":"+IFERROR((VLOOKUP('BASE DE RESPUESTAS'!P66,Back!$M$16:$N$20,2,0)),\"\")","v":""},{"$f":"+IFERROR((VLOOKUP('BASE DE RESPUESTAS'!Q66,Back!$M$16:$N$20,2,0)),\"\")","v":""},{"$f":"+IFERROR((VLOOKUP('BASE DE RESPUESTAS'!R66,Back!$M$16:$N$20,2,0)),\"\")","v":""},{"$f":"+IFERROR((VLOOKUP('BASE DE RESPUESTAS'!S66,Back!$M$16:$N$20,2,0)),\"\")","v":""},{"$f":"+IFERROR((VLOOKUP('BASE DE RESPUESTAS'!T66,Back!$M$16:$N$20,2,0)),\"\")","v":""},{"$f":"+IFERROR((VLOOKUP('BASE DE RESPUESTAS'!U66,Back!$M$16:$N$20,2,0)),\"\")","v":""},{"$f":"+IFERROR((VLOOKUP('BASE DE RESPUESTAS'!V66,Back!$M$16:$N$20,2,0)),\"\")","v":""},{"$f":"+IFERROR((VLOOKUP('BASE DE RESPUESTAS'!W66,Back!$M$16:$N$20,2,0)),\"\")","v":""},{"$f":"+IFERROR((VLOOKUP('BASE DE RESPUESTAS'!X66,Back!$M$16:$N$20,2,0)),\"\")","v":""},{"$f":"+IFERROR((VLOOKUP('BASE DE RESPUESTAS'!Y66,Back!$M$16:$N$20,2,0)),\"\")","v":""},{"$f":"+IFERROR((VLOOKUP('BASE DE RESPUESTAS'!Z66,Back!$M$16:$N$20,2,0)),\"\")","v":""},{"$f":"+IFERROR((VLOOKUP('BASE DE RESPUESTAS'!AA66,Back!$M$16:$N$20,2,0)),\"\")","v":""},{"$f":"+IFERROR((VLOOKUP('BASE DE RESPUESTAS'!AB66,Back!$M$16:$N$20,2,0)),\"\")","v":""},{"$f":"+IFERROR((VLOOKUP('BASE DE RESPUESTAS'!AC66,Back!$M$16:$N$20,2,0)),\"\")","v":""},{"$f":"+IFERROR((VLOOKUP('BASE DE RESPUESTAS'!AD66,Back!$M$16:$N$20,2,0)),\"\")","v":""},{"$f":"+IFERROR((VLOOKUP('BASE DE RESPUESTAS'!AE66,Back!$M$16:$N$20,2,0)),\"\")","v":""},{"$f":"+IFERROR((VLOOKUP('BASE DE RESPUESTAS'!AF66,Back!$M$16:$N$20,2,0)),\"\")","v":""},{"$f":"+IFERROR((VLOOKUP('BASE DE RESPUESTAS'!AG66,Back!$M$16:$N$20,2,0)),\"\")","v":""},{"$f":"+IFERROR((VLOOKUP('BASE DE RESPUESTAS'!AH66,Back!$M$16:$N$20,2,0)),\"\")","v":""},{"$f":"+IFERROR((VLOOKUP('BASE DE RESPUESTAS'!AI66,Back!$M$16:$N$20,2,0)),\"\")","v":""},{"$f":"+IFERROR((VLOOKUP('BASE DE RESPUESTAS'!AJ66,Back!$M$16:$N$20,2,0)),\"\")","v":""},{"$f":"+IFERROR((VLOOKUP('BASE DE RESPUESTAS'!AK66,Back!$M$16:$N$20,2,0)),\"\")","v":""},{"$f":"+IFERROR((VLOOKUP('BASE DE RESPUESTAS'!AL66,Back!$M$16:$N$20,2,0)),\"\")","v":""},{"$f":"+IFERROR((VLOOKUP('BASE DE RESPUESTAS'!AM66,Back!$M$16:$N$20,2,0)),\"\")","v":""},{"$f":"+IFERROR((VLOOKUP('BASE DE RESPUESTAS'!AN66,Back!$M$16:$N$20,2,0)),\"\")","v":""},{"$f":"+IFERROR((VLOOKUP('BASE DE RESPUESTAS'!AO66,Back!$M$16:$N$20,2,0)),\"\")","v":""},{"$f":"+IFERROR((VLOOKUP('BASE DE RESPUESTAS'!AP66,Back!$M$16:$N$20,2,0)),\"\")","v":""},{"$f":"+IFERROR((VLOOKUP('BASE DE RESPUESTAS'!AQ66,Back!$M$16:$N$20,2,0)),\"\")","v":""},{"$f":"+IFERROR((VLOOKUP('BASE DE RESPUESTAS'!AR66,Back!$M$16:$N$20,2,0)),\"\")","v":""},{"$f":"+IFERROR((VLOOKUP('BASE DE RESPUESTAS'!AS66,Back!$M$16:$N$20,2,0)),\"\")","v":""},{"$f":"+IFERROR((VLOOKUP('BASE DE RESPUESTAS'!AT66,Back!$M$16:$N$20,2,0)),\"\")","v":""},{"$f":"+IFERROR((VLOOKUP('BASE DE RESPUESTAS'!AU66,Back!$M$16:$N$20,2,0)),\"\")","v":""},{"$f":"+IFERROR((VLOOKUP('BASE DE RESPUESTAS'!AV66,Back!$M$16:$N$20,2,0)),\"\")","v":""},{"$f":"+IFERROR((VLOOKUP('BASE DE RESPUESTAS'!AW66,Back!$M$16:$N$20,2,0)),\"\")","v":""},{"$f":"+IFERROR((VLOOKUP('BASE DE RESPUESTAS'!AX66,Back!$M$16:$N$20,2,0)),\"\")","v":""},{"$f":"+IFERROR((VLOOKUP('BASE DE RESPUESTAS'!AY66,Back!$M$16:$N$20,2,0)),\"\")","v":""},{"$f":"+IFERROR((VLOOKUP('BASE DE RESPUESTAS'!AZ66,Back!$M$16:$N$20,2,0)),\"\")","v":""},{"$f":"+IFERROR((VLOOKUP('BASE DE RESPUESTAS'!BA66,Back!$M$16:$N$20,2,0)),\"\")","v":""},{"$f":"+IFERROR((VLOOKUP('BASE DE RESPUESTAS'!BB66,Back!$M$16:$N$20,2,0)),\"\")","v":""},{"$f":"+IFERROR((VLOOKUP('BASE DE RESPUESTAS'!BC66,Back!$M$16:$N$20,2,0)),\"\")","v":""},{"$f":"+IFERROR((VLOOKUP('BASE DE RESPUESTAS'!BD66,Back!$M$16:$N$20,2,0)),\"\")","v":""},{"$f":"+IFERROR((VLOOKUP('BASE DE RESPUESTAS'!BE66,Back!$M$16:$N$20,2,0)),\"\")","v":""}]
[null,"FR","Limitados recursos económicos","El o la estudiante no tiene acceso a servicios de salud.",null,"",null,{"$f":"+IFERROR((VLOOKUP('BASE DE RESPUESTAS'!H67,Back!$M$16:$N$20,2,0)),\"\")","v":""},{"$f":"+IFERROR((VLOOKUP('BASE DE RESPUESTAS'!I67,Back!$M$16:$N$20,2,0)),\"\")","v":""},{"$f":"+IFERROR((VLOOKUP('BASE DE RESPUESTAS'!J67,Back!$M$16:$N$20,2,0)),\"\")","v":""},{"$f":"+IFERROR((VLOOKUP('BASE DE RESPUESTAS'!K67,Back!$M$16:$N$20,2,0)),\"\")","v":""},{"$f":"+IFERROR((VLOOKUP('BASE DE RESPUESTAS'!L67,Back!$M$16:$N$20,2,0)),\"\")","v":""},{"$f":"+IFERROR((VLOOKUP('BASE DE RESPUESTAS'!M67,Back!$M$16:$N$20,2,0)),\"\")","v":""},{"$f":"+IFERROR((VLOOKUP('BASE DE RESPUESTAS'!N67,Back!$M$16:$N$20,2,0)),\"\")","v":""},{"$f":"+IFERROR((VLOOKUP('BASE DE RESPUESTAS'!O67,Back!$M$16:$N$20,2,0)),\"\")","v":""},{"$f":"+IFERROR((VLOOKUP('BASE DE RESPUESTAS'!P67,Back!$M$16:$N$20,2,0)),\"\")","v":""},{"$f":"+IFERROR((VLOOKUP('BASE DE RESPUESTAS'!Q67,Back!$M$16:$N$20,2,0)),\"\")","v":""},{"$f":"+IFERROR((VLOOKUP('BASE DE RESPUESTAS'!R67,Back!$M$16:$N$20,2,0)),\"\")","v":""},{"$f":"+IFERROR((VLOOKUP('BASE DE RESPUESTAS'!S67,Back!$M$16:$N$20,2,0)),\"\")","v":""},{"$f":"+IFERROR((VLOOKUP('BASE DE RESPUESTAS'!T67,Back!$M$16:$N$20,2,0)),\"\")","v":""},{"$f":"+IFERROR((VLOOKUP('BASE DE RESPUESTAS'!U67,Back!$M$16:$N$20,2,0)),\"\")","v":""},{"$f":"+IFERROR((VLOOKUP('BASE DE RESPUESTAS'!V67,Back!$M$16:$N$20,2,0)),\"\")","v":""},{"$f":"+IFERROR((VLOOKUP('BASE DE RESPUESTAS'!W67,Back!$M$16:$N$20,2,0)),\"\")","v":""},{"$f":"+IFERROR((VLOOKUP('BASE DE RESPUESTAS'!X67,Back!$M$16:$N$20,2,0)),\"\")","v":""},{"$f":"+IFERROR((VLOOKUP('BASE DE RESPUESTAS'!Y67,Back!$M$16:$N$20,2,0)),\"\")","v":""},{"$f":"+IFERROR((VLOOKUP('BASE DE RESPUESTAS'!Z67,Back!$M$16:$N$20,2,0)),\"\")","v":""},{"$f":"+IFERROR((VLOOKUP('BASE DE RESPUESTAS'!AA67,Back!$M$16:$N$20,2,0)),\"\")","v":""},{"$f":"+IFERROR((VLOOKUP('BASE DE RESPUESTAS'!AB67,Back!$M$16:$N$20,2,0)),\"\")","v":""},{"$f":"+IFERROR((VLOOKUP('BASE DE RESPUESTAS'!AC67,Back!$M$16:$N$20,2,0)),\"\")","v":""},{"$f":"+IFERROR((VLOOKUP('BASE DE RESPUESTAS'!AD67,Back!$M$16:$N$20,2,0)),\"\")","v":""},{"$f":"+IFERROR((VLOOKUP('BASE DE RESPUESTAS'!AE67,Back!$M$16:$N$20,2,0)),\"\")","v":""},{"$f":"+IFERROR((VLOOKUP('BASE DE RESPUESTAS'!AF67,Back!$M$16:$N$20,2,0)),\"\")","v":""},{"$f":"+IFERROR((VLOOKUP('BASE DE RESPUESTAS'!AG67,Back!$M$16:$N$20,2,0)),\"\")","v":""},{"$f":"+IFERROR((VLOOKUP('BASE DE RESPUESTAS'!AH67,Back!$M$16:$N$20,2,0)),\"\")","v":""},{"$f":"+IFERROR((VLOOKUP('BASE DE RESPUESTAS'!AI67,Back!$M$16:$N$20,2,0)),\"\")","v":""},{"$f":"+IFERROR((VLOOKUP('BASE DE RESPUESTAS'!AJ67,Back!$M$16:$N$20,2,0)),\"\")","v":""},{"$f":"+IFERROR((VLOOKUP('BASE DE RESPUESTAS'!AK67,Back!$M$16:$N$20,2,0)),\"\")","v":""},{"$f":"+IFERROR((VLOOKUP('BASE DE RESPUESTAS'!AL67,Back!$M$16:$N$20,2,0)),\"\")","v":""},{"$f":"+IFERROR((VLOOKUP('BASE DE RESPUESTAS'!AM67,Back!$M$16:$N$20,2,0)),\"\")","v":""},{"$f":"+IFERROR((VLOOKUP('BASE DE RESPUESTAS'!AN67,Back!$M$16:$N$20,2,0)),\"\")","v":""},{"$f":"+IFERROR((VLOOKUP('BASE DE RESPUESTAS'!AO67,Back!$M$16:$N$20,2,0)),\"\")","v":""},{"$f":"+IFERROR((VLOOKUP('BASE DE RESPUESTAS'!AP67,Back!$M$16:$N$20,2,0)),\"\")","v":""},{"$f":"+IFERROR((VLOOKUP('BASE DE RESPUESTAS'!AQ67,Back!$M$16:$N$20,2,0)),\"\")","v":""},{"$f":"+IFERROR((VLOOKUP('BASE DE RESPUESTAS'!AR67,Back!$M$16:$N$20,2,0)),\"\")","v":""},{"$f":"+IFERROR((VLOOKUP('BASE DE RESPUESTAS'!AS67,Back!$M$16:$N$20,2,0)),\"\")","v":""},{"$f":"+IFERROR((VLOOKUP('BASE DE RESPUESTAS'!AT67,Back!$M$16:$N$20,2,0)),\"\")","v":""},{"$f":"+IFERROR((VLOOKUP('BASE DE RESPUESTAS'!AU67,Back!$M$16:$N$20,2,0)),\"\")","v":""},{"$f":"+IFERROR((VLOOKUP('BASE DE RESPUESTAS'!AV67,Back!$M$16:$N$20,2,0)),\"\")","v":""},{"$f":"+IFERROR((VLOOKUP('BASE DE RESPUESTAS'!AW67,Back!$M$16:$N$20,2,0)),\"\")","v":""},{"$f":"+IFERROR((VLOOKUP('BASE DE RESPUESTAS'!AX67,Back!$M$16:$N$20,2,0)),\"\")","v":""},{"$f":"+IFERROR((VLOOKUP('BASE DE RESPUESTAS'!AY67,Back!$M$16:$N$20,2,0)),\"\")","v":""},{"$f":"+IFERROR((VLOOKUP('BASE DE RESPUESTAS'!AZ67,Back!$M$16:$N$20,2,0)),\"\")","v":""},{"$f":"+IFERROR((VLOOKUP('BASE DE RESPUESTAS'!BA67,Back!$M$16:$N$20,2,0)),\"\")","v":""},{"$f":"+IFERROR((VLOOKUP('BASE DE RESPUESTAS'!BB67,Back!$M$16:$N$20,2,0)),\"\")","v":""},{"$f":"+IFERROR((VLOOKUP('BASE DE RESPUESTAS'!BC67,Back!$M$16:$N$20,2,0)),\"\")","v":""},{"$f":"+IFERROR((VLOOKUP('BASE DE RESPUESTAS'!BD67,Back!$M$16:$N$20,2,0)),\"\")","v":""},{"$f":"+IFERROR((VLOOKUP('BASE DE RESPUESTAS'!BE67,Back!$M$16:$N$20,2,0)),\"\")","v":""}]
[null,null,null,"El o la estudiante no tiene acceso a una alimentación adecuada.",null,"",null,{"$f":"+IFERROR((VLOOKUP('BASE DE RESPUESTAS'!H68,Back!$M$16:$N$20,2,0)),\"\")","v":""},{"$f":"+IFERROR((VLOOKUP('BASE DE RESPUESTAS'!I68,Back!$M$16:$N$20,2,0)),\"\")","v":""},{"$f":"+IFERROR((VLOOKUP('BASE DE RESPUESTAS'!J68,Back!$M$16:$N$20,2,0)),\"\")","v":""},{"$f":"+IFERROR((VLOOKUP('BASE DE RESPUESTAS'!K68,Back!$M$16:$N$20,2,0)),\"\")","v":""},{"$f":"+IFERROR((VLOOKUP('BASE DE RESPUESTAS'!L68,Back!$M$16:$N$20,2,0)),\"\")","v":""},{"$f":"+IFERROR((VLOOKUP('BASE DE RESPUESTAS'!M68,Back!$M$16:$N$20,2,0)),\"\")","v":""},{"$f":"+IFERROR((VLOOKUP('BASE DE RESPUESTAS'!N68,Back!$M$16:$N$20,2,0)),\"\")","v":""},{"$f":"+IFERROR((VLOOKUP('BASE DE RESPUESTAS'!O68,Back!$M$16:$N$20,2,0)),\"\")","v":""},{"$f":"+IFERROR((VLOOKUP('BASE DE RESPUESTAS'!P68,Back!$M$16:$N$20,2,0)),\"\")","v":""},{"$f":"+IFERROR((VLOOKUP('BASE DE RESPUESTAS'!Q68,Back!$M$16:$N$20,2,0)),\"\")","v":""},{"$f":"+IFERROR((VLOOKUP('BASE DE RESPUESTAS'!R68,Back!$M$16:$N$20,2,0)),\"\")","v":""},{"$f":"+IFERROR((VLOOKUP('BASE DE RESPUESTAS'!S68,Back!$M$16:$N$20,2,0)),\"\")","v":""},{"$f":"+IFERROR((VLOOKUP('BASE DE RESPUESTAS'!T68,Back!$M$16:$N$20,2,0)),\"\")","v":""},{"$f":"+IFERROR((VLOOKUP('BASE DE RESPUESTAS'!U68,Back!$M$16:$N$20,2,0)),\"\")","v":""},{"$f":"+IFERROR((VLOOKUP('BASE DE RESPUESTAS'!V68,Back!$M$16:$N$20,2,0)),\"\")","v":""},{"$f":"+IFERROR((VLOOKUP('BASE DE RESPUESTAS'!W68,Back!$M$16:$N$20,2,0)),\"\")","v":""},{"$f":"+IFERROR((VLOOKUP('BASE DE RESPUESTAS'!X68,Back!$M$16:$N$20,2,0)),\"\")","v":""},{"$f":"+IFERROR((VLOOKUP('BASE DE RESPUESTAS'!Y68,Back!$M$16:$N$20,2,0)),\"\")","v":""},{"$f":"+IFERROR((VLOOKUP('BASE DE RESPUESTAS'!Z68,Back!$M$16:$N$20,2,0)),\"\")","v":""},{"$f":"+IFERROR((VLOOKUP('BASE DE RESPUESTAS'!AA68,Back!$M$16:$N$20,2,0)),\"\")","v":""},{"$f":"+IFERROR((VLOOKUP('BASE DE RESPUESTAS'!AB68,Back!$M$16:$N$20,2,0)),\"\")","v":""},{"$f":"+IFERROR((VLOOKUP('BASE DE RESPUESTAS'!AC68,Back!$M$16:$N$20,2,0)),\"\")","v":""},{"$f":"+IFERROR((VLOOKUP('BASE DE RESPUESTAS'!AD68,Back!$M$16:$N$20,2,0)),\"\")","v":""},{"$f":"+IFERROR((VLOOKUP('BASE DE RESPUESTAS'!AE68,Back!$M$16:$N$20,2,0)),\"\")","v":""},{"$f":"+IFERROR((VLOOKUP('BASE DE RESPUESTAS'!AF68,Back!$M$16:$N$20,2,0)),\"\")","v":""},{"$f":"+IFERROR((VLOOKUP('BASE DE RESPUESTAS'!AG68,Back!$M$16:$N$20,2,0)),\"\")","v":""},{"$f":"+IFERROR((VLOOKUP('BASE DE RESPUESTAS'!AH68,Back!$M$16:$N$20,2,0)),\"\")","v":""},{"$f":"+IFERROR((VLOOKUP('BASE DE RESPUESTAS'!AI68,Back!$M$16:$N$20,2,0)),\"\")","v":""},{"$f":"+IFERROR((VLOOKUP('BASE DE RESPUESTAS'!AJ68,Back!$M$16:$N$20,2,0)),\"\")","v":""},{"$f":"+IFERROR((VLOOKUP('BASE DE RESPUESTAS'!AK68,Back!$M$16:$N$20,2,0)),\"\")","v":""},{"$f":"+IFERROR((VLOOKUP('BASE DE RESPUESTAS'!AL68,Back!$M$16:$N$20,2,0)),\"\")","v":""},{"$f":"+IFERROR((VLOOKUP('BASE DE RESPUESTAS'!AM68,Back!$M$16:$N$20,2,0)),\"\")","v":""},{"$f":"+IFERROR((VLOOKUP('BASE DE RESPUESTAS'!AN68,Back!$M$16:$N$20,2,0)),\"\")","v":""},{"$f":"+IFERROR((VLOOKUP('BASE DE RESPUESTAS'!AO68,Back!$M$16:$N$20,2,0)),\"\")","v":""},{"$f":"+IFERROR((VLOOKUP('BASE DE RESPUESTAS'!AP68,Back!$M$16:$N$20,2,0)),\"\")","v":""},{"$f":"+IFERROR((VLOOKUP('BASE DE RESPUESTAS'!AQ68,Back!$M$16:$N$20,2,0)),\"\")","v":""},{"$f":"+IFERROR((VLOOKUP('BASE DE RESPUESTAS'!AR68,Back!$M$16:$N$20,2,0)),\"\")","v":""},{"$f":"+IFERROR((VLOOKUP('BASE DE RESPUESTAS'!AS68,Back!$M$16:$N$20,2,0)),\"\")","v":""},{"$f":"+IFERROR((VLOOKUP('BASE DE RESPUESTAS'!AT68,Back!$M$16:$N$20,2,0)),\"\")","v":""},{"$f":"+IFERROR((VLOOKUP('BASE DE RESPUESTAS'!AU68,Back!$M$16:$N$20,2,0)),\"\")","v":""},{"$f":"+IFERROR((VLOOKUP('BASE DE RESPUESTAS'!AV68,Back!$M$16:$N$20,2,0)),\"\")","v":""},{"$f":"+IFERROR((VLOOKUP('BASE DE RESPUESTAS'!AW68,Back!$M$16:$N$20,2,0)),\"\")","v":""},{"$f":"+IFERROR((VLOOKUP('BASE DE RESPUESTAS'!AX68,Back!$M$16:$N$20,2,0)),\"\")","v":""},{"$f":"+IFERROR((VLOOKUP('BASE DE RESPUESTAS'!AY68,Back!$M$16:$N$20,2,0)),\"\")","v":""},{"$f":"+IFERROR((VLOOKUP('BASE DE RESPUESTAS'!AZ68,Back!$M$16:$N$20,2,0)),\"\")","v":""},{"$f":"+IFERROR((VLOOKUP('BASE DE RESPUESTAS'!BA68,Back!$M$16:$N$20,2,0)),\"\")","v":""},{"$f":"+IFERROR((VLOOKUP('BASE DE RESPUESTAS'!BB68,Back!$M$16:$N$20,2,0)),\"\")","v":""},{"$f":"+IFERROR((VLOOKUP('BASE DE RESPUESTAS'!BC68,Back!$M$16:$N$20,2,0)),\"\")","v":""},{"$f":"+IFERROR((VLOOKUP('BASE DE RESPUESTAS'!BD68,Back!$M$16:$N$20,2,0)),\"\")","v":""},{"$f":"+IFERROR((VLOOKUP('BASE DE RESPUESTAS'!BE68,Back!$M$16:$N$20,2,0)),\"\")","v":""}]
[null,null,null,"La vivienda del o la estudiante no cuenta con alguno de los servicios básicos: luz, agua potable",null,"",null,{"$f":"+IFERROR((VLOOKUP('BASE DE RESPUESTAS'!H69,Back!$M$16:$N$20,2,0)),\"\")","v":""},{"$f":"+IFERROR((VLOOKUP('BASE DE RESPUESTAS'!I69,Back!$M$16:$N$20,2,0)),\"\")","v":""},{"$f":"+IFERROR((VLOOKUP('BASE DE RESPUESTAS'!J69,Back!$M$16:$N$20,2,0)),\"\")","v":""},{"$f":"+IFERROR((VLOOKUP('BASE DE RESPUESTAS'!K69,Back!$M$16:$N$20,2,0)),\"\")","v":""},{"$f":"+IFERROR((VLOOKUP('BASE DE RESPUESTAS'!L69,Back!$M$16:$N$20,2,0)),\"\")","v":""},{"$f":"+IFERROR((VLOOKUP('BASE DE RESPUESTAS'!M69,Back!$M$16:$N$20,2,0)),\"\")","v":""},{"$f":"+IFERROR((VLOOKUP('BASE DE RESPUESTAS'!N69,Back!$M$16:$N$20,2,0)),\"\")","v":""},{"$f":"+IFERROR((VLOOKUP('BASE DE RESPUESTAS'!O69,Back!$M$16:$N$20,2,0)),\"\")","v":""},{"$f":"+IFERROR((VLOOKUP('BASE DE RESPUESTAS'!P69,Back!$M$16:$N$20,2,0)),\"\")","v":""},{"$f":"+IFERROR((VLOOKUP('BASE DE RESPUESTAS'!Q69,Back!$M$16:$N$20,2,0)),\"\")","v":""},{"$f":"+IFERROR((VLOOKUP('BASE DE RESPUESTAS'!R69,Back!$M$16:$N$20,2,0)),\"\")","v":""},{"$f":"+IFERROR((VLOOKUP('BASE DE RESPUESTAS'!S69,Back!$M$16:$N$20,2,0)),\"\")","v":""},{"$f":"+IFERROR((VLOOKUP('BASE DE RESPUESTAS'!T69,Back!$M$16:$N$20,2,0)),\"\")","v":""},{"$f":"+IFERROR((VLOOKUP('BASE DE RESPUESTAS'!U69,Back!$M$16:$N$20,2,0)),\"\")","v":""},{"$f":"+IFERROR((VLOOKUP('BASE DE RESPUESTAS'!V69,Back!$M$16:$N$20,2,0)),\"\")","v":""},{"$f":"+IFERROR((VLOOKUP('BASE DE RESPUESTAS'!W69,Back!$M$16:$N$20,2,0)),\"\")","v":""},{"$f":"+IFERROR((VLOOKUP('BASE DE RESPUESTAS'!X69,Back!$M$16:$N$20,2,0)),\"\")","v":""},{"$f":"+IFERROR((VLOOKUP('BASE DE RESPUESTAS'!Y69,Back!$M$16:$N$20,2,0)),\"\")","v":""},{"$f":"+IFERROR((VLOOKUP('BASE DE RESPUESTAS'!Z69,Back!$M$16:$N$20,2,0)),\"\")","v":""},{"$f":"+IFERROR((VLOOKUP('BASE DE RESPUESTAS'!AA69,Back!$M$16:$N$20,2,0)),\"\")","v":""},{"$f":"+IFERROR((VLOOKUP('BASE DE RESPUESTAS'!AB69,Back!$M$16:$N$20,2,0)),\"\")","v":""},{"$f":"+IFERROR((VLOOKUP('BASE DE RESPUESTAS'!AC69,Back!$M$16:$N$20,2,0)),\"\")","v":""},{"$f":"+IFERROR((VLOOKUP('BASE DE RESPUESTAS'!AD69,Back!$M$16:$N$20,2,0)),\"\")","v":""},{"$f":"+IFERROR((VLOOKUP('BASE DE RESPUESTAS'!AE69,Back!$M$16:$N$20,2,0)),\"\")","v":""},{"$f":"+IFERROR((VLOOKUP('BASE DE RESPUESTAS'!AF69,Back!$M$16:$N$20,2,0)),\"\")","v":""},{"$f":"+IFERROR((VLOOKUP('BASE DE RESPUESTAS'!AG69,Back!$M$16:$N$20,2,0)),\"\")","v":""},{"$f":"+IFERROR((VLOOKUP('BASE DE RESPUESTAS'!AH69,Back!$M$16:$N$20,2,0)),\"\")","v":""},{"$f":"+IFERROR((VLOOKUP('BASE DE RESPUESTAS'!AI69,Back!$M$16:$N$20,2,0)),\"\")","v":""},{"$f":"+IFERROR((VLOOKUP('BASE DE RESPUESTAS'!AJ69,Back!$M$16:$N$20,2,0)),\"\")","v":""},{"$f":"+IFERROR((VLOOKUP('BASE DE RESPUESTAS'!AK69,Back!$M$16:$N$20,2,0)),\"\")","v":""},{"$f":"+IFERROR((VLOOKUP('BASE DE RESPUESTAS'!AL69,Back!$M$16:$N$20,2,0)),\"\")","v":""},{"$f":"+IFERROR((VLOOKUP('BASE DE RESPUESTAS'!AM69,Back!$M$16:$N$20,2,0)),\"\")","v":""},{"$f":"+IFERROR((VLOOKUP('BASE DE RESPUESTAS'!AN69,Back!$M$16:$N$20,2,0)),\"\")","v":""},{"$f":"+IFERROR((VLOOKUP('BASE DE RESPUESTAS'!AO69,Back!$M$16:$N$20,2,0)),\"\")","v":""},{"$f":"+IFERROR((VLOOKUP('BASE DE RESPUESTAS'!AP69,Back!$M$16:$N$20,2,0)),\"\")","v":""},{"$f":"+IFERROR((VLOOKUP('BASE DE RESPUESTAS'!AQ69,Back!$M$16:$N$20,2,0)),\"\")","v":""},{"$f":"+IFERROR((VLOOKUP('BASE DE RESPUESTAS'!AR69,Back!$M$16:$N$20,2,0)),\"\")","v":""},{"$f":"+IFERROR((VLOOKUP('BASE DE RESPUESTAS'!AS69,Back!$M$16:$N$20,2,0)),\"\")","v":""},{"$f":"+IFERROR((VLOOKUP('BASE DE RESPUESTAS'!AT69,Back!$M$16:$N$20,2,0)),\"\")","v":""},{"$f":"+IFERROR((VLOOKUP('BASE DE RESPUESTAS'!AU69,Back!$M$16:$N$20,2,0)),\"\")","v":""},{"$f":"+IFERROR((VLOOKUP('BASE DE RESPUESTAS'!AV69,Back!$M$16:$N$20,2,0)),\"\")","v":""},{"$f":"+IFERROR((VLOOKUP('BASE DE RESPUESTAS'!AW69,Back!$M$16:$N$20,2,0)),\"\")","v":""},{"$f":"+IFERROR((VLOOKUP('BASE DE RESPUESTAS'!AX69,Back!$M$16:$N$20,2,0)),\"\")","v":""},{"$f":"+IFERROR((VLOOKUP('BASE DE RESPUESTAS'!AY69,Back!$M$16:$N$20,2,0)),\"\")","v":""},{"$f":"+IFERROR((VLOOKUP('BASE DE RESPUESTAS'!AZ69,Back!$M$16:$N$20,2,0)),\"\")","v":""},{"$f":"+IFERROR((VLOOKUP('BASE DE RESPUESTAS'!BA69,Back!$M$16:$N$20,2,0)),\"\")","v":""},{"$f":"+IFERROR((VLOOKUP('BASE DE RESPUESTAS'!BB69,Back!$M$16:$N$20,2,0)),\"\")","v":""},{"$f":"+IFERROR((VLOOKUP('BASE DE RESPUESTAS'!BC69,Back!$M$16:$N$20,2,0)),\"\")","v":""},{"$f":"+IFERROR((VLOOKUP('BASE DE RESPUESTAS'!BD69,Back!$M$16:$N$20,2,0)),\"\")","v":""},{"$f":"+IFERROR((VLOOKUP('BASE DE RESPUESTAS'!BE69,Back!$M$16:$N$20,2,0)),\"\")","v":""}]
[null,null,null,"La familia del o la estudiante tiene ingresos económicos limitados.",null,"",null,{"$f":"+IFERROR((VLOOKUP('BASE DE RESPUESTAS'!H70,Back!$M$16:$N$20,2,0)),\"\")","v":""},{"$f":"+IFERROR((VLOOKUP('BASE DE RESPUESTAS'!I70,Back!$M$16:$N$20,2,0)),\"\")","v":""},{"$f":"+IFERROR((VLOOKUP('BASE DE RESPUESTAS'!J70,Back!$M$16:$N$20,2,0)),\"\")","v":""},{"$f":"+IFERROR((VLOOKUP('BASE DE RESPUESTAS'!K70,Back!$M$16:$N$20,2,0)),\"\")","v":""},{"$f":"+IFERROR((VLOOKUP('BASE DE RESPUESTAS'!L70,Back!$M$16:$N$20,2,0)),\"\")","v":""},{"$f":"+IFERROR((VLOOKUP('BASE DE RESPUESTAS'!M70,Back!$M$16:$N$20,2,0)),\"\")","v":""},{"$f":"+IFERROR((VLOOKUP('BASE DE RESPUESTAS'!N70,Back!$M$16:$N$20,2,0)),\"\")","v":""},{"$f":"+IFERROR((VLOOKUP('BASE DE RESPUESTAS'!O70,Back!$M$16:$N$20,2,0)),\"\")","v":""},{"$f":"+IFERROR((VLOOKUP('BASE DE RESPUESTAS'!P70,Back!$M$16:$N$20,2,0)),\"\")","v":""},{"$f":"+IFERROR((VLOOKUP('BASE DE RESPUESTAS'!Q70,Back!$M$16:$N$20,2,0)),\"\")","v":""},{"$f":"+IFERROR((VLOOKUP('BASE DE RESPUESTAS'!R70,Back!$M$16:$N$20,2,0)),\"\")","v":""},{"$f":"+IFERROR((VLOOKUP('BASE DE RESPUESTAS'!S70,Back!$M$16:$N$20,2,0)),\"\")","v":""},{"$f":"+IFERROR((VLOOKUP('BASE DE RESPUESTAS'!T70,Back!$M$16:$N$20,2,0)),\"\")","v":""},{"$f":"+IFERROR((VLOOKUP('BASE DE RESPUESTAS'!U70,Back!$M$16:$N$20,2,0)),\"\")","v":""},{"$f":"+IFERROR((VLOOKUP('BASE DE RESPUESTAS'!V70,Back!$M$16:$N$20,2,0)),\"\")","v":""},{"$f":"+IFERROR((VLOOKUP('BASE DE RESPUESTAS'!W70,Back!$M$16:$N$20,2,0)),\"\")","v":""},{"$f":"+IFERROR((VLOOKUP('BASE DE RESPUESTAS'!X70,Back!$M$16:$N$20,2,0)),\"\")","v":""},{"$f":"+IFERROR((VLOOKUP('BASE DE RESPUESTAS'!Y70,Back!$M$16:$N$20,2,0)),\"\")","v":""},{"$f":"+IFERROR((VLOOKUP('BASE DE RESPUESTAS'!Z70,Back!$M$16:$N$20,2,0)),\"\")","v":""},{"$f":"+IFERROR((VLOOKUP('BASE DE RESPUESTAS'!AA70,Back!$M$16:$N$20,2,0)),\"\")","v":""},{"$f":"+IFERROR((VLOOKUP('BASE DE RESPUESTAS'!AB70,Back!$M$16:$N$20,2,0)),\"\")","v":""},{"$f":"+IFERROR((VLOOKUP('BASE DE RESPUESTAS'!AC70,Back!$M$16:$N$20,2,0)),\"\")","v":""},{"$f":"+IFERROR((VLOOKUP('BASE DE RESPUESTAS'!AD70,Back!$M$16:$N$20,2,0)),\"\")","v":""},{"$f":"+IFERROR((VLOOKUP('BASE DE RESPUESTAS'!AE70,Back!$M$16:$N$20,2,0)),\"\")","v":""},{"$f":"+IFERROR((VLOOKUP('BASE DE RESPUESTAS'!AF70,Back!$M$16:$N$20,2,0)),\"\")","v":""},{"$f":"+IFERROR((VLOOKUP('BASE DE RESPUESTAS'!AG70,Back!$M$16:$N$20,2,0)),\"\")","v":""},{"$f":"+IFERROR((VLOOKUP('BASE DE RESPUESTAS'!AH70,Back!$M$16:$N$20,2,0)),\"\")","v":""},{"$f":"+IFERROR((VLOOKUP('BASE DE RESPUESTAS'!AI70,Back!$M$16:$N$20,2,0)),\"\")","v":""},{"$f":"+IFERROR((VLOOKUP('BASE DE RESPUESTAS'!AJ70,Back!$M$16:$N$20,2,0)),\"\")","v":""},{"$f":"+IFERROR((VLOOKUP('BASE DE RESPUESTAS'!AK70,Back!$M$16:$N$20,2,0)),\"\")","v":""},{"$f":"+IFERROR((VLOOKUP('BASE DE RESPUESTAS'!AL70,Back!$M$16:$N$20,2,0)),\"\")","v":""},{"$f":"+IFERROR((VLOOKUP('BASE DE RESPUESTAS'!AM70,Back!$M$16:$N$20,2,0)),\"\")","v":""},{"$f":"+IFERROR((VLOOKUP('BASE DE RESPUESTAS'!AN70,Back!$M$16:$N$20,2,0)),\"\")","v":""},{"$f":"+IFERROR((VLOOKUP('BASE DE RESPUESTAS'!AO70,Back!$M$16:$N$20,2,0)),\"\")","v":""},{"$f":"+IFERROR((VLOOKUP('BASE DE RESPUESTAS'!AP70,Back!$M$16:$N$20,2,0)),\"\")","v":""},{"$f":"+IFERROR((VLOOKUP('BASE DE RESPUESTAS'!AQ70,Back!$M$16:$N$20,2,0)),\"\")","v":""},{"$f":"+IFERROR((VLOOKUP('BASE DE RESPUESTAS'!AR70,Back!$M$16:$N$20,2,0)),\"\")","v":""},{"$f":"+IFERROR((VLOOKUP('BASE DE RESPUESTAS'!AS70,Back!$M$16:$N$20,2,0)),\"\")","v":""},{"$f":"+IFERROR((VLOOKUP('BASE DE RESPUESTAS'!AT70,Back!$M$16:$N$20,2,0)),\"\")","v":""},{"$f":"+IFERROR((VLOOKUP('BASE DE RESPUESTAS'!AU70,Back!$M$16:$N$20,2,0)),\"\")","v":""},{"$f":"+IFERROR((VLOOKUP('BASE DE RESPUESTAS'!AV70,Back!$M$16:$N$20,2,0)),\"\")","v":""},{"$f":"+IFERROR((VLOOKUP('BASE DE RESPUESTAS'!AW70,Back!$M$16:$N$20,2,0)),\"\")","v":""},{"$f":"+IFERROR((VLOOKUP('BASE DE RESPUESTAS'!AX70,Back!$M$16:$N$20,2,0)),\"\")","v":""},{"$f":"+IFERROR((VLOOKUP('BASE DE RESPUESTAS'!AY70,Back!$M$16:$N$20,2,0)),\"\")","v":""},{"$f":"+IFERROR((VLOOKUP('BASE DE RESPUESTAS'!AZ70,Back!$M$16:$N$20,2,0)),\"\")","v":""},{"$f":"+IFERROR((VLOOKUP('BASE DE RESPUESTAS'!BA70,Back!$M$16:$N$20,2,0)),\"\")","v":""},{"$f":"+IFERROR((VLOOKUP('BASE DE RESPUESTAS'!BB70,Back!$M$16:$N$20,2,0)),\"\")","v":""},{"$f":"+IFERROR((VLOOKUP('BASE DE RESPUESTAS'!BC70,Back!$M$16:$N$20,2,0)),\"\")","v":""},{"$f":"+IFERROR((VLOOKUP('BASE DE RESPUESTAS'!BD70,Back!$M$16:$N$20,2,0)),\"\")","v":""},{"$f":"+IFERROR((VLOOKUP('BASE DE RESPUESTAS'!BE70,Back!$M$16:$N$20,2,0)),\"\")","v":""}]
[null,"FR","Entorno de riesgo","El o la estudiante tiene amistad con personas que infringen la ley.",null,"",null,{"$f":"+IFERROR((VLOOKUP('BASE DE RESPUESTAS'!H71,Back!$M$16:$N$20,2,0)),\"\")","v":""},{"$f":"+IFERROR((VLOOKUP('BASE DE RESPUESTAS'!I71,Back!$M$16:$N$20,2,0)),\"\")","v":""},{"$f":"+IFERROR((VLOOKUP('BASE DE RESPUESTAS'!J71,Back!$M$16:$N$20,2,0)),\"\")","v":""},{"$f":"+IFERROR((VLOOKUP('BASE DE RESPUESTAS'!K71,Back!$M$16:$N$20,2,0)),\"\")","v":""},{"$f":"+IFERROR((VLOOKUP('BASE DE RESPUESTAS'!L71,Back!$M$16:$N$20,2,0)),\"\")","v":""},{"$f":"+IFERROR((VLOOKUP('BASE DE RESPUESTAS'!M71,Back!$M$16:$N$20,2,0)),\"\")","v":""},{"$f":"+IFERROR((VLOOKUP('BASE DE RESPUESTAS'!N71,Back!$M$16:$N$20,2,0)),\"\")","v":""},{"$f":"+IFERROR((VLOOKUP('BASE DE RESPUESTAS'!O71,Back!$M$16:$N$20,2,0)),\"\")","v":""},{"$f":"+IFERROR((VLOOKUP('BASE DE RESPUESTAS'!P71,Back!$M$16:$N$20,2,0)),\"\")","v":""},{"$f":"+IFERROR((VLOOKUP('BASE DE RESPUESTAS'!Q71,Back!$M$16:$N$20,2,0)),\"\")","v":""},{"$f":"+IFERROR((VLOOKUP('BASE DE RESPUESTAS'!R71,Back!$M$16:$N$20,2,0)),\"\")","v":""},{"$f":"+IFERROR((VLOOKUP('BASE DE RESPUESTAS'!S71,Back!$M$16:$N$20,2,0)),\"\")","v":""},{"$f":"+IFERROR((VLOOKUP('BASE DE RESPUESTAS'!T71,Back!$M$16:$N$20,2,0)),\"\")","v":""},{"$f":"+IFERROR((VLOOKUP('BASE DE RESPUESTAS'!U71,Back!$M$16:$N$20,2,0)),\"\")","v":""},{"$f":"+IFERROR((VLOOKUP('BASE DE RESPUESTAS'!V71,Back!$M$16:$N$20,2,0)),\"\")","v":""},{"$f":"+IFERROR((VLOOKUP('BASE DE RESPUESTAS'!W71,Back!$M$16:$N$20,2,0)),\"\")","v":""},{"$f":"+IFERROR((VLOOKUP('BASE DE RESPUESTAS'!X71,Back!$M$16:$N$20,2,0)),\"\")","v":""},{"$f":"+IFERROR((VLOOKUP('BASE DE RESPUESTAS'!Y71,Back!$M$16:$N$20,2,0)),\"\")","v":""},{"$f":"+IFERROR((VLOOKUP('BASE DE RESPUESTAS'!Z71,Back!$M$16:$N$20,2,0)),\"\")","v":""},{"$f":"+IFERROR((VLOOKUP('BASE DE RESPUESTAS'!AA71,Back!$M$16:$N$20,2,0)),\"\")","v":""},{"$f":"+IFERROR((VLOOKUP('BASE DE RESPUESTAS'!AB71,Back!$M$16:$N$20,2,0)),\"\")","v":""},{"$f":"+IFERROR((VLOOKUP('BASE DE RESPUESTAS'!AC71,Back!$M$16:$N$20,2,0)),\"\")","v":""},{"$f":"+IFERROR((VLOOKUP('BASE DE RESPUESTAS'!AD71,Back!$M$16:$N$20,2,0)),\"\")","v":""},{"$f":"+IFERROR((VLOOKUP('BASE DE RESPUESTAS'!AE71,Back!$M$16:$N$20,2,0)),\"\")","v":""},{"$f":"+IFERROR((VLOOKUP('BASE DE RESPUESTAS'!AF71,Back!$M$16:$N$20,2,0)),\"\")","v":""},{"$f":"+IFERROR((VLOOKUP('BASE DE RESPUESTAS'!AG71,Back!$M$16:$N$20,2,0)),\"\")","v":""},{"$f":"+IFERROR((VLOOKUP('BASE DE RESPUESTAS'!AH71,Back!$M$16:$N$20,2,0)),\"\")","v":""},{"$f":"+IFERROR((VLOOKUP('BASE DE RESPUESTAS'!AI71,Back!$M$16:$N$20,2,0)),\"\")","v":""},{"$f":"+IFERROR((VLOOKUP('BASE DE RESPUESTAS'!AJ71,Back!$M$16:$N$20,2,0)),\"\")","v":""},{"$f":"+IFERROR((VLOOKUP('BASE DE RESPUESTAS'!AK71,Back!$M$16:$N$20,2,0)),\"\")","v":""},{"$f":"+IFERROR((VLOOKUP('BASE DE RESPUESTAS'!AL71,Back!$M$16:$N$20,2,0)),\"\")","v":""},{"$f":"+IFERROR((VLOOKUP('BASE DE RESPUESTAS'!AM71,Back!$M$16:$N$20,2,0)),\"\")","v":""},{"$f":"+IFERROR((VLOOKUP('BASE DE RESPUESTAS'!AN71,Back!$M$16:$N$20,2,0)),\"\")","v":""},{"$f":"+IFERROR((VLOOKUP('BASE DE RESPUESTAS'!AO71,Back!$M$16:$N$20,2,0)),\"\")","v":""},{"$f":"+IFERROR((VLOOKUP('BASE DE RESPUESTAS'!AP71,Back!$M$16:$N$20,2,0)),\"\")","v":""},{"$f":"+IFERROR((VLOOKUP('BASE DE RESPUESTAS'!AQ71,Back!$M$16:$N$20,2,0)),\"\")","v":""},{"$f":"+IFERROR((VLOOKUP('BASE DE RESPUESTAS'!AR71,Back!$M$16:$N$20,2,0)),\"\")","v":""},{"$f":"+IFERROR((VLOOKUP('BASE DE RESPUESTAS'!AS71,Back!$M$16:$N$20,2,0)),\"\")","v":""},{"$f":"+IFERROR((VLOOKUP('BASE DE RESPUESTAS'!AT71,Back!$M$16:$N$20,2,0)),\"\")","v":""},{"$f":"+IFERROR((VLOOKUP('BASE DE RESPUESTAS'!AU71,Back!$M$16:$N$20,2,0)),\"\")","v":""},{"$f":"+IFERROR((VLOOKUP('BASE DE RESPUESTAS'!AV71,Back!$M$16:$N$20,2,0)),\"\")","v":""},{"$f":"+IFERROR((VLOOKUP('BASE DE RESPUESTAS'!AW71,Back!$M$16:$N$20,2,0)),\"\")","v":""},{"$f":"+IFERROR((VLOOKUP('BASE DE RESPUESTAS'!AX71,Back!$M$16:$N$20,2,0)),\"\")","v":""},{"$f":"+IFERROR((VLOOKUP('BASE DE RESPUESTAS'!AY71,Back!$M$16:$N$20,2,0)),\"\")","v":""},{"$f":"+IFERROR((VLOOKUP('BASE DE RESPUESTAS'!AZ71,Back!$M$16:$N$20,2,0)),\"\")","v":""},{"$f":"+IFERROR((VLOOKUP('BASE DE RESPUESTAS'!BA71,Back!$M$16:$N$20,2,0)),\"\")","v":""},{"$f":"+IFERROR((VLOOKUP('BASE DE RESPUESTAS'!BB71,Back!$M$16:$N$20,2,0)),\"\")","v":""},{"$f":"+IFERROR((VLOOKUP('BASE DE RESPUESTAS'!BC71,Back!$M$16:$N$20,2,0)),\"\")","v":""},{"$f":"+IFERROR((VLOOKUP('BASE DE RESPUESTAS'!BD71,Back!$M$16:$N$20,2,0)),\"\")","v":""},{"$f":"+IFERROR((VLOOKUP('BASE DE RESPUESTAS'!BE71,Back!$M$16:$N$20,2,0)),\"\")","v":""}]
[null,null,null,"El o la estudiante frecuenta lugares peligrosos. .",null,"",null,{"$f":"+IFERROR((VLOOKUP('BASE DE RESPUESTAS'!H72,Back!$M$16:$N$20,2,0)),\"\")","v":""},{"$f":"+IFERROR((VLOOKUP('BASE DE RESPUESTAS'!I72,Back!$M$16:$N$20,2,0)),\"\")","v":""},{"$f":"+IFERROR((VLOOKUP('BASE DE RESPUESTAS'!J72,Back!$M$16:$N$20,2,0)),\"\")","v":""},{"$f":"+IFERROR((VLOOKUP('BASE DE RESPUESTAS'!K72,Back!$M$16:$N$20,2,0)),\"\")","v":""},{"$f":"+IFERROR((VLOOKUP('BASE DE RESPUESTAS'!L72,Back!$M$16:$N$20,2,0)),\"\")","v":""},{"$f":"+IFERROR((VLOOKUP('BASE DE RESPUESTAS'!M72,Back!$M$16:$N$20,2,0)),\"\")","v":""},{"$f":"+IFERROR((VLOOKUP('BASE DE RESPUESTAS'!N72,Back!$M$16:$N$20,2,0)),\"\")","v":""},{"$f":"+IFERROR((VLOOKUP('BASE DE RESPUESTAS'!O72,Back!$M$16:$N$20,2,0)),\"\")","v":""},{"$f":"+IFERROR((VLOOKUP('BASE DE RESPUESTAS'!P72,Back!$M$16:$N$20,2,0)),\"\")","v":""},{"$f":"+IFERROR((VLOOKUP('BASE DE RESPUESTAS'!Q72,Back!$M$16:$N$20,2,0)),\"\")","v":""},{"$f":"+IFERROR((VLOOKUP('BASE DE RESPUESTAS'!R72,Back!$M$16:$N$20,2,0)),\"\")","v":""},{"$f":"+IFERROR((VLOOKUP('BASE DE RESPUESTAS'!S72,Back!$M$16:$N$20,2,0)),\"\")","v":""},{"$f":"+IFERROR((VLOOKUP('BASE DE RESPUESTAS'!T72,Back!$M$16:$N$20,2,0)),\"\")","v":""},{"$f":"+IFERROR((VLOOKUP('BASE DE RESPUESTAS'!U72,Back!$M$16:$N$20,2,0)),\"\")","v":""},{"$f":"+IFERROR((VLOOKUP('BASE DE RESPUESTAS'!V72,Back!$M$16:$N$20,2,0)),\"\")","v":""},{"$f":"+IFERROR((VLOOKUP('BASE DE RESPUESTAS'!W72,Back!$M$16:$N$20,2,0)),\"\")","v":""},{"$f":"+IFERROR((VLOOKUP('BASE DE RESPUESTAS'!X72,Back!$M$16:$N$20,2,0)),\"\")","v":""},{"$f":"+IFERROR((VLOOKUP('BASE DE RESPUESTAS'!Y72,Back!$M$16:$N$20,2,0)),\"\")","v":""},{"$f":"+IFERROR((VLOOKUP('BASE DE RESPUESTAS'!Z72,Back!$M$16:$N$20,2,0)),\"\")","v":""},{"$f":"+IFERROR((VLOOKUP('BASE DE RESPUESTAS'!AA72,Back!$M$16:$N$20,2,0)),\"\")","v":""},{"$f":"+IFERROR((VLOOKUP('BASE DE RESPUESTAS'!AB72,Back!$M$16:$N$20,2,0)),\"\")","v":""},{"$f":"+IFERROR((VLOOKUP('BASE DE RESPUESTAS'!AC72,Back!$M$16:$N$20,2,0)),\"\")","v":""},{"$f":"+IFERROR((VLOOKUP('BASE DE RESPUESTAS'!AD72,Back!$M$16:$N$20,2,0)),\"\")","v":""},{"$f":"+IFERROR((VLOOKUP('BASE DE RESPUESTAS'!AE72,Back!$M$16:$N$20,2,0)),\"\")","v":""},{"$f":"+IFERROR((VLOOKUP('BASE DE RESPUESTAS'!AF72,Back!$M$16:$N$20,2,0)),\"\")","v":""},{"$f":"+IFERROR((VLOOKUP('BASE DE RESPUESTAS'!AG72,Back!$M$16:$N$20,2,0)),\"\")","v":""},{"$f":"+IFERROR((VLOOKUP('BASE DE RESPUESTAS'!AH72,Back!$M$16:$N$20,2,0)),\"\")","v":""},{"$f":"+IFERROR((VLOOKUP('BASE DE RESPUESTAS'!AI72,Back!$M$16:$N$20,2,0)),\"\")","v":""},{"$f":"+IFERROR((VLOOKUP('BASE DE RESPUESTAS'!AJ72,Back!$M$16:$N$20,2,0)),\"\")","v":""},{"$f":"+IFERROR((VLOOKUP('BASE DE RESPUESTAS'!AK72,Back!$M$16:$N$20,2,0)),\"\")","v":""},{"$f":"+IFERROR((VLOOKUP('BASE DE RESPUESTAS'!AL72,Back!$M$16:$N$20,2,0)),\"\")","v":""},{"$f":"+IFERROR((VLOOKUP('BASE DE RESPUESTAS'!AM72,Back!$M$16:$N$20,2,0)),\"\")","v":""},{"$f":"+IFERROR((VLOOKUP('BASE DE RESPUESTAS'!AN72,Back!$M$16:$N$20,2,0)),\"\")","v":""},{"$f":"+IFERROR((VLOOKUP('BASE DE RESPUESTAS'!AO72,Back!$M$16:$N$20,2,0)),\"\")","v":""},{"$f":"+IFERROR((VLOOKUP('BASE DE RESPUESTAS'!AP72,Back!$M$16:$N$20,2,0)),\"\")","v":""},{"$f":"+IFERROR((VLOOKUP('BASE DE RESPUESTAS'!AQ72,Back!$M$16:$N$20,2,0)),\"\")","v":""},{"$f":"+IFERROR((VLOOKUP('BASE DE RESPUESTAS'!AR72,Back!$M$16:$N$20,2,0)),\"\")","v":""},{"$f":"+IFERROR((VLOOKUP('BASE DE RESPUESTAS'!AS72,Back!$M$16:$N$20,2,0)),\"\")","v":""},{"$f":"+IFERROR((VLOOKUP('BASE DE RESPUESTAS'!AT72,Back!$M$16:$N$20,2,0)),\"\")","v":""},{"$f":"+IFERROR((VLOOKUP('BASE DE RESPUESTAS'!AU72,Back!$M$16:$N$20,2,0)),\"\")","v":""},{"$f":"+IFERROR((VLOOKUP('BASE DE RESPUESTAS'!AV72,Back!$M$16:$N$20,2,0)),\"\")","v":""},{"$f":"+IFERROR((VLOOKUP('BASE DE RESPUESTAS'!AW72,Back!$M$16:$N$20,2,0)),\"\")","v":""},{"$f":"+IFERROR((VLOOKUP('BASE DE RESPUESTAS'!AX72,Back!$M$16:$N$20,2,0)),\"\")","v":""},{"$f":"+IFERROR((VLOOKUP('BASE DE RESPUESTAS'!AY72,Back!$M$16:$N$20,2,0)),\"\")","v":""},{"$f":"+IFERROR((VLOOKUP('BASE DE RESPUESTAS'!AZ72,Back!$M$16:$N$20,2,0)),\"\")","v":""},{"$f":"+IFERROR((VLOOKUP('BASE DE RESPUESTAS'!BA72,Back!$M$16:$N$20,2,0)),\"\")","v":""},{"$f":"+IFERROR((VLOOKUP('BASE DE RESPUESTAS'!BB72,Back!$M$16:$N$20,2,0)),\"\")","v":""},{"$f":"+IFERROR((VLOOKUP('BASE DE RESPUESTAS'!BC72,Back!$M$16:$N$20,2,0)),\"\")","v":""},{"$f":"+IFERROR((VLOOKUP('BASE DE RESPUESTAS'!BD72,Back!$M$16:$N$20,2,0)),\"\")","v":""},{"$f":"+IFERROR((VLOOKUP('BASE DE RESPUESTAS'!BE72,Back!$M$16:$N$20,2,0)),\"\")","v":""}]
[]
[null,null,null,null,null,"Indicadores",null,{"$f":"+H4","v":"Estudiante 1"},"Estudiante 2","Estudiante 3","Estudiante 4","Estudiante 5","Estudiante 6","Estudiante 7","Estudiante 8","Estudiante 9","Estudiante 10","Estudiante 11","Estudiante 12","Estudiante 13","Estudiante 14","Estudiante 15","Estudiante 16","Estudiante 17","Estudiante 18","Estudiante 19","Estudiante 20","Estudiante 21","Estudiante 22","Estudiante 23","Estudiante 24","Estudiante 25","Estudiante 26","Estudiante 27","Estudiante 28","Estudiante 29","Estudiante 30","Estudiante 31","Estudiante 32","Estudiante 33","Estudiante 34","Estudiante 35","Estudiante 36","Estudiante 37","Estudiante 38","Estudiante 39","Estudiante 40","Estudiante 41","Estudiante 42","Estudiante 43","Estudiante 44","Estudiante 45","Estudiante 46","Estudiante 47","Estudiante 48","Estudiante 49","Estudiante 50"]
[null,null,null,null,null,"En Blanco",null,{"$f":"IFERROR((COUNTIFS(H5:H36,\"-\")),\"-\")","v":0},0,0,0,0,0,0,0,0,0,0,0,0,0,0,0,0,0,0,0,0,0,0,0,0,0,0,0,0,0,0,0,0,0,0,0,0,0,0,0,0,0,0,0,0,0,0,0,0,0]
[null,null,null,null,null,"Alto Riesgo",null,{"$f":"IFERROR(COUNTIFS(H5:H36,\">=3\",H5:H36,\"<4.01\"),\"-\")","v":0},0,0,0,0,0,0,0,0,0,0,0,0,0,0,0,0,0,0,0,0,0,0,0,0,0,0,0,0,0,0,0,0,0,0,0,0,0,0,0,0,0,0,0,0,0,0,0,0,0]
[null,null,null,null,null,"Riesgo Moderado",null,{"$f":"IFERROR(COUNTIFS(H5:H36,\">=1.1\",H5:H36,\"<=2.9\"),\"-\")","v":0},0,0,0,0,0,0,0,0,0,0,0,0,0,0,0,0,0,0,0,0,0,0,0,0,0,0,0,0,0,0,0,0,0,0,0,0,0,0,0,0,0,0,0,0,0,0,0,0,0]
[null,null,null,null,null,"Bajo Riesgo",null,{"$f":"IFERROR(COUNTIFS(H5:H36,\">=0\",H5:H36,\"<1.1\"),\"-\")","v":0},0,0,0,0,0,0,0,0,0,0,0,0,0,0,0,0,0,0,0,0,0,0,0,0,0,0,0,0,0,0,0,0,0,0,0,0,0,0,0,0,0,0,0,0,0,0,0,0,0]
[null,null,null,null,null,"TOTAL",null,{"$f":"+SUM(H39:H42)","v":0},0,0,0,0,0,0,0,0,0,0,0,0,0,0,0,0,0,0,0,0,0,0,0,0,0,0,0,0,0,0,0,0,0,0,0,0,0,0,0,0,0,0,0,0,0,0,0,0,0]

{"sheet":"Resumen de Escala FR","index":7,"n_rows":22,"n_cols":55,"rows_kept":22,"cut":false,"hidden":false,"merged":[]}
[]
[]
[]
[null,"Dimensión","Escala","Resultado Promedio del aula",null,{"$f":"+'BASE DE RESPUESTAS'!H5","v":"Estudiante 1"},{"$f":"+'BASE DE RESPUESTAS'!I5","v":"Estudiante 2"},{"$f":"+'BASE DE RESPUESTAS'!J5","v":"Estudiante 3"},{"$f":"+'BASE DE RESPUESTAS'!K5","v":"Estudiante 4"},{"$f":"+'BASE DE RESPUESTAS'!L5","v":"Estudiante 5"},{"$f":"+'BASE DE RESPUESTAS'!M5","v":"Estudiante 6"},{"$f":"+'BASE DE RESPUESTAS'!N5","v":"Estudiante 7"},{"$f":"+'BASE DE RESPUESTAS'!O5","v":"Estudiante 8"},{"$f":"+'BASE DE RESPUESTAS'!P5","v":"Estudiante 9"},{"$f":"+'BASE DE RESPUESTAS'!Q5","v":"Estudiante 10"},{"$f":"+'BASE DE RESPUESTAS'!R5","v":"Estudiante 11"},{"$f":"+'BASE DE RESPUESTAS'!S5","v":"Estudiante 12"},{"$f":"+'BASE DE RESPUESTAS'!T5","v":"Estudiante 13"},{"$f":"+'BASE DE RESPUESTAS'!U5","v":"Estudiante 14"},{"$f":"+'BASE DE RESPUESTAS'!V5","v":"Estudiante 15"},{"$f":"+'BASE DE RESPUESTAS'!W5","v":"Estudiante 16"},{"$f":"+'BASE DE RESPUESTAS'!X5","v":"Estudiante 17"},{"$f":"+'BASE DE RESPUESTAS'!Y5","v":"Estudiante 18"},{"$f":"+'BASE DE RESPUESTAS'!Z5","v":"Estudiante 19"},{"$f":"+'BASE DE RESPUESTAS'!AA5","v":"Estudiante 20"},{"$f":"+'BASE DE RESPUESTAS'!AB5","v":"Estudiante 21"},{"$f":"+'BASE DE RESPUESTAS'!AC5","v":"Estudiante 22"},{"$f":"+'BASE DE RESPUESTAS'!AD5","v":"Estudiante 23"},{"$f":"+'BASE DE RESPUESTAS'!AE5","v":"Estudiante 24"},{"$f":"+'BASE DE RESPUESTAS'!AF5","v":"Estudiante 25"},{"$f":"+'BASE DE RESPUESTAS'!AG5","v":"Estudiante 26"},{"$f":"+'BASE DE RESPUESTAS'!AH5","v":"Estudiante 27"},{"$f":"+'BASE DE RESPUESTAS'!AI5","v":"Estudiante 28"},{"$f":"+'BASE DE RESPUESTAS'!AJ5","v":"Estudiante 29"},{"$f":"+'BASE DE RESPUESTAS'!AK5","v":"Estudiante 30"},{"$f":"+'BASE DE RESPUESTAS'!AL5","v":"Estudiante 31"},{"$f":"+'BASE DE RESPUESTAS'!AM5","v":"Estudiante 32"},{"$f":"+'BASE DE RESPUESTAS'!AN5","v":"Estudiante 33"},{"$f":"+'BASE DE RESPUESTAS'!AO5","v":"Estudiante 34"},{"$f":"+'BASE DE RESPUESTAS'!AP5","v":"Estudiante 35"},{"$f":"+'BASE DE RESPUESTAS'!AQ5","v":"Estudiante 36"},{"$f":"+'BASE DE RESPUESTAS'!AR5","v":"Estudiante 37"},{"$f":"+'BASE DE RESPUESTAS'!AS5","v":"Estudiante 38"},{"$f":"+'BASE DE RESPUESTAS'!AT5","v":"Estudiante 39"},{"$f":"+'BASE DE RESPUESTAS'!AU5","v":"Estudiante 40"},{"$f":"+'BASE DE RESPUESTAS'!AV5","v":"Estudiante 41"},{"$f":"+'BASE DE RESPUESTAS'!AW5","v":"Estudiante 42"},{"$f":"+'BASE DE RESPUESTAS'!AX5","v":"Estudiante 43"},{"$f":"+'BASE DE RESPUESTAS'!AY5","v":"Estudiante 44"},{"$f":"+'BASE DE RESPUESTAS'!AZ5","v":"Estudiante 45"},{"$f":"+'BASE DE RESPUESTAS'!BA5","v":"Estudiante 46"},{"$f":"+'BASE DE RESPUESTAS'!BB5","v":"Estudiante 47"},{"$f":"+'BASE DE RESPUESTAS'!BC5","v":"Estudiante 48"},{"$f":"+'BASE DE RESPUESTAS'!BD5","v":"Estudiante 49"},{"$f":"+'BASE DE RESPUESTAS'!BE5","v":"Estudiante 50"}]
[]
[null,"FR","Consumo de alcohol y drogas",{"$f":"+IFERROR(AVERAGEIFS(F6:BC6,F6:BC6,\">=0\"),\"-\")","v":"-"},null,{"$f":"+IFERROR(AVERAGEIFS('Resumen de indicadores FR'!H5:H7,'Resumen de indicadores FR'!H5:H7,\">=0\"),\"-\")","v":"-"},{"$f":"+IFERROR(AVERAGEIFS('Resumen de indicadores FR'!I5:I7,'Resumen de indicadores FR'!I5:I7,\">=0\"),\"-\")","v":"-"},{"$f":"+IFERROR(AVERAGEIFS('Resumen de indicadores FR'!J5:J7,'Resumen de indicadores FR'!J5:J7,\">=0\"),\"-\")","v":"-"},{"$f":"+IFERROR(AVERAGEIFS('Resumen de indicadores FR'!K5:K7,'Resumen de indicadores FR'!K5:K7,\">=0\"),\"-\")","v":"-"},{"$f":"+IFERROR(AVERAGEIFS('Resumen de indicadores FR'!L5:L7,'Resumen de indicadores FR'!L5:L7,\">=0\"),\"-\")","v":"-"},{"$f":"+IFERROR(AVERAGEIFS('Resumen de indicadores FR'!M5:M7,'Resumen de indicadores FR'!M5:M7,\">=0\"),\"-\")","v":"-"},{"$f":"+IFERROR(AVERAGEIFS('Resumen de indicadores FR'!N5:N7,'Resumen de indicadores FR'!N5:N7,\">=0\"),\"-\")","v":"-"},{"$f":"+IFERROR(AVERAGEIFS('Resumen de indicadores FR'!O5:O7,'Resumen de indicadores FR'!O5:O7,\">=0\"),\"-\")","v":"-"},{"$f":"+IFERROR(AVERAGEIFS('Resumen de indicadores FR'!P5:P7,'Resumen de indicadores FR'!P5:P7,\">=0\"),\"-\")","v":"-"},{"$f":"+IFERROR(AVERAGEIFS('Resumen de indicadores FR'!Q5:Q7,'Resumen de indicadores FR'!Q5:Q7,\">=0\"),\"-\")","v":"-"},{"$f":"+IFERROR(AVERAGEIFS('Resumen de indicadores FR'!R5:R7,'Resumen de indicadores FR'!R5:R7,\">=0\"),\"-\")","v":"-"},{"$f":"+IFERROR(AVERAGEIFS('Resumen de indicadores FR'!S5:S7,'Resumen de indicadores FR'!S5:S7,\">=0\"),\"-\")","v":"-"},{"$f":"+IFERROR(AVERAGEIFS('Resumen de indicadores FR'!T5:T7,'Resumen de indicadores FR'!T5:T7,\">=0\"),\"-\")","v":"-"},{"$f":"+IFERROR(AVERAGEIFS('Resumen de indicadores FR'!U5:U7,'Resumen de indicadores FR'!U5:U7,\">=0\"),\"-\")","v":"-"},{"$f":"+IFERROR(AVERAGEIFS('Resumen de indicadores FR'!V5:V7,'Resumen de indicadores FR'!V5:V7,\">=0\"),\"-\")","v":"-"},{"$f":"+IFERROR(AVERAGEIFS('Resumen de indicadores FR'!W5:W7,'Resumen de indicadores FR'!W5:W7,\">=0\"),\"-\")","v":"-"},{"$f":"+IFERROR(AVERAGEIFS('Resumen de indicadores FR'!X5:X7,'Resumen de indicadores FR'!X5:X7,\">=0\"),\"-\")","v":"-"},{"$f":"+IFERROR(AVERAGEIFS('Resumen de indicadores FR'!Y5:Y7,'Resumen de indicadores FR'!Y5:Y7,\">=0\"),\"-\")","v":"-"},{"$f":"+IFERROR(AVERAGEIFS('Resumen de indicadores FR'!Z5:Z7,'Resumen de indicadores FR'!Z5:Z7,\">=0\"),\"-\")","v":"-"},{"$f":"+IFERROR(AVERAGEIFS('Resumen de indicadores FR'!AA5:AA7,'Resumen de indicadores FR'!AA5:AA7,\">=0\"),\"-\")","v":"-"},{"$f":"+IFERROR(AVERAGEIFS('Resumen de indicadores FR'!AB5:AB7,'Resumen de indicadores FR'!AB5:AB7,\">=0\"),\"-\")","v":"-"},{"$f":"+IFERROR(AVERAGEIFS('Resumen de indicadores FR'!AC5:AC7,'Resumen de indicadores FR'!AC5:AC7,\">=0\"),\"-\")","v":"-"},{"$f":"+IFERROR(AVERAGEIFS('Resumen de indicadores FR'!AD5:AD7,'Resumen de indicadores FR'!AD5:AD7,\">=0\"),\"-\")","v":"-"},{"$f":"+IFERROR(AVERAGEIFS('Resumen de indicadores FR'!AE5:AE7,'Resumen de indicadores FR'!AE5:AE7,\">=0\"),\"-\")","v":"-"},{"$f":"+IFERROR(AVERAGEIFS('Resumen de indicadores FR'!AF5:AF7,'Resumen de indicadores FR'!AF5:AF7,\">=0\"),\"-\")","v":"-"},{"$f":"+IFERROR(AVERAGEIFS('Resumen de indicadores FR'!AG5:AG7,'Resumen de indicadores FR'!AG5:AG7,\">=0\"),\"-\")","v":"-"},{"$f":"+IFERROR(AVERAGEIFS('Resumen de indicadores FR'!AH5:AH7,'Resumen de indicadores FR'!AH5:AH7,\">=0\"),\"-\")","v":"-"},{"$f":"+IFERROR(AVERAGEIFS('Resumen de indicadores FR'!AI5:AI7,'Resumen de indicadores FR'!AI5:AI7,\">=0\"),\"-\")","v":"-"},{"$f":"+IFERROR(AVERAGEIFS('Resumen de indicadores FR'!AJ5:AJ7,'Resumen de indicadores FR'!AJ5:AJ7,\">=0\"),\"-\")","v":"-"},{"$f":"+IFERROR(AVERAGEIFS('Resumen de indicadores FR'!AK5:AK7,'Resumen de indicadores FR'!AK5:AK7,\">=0\"),\"-\")","v":"-"},{"$f":"+IFERROR(AVERAGEIFS('Resumen de indicadores FR'!AL5:AL7,'Resumen de indicadores FR'!AL5:AL7,\">=0\"),\"-\")","v":"-"},{"$f":"+IFERROR(AVERAGEIFS('Resumen de indicadores FR'!AM5:AM7,'Resumen de indicadores FR'!AM5:AM7,\">=0\"),\"-\")","v":"-"},{"$f":"+IFERROR(AVERAGEIFS('Resumen de indicadores FR'!AN5:AN7,'Resumen de indicadores FR'!AN5:AN7,\">=0\"),\"-\")","v":"-"},{"$f":"+IFERROR(AVERAGEIFS('Resumen de indicadores FR'!AO5:AO7,'Resumen de indicadores FR'!AO5:AO7,\">=0\"),\"-\")","v":"-"},{"$f":"+IFERROR(AVERAGEIFS('Resumen de indicadores FR'!AP5:AP7,'Resumen de indicadores FR'!AP5:AP7,\">=0\"),\"-\")","v":"-"},{"$f":"+IFERROR(AVERAGEIFS('Resumen de indicadores FR'!AQ5:AQ7,'Resumen de indicadores FR'!AQ5:AQ7,\">=0\"),\"-\")","v":"-"},{"$f":"+IFERROR(AVERAGEIFS('Resumen de indicadores FR'!AR5:AR7,'Resumen de indicadores FR'!AR5:AR7,\">=0\"),\"-\")","v":"-"},{"$f":"+IFERROR(AVERAGEIFS('Resumen de indicadores FR'!AS5:AS7,'Resumen de indicadores FR'!AS5:AS7,\">=0\"),\"-\")","v":"-"},{"$f":"+IFERROR(AVERAGEIFS('Resumen de indicadores FR'!AT5:AT7,'Resumen de indicadores FR'!AT5:AT7,\">=0\"),\"-\")","v":"-"},{"$f":"+IFERROR(AVERAGEIFS('Resumen de indicadores FR'!AU5:AU7,'Resumen de indicadores FR'!AU5:AU7,\">=0\"),\"-\")","v":"-"},{"$f":"+IFERROR(AVERAGEIFS('Resumen de indicadores FR'!AV5:AV7,'Resumen de indicadores FR'!AV5:AV7,\">=0\"),\"-\")","v":"-"},{"$f":"+IFERROR(AVERAGEIFS('Resumen de indicadores FR'!AW5:AW7,'Resumen de indicadores FR'!AW5:AW7,\">=0\"),\"-\")","v":"-"},{"$f":"+IFERROR(AVERAGEIFS('Resumen de indicadores FR'!AX5:AX7,'Resumen de indicadores FR'!AX5:AX7,\">=0\"),\"-\")","v":"-"},{"$f":"+IFERROR(AVERAGEIFS('Resumen de indicadores FR'!AY5:AY7,'Resumen de indicadores FR'!AY5:AY7,\">=0\"),\"-\")","v":"-"},{"$f":"+IFERROR(AVERAGEIFS('Resumen de indicadores FR'!AZ5:AZ7,'Resumen de indicadores FR'!AZ5:AZ7,\">=0\"),\"-\")","v":"-"},{"$f":"+IFERROR(AVERAGEIFS('Resumen de indicadores FR'!BA5:BA7,'Resumen de indicadores FR'!BA5:BA7,\">=0\"),\"-\")","v":"-"},{"$f":"+IFERROR(AVERAGEIFS('Resumen de indicadores FR'!BB5:BB7,'Resumen de indicadores FR'!BB5:BB7,\">=0\"),\"-\")","v":"-"},{"$f":"+IFERROR(AVERAGEIFS('Resumen de indicadores FR'!BC5:BC7,'Resumen de indicadores FR'!BC5:BC7,\">=0\"),\"-\")","v":"-"},{"$f":"+IFERROR(AVERAGEIFS('Resumen de indicadores FR'!BD5:BD7,'Resumen de indicadores FR'!BD5:BD7,\">=0\"),\"-\")","v":"-"},{"$f":"+IFERROR(AVERAGEIFS('Resumen de indicadores FR'!BE5:BE7,'Resumen de indicadores FR'!BE5:BE7,\">=0\"),\"-\")","v":"-"}]
[null,"FR","Trabajo adolescente","-",null,{"$f":"+IFERROR(AVERAGEIFS('Resumen de indicadores FR'!H8:H10,'Resumen de indicadores FR'!H8:H10,\">=0\"),\"-\")","v":"-"},{"$f":"+IFERROR(AVERAGEIFS('Resumen de indicadores FR'!I8:I10,'Resumen de indicadores FR'!I8:I10,\">=0\"),\"-\")","v":"-"},{"$f":"+IFERROR(AVERAGEIFS('Resumen de indicadores FR'!J8:J10,'Resumen de indicadores FR'!J8:J10,\">=0\"),\"-\")","v":"-"},{"$f":"+IFERROR(AVERAGEIFS('Resumen de indicadores FR'!K8:K10,'Resumen de indicadores FR'!K8:K10,\">=0\"),\"-\")","v":"-"},{"$f":"+IFERROR(AVERAGEIFS('Resumen de indicadores FR'!L8:L10,'Resumen de indicadores FR'!L8:L10,\">=0\"),\"-\")","v":"-"},{"$f":"+IFERROR(AVERAGEIFS('Resumen de indicadores FR'!M8:M10,'Resumen de indicadores FR'!M8:M10,\">=0\"),\"-\")","v":"-"},{"$f":"+IFERROR(AVERAGEIFS('Resumen de indicadores FR'!N8:N10,'Resumen de indicadores FR'!N8:N10,\">=0\"),\"-\")","v":"-"},{"$f":"+IFERROR(AVERAGEIFS('Resumen de indicadores FR'!O8:O10,'Resumen de indicadores FR'!O8:O10,\">=0\"),\"-\")","v":"-"},{"$f":"+IFERROR(AVERAGEIFS('Resumen de indicadores FR'!P8:P10,'Resumen de indicadores FR'!P8:P10,\">=0\"),\"-\")","v":"-"},{"$f":"+IFERROR(AVERAGEIFS('Resumen de indicadores FR'!Q8:Q10,'Resumen de indicadores FR'!Q8:Q10,\">=0\"),\"-\")","v":"-"},{"$f":"+IFERROR(AVERAGEIFS('Resumen de indicadores FR'!R8:R10,'Resumen de indicadores FR'!R8:R10,\">=0\"),\"-\")","v":"-"},{"$f":"+IFERROR(AVERAGEIFS('Resumen de indicadores FR'!S8:S10,'Resumen de indicadores FR'!S8:S10,\">=0\"),\"-\")","v":"-"},{"$f":"+IFERROR(AVERAGEIFS('Resumen de indicadores FR'!T8:T10,'Resumen de indicadores FR'!T8:T10,\">=0\"),\"-\")","v":"-"},{"$f":"+IFERROR(AVERAGEIFS('Resumen de indicadores FR'!U8:U10,'Resumen de indicadores FR'!U8:U10,\">=0\"),\"-\")","v":"-"},{"$f":"+IFERROR(AVERAGEIFS('Resumen de indicadores FR'!V8:V10,'Resumen de indicadores FR'!V8:V10,\">=0\"),\"-\")","v":"-"},{"$f":"+IFERROR(AVERAGEIFS('Resumen de indicadores FR'!W8:W10,'Resumen de indicadores FR'!W8:W10,\">=0\"),\"-\")","v":"-"},{"$f":"+IFERROR(AVERAGEIFS('Resumen de indicadores FR'!X8:X10,'Resumen de indicadores FR'!X8:X10,\">=0\"),\"-\")","v":"-"},{"$f":"+IFERROR(AVERAGEIFS('Resumen de indicadores FR'!Y8:Y10,'Resumen de indicadores FR'!Y8:Y10,\">=0\"),\"-\")","v":"-"},{"$f":"+IFERROR(AVERAGEIFS('Resumen de indicadores FR'!Z8:Z10,'Resumen de indicadores FR'!Z8:Z10,\">=0\"),\"-\")","v":"-"},{"$f":"+IFERROR(AVERAGEIFS('Resumen de indicadores FR'!AA8:AA10,'Resumen de indicadores FR'!AA8:AA10,\">=0\"),\"-\")","v":"-"},{"$f":"+IFERROR(AVERAGEIFS('Resumen de indicadores FR'!AB8:AB10,'Resumen de indicadores FR'!AB8:AB10,\">=0\"),\"-\")","v":"-"},{"$f":"+IFERROR(AVERAGEIFS('Resumen de indicadores FR'!AC8:AC10,'Resumen de indicadores FR'!AC8:AC10,\">=0\"),\"-\")","v":"-"},{"$f":"+IFERROR(AVERAGEIFS('Resumen de indicadores FR'!AD8:AD10,'Resumen de indicadores FR'!AD8:AD10,\">=0\"),\"-\")","v":"-"},{"$f":"+IFERROR(AVERAGEIFS('Resumen de indicadores FR'!AE8:AE10,'Resumen de indicadores FR'!AE8:AE10,\">=0\"),\"-\")","v":"-"},{"$f":"+IFERROR(AVERAGEIFS('Resumen de indicadores FR'!AF8:AF10,'Resumen de indicadores FR'!AF8:AF10,\">=0\"),\"-\")","v":"-"},{"$f":"+IFERROR(AVERAGEIFS('Resumen de indicadores FR'!AG8:AG10,'Resumen de indicadores FR'!AG8:AG10,\">=0\"),\"-\")","v":"-"},{"$f":"+IFERROR(AVERAGEIFS('Resumen de indicadores FR'!AH8:AH10,'Resumen de indicadores FR'!AH8:AH10,\">=0\"),\"-\")","v":"-"},{"$f":"+IFERROR(AVERAGEIFS('Resumen de indicadores FR'!AI8:AI10,'Resumen de indicadores FR'!AI8:AI10,\">=0\"),\"-\")","v":"-"},{"$f":"+IFERROR(AVERAGEIFS('Resumen de indicadores FR'!AJ8:AJ10,'Resumen de indicadores FR'!AJ8:AJ10,\">=0\"),\"-\")","v":"-"},{"$f":"+IFERROR(AVERAGEIFS('Resumen de indicadores FR'!AK8:AK10,'Resumen de indicadores FR'!AK8:AK10,\">=0\"),\"-\")","v":"-"},{"$f":"+IFERROR(AVERAGEIFS('Resumen de indicadores FR'!AL8:AL10,'Resumen de indicadores FR'!AL8:AL10,\">=0\"),\"-\")","v":"-"},{"$f":"+IFERROR(AVERAGEIFS('Resumen de indicadores FR'!AM8:AM10,'Resumen de indicadores FR'!AM8:AM10,\">=0\"),\"-\")","v":"-"},{"$f":"+IFERROR(AVERAGEIFS('Resumen de indicadores FR'!AN8:AN10,'Resumen de indicadores FR'!AN8:AN10,\">=0\"),\"-\")","v":"-"},{"$f":"+IFERROR(AVERAGEIFS('Resumen de indicadores FR'!AO8:AO10,'Resumen de indicadores FR'!AO8:AO10,\">=0\"),\"-\")","v":"-"},{"$f":"+IFERROR(AVERAGEIFS('Resumen de indicadores FR'!AP8:AP10,'Resumen de indicadores FR'!AP8:AP10,\">=0\"),\"-\")","v":"-"},{"$f":"+IFERROR(AVERAGEIFS('Resumen de indicadores FR'!AQ8:AQ10,'Resumen de indicadores FR'!AQ8:AQ10,\">=0\"),\"-\")","v":"-"},{"$f":"+IFERROR(AVERAGEIFS('Resumen de indicadores FR'!AR8:AR10,'Resumen de indicadores FR'!AR8:AR10,\">=0\"),\"-\")","v":"-"},{"$f":"+IFERROR(AVERAGEIFS('Resumen de indicadores FR'!AS8:AS10,'Resumen de indicadores FR'!AS8:AS10,\">=0\"),\"-\")","v":"-"},{"$f":"+IFERROR(AVERAGEIFS('Resumen de indicadores FR'!AT8:AT10,'Resumen de indicadores FR'!AT8:AT10,\">=0\"),\"-\")","v":"-"},{"$f":"+IFERROR(AVERAGEIFS('Resumen de indicadores FR'!AU8:AU10,'Resumen de indicadores FR'!AU8:AU10,\">=0\"),\"-\")","v":"-"},{"$f":"+IFERROR(AVERAGEIFS('Resumen de indicadores FR'!AV8:AV10,'Resumen de indicadores FR'!AV8:AV10,\">=0\"),\"-\")","v":"-"},{"$f":"+IFERROR(AVERAGEIFS('Resumen de indicadores FR'!AW8:AW10,'Resumen de indicadores FR'!AW8:AW10,\">=0\"),\"-\")","v":"-"},{"$f":"+IFERROR(AVERAGEIFS('Resumen de indicadores FR'!AX8:AX10,'Resumen de indicadores FR'!AX8:AX10,\">=0\"),\"-\")","v":"-"},{"$f":"+IFERROR(AVERAGEIFS('Resumen de indicadores FR'!AY8:AY10,'Resumen de indicadores FR'!AY8:AY10,\">=0\"),\"-\")","v":"-"},{"$f":"+IFERROR(AVERAGEIFS('Resumen de indicadores FR'!AZ8:AZ10,'Resumen de indicadores FR'!AZ8:AZ10,\">=0\"),\"-\")","v":"-"},{"$f":"+IFERROR(AVERAGEIFS('Resumen de indicadores FR'!BA8:BA10,'Resumen de indicadores FR'!BA8:BA10,\">=0\"),\"-\")","v":"-"},{"$f":"+IFERROR(AVERAGEIFS('Resumen de indicadores FR'!BB8:BB10,'Resumen de indicadores FR'!BB8:BB10,\">=0\"),\"-\")","v":"-"},{"$f":"+IFERROR(AVERAGEIFS('Resumen de indicadores FR'!BC8:BC10,'Resumen de indicadores FR'!BC8:BC10,\">=0\"),\"-\")","v":"-"},{"$f":"+IFERROR(AVERAGEIFS('Resumen de indicadores FR'!BD8:BD10,'Resumen de indicadores FR'!BD8:BD10,\">=0\"),\"-\")","v":"-"},{"$f":"+IFERROR(AVERAGEIFS('Resumen de indicadores FR'!BE8:BE10,'Resumen de indicadores FR'!BE8:BE10,\">=0\"),\"-\")","v":"-"}]
[null,"FR","Ausentismo y deserción Escolar","-",null,{"$f":"+IFERROR(AVERAGEIFS('Resumen de indicadores FR'!H11:H12,'Resumen de indicadores FR'!H11:H12,\">=0\"),\"-\")","v":"-"},{"$f":"+IFERROR(AVERAGEIFS('Resumen de indicadores FR'!I11:I12,'Resumen de indicadores FR'!I11:I12,\">=0\"),\"-\")","v":"-"},{"$f":"+IFERROR(AVERAGEIFS('Resumen de indicadores FR'!J11:J12,'Resumen de indicadores FR'!J11:J12,\">=0\"),\"-\")","v":"-"},{"$f":"+IFERROR(AVERAGEIFS('Resumen de indicadores FR'!K11:K12,'Resumen de indicadores FR'!K11:K12,\">=0\"),\"-\")","v":"-"},{"$f":"+IFERROR(AVERAGEIFS('Resumen de indicadores FR'!L11:L12,'Resumen de indicadores FR'!L11:L12,\">=0\"),\"-\")","v":"-"},{"$f":"+IFERROR(AVERAGEIFS('Resumen de indicadores FR'!M11:M12,'Resumen de indicadores FR'!M11:M12,\">=0\"),\"-\")","v":"-"},{"$f":"+IFERROR(AVERAGEIFS('Resumen de indicadores FR'!N11:N12,'Resumen de indicadores FR'!N11:N12,\">=0\"),\"-\")","v":"-"},{"$f":"+IFERROR(AVERAGEIFS('Resumen de indicadores FR'!O11:O12,'Resumen de indicadores FR'!O11:O12,\">=0\"),\"-\")","v":"-"},{"$f":"+IFERROR(AVERAGEIFS('Resumen de indicadores FR'!P11:P12,'Resumen de indicadores FR'!P11:P12,\">=0\"),\"-\")","v":"-"},{"$f":"+IFERROR(AVERAGEIFS('Resumen de indicadores FR'!Q11:Q12,'Resumen de indicadores FR'!Q11:Q12,\">=0\"),\"-\")","v":"-"},{"$f":"+IFERROR(AVERAGEIFS('Resumen de indicadores FR'!R11:R12,'Resumen de indicadores FR'!R11:R12,\">=0\"),\"-\")","v":"-"},{"$f":"+IFERROR(AVERAGEIFS('Resumen de indicadores FR'!S11:S12,'Resumen de indicadores FR'!S11:S12,\">=0\"),\"-\")","v":"-"},{"$f":"+IFERROR(AVERAGEIFS('Resumen de indicadores FR'!T11:T12,'Resumen de indicadores FR'!T11:T12,\">=0\"),\"-\")","v":"-"},{"$f":"+IFERROR(AVERAGEIFS('Resumen de indicadores FR'!U11:U12,'Resumen de indicadores FR'!U11:U12,\">=0\"),\"-\")","v":"-"},{"$f":"+IFERROR(AVERAGEIFS('Resumen de indicadores FR'!V11:V12,'Resumen de indicadores FR'!V11:V12,\">=0\"),\"-\")","v":"-"},{"$f":"+IFERROR(AVERAGEIFS('Resumen de indicadores FR'!W11:W12,'Resumen de indicadores FR'!W11:W12,\">=0\"),\"-\")","v":"-"},{"$f":"+IFERROR(AVERAGEIFS('Resumen de indicadores FR'!X11:X12,'Resumen de indicadores FR'!X11:X12,\">=0\"),\"-\")","v":"-"},{"$f":"+IFERROR(AVERAGEIFS('Resumen de indicadores FR'!Y11:Y12,'Resumen de indicadores FR'!Y11:Y12,\">=0\"),\"-\")","v":"-"},{"$f":"+IFERROR(AVERAGEIFS('Resumen de indicadores FR'!Z11:Z12,'Resumen de indicadores FR'!Z11:Z12,\">=0\"),\"-\")","v":"-"},{"$f":"+IFERROR(AVERAGEIFS('Resumen de indicadores FR'!AA11:AA12,'Resumen de indicadores FR'!AA11:AA12,\">=0\"),\"-\")","v":"-"},{"$f":"+IFERROR(AVERAGEIFS('Resumen de indicadores FR'!AB11:AB12,'Resumen de indicadores FR'!AB11:AB12,\">=0\"),\"-\")","v":"-"},{"$f":"+IFERROR(AVERAGEIFS('Resumen de indicadores FR'!AC11:AC12,'Resumen de indicadores FR'!AC11:AC12,\">=0\"),\"-\")","v":"-"},{"$f":"+IFERROR(AVERAGEIFS('Resumen de indicadores FR'!AD11:AD12,'Resumen de indicadores FR'!AD11:AD12,\">=0\"),\"-\")","v":"-"},{"$f":"+IFERROR(AVERAGEIFS('Resumen de indicadores FR'!AE11:AE12,'Resumen de indicadores FR'!AE11:AE12,\">=0\"),\"-\")","v":"-"},{"$f":"+IFERROR(AVERAGEIFS('Resumen de indicadores FR'!AF11:AF12,'Resumen de indicadores FR'!AF11:AF12,\">=0\"),\"-\")","v":"-"},{"$f":"+IFERROR(AVERAGEIFS('Resumen de indicadores FR'!AG11:AG12,'Resumen de indicadores FR'!AG11:AG12,\">=0\"),\"-\")","v":"-"},{"$f":"+IFERROR(AVERAGEIFS('Resumen de indicadores FR'!AH11:AH12,'Resumen de indicadores FR'!AH11:AH12,\">=0\"),\"-\")","v":"-"},{"$f":"+IFERROR(AVERAGEIFS('Resumen de indicadores FR'!AI11:AI12,'Resumen de indicadores FR'!AI11:AI12,\">=0\"),\"-\")","v":"-"},{"$f":"+IFERROR(AVERAGEIFS('Resumen de indicadores FR'!AJ11:AJ12,'Resumen de indicadores FR'!AJ11:AJ12,\">=0\"),\"-\")","v":"-"},{"$f":"+IFERROR(AVERAGEIFS('Resumen de indicadores FR'!AK11:AK12,'Resumen de indicadores FR'!AK11:AK12,\">=0\"),\"-\")","v":"-"},{"$f":"+IFERROR(AVERAGEIFS('Resumen de indicadores FR'!AL11:AL12,'Resumen de indicadores FR'!AL11:AL12,\">=0\"),\"-\")","v":"-"},{"$f":"+IFERROR(AVERAGEIFS('Resumen de indicadores FR'!AM11:AM12,'Resumen de indicadores FR'!AM11:AM12,\">=0\"),\"-\")","v":"-"},{"$f":"+IFERROR(AVERAGEIFS('Resumen de indicadores FR'!AN11:AN12,'Resumen de indicadores FR'!AN11:AN12,\">=0\"),\"-\")","v":"-"},{"$f":"+IFERROR(AVERAGEIFS('Resumen de indicadores FR'!AO11:AO12,'Resumen de indicadores FR'!AO11:AO12,\">=0\"),\"-\")","v":"-"},{"$f":"+IFERROR(AVERAGEIFS('Resumen de indicadores FR'!AP11:AP12,'Resumen de indicadores FR'!AP11:AP12,\">=0\"),\"-\")","v":"-"},{"$f":"+IFERROR(AVERAGEIFS('Resumen de indicadores FR'!AQ11:AQ12,'Resumen de indicadores FR'!AQ11:AQ12,\">=0\"),\"-\")","v":"-"},{"$f":"+IFERROR(AVERAGEIFS('Resumen de indicadores FR'!AR11:AR12,'Resumen de indicadores FR'!AR11:AR12,\">=0\"),\"-\")","v":"-"},{"$f":"+IFERROR(AVERAGEIFS('Resumen de indicadores FR'!AS11:AS12,'Resumen de indicadores FR'!AS11:AS12,\">=0\"),\"-\")","v":"-"},{"$f":"+IFERROR(AVERAGEIFS('Resumen de indicadores FR'!AT11:AT12,'Resumen de indicadores FR'!AT11:AT12,\">=0\"),\"-\")","v":"-"},{"$f":"+IFERROR(AVERAGEIFS('Resumen de indicadores FR'!AU11:AU12,'Resumen de indicadores FR'!AU11:AU12,\">=0\"),\"-\")","v":"-"},{"$f":"+IFERROR(AVERAGEIFS('Resumen de indicadores FR'!AV11:AV12,'Resumen de indicadores FR'!AV11:AV12,\">=0\"),\"-\")","v":"-"},{"$f":"+IFERROR(AVERAGEIFS('Resumen de indicadores FR'!AW11:AW12,'Resumen de indicadores FR'!AW11:AW12,\">=0\"),\"-\")","v":"-"},{"$f":"+IFERROR(AVERAGEIFS('Resumen de indicadores FR'!AX11:AX12,'Resumen de indicadores FR'!AX11:AX12,\">=0\"),\"-\")","v":"-"},{"$f":"+IFERROR(AVERAGEIFS('Resumen de indicadores FR'!AY11:AY12,'Resumen de indicadores FR'!AY11:AY12,\">=0\"),\"-\")","v":"-"},{"$f":"+IFERROR(AVERAGEIFS('Resumen de indicadores FR'!AZ11:AZ12,'Resumen de indicadores FR'!AZ11:AZ12,\">=0\"),\"-\")","v":"-"},{"$f":"+IFERROR(AVERAGEIFS('Resumen de indicadores FR'!BA11:BA12,'Resumen de indicadores FR'!BA11:BA12,\">=0\"),\"-\")","v":"-"},{"$f":"+IFERROR(AVERAGEIFS('Resumen de indicadores FR'!BB11:BB12,'Resumen de indicadores FR'!BB11:BB12,\">=0\"),\"-\")","v":"-"},{"$f":"+IFERROR(AVERAGEIFS('Resumen de indicadores FR'!BC11:BC12,'Resumen de indicadores FR'!BC11:BC12,\">=0\"),\"-\")","v":"-"},{"$f":"+IFERROR(AVERAGEIFS('Resumen de indicadores FR'!BD11:BD12,'Resumen de indicadores FR'!BD11:BD12,\">=0\"),\"-\")","v":"-"},{"$f":"+IFERROR(AVERAGEIFS('Resumen de indicadores FR'!BE11:BE12,'Resumen de indicadores FR'!BE11:BE12,\">=0\"),\"-\")","v":"-"}]
[null,"FR","Desinformación sobre educación sexual reproductiva","-",null,{"$f":"+IFERROR(AVERAGEIFS('Resumen de indicadores FR'!H13:H15,'Resumen de indicadores FR'!H13:H15,\">=0\"),\"-\")","v":"-"},{"$f":"+IFERROR(AVERAGEIFS('Resumen de indicadores FR'!I13:I15,'Resumen de indicadores FR'!I13:I15,\">=0\"),\"-\")","v":"-"},{"$f":"+IFERROR(AVERAGEIFS('Resumen de indicadores FR'!J13:J15,'Resumen de indicadores FR'!J13:J15,\">=0\"),\"-\")","v":"-"},{"$f":"+IFERROR(AVERAGEIFS('Resumen de indicadores FR'!K13:K15,'Resumen de indicadores FR'!K13:K15,\">=0\"),\"-\")","v":"-"},{"$f":"+IFERROR(AVERAGEIFS('Resumen de indicadores FR'!L13:L15,'Resumen de indicadores FR'!L13:L15,\">=0\"),\"-\")","v":"-"},{"$f":"+IFERROR(AVERAGEIFS('Resumen de indicadores FR'!M13:M15,'Resumen de indicadores FR'!M13:M15,\">=0\"),\"-\")","v":"-"},{"$f":"+IFERROR(AVERAGEIFS('Resumen de indicadores FR'!N13:N15,'Resumen de indicadores FR'!N13:N15,\">=0\"),\"-\")","v":"-"},{"$f":"+IFERROR(AVERAGEIFS('Resumen de indicadores FR'!O13:O15,'Resumen de indicadores FR'!O13:O15,\">=0\"),\"-\")","v":"-"},{"$f":"+IFERROR(AVERAGEIFS('Resumen de indicadores FR'!P13:P15,'Resumen de indicadores FR'!P13:P15,\">=0\"),\"-\")","v":"-"},{"$f":"+IFERROR(AVERAGEIFS('Resumen de indicadores FR'!Q13:Q15,'Resumen de indicadores FR'!Q13:Q15,\">=0\"),\"-\")","v":"-"},{"$f":"+IFERROR(AVERAGEIFS('Resumen de indicadores FR'!R13:R15,'Resumen de indicadores FR'!R13:R15,\">=0\"),\"-\")","v":"-"},{"$f":"+IFERROR(AVERAGEIFS('Resumen de indicadores FR'!S13:S15,'Resumen de indicadores FR'!S13:S15,\">=0\"),\"-\")","v":"-"},{"$f":"+IFERROR(AVERAGEIFS('Resumen de indicadores FR'!T13:T15,'Resumen de indicadores FR'!T13:T15,\">=0\"),\"-\")","v":"-"},{"$f":"+IFERROR(AVERAGEIFS('Resumen de indicadores FR'!U13:U15,'Resumen de indicadores FR'!U13:U15,\">=0\"),\"-\")","v":"-"},{"$f":"+IFERROR(AVERAGEIFS('Resumen de indicadores FR'!V13:V15,'Resumen de indicadores FR'!V13:V15,\">=0\"),\"-\")","v":"-"},{"$f":"+IFERROR(AVERAGEIFS('Resumen de indicadores FR'!W13:W15,'Resumen de indicadores FR'!W13:W15,\">=0\"),\"-\")","v":"-"},{"$f":"+IFERROR(AVERAGEIFS('Resumen de indicadores FR'!X13:X15,'Resumen de indicadores FR'!X13:X15,\">=0\"),\"-\")","v":"-"},{"$f":"+IFERROR(AVERAGEIFS('Resumen de indicadores FR'!Y13:Y15,'Resumen de indicadores FR'!Y13:Y15,\">=0\"),\"-\")","v":"-"},{"$f":"+IFERROR(AVERAGEIFS('Resumen de indicadores FR'!Z13:Z15,'Resumen de indicadores FR'!Z13:Z15,\">=0\"),\"-\")","v":"-"},{"$f":"+IFERROR(AVERAGEIFS('Resumen de indicadores FR'!AA13:AA15,'Resumen de indicadores FR'!AA13:AA15,\">=0\"),\"-\")","v":"-"},{"$f":"+IFERROR(AVERAGEIFS('Resumen de indicadores FR'!AB13:AB15,'Resumen de indicadores FR'!AB13:AB15,\">=0\"),\"-\")","v":"-"},{"$f":"+IFERROR(AVERAGEIFS('Resumen de indicadores FR'!AC13:AC15,'Resumen de indicadores FR'!AC13:AC15,\">=0\"),\"-\")","v":"-"},{"$f":"+IFERROR(AVERAGEIFS('Resumen de indicadores FR'!AD13:AD15,'Resumen de indicadores FR'!AD13:AD15,\">=0\"),\"-\")","v":"-"},{"$f":"+IFERROR(AVERAGEIFS('Resumen de indicadores FR'!AE13:AE15,'Resumen de indicadores FR'!AE13:AE15,\">=0\"),\"-\")","v":"-"},{"$f":"+IFERROR(AVERAGEIFS('Resumen de indicadores FR'!AF13:AF15,'Resumen de indicadores FR'!AF13:AF15,\">=0\"),\"-\")","v":"-"},{"$f":"+IFERROR(AVERAGEIFS('Resumen de indicadores FR'!AG13:AG15,'Resumen de indicadores FR'!AG13:AG15,\">=0\"),\"-\")","v":"-"},{"$f":"+IFERROR(AVERAGEIFS('Resumen de indicadores FR'!AH13:AH15,'Resumen de indicadores FR'!AH13:AH15,\">=0\"),\"-\")","v":"-"},{"$f":"+IFERROR(AVERAGEIFS('Resumen de indicadores FR'!AI13:AI15,'Resumen de indicadores FR'!AI13:AI15,\">=0\"),\"-\")","v":"-"},{"$f":"+IFERROR(AVERAGEIFS('Resumen de indicadores FR'!AJ13:AJ15,'Resumen de indicadores FR'!AJ13:AJ15,\">=0\"),\"-\")","v":"-"},{"$f":"+IFERROR(AVERAGEIFS('Resumen de indicadores FR'!AK13:AK15,'Resumen de indicadores FR'!AK13:AK15,\">=0\"),\"-\")","v":"-"},{"$f":"+IFERROR(AVERAGEIFS('Resumen de indicadores FR'!AL13:AL15,'Resumen de indicadores FR'!AL13:AL15,\">=0\"),\"-\")","v":"-"},{"$f":"+IFERROR(AVERAGEIFS('Resumen de indicadores FR'!AM13:AM15,'Resumen de indicadores FR'!AM13:AM15,\">=0\"),\"-\")","v":"-"},{"$f":"+IFERROR(AVERAGEIFS('Resumen de indicadores FR'!AN13:AN15,'Resumen de indicadores FR'!AN13:AN15,\">=0\"),\"-\")","v":"-"},{"$f":"+IFERROR(AVERAGEIFS('Resumen de indicadores FR'!AO13:AO15,'Resumen de indicadores FR'!AO13:AO15,\">=0\"),\"-\")","v":"-"},{"$f":"+IFERROR(AVERAGEIFS('Resumen de indicadores FR'!AP13:AP15,'Resumen de indicadores FR'!AP13:AP15,\">=0\"),\"-\")","v":"-"},{"$f":"+IFERROR(AVERAGEIFS('Resumen de indicadores FR'!AQ13:AQ15,'Resumen de indicadores FR'!AQ13:AQ15,\">=0\"),\"-\")","v":"-"},{"$f":"+IFERROR(AVERAGEIFS('Resumen de indicadores FR'!AR13:AR15,'Resumen de indicadores FR'!AR13:AR15,\">=0\"),\"-\")","v":"-"},{"$f":"+IFERROR(AVERAGEIFS('Resumen de indicadores FR'!AS13:AS15,'Resumen de indicadores FR'!AS13:AS15,\">=0\"),\"-\")","v":"-"},{"$f":"+IFERROR(AVERAGEIFS('Resumen de indicadores FR'!AT13:AT15,'Resumen de indicadores FR'!AT13:AT15,\">=0\"),\"-\")","v":"-"},{"$f":"+IFERROR(AVERAGEIFS('Resumen de indicadores FR'!AU13:AU15,'Resumen de indicadores FR'!AU13:AU15,\">=0\"),\"-\")","v":"-"},{"$f":"+IFERROR(AVERAGEIFS('Resumen de indicadores FR'!AV13:AV15,'Resumen de indicadores FR'!AV13:AV15,\">=0\"),\"-\")","v":"-"},{"$f":"+IFERROR(AVERAGEIFS('Resumen de indicadores FR'!AW13:AW15,'Resumen de indicadores FR'!AW13:AW15,\">=0\"),\"-\")","v":"-"},{"$f":"+IFERROR(AVERAGEIFS('Resumen de indicadores FR'!AX13:AX15,'Resumen de indicadores FR'!AX13:AX15,\">=0\"),\"-\")","v":"-"},{"$f":"+IFERROR(AVERAGEIFS('Resumen de indicadores FR'!AY13:AY15,'Resumen de indicadores FR'!AY13:AY15,\">=0\"),\"-\")","v":"-"},{"$f":"+IFERROR(AVERAGEIFS('Resumen de indicadores FR'!AZ13:AZ15,'Resumen de indicadores FR'!AZ13:AZ15,\">=0\"),\"-\")","v":"-"},{"$f":"+IFERROR(AVERAGEIFS('Resumen de indicadores FR'!BA13:BA15,'Resumen de indicadores FR'!BA13:BA15,\">=0\"),\"-\")","v":"-"},{"$f":"+IFERROR(AVERAGEIFS('Resumen de indicadores FR'!BB13:BB15,'Resumen de indicadores FR'!BB13:BB15,\">=0\"),\"-\")","v":"-"},{"$f":"+IFERROR(AVERAGEIFS('Resumen de indicadores FR'!BC13:BC15,'Resumen de indicadores FR'!BC13:BC15,\">=0\"),\"-\")","v":"-"},{"$f":"+IFERROR(AVERAGEIFS('Resumen de indicadores FR'!BD13:BD15,'Resumen de indicadores FR'!BD13:BD15,\">=0\"),\"-\")","v":"-"},{"$f":"+IFERROR(AVERAGEIFS('Resumen de indicadores FR'!BE13:BE15,'Resumen de indicadores FR'!BE13:BE15,\">=0\"),\"-\")","v":"-"}]
[null,"FR","Violencia familiar","-",null,{"$f":"+IFERROR(AVERAGEIFS('Resumen de indicadores FR'!H16:H19,'Resumen de indicadores FR'!H16:H19,\">=0\"),\"-\")","v":"-"},{"$f":"+IFERROR(AVERAGEIFS('Resumen de indicadores FR'!I16:I19,'Resumen de indicadores FR'!I16:I19,\">=0\"),\"-\")","v":"-"},{"$f":"+IFERROR(AVERAGEIFS('Resumen de indicadores FR'!J16:J19,'Resumen de indicadores FR'!J16:J19,\">=0\"),\"-\")","v":"-"},{"$f":"+IFERROR(AVERAGEIFS('Resumen de indicadores FR'!K16:K19,'Resumen de indicadores FR'!K16:K19,\">=0\"),\"-\")","v":"-"},{"$f":"+IFERROR(AVERAGEIFS('Resumen de indicadores FR'!L16:L19,'Resumen de indicadores FR'!L16:L19,\">=0\"),\"-\")","v":"-"},{"$f":"+IFERROR(AVERAGEIFS('Resumen de indicadores FR'!M16:M19,'Resumen de indicadores FR'!M16:M19,\">=0\"),\"-\")","v":"-"},{"$f":"+IFERROR(AVERAGEIFS('Resumen de indicadores FR'!N16:N19,'Resumen de indicadores FR'!N16:N19,\">=0\"),\"-\")","v":"-"},{"$f":"+IFERROR(AVERAGEIFS('Resumen de indicadores FR'!O16:O19,'Resumen de indicadores FR'!O16:O19,\">=0\"),\"-\")","v":"-"},{"$f":"+IFERROR(AVERAGEIFS('Resumen de indicadores FR'!P16:P19,'Resumen de indicadores FR'!P16:P19,\">=0\"),\"-\")","v":"-"},{"$f":"+IFERROR(AVERAGEIFS('Resumen de indicadores FR'!Q16:Q19,'Resumen de indicadores FR'!Q16:Q19,\">=0\"),\"-\")","v":"-"},{"$f":"+IFERROR(AVERAGEIFS('Resumen de indicadores FR'!R16:R19,'Resumen de indicadores FR'!R16:R19,\">=0\"),\"-\")","v":"-"},{"$f":"+IFERROR(AVERAGEIFS('Resumen de indicadores FR'!S16:S19,'Resumen de indicadores FR'!S16:S19,\">=0\"),\"-\")","v":"-"},{"$f":"+IFERROR(AVERAGEIFS('Resumen de indicadores FR'!T16:T19,'Resumen de indicadores FR'!T16:T19,\">=0\"),\"-\")","v":"-"},{"$f":"+IFERROR(AVERAGEIFS('Resumen de indicadores FR'!U16:U19,'Resumen de indicadores FR'!U16:U19,\">=0\"),\"-\")","v":"-"},{"$f":"+IFERROR(AVERAGEIFS('Resumen de indicadores FR'!V16:V19,'Resumen de indicadores FR'!V16:V19,\">=0\"),\"-\")","v":"-"},{"$f":"+IFERROR(AVERAGEIFS('Resumen de indicadores FR'!W16:W19,'Resumen de indicadores FR'!W16:W19,\">=0\"),\"-\")","v":"-"},{"$f":"+IFERROR(AVERAGEIFS('Resumen de indicadores FR'!X16:X19,'Resumen de indicadores FR'!X16:X19,\">=0\"),\"-\")","v":"-"},{"$f":"+IFERROR(AVERAGEIFS('Resumen de indicadores FR'!Y16:Y19,'Resumen de indicadores FR'!Y16:Y19,\">=0\"),\"-\")","v":"-"},{"$f":"+IFERROR(AVERAGEIFS('Resumen de indicadores FR'!Z16:Z19,'Resumen de indicadores FR'!Z16:Z19,\">=0\"),\"-\")","v":"-"},{"$f":"+IFERROR(AVERAGEIFS('Resumen de indicadores FR'!AA16:AA19,'Resumen de indicadores FR'!AA16:AA19,\">=0\"),\"-\")","v":"-"},{"$f":"+IFERROR(AVERAGEIFS('Resumen de indicadores FR'!AB16:AB19,'Resumen de indicadores FR'!AB16:AB19,\">=0\"),\"-\")","v":"-"},{"$f":"+IFERROR(AVERAGEIFS('Resumen de indicadores FR'!AC16:AC19,'Resumen de indicadores FR'!AC16:AC19,\">=0\"),\"-\")","v":"-"},{"$f":"+IFERROR(AVERAGEIFS('Resumen de indicadores FR'!AD16:AD19,'Resumen de indicadores FR'!AD16:AD19,\">=0\"),\"-\")","v":"-"},{"$f":"+IFERROR(AVERAGEIFS('Resumen de indicadores FR'!AE16:AE19,'Resumen de indicadores FR'!AE16:AE19,\">=0\"),\"-\")","v":"-"},{"$f":"+IFERROR(AVERAGEIFS('Resumen de indicadores FR'!AF16:AF19,'Resumen de indicadores FR'!AF16:AF19,\">=0\"),\"-\")","v":"-"},{"$f":"+IFERROR(AVERAGEIFS('Resumen de indicadores FR'!AG16:AG19,'Resumen de indicadores FR'!AG16:AG19,\">=0\"),\"-\")","v":"-"},{"$f":"+IFERROR(AVERAGEIFS('Resumen de indicadores FR'!AH16:AH19,'Resumen de indicadores FR'!AH16:AH19,\">=0\"),\"-\")","v":"-"},{"$f":"+IFERROR(AVERAGEIFS('Resumen de indicadores FR'!AI16:AI19,'Resumen de indicadores FR'!AI16:AI19,\">=0\"),\"-\")","v":"-"},{"$f":"+IFERROR(AVERAGEIFS('Resumen de indicadores FR'!AJ16:AJ19,'Resumen de indicadores FR'!AJ16:AJ19,\">=0\"),\"-\")","v":"-"},{"$f":"+IFERROR(AVERAGEIFS('Resumen de indicadores FR'!AK16:AK19,'Resumen de indicadores FR'!AK16:AK19,\">=0\"),\"-\")","v":"-"},{"$f":"+IFERROR(AVERAGEIFS('Resumen de indicadores FR'!AL16:AL19,'Resumen de indicadores FR'!AL16:AL19,\">=0\"),\"-\")","v":"-"},{"$f":"+IFERROR(AVERAGEIFS('Resumen de indicadores FR'!AM16:AM19,'Resumen de indicadores FR'!AM16:AM19,\">=0\"),\"-\")","v":"-"},{"$f":"+IFERROR(AVERAGEIFS('Resumen de indicadores FR'!AN16:AN19,'Resumen de indicadores FR'!AN16:AN19,\">=0\"),\"-\")","v":"-"},{"$f":"+IFERROR(AVERAGEIFS('Resumen de indicadores FR'!AO16:AO19,'Resumen de indicadores FR'!AO16:AO19,\">=0\"),\"-\")","v":"-"},{"$f":"+IFERROR(AVERAGEIFS('Resumen de indicadores FR'!AP16:AP19,'Resumen de indicadores FR'!AP16:AP19,\">=0\"),\"-\")","v":"-"},{"$f":"+IFERROR(AVERAGEIFS('Resumen de indicadores FR'!AQ16:AQ19,'Resumen de indicadores FR'!AQ16:AQ19,\">=0\"),\"-\")","v":"-"},{"$f":"+IFERROR(AVERAGEIFS('Resumen de indicadores FR'!AR16:AR19,'Resumen de indicadores FR'!AR16:AR19,\">=0\"),\"-\")","v":"-"},{"$f":"+IFERROR(AVERAGEIFS('Resumen de indicadores FR'!AS16:AS19,'Resumen de indicadores FR'!AS16:AS19,\">=0\"),\"-\")","v":"-"},{"$f":"+IFERROR(AVERAGEIFS('Resumen de indicadores FR'!AT16:AT19,'Resumen de indicadores FR'!AT16:AT19,\">=0\"),\"-\")","v":"-"},{"$f":"+IFERROR(AVERAGEIFS('Resumen de indicadores FR'!AU16:AU19,'Resumen de indicadores FR'!AU16:AU19,\">=0\"),\"-\")","v":"-"},{"$f":"+IFERROR(AVERAGEIFS('Resumen de indicadores FR'!AV16:AV19,'Resumen de indicadores FR'!AV16:AV19,\">=0\"),\"-\")","v":"-"},{"$f":"+IFERROR(AVERAGEIFS('Resumen de indicadores FR'!AW16:AW19,'Resumen de indicadores FR'!AW16:AW19,\">=0\"),\"-\")","v":"-"},{"$f":"+IFERROR(AVERAGEIFS('Resumen de indicadores FR'!AX16:AX19,'Resumen de indicadores FR'!AX16:AX19,\">=0\"),\"-\")","v":"-"},{"$f":"+IFERROR(AVERAGEIFS('Resumen de indicadores FR'!AY16:AY19,'Resumen de indicadores FR'!AY16:AY19,\">=0\"),\"-\")","v":"-"},{"$f":"+IFERROR(AVERAGEIFS('Resumen de indicadores FR'!AZ16:AZ19,'Resumen de indicadores FR'!AZ16:AZ19,\">=0\"),\"-\")","v":"-"},{"$f":"+IFERROR(AVERAGEIFS('Resumen de indicadores FR'!BA16:BA19,'Resumen de indicadores FR'!BA16:BA19,\">=0\"),\"-\")","v":"-"},{"$f":"+IFERROR(AVERAGEIFS('Resumen de indicadores FR'!BB16:BB19,'Resumen de indicadores FR'!BB16:BB19,\">=0\"),\"-\")","v":"-"},{"$f":"+IFERROR(AVERAGEIFS('Resumen de indicadores FR'!BC16:BC19,'Resumen de indicadores FR'!BC16:BC19,\">=0\"),\"-\")","v":"-"},{"$f":"+IFERROR(AVERAGEIFS('Resumen de indicadores FR'!BD16:BD19,'Resumen de indicadores FR'!BD16:BD19,\">=0\"),\"-\")","v":"-"},{"$f":"+IFERROR(AVERAGEIFS('Resumen de indicadores FR'!BE16:BE19,'Resumen de indicadores FR'!BE16:BE19,\">=0\"),\"-\")","v":"-"}]
[null,"FR","Limitada expectativa sobre la educación","-",null,{"$f":"+IFERROR(AVERAGEIFS('Resumen de indicadores FR'!H20:H22,'Resumen de indicadores FR'!H20:H22,\">=0\"),\"-\")","v":"-"},{"$f":"+IFERROR(AVERAGEIFS('Resumen de indicadores FR'!I20:I22,'Resumen de indicadores FR'!I20:I22,\">=0\"),\"-\")","v":"-"},{"$f":"+IFERROR(AVERAGEIFS('Resumen de indicadores FR'!J20:J22,'Resumen de indicadores FR'!J20:J22,\">=0\"),\"-\")","v":"-"},{"$f":"+IFERROR(AVERAGEIFS('Resumen de indicadores FR'!K20:K22,'Resumen de indicadores FR'!K20:K22,\">=0\"),\"-\")","v":"-"},{"$f":"+IFERROR(AVERAGEIFS('Resumen de indicadores FR'!L20:L22,'Resumen de indicadores FR'!L20:L22,\">=0\"),\"-\")","v":"-"},{"$f":"+IFERROR(AVERAGEIFS('Resumen de indicadores FR'!M20:M22,'Resumen de indicadores FR'!M20:M22,\">=0\"),\"-\")","v":"-"},{"$f":"+IFERROR(AVERAGEIFS('Resumen de indicadores FR'!N20:N22,'Resumen de indicadores FR'!N20:N22,\">=0\"),\"-\")","v":"-"},{"$f":"+IFERROR(AVERAGEIFS('Resumen de indicadores FR'!O20:O22,'Resumen de indicadores FR'!O20:O22,\">=0\"),\"-\")","v":"-"},{"$f":"+IFERROR(AVERAGEIFS('Resumen de indicadores FR'!P20:P22,'Resumen de indicadores FR'!P20:P22,\">=0\"),\"-\")","v":"-"},{"$f":"+IFERROR(AVERAGEIFS('Resumen de indicadores FR'!Q20:Q22,'Resumen de indicadores FR'!Q20:Q22,\">=0\"),\"-\")","v":"-"},{"$f":"+IFERROR(AVERAGEIFS('Resumen de indicadores FR'!R20:R22,'Resumen de indicadores FR'!R20:R22,\">=0\"),\"-\")","v":"-"},{"$f":"+IFERROR(AVERAGEIFS('Resumen de indicadores FR'!S20:S22,'Resumen de indicadores FR'!S20:S22,\">=0\"),\"-\")","v":"-"},{"$f":"+IFERROR(AVERAGEIFS('Resumen de indicadores FR'!T20:T22,'Resumen de indicadores FR'!T20:T22,\">=0\"),\"-\")","v":"-"},{"$f":"+IFERROR(AVERAGEIFS('Resumen de indicadores FR'!U20:U22,'Resumen de indicadores FR'!U20:U22,\">=0\"),\"-\")","v":"-"},{"$f":"+IFERROR(AVERAGEIFS('Resumen de indicadores FR'!V20:V22,'Resumen de indicadores FR'!V20:V22,\">=0\"),\"-\")","v":"-"},{"$f":"+IFERROR(AVERAGEIFS('Resumen de indicadores FR'!W20:W22,'Resumen de indicadores FR'!W20:W22,\">=0\"),\"-\")","v":"-"},{"$f":"+IFERROR(AVERAGEIFS('Resumen de indicadores FR'!X20:X22,'Resumen de indicadores FR'!X20:X22,\">=0\"),\"-\")","v":"-"},{"$f":"+IFERROR(AVERAGEIFS('Resumen de indicadores FR'!Y20:Y22,'Resumen de indicadores FR'!Y20:Y22,\">=0\"),\"-\")","v":"-"},{"$f":"+IFERROR(AVERAGEIFS('Resumen de indicadores FR'!Z20:Z22,'Resumen de indicadores FR'!Z20:Z22,\">=0\"),\"-\")","v":"-"},{"$f":"+IFERROR(AVERAGEIFS('Resumen de indicadores FR'!AA20:AA22,'Resumen de indicadores FR'!AA20:AA22,\">=0\"),\"-\")","v":"-"},{"$f":"+IFERROR(AVERAGEIFS('Resumen de indicadores FR'!AB20:AB22,'Resumen de indicadores FR'!AB20:AB22,\">=0\"),\"-\")","v":"-"},{"$f":"+IFERROR(AVERAGEIFS('Resumen de indicadores FR'!AC20:AC22,'Resumen de indicadores FR'!AC20:AC22,\">=0\"),\"-\")","v":"-"},{"$f":"+IFERROR(AVERAGEIFS('Resumen de indicadores FR'!AD20:AD22,'Resumen de indicadores FR'!AD20:AD22,\">=0\"),\"-\")","v":"-"},{"$f":"+IFERROR(AVERAGEIFS('Resumen de indicadores FR'!AE20:AE22,'Resumen de indicadores FR'!AE20:AE22,\">=0\"),\"-\")","v":"-"},{"$f":"+IFERROR(AVERAGEIFS('Resumen de indicadores FR'!AF20:AF22,'Resumen de indicadores FR'!AF20:AF22,\">=0\"),\"-\")","v":"-"},{"$f":"+IFERROR(AVERAGEIFS('Resumen de indicadores FR'!AG20:AG22,'Resumen de indicadores FR'!AG20:AG22,\">=0\"),\"-\")","v":"-"},{"$f":"+IFERROR(AVERAGEIFS('Resumen de indicadores FR'!AH20:AH22,'Resumen de indicadores FR'!AH20:AH22,\">=0\"),\"-\")","v":"-"},{"$f":"+IFERROR(AVERAGEIFS('Resumen de indicadores FR'!AI20:AI22,'Resumen de indicadores FR'!AI20:AI22,\">=0\"),\"-\")","v":"-"},{"$f":"+IFERROR(AVERAGEIFS('Resumen de indicadores FR'!AJ20:AJ22,'Resumen de indicadores FR'!AJ20:AJ22,\">=0\"),\"-\")","v":"-"},{"$f":"+IFERROR(AVERAGEIFS('Resumen de indicadores FR'!AK20:AK22,'Resumen de indicadores FR'!AK20:AK22,\">=0\"),\"-\")","v":"-"},{"$f":"+IFERROR(AVERAGEIFS('Resumen de indicadores FR'!AL20:AL22,'Resumen de indicadores FR'!AL20:AL22,\">=0\"),\"-\")","v":"-"},{"$f":"+IFERROR(AVERAGEIFS('Resumen de indicadores FR'!AM20:AM22,'Resumen de indicadores FR'!AM20:AM22,\">=0\"),\"-\")","v":"-"},{"$f":"+IFERROR(AVERAGEIFS('Resumen de indicadores FR'!AN20:AN22,'Resumen de indicadores FR'!AN20:AN22,\">=0\"),\"-\")","v":"-"},{"$f":"+IFERROR(AVERAGEIFS('Resumen de indicadores FR'!AO20:AO22,'Resumen de indicadores FR'!AO20:AO22,\">=0\"),\"-\")","v":"-"},{"$f":"+IFERROR(AVERAGEIFS('Resumen de indicadores FR'!AP20:AP22,'Resumen de indicadores FR'!AP20:AP22,\">=0\"),\"-\")","v":"-"},{"$f":"+IFERROR(AVERAGEIFS('Resumen de indicadores FR'!AQ20:AQ22,'Resumen de indicadores FR'!AQ20:AQ22,\">=0\"),\"-\")","v":"-"},{"$f":"+IFERROR(AVERAGEIFS('Resumen de indicadores FR'!AR20:AR22,'Resumen de indicadores FR'!AR20:AR22,\">=0\"),\"-\")","v":"-"},{"$f":"+IFERROR(AVERAGEIFS('Resumen de indicadores FR'!AS20:AS22,'Resumen de indicadores FR'!AS20:AS22,\">=0\"),\"-\")","v":"-"},{"$f":"+IFERROR(AVERAGEIFS('Resumen de indicadores FR'!AT20:AT22,'Resumen de indicadores FR'!AT20:AT22,\">=0\"),\"-\")","v":"-"},{"$f":"+IFERROR(AVERAGEIFS('Resumen de indicadores FR'!AU20:AU22,'Resumen de indicadores FR'!AU20:AU22,\">=0\"),\"-\")","v":"-"},{"$f":"+IFERROR(AVERAGEIFS('Resumen de indicadores FR'!AV20:AV22,'Resumen de indicadores FR'!AV20:AV22,\">=0\"),\"-\")","v":"-"},{"$f":"+IFERROR(AVERAGEIFS('Resumen de indicadores FR'!AW20:AW22,'Resumen de indicadores FR'!AW20:AW22,\">=0\"),\"-\")","v":"-"},{"$f":"+IFERROR(AVERAGEIFS('Resumen de indicadores FR'!AX20:AX22,'Resumen de indicadores FR'!AX20:AX22,\">=0\"),\"-\")","v":"-"},{"$f":"+IFERROR(AVERAGEIFS('Resumen de indicadores FR'!AY20:AY22,'Resumen de indicadores FR'!AY20:AY22,\">=0\"),\"-\")","v":"-"},{"$f":"+IFERROR(AVERAGEIFS('Resumen de indicadores FR'!AZ20:AZ22,'Resumen de indicadores FR'!AZ20:AZ22,\">=0\"),\"-\")","v":"-"},{"$f":"+IFERROR(AVERAGEIFS('Resumen de indicadores FR'!BA20:BA22,'Resumen de indicadores FR'!BA20:BA22,\">=0\"),\"-\")","v":"-"},{"$f":"+IFERROR(AVERAGEIFS('Resumen de indicadores FR'!BB20:BB22,'Resumen de indicadores FR'!BB20:BB22,\">=0\"),\"-\")","v":"-"},{"$f":"+IFERROR(AVERAGEIFS('Resumen de indicadores FR'!BC20:BC22,'Resumen de indicadores FR'!BC20:BC22,\">=0\"),\"-\")","v":"-"},{"$f":"+IFERROR(AVERAGEIFS('Resumen de indicadores FR'!BD20:BD22,'Resumen de indicadores FR'!BD20:BD22,\">=0\"),\"-\")","v":"-"},{"$f":"+IFERROR(AVERAGEIFS('Resumen de indicadores FR'!BE20:BE22,'Resumen de indicadores FR'!BE20:BE22,\">=0\"),\"-\")","v":"-"}]
[null,"FR","Percepción sobre Estereotipos de género","-",null,{"$f":"+IFERROR(AVERAGEIFS('Resumen de indicadores FR'!H23:H26,'Resumen de indicadores FR'!H23:H26,\">=0\"),\"-\")","v":"-"},{"$f":"+IFERROR(AVERAGEIFS('Resumen de indicadores FR'!I23:I26,'Resumen de indicadores FR'!I23:I26,\">=0\"),\"-\")","v":"-"},{"$f":"+IFERROR(AVERAGEIFS('Resumen de indicadores FR'!J23:J26,'Resumen de indicadores FR'!J23:J26,\">=0\"),\"-\")","v":"-"},{"$f":"+IFERROR(AVERAGEIFS('Resumen de indicadores FR'!K23:K26,'Resumen de indicadores FR'!K23:K26,\">=0\"),\"-\")","v":"-"},{"$f":"+IFERROR(AVERAGEIFS('Resumen de indicadores FR'!L23:L26,'Resumen de indicadores FR'!L23:L26,\">=0\"),\"-\")","v":"-"},{"$f":"+IFERROR(AVERAGEIFS('Resumen de indicadores FR'!M23:M26,'Resumen de indicadores FR'!M23:M26,\">=0\"),\"-\")","v":"-"},{"$f":"+IFERROR(AVERAGEIFS('Resumen de indicadores FR'!N23:N26,'Resumen de indicadores FR'!N23:N26,\">=0\"),\"-\")","v":"-"},{"$f":"+IFERROR(AVERAGEIFS('Resumen de indicadores FR'!O23:O26,'Resumen de indicadores FR'!O23:O26,\">=0\"),\"-\")","v":"-"},{"$f":"+IFERROR(AVERAGEIFS('Resumen de indicadores FR'!P23:P26,'Resumen de indicadores FR'!P23:P26,\">=0\"),\"-\")","v":"-"},{"$f":"+IFERROR(AVERAGEIFS('Resumen de indicadores FR'!Q23:Q26,'Resumen de indicadores FR'!Q23:Q26,\">=0\"),\"-\")","v":"-"},{"$f":"+IFERROR(AVERAGEIFS('Resumen de indicadores FR'!R23:R26,'Resumen de indicadores FR'!R23:R26,\">=0\"),\"-\")","v":"-"},{"$f":"+IFERROR(AVERAGEIFS('Resumen de indicadores FR'!S23:S26,'Resumen de indicadores FR'!S23:S26,\">=0\"),\"-\")","v":"-"},{"$f":"+IFERROR(AVERAGEIFS('Resumen de indicadores FR'!T23:T26,'Resumen de indicadores FR'!T23:T26,\">=0\"),\"-\")","v":"-"},{"$f":"+IFERROR(AVERAGEIFS('Resumen de indicadores FR'!U23:U26,'Resumen de indicadores FR'!U23:U26,\">=0\"),\"-\")","v":"-"},{"$f":"+IFERROR(AVERAGEIFS('Resumen de indicadores FR'!V23:V26,'Resumen de indicadores FR'!V23:V26,\">=0\"),\"-\")","v":"-"},{"$f":"+IFERROR(AVERAGEIFS('Resumen de indicadores FR'!W23:W26,'Resumen de indicadores FR'!W23:W26,\">=0\"),\"-\")","v":"-"},{"$f":"+IFERROR(AVERAGEIFS('Resumen de indicadores FR'!X23:X26,'Resumen de indicadores FR'!X23:X26,\">=0\"),\"-\")","v":"-"},{"$f":"+IFERROR(AVERAGEIFS('Resumen de indicadores FR'!Y23:Y26,'Resumen de indicadores FR'!Y23:Y26,\">=0\"),\"-\")","v":"-"},{"$f":"+IFERROR(AVERAGEIFS('Resumen de indicadores FR'!Z23:Z26,'Resumen de indicadores FR'!Z23:Z26,\">=0\"),\"-\")","v":"-"},{"$f":"+IFERROR(AVERAGEIFS('Resumen de indicadores FR'!AA23:AA26,'Resumen de indicadores FR'!AA23:AA26,\">=0\"),\"-\")","v":"-"},{"$f":"+IFERROR(AVERAGEIFS('Resumen de indicadores FR'!AB23:AB26,'Resumen de indicadores FR'!AB23:AB26,\">=0\"),\"-\")","v":"-"},{"$f":"+IFERROR(AVERAGEIFS('Resumen de indicadores FR'!AC23:AC26,'Resumen de indicadores FR'!AC23:AC26,\">=0\"),\"-\")","v":"-"},{"$f":"+IFERROR(AVERAGEIFS('Resumen de indicadores FR'!AD23:AD26,'Resumen de indicadores FR'!AD23:AD26,\">=0\"),\"-\")","v":"-"},{"$f":"+IFERROR(AVERAGEIFS('Resumen de indicadores FR'!AE23:AE26,'Resumen de indicadores FR'!AE23:AE26,\">=0\"),\"-\")","v":"-"},{"$f":"+IFERROR(AVERAGEIFS('Resumen de indicadores FR'!AF23:AF26,'Resumen de indicadores FR'!AF23:AF26,\">=0\"),\"-\")","v":"-"},{"$f":"+IFERROR(AVERAGEIFS('Resumen de indicadores FR'!AG23:AG26,'Resumen de indicadores FR'!AG23:AG26,\">=0\"),\"-\")","v":"-"},{"$f":"+IFERROR(AVERAGEIFS('Resumen de indicadores FR'!AH23:AH26,'Resumen de indicadores FR'!AH23:AH26,\">=0\"),\"-\")","v":"-"},{"$f":"+IFERROR(AVERAGEIFS('Resumen de indicadores FR'!AI23:AI26,'Resumen de indicadores FR'!AI23:AI26,\">=0\"),\"-\")","v":"-"},{"$f":"+IFERROR(AVERAGEIFS('Resumen de indicadores FR'!AJ23:AJ26,'Resumen de indicadores FR'!AJ23:AJ26,\">=0\"),\"-\")","v":"-"},{"$f":"+IFERROR(AVERAGEIFS('Resumen de indicadores FR'!AK23:AK26,'Resumen de indicadores FR'!AK23:AK26,\">=0\"),\"-\")","v":"-"},{"$f":"+IFERROR(AVERAGEIFS('Resumen de indicadores FR'!AL23:AL26,'Resumen de indicadores FR'!AL23:AL26,\">=0\"),\"-\")","v":"-"},{"$f":"+IFERROR(AVERAGEIFS('Resumen de indicadores FR'!AM23:AM26,'Resumen de indicadores FR'!AM23:AM26,\">=0\"),\"-\")","v":"-"},{"$f":"+IFERROR(AVERAGEIFS('Resumen de indicadores FR'!AN23:AN26,'Resumen de indicadores FR'!AN23:AN26,\">=0\"),\"-\")","v":"-"},{"$f":"+IFERROR(AVERAGEIFS('Resumen de indicadores FR'!AO23:AO26,'Resumen de indicadores FR'!AO23:AO26,\">=0\"),\"-\")","v":"-"},{"$f":"+IFERROR(AVERAGEIFS('Resumen de indicadores FR'!AP23:AP26,'Resumen de indicadores FR'!AP23:AP26,\">=0\"),\"-\")","v":"-"},{"$f":"+IFERROR(AVERAGEIFS('Resumen de indicadores FR'!AQ23:AQ26,'Resumen de indicadores FR'!AQ23:AQ26,\">=0\"),\"-\")","v":"-"},{"$f":"+IFERROR(AVERAGEIFS('Resumen de indicadores FR'!AR23:AR26,'Resumen de indicadores FR'!AR23:AR26,\">=0\"),\"-\")","v":"-"},{"$f":"+IFERROR(AVERAGEIFS('Resumen de indicadores FR'!AS23:AS26,'Resumen de indicadores FR'!AS23:AS26,\">=0\"),\"-\")","v":"-"},{"$f":"+IFERROR(AVERAGEIFS('Resumen de indicadores FR'!AT23:AT26,'Resumen de indicadores FR'!AT23:AT26,\">=0\"),\"-\")","v":"-"},{"$f":"+IFERROR(AVERAGEIFS('Resumen de indicadores FR'!AU23:AU26,'Resumen de indicadores FR'!AU23:AU26,\">=0\"),\"-\")","v":"-"},{"$f":"+IFERROR(AVERAGEIFS('Resumen de indicadores FR'!AV23:AV26,'Resumen de indicadores FR'!AV23:AV26,\">=0\"),\"-\")","v":"-"},{"$f":"+IFERROR(AVERAGEIFS('Resumen de indicadores FR'!AW23:AW26,'Resumen de indicadores FR'!AW23:AW26,\">=0\"),\"-\")","v":"-"},{"$f":"+IFERROR(AVERAGEIFS('Resumen de indicadores FR'!AX23:AX26,'Resumen de indicadores FR'!AX23:AX26,\">=0\"),\"-\")","v":"-"},{"$f":"+IFERROR(AVERAGEIFS('Resumen de indicadores FR'!AY23:AY26,'Resumen de indicadores FR'!AY23:AY26,\">=0\"),\"-\")","v":"-"},{"$f":"+IFERROR(AVERAGEIFS('Resumen de indicadores FR'!AZ23:AZ26,'Resumen de indicadores FR'!AZ23:AZ26,\">=0\"),\"-\")","v":"-"},{"$f":"+IFERROR(AVERAGEIFS('Resumen de indicadores FR'!BA23:BA26,'Resumen de indicadores FR'!BA23:BA26,\">=0\"),\"-\")","v":"-"},{"$f":"+IFERROR(AVERAGEIFS('Resumen de indicadores FR'!BB23:BB26,'Resumen de indicadores FR'!BB23:BB26,\">=0\"),\"-\")","v":"-"},{"$f":"+IFERROR(AVERAGEIFS('Resumen de indicadores FR'!BC23:BC26,'Resumen de indicadores FR'!BC23:BC26,\">=0\"),\"-\")","v":"-"},{"$f":"+IFERROR(AVERAGEIFS('Resumen de indicadores FR'!BD23:BD26,'Resumen de indicadores FR'!BD23:BD26,\">=0\"),\"-\")","v":"-"},{"$f":"+IFERROR(AVERAGEIFS('Resumen de indicadores FR'!BE23:BE26,'Resumen de indicadores FR'!BE23:BE26,\">=0\"),\"-\")","v":"-"}]
[null,"FR","Violencia Escolar","-",null,{"$f":"+IFERROR(AVERAGEIFS('Resumen de indicadores FR'!H27:H30,'Resumen de indicadores FR'!H27:H30,\">=0\"),\"-\")","v":"-"},{"$f":"+IFERROR(AVERAGEIFS('Resumen de indicadores FR'!I27:I30,'Resumen de indicadores FR'!I27:I30,\">=0\"),\"-\")","v":"-"},{"$f":"+IFERROR(AVERAGEIFS('Resumen de indicadores FR'!J27:J30,'Resumen de indicadores FR'!J27:J30,\">=0\"),\"-\")","v":"-"},{"$f":"+IFERROR(AVERAGEIFS('Resumen de indicadores FR'!K27:K30,'Resumen de indicadores FR'!K27:K30,\">=0\"),\"-\")","v":"-"},{"$f":"+IFERROR(AVERAGEIFS('Resumen de indicadores FR'!L27:L30,'Resumen de indicadores FR'!L27:L30,\">=0\"),\"-\")","v":"-"},{"$f":"+IFERROR(AVERAGEIFS('Resumen de indicadores FR'!M27:M30,'Resumen de indicadores FR'!M27:M30,\">=0\"),\"-\")","v":"-"},{"$f":"+IFERROR(AVERAGEIFS('Resumen de indicadores FR'!N27:N30,'Resumen de indicadores FR'!N27:N30,\">=0\"),\"-\")","v":"-"},{"$f":"+IFERROR(AVERAGEIFS('Resumen de indicadores FR'!O27:O30,'Resumen de indicadores FR'!O27:O30,\">=0\"),\"-\")","v":"-"},{"$f":"+IFERROR(AVERAGEIFS('Resumen de indicadores FR'!P27:P30,'Resumen de indicadores FR'!P27:P30,\">=0\"),\"-\")","v":"-"},{"$f":"+IFERROR(AVERAGEIFS('Resumen de indicadores FR'!Q27:Q30,'Resumen de indicadores FR'!Q27:Q30,\">=0\"),\"-\")","v":"-"},{"$f":"+IFERROR(AVERAGEIFS('Resumen de indicadores FR'!R27:R30,'Resumen de indicadores FR'!R27:R30,\">=0\"),\"-\")","v":"-"},{"$f":"+IFERROR(AVERAGEIFS('Resumen de indicadores FR'!S27:S30,'Resumen de indicadores FR'!S27:S30,\">=0\"),\"-\")","v":"-"},{"$f":"+IFERROR(AVERAGEIFS('Resumen de indicadores FR'!T27:T30,'Resumen de indicadores FR'!T27:T30,\">=0\"),\"-\")","v":"-"},{"$f":"+IFERROR(AVERAGEIFS('Resumen de indicadores FR'!U27:U30,'Resumen de indicadores FR'!U27:U30,\">=0\"),\"-\")","v":"-"},{"$f":"+IFERROR(AVERAGEIFS('Resumen de indicadores FR'!V27:V30,'Resumen de indicadores FR'!V27:V30,\">=0\"),\"-\")","v":"-"},{"$f":"+IFERROR(AVERAGEIFS('Resumen de indicadores FR'!W27:W30,'Resumen de indicadores FR'!W27:W30,\">=0\"),\"-\")","v":"-"},{"$f":"+IFERROR(AVERAGEIFS('Resumen de indicadores FR'!X27:X30,'Resumen de indicadores FR'!X27:X30,\">=0\"),\"-\")","v":"-"},{"$f":"+IFERROR(AVERAGEIFS('Resumen de indicadores FR'!Y27:Y30,'Resumen de indicadores FR'!Y27:Y30,\">=0\"),\"-\")","v":"-"},{"$f":"+IFERROR(AVERAGEIFS('Resumen de indicadores FR'!Z27:Z30,'Resumen de indicadores FR'!Z27:Z30,\">=0\"),\"-\")","v":"-"},{"$f":"+IFERROR(AVERAGEIFS('Resumen de indicadores FR'!AA27:AA30,'Resumen de indicadores FR'!AA27:AA30,\">=0\"),\"-\")","v":"-"},{"$f":"+IFERROR(AVERAGEIFS('Resumen de indicadores FR'!AB27:AB30,'Resumen de indicadores FR'!AB27:AB30,\">=0\"),\"-\")","v":"-"},{"$f":"+IFERROR(AVERAGEIFS('Resumen de indicadores FR'!AC27:AC30,'Resumen de indicadores FR'!AC27:AC30,\">=0\"),\"-\")","v":"-"},{"$f":"+IFERROR(AVERAGEIFS('Resumen de indicadores FR'!AD27:AD30,'Resumen de indicadores FR'!AD27:AD30,\">=0\"),\"-\")","v":"-"},{"$f":"+IFERROR(AVERAGEIFS('Resumen de indicadores FR'!AE27:AE30,'Resumen de indicadores FR'!AE27:AE30,\">=0\"),\"-\")","v":"-"},{"$f":"+IFERROR(AVERAGEIFS('Resumen de indicadores FR'!AF27:AF30,'Resumen de indicadores FR'!AF27:AF30,\">=0\"),\"-\")","v":"-"},{"$f":"+IFERROR(AVERAGEIFS('Resumen de indicadores FR'!AG27:AG30,'Resumen de indicadores FR'!AG27:AG30,\">=0\"),\"-\")","v":"-"},{"$f":"+IFERROR(AVERAGEIFS('Resumen de indicadores FR'!AH27:AH30,'Resumen de indicadores FR'!AH27:AH30,\">=0\"),\"-\")","v":"-"},{"$f":"+IFERROR(AVERAGEIFS('Resumen de indicadores FR'!AI27:AI30,'Resumen de indicadores FR'!AI27:AI30,\">=0\"),\"-\")","v":"-"},{"$f":"+IFERROR(AVERAGEIFS('Resumen de indicadores FR'!AJ27:AJ30,'Resumen de indicadores FR'!AJ27:AJ30,\">=0\"),\"-\")","v":"-"},{"$f":"+IFERROR(AVERAGEIFS('Resumen de indicadores FR'!AK27:AK30,'Resumen de indicadores FR'!AK27:AK30,\">=0\"),\"-\")","v":"-"},{"$f":"+IFERROR(AVERAGEIFS('Resumen de indicadores FR'!AL27:AL30,'Resumen de indicadores FR'!AL27:AL30,\">=0\"),\"-\")","v":"-"},{"$f":"+IFERROR(AVERAGEIFS('Resumen de indicadores FR'!AM27:AM30,'Resumen de indicadores FR'!AM27:AM30,\">=0\"),\"-\")","v":"-"},{"$f":"+IFERROR(AVERAGEIFS('Resumen de indicadores FR'!AN27:AN30,'Resumen de indicadores FR'!AN27:AN30,\">=0\"),\"-\")","v":"-"},{"$f":"+IFERROR(AVERAGEIFS('Resumen de indicadores FR'!AO27:AO30,'Resumen de indicadores FR'!AO27:AO30,\">=0\"),\"-\")","v":"-"},{"$f":"+IFERROR(AVERAGEIFS('Resumen de indicadores FR'!AP27:AP30,'Resumen de indicadores FR'!AP27:AP30,\">=0\"),\"-\")","v":"-"},{"$f":"+IFERROR(AVERAGEIFS('Resumen de indicadores FR'!AQ27:AQ30,'Resumen de indicadores FR'!AQ27:AQ30,\">=0\"),\"-\")","v":"-"},{"$f":"+IFERROR(AVERAGEIFS('Resumen de indicadores FR'!AR27:AR30,'Resumen de indicadores FR'!AR27:AR30,\">=0\"),\"-\")","v":"-"},{"$f":"+IFERROR(AVERAGEIFS('Resumen de indicadores FR'!AS27:AS30,'Resumen de indicadores FR'!AS27:AS30,\">=0\"),\"-\")","v":"-"},{"$f":"+IFERROR(AVERAGEIFS('Resumen de indicadores FR'!AT27:AT30,'Resumen de indicadores FR'!AT27:AT30,\">=0\"),\"-\")","v":"-"},{"$f":"+IFERROR(AVERAGEIFS('Resumen de indicadores FR'!AU27:AU30,'Resumen de indicadores FR'!AU27:AU30,\">=0\"),\"-\")","v":"-"},{"$f":"+IFERROR(AVERAGEIFS('Resumen de indicadores FR'!AV27:AV30,'Resumen de indicadores FR'!AV27:AV30,\">=0\"),\"-\")","v":"-"},{"$f":"+IFERROR(AVERAGEIFS('Resumen de indicadores FR'!AW27:AW30,'Resumen de indicadores FR'!AW27:AW30,\">=0\"),\"-\")","v":"-"},{"$f":"+IFERROR(AVERAGEIFS('Resumen de indicadores FR'!AX27:AX30,'Resumen de indicadores FR'!AX27:AX30,\">=0\"),\"-\")","v":"-"},{"$f":"+IFERROR(AVERAGEIFS('Resumen de indicadores FR'!AY27:AY30,'Resumen de indicadores FR'!AY27:AY30,\">=0\"),\"-\")","v":"-"},{"$f":"+IFERROR(AVERAGEIFS('Resumen de indicadores FR'!AZ27:AZ30,'Resumen de indicadores FR'!AZ27:AZ30,\">=0\"),\"-\")","v":"-"},{"$f":"+IFERROR(AVERAGEIFS('Resumen de indicadores FR'!BA27:BA30,'Resumen de indicadores FR'!BA27:BA30,\">=0\"),\"-\")","v":"-"},{"$f":"+IFERROR(AVERAGEIFS('Resumen de indicadores FR'!BB27:BB30,'Resumen de indicadores FR'!BB27:BB30,\">=0\"),\"-\")","v":"-"},{"$f":"+IFERROR(AVERAGEIFS('Resumen de indicadores FR'!BC27:BC30,'Resumen de indicadores FR'!BC27:BC30,\">=0\"),\"-\")","v":"-"},{"$f":"+IFERROR(AVERAGEIFS('Resumen de indicadores FR'!BD27:BD30,'Resumen de indicadores FR'!BD27:BD30,\">=0\"),\"-\")","v":"-"},{"$f":"+IFERROR(AVERAGEIFS('Resumen de indicadores FR'!BE27:BE30,'Resumen de indicadores FR'!BE27:BE30,\">=0\"),\"-\")","v":"-"}]
[null,"FR","Limitados recursos económicos","-",null,{"$f":"+IFERROR(AVERAGEIFS('Resumen de indicadores FR'!H31:H34,'Resumen de indicadores FR'!H31:H34,\">=0\"),\"-\")","v":"-"},{"$f":"+IFERROR(AVERAGEIFS('Resumen de indicadores FR'!I31:I34,'Resumen de indicadores FR'!I31:I34,\">=0\"),\"-\")","v":"-"},{"$f":"+IFERROR(AVERAGEIFS('Resumen de indicadores FR'!J31:J34,'Resumen de indicadores FR'!J31:J34,\">=0\"),\"-\")","v":"-"},{"$f":"+IFERROR(AVERAGEIFS('Resumen de indicadores FR'!K31:K34,'Resumen de indicadores FR'!K31:K34,\">=0\"),\"-\")","v":"-"},{"$f":"+IFERROR(AVERAGEIFS('Resumen de indicadores FR'!L31:L34,'Resumen de indicadores FR'!L31:L34,\">=0\"),\"-\")","v":"-"},{"$f":"+IFERROR(AVERAGEIFS('Resumen de indicadores FR'!M31:M34,'Resumen de indicadores FR'!M31:M34,\">=0\"),\"-\")","v":"-"},{"$f":"+IFERROR(AVERAGEIFS('Resumen de indicadores FR'!N31:N34,'Resumen de indicadores FR'!N31:N34,\">=0\"),\"-\")","v":"-"},{"$f":"+IFERROR(AVERAGEIFS('Resumen de indicadores FR'!O31:O34,'Resumen de indicadores FR'!O31:O34,\">=0\"),\"-\")","v":"-"},{"$f":"+IFERROR(AVERAGEIFS('Resumen de indicadores FR'!P31:P34,'Resumen de indicadores FR'!P31:P34,\">=0\"),\"-\")","v":"-"},{"$f":"+IFERROR(AVERAGEIFS('Resumen de indicadores FR'!Q31:Q34,'Resumen de indicadores FR'!Q31:Q34,\">=0\"),\"-\")","v":"-"},{"$f":"+IFERROR(AVERAGEIFS('Resumen de indicadores FR'!R31:R34,'Resumen de indicadores FR'!R31:R34,\">=0\"),\"-\")","v":"-"},{"$f":"+IFERROR(AVERAGEIFS('Resumen de indicadores FR'!S31:S34,'Resumen de indicadores FR'!S31:S34,\">=0\"),\"-\")","v":"-"},{"$f":"+IFERROR(AVERAGEIFS('Resumen de indicadores FR'!T31:T34,'Resumen de indicadores FR'!T31:T34,\">=0\"),\"-\")","v":"-"},{"$f":"+IFERROR(AVERAGEIFS('Resumen de indicadores FR'!U31:U34,'Resumen de indicadores FR'!U31:U34,\">=0\"),\"-\")","v":"-"},{"$f":"+IFERROR(AVERAGEIFS('Resumen de indicadores FR'!V31:V34,'Resumen de indicadores FR'!V31:V34,\">=0\"),\"-\")","v":"-"},{"$f":"+IFERROR(AVERAGEIFS('Resumen de indicadores FR'!W31:W34,'Resumen de indicadores FR'!W31:W34,\">=0\"),\"-\")","v":"-"},{"$f":"+IFERROR(AVERAGEIFS('Resumen de indicadores FR'!X31:X34,'Resumen de indicadores FR'!X31:X34,\">=0\"),\"-\")","v":"-"},{"$f":"+IFERROR(AVERAGEIFS('Resumen de indicadores FR'!Y31:Y34,'Resumen de indicadores FR'!Y31:Y34,\">=0\"),\"-\")","v":"-"},{"$f":"+IFERROR(AVERAGEIFS('Resumen de indicadores FR'!Z31:Z34,'Resumen de indicadores FR'!Z31:Z34,\">=0\"),\"-\")","v":"-"},{"$f":"+IFERROR(AVERAGEIFS('Resumen de indicadores FR'!AA31:AA34,'Resumen de indicadores FR'!AA31:AA34,\">=0\"),\"-\")","v":"-"},{"$f":"+IFERROR(AVERAGEIFS('Resumen de indicadores FR'!AB31:AB34,'Resumen de indicadores FR'!AB31:AB34,\">=0\"),\"-\")","v":"-"},{"$f":"+IFERROR(AVERAGEIFS('Resumen de indicadores FR'!AC31:AC34,'Resumen de indicadores FR'!AC31:AC34,\">=0\"),\"-\")","v":"-"},{"$f":"+IFERROR(AVERAGEIFS('Resumen de indicadores FR'!AD31:AD34,'Resumen de indicadores FR'!AD31:AD34,\">=0\"),\"-\")","v":"-"},{"$f":"+IFERROR(AVERAGEIFS('Resumen de indicadores FR'!AE31:AE34,'Resumen de indicadores FR'!AE31:AE34,\">=0\"),\"-\")","v":"-"},{"$f":"+IFERROR(AVERAGEIFS('Resumen de indicadores FR'!AF31:AF34,'Resumen de indicadores FR'!AF31:AF34,\">=0\"),\"-\")","v":"-"},{"$f":"+IFERROR(AVERAGEIFS('Resumen de indicadores FR'!AG31:AG34,'Resumen de indicadores FR'!AG31:AG34,\">=0\"),\"-\")","v":"-"},{"$f":"+IFERROR(AVERAGEIFS('Resumen de indicadores FR'!AH31:AH34,'Resumen de indicadores FR'!AH31:AH34,\">=0\"),\"-\")","v":"-"},{"$f":"+IFERROR(AVERAGEIFS('Resumen de indicadores FR'!AI31:AI34,'Resumen de indicadores FR'!AI31:AI34,\">=0\"),\"-\")","v":"-"},{"$f":"+IFERROR(AVERAGEIFS('Resumen de indicadores FR'!AJ31:AJ34,'Resumen de indicadores FR'!AJ31:AJ34,\">=0\"),\"-\")","v":"-"},{"$f":"+IFERROR(AVERAGEIFS('Resumen de indicadores FR'!AK31:AK34,'Resumen de indicadores FR'!AK31:AK34,\">=0\"),\"-\")","v":"-"},{"$f":"+IFERROR(AVERAGEIFS('Resumen de indicadores FR'!AL31:AL34,'Resumen de indicadores FR'!AL31:AL34,\">=0\"),\"-\")","v":"-"},{"$f":"+IFERROR(AVERAGEIFS('Resumen de indicadores FR'!AM31:AM34,'Resumen de indicadores FR'!AM31:AM34,\">=0\"),\"-\")","v":"-"},{"$f":"+IFERROR(AVERAGEIFS('Resumen de indicadores FR'!AN31:AN34,'Resumen de indicadores FR'!AN31:AN34,\">=0\"),\"-\")","v":"-"},{"$f":"+IFERROR(AVERAGEIFS('Resumen de indicadores FR'!AO31:AO34,'Resumen de indicadores FR'!AO31:AO34,\">=0\"),\"-\")","v":"-"},{"$f":"+IFERROR(AVERAGEIFS('Resumen de indicadores FR'!AP31:AP34,'Resumen de indicadores FR'!AP31:AP34,\">=0\"),\"-\")","v":"-"},{"$f":"+IFERROR(AVERAGEIFS('Resumen de indicadores FR'!AQ31:AQ34,'Resumen de indicadores FR'!AQ31:AQ34,\">=0\"),\"-\")","v":"-"},{"$f":"+IFERROR(AVERAGEIFS('Resumen de indicadores FR'!AR31:AR34,'Resumen de indicadores FR'!AR31:AR34,\">=0\"),\"-\")","v":"-"},{"$f":"+IFERROR(AVERAGEIFS('Resumen de indicadores FR'!AS31:AS34,'Resumen de indicadores FR'!AS31:AS34,\">=0\"),\"-\")","v":"-"},{"$f":"+IFERROR(AVERAGEIFS('Resumen de indicadores FR'!AT31:AT34,'Resumen de indicadores FR'!AT31:AT34,\">=0\"),\"-\")","v":"-"},{"$f":"+IFERROR(AVERAGEIFS('Resumen de indicadores FR'!AU31:AU34,'Resumen de indicadores FR'!AU31:AU34,\">=0\"),\"-\")","v":"-"},{"$f":"+IFERROR(AVERAGEIFS('Resumen de indicadores FR'!AV31:AV34,'Resumen de indicadores FR'!AV31:AV34,\">=0\"),\"-\")","v":"-"},{"$f":"+IFERROR(AVERAGEIFS('Resumen de indicadores FR'!AW31:AW34,'Resumen de indicadores FR'!AW31:AW34,\">=0\"),\"-\")","v":"-"},{"$f":"+IFERROR(AVERAGEIFS('Resumen de indicadores FR'!AX31:AX34,'Resumen de indicadores FR'!AX31:AX34,\">=0\"),\"-\")","v":"-"},{"$f":"+IFERROR(AVERAGEIFS('Resumen de indicadores FR'!AY31:AY34,'Resumen de indicadores FR'!AY31:AY34,\">=0\"),\"-\")","v":"-"},{"$f":"+IFERROR(AVERAGEIFS('Resumen de indicadores FR'!AZ31:AZ34,'Resumen de indicadores FR'!AZ31:AZ34,\">=0\"),\"-\")","v":"-"},{"$f":"+IFERROR(AVERAGEIFS('Resumen de indicadores FR'!BA31:BA34,'Resumen de indicadores FR'!BA31:BA34,\">=0\"),\"-\")","v":"-"},{"$f":"+IFERROR(AVERAGEIFS('Resumen de indicadores FR'!BB31:BB34,'Resumen de indicadores FR'!BB31:BB34,\">=0\"),\"-\")","v":"-"},{"$f":"+IFERROR(AVERAGEIFS('Resumen de indicadores FR'!BC31:BC34,'Resumen de indicadores FR'!BC31:BC34,\">=0\"),\"-\")","v":"-"},{"$f":"+IFERROR(AVERAGEIFS('Resumen de indicadores FR'!BD31:BD34,'Resumen de indicadores FR'!BD31:BD34,\">=0\"),\"-\")","v":"-"},{"$f":"+IFERROR(AVERAGEIFS('Resumen de indicadores FR'!BE31:BE34,'Resumen de indicadores FR'!BE31:BE34,\">=0\"),\"-\")","v":"-"}]
[null,"FR","Entorno de riesgo","-",null,{"$f":"+IFERROR(AVERAGEIFS('Resumen de indicadores FR'!H35:H36,'Resumen de indicadores FR'!H35:H36,\">=0\"),\"-\")","v":"-"},{"$f":"+IFERROR(AVERAGEIFS('Resumen de indicadores FR'!I35:I36,'Resumen de indicadores FR'!I35:I36,\">=0\"),\"-\")","v":"-"},{"$f":"+IFERROR(AVERAGEIFS('Resumen de indicadores FR'!J35:J36,'Resumen de indicadores FR'!J35:J36,\">=0\"),\"-\")","v":"-"},{"$f":"+IFERROR(AVERAGEIFS('Resumen de indicadores FR'!K35:K36,'Resumen de indicadores FR'!K35:K36,\">=0\"),\"-\")","v":"-"},{"$f":"+IFERROR(AVERAGEIFS('Resumen de indicadores FR'!L35:L36,'Resumen de indicadores FR'!L35:L36,\">=0\"),\"-\")","v":"-"},{"$f":"+IFERROR(AVERAGEIFS('Resumen de indicadores FR'!M35:M36,'Resumen de indicadores FR'!M35:M36,\">=0\"),\"-\")","v":"-"},{"$f":"+IFERROR(AVERAGEIFS('Resumen de indicadores FR'!N35:N36,'Resumen de indicadores FR'!N35:N36,\">=0\"),\"-\")","v":"-"},{"$f":"+IFERROR(AVERAGEIFS('Resumen de indicadores FR'!O35:O36,'Resumen de indicadores FR'!O35:O36,\">=0\"),\"-\")","v":"-"},{"$f":"+IFERROR(AVERAGEIFS('Resumen de indicadores FR'!P35:P36,'Resumen de indicadores FR'!P35:P36,\">=0\"),\"-\")","v":"-"},{"$f":"+IFERROR(AVERAGEIFS('Resumen de indicadores FR'!Q35:Q36,'Resumen de indicadores FR'!Q35:Q36,\">=0\"),\"-\")","v":"-"},{"$f":"+IFERROR(AVERAGEIFS('Resumen de indicadores FR'!R35:R36,'Resumen de indicadores FR'!R35:R36,\">=0\"),\"-\")","v":"-"},{"$f":"+IFERROR(AVERAGEIFS('Resumen de indicadores FR'!S35:S36,'Resumen de indicadores FR'!S35:S36,\">=0\"),\"-\")","v":"-"},{"$f":"+IFERROR(AVERAGEIFS('Resumen de indicadores FR'!T35:T36,'Resumen de indicadores FR'!T35:T36,\">=0\"),\"-\")","v":"-"},{"$f":"+IFERROR(AVERAGEIFS('Resumen de indicadores FR'!U35:U36,'Resumen de indicadores FR'!U35:U36,\">=0\"),\"-\")","v":"-"},{"$f":"+IFERROR(AVERAGEIFS('Resumen de indicadores FR'!V35:V36,'Resumen de indicadores FR'!V35:V36,\">=0\"),\"-\")","v":"-"},{"$f":"+IFERROR(AVERAGEIFS('Resumen de indicadores FR'!W35:W36,'Resumen de indicadores FR'!W35:W36,\">=0\"),\"-\")","v":"-"},{"$f":"+IFERROR(AVERAGEIFS('Resumen de indicadores FR'!X35:X36,'Resumen de indicadores FR'!X35:X36,\">=0\"),\"-\")","v":"-"},{"$f":"+IFERROR(AVERAGEIFS('Resumen de indicadores FR'!Y35:Y36,'Resumen de indicadores FR'!Y35:Y36,\">=0\"),\"-\")","v":"-"},{"$f":"+IFERROR(AVERAGEIFS('Resumen de indicadores FR'!Z35:Z36,'Resumen de indicadores FR'!Z35:Z36,\">=0\"),\"-\")","v":"-"},{"$f":"+IFERROR(AVERAGEIFS('Resumen de indicadores FR'!AA35:AA36,'Resumen de indicadores FR'!AA35:AA36,\">=0\"),\"-\")","v":"-"},{"$f":"+IFERROR(AVERAGEIFS('Resumen de indicadores FR'!AB35:AB36,'Resumen de indicadores FR'!AB35:AB36,\">=0\"),\"-\")","v":"-"},{"$f":"+IFERROR(AVERAGEIFS('Resumen de indicadores FR'!AC35:AC36,'Resumen de indicadores FR'!AC35:AC36,\">=0\"),\"-\")","v":"-"},{"$f":"+IFERROR(AVERAGEIFS('Resumen de indicadores FR'!AD35:AD36,'Resumen de indicadores FR'!AD35:AD36,\">=0\"),\"-\")","v":"-"},{"$f":"+IFERROR(AVERAGEIFS('Resumen de indicadores FR'!AE35:AE36,'Resumen de indicadores FR'!AE35:AE36,\">=0\"),\"-\")","v":"-"},{"$f":"+IFERROR(AVERAGEIFS('Resumen de indicadores FR'!AF35:AF36,'Resumen de indicadores FR'!AF35:AF36,\">=0\"),\"-\")","v":"-"},{"$f":"+IFERROR(AVERAGEIFS('Resumen de indicadores FR'!AG35:AG36,'Resumen de indicadores FR'!AG35:AG36,\">=0\"),\"-\")","v":"-"},{"$f":"+IFERROR(AVERAGEIFS('Resumen de indicadores FR'!AH35:AH36,'Resumen de indicadores FR'!AH35:AH36,\">=0\"),\"-\")","v":"-"},{"$f":"+IFERROR(AVERAGEIFS('Resumen de indicadores FR'!AI35:AI36,'Resumen de indicadores FR'!AI35:AI36,\">=0\"),\"-\")","v":"-"},{"$f":"+IFERROR(AVERAGEIFS('Resumen de indicadores FR'!AJ35:AJ36,'Resumen de indicadores FR'!AJ35:AJ36,\">=0\"),\"-\")","v":"-"},{"$f":"+IFERROR(AVERAGEIFS('Resumen de indicadores FR'!AK35:AK36,'Resumen de indicadores FR'!AK35:AK36,\">=0\"),\"-\")","v":"-"},{"$f":"+IFERROR(AVERAGEIFS('Resumen de indicadores FR'!AL35:AL36,'Resumen de indicadores FR'!AL35:AL36,\">=0\"),\"-\")","v":"-"},{"$f":"+IFERROR(AVERAGEIFS('Resumen de indicadores FR'!AM35:AM36,'Resumen de indicadores FR'!AM35:AM36,\">=0\"),\"-\")","v":"-"},{"$f":"+IFERROR(AVERAGEIFS('Resumen de indicadores FR'!AN35:AN36,'Resumen de indicadores FR'!AN35:AN36,\">=0\"),\"-\")","v":"-"},{"$f":"+IFERROR(AVERAGEIFS('Resumen de indicadores FR'!AO35:AO36,'Resumen de indicadores FR'!AO35:AO36,\">=0\"),\"-\")","v":"-"},{"$f":"+IFERROR(AVERAGEIFS('Resumen de indicadores FR'!AP35:AP36,'Resumen de indicadores FR'!AP35:AP36,\">=0\"),\"-\")","v":"-"},{"$f":"+IFERROR(AVERAGEIFS('Resumen de indicadores FR'!AQ35:AQ36,'Resumen de indicadores FR'!AQ35:AQ36,\">=0\"),\"-\")","v":"-"},{"$f":"+IFERROR(AVERAGEIFS('Resumen de indicadores FR'!AR35:AR36,'Resumen de indicadores FR'!AR35:AR36,\">=0\"),\"-\")","v":"-"},{"$f":"+IFERROR(AVERAGEIFS('Resumen de indicadores FR'!AS35:AS36,'Resumen de indicadores FR'!AS35:AS36,\">=0\"),\"-\")","v":"-"},{"$f":"+IFERROR(AVERAGEIFS('Resumen de indicadores FR'!AT35:AT36,'Resumen de indicadores FR'!AT35:AT36,\">=0\"),\"-\")","v":"-"},{"$f":"+IFERROR(AVERAGEIFS('Resumen de indicadores FR'!AU35:AU36,'Resumen de indicadores FR'!AU35:AU36,\">=0\"),\"-\")","v":"-"},{"$f":"+IFERROR(AVERAGEIFS('Resumen de indicadores FR'!AV35:AV36,'Resumen de indicadores FR'!AV35:AV36,\">=0\"),\"-\")","v":"-"},{"$f":"+IFERROR(AVERAGEIFS('Resumen de indicadores FR'!AW35:AW36,'Resumen de indicadores FR'!AW35:AW36,\">=0\"),\"-\")","v":"-"},{"$f":"+IFERROR(AVERAGEIFS('Resumen de indicadores FR'!AX35:AX36,'Resumen de indicadores FR'!AX35:AX36,\">=0\"),\"-\")","v":"-"},{"$f":"+IFERROR(AVERAGEIFS('Resumen de indicadores FR'!AY35:AY36,'Resumen de indicadores FR'!AY35:AY36,\">=0\"),\"-\")","v":"-"},{"$f":"+IFERROR(AVERAGEIFS('Resumen de indicadores FR'!AZ35:AZ36,'Resumen de indicadores FR'!AZ35:AZ36,\">=0\"),\"-\")","v":"-"},{"$f":"+IFERROR(AVERAGEIFS('Resumen de indicadores FR'!BA35:BA36,'Resumen de indicadores FR'!BA35:BA36,\">=0\"),\"-\")","v":"-"},{"$f":"+IFERROR(AVERAGEIFS('Resumen de indicadores FR'!BB35:BB36,'Resumen de indicadores FR'!BB35:BB36,\">=0\"),\"-\")","v":"-"},{"$f":"+IFERROR(AVERAGEIFS('Resumen de indicadores FR'!BC35:BC36,'Resumen de indicadores FR'!BC35:BC36,\">=0\"),\"-\")","v":"-"},{"$f":"+IFERROR(AVERAGEIFS('Resumen de indicadores FR'!BD35:BD36,'Resumen de indicadores FR'!BD35:BD36,\">=0\"),\"-\")","v":"-"},{"$f":"+IFERROR(AVERAGEIFS('Resumen de indicadores FR'!BE35:BE36,'Resumen de indicadores FR'!BE35:BE36,\">=0\"),\"-\")","v":"-"}]
[]
[null,null,null,"Indicadores",null,{"$f":"+F4","v":"Estudiante 1"},"Estudiante 2","Estudiante 3","Estudiante 4","Estudiante 5","Estudiante 6","Estudiante 7","Estudiante 8","Estudiante 9","Estudiante 10","Estudiante 11","Estudiante 12","Estudiante 13","Estudiante 14","Estudiante 15","Estudiante 16","Estudiante 17","Estudiante 18","Estudiante 19","Estudiante 20","Estudiante 21","Estudiante 22","Estudiante 23","Estudiante 24","Estudiante 25","Estudiante 26","Estudiante 27","Estudiante 28","Estudiante 29","Estudiante 30","Estudiante 31","Estudiante 32","Estudiante 33","Estudiante 34","Estudiante 35","Estudiante 36","Estudiante 37","Estudiante 38","Estudiante 39","Estudiante 40","Estudiante 41","Estudiante 42","Estudiante 43","Estudiante 44","Estudiante 45","Estudiante 46","Estudiante 47","Estudiante 48","Estudiante 49","Estudiante 50"]
[null,null,null,"Promedio Escala",null,{"$f":"IFERROR(AVERAGEIFS(F6:F15,F6:F15,\">=0\"),\"-\")","v":"-"},"-","-","-","-","-","-","-","-","-","-","-","-","-","-","-","-","-","-","-","-","-","-","-","-","-","-","-","-","-","-","-","-","-","-","-","-","-","-","-","-","-","-","-","-","-","-","-","-","-"]
[null,null,null,"Alto Riesgo",null,{"$f":"IF(ISNUMBER(F18),COUNTIFS(F6:F15,\">=3\",F6:F15,\"<4.1\"),0)","v":0},0,0,0,0,0,0,0,0,0,0,0,0,0,0,0,0,0,0,0,0,0,0,0,0,0,0,0,0,0,0,0,0,0,0,0,0,0,0,0,0,0,0,0,0,0,0,0,0,0]
[null,null,null,"Riesgo Moderado",null,{"$f":"IF(ISNUMBER(F18),COUNTIFS(F6:F15,\">=1.1\",F6:F15,\"<=2.9\"),0)","v":0},0,0,0,0,0,0,0,0,0,0,0,0,0,0,0,0,0,0,0,0,0,0,0,0,0,0,0,0,0,0,0,0,0,0,0,0,0,0,0,0,0,0,0,0,0,0,0,0,0]
[null,null,null,"Bajo Riesgo",null,{"$f":"IF(ISNUMBER(F18),COUNTIFS(F6:F15,\">=0\",F6:F15,\"<=1\"),0)","v":0},0,0,0,0,0,0,0,0,0,0,0,0,0,0,0,0,0,0,0,0,0,0,0,0,0,0,0,0,0,0,0,0,0,0,0,0,0,0,0,0,0,0,0,0,0,0,0,0,0]
[null,null,null,"TOTAL",null,{"$f":"+SUM(F19:F21)","v":0},0,0,0,0,0,0,0,0,0,0,0,0,0,0,0,0,0,0,0,0,0,0,0,0,0,0,0,0,0,0,0,0,0,0,0,0,0,0,0,0,0,0,0,0,0,0,0,0,0]

{"sheet":"Resumen de Resultados","index":8,"n_rows":54,"n_cols":12,"rows_kept":54,"cut":false,"hidden":false,"merged":[[1,1,1,5],[1,7,1,11]]}
[]
[null,"Escala HSE",null,null,null,null,null,"Escala FR"]
[null,"Resultado General del Aula",{"$f":"+IFERROR(AVERAGE(C5:C54),\"-\")","v":"-"},{"$f":"+IFERROR(AVERAGEIFS(D5:D54,C5:C54,\">=0\"),\"-\")","v":"-"},{"$f":"+IFERROR(AVERAGEIFS(E5:E54,C5:C54,\">=0\"),\"-\")","v":"-"},{"$f":"+IFERROR(AVERAGEIFS(F5:F54,C5:C54,\">=0\"),\"-\")","v":"-"},null,"Resultado General del Aula",{"$f":"+IFERROR(AVERAGE(I5:I54),\"-\")","v":"-"},{"$f":"+IFERROR(AVERAGEIFS(J5:J54,I5:I54,\">=0\"),\"-\")","v":"-"},{"$f":"+IFERROR(AVERAGEIFS(K5:K54,I5:I54,\">=0\"),\"-\")","v":"-"},{"$f":"+IFERROR(AVERAGEIFS(L5:L54,I5:I54,\">=0\"),\"-\")","v":"-"}]
[null,"Estudiantes","Promedio Puntaje","En inicio","En Proceso","Satisfactorio",null,"Estudiantes","Promedio Puntaje","Bajo Riesgo","Riesgo Moderado","Alto Riesgo"]
[null,{"$f":"+'Resumen de indicadores HSE'!H$4","v":"Estudiante 1"},{"$f":"+HLOOKUP(B5,'Resumen de Escala HSE'!$D$20:$BC$24,2,0)","v":"-"},{"$f":"+HLOOKUP(B5,'Resumen de Escala HSE'!$D$20:$BC$24,3,0)","v":0},{"$f":"+HLOOKUP(B5,'Resumen de Escala HSE'!$D$20:$BC$24,4,0)","v":0},{"$f":"+HLOOKUP(B5,'Resumen de Escala HSE'!$D$20:$BC$24,5,0)","v":0},null,{"$f":"+'Resumen de indicadores FR'!H$4","v":"Estudiante 1"},{"$f":"+HLOOKUP(H5,'Resumen de Escala FR'!$F$17:$BC$21,2,0)","v":"-"},{"$f":"+HLOOKUP(H5,'Resumen de Escala FR'!$F$17:$BC$21,5,0)","v":0},{"$f":"+HLOOKUP(H5,'Resumen de Escala FR'!$F$17:$BC$21,4,0)","v":0},{"$f":"+HLOOKUP(H5,'Resumen de Escala FR'!$F$17:$BC$21,3,0)","v":0}]
[null,{"$f":"+'Resumen de indicadores HSE'!I$4","v":"Estudiante 2"},{"$f":"+HLOOKUP(B6,'Resumen de Escala HSE'!$D$20:$BC$24,2,0)","v":"-"},{"$f":"+HLOOKUP(B6,'Resumen de Escala HSE'!$D$20:$BC$24,3,0)","v":0},{"$f":"+HLOOKUP(B6,'Resumen de Escala HSE'!$D$20:$BC$24,4,0)","v":0},{"$f":"+HLOOKUP(B6,'Resumen de Escala HSE'!$D$20:$BC$24,5,0)","v":0},null,{"$f":"+'Resumen de indicadores FR'!I$4","v":"Estudiante 2"},{"$f":"+HLOOKUP(H6,'Resumen de Escala FR'!$F$17:$BC$21,2,0)","v":"-"},{"$f":"+HLOOKUP(H6,'Resumen de Escala FR'!$F$17:$BC$21,5,0)","v":0},{"$f":"+HLOOKUP(H6,'Resumen de Escala FR'!$F$17:$BC$21,4,0)","v":0},{"$f":"+HLOOKUP(H6,'Resumen de Escala FR'!$F$17:$BC$21,3,0)","v":0}]
[null,{"$f":"+'Resumen de indicadores HSE'!J$4","v":"Estudiante 3"},{"$f":"+HLOOKUP(B7,'Resumen de Escala HSE'!$D$20:$BC$24,2,0)","v":"-"},{"$f":"+HLOOKUP(B7,'Resumen de Escala HSE'!$D$20:$BC$24,3,0)","v":0},{"$f":"+HLOOKUP(B7,'Resumen de Escala HSE'!$D$20:$BC$24,4,0)","v":0},{"$f":"+HLOOKUP(B7,'Resumen de Escala HSE'!$D$20:$BC$24,5,0)","v":0},null,{"$f":"+'Resumen de indicadores FR'!J$4","v":"Estudiante 3"},{"$f":"+HLOOKUP(H7,'Resumen de Escala FR'!$F$17:$BC$21,2,0)","v":"-"},{"$f":"+HLOOKUP(H7,'Resumen de Escala FR'!$F$17:$BC$21,5,0)","v":0},{"$f":"+HLOOKUP(H7,'Resumen de Escala FR'!$F$17:$BC$21,4,0)","v":0},{"$f":"+HLOOKUP(H7,'Resumen de Escala FR'!$F$17:$BC$21,3,0)","v":0}]
[null,{"$f":"+'Resumen de indicadores HSE'!K$4","v":"Estudiante 4"},{"$f":"+HLOOKUP(B8,'Resumen de Escala HSE'!$D$20:$BC$24,2,0)","v":"-"},{"$f":"+HLOOKUP(B8,'Resumen de Escala HSE'!$D$20:$BC$24,3,0)","v":0},{"$f":"+HLOOKUP(B8,'Resumen de Escala HSE'!$D$20:$BC$24,4,0)","v":0},{"$f":"+HLOOKUP(B8,'Resumen de Escala HSE'!$D$20:$BC$24,5,0)","v":0},null,{"$f":"+'Resumen de indicadores FR'!K$4","v":"Estudiante 4"},{"$f":"+HLOOKUP(H8,'Resumen de Escala FR'!$F$17:$BC$21,2,0)","v":"-"},{"$f":"+HLOOKUP(H8,'Resumen de Escala FR'!$F$17:$BC$21,5,0)","v":0},{"$f":"+HLOOKUP(H8,'Resumen de Escala FR'!$F$17:$BC$21,4,0)","v":0},{"$f":"+HLOOKUP(H8,'Resumen de Escala FR'!$F$17:$BC$21,3,0)","v":0}]
[null,{"$f":"+'Resumen de indicadores HSE'!L$4","v":"Estudiante 5"},{"$f":"+HLOOKUP(B9,'Resumen de Escala HSE'!$D$20:$BC$24,2,0)","v":"-"},{"$f":"+HLOOKUP(B9,'Resumen de Escala HSE'!$D$20:$BC$24,3,0)","v":0},{"$f":"+HLOOKUP(B9,'Resumen de Escala HSE'!$D$20:$BC$24,4,0)","v":0},{"$f":"+HLOOKUP(B9,'Resumen de Escala HSE'!$D$20:$BC$24,5,0)","v":0},null,{"$f":"+'Resumen de indicadores FR'!L$4","v":"Estudiante 5"},{"$f":"+HLOOKUP(H9,'Resumen de Escala FR'!$F$17:$BC$21,2,0)","v":"-"},{"$f":"+HLOOKUP(H9,'Resumen de Escala FR'!$F$17:$BC$21,5,0)","v":0},{"$f":"+HLOOKUP(H9,'Resumen de Escala FR'!$F$17:$BC$21,4,0)","v":0},{"$f":"+HLOOKUP(H9,'Resumen de Escala FR'!$F$17:$BC$21,3,0)","v":0}]
[null,{"$f":"+'Resumen de indicadores HSE'!M$4","v":"Estudiante 6"},{"$f":"+HLOOKUP(B10,'Resumen de Escala HSE'!$D$20:$BC$24,2,0)","v":"-"},{"$f":"+HLOOKUP(B10,'Resumen de Escala HSE'!$D$20:$BC$24,3,0)","v":0},{"$f":"+HLOOKUP(B10,'Resumen de Escala HSE'!$D$20:$BC$24,4,0)","v":0},{"$f":"+HLOOKUP(B10,'Resumen de Escala HSE'!$D$20:$BC$24,5,0)","v":0},null,{"$f":"+'Resumen de indicadores FR'!M$4","v":"Estudiante 6"},{"$f":"+HLOOKUP(H10,'Resumen de Escala FR'!$F$17:$BC$21,2,0)","v":"-"},{"$f":"+HLOOKUP(H10,'Resumen de Escala FR'!$F$17:$BC$21,5,0)","v":0},{"$f":"+HLOOKUP(H10,'Resumen de Escala FR'!$F$17:$BC$21,4,0)","v":0},{"$f":"+HLOOKUP(H10,'Resumen de Escala FR'!$F$17:$BC$21,3,0)","v":0}]
[null,{"$f":"+'Resumen de indicadores HSE'!N$4","v":"Estudiante 7"},{"$f":"+HLOOKUP(B11,'Resumen de Escala HSE'!$D$20:$BC$24,2,0)","v":"-"},{"$f":"+HLOOKUP(B11,'Resumen de Escala HSE'!$D$20:$BC$24,3,0)","v":0},{"$f":"+HLOOKUP(B11,'Resumen de Escala HSE'!$D$20:$BC$24,4,0)","v":0},{"$f":"+HLOOKUP(B11,'Resumen de Escala HSE'!$D$20:$BC$24,5,0)","v":0},null,{"$f":"+'Resumen de indicadores FR'!N$4","v":"Estudiante 7"},{"$f":"+HLOOKUP(H11,'Resumen de Escala FR'!$F$17:$BC$21,2,0)","v":"-"},{"$f":"+HLOOKUP(H11,'Resumen de Escala FR'!$F$17:$BC$21,5,0)","v":0},{"$f":"+HLOOKUP(H11,'Resumen de Escala FR'!$F$17:$BC$21,4,0)","v":0},{"$f":"+HLOOKUP(H11,'Resumen de Escala FR'!$F$17:$BC$21,3,0)","v":0}]
[null,{"$f":"+'Resumen de indicadores HSE'!O$4","v":"Estudiante 8"},{"$f":"+HLOOKUP(B12,'Resumen de Escala HSE'!$D$20:$BC$24,2,0)","v":"-"},{"$f":"+HLOOKUP(B12,'Resumen de Escala HSE'!$D$20:$BC$24,3,0)","v":0},{"$f":"+HLOOKUP(B12,'Resumen de Escala HSE'!$D$20:$BC$24,4,0)","v":0},{"$f":"+HLOOKUP(B12,'Resumen de Escala HSE'!$D$20:$BC$24,5,0)","v":0},null,{"$f":"+'Resumen de indicadores FR'!O$4","v":"Estudiante 8"},{"$f":"+HLOOKUP(H12,'Resumen de Escala FR'!$F$17:$BC$21,2,0)","v":"-"},{"$f":"+HLOOKUP(H12,'Resumen de Escala FR'!$F$17:$BC$21,5,0)","v":0},{"$f":"+HLOOKUP(H12,'Resumen de Escala FR'!$F$17:$BC$21,4,0)","v":0},{"$f":"+HLOOKUP(H12,'Resumen de Escala FR'!$F$17:$BC$21,3,0)","v":0}]
[null,{"$f":"+'Resumen de indicadores HSE'!P$4","v":"Estudiante 9"},{"$f":"+HLOOKUP(B13,'Resumen de Escala HSE'!$D$20:$BC$24,2,0)","v":"-"},{"$f":"+HLOOKUP(B13,'Resumen de Escala HSE'!$D$20:$BC$24,3,0)","v":0},{"$f":"+HLOOKUP(B13,'Resumen de Escala HSE'!$D$20:$BC$24,4,0)","v":0},{"$f":"+HLOOKUP(B13,'Resumen de Escala HSE'!$D$20:$BC$24,5,0)","v":0},null,{"$f":"+'Resumen de indicadores FR'!P$4","v":"Estudiante 9"},{"$f":"+HLOOKUP(H13,'Resumen de Escala FR'!$F$17:$BC$21,2,0)","v":"-"},{"$f":"+HLOOKUP(H13,'Resumen de Escala FR'!$F$17:$BC$21,5,0)","v":0},{"$f":"+HLOOKUP(H13,'Resumen de Escala FR'!$F$17:$BC$21,4,0)","v":0},{"$f":"+HLOOKUP(H13,'Resumen de Escala FR'!$F$17:$BC$21,3,0)","v":0}]
[null,{"$f":"+'Resumen de indicadores HSE'!Q$4","v":"Estudiante 10"},{"$f":"+HLOOKUP(B14,'Resumen de Escala HSE'!$D$20:$BC$24,2,0)","v":"-"},{"$f":"+HLOOKUP(B14,'Resumen de Escala HSE'!$D$20:$BC$24,3,0)","v":0},{"$f":"+HLOOKUP(B14,'Resumen de Escala HSE'!$D$20:$BC$24,4,0)","v":0},{"$f":"+HLOOKUP(B14,'Resumen de Escala HSE'!$D$20:$BC$24,5,0)","v":0},null,{"$f":"+'Resumen de indicadores FR'!Q$4","v":"Estudiante 10"},{"$f":"+HLOOKUP(H14,'Resumen de Escala FR'!$F$17:$BC$21,2,0)","v":"-"},{"$f":"+HLOOKUP(H14,'Resumen de Escala FR'!$F$17:$BC$21,5,0)","v":0},{"$f":"+HLOOKUP(H14,'Resumen de Escala FR'!$F$17:$BC$21,4,0)","v":0},{"$f":"+HLOOKUP(H14,'Resumen de Escala FR'!$F$17:$BC$21,3,0)","v":0}]
[null,{"$f":"+'Resumen de indicadores HSE'!R$4","v":"Estudiante 11"},{"$f":"+HLOOKUP(B15,'Resumen de Escala HSE'!$D$20:$BC$24,2,0)","v":"-"},{"$f":"+HLOOKUP(B15,'Resumen de Escala HSE'!$D$20:$BC$24,3,0)","v":0},{"$f":"+HLOOKUP(B15,'Resumen de Escala HSE'!$D$20:$BC$24,4,0)","v":0},{"$f":"+HLOOKUP(B15,'Resumen de Escala HSE'!$D$20:$BC$24,5,0)","v":0},null,{"$f":"+'Resumen de indicadores FR'!R$4","v":"Estudiante 11"},{"$f":"+HLOOKUP(H15,'Resumen de Escala FR'!$F$17:$BC$21,2,0)","v":"-"},{"$f":"+HLOOKUP(H15,'Resumen de Escala FR'!$F$17:$BC$21,5,0)","v":0},{"$f":"+HLOOKUP(H15,'Resumen de Escala FR'!$F$17:$BC$21,4,0)","v":0},{"$f":"+HLOOKUP(H15,'Resumen de Escala FR'!$F$17:$BC$21,3,0)","v":0}]
[null,{"$f":"+'Resumen de indicadores HSE'!S$4","v":"Estudiante 12"},{"$f":"+HLOOKUP(B16,'Resumen de Escala HSE'!$D$20:$BC$24,2,0)","v":"-"},{"$f":"+HLOOKUP(B16,'Resumen de Escala HSE'!$D$20:$BC$24,3,0)","v":0},{"$f":"+HLOOKUP(B16,'Resumen de Escala HSE'!$D$20:$BC$24,4,0)","v":0},{"$f":"+HLOOKUP(B16,'Resumen de Escala HSE'!$D$20:$BC$24,5,0)","v":0},null,{"$f":"+'Resumen de indicadores FR'!S$4","v":"Estudiante 12"},{"$f":"+HLOOKUP(H16,'Resumen de Escala FR'!$F$17:$BC$21,2,0)","v":"-"},{"$f":"+HLOOKUP(H16,'Resumen de Escala FR'!$F$17:$BC$21,5,0)","v":0},{"$f":"+HLOOKUP(H16,'Resumen de Escala FR'!$F$17:$BC$21,4,0)","v":0},{"$f":"+HLOOKUP(H16,'Resumen de Escala FR'!$F$17:$BC$21,3,0)","v":0}]
[null,{"$f":"+'Resumen de indicadores HSE'!T$4","v":"Estudiante 13"},{"$f":"+HLOOKUP(B17,'Resumen de Escala HSE'!$D$20:$BC$24,2,0)","v":"-"},{"$f":"+HLOOKUP(B17,'Resumen de Escala HSE'!$D$20:$BC$24,3,0)","v":0},{"$f":"+HLOOKUP(B17,'Resumen de Escala HSE'!$D$20:$BC$24,4,0)","v":0},{"$f":"+HLOOKUP(B17,'Resumen de Escala HSE'!$D$20:$BC$24,5,0)","v":0},null,{"$f":"+'Resumen de indicadores FR'!T$4","v":"Estudiante 13"},{"$f":"+HLOOKUP(H17,'Resumen de Escala FR'!$F$17:$BC$21,2,0)","v":"-"},{"$f":"+HLOOKUP(H17,'Resumen de Escala FR'!$F$17:$BC$21,5,0)","v":0},{"$f":"+HLOOKUP(H17,'Resumen de Escala FR'!$F$17:$BC$21,4,0)","v":0},{"$f":"+HLOOKUP(H17,'Resumen de Escala FR'!$F$17:$BC$21,3,0)","v":0}]
[null,{"$f":"+'Resumen de indicadores HSE'!U$4","v":"Estudiante 14"},{"$f":"+HLOOKUP(B18,'Resumen de Escala HSE'!$D$20:$BC$24,2,0)","v":"-"},{"$f":"+HLOOKUP(B18,'Resumen de Escala HSE'!$D$20:$BC$24,3,0)","v":0},{"$f":"+HLOOKUP(B18,'Resumen de Escala HSE'!$D$20:$BC$24,4,0)","v":0},{"$f":"+HLOOKUP(B18,'Resumen de Escala HSE'!$D$20:$BC$24,5,0)","v":0},null,{"$f":"+'Resumen de indicadores FR'!U$4","v":"Estudiante 14"},{"$f":"+HLOOKUP(H18,'Resumen de Escala FR'!$F$17:$BC$21,2,0)","v":"-"},{"$f":"+HLOOKUP(H18,'Resumen de Escala FR'!$F$17:$BC$21,5,0)","v":0},{"$f":"+HLOOKUP(H18,'Resumen de Escala FR'!$F$17:$BC$21,4,0)","v":0},{"$f":"+HLOOKUP(H18,'Resumen de Escala FR'!$F$17:$BC$21,3,0)","v":0}]
[null,{"$f":"+'Resumen de indicadores HSE'!V$4","v":"Estudiante 15"},{"$f":"+HLOOKUP(B19,'Resumen de Escala HSE'!$D$20:$BC$24,2,0)","v":"-"},{"$f":"+HLOOKUP(B19,'Resumen de Escala HSE'!$D$20:$BC$24,3,0)","v":0},{"$f":"+HLOOKUP(B19,'Resumen de Escala HSE'!$D$20:$BC$24,4,0)","v":0},{"$f":"+HLOOKUP(B19,'Resumen de Escala HSE'!$D$20:$BC$24,5,0)","v":0},null,{"$f":"+'Resumen de indicadores FR'!V$4","v":"Estudiante 15"},{"$f":"+HLOOKUP(H19,'Resumen de Escala FR'!$F$17:$BC$21,2,0)","v":"-"},{"$f":"+HLOOKUP(H19,'Resumen de Escala FR'!$F$17:$BC$21,5,0)","v":0},{"$f":"+HLOOKUP(H19,'Resumen de Escala FR'!$F$17:$BC$21,4,0)","v":0},{"$f":"+HLOOKUP(H19,'Resumen de Escala FR'!$F$17:$BC$21,3,0)","v":0}]
[null,{"$f":"+'Resumen de indicadores HSE'!W$4","v":"Estudiante 16"},{"$f":"+HLOOKUP(B20,'Resumen de Escala HSE'!$D$20:$BC$24,2,0)","v":"-"},{"$f":"+HLOOKUP(B20,'Resumen de Escala HSE'!$D$20:$BC$24,3,0)","v":0},{"$f":"+HLOOKUP(B20,'Resumen de Escala HSE'!$D$20:$BC$24,4,0)","v":0},{"$f":"+HLOOKUP(B20,'Resumen de Escala HSE'!$D$20:$BC$24,5,0)","v":0},null,{"$f":"+'Resumen de indicadores FR'!W$4","v":"Estudiante 16"},{"$f":"+HLOOKUP(H20,'Resumen de Escala FR'!$F$17:$BC$21,2,0)","v":"-"},{"$f":"+HLOOKUP(H20,'Resumen de Escala FR'!$F$17:$BC$21,5,0)","v":0},{"$f":"+HLOOKUP(H20,'Resumen de Escala FR'!$F$17:$BC$21,4,0)","v":0},{"$f":"+HLOOKUP(H20,'Resumen de Escala FR'!$F$17:$BC$21,3,0)","v":0}]
[null,{"$f":"+'Resumen de indicadores HSE'!X$4","v":"Estudiante 17"},{"$f":"+HLOOKUP(B21,'Resumen de Escala HSE'!$D$20:$BC$24,2,0)","v":"-"},{"$f":"+HLOOKUP(B21,'Resumen de Escala HSE'!$D$20:$BC$24,3,0)","v":0},{"$f":"+HLOOKUP(B21,'Resumen de Escala HSE'!$D$20:$BC$24,4,0)","v":0},{"$f":"+HLOOKUP(B21,'Resumen de Escala HSE'!$D$20:$BC$24,5,0)","v":0},null,{"$f":"+'Resumen de indicadores FR'!X$4","v":"Estudiante 17"},{"$f":"+HLOOKUP(H21,'Resumen de Escala FR'!$F$17:$BC$21,2,0)","v":"-"},{"$f":"+HLOOKUP(H21,'Resumen de Escala FR'!$F$17:$BC$21,5,0)","v":0},{"$f":"+HLOOKUP(H21,'Resumen de Escala FR'!$F$17:$BC$21,4,0)","v":0},{"$f":"+HLOOKUP(H21,'Resumen de Escala FR'!$F$17:$BC$21,3,0)","v":0}]
[null,{"$f":"+'Resumen de indicadores HSE'!Y$4","v":"Estudiante 18"},{"$f":"+HLOOKUP(B22,'Resumen de Escala HSE'!$D$20:$BC$24,2,0)","v":"-"},{"$f":"+HLOOKUP(B22,'Resumen de Escala HSE'!$D$20:$BC$24,3,0)","v":0},{"$f":"+HLOOKUP(B22,'Resumen de Escala HSE'!$D$20:$BC$24,4,0)","v":0},{"$f":"+HLOOKUP(B22,'Resumen de Escala HSE'!$D$20:$BC$24,5,0)","v":0},null,{"$f":"+'Resumen de indicadores FR'!Y$4","v":"Estudiante 18"},{"$f":"+HLOOKUP(H22,'Resumen de Escala FR'!$F$17:$BC$21,2,0)","v":"-"},{"$f":"+HLOOKUP(H22,'Resumen de Escala FR'!$F$17:$BC$21,5,0)","v":0},{"$f":"+HLOOKUP(H22,'Resumen de Escala FR'!$F$17:$BC$21,4,0)","v":0},{"$f":"+HLOOKUP(H22,'Resumen de Escala FR'!$F$17:$BC$21,3,0)","v":0}]
[null,{"$f":"+'Resumen de indicadores HSE'!Z$4","v":"Estudiante 19"},{"$f":"+HLOOKUP(B23,'Resumen de Escala HSE'!$D$20:$BC$24,2,0)","v":"-"},{"$f":"+HLOOKUP(B23,'Resumen de Escala HSE'!$D$20:$BC$24,3,0)","v":0},{"$f":"+HLOOKUP(B23,'Resumen de Escala HSE'!$D$20:$BC$24,4,0)","v":0},{"$f":"+HLOOKUP(B23,'Resumen de Escala HSE'!$D$20:$BC$24,5,0)","v":0},null,{"$f":"+'Resumen de indicadores FR'!Z$4","v":"Estudiante 19"},{"$f":"+HLOOKUP(H23,'Resumen de Escala FR'!$F$17:$BC$21,2,0)","v":"-"},{"$f":"+HLOOKUP(H23,'Resumen de Escala FR'!$F$17:$BC$21,5,0)","v":0},{"$f":"+HLOOKUP(H23,'Resumen de Escala FR'!$F$17:$BC$21,4,0)","v":0},{"$f":"+HLOOKUP(H23,'Resumen de Escala FR'!$F$17:$BC$21,3,0)","v":0}]
[null,{"$f":"+'Resumen de indicadores HSE'!AA$4","v":"Estudiante 20"},{"$f":"+HLOOKUP(B24,'Resumen de Escala HSE'!$D$20:$BC$24,2,0)","v":"-"},{"$f":"+HLOOKUP(B24,'Resumen de Escala HSE'!$D$20:$BC$24,3,0)","v":0},{"$f":"+HLOOKUP(B24,'Resumen de Escala HSE'!$D$20:$BC$24,4,0)","v":0},{"$f":"+HLOOKUP(B24,'Resumen de Escala HSE'!$D$20:$BC$24,5,0)","v":0},null,{"$f":"+'Resumen de indicadores FR'!AA$4","v":"Estudiante 20"},{"$f":"+HLOOKUP(H24,'Resumen de Escala FR'!$F$17:$BC$21,2,0)","v":"-"},{"$f":"+HLOOKUP(H24,'Resumen de Escala FR'!$F$17:$BC$21,5,0)","v":0},{"$f":"+HLOOKUP(H24,'Resumen de Escala FR'!$F$17:$BC$21,4,0)","v":0},{"$f":"+HLOOKUP(H24,'Resumen de Escala FR'!$F$17:$BC$21,3,0)","v":0}]
[null,{"$f":"+'Resumen de indicadores HSE'!AB$4","v":"Estudiante 21"},{"$f":"+HLOOKUP(B25,'Resumen de Escala HSE'!$D$20:$BC$24,2,0)","v":"-"},{"$f":"+HLOOKUP(B25,'Resumen de Escala HSE'!$D$20:$BC$24,3,0)","v":0},{"$f":"+HLOOKUP(B25,'Resumen de Escala HSE'!$D$20:$BC$24,4,0)","v":0},{"$f":"+HLOOKUP(B25,'Resumen de Escala HSE'!$D$20:$BC$24,5,0)","v":0},null,{"$f":"+'Resumen de indicadores FR'!AB$4","v":"Estudiante 21"},{"$f":"+HLOOKUP(H25,'Resumen de Escala FR'!$F$17:$BC$21,2,0)","v":"-"},{"$f":"+HLOOKUP(H25,'Resumen de Escala FR'!$F$17:$BC$21,5,0)","v":0},{"$f":"+HLOOKUP(H25,'Resumen de Escala FR'!$F$17:$BC$21,4,0)","v":0},{"$f":"+HLOOKUP(H25,'Resumen de Escala FR'!$F$17:$BC$21,3,0)","v":0}]
[null,{"$f":"+'Resumen de indicadores HSE'!AC$4","v":"Estudiante 22"},{"$f":"+HLOOKUP(B26,'Resumen de Escala HSE'!$D$20:$BC$24,2,0)","v":"-"},{"$f":"+HLOOKUP(B26,'Resumen de Escala HSE'!$D$20:$BC$24,3,0)","v":0},{"$f":"+HLOOKUP(B26,'Resumen de Escala HSE'!$D$20:$BC$24,4,0)","v":0},{"$f":"+HLOOKUP(B26,'Resumen de Escala HSE'!$D$20:$BC$24,5,0)","v":0},null,{"$f":"+'Resumen de indicadores FR'!AC$4","v":"Estudiante 22"},{"$f":"+HLOOKUP(H26,'Resumen de Escala FR'!$F$17:$BC$21,2,0)","v":"-"},{"$f":"+HLOOKUP(H26,'Resumen de Escala FR'!$F$17:$BC$21,5,0)","v":0},{"$f":"+HLOOKUP(H26,'Resumen de Escala FR'!$F$17:$BC$21,4,0)","v":0},{"$f":"+HLOOKUP(H26,'Resumen de Escala FR'!$F$17:$BC$21,3,0)","v":0}]
[null,{"$f":"+'Resumen de indicadores HSE'!AD$4","v":"Estudiante 23"},{"$f":"+HLOOKUP(B27,'Resumen de Escala HSE'!$D$20:$BC$24,2,0)","v":"-"},{"$f":"+HLOOKUP(B27,'Resumen de Escala HSE'!$D$20:$BC$24,3,0)","v":0},{"$f":"+HLOOKUP(B27,'Resumen de Escala HSE'!$D$20:$BC$24,4,0)","v":0},{"$f":"+HLOOKUP(B27,'Resumen de Escala HSE'!$D$20:$BC$24,5,0)","v":0},null,{"$f":"+'Resumen de indicadores FR'!AD$4","v":"Estudiante 23"},{"$f":"+HLOOKUP(H27,'Resumen de Escala FR'!$F$17:$BC$21,2,0)","v":"-"},{"$f":"+HLOOKUP(H27,'Resumen de Escala FR'!$F$17:$BC$21,5,0)","v":0},{"$f":"+HLOOKUP(H27,'Resumen de Escala FR'!$F$17:$BC$21,4,0)","v":0},{"$f":"+HLOOKUP(H27,'Resumen de Escala FR'!$F$17:$BC$21,3,0)","v":0}]
[null,{"$f":"+'Resumen de indicadores HSE'!AE$4","v":"Estudiante 24"},{"$f":"+HLOOKUP(B28,'Resumen de Escala HSE'!$D$20:$BC$24,2,0)","v":"-"},{"$f":"+HLOOKUP(B28,'Resumen de Escala HSE'!$D$20:$BC$24,3,0)","v":0},{"$f":"+HLOOKUP(B28,'Resumen de Escala HSE'!$D$20:$BC$24,4,0)","v":0},{"$f":"+HLOOKUP(B28,'Resumen de Escala HSE'!$D$20:$BC$24,5,0)","v":0},null,{"$f":"+'Resumen de indicadores FR'!AE$4","v":"Estudiante 24"},{"$f":"+HLOOKUP(H28,'Resumen de Escala FR'!$F$17:$BC$21,2,0)","v":"-"},{"$f":"+HLOOKUP(H28,'Resumen de Escala FR'!$F$17:$BC$21,5,0)","v":0},{"$f":"+HLOOKUP(H28,'Resumen de Escala FR'!$F$17:$BC$21,4,0)","v":0},{"$f":"+HLOOKUP(H28,'Resumen de Escala FR'!$F$17:$BC$21,3,0)","v":0}]
[null,{"$f":"+'Resumen de indicadores HSE'!AF$4","v":"Estudiante 25"},{"$f":"+HLOOKUP(B29,'Resumen de Escala HSE'!$D$20:$BC$24,2,0)","v":"-"},{"$f":"+HLOOKUP(B29,'Resumen de Escala HSE'!$D$20:$BC$24,3,0)","v":0},{"$f":"+HLOOKUP(B29,'Resumen de Escala HSE'!$D$20:$BC$24,4,0)","v":0},{"$f":"+HLOOKUP(B29,'Resumen de Escala HSE'!$D$20:$BC$24,5,0)","v":0},null,{"$f":"+'Resumen de indicadores FR'!AF$4","v":"Estudiante 25"},{"$f":"+HLOOKUP(H29,'Resumen de Escala FR'!$F$17:$BC$21,2,0)","v":"-"},{"$f":"+HLOOKUP(H29,'Resumen de Escala FR'!$F$17:$BC$21,5,0)","v":0},{"$f":"+HLOOKUP(H29,'Resumen de Escala FR'!$F$17:$BC$21,4,0)","v":0},{"$f":"+HLOOKUP(H29,'Resumen de Escala FR'!$F$17:$BC$21,3,0)","v":0}]
[null,{"$f":"+'Resumen de indicadores HSE'!AG$4","v":"Estudiante 26"},{"$f":"+HLOOKUP(B30,'Resumen de Escala HSE'!$D$20:$BC$24,2,0)","v":"-"},{"$f":"+HLOOKUP(B30,'Resumen de Escala HSE'!$D$20:$BC$24,3,0)","v":0},{"$f":"+HLOOKUP(B30,'Resumen de Escala HSE'!$D$20:$BC$24,4,0)","v":0},{"$f":"+HLOOKUP(B30,'Resumen de Escala HSE'!$D$20:$BC$24,5,0)","v":0},null,{"$f":"+'Resumen de indicadores FR'!AG$4","v":"Estudiante 26"},{"$f":"+HLOOKUP(H30,'Resumen de Escala FR'!$F$17:$BC$21,2,0)","v":"-"},{"$f":"+HLOOKUP(H30,'Resumen de Escala FR'!$F$17:$BC$21,5,0)","v":0},{"$f":"+HLOOKUP(H30,'Resumen de Escala FR'!$F$17:$BC$21,4,0)","v":0},{"$f":"+HLOOKUP(H30,'Resumen de Escala FR'!$F$17:$BC$21,3,0)","v":0}]
[null,{"$f":"+'Resumen de indicadores HSE'!AH$4","v":"Estudiante 27"},{"$f":"+HLOOKUP(B31,'Resumen de Escala HSE'!$D$20:$BC$24,2,0)","v":"-"},{"$f":"+HLOOKUP(B31,'Resumen de Escala HSE'!$D$20:$BC$24,3,0)","v":0},{"$f":"+HLOOKUP(B31,'Resumen de Escala HSE'!$D$20:$BC$24,4,0)","v":0},{"$f":"+HLOOKUP(B31,'Resumen de Escala HSE'!$D$20:$BC$24,5,0)","v":0},null,{"$f":"+'Resumen de indicadores FR'!AH$4","v":"Estudiante 27"},{"$f":"+HLOOKUP(H31,'Resumen de Escala FR'!$F$17:$BC$21,2,0)","v":"-"},{"$f":"+HLOOKUP(H31,'Resumen de Escala FR'!$F$17:$BC$21,5,0)","v":0},{"$f":"+HLOOKUP(H31,'Resumen de Escala FR'!$F$17:$BC$21,4,0)","v":0},{"$f":"+HLOOKUP(H31,'Resumen de Escala FR'!$F$17:$BC$21,3,0)","v":0}]
[null,{"$f":"+'Resumen de indicadores HSE'!AI$4","v":"Estudiante 28"},{"$f":"+HLOOKUP(B32,'Resumen de Escala HSE'!$D$20:$BC$24,2,0)","v":"-"},{"$f":"+HLOOKUP(B32,'Resumen de Escala HSE'!$D$20:$BC$24,3,0)","v":0},{"$f":"+HLOOKUP(B32,'Resumen de Escala HSE'!$D$20:$BC$24,4,0)","v":0},{"$f":"+HLOOKUP(B32,'Resumen de Escala HSE'!$D$20:$BC$24,5,0)","v":0},null,{"$f":"+'Resumen de indicadores FR'!AI$4","v":"Estudiante 28"},{"$f":"+HLOOKUP(H32,'Resumen de Escala FR'!$F$17:$BC$21,2,0)","v":"-"},{"$f":"+HLOOKUP(H32,'Resumen de Escala FR'!$F$17:$BC$21,5,0)","v":0},{"$f":"+HLOOKUP(H32,'Resumen de Escala FR'!$F$17:$BC$21,4,0)","v":0},{"$f":"+HLOOKUP(H32,'Resumen de Escala FR'!$F$17:$BC$21,3,0)","v":0}]
[null,{"$f":"+'Resumen de indicadores HSE'!AJ$4","v":"Estudiante 29"},{"$f":"+HLOOKUP(B33,'Resumen de Escala HSE'!$D$20:$BC$24,2,0)","v":"-"},{"$f":"+HLOOKUP(B33,'Resumen de Escala HSE'!$D$20:$BC$24,3,0)","v":0},{"$f":"+HLOOKUP(B33,'Resumen de Escala HSE'!$D$20:$BC$24,4,0)","v":0},{"$f":"+HLOOKUP(B33,'Resumen de Escala HSE'!$D$20:$BC$24,5,0)","v":0},null,{"$f":"+'Resumen de indicadores FR'!AJ$4","v":"Estudiante 29"},{"$f":"+HLOOKUP(H33,'Resumen de Escala FR'!$F$17:$BC$21,2,0)","v":"-"},{"$f":"+HLOOKUP(H33,'Resumen de Escala FR'!$F$17:$BC$21,5,0)","v":0},{"$f":"+HLOOKUP(H33,'Resumen de Escala FR'!$F$17:$BC$21,4,0)","v":0},{"$f":"+HLOOKUP(H33,'Resumen de Escala FR'!$F$17:$BC$21,3,0)","v":0}]
[null,{"$f":"+'Resumen de indicadores HSE'!AK$4","v":"Estudiante 30"},{"$f":"+HLOOKUP(B34,'Resumen de Escala HSE'!$D$20:$BC$24,2,0)","v":"-"},{"$f":"+HLOOKUP(B34,'Resumen de Escala HSE'!$D$20:$BC$24,3,0)","v":0},{"$f":"+HLOOKUP(B34,'Resumen de Escala HSE'!$D$20:$BC$24,4,0)","v":0},{"$f":"+HLOOKUP(B34,'Resumen de Escala HSE'!$D$20:$BC$24,5,0)","v":0},null,{"$f":"+'Resumen de indicadores FR'!AK$4","v":"Estudiante 30"},{"$f":"+HLOOKUP(H34,'Resumen de Escala FR'!$F$17:$BC$21,2,0)","v":"-"},{"$f":"+HLOOKUP(H34,'Resumen de Escala FR'!$F$17:$BC$21,5,0)","v":0},{"$f":"+HLOOKUP(H34,'Resumen de Escala FR'!$F$17:$BC$21,4,0)","v":0},{"$f":"+HLOOKUP(H34,'Resumen de Escala FR'!$F$17:$BC$21,3,0)","v":0}]
[null,{"$f":"+'Resumen de indicadores HSE'!AL$4","v":"Estudiante 31"},{"$f":"+HLOOKUP(B35,'Resumen de Escala HSE'!$D$20:$BC$24,2,0)","v":"-"},{"$f":"+HLOOKUP(B35,'Resumen de Escala HSE'!$D$20:$BC$24,3,0)","v":0},{"$f":"+HLOOKUP(B35,'Resumen de Escala HSE'!$D$20:$BC$24,4,0)","v":0},{"$f":"+HLOOKUP(B35,'Resumen de Escala HSE'!$D$20:$BC$24,5,0)","v":0},null,{"$f":"+'Resumen de indicadores FR'!AL$4","v":"Estudiante 31"},{"$f":"+HLOOKUP(H35,'Resumen de Escala FR'!$F$17:$BC$21,2,0)","v":"-"},{"$f":"+HLOOKUP(H35,'Resumen de Escala FR'!$F$17:$BC$21,5,0)","v":0},{"$f":"+HLOOKUP(H35,'Resumen de Escala FR'!$F$17:$BC$21,4,0)","v":0},{"$f":"+HLOOKUP(H35,'Resumen de Escala FR'!$F$17:$BC$21,3,0)","v":0}]
[null,{"$f":"+'Resumen de indicadores HSE'!AM$4","v":"Estudiante 32"},{"$f":"+HLOOKUP(B36,'Resumen de Escala HSE'!$D$20:$BC$24,2,0)","v":"-"},{"$f":"+HLOOKUP(B36,'Resumen de Escala HSE'!$D$20:$BC$24,3,0)","v":0},{"$f":"+HLOOKUP(B36,'Resumen de Escala HSE'!$D$20:$BC$24,4,0)","v":0},{"$f":"+HLOOKUP(B36,'Resumen de Escala HSE'!$D$20:$BC$24,5,0)","v":0},null,{"$f":"+'Resumen de indicadores FR'!AM$4","v":"Estudiante 32"},{"$f":"+HLOOKUP(H36,'Resumen de Escala FR'!$F$17:$BC$21,2,0)","v":"-"},{"$f":"+HLOOKUP(H36,'Resumen de Escala FR'!$F$17:$BC$21,5,0)","v":0},{"$f":"+HLOOKUP(H36,'Resumen de Escala FR'!$F$17:$BC$21,4,0)","v":0},{"$f":"+HLOOKUP(H36,'Resumen de Escala FR'!$F$17:$BC$21,3,0)","v":0}]
[null,{"$f":"+'Resumen de indicadores HSE'!AN$4","v":"Estudiante 33"},{"$f":"+HLOOKUP(B37,'Resumen de Escala HSE'!$D$20:$BC$24,2,0)","v":"-"},{"$f":"+HLOOKUP(B37,'Resumen de Escala HSE'!$D$20:$BC$24,3,0)","v":0},{"$f":"+HLOOKUP(B37,'Resumen de Escala HSE'!$D$20:$BC$24,4,0)","v":0},{"$f":"+HLOOKUP(B37,'Resumen de Escala HSE'!$D$20:$BC$24,5,0)","v":0},null,{"$f":"+'Resumen de indicadores FR'!AN$4","v":"Estudiante 33"},{"$f":"+HLOOKUP(H37,'Resumen de Escala FR'!$F$17:$BC$21,2,0)","v":"-"},{"$f":"+HLOOKUP(H37,'Resumen de Escala FR'!$F$17:$BC$21,5,0)","v":0},{"$f":"+HLOOKUP(H37,'Resumen de Escala FR'!$F$17:$BC$21,4,0)","v":0},{"$f":"+HLOOKUP(H37,'Resumen de Escala FR'!$F$17:$BC$21,3,0)","v":0}]
[null,{"$f":"+'Resumen de indicadores HSE'!AO$4","v":"Estudiante 34"},{"$f":"+HLOOKUP(B38,'Resumen de Escala HSE'!$D$20:$BC$24,2,0)","v":"-"},{"$f":"+HLOOKUP(B38,'Resumen de Escala HSE'!$D$20:$BC$24,3,0)","v":0},{"$f":"+HLOOKUP(B38,'Resumen de Escala HSE'!$D$20:$BC$24,4,0)","v":0},{"$f":"+HLOOKUP(B38,'Resumen de Escala HSE'!$D$20:$BC$24,5,0)","v":0},null,{"$f":"+'Resumen de indicadores FR'!AO$4","v":"Estudiante 34"},{"$f":"+HLOOKUP(H38,'Resumen de Escala FR'!$F$17:$BC$21,2,0)","v":"-"},{"$f":"+HLOOKUP(H38,'Resumen de Escala FR'!$F$17:$BC$21,5,0)","v":0},{"$f":"+HLOOKUP(H38,'Resumen de Escala FR'!$F$17:$BC$21,4,0)","v":0},{"$f":"+HLOOKUP(H38,'Resumen de Escala FR'!$F$17:$BC$21,3,0)","v":0}]
[null,{"$f":"+'Resumen de indicadores HSE'!AP$4","v":"Estudiante 35"},{"$f":"+HLOOKUP(B39,'Resumen de Escala HSE'!$D$20:$BC$24,2,0)","v":"-"},{"$f":"+HLOOKUP(B39,'Resumen de Escala HSE'!$D$20:$BC$24,3,0)","v":0},{"$f":"+HLOOKUP(B39,'Resumen de Escala HSE'!$D$20:$BC$24,4,0)","v":0},{"$f":"+HLOOKUP(B39,'Resumen de Escala HSE'!$D$20:$BC$24,5,0)","v":0},null,{"$f":"+'Resumen de indicadores FR'!AP$4","v":"Estudiante 35"},{"$f":"+HLOOKUP(H39,'Resumen de Escala FR'!$F$17:$BC$21,2,0)","v":"-"},{"$f":"+HLOOKUP(H39,'Resumen de Escala FR'!$F$17:$BC$21,5,0)","v":0},{"$f":"+HLOOKUP(H39,'Resumen de Escala FR'!$F$17:$BC$21,4,0)","v":0},{"$f":"+HLOOKUP(H39,'Resumen de Escala FR'!$F$17:$BC$21,3,0)","v":0}]
[null,{"$f":"+'Resumen de indicadores HSE'!AQ$4","v":"Estudiante 36"},{"$f":"+HLOOKUP(B40,'Resumen de Escala HSE'!$D$20:$BC$24,2,0)","v":"-"},{"$f":"+HLOOKUP(B40,'Resumen de Escala HSE'!$D$20:$BC$24,3,0)","v":0},{"$f":"+HLOOKUP(B40,'Resumen de Escala HSE'!$D$20:$BC$24,4,0)","v":0},{"$f":"+HLOOKUP(B40,'Resumen de Escala HSE'!$D$20:$BC$24,5,0)","v":0},null,{"$f":"+'Resumen de indicadores FR'!AQ$4","v":"Estudiante 36"},{"$f":"+HLOOKUP(H40,'Resumen de Escala FR'!$F$17:$BC$21,2,0)","v":"-"},{"$f":"+HLOOKUP(H40,'Resumen de Escala FR'!$F$17:$BC$21,5,0)","v":0},{"$f":"+HLOOKUP(H40,'Resumen de Escala FR'!$F$17:$BC$21,4,0)","v":0},{"$f":"+HLOOKUP(H40,'Resumen de Escala FR'!$F$17:$BC$21,3,0)","v":0}]
[null,{"$f":"+'Resumen de indicadores HSE'!AR$4","v":"Estudiante 37"},{"$f":"+HLOOKUP(B41,'Resumen de Escala HSE'!$D$20:$BC$24,2,0)","v":"-"},{"$f":"+HLOOKUP(B41,'Resumen de Escala HSE'!$D$20:$BC$24,3,0)","v":0},{"$f":"+HLOOKUP(B41,'Resumen de Escala HSE'!$D$20:$BC$24,4,0)","v":0},{"$f":"+HLOOKUP(B41,'Resumen de Escala HSE'!$D$20:$BC$24,5,0)","v":0},null,{"$f":"+'Resumen de indicadores FR'!AR$4","v":"Estudiante 37"},{"$f":"+HLOOKUP(H41,'Resumen de Escala FR'!$F$17:$BC$21,2,0)","v":"-"},{"$f":"+HLOOKUP(H41,'Resumen de Escala FR'!$F$17:$BC$21,5,0)","v":0},{"$f":"+HLOOKUP(H41,'Resumen de Escala FR'!$F$17:$BC$21,4,0)","v":0},{"$f":"+HLOOKUP(H41,'Resumen de Escala FR'!$F$17:$BC$21,3,0)","v":0}]
[null,{"$f":"+'Resumen de indicadores HSE'!AS$4","v":"Estudiante 38"},{"$f":"+HLOOKUP(B42,'Resumen de Escala HSE'!$D$20:$BC$24,2,0)","v":"-"},{"$f":"+HLOOKUP(B42,'Resumen de Escala HSE'!$D$20:$BC$24,3,0)","v":0},{"$f":"+HLOOKUP(B42,'Resumen de Escala HSE'!$D$20:$BC$24,4,0)","v":0},{"$f":"+HLOOKUP(B42,'Resumen de Escala HSE'!$D$20:$BC$24,5,0)","v":0},null,{"$f":"+'Resumen de indicadores FR'!AS$4","v":"Estudiante 38"},{"$f":"+HLOOKUP(H42,'Resumen de Escala FR'!$F$17:$BC$21,2,0)","v":"-"},{"$f":"+HLOOKUP(H42,'Resumen de Escala FR'!$F$17:$BC$21,5,0)","v":0},{"$f":"+HLOOKUP(H42,'Resumen de Escala FR'!$F$17:$BC$21,4,0)","v":0},{"$f":"+HLOOKUP(H42,'Resumen de Escala FR'!$F$17:$BC$21,3,0)","v":0}]
[null,{"$f":"+'Resumen de indicadores HSE'!AT$4","v":"Estudiante 39"},{"$f":"+HLOOKUP(B43,'Resumen de Escala HSE'!$D$20:$BC$24,2,0)","v":"-"},{"$f":"+HLOOKUP(B43,'Resumen de Escala HSE'!$D$20:$BC$24,3,0)","v":0},{"$f":"+HLOOKUP(B43,'Resumen de Escala HSE'!$D$20:$BC$24,4,0)","v":0},{"$f":"+HLOOKUP(B43,'Resumen de Escala HSE'!$D$20:$BC$24,5,0)","v":0},null,{"$f":"+'Resumen de indicadores FR'!AT$4","v":"Estudiante 39"},{"$f":"+HLOOKUP(H43,'Resumen de Escala FR'!$F$17:$BC$21,2,0)","v":"-"},{"$f":"+HLOOKUP(H43,'Resumen de Escala FR'!$F$17:$BC$21,5,0)","v":0},{"$f":"+HLOOKUP(H43,'Resumen de Escala FR'!$F$17:$BC$21,4,0)","v":0},{"$f":"+HLOOKUP(H43,'Resumen de Escala FR'!$F$17:$BC$21,3,0)","v":0}]
[null,{"$f":"+'Resumen de indicadores HSE'!AU$4","v":"Estudiante 40"},{"$f":"+HLOOKUP(B44,'Resumen de Escala HSE'!$D$20:$BC$24,2,0)","v":"-"},{"$f":"+HLOOKUP(B44,'Resumen de Escala HSE'!$D$20:$BC$24,3,0)","v":0},{"$f":"+HLOOKUP(B44,'Resumen de Escala HSE'!$D$20:$BC$24,4,0)","v":0},{"$f":"+HLOOKUP(B44,'Resumen de Escala HSE'!$D$20:$BC$24,5,0)","v":0},null,{"$f":"+'Resumen de indicadores FR'!AU$4","v":"Estudiante 40"},{"$f":"+HLOOKUP(H44,'Resumen de Escala FR'!$F$17:$BC$21,2,0)","v":"-"},{"$f":"+HLOOKUP(H44,'Resumen de Escala FR'!$F$17:$BC$21,5,0)","v":0},{"$f":"+HLOOKUP(H44,'Resumen de Escala FR'!$F$17:$BC$21,4,0)","v":0},{"$f":"+HLOOKUP(H44,'Resumen de Escala FR'!$F$17:$BC$21,3,0)","v":0}]
[null,{"$f":"+'Resumen de indicadores HSE'!AV$4","v":"Estudiante 41"},{"$f":"+HLOOKUP(B45,'Resumen de Escala HSE'!$D$20:$BC$24,2,0)","v":"-"},{"$f":"+HLOOKUP(B45,'Resumen de Escala HSE'!$D$20:$BC$24,3,0)","v":0},{"$f":"+HLOOKUP(B45,'Resumen de Escala HSE'!$D$20:$BC$24,4,0)","v":0},{"$f":"+HLOOKUP(B45,'Resumen de Escala HSE'!$D$20:$BC$24,5,0)","v":0},null,{"$f":"+'Resumen de indicadores FR'!AV$4","v":"Estudiante 41"},{"$f":"+HLOOKUP(H45,'Resumen de Escala FR'!$F$17:$BC$21,2,0)","v":"-"},{"$f":"+HLOOKUP(H45,'Resumen de Escala FR'!$F$17:$BC$21,5,0)","v":0},{"$f":"+HLOOKUP(H45,'Resumen de Escala FR'!$F$17:$BC$21,4,0)","v":0},{"$f":"+HLOOKUP(H45,'Resumen de Escala FR'!$F$17:$BC$21,3,0)","v":0}]
[null,{"$f":"+'Resumen de indicadores HSE'!AW$4","v":"Estudiante 42"},{"$f":"+HLOOKUP(B46,'Resumen de Escala HSE'!$D$20:$BC$24,2,0)","v":"-"},{"$f":"+HLOOKUP(B46,'Resumen de Escala HSE'!$D$20:$BC$24,3,0)","v":0},{"$f":"+HLOOKUP(B46,'Resumen de Escala HSE'!$D$20:$BC$24,4,0)","v":0},{"$f":"+HLOOKUP(B46,'Resumen de Escala HSE'!$D$20:$BC$24,5,0)","v":0},null,{"$f":"+'Resumen de indicadores FR'!AW$4","v":"Estudiante 42"},{"$f":"+HLOOKUP(H46,'Resumen de Escala FR'!$F$17:$BC$21,2,0)","v":"-"},{"$f":"+HLOOKUP(H46,'Resumen de Escala FR'!$F$17:$BC$21,5,0)","v":0},{"$f":"+HLOOKUP(H46,'Resumen de Escala FR'!$F$17:$BC$21,4,0)","v":0},{"$f":"+HLOOKUP(H46,'Resumen de Escala FR'!$F$17:$BC$21,3,0)","v":0}]
[null,{"$f":"+'Resumen de indicadores HSE'!AX$4","v":"Estudiante 43"},{"$f":"+HLOOKUP(B47,'Resumen de Escala HSE'!$D$20:$BC$24,2,0)","v":"-"},{"$f":"+HLOOKUP(B47,'Resumen de Escala HSE'!$D$20:$BC$24,3,0)","v":0},{"$f":"+HLOOKUP(B47,'Resumen de Escala HSE'!$D$20:$BC$24,4,0)","v":0},{"$f":"+HLOOKUP(B47,'Resumen de Escala HSE'!$D$20:$BC$24,5,0)","v":0},null,{"$f":"+'Resumen de indicadores FR'!AX$4","v":"Estudiante 43"},{"$f":"+HLOOKUP(H47,'Resumen de Escala FR'!$F$17:$BC$21,2,0)","v":"-"},{"$f":"+HLOOKUP(H47,'Resumen de Escala FR'!$F$17:$BC$21,5,0)","v":0},{"$f":"+HLOOKUP(H47,'Resumen de Escala FR'!$F$17:$BC$21,4,0)","v":0},{"$f":"+HLOOKUP(H47,'Resumen de Escala FR'!$F$17:$BC$21,3,0)","v":0}]
[null,{"$f":"+'Resumen de indicadores HSE'!AY$4","v":"Estudiante 44"},{"$f":"+HLOOKUP(B48,'Resumen de Escala HSE'!$D$20:$BC$24,2,0)","v":"-"},{"$f":"+HLOOKUP(B48,'Resumen de Escala HSE'!$D$20:$BC$24,3,0)","v":0},{"$f":"+HLOOKUP(B48,'Resumen de Escala HSE'!$D$20:$BC$24,4,0)","v":0},{"$f":"+HLOOKUP(B48,'Resumen de Escala HSE'!$D$20:$BC$24,5,0)","v":0},null,{"$f":"+'Resumen de indicadores FR'!AY$4","v":"Estudiante 44"},{"$f":"+HLOOKUP(H48,'Resumen de Escala FR'!$F$17:$BC$21,2,0)","v":"-"},{"$f":"+HLOOKUP(H48,'Resumen de Escala FR'!$F$17:$BC$21,5,0)","v":0},{"$f":"+HLOOKUP(H48,'Resumen de Escala FR'!$F$17:$BC$21,4,0)","v":0},{"$f":"+HLOOKUP(H48,'Resumen de Escala FR'!$F$17:$BC$21,3,0)","v":0}]
[null,{"$f":"+'Resumen de indicadores HSE'!AZ$4","v":"Estudiante 45"},{"$f":"+HLOOKUP(B49,'Resumen de Escala HSE'!$D$20:$BC$24,2,0)","v":"-"},{"$f":"+HLOOKUP(B49,'Resumen de Escala HSE'!$D$20:$BC$24,3,0)","v":0},{"$f":"+HLOOKUP(B49,'Resumen de Escala HSE'!$D$20:$BC$24,4,0)","v":0},{"$f":"+HLOOKUP(B49,'Resumen de Escala HSE'!$D$20:$BC$24,5,0)","v":0},null,{"$f":"+'Resumen de indicadores FR'!AZ$4","v":"Estudiante 45"},{"$f":"+HLOOKUP(H49,'Resumen de Escala FR'!$F$17:$BC$21,2,0)","v":"-"},{"$f":"+HLOOKUP(H49,'Resumen de Escala FR'!$F$17:$BC$21,5,0)","v":0},{"$f":"+HLOOKUP(H49,'Resumen de Escala FR'!$F$17:$BC$21,4,0)","v":0},{"$f":"+HLOOKUP(H49,'Resumen de Escala FR'!$F$17:$BC$21,3,0)","v":0}]
[null,{"$f":"+'Resumen de indicadores HSE'!BA$4","v":"Estudiante 46"},{"$f":"+HLOOKUP(B50,'Resumen de Escala HSE'!$D$20:$BC$24,2,0)","v":"-"},{"$f":"+HLOOKUP(B50,'Resumen de Escala HSE'!$D$20:$BC$24,3,0)","v":0},{"$f":"+HLOOKUP(B50,'Resumen de Escala HSE'!$D$20:$BC$24,4,0)","v":0},{"$f":"+HLOOKUP(B50,'Resumen de Escala HSE'!$D$20:$BC$24,5,0)","v":0},null,{"$f":"+'Resumen de indicadores FR'!BA$4","v":"Estudiante 46"},{"$f":"+HLOOKUP(H50,'Resumen de Escala FR'!$F$17:$BC$21,2,0)","v":"-"},{"$f":"+HLOOKUP(H50,'Resumen de Escala FR'!$F$17:$BC$21,5,0)","v":0},{"$f":"+HLOOKUP(H50,'Resumen de Escala FR'!$F$17:$BC$21,4,0)","v":0},{"$f":"+HLOOKUP(H50,'Resumen de Escala FR'!$F$17:$BC$21,3,0)","v":0}]
[null,{"$f":"+'Resumen de indicadores HSE'!BB$4","v":"Estudiante 47"},{"$f":"+HLOOKUP(B51,'Resumen de Escala HSE'!$D$20:$BC$24,2,0)","v":"-"},{"$f":"+HLOOKUP(B51,'Resumen de Escala HSE'!$D$20:$BC$24,3,0)","v":0},{"$f":"+HLOOKUP(B51,'Resumen de Escala HSE'!$D$20:$BC$24,4,0)","v":0},{"$f":"+HLOOKUP(B51,'Resumen de Escala HSE'!$D$20:$BC$24,5,0)","v":0},null,{"$f":"+'Resumen de indicadores FR'!BB$4","v":"Estudiante 47"},{"$f":"+HLOOKUP(H51,'Resumen de Escala FR'!$F$17:$BC$21,2,0)","v":"-"},{"$f":"+HLOOKUP(H51,'Resumen de Escala FR'!$F$17:$BC$21,5,0)","v":0},{"$f":"+HLOOKUP(H51,'Resumen de Escala FR'!$F$17:$BC$21,4,0)","v":0},{"$f":"+HLOOKUP(H51,'Resumen de Escala FR'!$F$17:$BC$21,3,0)","v":0}]
[null,{"$f":"+'Resumen de indicadores HSE'!BC$4","v":"Estudiante 48"},{"$f":"+HLOOKUP(B52,'Resumen de Escala HSE'!$D$20:$BC$24,2,0)","v":"-"},{"$f":"+HLOOKUP(B52,'Resumen de Escala HSE'!$D$20:$BC$24,3,0)","v":0},{"$f":"+HLOOKUP(B52,'Resumen de Escala HSE'!$D$20:$BC$24,4,0)","v":0},{"$f":"+HLOOKUP(B52,'Resumen de Escala HSE'!$D$20:$BC$24,5,0)","v":0},null,{"$f":"+'Resumen de indicadores FR'!BC$4","v":"Estudiante 48"},{"$f":"+HLOOKUP(H52,'Resumen de Escala FR'!$F$17:$BC$21,2,0)","v":"-"},{"$f":"+HLOOKUP(H52,'Resumen de Escala FR'!$F$17:$BC$21,5,0)","v":0},{"$f":"+HLOOKUP(H52,'Resumen de Escala FR'!$F$17:$BC$21,4,0)","v":0},{"$f":"+HLOOKUP(H52,'Resumen de Escala FR'!$F$17:$BC$21,3,0)","v":0}]
[null,{"$f":"+'Resumen de indicadores HSE'!BD$4","v":"Estudiante 49"},{"$f":"+HLOOKUP(B53,'Resumen de Escala HSE'!$D$20:$BC$24,2,0)","v":"-"},{"$f":"+HLOOKUP(B53,'Resumen de Escala HSE'!$D$20:$BC$24,3,0)","v":0},{"$f":"+HLOOKUP(B53,'Resumen de Escala HSE'!$D$20:$BC$24,4,0)","v":0},{"$f":"+HLOOKUP(B53,'Resumen de Escala HSE'!$D$20:$BC$24,5,0)","v":0},null,{"$f":"+'Resumen de indicadores FR'!BD$4","v":"Estudiante 49"},{"$f":"+HLOOKUP(H53,'Resumen de Escala FR'!$F$17:$BC$21,2,0)","v":"-"},{"$f":"+HLOOKUP(H53,'Resumen de Escala FR'!$F$17:$BC$21,5,0)","v":0},{"$f":"+HLOOKUP(H53,'Resumen de Escala FR'!$F$17:$BC$21,4,0)","v":0},{"$f":"+HLOOKUP(H53,'Resumen de Escala FR'!$F$17:$BC$21,3,0)","v":0}]
[null,{"$f":"+'Resumen de indicadores HSE'!BE$4","v":"Estudiante 50"},{"$f":"+HLOOKUP(B54,'Resumen de Escala HSE'!$D$20:$BC$24,2,0)","v":"-"},{"$f":"+HLOOKUP(B54,'Resumen de Escala HSE'!$D$20:$BC$24,3,0)","v":0},{"$f":"+HLOOKUP(B54,'Resumen de Escala HSE'!$D$20:$BC$24,4,0)","v":0},{"$f":"+HLOOKUP(B54,'Resumen de Escala HSE'!$D$20:$BC$24,5,0)","v":0},null,{"$f":"+'Resumen de indicadores FR'!BE$4","v":"Estudiante 50"},{"$f":"+HLOOKUP(H54,'Resumen de Escala FR'!$F$17:$BC$21,2,0)","v":"-"},{"$f":"+HLOOKUP(H54,'Resumen de Escala FR'!$F$17:$BC$21,5,0)","v":0},{"$f":"+HLOOKUP(H54,'Resumen de Escala FR'!$F$17:$BC$21,4,0)","v":0},{"$f":"+HLOOKUP(H54,'Resumen de Escala FR'!$F$17:$BC$21,3,0)","v":0}]

{"sheet":"LEYENDA","index":9,"n_rows":26,"n_cols":10,"rows_kept":26,"cut":false,"hidden":false,"merged":[[1,1,1,3],[8,1,8,3],[15,8,15,9],[21,8,21,9]]}
[]
[null,"HABILIDADES SOCIOEMOCIONALES"]
[null,"Color","Escala - Estado","Interpretación"]
[null,"En inicio","“EN INICIO”\n[0 - 1]","La o el estudiante presenta mayores dificultades en el desarrollo de sus HSE."]
[null,"En Proceso","“EN PROCESO”\n[1.1 - 2.9]","La o el estudiante presenta ligeras dificultades en el desarrollo de sus HSE."]
[null,"Satisfactorio","“SATISFACTORIO”\n[3 - 4]","La o el estudiante no presenta dificultades en el desarrollo de sus HSE."]
[]
[]
[null,"FACTORES DE RIESGO"]
[null,"Color","Escala - Estado","Interpretación"]
[null,"Alto Riesgo","“ALTO RIESGO”\n[3 - 4]","La o el estudiante requiere mayor acompañamiento  y contrastar la información con otras fuentes para prevenir conductas y/o situaciones de riesgo."]
[null,"Riesgo Moderado","“RIESGO MODERADO”\n[1.1- 2.9]","La o el estudiante requiere acciones de acompañamiento para prevenir conductas y/o situaciones de riesgo."]
[null,"Bajo Riesgo","“BAJO RIESGO”\n[0 - 1]","La o el estudiante cuenta con factores protectores."]
[]
[]
[null,null,null,null,null,null,null,null,"Leyenda"]
[null,null,null,null,null,null,null,null,"Color","Escala - Estado"]
[null,null,null,null,null,null,null,null,"ROJO","Alto Riesgo"]
[null,null,null,null,null,null,null,null,"AMARILLO","Riesgo Moderado"]
[null,null,null,null,null,null,null,null,"VERDE","Bajo Riesgo"]
[]
[null,null,null,null,null,null,null,null,"Leyenda"]
[null,null,null,null,null,null,null,null,"Color","Escala - Estado"]
[null,null,null,null,null,null,null,null,"ROJO","En Inicio"]
[null,null,null,null,null,null,null,null,"AMARILLO","En Proceso"]
[null,null,null,null,null,null,null,null,"VERDE","Satisfactorio"]

{"sheet":"Hoja1","index":10,"n_rows":14,"n_cols":8,"rows_kept":14,"cut":false,"hidden":true,"merged":[[2,6,2,7],[9,6,9,7]]}
[]
[]
[null,null,null,null,null,null,"Leyenda"]
[null,null,null,null,null,null,"Estado/Color","Intervalo"]
[null,null,null,null,null,null,"En inicio","[0 - 1]"]
[null,null,null,null,null,null,"En Proceso","[1.1 - 2.9]"]
[null,null,null,null,null,null,"Satisfactorio","[3 - 4]"]
[]
[]
[null,null,null,null,null,null,"Leyenda"]
[null,null,null,null,null,null,"Estado/Color","Intervalo"]
[null,null,null,null,null,null,"Alto Riesgo","[3 - 4]"]
[null,null,null,null,null,null,"Riesgo Moderado","[1.1 - 2.9]"]
[null,null,null,null,null,null,"Bajo Riesgo","[0 - 1]"]