{"text_format":"1","workbook":"xlsx","n_sheets":10,"sheets":["Índice","Back","BASE DE RESPUESTAS","Espejo","Resumen de indicadores HSE","Resumen de Escala HSE","Resumen de indicadores FR","Resumen de Escala FR","Resumen de Resultados","LEYENDA"],"not_rendered":{"charts":0,"images":2,"macros":1,"external_links":0,"defined_names":5,"comments":0,"pivot_tables":0},"unopened":[],"bounds":{"document_bytes":16777216,"sheet_cells":100000,"rows_first":2000,"rows_last":500,"rows_between":2000,"halvings":0,"cell_chars":16384,"cell_head_chars":4096},"cells_cut":0,"cells_raw":0,"read":"whole","date_system":"1900"}

{"sheet":"Índice","index":0,"n_rows":11,"n_cols":3,"rows_kept":11,"cut":false,"hidden":false,"merged":[]}
[]
[]
[null,"Nombre de la IE"]
[]
[null,"Nivel","PRIMARIA"]
[]
[null,"Ciclo","IV"]
[]
[null,"Grado",1.0]
[]
[null,"Sección"]

{"sheet":"Back","index":1,"n_rows":46,"n_cols":16,"rows_kept":46,"cut":false,"hidden":true,"merged":[[1,14,1,15],[16,7,19,7],[16,8,17,8],[18,8,19,8]]}
[null,null,null,null,{"$f":"+'BASE DE RESPUESTAS'!#REF!","v":"#ERROR!"}]
[null,null,"Primaria","3°",null,"A) No me pasa",1.0,1.75,"MENOR A ESO ROJO",null,null,null,"LEYENDA",null,"Leyenda"]
[null,null,"Secundaria","4°",{"$f":"+IF($E$1=1,\"\",IF($E$1=2,\"III\",\"VI\"))","v":"#ERROR!"},"B) Me pasa poco",2.0,3.25,"IGUAL Y MENOR AMARILLO",null,null,null,"ROJO","CRÍTICO","Colores","Resultados"]
[null,null,null,null,{"$f":"+IF($E$1=1,\"\",IF($E$1=2,\"IV\",\"VII\"))","v":"#ERROR!"},"C) Me pasa regularmente",3.0,3.25,"MAYOR IGUAL",null,null,null,"AMARILLO","MODERADO","Rojo","Crítico"]
[null,null,null,null,{"$f":"+IF($E$1=1,\"\",IF($E$1=2,\"V\",\"\"))","v":"#ERROR!"},"D) Me pasa mucho",4.0,null,null,null,null,null,"VERDE","IDEAL","Amarillo","Moderado"]
[null,null,null,null,null,"E) No respondió",0.0,null,null,null,null,null,null,null,"Verde","Ideal"]
[]
[]
[]
[]
[]
[null,null,null,null,null,null,null,"Primaria: III - V"]
[null,"Escribe/Dibuja/Describe por lo menos 2 cualidades.","Escribe/dibuja/describe solo 1 o ninguna cualidad.",null,null,null,null,"Secundaria: VI - VII"]
[null,"Escribe/Dibuja/Describe por lo menos 2 cualidades.","Escribe/dibuja/describe solo 1 o ninguna cualidad."]
[null,"Escribe/Dibuja/Describe por lo menos 2 características suyas con cognotación positiva (puede incluir características físicas).\n\nEjemplo Válido:\nSoy el más creativo de la clase\nEjemplo que no corresponde:\nSoy el más irresponsable de mi clase.","Escribe/dibuja/describe solo 1 o ninguna característica."]
[null,"Sí","No",null,null,null,null,"Indicador","Pregunta","Respuestas","Valores",null,"Respuesta Esperada",1.0]
[null,"Describe o dibuja por los menos dos tareas o actividades.","No describe o dibuja ninguna actividad o tarea o describe solo 1.",null,null,null,null,1.1,1.0,"Escribe/Dibuja/Describe por lo menos 2 cualidades.",1.0,null,"Respuesta No Esperada",0.0]
[null,"Sí","No",null,null,null,null,null,null,"Escribe/dibuja/describe solo 1 o ninguna cualidad.",0.0,null,"Se dejó en blanco","-"]
[null,"Sí","No",null,null,null,null,null,2.0,"Escribe/Dibuja/Describe por lo menos 2 cualidades.",1.0,null,"Sí",1.0]
[null,"Escribe o dibuja 2 o más emociones.","Escribe o dibuja una o ninguna emoción.",null,null,null,null,null,null,"Escribe/dibuja/describe solo 1 o ninguna cualidad.",0.0,null,"No",0.0]
[null,"Debe describir/dibujar a una persona triste o molesta o similar cuanto mínimo.","Describe a una persona feliz o alegra."]
[null,"Debe describir/dibujar por lo menos 2 emociones que experimentó durante ese momento.","Describe solo una emoción o ninguna."]
[null,"a) Frutas, agua, huevo, yogurt, pan\n","b) Hamburguesa, caramelos, gaseosa "]
[null,"a) Sedentaria: que hace solo o con más personas. (Imágenes: niño “Voy a quedarme escuchando la radio todo el día”)","b) Físicas: alguna actividad física con más personas."]
[null,"a) Llevar su mano al pecho y sentir su corazón.","b) Parar de inmediato y sentarse. "]
[null,"Para el caso de los hombres por lo menos 1 y para el caso de las mujeres por lo menos 2.","No señala nada o señale una parte que no es íntima."]
[null,"a) Sí","b) No"]
[null,"a) Gritarle a todos sus compañeros de equipo e irse. ","b) Entender que todos pueden fallar y quedarse con su equipo a seguir jugando. "]
[null,"a) Queda triste y muy avergonzado por el accidente por eso no va a clase.","b) Se disculpa, la ayuda y va tranquilo a clase."]
[null,"a) Está muy avergonzada y llora porque se burlan de ella.","b) Entiende la situación y usa su cartulina azul."]
[null,"a) Sí","b) No"]
[null,"a) Retrasa la cena y su papá se molesta por no cumplir con sus tareas. ","b) No pasa nada, sus padres van a lavar las verduras por él. "]
[null,"a) La decisión de jugar en lugar de hacer sus deberes. Que no priorizó sus tareas.","b) Su papá no quiso lavar las verduras. "]
[null,"a) Escenario 1:\n• Juan: Ayer estuve jugando Free Fire con mi hermano y estaba ganando cuando…\n• Pedro: A mí también me gusta jugar Free Fire, aunque prefiero Minecraft porque es más chévere y puedes ir construyendo tu propia casa\n• Juan: Claro, a mí también me gusta Mine…\n• Pedro: El otro día construí una casa de dos pisos, con terraza y un patio grande\n• Juan: ¡Genial! Yo también hice un …\n• Pedro: También hice una fortaleza de color gris, inmensa, etc.","b) Escenario 2:\n• Juan: Ayer estuve jugando Free Fire con mi hermano y por fin le estaba ganando, cuando mi mamá nos llamó para comer y no pudimos terminar el juego.\n• Pedro: Asu, qué mala suerte. Seguro la próxima si le ganas.\n• Juan: Sí, he estado mejorando. ¿A ti también te gusta ese juego?\n• Pedro: Sí, pero me gusta más Minecraft. El otro día construí una casa de dos pisos, con terraza y un patio grande\n• Juan: ¡Genial! Yo también lo he jugado. Hice una fortaleza inmensa.\n"]
[null,"a) Decir: Perdona, me gustaría terminar de contar lo que estaba diciendo.","b) Decir: ¡No es justo! ¿No puedo hablar yo?\n","c) Interrumpir al niño empezando a hablar otra vez.","d) No decir nada y dejar que el otro niño continuara hablando.","e) Decir: ¡Cállate! ¡Estaba hablando yo!"]
[null,"a) Se pelean para elegir el que hará el personaje","b) Le piden a la profesora que elija quién hará el personaje ","c) Llegar a un acuerdo que puede ser “Bruno hace el personaje ahora y Gonzalo hace el personaje después”."]
[null,"a) Escenario 1: Roberto es un chico extranjero que apenas se está integrando al grupo (Imagen donde unos niños rechazan al niño extranjero.)","b) Escenario 2: Carlos es un chico extranjero que apenas se está integrando al grupo. (Imagen donde unos niños buscan incluir al niño extranjero.)"]
[null,"a) Escucho con atención para entenderlo","b) Escucho con atención para refutar su idea porque está mal","c) Miento diciendo que estoy de acuerdo para terminar la discusión lo más pronto posible."]
[null,"a) Presto atención para saber cómo se siente mi compañero y por qué se siente así.","b) Presto atención, pero pocas veces entiendo por qué está molesto.","c) Solo quiero ganar en la discusión.","d) No presto atención a sus emociones porque no es mi problema."]
[null,"a) Escucho con atención para entender su punto de vista.","b) Intento convencerlo de que está equivocado porque solo mi idea puede ser correcta.","c) Digo: Estoy de acuerdo (cuando en verdad no estoy de acuerdo, pero así evito discutir).","\nd) No le vuelvo a hablar porque no piensa igual que yo."]
[null,"a) Yo sugiero mi juego favorito y los convenzo para jugarlo.","b) Cada uno sugiere un juego y establecemos turnos para jugar cada juego.","c) Me molesto porque no quieren jugar el juego que yo quiero."]
[null,"a) Digo: Tranquilo, ya va a llegar la hora del almuerzo.","b) Le invito de mi lonchera y nos divertimos conversando.","c) Escondo mi comida para que no me pida."]
[null,"a) Converso con él porque siento que aprendo cosas nuevas de donde viene.","b) Junto con mis compañeros me burlo de él y sus costumbres o lenguaje.","c) No le hablo porque es diferente"]
[null,"a) Le digo a la profesora que cambie a Carlitos de grupo porque no lo entiendo cuando habla.","b) Le presento a Carlitos al resto de mis compañeros para que también lo conozcan.","c) Me molesto porque Carlitos no me cae bien porque no es peruano."]
[null,"a) Juntarse con sus compañeros y compañeras para arreglar el espacio.","b) No debe hacer nada, no tiene la responsabilidad de lo que pase en el parque."]
[null,"a) Botar la basura e intentar hablar con su compañero.","b) No hacer nada porque no es su basura."]

{"sheet":"BASE DE RESPUESTAS","index":2,"n_rows":73,"n_cols":57,"rows_kept":73,"cut":false,"hidden":false,"merged":[[4,21,5,21],[4,22,5,22],[4,23,5,23],[4,24,5,24],[4,25,5,25],[4,26,5,26],[4,27,5,27],[4,28,5,28],[4,29,5,29],[4,30,5,30],[4,31,5,31],[4,32,5,32],[4,33,5,33],[4,34,5,34],[4,49,5,49],[4,50,5,50],[4,51,5,51],[4,52,5,52],[4,53,5,53],[4,54,5,54],[4,55,5,55],[4,56,5,56],[3,1,3,5],[3,7,3,56],[4,1,5,1],[4,2,5,2],[4,3,5,3],[4,4,5,4],[4,5,5,5],[4,35,5,35],[4,36,5,36],[4,37,5,37],[4,38,5,38],[4,39,5,39],[4,40,5,40],[4,41,5,41],[4,42,5,42],[4,43,5,43],[4,44,5,44],[4,45,5,45],[4,46,5,46],[4,47,5,47],[4,48,5,48],[4,9,5,9],[4,10,5,10],[4,11,5,11],[4,12,5,12],[4,13,5,13],[4,14,5,14],[4,15,5,15],[4,16,5,16],[4,17,5,17],[4,18,5,18],[4,19,5,19],[4,20,5,20],[4,7,5,7],[4,8,5,8],[6,1,7,1],[6,2,7,2],[8,2,11,2],[8,3,9,3],[10,3,11,3],[63,1,65,1],[67,1,69,1],[70,1,72,1],[38,1,42,1],[43,1,46,1],[47,1,50,1],[51,1,54,1],[55,1,58,1],[59,1,60,1],[61,1,62,1],[8,1,11,1],[12,1,15,1],[12,2,15,2],[12,3,13,3],[14,3,15,3],[16,1,18,1],[16,2,18,2],[20,1,21,1],[20,2,21,2],[20,3,21,3],[20,4,21,4],[20,5,21,5],[22,1,25,1],[22,2,25,2],[22,3,23,3],[24,3,25,3],[26,3,27,3],[28,3,29,3],[30,3,31,3],[32,3,33,3],[34,3,35,3],[26,1,29,1],[26,2,29,2],[30,1,33,1],[30,2,33,2],[34,1,37,1],[34,2,37,2],[38,2,42,2],[51,3,52,3],[53,3,54,3],[55,3,56,3],[57,3,58,3],[61,3,62,3],[63,3,65,3],[68,3,69,3],[36,3,37,3],[38,3,40,3],[41,3,42,3],[43,3,44,3],[45,3,46,3],[47,3,48,3],[49,3,50,3],[67,2,69,2],[70,2,72,2],[43,2,46,2],[47,2,50,2],[51,2,54,2],[55,2,58,2],[59,2,60,2],[61,2,62,2],[63,2,65,2]]}
[]
[null,null,null,null,null,null,null,{"$f":"IF(COUNTA(H7:H73)>=65,\"Respuestas Completas\",\"Falta Completar\")","v":"Falta Completar"},"Falta Completar","Falta Completar","Falta Completar","Falta Completar","Falta Completar","Falta Completar","Falta Completar","Falta Completar","Falta Completar","Falta Completar","Falta Completar","Falta Completar","Falta Completar","Falta Completar","Falta Completar","Falta Completar","Falta Completar","Falta Completar","Falta Completar","Falta Completar","Falta Completar","Falta Completar","Falta Completar","Falta Completar","Falta Completar","Falta Completar","Falta Completar","Falta Completar","Falta Completar","Falta Completar","Falta Completar","Falta Completar","Falta Completar","Falta Completar","Falta Completar","Falta Completar","Falta Completar","Falta Completar","Falta Completar","Falta Completar","Falta Completar","Falta Completar","Falta Completar","Falta Completar","Falta Completar","Falta Completar","Falta Completar","Falta Completar","Falta Completar"]
[]
[null,"INFORMACIÓN BÁSICA",null,null,null,null,null,"ESTUDIANTES"]
[null,"Dimensión","Escala","Indicador","Número","Preguntas",null,"Estudiante 1","Estudiante 2","Estudiante 3","Estudiante 4","Estudiante 5","Estudiante 6","Estudiante 7","Estudiante 8","Estudiante 9","Estudiante 10","Estudiante 11","Estudiante 12","Estudiante 13","Estudiante 14","Estudiante 15","Estudiante 16","Estudiante 17","Estudiante 18","Estudiante 19","Estudiante 20","Estudiante 21","Estudiante 22","Estudiante 23","Estudiante 24","Estudiante 25","Estudiante 26","Estudiante 27","Estudiante 28","Estudiante 29","Estudiante 30","Estudiante 31","Estudiante 32","Estudiante 33","Estudiante 34","Estudiante 35","Estudiante 36","Estudiante 37","Estudiante 38","Estudiante 39","Estudiante 40","Estudiante 41","Estudiante 42","Estudiante 43","Estudiante 44","Estudiante 45","Estudiante 46","Estudiante 47","Estudiante 48","Estudiante 49","Estudiante 50"]
[]
[null,"HSE","Autoconcepto","La o el estudiante se describe a sí mismo/a en tres o más aspectos.",1.0,"¿Cómo eres tú? Dibújate en la silueta y completa las frases con tus características físicas."]
[null,null,null,"La o el estudiante reconoce aquello que debe mejorar.",2.0,"Dibuja o escribe aquello que debes mejorar"]
[null,"HSE","Autoestima","La o el estudiante se reconoce a sí mismo/a como único/a y valioso/a.",3.0,"Teniendo en cuenta cómo eres y cuáles son tus habilidades, ¿Crees que eres una persona valiosa "]
[null,null,null,null,4.0,"Escribe tres características tuyas que te hacen valiosa/o y única/o:"]
[null,null,null,"La o el estudiante expresa que es capaz de realizar tareas y aceptar retos.",5.0,"Escribe tres cosas que puedas hacer por ti misma/o: "]
[null,null,null,null,6.0,"Si la profesora te da una tarea nueva que parece más difícil de lo normal, ¿aceptarías?"]
[null,"HSE","Conciencia emocional","La o el estudiante nombra y diferencia sus emociones, reconociendo sus causas y consecuencias.",7.0,"¿Cómo te sentirías si te enteras que podrás jugar toda la tarde con tus amigas y amigos?"]
[null,null,null,null,8.0,"¿Cómo te sentirías si te enteras que tu mejor amiga o amigo se cambiará de colegio?"]
[null,null,null,"La o el estudiante nombra y diferencia las emociones de sus compañeras/os. ",9.0,"¿Cómo se sentiría tu amiga o amigo si alguien o toda la clase se burlaran de ella/el?"]
[null,null,null,null,10.0,"¿Cómo se sentiría tu amiga o amigo si le hacen una fiesta sorpresa por su cumpleaños?"]
[null,"HSE","Autocuidado","La o el estudiante reacciona ante situaciones peligrosas.",11.0,"¿Qué harías si ves un incendio?"]
[null,null,null,"La o el estudiante practica hábitos de higiene personal de manera autónoma.",12.0,"Luego de jugar por mucho tiempo con tus compañeros, ¿qué sueles hacer al llegar a casa?"]
[null,null,null,"La o el estudiante expresa cuando algo le incomoda o se siente en peligro y acude a una persona de confianza.",13.0,"En el colegio, a cada rato, un compañero te hace “bromas” a cada rato y te sientes incómoda/o, ¿Qué harías?"]
[]
[null,"Dimensión","Escala","Indicador","Número","Preguntas"]
[null,null,null,null,null,null,null,"Responder Si/No","Responder Si/No","Responder Si/No","Responder Si/No","Responder Si/No","Responder Si/No","Responder Si/No","Responder Si/No","Responder Si/No","Responder Si/No","Responder Si/No","Responder Si/No","Responder Si/No","Responder Si/No","Responder Si/No","Responder Si/No","Responder Si/No","Responder Si/No","Responder Si/No","Responder Si/No","Responder Si/No","Responder Si/No","Responder Si/No","Responder Si/No","Responder Si/No","Responder Si/No","Responder Si/No","Responder Si/No","Responder Si/No","Responder Si/No","Responder Si/No","Responder Si/No","Responder Si/No","Responder Si/No","Responder Si/No","Responder Si/No","Responder Si/No","Responder Si/No","Responder Si/No","Responder Si/No","Responder Si/No","Responder Si/No","Responder Si/No","Responder Si/No","Responder Si/No","Responder Si/No","Responder Si/No","Responder Si/No","Responder Si/No","Responder Si/No"]
[null,"HSE","Regulación emocional","La o el estudiante  es capaz de mantener la calma ante situaciones de conflicto o estrés, con una mínima guía de la persona adulta. ",1.0,"Es capaz de tomarse un tiempo antes de reaccionar de manera impulsiva frente a una situación que le resulta difícil."]
[null,null,null,null,2.0,"Expresa su enojo sin hacerse daño ni hacer daño a otros."]
[null,null,null,"La o el estudiante reconoce qué emociones le producen bienestar o malestar y expresa qué puede hacer para sentirse mejor.",3.0,"Reconoce qué puede hacer o hace cuando se siente triste, angustiado o mal."]
[null,null,null,null,4.0,"Es capaz de comunicar cómo se siente ante diferentes situaciones y pedir ayuda si lo necesita."]
[null,"HSE","Creatividad","La o el estudiante propone diferentes soluciones ante un mismo problema.",5.0,"Utiliza distintos recursos para resolver algún problema."]
[null,null,null,null,6.0,"Propone ideas nuevas y útiles para resolver problemas cotidianos."]
[null,null,null,"La o el estudiante propone actividades creativas en el grupo.",7.0,"Cuando al estudiante se le pide construir el final de una historia, es capaz de dar más de una alternativa."]
[null,null,null,null,8.0,"Sugiere o sorprende con nuevas propuestas de juego y/o formas de expresión."]
[null,"HSE","Toma de decisiones responsables","La o el estudiante evalúa diferentes opciones antes de tomar decisiones.",9.0,"Evalúa distintos escenarios antes de tomar una decisión."]
[null,null,null,null,10.0,"Entre dos o más acciones elige aquella que lo beneficia o benefician a otros."]
[null,null,null,"La o el estudiante comprende las consecuencias positivas o negativas de sus decisiones.",11.0,"Se toma un tiempo para analizar las situaciones y entender que toda acción tiene una consecuencia lógica."]
[null,null,null,null,12.0,"Explica las consecuencias que puede traer actuar de tal o cual forma."]
[null,"HSE","Comunicación asertiva","La o el estudiante practica la escucha activa.",13.0,"Cuando un compañero le habla, lo respeta, presta atención a sus palabras y es capaz de responder algo relacionado a lo dicho."]
[null,null,null,null,14.0,"Levanta la mano y espera su turno para dar su opinión."]
[null,null,null,"La o el estudiante comunica de forma clara sus necesidades e intereses, sin agredir a otras personas.",15.0,"Expresa con amabilidad lo que piensa y siente."]
[null,null,null,null,16.0,"Es capaz de comunicar alguna discrepancia, sin ser ofensivo a los demás."]
[null,"HSE","Trabajo en equipo","La o el estudiante trabaja con sus compañeras/os colaborativamente.",17.0,"Se integra a las diferentes actividades, fuera y dentro del aula, con sus compañeros."]
[null,null,null,null,18.0,"Propone actividades que involucren el trabajo colaborativo."]
[null,null,null,null,19.0,"Participa en el intercambio de ideas para llegar a acuerdos comunes."]
[null,null,null,"La o el estudiante cumple con las indicaciones y plazos de las tareas contribuyendo al trabajo en equipo.",20.0,"Es capaz de dividir tareas de manera equitativa para cumplir las actividades propuestas en el grupo."]
[null,null,null,null,21.0,"Puede cumplir con la actividad que se le asigna dentro de un grupo."]
[null,"HSE","Empatía","La o el estudiante muestra interés en las emociones y necesidades de otras personas.",22.0,"Está atento/a a las necesidades de sus compañeros y ofrece soluciones para mejorar la situación."]
[null,null,null,null,23.0,"Se da cuenta cómo se sienten sus compañeros/as y entiende la causa."]
[null,null,null,"La o el estudiante busca cómo ayudar a otras personas para que se sientan mejor.",24.0,"Propone acciones para que la otra persona se sienta mejor cuando identifica que se siente mal."]
[null,null,null,null,25.0,"Ofrece ayuda cuando un compañero o compañera lo necesita."]
[null,"HSE","Resolución de conflictos","La o el estudiante tiene iniciativa para solucionar problemas que pueda tener con algún/a compañera/o.",26.0,"En situaciones conflictivas el estudiante busca el diálogo para encontrar una solución."]
[null,null,null,null,27.0,"Busca ayuda de un adulto si no se encuentra una situación mediante el diálogo. "]
[null,null,null,"La o el estudiante tiene el interés de intervenir en problemas entre sus compañeras/os para que se solucionen sus problemas.",28.0,"Está atento/a ante posibles situaciones de conflicto entre sus compañeros/as."]
[null,null,null,null,29.0,"Es capaz de proponer soluciones para afrontar el conflicto."]
[null,"HSE","Conciencia social","La o el estudiante reconoce que las personas son diversas y que todas merecen respeto.",30.0,"Reconoce las diferencias entre sus compañeros e interactúa con sus compañeros partiendo del respeto y el afecto."]
[null,null,null,null,31.0,"Se dirige a los demás por su nombre y no por apodos."]
[null,null,null,"La o el estudiante es sensible ante temas de interés de su entorno inmediato (escuela, familia).",32.0,"Expresa preocupación y/o empatía frente a una situación problemática."]
[null,null,null,null,33.0,"Reconoce situaciones que afecten el bienestar propio o el de sus compañeros y es capaz de pedir ayuda a un adulto."]
[null,"HSE","Comportamiento prosocial","La o el estudiante realiza acciones de bien común en el aula, por motivación propia.",34.0,"Tiene la iniciativa de mantener limpio y ordenado los espacios y materiales que comparte con sus compañeros."]
[null,null,null,null,35.0,"Mantiene hábitos de autocuidado (aseo personal, alimentación, etc.) para su propio bienestar y el de los demás."]
[null,null,null,"La o el estudiante propone acciones para el cuidado del ambiente.",36.0,"Identifica acciones en su entorno orientadas al cuidado ambiental."]
[null,null,null,null,37.0,"Propone acciones que buscan cuidar el ambiente "]
[null,"FR","Dificultades para mantener la concentración ","La o el estudiante interrumpe constantemente una actividad, lo que dificulta su rendimiento.",38.0,"Interrumpe constantemente (hablando, moviéndose) el desarrollo de una actividad en el aula. "]
[null,null,null,"Presenta dificultad para culminar tareas ya empezadas.",39.0,"La o el estudiante presenta dificultad para culminar tareas ya empezadas."]
[null,"FR","Dificultades en el desarrollo social","La o el estudiante se retrae y no participa en las actividades grupales.",40.0,"Durante el recreo, se aísla, o no participa de los juegos con sus compañeras y compañeros."]
[null,null,null,null,41.0,"No tiene iniciativa para participar en las actividades grupales. "]
[null,"FR","Trabajo Infantil","La o el estudiante se ve obligada/o a trabajar, utilizando sus tiempos de estudio y exponiéndose a riesgos.",42.0,"Realiza actividades laborales o de cuidado, utilizando sus tiempos de estudio."]
[null,null,null,null,43.0,"Realiza actividades laborales que implican riesgo para su desarrollo"]
[null,null,null,null,44.0,"Presenta señales de cansancio y/o duerme durante el horario escolar, de manera frecuente, a consecuencia de realizar actividades laborales o de cuidado que no corresponden a su edad."]
[null,"FR","Ausentismo Escolar","La o el estudiante falta con frecuencia a la escuela, sin justificación.",45.0,"La o el estudiante falta con frecuencia a la escuela, sin justificación."]
[null,"FR","Riesgo de desprotección familiar","La o el estudiante muestra reiteradamente signos de violencia física en el cuerpo.",46.0,"Presenta signos de violencia física (moretones, marcas enrojecidas, rasguños, entre otros), de manera frecuente, que no se relaciona con conductas esperadas (juegos, accidentes, etc)."]
[null,null,null,"La o el estudiante muestra efectos de negligencia.",47.0,"Asiste a clases desaseado o con indicios de falta de higiene reiteradamente."]
[null,null,null,null,48.0,"La familia no muestra interés por el proceso educativo del niño o niña (Ejemplo: no se comunica por ninguna vía con el docente, no justifica las faltas, no acuden a las citaciones y no lo justifica."]
[null,"FR","Violencia escolar","La o el estudiante hace distinciones discriminatorias entre varones y mujeres.",49.0,"Excluye a compañeras/os de alguna actividad, argumentando que no pueden participan porque son mujeres o porque son hombres.   "]
[null,null,null,"La o el estudiante recibe gritos, amenazas o golpes por parte de sus compañeros/as.",50.0,"Recibe maltrato físico y/o verbal o es excluido por parte de sus compañeras/os"]
[null,null,null,"La o el estudiante se relaciona de manera agresiva física y/o verbal con sus compañeras/os.",51.0,"Grita, amenaza o golpea a sus compañeras/os para imponerse."]

{"sheet":"Espejo","index":3,"n_rows":71,"n_cols":57,"rows_kept":71,"cut":false,"hidden":true,"merged":[[2,21,3,21],[2,22,3,22],[2,23,3,23],[2,24,3,24],[2,25,3,25],[2,26,3,26],[2,27,3,27],[2,28,3,28],[2,29,3,29],[2,30,3,30],[2,31,3,31],[2,32,3,32],[2,33,3,33],[2,34,3,34],[2,49,3,49],[2,50,3,50],[2,51,3,51],[2,52,3,52],[2,53,3,53],[2,54,3,54],[2,55,3,55],[2,56,3,56],[1,1,1,5],[1,7,1,56],[2,1,3,1],[2,2,3,2],[2,3,3,3],[2,4,3,4],[2,5,3,5],[2,35,3,35],[2,36,3,36],[2,37,3,37],[2,38,3,38],[2,39,3,39],[2,40,3,40],[2,41,3,41],[2,42,3,42],[2,43,3,43],[2,44,3,44],[2,45,3,45],[2,46,3,46],[2,47,3,47],[2,48,3,48],[2,9,3,9],[2,10,3,10],[2,11,3,11],[2,12,3,12],[2,13,3,13],[2,14,3,14],[2,15,3,15],[2,16,3,16],[2,17,3,17],[2,18,3,18],[2,19,3,19],[2,20,3,20],[2,7,3,7],[2,8,3,8],[4,1,5,1],[4,2,5,2],[6,2,9,2],[6,3,7,3],[8,3,9,3],[61,1,63,1],[65,1,67,1],[68,1,70,1],[36,1,40,1],[41,1,44,1],[45,1,48,1],[49,1,52,1],[53,1,56,1],[57,1,58,1],[59,1,60,1],[6,1,9,1],[10,1,13,1],[10,2,13,2],[10,3,11,3],[12,3,13,3],[14,1,16,1],[14,2,16,2],[18,1,19,1],[18,2,19,2],[18,3,19,3],[18,4,19,4],[18,5,19,5],[20,1,23,1],[20,2,23,2],[20,3,21,3],[22,3,23,3],[24,3,25,3],[26,3,27,3],[28,3,29,3],[30,3,31,3],[32,3,33,3],[24,1,27,1],[24,2,27,2],[28,1,31,1],[28,2,31,2],[32,1,35,1],[32,2,35,2],[36,2,40,2],[49,3,50,3],[51,3,52,3],[53,3,54,3],[55,3,56,3],[59,3,60,3],[61,3,63,3],[66,3,67,3],[34,3,35,3],[36,3,38,3],[39,3,40,3],[41,3,42,3],[43,3,44,3],[45,3,46,3],[47,3,48,3],[65,2,67,2],[68,2,70,2],[41,2,44,2],[45,2,48,2],[49,2,52,2],[53,2,56,2],[57,2,58,2],[59,2,60,2],[61,2,63,2]]}
[]
[null,"INFORMACIÓN BÁSICA",null,null,null,null,null,"ESTUDIANTES"]
[null,"Dimensión","Escala","Indicador","Número","Preguntas",null,"Estudiante 1","Estudiante 2","Estudiante 3","Estudiante 4","Estudiante 5","Estudiante 6","Estudiante 7","Estudiante 8","Estudiante 9","Estudiante 10","Estudiante 11","Estudiante 12","Estudiante 13","Estudiante 14","Estudiante 15","Estudiante 16","Estudiante 17","Estudiante 18","Estudiante 19","Estudiante 20","Estudiante 21","Estudiante 22","Estudiante 23","Estudiante 24","Estudiante 25","Estudiante 26","Estudiante 27","Estudiante 28","Estudiante 29","Estudiante 30","Estudiante 31","Estudiante 32","Estudiante 33","Estudiante 34","Estudiante 35","Estudiante 36","Estudiante 37","Estudiante 38","Estudiante 39","Estudiante 40","Estudiante 41","Estudiante 42","Estudiante 43","Estudiante 44","Estudiante 45","Estudiante 46","Estudiante 47","Estudiante 48","Estudiante 49","Estudiante 50"]
[]
[null,"HSE","Autoconcepto","La o el estudiante se describe a sí mismo/a en tres o más aspectos.",1.0,"¿Cómo eres tú? Dibújate en la silueta y completa las frases con tus características físicas.",null,{"$f":"+VLOOKUP('BASE DE RESPUESTAS'!H7,Back!$M$16:$N$20,2,0)","v":"#N/A"},{"$f":"+VLOOKUP('BASE DE RESPUESTAS'!I7,Back!$M$16:$N$20,2,0)","v":"#N/A"},{"$f":"+VLOOKUP('BASE DE RESPUESTAS'!J7,Back!$M$16:$N$20,2,0)","v":"#N/A"},{"$f":"+VLOOKUP('BASE DE RESPUESTAS'!K7,Back!$M$16:$N$20,2,0)","v":"#N/A"},{"$f":"+VLOOKUP('BASE DE RESPUESTAS'!L7,Back!$M$16:$N$20,2,0)","v":"#N/A"},{"$f":"+VLOOKUP('BASE DE RESPUESTAS'!M7,Back!$M$16:$N$20,2,0)","v":"#N/A"},{"$f":"+VLOOKUP('BASE DE RESPUESTAS'!N7,Back!$M$16:$N$20,2,0)","v":"#N/A"},{"$f":"+VLOOKUP('BASE DE RESPUESTAS'!O7,Back!$M$16:$N$20,2,0)","v":"#N/A"},{"$f":"+VLOOKUP('BASE DE RESPUESTAS'!P7,Back!$M$16:$N$20,2,0)","v":"#N/A"},{"$f":"+VLOOKUP('BASE DE RESPUESTAS'!Q7,Back!$M$16:$N$20,2,0)","v":"#N/A"},{"$f":"+VLOOKUP('BASE DE RESPUESTAS'!R7,Back!$M$16:$N$20,2,0)","v":"#N/A"},{"$f":"+VLOOKUP('BASE DE RESPUESTAS'!S7,Back!$M$16:$N$20,2,0)","v":"#N/A"},{"$f":"+VLOOKUP('BASE DE RESPUESTAS'!T7,Back!$M$16:$N$20,2,0)","v":"#N/A"},{"$f":"+VLOOKUP('BASE DE RESPUESTAS'!U7,Back!$M$16:$N$20,2,0)","v":"#N/A"},{"$f":"+VLOOKUP('BASE DE RESPUESTAS'!V7,Back!$M$16:$N$20,2,0)","v":"#N/A"},{"$f":"+VLOOKUP('BASE DE RESPUESTAS'!W7,Back!$M$16:$N$20,2,0)","v":"#N/A"},{"$f":"+VLOOKUP('BASE DE RESPUESTAS'!X7,Back!$M$16:$N$20,2,0)","v":"#N/A"},{"$f":"+VLOOKUP('BASE DE RESPUESTAS'!Y7,Back!$M$16:$N$20,2,0)","v":"#N/A"},{"$f":"+VLOOKUP('BASE DE RESPUESTAS'!Z7,Back!$M$16:$N$20,2,0)","v":"#N/A"},{"$f":"+VLOOKUP('BASE DE RESPUESTAS'!AA7,Back!$M$16:$N$20,2,0)","v":"#N/A"},{"$f":"+VLOOKUP('BASE DE RESPUESTAS'!AB7,Back!$M$16:$N$20,2,0)","v":"#N/A"},{"$f":"+VLOOKUP('BASE DE RESPUESTAS'!AC7,Back!$M$16:$N$20,2,0)","v":"#N/A"},{"$f":"+VLOOKUP('BASE DE RESPUESTAS'!AD7,Back!$M$16:$N$20,2,0)","v":"#N/A"},{"$f":"+VLOOKUP('BASE DE RESPUESTAS'!AE7,Back!$M$16:$N$20,2,0)","v":"#N/A"},{"$f":"+VLOOKUP('BASE DE RESPUESTAS'!AF7,Back!$M$16:$N$20,2,0)","v":"#N/A"},{"$f":"+VLOOKUP('BASE DE RESPUESTAS'!AG7,Back!$M$16:$N$20,2,0)","v":"#N/A"},{"$f":"+VLOOKUP('BASE DE RESPUESTAS'!AH7,Back!$M$16:$N$20,2,0)","v":"#N/A"},{"$f":"+VLOOKUP('BASE DE RESPUESTAS'!AI7,Back!$M$16:$N$20,2,0)","v":"#N/A"},{"$f":"+VLOOKUP('BASE DE RESPUESTAS'!AJ7,Back!$M$16:$N$20,2,0)","v":"#N/A"},{"$f":"+VLOOKUP('BASE DE RESPUESTAS'!AK7,Back!$M$16:$N$20,2,0)","v":"#N/A"},{"$f":"+VLOOKUP('BASE DE RESPUESTAS'!AL7,Back!$M$16:$N$20,2,0)","v":"#N/A"},{"$f":"+VLOOKUP('BASE DE RESPUESTAS'!AM7,Back!$M$16:$N$20,2,0)","v":"#N/A"},{"$f":"+VLOOKUP('BASE DE RESPUESTAS'!AN7,Back!$M$16:$N$20,2,0)","v":"#N/A"},{"$f":"+VLOOKUP('BASE DE RESPUESTAS'!AO7,Back!$M$16:$N$20,2,0)","v":"#N/A"},{"$f":"+VLOOKUP('BASE DE RESPUESTAS'!AP7,Back!$M$16:$N$20,2,0)","v":"#N/A"},{"$f":"+VLOOKUP('BASE DE RESPUESTAS'!AQ7,Back!$M$16:$N$20,2,0)","v":"#N/A"},{"$f":"+VLOOKUP('BASE DE RESPUESTAS'!AR7,Back!$M$16:$N$20,2,0)","v":"#N/A"},{"$f":"+VLOOKUP('BASE DE RESPUESTAS'!AS7,Back!$M$16:$N$20,2,0)","v":"#N/A"},{"$f":"+VLOOKUP('BASE DE RESPUESTAS'!AT7,Back!$M$16:$N$20,2,0)","v":"#N/A"},{"$f":"+VLOOKUP('BASE DE RESPUESTAS'!AU7,Back!$M$16:$N$20,2,0)","v":"#N/A"},{"$f":"+VLOOKUP('BASE DE RESPUESTAS'!AV7,Back!$M$16:$N$20,2,0)","v":"#N/A"},{"$f":"+VLOOKUP('BASE DE RESPUESTAS'!AW7,Back!$M$16:$N$20,2,0)","v":"#N/A"},{"$f":"+VLOOKUP('BASE DE RESPUESTAS'!AX7,Back!$M$16:$N$20,2,0)","v":"#N/A"},{"$f":"+VLOOKUP('BASE DE RESPUESTAS'!AY7,Back!$M$16:$N$20,2,0)","v":"#N/A"},{"$f":"+VLOOKUP('BASE DE RESPUESTAS'!AZ7,Back!$M$16:$N$20,2,0)","v":"#N/A"},{"$f":"+VLOOKUP('BASE DE RESPUESTAS'!BA7,Back!$M$16:$N$20,2,0)","v":"#N/A"},{"$f":"+VLOOKUP('BASE DE RESPUESTAS'!BB7,Back!$M$16:$N$20,2,0)","v":"#N/A"},{"$f":"+VLOOKUP('BASE DE RESPUESTAS'!BC7,Back!$M$16:$N$20,2,0)","v":"#N/A"},{"$f":"+VLOOKUP('BASE DE RESPUESTAS'!BD7,Back!$M$16:$N$20,2,0)","v":"#N/A"},{"$f":"+VLOOKUP('BASE DE RESPUESTAS'!BE7,Back!$M$16:$N$20,2,0)","v":"#N/A"}]
[null,null,null,"La o el estudiante reconoce aquello que debe mejorar.",2.0,"Dibuja o escribe aquello que debes mejorar",null,{"$f":"+VLOOKUP('BASE DE RESPUESTAS'!H8,Back!$M$16:$N$20,2,0)","v":"#N/A"},{"$f":"+VLOOKUP('BASE DE RESPUESTAS'!I8,Back!$M$16:$N$20,2,0)","v":"#N/A"},{"$f":"+VLOOKUP('BASE DE RESPUESTAS'!J8,Back!$M$16:$N$20,2,0)","v":"#N/A"},{"$f":"+VLOOKUP('BASE DE RESPUESTAS'!K8,Back!$M$16:$N$20,2,0)","v":"#N/A"},{"$f":"+VLOOKUP('BASE DE RESPUESTAS'!L8,Back!$M$16:$N$20,2,0)","v":"#N/A"},{"$f":"+VLOOKUP('BASE DE RESPUESTAS'!M8,Back!$M$16:$N$20,2,0)","v":"#N/A"},{"$f":"+VLOOKUP('BASE DE RESPUESTAS'!N8,Back!$M$16:$N$20,2,0)","v":"#N/A"},{"$f":"+VLOOKUP('BASE DE RESPUESTAS'!O8,Back!$M$16:$N$20,2,0)","v":"#N/A"},{"$f":"+VLOOKUP('BASE DE RESPUESTAS'!P8,Back!$M$16:$N$20,2,0)","v":"#N/A"},{"$f":"+VLOOKUP('BASE DE RESPUESTAS'!Q8,Back!$M$16:$N$20,2,0)","v":"#N/A"},{"$f":"+VLOOKUP('BASE DE RESPUESTAS'!R8,Back!$M$16:$N$20,2,0)","v":"#N/A"},{"$f":"+VLOOKUP('BASE DE RESPUESTAS'!S8,Back!$M$16:$N$20,2,0)","v":"#N/A"},{"$f":"+VLOOKUP('BASE DE RESPUESTAS'!T8,Back!$M$16:$N$20,2,0)","v":"#N/A"},{"$f":"+VLOOKUP('BASE DE RESPUESTAS'!U8,Back!$M$16:$N$20,2,0)","v":"#N/A"},{"$f":"+VLOOKUP('BASE DE RESPUESTAS'!V8,Back!$M$16:$N$20,2,0)","v":"#N/A"},{"$f":"+VLOOKUP('BASE DE RESPUESTAS'!W8,Back!$M$16:$N$20,2,0)","v":"#N/A"},{"$f":"+VLOOKUP('BASE DE RESPUESTAS'!X8,Back!$M$16:$N$20,2,0)","v":"#N/A"},{"$f":"+VLOOKUP('BASE DE RESPUESTAS'!Y8,Back!$M$16:$N$20,2,0)","v":"#N/A"},{"$f":"+VLOOKUP('BASE DE RESPUESTAS'!Z8,Back!$M$16:$N$20,2,0)","v":"#N/A"},{"$f":"+VLOOKUP('BASE DE RESPUESTAS'!AA8,Back!$M$16:$N$20,2,0)","v":"#N/A"},{"$f":"+VLOOKUP('BASE DE RESPUESTAS'!AB8,Back!$M$16:$N$20,2,0)","v":"#N/A"},{"$f":"+VLOOKUP('BASE DE RESPUESTAS'!AC8,Back!$M$16:$N$20,2,0)","v":"#N/A"},{"$f":"+VLOOKUP('BASE DE RESPUESTAS'!AD8,Back!$M$16:$N$20,2,0)","v":"#N/A"},{"$f":"+VLOOKUP('BASE DE RESPUESTAS'!AE8,Back!$M$16:$N$20,2,0)","v":"#N/A"},{"$f":"+VLOOKUP('BASE DE RESPUESTAS'!AF8,Back!$M$16:$N$20,2,0)","v":"#N/A"},{"$f":"+VLOOKUP('BASE DE RESPUESTAS'!AG8,Back!$M$16:$N$20,2,0)","v":"#N/A"},{"$f":"+VLOOKUP('BASE DE RESPUESTAS'!AH8,Back!$M$16:$N$20,2,0)","v":"#N/A"},{"$f":"+VLOOKUP('BASE DE RESPUESTAS'!AI8,Back!$M$16:$N$20,2,0)","v":"#N/A"},{"$f":"+VLOOKUP('BASE DE RESPUESTAS'!AJ8,Back!$M$16:$N$20,2,0)","v":"#N/A"},{"$f":"+VLOOKUP('BASE DE RESPUESTAS'!AK8,Back!$M$16:$N$20,2,0)","v":"#N/A"},{"$f":"+VLOOKUP('BASE DE RESPUESTAS'!AL8,Back!$M$16:$N$20,2,0)","v":"#N/A"},{"$f":"+VLOOKUP('BASE DE RESPUESTAS'!AM8,Back!$M$16:$N$20,2,0)","v":"#N/A"},{"$f":"+VLOOKUP('BASE DE RESPUESTAS'!AN8,Back!$M$16:$N$20,2,0)","v":"#N/A"},{"$f":"+VLOOKUP('BASE DE RESPUESTAS'!AO8,Back!$M$16:$N$20,2,0)","v":"#N/A"},{"$f":"+VLOOKUP('BASE DE RESPUESTAS'!AP8,Back!$M$16:$N$20,2,0)","v":"#N/A"},{"$f":"+VLOOKUP('BASE DE RESPUESTAS'!AQ8,Back!$M$16:$N$20,2,0)","v":"#N/A"},{"$f":"+VLOOKUP('BASE DE RESPUESTAS'!AR8,Back!$M$16:$N$20,2,0)","v":"#N/A"},{"$f":"+VLOOKUP('BASE DE RESPUESTAS'!AS8,Back!$M$16:$N$20,2,0)","v":"#N/A"},{"$f":"+VLOOKUP('BASE DE RESPUESTAS'!AT8,Back!$M$16:$N$20,2,0)","v":"#N/A"},{"$f":"+VLOOKUP('BASE DE RESPUESTAS'!AU8,Back!$M$16:$N$20,2,0)","v":"#N/A"},{"$f":"+VLOOKUP('BASE DE RESPUESTAS'!AV8,Back!$M$16:$N$20,2,0)","v":"#N/A"},{"$f":"+VLOOKUP('BASE DE RESPUESTAS'!AW8,Back!$M$16:$N$20,2,0)","v":"#N/A"},{"$f":"+VLOOKUP('BASE DE RESPUESTAS'!AX8,Back!$M$16:$N$20,2,0)","v":"#N/A"},{"$f":"+VLOOKUP('BASE DE RESPUESTAS'!AY8,Back!$M$16:$N$20,2,0)","v":"#N/A"},{"$f":"+VLOOKUP('BASE DE RESPUESTAS'!AZ8,Back!$M$16:$N$20,2,0)","v":"#N/A"},{"$f":"+VLOOKUP('BASE DE RESPUESTAS'!BA8,Back!$M$16:$N$20,2,0)","v":"#N/A"},{"$f":"+VLOOKUP('BASE DE RESPUESTAS'!BB8,Back!$M$16:$N$20,2,0)","v":"#N/A"},{"$f":"+VLOOKUP('BASE DE RESPUESTAS'!BC8,Back!$M$16:$N$20,2,0)","v":"#N/A"},{"$f":"+VLOOKUP('BASE DE RESPUESTAS'!BD8,Back!$M$16:$N$20,2,0)","v":"#N/A"},{"$f":"+VLOOKUP('BASE DE RESPUESTAS'!BE8,Back!$M$16:$N$20,2,0)","v":"#N/A"}]
[null,"HSE","Autoestima","La o el estudiante se reconoce a sí mismo/a como único/a y valioso/a.",3.0,"Teniendo en cuenta cómo eres y cuáles son tus habilidades, ¿Crees que eres una persona valiosa ",null,{"$f":"+VLOOKUP('BASE DE RESPUESTAS'!H9,Back!$M$16:$N$20,2,0)","v":"#N/A"},{"$f":"+VLOOKUP('BASE DE RESPUESTAS'!I9,Back!$M$16:$N$20,2,0)","v":"#N/A"},{"$f":"+VLOOKUP('BASE DE RESPUESTAS'!J9,Back!$M$16:$N$20,2,0)","v":"#N/A"},{"$f":"+VLOOKUP('BASE DE RESPUESTAS'!K9,Back!$M$16:$N$20,2,0)","v":"#N/A"},{"$f":"+VLOOKUP('BASE DE RESPUESTAS'!L9,Back!$M$16:$N$20,2,0)","v":"#N/A"},{"$f":"+VLOOKUP('BASE DE RESPUESTAS'!M9,Back!$M$16:$N$20,2,0)","v":"#N/A"},{"$f":"+VLOOKUP('BASE DE RESPUESTAS'!N9,Back!$M$16:$N$20,2,0)","v":"#N/A"},{"$f":"+VLOOKUP('BASE DE RESPUESTAS'!O9,Back!$M$16:$N$20,2,0)","v":"#N/A"},{"$f":"+VLOOKUP('BASE DE RESPUESTAS'!P9,Back!$M$16:$N$20,2,0)","v":"#N/A"},{"$f":"+VLOOKUP('BASE DE RESPUESTAS'!Q9,Back!$M$16:$N$20,2,0)","v":"#N/A"},{"$f":"+VLOOKUP('BASE DE RESPUESTAS'!R9,Back!$M$16:$N$20,2,0)","v":"#N/A"},{"$f":"+VLOOKUP('BASE DE RESPUESTAS'!S9,Back!$M$16:$N$20,2,0)","v":"#N/A"},{"$f":"+VLOOKUP('BASE DE RESPUESTAS'!T9,Back!$M$16:$N$20,2,0)","v":"#N/A"},{"$f":"+VLOOKUP('BASE DE RESPUESTAS'!U9,Back!$M$16:$N$20,2,0)","v":"#N/A"},{"$f":"+VLOOKUP('BASE DE RESPUESTAS'!V9,Back!$M$16:$N$20,2,0)","v":"#N/A"},{"$f":"+VLOOKUP('BASE DE RESPUESTAS'!W9,Back!$M$16:$N$20,2,0)","v":"#N/A"},{"$f":"+VLOOKUP('BASE DE RESPUESTAS'!X9,Back!$M$16:$N$20,2,0)","v":"#N/A"},{"$f":"+VLOOKUP('BASE DE RESPUESTAS'!Y9,Back!$M$16:$N$20,2,0)","v":"#N/A"},{"$f":"+VLOOKUP('BASE DE RESPUESTAS'!Z9,Back!$M$16:$N$20,2,0)","v":"#N/A"},{"$f":"+VLOOKUP('BASE DE RESPUESTAS'!AA9,Back!$M$16:$N$20,2,0)","v":"#N/A"},{"$f":"+VLOOKUP('BASE DE RESPUESTAS'!AB9,Back!$M$16:$N$20,2,0)","v":"#N/A"},{"$f":"+VLOOKUP('BASE DE RESPUESTAS'!AC9,Back!$M$16:$N$20,2,0)","v":"#N/A"},{"$f":"+VLOOKUP('BASE DE RESPUESTAS'!AD9,Back!$M$16:$N$20,2,0)","v":"#N/A"},{"$f":"+VLOOKUP('BASE DE RESPUESTAS'!AE9,Back!$M$16:$N$20,2,0)","v":"#N/A"},{"$f":"+VLOOKUP('BASE DE RESPUESTAS'!AF9,Back!$M$16:$N$20,2,0)","v":"#N/A"},{"$f":"+VLOOKUP('BASE DE RESPUESTAS'!AG9,Back!$M$16:$N$20,2,0)","v":"#N/A"},{"$f":"+VLOOKUP('BASE DE RESPUESTAS'!AH9,Back!$M$16:$N$20,2,0)","v":"#N/A"},{"$f":"+VLOOKUP('BASE DE RESPUESTAS'!AI9,Back!$M$16:$N$20,2,0)","v":"#N/A"},{"$f":"+VLOOKUP('BASE DE RESPUESTAS'!AJ9,Back!$M$16:$N$20,2,0)","v":"#N/A"},{"$f":"+VLOOKUP('BASE DE RESPUESTAS'!AK9,Back!$M$16:$N$20,2,0)","v":"#N/A"},{"$f":"+VLOOKUP('BASE DE RESPUESTAS'!AL9,Back!$M$16:$N$20,2,0)","v":"#N/A"},{"$f":"+VLOOKUP('BASE DE RESPUESTAS'!AM9,Back!$M$16:$N$20,2,0)","v":"#N/A"},{"$f":"+VLOOKUP('BASE DE RESPUESTAS'!AN9,Back!$M$16:$N$20,2,0)","v":"#N/A"},{"$f":"+VLOOKUP('BASE DE RESPUESTAS'!AO9,Back!$M$16:$N$20,2,0)","v":"#N/A"},{"$f":"+VLOOKUP('BASE DE RESPUESTAS'!AP9,Back!$M$16:$N$20,2,0)","v":"#N/A"},{"$f":"+VLOOKUP('BASE DE RESPUESTAS'!AQ9,Back!$M$16:$N$20,2,0)","v":"#N/A"},{"$f":"+VLOOKUP('BASE DE RESPUESTAS'!AR9,Back!$M$16:$N$20,2,0)","v":"#N/A"},{"$f":"+VLOOKUP('BASE DE RESPUESTAS'!AS9,Back!$M$16:$N$20,2,0)","v":"#N/A"},{"$f":"+VLOOKUP('BASE DE RESPUESTAS'!AT9,Back!$M$16:$N$20,2,0)","v":"#N/A"},{"$f":"+VLOOKUP('BASE DE RESPUESTAS'!AU9,Back!$M$16:$N$20,2,0)","v":"#N/A"},{"$f":"+VLOOKUP('BASE DE RESPUESTAS'!AV9,Back!$M$16:$N$20,2,0)","v":"#N/A"},{"$f":"+VLOOKUP('BASE DE RESPUESTAS'!AW9,Back!$M$16:$N$20,2,0)","v":"#N/A"},{"$f":"+VLOOKUP('BASE DE RESPUESTAS'!AX9,Back!$M$16:$N$20,2,0)","v":"#N/A"},{"$f":"+VLOOKUP('BASE DE RESPUESTAS'!AY9,Back!$M$16:$N$20,2,0)","v":"#N/A"},{"$f":"+VLOOKUP('BASE DE RESPUESTAS'!AZ9,Back!$M$16:$N$20,2,0)","v":"#N/A"},{"$f":"+VLOOKUP('BASE DE RESPUESTAS'!BA9,Back!$M$16:$N$20,2,0)","v":"#N/A"},{"$f":"+VLOOKUP('BASE DE RESPUESTAS'!BB9,Back!$M$16:$N$20,2,0)","v":"#N/A"},{"$f":"+VLOOKUP('BASE DE RESPUESTAS'!BC9,Back!$M$16:$N$20,2,0)","v":"#N/A"},{"$f":"+VLOOKUP('BASE DE RESPUESTAS'!BD9,Back!$M$16:$N$20,2,0)","v":"#N/A"},{"$f":"+VLOOKUP('BASE DE RESPUESTAS'!BE9,Back!$M$16:$N$20,2,0)","v":"#N/A"}]
[null,null,null,null,4.0,"Escribe tres características tuyas que te hacen valiosa/o y única/o:",null,{"$f":"+VLOOKUP('BASE DE RESPUESTAS'!H10,Back!$M$16:$N$20,2,0)","v":"#N/A"},{"$f":"+VLOOKUP('BASE DE RESPUESTAS'!I10,Back!$M$16:$N$20,2,0)","v":"#N/A"},{"$f":"+VLOOKUP('BASE DE RESPUESTAS'!J10,Back!$M$16:$N$20,2,0)","v":"#N/A"},{"$f":"+VLOOKUP('BASE DE RESPUESTAS'!K10,Back!$M$16:$N$20,2,0)","v":"#N/A"},{"$f":"+VLOOKUP('BASE DE RESPUESTAS'!L10,Back!$M$16:$N$20,2,0)","v":"#N/A"},{"$f":"+VLOOKUP('BASE DE RESPUESTAS'!M10,Back!$M$16:$N$20,2,0)","v":"#N/A"},{"$f":"+VLOOKUP('BASE DE RESPUESTAS'!N10,Back!$M$16:$N$20,2,0)","v":"#N/A"},{"$f":"+VLOOKUP('BASE DE RESPUESTAS'!O10,Back!$M$16:$N$20,2,0)","v":"#N/A"},{"$f":"+VLOOKUP('BASE DE RESPUESTAS'!P10,Back!$M$16:$N$20,2,0)","v":"#N/A"},{"$f":"+VLOOKUP('BASE DE RESPUESTAS'!Q10,Back!$M$16:$N$20,2,0)","v":"#N/A"},{"$f":"+VLOOKUP('BASE DE RESPUESTAS'!R10,Back!$M$16:$N$20,2,0)","v":"#N/A"},{"$f":"+VLOOKUP('BASE DE RESPUESTAS'!S10,Back!$M$16:$N$20,2,0)","v":"#N/A"},{"$f":"+VLOOKUP('BASE DE RESPUESTAS'!T10,Back!$M$16:$N$20,2,0)","v":"#N/A"},{"$f":"+VLOOKUP('BASE DE RESPUESTAS'!U10,Back!$M$16:$N$20,2,0)","v":"#N/A"},{"$f":"+VLOOKUP('BASE DE RESPUESTAS'!V10,Back!$M$16:$N$20,2,0)","v":"#N/A"},{"$f":"+VLOOKUP('BASE DE RESPUESTAS'!W10,Back!$M$16:$N$20,2,0)","v":"#N/A"},{"$f":"+VLOOKUP('BASE DE RESPUESTAS'!X10,Back!$M$16:$N$20,2,0)","v":"#N/A"},{"$f":"+VLOOKUP('BASE DE RESPUESTAS'!Y10,Back!$M$16:$N$20,2,0)","v":"#N/A"},{"$f":"+VLOOKUP('BASE DE RESPUESTAS'!Z10,Back!$M$16:$N$20,2,0)","v":"#N/A"},{"$f":"+VLOOKUP('BASE DE RESPUESTAS'!AA10,Back!$M$16:$N$20,2,0)","v":"#N/A"},{"$f":"+VLOOKUP('BASE DE RESPUESTAS'!AB10,Back!$M$16:$N$20,2,0)","v":"#N/A"},{"$f":"+VLOOKUP('BASE DE RESPUESTAS'!AC10,Back!$M$16:$N$20,2,0)","v":"#N/A"},{"$f":"+VLOOKUP('BASE DE RESPUESTAS'!AD10,Back!$M$16:$N$20,2,0)","v":"#N/A"},{"$f":"+VLOOKUP('BASE DE RESPUESTAS'!AE10,Back!$M$16:$N$20,2,0)","v":"#N/A"},{"$f":"+VLOOKUP('BASE DE RESPUESTAS'!AF10,Back!$M$16:$N$20,2,0)","v":"#N/A"},{"$f":"+VLOOKUP('BASE DE RESPUESTAS'!AG10,Back!$M$16:$N$20,2,0)","v":"#N/A"},{"$f":"+VLOOKUP('BASE DE RESPUESTAS'!AH10,Back!$M$16:$N$20,2,0)","v":"#N/A"},{"$f":"+VLOOKUP('BASE DE RESPUESTAS'!AI10,Back!$M$16:$N$20,2,0)","v":"#N/A"},{"$f":"+VLOOKUP('BASE DE RESPUESTAS'!AJ10,Back!$M$16:$N$20,2,0)","v":"#N/A"},{"$f":"+VLOOKUP('BASE DE RESPUESTAS'!AK10,Back!$M$16:$N$20,2,0)","v":"#N/A"},{"$f":"+VLOOKUP('BASE DE RESPUESTAS'!AL10,Back!$M$16:$N$20,2,0)","v":"#N/A"},{"$f":"+VLOOKUP('BASE DE RESPUESTAS'!AM10,Back!$M$16:$N$20,2,0)","v":"#N/A"},{"$f":"+VLOOKUP('BASE DE RESPUESTAS'!AN10,Back!$M$16:$N$20,2,0)","v":"#N/A"},{"$f":"+VLOOKUP('BASE DE RESPUESTAS'!AO10,Back!$M$16:$N$20,2,0)","v":"#N/A"},{"$f":"+VLOOKUP('BASE DE RESPUESTAS'!AP10,Back!$M$16:$N$20,2,0)","v":"#N/A"},{"$f":"+VLOOKUP('BASE DE RESPUESTAS'!AQ10,Back!$M$16:$N$20,2,0)","v":"#N/A"},{"$f":"+VLOOKUP('BASE DE RESPUESTAS'!AR10,Back!$M$16:$N$20,2,0)","v":"#N/A"},{"$f":"+VLOOKUP('BASE DE RESPUESTAS'!AS10,Back!$M$16:$N$20,2,0)","v":"#N/A"},{"$f":"+VLOOKUP('BASE DE RESPUESTAS'!AT10,Back!$M$16:$N$20,2,0)","v":"#N/A"},{"$f":"+VLOOKUP('BASE DE RESPUESTAS'!AU10,Back!$M$16:$N$20,2,0)","v":"#N/A"},{"$f":"+VLOOKUP('BASE DE RESPUESTAS'!AV10,Back!$M$16:$N$20,2,0)","v":"#N/A"},{"$f":"+VLOOKUP('BASE DE RESPUESTAS'!AW10,Back!$M$16:$N$20,2,0)","v":"#N/A"},{"$f":"+VLOOKUP('BASE DE RESPUESTAS'!AX10,Back!$M$16:$N$20,2,0)","v":"#N/A"},{"$f":"+VLOOKUP('BASE DE RESPUESTAS'!AY10,Back!$M$16:$N$20,2,0)","v":"#N/A"},{"$f":"+VLOOKUP('BASE DE RESPUESTAS'!AZ10,Back!$M$16:$N$20,2,0)","v":"#N/A"},{"$f":"+VLOOKUP('BASE DE RESPUESTAS'!BA10,Back!$M$16:$N$20,2,0)","v":"#N/A"},{"$f":"+VLOOKUP('BASE DE RESPUESTAS'!BB10,Back!$M$16:$N$20,2,0)","v":"#N/A"},{"$f":"+VLOOKUP('BASE DE RESPUESTAS'!BC10,Back!$M$16:$N$20,2,0)","v":"#N/A"},{"$f":"+VLOOKUP('BASE DE RESPUESTAS'!BD10,Back!$M$16:$N$20,2,0)","v":"#N/A"},{"$f":"+VLOOKUP('BASE DE RESPUESTAS'!BE10,Back!$M$16:$N$20,2,0)","v":"#N/A"}]
[null,null,null,"La o el estudiante expresa que es capaz de realizar tareas y aceptar retos.",5.0,"Escribe tres cosas que puedas hacer por ti misma/o: ",null,{"$f":"+VLOOKUP('BASE DE RESPUESTAS'!H11,Back!$M$16:$N$20,2,0)","v":"#N/A"},{"$f":"+VLOOKUP('BASE DE RESPUESTAS'!I11,Back!$M$16:$N$20,2,0)","v":"#N/A"},{"$f":"+VLOOKUP('BASE DE RESPUESTAS'!J11,Back!$M$16:$N$20,2,0)","v":"#N/A"},{"$f":"+VLOOKUP('BASE DE RESPUESTAS'!K11,Back!$M$16:$N$20,2,0)","v":"#N/A"},{"$f":"+VLOOKUP('BASE DE RESPUESTAS'!L11,Back!$M$16:$N$20,2,0)","v":"#N/A"},{"$f":"+VLOOKUP('BASE DE RESPUESTAS'!M11,Back!$M$16:$N$20,2,0)","v":"#N/A"},{"$f":"+VLOOKUP('BASE DE RESPUESTAS'!N11,Back!$M$16:$N$20,2,0)","v":"#N/A"},{"$f":"+VLOOKUP('BASE DE RESPUESTAS'!O11,Back!$M$16:$N$20,2,0)","v":"#N/A"},{"$f":"+VLOOKUP('BASE DE RESPUESTAS'!P11,Back!$M$16:$N$20,2,0)","v":"#N/A"},{"$f":"+VLOOKUP('BASE DE RESPUESTAS'!Q11,Back!$M$16:$N$20,2,0)","v":"#N/A"},{"$f":"+VLOOKUP('BASE DE RESPUESTAS'!R11,Back!$M$16:$N$20,2,0)","v":"#N/A"},{"$f":"+VLOOKUP('BASE DE RESPUESTAS'!S11,Back!$M$16:$N$20,2,0)","v":"#N/A"},{"$f":"+VLOOKUP('BASE DE RESPUESTAS'!T11,Back!$M$16:$N$20,2,0)","v":"#N/A"},{"$f":"+VLOOKUP('BASE DE RESPUESTAS'!U11,Back!$M$16:$N$20,2,0)","v":"#N/A"},{"$f":"+VLOOKUP('BASE DE RESPUESTAS'!V11,Back!$M$16:$N$20,2,0)","v":"#N/A"},{"$f":"+VLOOKUP('BASE DE RESPUESTAS'!W11,Back!$M$16:$N$20,2,0)","v":"#N/A"},{"$f":"+VLOOKUP('BASE DE RESPUESTAS'!X11,Back!$M$16:$N$20,2,0)","v":"#N/A"},{"$f":"+VLOOKUP('BASE DE RESPUESTAS'!Y11,Back!$M$16:$N$20,2,0)","v":"#N/A"},{"$f":"+VLOOKUP('BASE DE RESPUESTAS'!Z11,Back!$M$16:$N$20,2,0)","v":"#N/A"},{"$f":"+VLOOKUP('BASE DE RESPUESTAS'!AA11,Back!$M$16:$N$20,2,0)","v":"#N/A"},{"$f":"+VLOOKUP('BASE DE RESPUESTAS'!AB11,Back!$M$16:$N$20,2,0)","v":"#N/A"},{"$f":"+VLOOKUP('BASE DE RESPUESTAS'!AC11,Back!$M$16:$N$20,2,0)","v":"#N/A"},{"$f":"+VLOOKUP('BASE DE RESPUESTAS'!AD11,Back!$M$16:$N$20,2,0)","v":"#N/A"},{"$f":"+VLOOKUP('BASE DE RESPUESTAS'!AE11,Back!$M$16:$N$20,2,0)","v":"#N/A"},{"$f":"+VLOOKUP('BASE DE RESPUESTAS'!AF11,Back!$M$16:$N$20,2,0)","v":"#N/A"},{"$f":"+VLOOKUP('BASE DE RESPUESTAS'!AG11,Back!$M$16:$N$20,2,0)","v":"#N/A"},{"$f":"+VLOOKUP('BASE DE RESPUESTAS'!AH11,Back!$M$16:$N$20,2,0)","v":"#N/A"},{"$f":"+VLOOKUP('BASE DE RESPUESTAS'!AI11,Back!$M$16:$N$20,2,0)","v":"#N/A"},{"$f":"+VLOOKUP('BASE DE RESPUESTAS'!AJ11,Back!$M$16:$N$20,2,0)","v":"#N/A"},{"$f":"+VLOOKUP('BASE DE RESPUESTAS'!AK11,Back!$M$16:$N$20,2,0)","v":"#N/A"},{"$f":"+VLOOKUP('BASE DE RESPUESTAS'!AL11,Back!$M$16:$N$20,2,0)","v":"#N/A"},{"$f":"+VLOOKUP('BASE DE RESPUESTAS'!AM11,Back!$M$16:$N$20,2,0)","v":"#N/A"},{"$f":"+VLOOKUP('BASE DE RESPUESTAS'!AN11,Back!$M$16:$N$20,2,0)","v":"#N/A"},{"$f":"+VLOOKUP('BASE DE RESPUESTAS'!AO11,Back!$M$16:$N$20,2,0)","v":"#N/A"},{"$f":"+VLOOKUP('BASE DE RESPUESTAS'!AP11,Back!$M$16:$N$20,2,0)","v":"#N/A"},{"$f":"+VLOOKUP('BASE DE RESPUESTAS'!AQ11,Back!$M$16:$N$20,2,0)","v":"#N/A"},{"$f":"+VLOOKUP('BASE DE RESPUESTAS'!AR11,Back!$M$16:$N$20,2,0)","v":"#N/A"},{"$f":"+VLOOKUP('BASE DE RESPUESTAS'!AS11,Back!$M$16:$N$20,2,0)","v":"#N/A"},{"$f":"+VLOOKUP('BASE DE RESPUESTAS'!AT11,Back!$M$16:$N$20,2,0)","v":"#N/A"},{"$f":"+VLOOKUP('BASE DE RESPUESTAS'!AU11,Back!$M$16:$N$20,2,0)","v":"#N/A"},{"$f":"+VLOOKUP('BASE DE RESPUESTAS'!AV11,Back!$M$16:$N$20,2,0)","v":"#N/A"},{"$f":"+VLOOKUP('BASE DE RESPUESTAS'!AW11,Back!$M$16:$N$20,2,0)","v":"#N/A"},{"$f":"+VLOOKUP('BASE DE RESPUESTAS'!AX11,Back!$M$16:$N$20,2,0)","v":"#N/A"},{"$f":"+VLOOKUP('BASE DE RESPUESTAS'!AY11,Back!$M$16:$N$20,2,0)","v":"#N/A"},{"$f":"+VLOOKUP('BASE DE RESPUESTAS'!AZ11,Back!$M$16:$N$20,2,0)","v":"#N/A"},{"$f":"+VLOOKUP('BASE DE RESPUESTAS'!BA11,Back!$M$16:$N$20,2,0)","v":"#N/A"},{"$f":"+VLOOKUP('BASE DE RESPUESTAS'!BB11,Back!$M$16:$N$20,2,0)","v":"#N/A"},{"$f":"+VLOOKUP('BASE DE RESPUESTAS'!BC11,Back!$M$16:$N$20,2,0)","v":"#N/A"},{"$f":"+VLOOKUP('BASE DE RESPUESTAS'!BD11,Back!$M$16:$N$20,2,0)","v":"#N/A"},{"$f":"+VLOOKUP('BASE DE RESPUESTAS'!BE11,Back!$M$16:$N$20,2,0)","v":"#N/A"}]
[null,null,null,null,6.0,"Si la profesora te da una tarea nueva que parece más difícil de lo normal, ¿aceptarías?",null,{"$f":"+VLOOKUP('BASE DE RESPUESTAS'!H12,Back!$M$16:$N$20,2,0)","v":"#N/A"},{"$f":"+VLOOKUP('BASE DE RESPUESTAS'!I12,Back!$M$16:$N$20,2,0)","v":"#N/A"},{"$f":"+VLOOKUP('BASE DE RESPUESTAS'!J12,Back!$M$16:$N$20,2,0)","v":"#N/A"},{"$f":"+VLOOKUP('BASE DE RESPUESTAS'!K12,Back!$M$16:$N$20,2,0)","v":"#N/A"},{"$f":"+VLOOKUP('BASE DE RESPUESTAS'!L12,Back!$M$16:$N$20,2,0)","v":"#N/A"},{"$f":"+VLOOKUP('BASE DE RESPUESTAS'!M12,Back!$M$16:$N$20,2,0)","v":"#N/A"},{"$f":"+VLOOKUP('BASE DE RESPUESTAS'!N12,Back!$M$16:$N$20,2,0)","v":"#N/A"},{"$f":"+VLOOKUP('BASE DE RESPUESTAS'!O12,Back!$M$16:$N$20,2,0)","v":"#N/A"},{"$f":"+VLOOKUP('BASE DE RESPUESTAS'!P12,Back!$M$16:$N$20,2,0)","v":"#N/A"},{"$f":"+VLOOKUP('BASE DE RESPUESTAS'!Q12,Back!$M$16:$N$20,2,0)","v":"#N/A"},{"$f":"+VLOOKUP('BASE DE RESPUESTAS'!R12,Back!$M$16:$N$20,2,0)","v":"#N/A"},{"$f":"+VLOOKUP('BASE DE RESPUESTAS'!S12,Back!$M$16:$N$20,2,0)","v":"#N/A"},{"$f":"+VLOOKUP('BASE DE RESPUESTAS'!T12,Back!$M$16:$N$20,2,0)","v":"#N/A"},{"$f":"+VLOOKUP('BASE DE RESPUESTAS'!U12,Back!$M$16:$N$20,2,0)","v":"#N/A"},{"$f":"+VLOOKUP('BASE DE RESPUESTAS'!V12,Back!$M$16:$N$20,2,0)","v":"#N/A"},{"$f":"+VLOOKUP('BASE DE RESPUESTAS'!W12,Back!$M$16:$N$20,2,0)","v":"#N/A"},{"$f":"+VLOOKUP('BASE DE RESPUESTAS'!X12,Back!$M$16:$N$20,2,0)","v":"#N/A"},{"$f":"+VLOOKUP('BASE DE RESPUESTAS'!Y12,Back!$M$16:$N$20,2,0)","v":"#N/A"},{"$f":"+VLOOKUP('BASE DE RESPUESTAS'!Z12,Back!$M$16:$N$20,2,0)","v":"#N/A"},{"$f":"+VLOOKUP('BASE DE RESPUESTAS'!AA12,Back!$M$16:$N$20,2,0)","v":"#N/A"},{"$f":"+VLOOKUP('BASE DE RESPUESTAS'!AB12,Back!$M$16:$N$20,2,0)","v":"#N/A"},{"$f":"+VLOOKUP('BASE DE RESPUESTAS'!AC12,Back!$M$16:$N$20,2,0)","v":"#N/A"},{"$f":"+VLOOKUP('BASE DE RESPUESTAS'!AD12,Back!$M$16:$N$20,2,0)","v":"#N/A"},{"$f":"+VLOOKUP('BASE DE RESPUESTAS'!AE12,Back!$M$16:$N$20,2,0)","v":"#N/A"},{"$f":"+VLOOKUP('BASE DE RESPUESTAS'!AF12,Back!$M$16:$N$20,2,0)","v":"#N/A"},{"$f":"+VLOOKUP('BASE DE RESPUESTAS'!AG12,Back!$M$16:$N$20,2,0)","v":"#N/A"},{"$f":"+VLOOKUP('BASE DE RESPUESTAS'!AH12,Back!$M$16:$N$20,2,0)","v":"#N/A"},{"$f":"+VLOOKUP('BASE DE RESPUESTAS'!AI12,Back!$M$16:$N$20,2,0)","v":"#N/A"},{"$f":"+VLOOKUP('BASE DE RESPUESTAS'!AJ12,Back!$M$16:$N$20,2,0)","v":"#N/A"},{"$f":"+VLOOKUP('BASE DE RESPUESTAS'!AK12,Back!$M$16:$N$20,2,0)","v":"#N/A"},{"$f":"+VLOOKUP('BASE DE RESPUESTAS'!AL12,Back!$M$16:$N$20,2,0)","v":"#N/A"},{"$f":"+VLOOKUP('BASE DE RESPUESTAS'!AM12,Back!$M$16:$N$20,2,0)","v":"#N/A"},{"$f":"+VLOOKUP('BASE DE RESPUESTAS'!AN12,Back!$M$16:$N$20,2,0)","v":"#N/A"},{"$f":"+VLOOKUP('BASE DE RESPUESTAS'!AO12,Back!$M$16:$N$20,2,0)","v":"#N/A"},{"$f":"+VLOOKUP('BASE DE RESPUESTAS'!AP12,Back!$M$16:$N$20,2,0)","v":"#N/A"},{"$f":"+VLOOKUP('BASE DE RESPUESTAS'!AQ12,Back!$M$16:$N$20,2,0)","v":"#N/A"},{"$f":"+VLOOKUP('BASE DE RESPUESTAS'!AR12,Back!$M$16:$N$20,2,0)","v":"#N/A"},{"$f":"+VLOOKUP('BASE DE RESPUESTAS'!AS12,Back!$M$16:$N$20,2,0)","v":"#N/A"},{"$f":"+VLOOKUP('BASE DE RESPUESTAS'!AT12,Back!$M$16:$N$20,2,0)","v":"#N/A"},{"$f":"+VLOOKUP('BASE DE RESPUESTAS'!AU12,Back!$M$16:$N$20,2,0)","v":"#N/A"},{"$f":"+VLOOKUP('BASE DE RESPUESTAS'!AV12,Back!$M$16:$N$20,2,0)","v":"#N/A"},{"$f":"+VLOOKUP('BASE DE RESPUESTAS'!AW12,Back!$M$16:$N$20,2,0)","v":"#N/A"},{"$f":"+VLOOKUP('BASE DE RESPUESTAS'!AX12,Back!$M$16:$N$20,2,0)","v":"#N/A"},{"$f":"+VLOOKUP('BASE DE RESPUESTAS'!AY12,Back!$M$16:$N$20,2,0)","v":"#N/A"},{"$f":"+VLOOKUP('BASE DE RESPUESTAS'!AZ12,Back!$M$16:$N$20,2,0)","v":"#N/A"},{"$f":"+VLOOKUP('BASE DE RESPUESTAS'!BA12,Back!$M$16:$N$20,2,0)","v":"#N/A"},{"$f":"+VLOOKUP('BASE DE RESPUESTAS'!BB12,Back!$M$16:$N$20,2,0)","v":"#N/A"},{"$f":"+VLOOKUP('BASE DE RESPUESTAS'!BC12,Back!$M$16:$N$20,2,0)","v":"#N/A"},{"$f":"+VLOOKUP('BASE DE RESPUESTAS'!BD12,Back!$M$16:$N$20,2,0)","v":"#N/A"},{"$f":"+VLOOKUP('BASE DE RESPUESTAS'!BE12,Back!$M$16:$N$20,2,0)","v":"#N/A"}]
[null,"HSE","Conciencia emocional","La o el estudiante nombra y diferencia sus emociones, reconociendo sus causas y consecuencias.",7.0,"¿Cómo te sentirías si te enteras que podrás jugar toda la tarde con tus amigas y amigos?",null,{"$f":"+VLOOKUP('BASE DE RESPUESTAS'!H13,Back!$M$16:$N$20,2,0)","v":"#N/A"},{"$f":"+VLOOKUP('BASE DE RESPUESTAS'!I13,Back!$M$16:$N$20,2,0)","v":"#N/A"},{"$f":"+VLOOKUP('BASE DE RESPUESTAS'!J13,Back!$M$16:$N$20,2,0)","v":"#N/A"},{"$f":"+VLOOKUP('BASE DE RESPUESTAS'!K13,Back!$M$16:$N$20,2,0)","v":"#N/A"},{"$f":"+VLOOKUP('BASE DE RESPUESTAS'!L13,Back!$M$16:$N$20,2,0)","v":"#N/A"},{"$f":"+VLOOKUP('BASE DE RESPUESTAS'!M13,Back!$M$16:$N$20,2,0)","v":"#N/A"},{"$f":"+VLOOKUP('BASE DE RESPUESTAS'!N13,Back!$M$16:$N$20,2,0)","v":"#N/A"},{"$f":"+VLOOKUP('BASE DE RESPUESTAS'!O13,Back!$M$16:$N$20,2,0)","v":"#N/A"},{"$f":"+VLOOKUP('BASE DE RESPUESTAS'!P13,Back!$M$16:$N$20,2,0)","v":"#N/A"},{"$f":"+VLOOKUP('BASE DE RESPUESTAS'!Q13,Back!$M$16:$N$20,2,0)","v":"#N/A"},{"$f":"+VLOOKUP('BASE DE RESPUESTAS'!R13,Back!$M$16:$N$20,2,0)","v":"#N/A"},{"$f":"+VLOOKUP('BASE DE RESPUESTAS'!S13,Back!$M$16:$N$20,2,0)","v":"#N/A"},{"$f":"+VLOOKUP('BASE DE RESPUESTAS'!T13,Back!$M$16:$N$20,2,0)","v":"#N/A"},{"$f":"+VLOOKUP('BASE DE RESPUESTAS'!U13,Back!$M$16:$N$20,2,0)","v":"#N/A"},{"$f":"+VLOOKUP('BASE DE RESPUESTAS'!V13,Back!$M$16:$N$20,2,0)","v":"#N/A"},{"$f":"+VLOOKUP('BASE DE RESPUESTAS'!W13,Back!$M$16:$N$20,2,0)","v":"#N/A"},{"$f":"+VLOOKUP('BASE DE RESPUESTAS'!X13,Back!$M$16:$N$20,2,0)","v":"#N/A"},{"$f":"+VLOOKUP('BASE DE RESPUESTAS'!Y13,Back!$M$16:$N$20,2,0)","v":"#N/A"},{"$f":"+VLOOKUP('BASE DE RESPUESTAS'!Z13,Back!$M$16:$N$20,2,0)","v":"#N/A"},{"$f":"+VLOOKUP('BASE DE RESPUESTAS'!AA13,Back!$M$16:$N$20,2,0)","v":"#N/A"},{"$f":"+VLOOKUP('BASE DE RESPUESTAS'!AB13,Back!$M$16:$N$20,2,0)","v":"#N/A"},{"$f":"+VLOOKUP('BASE DE RESPUESTAS'!AC13,Back!$M$16:$N$20,2,0)","v":"#N/A"},{"$f":"+VLOOKUP('BASE DE RESPUESTAS'!AD13,Back!$M$16:$N$20,2,0)","v":"#N/A"},{"$f":"+VLOOKUP('BASE DE RESPUESTAS'!AE13,Back!$M$16:$N$20,2,0)","v":"#N/A"},{"$f":"+VLOOKUP('BASE DE RESPUESTAS'!AF13,Back!$M$16:$N$20,2,0)","v":"#N/A"},{"$f":"+VLOOKUP('BASE DE RESPUESTAS'!AG13,Back!$M$16:$N$20,2,0)","v":"#N/A"},{"$f":"+VLOOKUP('BASE DE RESPUESTAS'!AH13,Back!$M$16:$N$20,2,0)","v":"#N/A"},{"$f":"+VLOOKUP('BASE DE RESPUESTAS'!AI13,Back!$M$16:$N$20,2,0)","v":"#N/A"},{"$f":"+VLOOKUP('BASE DE RESPUESTAS'!AJ13,Back!$M$16:$N$20,2,0)","v":"#N/A"},{"$f":"+VLOOKUP('BASE DE RESPUESTAS'!AK13,Back!$M$16:$N$20,2,0)","v":"#N/A"},{"$f":"+VLOOKUP('BASE DE RESPUESTAS'!AL13,Back!$M$16:$N$20,2,0)","v":"#N/A"},{"$f":"+VLOOKUP('BASE DE RESPUESTAS'!AM13,Back!$M$16:$N$20,2,0)","v":"#N/A"},{"$f":"+VLOOKUP('BASE DE RESPUESTAS'!AN13,Back!$M$16:$N$20,2,0)","v":"#N/A"},{"$f":"+VLOOKUP('BASE DE RESPUESTAS'!AO13,Back!$M$16:$N$20,2,0)","v":"#N/A"},{"$f":"+VLOOKUP('BASE DE RESPUESTAS'!AP13,Back!$M$16:$N$20,2,0)","v":"#N/A"},{"$f":"+VLOOKUP('BASE DE RESPUESTAS'!AQ13,Back!$M$16:$N$20,2,0)","v":"#N/A"},{"$f":"+VLOOKUP('BASE DE RESPUESTAS'!AR13,Back!$M$16:$N$20,2,0)","v":"#N/A"},{"$f":"+VLOOKUP('BASE DE RESPUESTAS'!AS13,Back!$M$16:$N$20,2,0)","v":"#N/A"},{"$f":"+VLOOKUP('BASE DE RESPUESTAS'!AT13,Back!$M$16:$N$20,2,0)","v":"#N/A"},{"$f":"+VLOOKUP('BASE DE RESPUESTAS'!AU13,Back!$M$16:$N$20,2,0)","v":"#N/A"},{"$f":"+VLOOKUP('BASE DE RESPUESTAS'!AV13,Back!$M$16:$N$20,2,0)","v":"#N/A"},{"$f":"+VLOOKUP('BASE DE RESPUESTAS'!AW13,Back!$M$16:$N$20,2,0)","v":"#N/A"},{"$f":"+VLOOKUP('BASE DE RESPUESTAS'!AX13,Back!$M$16:$N$20,2,0)","v":"#N/A"},{"$f":"+VLOOKUP('BASE DE RESPUESTAS'!AY13,Back!$M$16:$N$20,2,0)","v":"#N/A"},{"$f":"+VLOOKUP('BASE DE RESPUESTAS'!AZ13,Back!$M$16:$N$20,2,0)","v":"#N/A"},{"$f":"+VLOOKUP('BASE DE RESPUESTAS'!BA13,Back!$M$16:$N$20,2,0)","v":"#N/A"},{"$f":"+VLOOKUP('BASE DE RESPUESTAS'!BB13,Back!$M$16:$N$20,2,0)","v":"#N/A"},{"$f":"+VLOOKUP('BASE DE RESPUESTAS'!BC13,Back!$M$16:$N$20,2,0)","v":"#N/A"},{"$f":"+VLOOKUP('BASE DE RESPUESTAS'!BD13,Back!$M$16:$N$20,2,0)","v":"#N/A"},{"$f":"+VLOOKUP('BASE DE RESPUESTAS'!BE13,Back!$M$16:$N$20,2,0)","v":"#N/A"}]
[null,null,null,null,8.0,"¿Cómo te sentirías si te enteras que tu mejor amiga o amigo se cambiará de colegio?",null,{"$f":"+VLOOKUP('BASE DE RESPUESTAS'!H14,Back!$M$16:$N$20,2,0)","v":"#N/A"},{"$f":"+VLOOKUP('BASE DE RESPUESTAS'!I14,Back!$M$16:$N$20,2,0)","v":"#N/A"},{"$f":"+VLOOKUP('BASE DE RESPUESTAS'!J14,Back!$M$16:$N$20,2,0)","v":"#N/A"},{"$f":"+VLOOKUP('BASE DE RESPUESTAS'!K14,Back!$M$16:$N$20,2,0)","v":"#N/A"},{"$f":"+VLOOKUP('BASE DE RESPUESTAS'!L14,Back!$M$16:$N$20,2,0)","v":"#N/A"},{"$f":"+VLOOKUP('BASE DE RESPUESTAS'!M14,Back!$M$16:$N$20,2,0)","v":"#N/A"},{"$f":"+VLOOKUP('BASE DE RESPUESTAS'!N14,Back!$M$16:$N$20,2,0)","v":"#N/A"},{"$f":"+VLOOKUP('BASE DE RESPUESTAS'!O14,Back!$M$16:$N$20,2,0)","v":"#N/A"},{"$f":"+VLOOKUP('BASE DE RESPUESTAS'!P14,Back!$M$16:$N$20,2,0)","v":"#N/A"},{"$f":"+VLOOKUP('BASE DE RESPUESTAS'!Q14,Back!$M$16:$N$20,2,0)","v":"#N/A"},{"$f":"+VLOOKUP('BASE DE RESPUESTAS'!R14,Back!$M$16:$N$20,2,0)","v":"#N/A"},{"$f":"+VLOOKUP('BASE DE RESPUESTAS'!S14,Back!$M$16:$N$20,2,0)","v":"#N/A"},{"$f":"+VLOOKUP('BASE DE RESPUESTAS'!T14,Back!$M$16:$N$20,2,0)","v":"#N/A"},{"$f":"+VLOOKUP('BASE DE RESPUESTAS'!U14,Back!$M$16:$N$20,2,0)","v":"#N/A"},{"$f":"+VLOOKUP('BASE DE RESPUESTAS'!V14,Back!$M$16:$N$20,2,0)","v":"#N/A"},{"$f":"+VLOOKUP('BASE DE RESPUESTAS'!W14,Back!$M$16:$N$20,2,0)","v":"#N/A"},{"$f":"+VLOOKUP('BASE DE RESPUESTAS'!X14,Back!$M$16:$N$20,2,0)","v":"#N/A"},{"$f":"+VLOOKUP('BASE DE RESPUESTAS'!Y14,Back!$M$16:$N$20,2,0)","v":"#N/A"},{"$f":"+VLOOKUP('BASE DE RESPUESTAS'!Z14,Back!$M$16:$N$20,2,0)","v":"#N/A"},{"$f":"+VLOOKUP('BASE DE RESPUESTAS'!AA14,Back!$M$16:$N$20,2,0)","v":"#N/A"},{"$f":"+VLOOKUP('BASE DE RESPUESTAS'!AB14,Back!$M$16:$N$20,2,0)","v":"#N/A"},{"$f":"+VLOOKUP('BASE DE RESPUESTAS'!AC14,Back!$M$16:$N$20,2,0)","v":"#N/A"},{"$f":"+VLOOKUP('BASE DE RESPUESTAS'!AD14,Back!$M$16:$N$20,2,0)","v":"#N/A"},{"$f":"+VLOOKUP('BASE DE RESPUESTAS'!AE14,Back!$M$16:$N$20,2,0)","v":"#N/A"},{"$f":"+VLOOKUP('BASE DE RESPUESTAS'!AF14,Back!$M$16:$N$20,2,0)","v":"#N/A"},{"$f":"+VLOOKUP('BASE DE RESPUESTAS'!AG14,Back!$M$16:$N$20,2,0)","v":"#N/A"},{"$f":"+VLOOKUP('BASE DE RESPUESTAS'!AH14,Back!$M$16:$N$20,2,0)","v":"#N/A"},{"$f":"+VLOOKUP('BASE DE RESPUESTAS'!AI14,Back!$M$16:$N$20,2,0)","v":"#N/A"},{"$f":"+VLOOKUP('BASE DE RESPUESTAS'!AJ14,Back!$M$16:$N$20,2,0)","v":"#N/A"},{"$f":"+VLOOKUP('BASE DE RESPUESTAS'!AK14,Back!$M$16:$N$20,2,0)","v":"#N/A"},{"$f":"+VLOOKUP('BASE DE RESPUESTAS'!AL14,Back!$M$16:$N$20,2,0)","v":"#N/A"},{"$f":"+VLOOKUP('BASE DE RESPUESTAS'!AM14,Back!$M$16:$N$20,2,0)","v":"#N/A"},{"$f":"+VLOOKUP('BASE DE RESPUESTAS'!AN14,Back!$M$16:$N$20,2,0)","v":"#N/A"},{"$f":"+VLOOKUP('BASE DE RESPUESTAS'!AO14,Back!$M$16:$N$20,2,0)","v":"#N/A"},{"$f":"+VLOOKUP('BASE DE RESPUESTAS'!AP14,Back!$M$16:$N$20,2,0)","v":"#N/A"},{"$f":"+VLOOKUP('BASE DE RESPUESTAS'!AQ14,Back!$M$16:$N$20,2,0)","v":"#N/A"},{"$f":"+VLOOKUP('BASE DE RESPUESTAS'!AR14,Back!$M$16:$N$20,2,0)","v":"#N/A"},{"$f":"+VLOOKUP('BASE DE RESPUESTAS'!AS14,Back!$M$16:$N$20,2,0)","v":"#N/A"},{"$f":"+VLOOKUP('BASE DE RESPUESTAS'!AT14,Back!$M$16:$N$20,2,0)","v":"#N/A"},{"$f":"+VLOOKUP('BASE DE RESPUESTAS'!AU14,Back!$M$16:$N$20,2,0)","v":"#N/A"},{"$f":"+VLOOKUP('BASE DE RESPUESTAS'!AV14,Back!$M$16:$N$20,2,0)","v":"#N/A"},{"$f":"+VLOOKUP('BASE DE RESPUESTAS'!AW14,Back!$M$16:$N$20,2,0)","v":"#N/A"},{"$f":"+VLOOKUP('BASE DE RESPUESTAS'!AX14,Back!$M$16:$N$20,2,0)","v":"#N/A"},{"$f":"+VLOOKUP('BASE DE RESPUESTAS'!AY14,Back!$M$16:$N$20,2,0)","v":"#N/A"},{"$f":"+VLOOKUP('BASE DE RESPUESTAS'!AZ14,Back!$M$16:$N$20,2,0)","v":"#N/A"},{"$f":"+VLOOKUP('BASE DE RESPUESTAS'!BA14,Back!$M$16:$N$20,2,0)","v":"#N/A"},{"$f":"+VLOOKUP('BASE DE RESPUESTAS'!BB14,Back!$M$16:$N$20,2,0)","v":"#N/A"},{"$f":"+VLOOKUP('BASE DE RESPUESTAS'!BC14,Back!$M$16:$N$20,2,0)","v":"#N/A"},{"$f":"+VLOOKUP('BASE DE RESPUESTAS'!BD14,Back!$M$16:$N$20,2,0)","v":"#N/A"},{"$f":"+VLOOKUP('BASE DE RESPUESTAS'!BE14,Back!$M$16:$N$20,2,0)","v":"#N/A"}]
[null,null,null,"La o el estudiante nombra y diferencia las emociones de sus compañeras/os. ",9.0,"¿Cómo se sentiría tu amiga o amigo si alguien o toda la clase se burlaran de ella/el?",null,{"$f":"+VLOOKUP('BASE DE RESPUESTAS'!H15,Back!$M$16:$N$20,2,0)","v":"#N/A"},{"$f":"+VLOOKUP('BASE DE RESPUESTAS'!I15,Back!$M$16:$N$20,2,0)","v":"#N/A"},{"$f":"+VLOOKUP('BASE DE RESPUESTAS'!J15,Back!$M$16:$N$20,2,0)","v":"#N/A"},{"$f":"+VLOOKUP('BASE DE RESPUESTAS'!K15,Back!$M$16:$N$20,2,0)","v":"#N/A"},{"$f":"+VLOOKUP('BASE DE RESPUESTAS'!L15,Back!$M$16:$N$20,2,0)","v":"#N/A"},{"$f":"+VLOOKUP('BASE DE RESPUESTAS'!M15,Back!$M$16:$N$20,2,0)","v":"#N/A"},{"$f":"+VLOOKUP('BASE DE RESPUESTAS'!N15,Back!$M$16:$N$20,2,0)","v":"#N/A"},{"$f":"+VLOOKUP('BASE DE RESPUESTAS'!O15,Back!$M$16:$N$20,2,0)","v":"#N/A"},{"$f":"+VLOOKUP('BASE DE RESPUESTAS'!P15,Back!$M$16:$N$20,2,0)","v":"#N/A"},{"$f":"+VLOOKUP('BASE DE RESPUESTAS'!Q15,Back!$M$16:$N$20,2,0)","v":"#N/A"},{"$f":"+VLOOKUP('BASE DE RESPUESTAS'!R15,Back!$M$16:$N$20,2,0)","v":"#N/A"},{"$f":"+VLOOKUP('BASE DE RESPUESTAS'!S15,Back!$M$16:$N$20,2,0)","v":"#N/A"},{"$f":"+VLOOKUP('BASE DE RESPUESTAS'!T15,Back!$M$16:$N$20,2,0)","v":"#N/A"},{"$f":"+VLOOKUP('BASE DE RESPUESTAS'!U15,Back!$M$16:$N$20,2,0)","v":"#N/A"},{"$f":"+VLOOKUP('BASE DE RESPUESTAS'!V15,Back!$M$16:$N$20,2,0)","v":"#N/A"},{"$f":"+VLOOKUP('BASE DE RESPUESTAS'!W15,Back!$M$16:$N$20,2,0)","v":"#N/A"},{"$f":"+VLOOKUP('BASE DE RESPUESTAS'!X15,Back!$M$16:$N$20,2,0)","v":"#N/A"},{"$f":"+VLOOKUP('BASE DE RESPUESTAS'!Y15,Back!$M$16:$N$20,2,0)","v":"#N/A"},{"$f":"+VLOOKUP('BASE DE RESPUESTAS'!Z15,Back!$M$16:$N$20,2,0)","v":"#N/A"},{"$f":"+VLOOKUP('BASE DE RESPUESTAS'!AA15,Back!$M$16:$N$20,2,0)","v":"#N/A"},{"$f":"+VLOOKUP('BASE DE RESPUESTAS'!AB15,Back!$M$16:$N$20,2,0)","v":"#N/A"},{"$f":"+VLOOKUP('BASE DE RESPUESTAS'!AC15,Back!$M$16:$N$20,2,0)","v":"#N/A"},{"$f":"+VLOOKUP('BASE DE RESPUESTAS'!AD15,Back!$M$16:$N$20,2,0)","v":"#N/A"},{"$f":"+VLOOKUP('BASE DE RESPUESTAS'!AE15,Back!$M$16:$N$20,2,0)","v":"#N/A"},{"$f":"+VLOOKUP('BASE DE RESPUESTAS'!AF15,Back!$M$16:$N$20,2,0)","v":"#N/A"},{"$f":"+VLOOKUP('BASE DE RESPUESTAS'!AG15,Back!$M$16:$N$20,2,0)","v":"#N/A"},{"$f":"+VLOOKUP('BASE DE RESPUESTAS'!AH15,Back!$M$16:$N$20,2,0)","v":"#N/A"},{"$f":"+VLOOKUP('BASE DE RESPUESTAS'!AI15,Back!$M$16:$N$20,2,0)","v":"#N/A"},{"$f":"+VLOOKUP('BASE DE RESPUESTAS'!AJ15,Back!$M$16:$N$20,2,0)","v":"#N/A"},{"$f":"+VLOOKUP('BASE DE RESPUESTAS'!AK15,Back!$M$16:$N$20,2,0)","v":"#N/A"},{"$f":"+VLOOKUP('BASE DE RESPUESTAS'!AL15,Back!$M$16:$N$20,2,0)","v":"#N/A"},{"$f":"+VLOOKUP('BASE DE RESPUESTAS'!AM15,Back!$M$16:$N$20,2,0)","v":"#N/A"},{"$f":"+VLOOKUP('BASE DE RESPUESTAS'!AN15,Back!$M$16:$N$20,2,0)","v":"#N/A"},{"$f":"+VLOOKUP('BASE DE RESPUESTAS'!AO15,Back!$M$16:$N$20,2,0)","v":"#N/A"},{"$f":"+VLOOKUP('BASE DE RESPUESTAS'!AP15,Back!$M$16:$N$20,2,0)","v":"#N/A"},{"$f":"+VLOOKUP('BASE DE RESPUESTAS'!AQ15,Back!$M$16:$N$20,2,0)","v":"#N/A"},{"$f":"+VLOOKUP('BASE DE RESPUESTAS'!AR15,Back!$M$16:$N$20,2,0)","v":"#N/A"},{"$f":"+VLOOKUP('BASE DE RESPUESTAS'!AS15,Back!$M$16:$N$20,2,0)","v":"#N/A"},{"$f":"+VLOOKUP('BASE DE RESPUESTAS'!AT15,Back!$M$16:$N$20,2,0)","v":"#N/A"},{"$f":"+VLOOKUP('BASE DE RESPUESTAS'!AU15,Back!$M$16:$N$20,2,0)","v":"#N/A"},{"$f":"+VLOOKUP('BASE DE RESPUESTAS'!AV15,Back!$M$16:$N$20,2,0)","v":"#N/A"},{"$f":"+VLOOKUP('BASE DE RESPUESTAS'!AW15,Back!$M$16:$N$20,2,0)","v":"#N/A"},{"$f":"+VLOOKUP('BASE DE RESPUESTAS'!AX15,Back!$M$16:$N$20,2,0)","v":"#N/A"},{"$f":"+VLOOKUP('BASE DE RESPUESTAS'!AY15,Back!$M$16:$N$20,2,0)","v":"#N/A"},{"$f":"+VLOOKUP('BASE DE RESPUESTAS'!AZ15,Back!$M$16:$N$20,2,0)","v":"#N/A"},{"$f":"+VLOOKUP('BASE DE RESPUESTAS'!BA15,Back!$M$16:$N$20,2,0)","v":"#N/A"},{"$f":"+VLOOKUP('BASE DE RESPUESTAS'!BB15,Back!$M$16:$N$20,2,0)","v":"#N/A"},{"$f":"+VLOOKUP('BASE DE RESPUESTAS'!BC15,Back!$M$16:$N$20,2,0)","v":"#N/A"},{"$f":"+VLOOKUP('BASE DE RESPUESTAS'!BD15,Back!$M$16:$N$20,2,0)","v":"#N/A"},{"$f":"+VLOOKUP('BASE DE RESPUESTAS'!BE15,Back!$M$16:$N$20,2,0)","v":"#N/A"}]
[null,null,null,null,10.0,"¿Cómo se sentiría tu amiga o amigo si le hacen una fiesta sorpresa por su cumpleaños?",null,{"$f":"+VLOOKUP('BASE DE RESPUESTAS'!H16,Back!$M$16:$N$20,2,0)","v":"#N/A"},{"$f":"+VLOOKUP('BASE DE RESPUESTAS'!I16,Back!$M$16:$N$20,2,0)","v":"#N/A"},{"$f":"+VLOOKUP('BASE DE RESPUESTAS'!J16,Back!$M$16:$N$20,2,0)","v":"#N/A"},{"$f":"+VLOOKUP('BASE DE RESPUESTAS'!K16,Back!$M$16:$N$20,2,0)","v":"#N/A"},{"$f":"+VLOOKUP('BASE DE RESPUESTAS'!L16,Back!$M$16:$N$20,2,0)","v":"#N/A"},{"$f":"+VLOOKUP('BASE DE RESPUESTAS'!M16,Back!$M$16:$N$20,2,0)","v":"#N/A"},{"$f":"+VLOOKUP('BASE DE RESPUESTAS'!N16,Back!$M$16:$N$20,2,0)","v":"#N/A"},{"$f":"+VLOOKUP('BASE DE RESPUESTAS'!O16,Back!$M$16:$N$20,2,0)","v":"#N/A"},{"$f":"+VLOOKUP('BASE DE RESPUESTAS'!P16,Back!$M$16:$N$20,2,0)","v":"#N/A"},{"$f":"+VLOOKUP('BASE DE RESPUESTAS'!Q16,Back!$M$16:$N$20,2,0)","v":"#N/A"},{"$f":"+VLOOKUP('BASE DE RESPUESTAS'!R16,Back!$M$16:$N$20,2,0)","v":"#N/A"},{"$f":"+VLOOKUP('BASE DE RESPUESTAS'!S16,Back!$M$16:$N$20,2,0)","v":"#N/A"},{"$f":"+VLOOKUP('BASE DE RESPUESTAS'!T16,Back!$M$16:$N$20,2,0)","v":"#N/A"},{"$f":"+VLOOKUP('BASE DE RESPUESTAS'!U16,Back!$M$16:$N$20,2,0)","v":"#N/A"},{"$f":"+VLOOKUP('BASE DE RESPUESTAS'!V16,Back!$M$16:$N$20,2,0)","v":"#N/A"},{"$f":"+VLOOKUP('BASE DE RESPUESTAS'!W16,Back!$M$16:$N$20,2,0)","v":"#N/A"},{"$f":"+VLOOKUP('BASE DE RESPUESTAS'!X16,Back!$M$16:$N$20,2,0)","v":"#N/A"},{"$f":"+VLOOKUP('BASE DE RESPUESTAS'!Y16,Back!$M$16:$N$20,2,0)","v":"#N/A"},{"$f":"+VLOOKUP('BASE DE RESPUESTAS'!Z16,Back!$M$16:$N$20,2,0)","v":"#N/A"},{"$f":"+VLOOKUP('BASE DE RESPUESTAS'!AA16,Back!$M$16:$N$20,2,0)","v":"#N/A"},{"$f":"+VLOOKUP('BASE DE RESPUESTAS'!AB16,Back!$M$16:$N$20,2,0)","v":"#N/A"},{"$f":"+VLOOKUP('BASE DE RESPUESTAS'!AC16,Back!$M$16:$N$20,2,0)","v":"#N/A"},{"$f":"+VLOOKUP('BASE DE RESPUESTAS'!AD16,Back!$M$16:$N$20,2,0)","v":"#N/A"},{"$f":"+VLOOKUP('BASE DE RESPUESTAS'!AE16,Back!$M$16:$N$20,2,0)","v":"#N/A"},{"$f":"+VLOOKUP('BASE DE RESPUESTAS'!AF16,Back!$M$16:$N$20,2,0)","v":"#N/A"},{"$f":"+VLOOKUP('BASE DE RESPUESTAS'!AG16,Back!$M$16:$N$20,2,0)","v":"#N/A"},{"$f":"+VLOOKUP('BASE DE RESPUESTAS'!AH16,Back!$M$16:$N$20,2,0)","v":"#N/A"},{"$f":"+VLOOKUP('BASE DE RESPUESTAS'!AI16,Back!$M$16:$N$20,2,0)","v":"#N/A"},{"$f":"+VLOOKUP('BASE DE RESPUESTAS'!AJ16,Back!$M$16:$N$20,2,0)","v":"#N/A"},{"$f":"+VLOOKUP('BASE DE RESPUESTAS'!AK16,Back!$M$16:$N$20,2,0)","v":"#N/A"},{"$f":"+VLOOKUP('BASE DE RESPUESTAS'!AL16,Back!$M$16:$N$20,2,0)","v":"#N/A"},{"$f":"+VLOOKUP('BASE DE RESPUESTAS'!AM16,Back!$M$16:$N$20,2,0)","v":"#N/A"},{"$f":"+VLOOKUP('BASE DE RESPUESTAS'!AN16,Back!$M$16:$N$20,2,0)","v":"#N/A"},{"$f":"+VLOOKUP('BASE DE RESPUESTAS'!AO16,Back!$M$16:$N$20,2,0)","v":"#N/A"},{"$f":"+VLOOKUP('BASE DE RESPUESTAS'!AP16,Back!$M$16:$N$20,2,0)","v":"#N/A"},{"$f":"+VLOOKUP('BASE DE RESPUESTAS'!AQ16,Back!$M$16:$N$20,2,0)","v":"#N/A"},{"$f":"+VLOOKUP('BASE DE RESPUESTAS'!AR16,Back!$M$16:$N$20,2,0)","v":"#N/A"},{"$f":"+VLOOKUP('BASE DE RESPUESTAS'!AS16,Back!$M$16:$N$20,2,0)","v":"#N/A"},{"$f":"+VLOOKUP('BASE DE RESPUESTAS'!AT16,Back!$M$16:$N$20,2,0)","v":"#N/A"},{"$f":"+VLOOKUP('BASE DE RESPUESTAS'!AU16,Back!$M$16:$N$20,2,0)","v":"#N/A"},{"$f":"+VLOOKUP('BASE DE RESPUESTAS'!AV16,Back!$M$16:$N$20,2,0)","v":"#N/A"},{"$f":"+VLOOKUP('BASE DE RESPUESTAS'!AW16,Back!$M$16:$N$20,2,0)","v":"#N/A"},{"$f":"+VLOOKUP('BASE DE RESPUESTAS'!AX16,Back!$M$16:$N$20,2,0)","v":"#N/A"},{"$f":"+VLOOKUP('BASE DE RESPUESTAS'!AY16,Back!$M$16:$N$20,2,0)","v":"#N/A"},{"$f":"+VLOOKUP('BASE DE RESPUESTAS'!AZ16,Back!$M$16:$N$20,2,0)","v":"#N/A"},{"$f":"+VLOOKUP('BASE DE RESPUESTAS'!BA16,Back!$M$16:$N$20,2,0)","v":"#N/A"},{"$f":"+VLOOKUP('BASE DE RESPUESTAS'!BB16,Back!$M$16:$N$20,2,0)","v":"#N/A"},{"$f":"+VLOOKUP('BASE DE RESPUESTAS'!BC16,Back!$M$16:$N$20,2,0)","v":"#N/A"},{"$f":"+VLOOKUP('BASE DE RESPUESTAS'!BD16,Back!$M$16:$N$20,2,0)","v":"#N/A"},{"$f":"+VLOOKUP('BASE DE RESPUESTAS'!BE16,Back!$M$16:$N$20,2,0)","v":"#N/A"}]
[null,"HSE","Autocuidado","La o el estudiante reacciona ante situaciones peligrosas.",11.0,"¿Qué harías si ves un incendio?",null,{"$f":"+VLOOKUP('BASE DE RESPUESTAS'!H17,Back!$M$16:$N$20,2,0)","v":"#N/A"},{"$f":"+VLOOKUP('BASE DE RESPUESTAS'!I17,Back!$M$16:$N$20,2,0)","v":"#N/A"},{"$f":"+VLOOKUP('BASE DE RESPUESTAS'!J17,Back!$M$16:$N$20,2,0)","v":"#N/A"},{"$f":"+VLOOKUP('BASE DE RESPUESTAS'!K17,Back!$M$16:$N$20,2,0)","v":"#N/A"},{"$f":"+VLOOKUP('BASE DE RESPUESTAS'!L17,Back!$M$16:$N$20,2,0)","v":"#N/A"},{"$f":"+VLOOKUP('BASE DE RESPUESTAS'!M17,Back!$M$16:$N$20,2,0)","v":"#N/A"},{"$f":"+VLOOKUP('BASE DE RESPUESTAS'!N17,Back!$M$16:$N$20,2,0)","v":"#N/A"},{"$f":"+VLOOKUP('BASE DE RESPUESTAS'!O17,Back!$M$16:$N$20,2,0)","v":"#N/A"},{"$f":"+VLOOKUP('BASE DE RESPUESTAS'!P17,Back!$M$16:$N$20,2,0)","v":"#N/A"},{"$f":"+VLOOKUP('BASE DE RESPUESTAS'!Q17,Back!$M$16:$N$20,2,0)","v":"#N/A"},{"$f":"+VLOOKUP('BASE DE RESPUESTAS'!R17,Back!$M$16:$N$20,2,0)","v":"#N/A"},{"$f":"+VLOOKUP('BASE DE RESPUESTAS'!S17,Back!$M$16:$N$20,2,0)","v":"#N/A"},{"$f":"+VLOOKUP('BASE DE RESPUESTAS'!T17,Back!$M$16:$N$20,2,0)","v":"#N/A"},{"$f":"+VLOOKUP('BASE DE RESPUESTAS'!U17,Back!$M$16:$N$20,2,0)","v":"#N/A"},{"$f":"+VLOOKUP('BASE DE RESPUESTAS'!V17,Back!$M$16:$N$20,2,0)","v":"#N/A"},{"$f":"+VLOOKUP('BASE DE RESPUESTAS'!W17,Back!$M$16:$N$20,2,0)","v":"#N/A"},{"$f":"+VLOOKUP('BASE DE RESPUESTAS'!X17,Back!$M$16:$N$20,2,0)","v":"#N/A"},{"$f":"+VLOOKUP('BASE DE RESPUESTAS'!Y17,Back!$M$16:$N$20,2,0)","v":"#N/A"},{"$f":"+VLOOKUP('BASE DE RESPUESTAS'!Z17,Back!$M$16:$N$20,2,0)","v":"#N/A"},{"$f":"+VLOOKUP('BASE DE RESPUESTAS'!AA17,Back!$M$16:$N$20,2,0)","v":"#N/A"},{"$f":"+VLOOKUP('BASE DE RESPUESTAS'!AB17,Back!$M$16:$N$20,2,0)","v":"#N/A"},{"$f":"+VLOOKUP('BASE DE RESPUESTAS'!AC17,Back!$M$16:$N$20,2,0)","v":"#N/A"},{"$f":"+VLOOKUP('BASE DE RESPUESTAS'!AD17,Back!$M$16:$N$20,2,0)","v":"#N/A"},{"$f":"+VLOOKUP('BASE DE RESPUESTAS'!AE17,Back!$M$16:$N$20,2,0)","v":"#N/A"},{"$f":"+VLOOKUP('BASE DE RESPUESTAS'!AF17,Back!$M$16:$N$20,2,0)","v":"#N/A"},{"$f":"+VLOOKUP('BASE DE RESPUESTAS'!AG17,Back!$M$16:$N$20,2,0)","v":"#N/A"},{"$f":"+VLOOKUP('BASE DE RESPUESTAS'!AH17,Back!$M$16:$N$20,2,0)","v":"#N/A"},{"$f":"+VLOOKUP('BASE DE RESPUESTAS'!AI17,Back!$M$16:$N$20,2,0)","v":"#N/A"},{"$f":"+VLOOKUP('BASE DE RESPUESTAS'!AJ17,Back!$M$16:$N$20,2,0)","v":"#N/A"},{"$f":"+VLOOKUP('BASE DE RESPUESTAS'!AK17,Back!$M$16:$N$20,2,0)","v":"#N/A"},{"$f":"+VLOOKUP('BASE DE RESPUESTAS'!AL17,Back!$M$16:$N$20,2,0)","v":"#N/A"},{"$f":"+VLOOKUP('BASE DE RESPUESTAS'!AM17,Back!$M$16:$N$20,2,0)","v":"#N/A"},{"$f":"+VLOOKUP('BASE DE RESPUESTAS'!AN17,Back!$M$16:$N$20,2,0)","v":"#N/A"},{"$f":"+VLOOKUP('BASE DE RESPUESTAS'!AO17,Back!$M$16:$N$20,2,0)","v":"#N/A"},{"$f":"+VLOOKUP('BASE DE RESPUESTAS'!AP17,Back!$M$16:$N$20,2,0)","v":"#N/A"},{"$f":"+VLOOKUP('BASE DE RESPUESTAS'!AQ17,Back!$M$16:$N$20,2,0)","v":"#N/A"},{"$f":"+VLOOKUP('BASE DE RESPUESTAS'!AR17,Back!$M$16:$N$20,2,0)","v":"#N/A"},{"$f":"+VLOOKUP('BASE DE RESPUESTAS'!AS17,Back!$M$16:$N$20,2,0)","v":"#N/A"},{"$f":"+VLOOKUP('BASE DE RESPUESTAS'!AT17,Back!$M$16:$N$20,2,0)","v":"#N/A"},{"$f":"+VLOOKUP('BASE DE RESPUESTAS'!AU17,Back!$M$16:$N$20,2,0)","v":"#N/A"},{"$f":"+VLOOKUP('BASE DE RESPUESTAS'!AV17,Back!$M$16:$N$20,2,0)","v":"#N/A"},{"$f":"+VLOOKUP('BASE DE RESPUESTAS'!AW17,Back!$M$16:$N$20,2,0)","v":"#N/A"},{"$f":"+VLOOKUP('BASE DE RESPUESTAS'!AX17,Back!$M$16:$N$20,2,0)","v":"#N/A"},{"$f":"+VLOOKUP('BASE DE RESPUESTAS'!AY17,Back!$M$16:$N$20,2,0)","v":"#N/A"},{"$f":"+VLOOKUP('BASE DE RESPUESTAS'!AZ17,Back!$M$16:$N$20,2,0)","v":"#N/A"},{"$f":"+VLOOKUP('BASE DE RESPUESTAS'!BA17,Back!$M$16:$N$20,2,0)","v":"#N/A"},{"$f":"+VLOOKUP('BASE DE RESPUESTAS'!BB17,Back!$M$16:$N$20,2,0)","v":"#N/A"},{"$f":"+VLOOKUP('BASE DE RESPUESTAS'!BC17,Back!$M$16:$N$20,2,0)","v":"#N/A"},{"$f":"+VLOOKUP('BASE DE RESPUESTAS'!BD17,Back!$M$16:$N$20,2,0)","v":"#N/A"},{"$f":"+VLOOKUP('BASE DE RESPUESTAS'!BE17,Back!$M$16:$N$20,2,0)","v":"#N/A"}]
[null,null,null,"La o el estudiante practica hábitos de higiene personal de manera autónoma.",12.0,"Luego de jugar por mucho tiempo con tus compañeros, ¿qué sueles hacer al llegar a casa?",null,{"$f":"+VLOOKUP('BASE DE RESPUESTAS'!H18,Back!$M$16:$N$20,2,0)","v":"#N/A"},{"$f":"+VLOOKUP('BASE DE RESPUESTAS'!I18,Back!$M$16:$N$20,2,0)","v":"#N/A"},{"$f":"+VLOOKUP('BASE DE RESPUESTAS'!J18,Back!$M$16:$N$20,2,0)","v":"#N/A"},{"$f":"+VLOOKUP('BASE DE RESPUESTAS'!K18,Back!$M$16:$N$20,2,0)","v":"#N/A"},{"$f":"+VLOOKUP('BASE DE RESPUESTAS'!L18,Back!$M$16:$N$20,2,0)","v":"#N/A"},{"$f":"+VLOOKUP('BASE DE RESPUESTAS'!M18,Back!$M$16:$N$20,2,0)","v":"#N/A"},{"$f":"+VLOOKUP('BASE DE RESPUESTAS'!N18,Back!$M$16:$N$20,2,0)","v":"#N/A"},{"$f":"+VLOOKUP('BASE DE RESPUESTAS'!O18,Back!$M$16:$N$20,2,0)","v":"#N/A"},{"$f":"+VLOOKUP('BASE DE RESPUESTAS'!P18,Back!$M$16:$N$20,2,0)","v":"#N/A"},{"$f":"+VLOOKUP('BASE DE RESPUESTAS'!Q18,Back!$M$16:$N$20,2,0)","v":"#N/A"},{"$f":"+VLOOKUP('BASE DE RESPUESTAS'!R18,Back!$M$16:$N$20,2,0)","v":"#N/A"},{"$f":"+VLOOKUP('BASE DE RESPUESTAS'!S18,Back!$M$16:$N$20,2,0)","v":"#N/A"},{"$f":"+VLOOKUP('BASE DE RESPUESTAS'!T18,Back!$M$16:$N$20,2,0)","v":"#N/A"},{"$f":"+VLOOKUP('BASE DE RESPUESTAS'!U18,Back!$M$16:$N$20,2,0)","v":"#N/A"},{"$f":"+VLOOKUP('BASE DE RESPUESTAS'!V18,Back!$M$16:$N$20,2,0)","v":"#N/A"},{"$f":"+VLOOKUP('BASE DE RESPUESTAS'!W18,Back!$M$16:$N$20,2,0)","v":"#N/A"},{"$f":"+VLOOKUP('BASE DE RESPUESTAS'!X18,Back!$M$16:$N$20,2,0)","v":"#N/A"},{"$f":"+VLOOKUP('BASE DE RESPUESTAS'!Y18,Back!$M$16:$N$20,2,0)","v":"#N/A"},{"$f":"+VLOOKUP('BASE DE RESPUESTAS'!Z18,Back!$M$16:$N$20,2,0)","v":"#N/A"},{"$f":"+VLOOKUP('BASE DE RESPUESTAS'!AA18,Back!$M$16:$N$20,2,0)","v":"#N/A"},{"$f":"+VLOOKUP('BASE DE RESPUESTAS'!AB18,Back!$M$16:$N$20,2,0)","v":"#N/A"},{"$f":"+VLOOKUP('BASE DE RESPUESTAS'!AC18,Back!$M$16:$N$20,2,0)","v":"#N/A"},{"$f":"+VLOOKUP('BASE DE RESPUESTAS'!AD18,Back!$M$16:$N$20,2,0)","v":"#N/A"},{"$f":"+VLOOKUP('BASE DE RESPUESTAS'!AE18,Back!$M$16:$N$20,2,0)","v":"#N/A"},{"$f":"+VLOOKUP('BASE DE RESPUESTAS'!AF18,Back!$M$16:$N$20,2,0)","v":"#N/A"},{"$f":"+VLOOKUP('BASE DE RESPUESTAS'!AG18,Back!$M$16:$N$20,2,0)","v":"#N/A"},{"$f":"+VLOOKUP('BASE DE RESPUESTAS'!AH18,Back!$M$16:$N$20,2,0)","v":"#N/A"},{"$f":"+VLOOKUP('BASE DE RESPUESTAS'!AI18,Back!$M$16:$N$20,2,0)","v":"#N/A"},{"$f":"+VLOOKUP('BASE DE RESPUESTAS'!AJ18,Back!$M$16:$N$20,2,0)","v":"#N/A"},{"$f":"+VLOOKUP('BASE DE RESPUESTAS'!AK18,Back!$M$16:$N$20,2,0)","v":"#N/A"},{"$f":"+VLOOKUP('BASE DE RESPUESTAS'!AL18,Back!$M$16:$N$20,2,0)","v":"#N/A"},{"$f":"+VLOOKUP('BASE DE RESPUESTAS'!AM18,Back!$M$16:$N$20,2,0)","v":"#N/A"},{"$f":"+VLOOKUP('BASE DE RESPUESTAS'!AN18,Back!$M$16:$N$20,2,0)","v":"#N/A"},{"$f":"+VLOOKUP('BASE DE RESPUESTAS'!AO18,Back!$M$16:$N$20,2,0)","v":"#N/A"},{"$f":"+VLOOKUP('BASE DE RESPUESTAS'!AP18,Back!$M$16:$N$20,2,0)","v":"#N/A"},{"$f":"+VLOOKUP('BASE DE RESPUESTAS'!AQ18,Back!$M$16:$N$20,2,0)","v":"#N/A"},{"$f":"+VLOOKUP('BASE DE RESPUESTAS'!AR18,Back!$M$16:$N$20,2,0)","v":"#N/A"},{"$f":"+VLOOKUP('BASE DE RESPUESTAS'!AS18,Back!$M$16:$N$20,2,0)","v":"#N/A"},{"$f":"+VLOOKUP('BASE DE RESPUESTAS'!AT18,Back!$M$16:$N$20,2,0)","v":"#N/A"},{"$f":"+VLOOKUP('BASE DE RESPUESTAS'!AU18,Back!$M$16:$N$20,2,0)","v":"#N/A"},{"$f":"+VLOOKUP('BASE DE RESPUESTAS'!AV18,Back!$M$16:$N$20,2,0)","v":"#N/A"},{"$f":"+VLOOKUP('BASE DE RESPUESTAS'!AW18,Back!$M$16:$N$20,2,0)","v":"#N/A"},{"$f":"+VLOOKUP('BASE DE RESPUESTAS'!AX18,Back!$M$16:$N$20,2,0)","v":"#N/A"},{"$f":"+VLOOKUP('BASE DE RESPUESTAS'!AY18,Back!$M$16:$N$20,2,0)","v":"#N/A"},{"$f":"+VLOOKUP('BASE DE RESPUESTAS'!AZ18,Back!$M$16:$N$20,2,0)","v":"#N/A"},{"$f":"+VLOOKUP('BASE DE RESPUESTAS'!BA18,Back!$M$16:$N$20,2,0)","v":"#N/A"},{"$f":"+VLOOKUP('BASE DE RESPUESTAS'!BB18,Back!$M$16:$N$20,2,0)","v":"#N/A"},{"$f":"+VLOOKUP('BASE DE RESPUESTAS'!BC18,Back!$M$16:$N$20,2,0)","v":"#N/A"},{"$f":"+VLOOKUP('BASE DE RESPUESTAS'!BD18,Back!$M$16:$N$20,2,0)","v":"#N/A"},{"$f":"+VLOOKUP('BASE DE RESPUESTAS'!BE18,Back!$M$16:$N$20,2,0)","v":"#N/A"}]
[null,null,null,"La o el estudiante expresa cuando algo le incomoda o se siente en peligro y acude a una persona de confianza.",13.0,"En el colegio, a cada rato, un compañero te hace “bromas” a cada rato y te sientes incómoda/o, ¿Qué harías?",null,{"$f":"+VLOOKUP('BASE DE RESPUESTAS'!H19,Back!$M$16:$N$20,2,0)","v":"#N/A"},{"$f":"+VLOOKUP('BASE DE RESPUESTAS'!I19,Back!$M$16:$N$20,2,0)","v":"#N/A"},{"$f":"+VLOOKUP('BASE DE RESPUESTAS'!J19,Back!$M$16:$N$20,2,0)","v":"#N/A"},{"$f":"+VLOOKUP('BASE DE RESPUESTAS'!K19,Back!$M$16:$N$20,2,0)","v":"#N/A"},{"$f":"+VLOOKUP('BASE DE RESPUESTAS'!L19,Back!$M$16:$N$20,2,0)","v":"#N/A"},{"$f":"+VLOOKUP('BASE DE RESPUESTAS'!M19,Back!$M$16:$N$20,2,0)","v":"#N/A"},{"$f":"+VLOOKUP('BASE DE RESPUESTAS'!N19,Back!$M$16:$N$20,2,0)","v":"#N/A"},{"$f":"+VLOOKUP('BASE DE RESPUESTAS'!O19,Back!$M$16:$N$20,2,0)","v":"#N/A"},{"$f":"+VLOOKUP('BASE DE RESPUESTAS'!P19,Back!$M$16:$N$20,2,0)","v":"#N/A"},{"$f":"+VLOOKUP('BASE DE RESPUESTAS'!Q19,Back!$M$16:$N$20,2,0)","v":"#N/A"},{"$f":"+VLOOKUP('BASE DE RESPUESTAS'!R19,Back!$M$16:$N$20,2,0)","v":"#N/A"},{"$f":"+VLOOKUP('BASE DE RESPUESTAS'!S19,Back!$M$16:$N$20,2,0)","v":"#N/A"},{"$f":"+VLOOKUP('BASE DE RESPUESTAS'!T19,Back!$M$16:$N$20,2,0)","v":"#N/A"},{"$f":"+VLOOKUP('BASE DE RESPUESTAS'!U19,Back!$M$16:$N$20,2,0)","v":"#N/A"},{"$f":"+VLOOKUP('BASE DE RESPUESTAS'!V19,Back!$M$16:$N$20,2,0)","v":"#N/A"},{"$f":"+VLOOKUP('BASE DE RESPUESTAS'!W19,Back!$M$16:$N$20,2,0)","v":"#N/A"},{"$f":"+VLOOKUP('BASE DE RESPUESTAS'!X19,Back!$M$16:$N$20,2,0)","v":"#N/A"},{"$f":"+VLOOKUP('BASE DE RESPUESTAS'!Y19,Back!$M$16:$N$20,2,0)","v":"#N/A"},{"$f":"+VLOOKUP('BASE DE RESPUESTAS'!Z19,Back!$M$16:$N$20,2,0)","v":"#N/A"},{"$f":"+VLOOKUP('BASE DE RESPUESTAS'!AA19,Back!$M$16:$N$20,2,0)","v":"#N/A"},{"$f":"+VLOOKUP('BASE DE RESPUESTAS'!AB19,Back!$M$16:$N$20,2,0)","v":"#N/A"},{"$f":"+VLOOKUP('BASE DE RESPUESTAS'!AC19,Back!$M$16:$N$20,2,0)","v":"#N/A"},{"$f":"+VLOOKUP('BASE DE RESPUESTAS'!AD19,Back!$M$16:$N$20,2,0)","v":"#N/A"},{"$f":"+VLOOKUP('BASE DE RESPUESTAS'!AE19,Back!$M$16:$N$20,2,0)","v":"#N/A"},{"$f":"+VLOOKUP('BASE DE RESPUESTAS'!AF19,Back!$M$16:$N$20,2,0)","v":"#N/A"},{"$f":"+VLOOKUP('BASE DE RESPUESTAS'!AG19,Back!$M$16:$N$20,2,0)","v":"#N/A"},{"$f":"+VLOOKUP('BASE DE RESPUESTAS'!AH19,Back!$M$16:$N$20,2,0)","v":"#N/A"},{"$f":"+VLOOKUP('BASE DE RESPUESTAS'!AI19,Back!$M$16:$N$20,2,0)","v":"#N/A"},{"$f":"+VLOOKUP('BASE DE RESPUESTAS'!AJ19,Back!$M$16:$N$20,2,0)","v":"#N/A"},{"$f":"+VLOOKUP('BASE DE RESPUESTAS'!AK19,Back!$M$16:$N$20,2,0)","v":"#N/A"},{"$f":"+VLOOKUP('BASE DE RESPUESTAS'!AL19,Back!$M$16:$N$20,2,0)","v":"#N/A"},{"$f":"+VLOOKUP('BASE DE RESPUESTAS'!AM19,Back!$M$16:$N$20,2,0)","v":"#N/A"},{"$f":"+VLOOKUP('BASE DE RESPUESTAS'!AN19,Back!$M$16:$N$20,2,0)","v":"#N/A"},{"$f":"+VLOOKUP('BASE DE RESPUESTAS'!AO19,Back!$M$16:$N$20,2,0)","v":"#N/A"},{"$f":"+VLOOKUP('BASE DE RESPUESTAS'!AP19,Back!$M$16:$N$20,2,0)","v":"#N/A"},{"$f":"+VLOOKUP('BASE DE RESPUESTAS'!AQ19,Back!$M$16:$N$20,2,0)","v":"#N/A"},{"$f":"+VLOOKUP('BASE DE RESPUESTAS'!AR19,Back!$M$16:$N$20,2,0)","v":"#N/A"},{"$f":"+VLOOKUP('BASE DE RESPUESTAS'!AS19,Back!$M$16:$N$20,2,0)","v":"#N/A"},{"$f":"+VLOOKUP('BASE DE RESPUESTAS'!AT19,Back!$M$16:$N$20,2,0)","v":"#N/A"},{"$f":"+VLOOKUP('BASE DE RESPUESTAS'!AU19,Back!$M$16:$N$20,2,0)","v":"#N/A"},{"$f":"+VLOOKUP('BASE DE RESPUESTAS'!AV19,Back!$M$16:$N$20,2,0)","v":"#N/A"},{"$f":"+VLOOKUP('BASE DE RESPUESTAS'!AW19,Back!$M$16:$N$20,2,0)","v":"#N/A"},{"$f":"+VLOOKUP('BASE DE RESPUESTAS'!AX19,Back!$M$16:$N$20,2,0)","v":"#N/A"},{"$f":"+VLOOKUP('BASE DE RESPUESTAS'!AY19,Back!$M$16:$N$20,2,0)","v":"#N/A"},{"$f":"+VLOOKUP('BASE DE RESPUESTAS'!AZ19,Back!$M$16:$N$20,2,0)","v":"#N/A"},{"$f":"+VLOOKUP('BASE DE RESPUESTAS'!BA19,Back!$M$16:$N$20,2,0)","v":"#N/A"},{"$f":"+VLOOKUP('BASE DE RESPUESTAS'!BB19,Back!$M$16:$N$20,2,0)","v":"#N/A"},{"$f":"+VLOOKUP('BASE DE RESPUESTAS'!BC19,Back!$M$16:$N$20,2,0)","v":"#N/A"},{"$f":"+VLOOKUP('BASE DE RESPUESTAS'!BD19,Back!$M$16:$N$20,2,0)","v":"#N/A"},{"$f":"+VLOOKUP('BASE DE RESPUESTAS'!BE19,Back!$M$16:$N$20,2,0)","v":"#N/A"}]
[]
[null,"Dimensión","Escala","Indicador","Número","Preguntas"]
[null,null,null,null,null,null,null,"Responder Si/No","Responder Si/No","Responder Si/No","Responder Si/No","Responder Si/No","Responder Si/No","Responder Si/No","Responder Si/No","Responder Si/No","Responder Si/No","Responder Si/No","Responder Si/No","Responder Si/No","Responder Si/No","Responder Si/No","Responder Si/No","Responder Si/No","Responder Si/No","Responder Si/No","Responder Si/No","Responder Si/No","Responder Si/No","Responder Si/No","Responder Si/No","Responder Si/No","Responder Si/No","Responder Si/No","Responder Si/No","Responder Si/No","Responder Si/No","Responder Si/No","Responder Si/No","Responder Si/No","Responder Si/No","Responder Si/No","Responder Si/No","Responder Si/No","Responder Si/No","Responder Si/No","Responder Si/No","Responder Si/No","Responder Si/No","Responder Si/No","Responder Si/No","Responder Si/No","Responder Si/No","Responder Si/No","Responder Si/No","Responder Si/No","Responder Si/No"]
[null,"HSE","Regulación emocional","La o el estudiante  es capaz de mantener la calma ante situaciones de conflicto o estrés, con una mínima guía de la persona adulta. ",1.0,"Es capaz de tomarse un tiempo antes de reaccionar de manera impulsiva frente a una situación que le resulta difícil.",null,{"$f":"+VLOOKUP('BASE DE RESPUESTAS'!H23,Back!$M$16:$N$20,2,0)","v":"#N/A"},{"$f":"+VLOOKUP('BASE DE RESPUESTAS'!I23,Back!$M$16:$N$20,2,0)","v":"#N/A"},{"$f":"+VLOOKUP('BASE DE RESPUESTAS'!J23,Back!$M$16:$N$20,2,0)","v":"#N/A"},{"$f":"+VLOOKUP('BASE DE RESPUESTAS'!K23,Back!$M$16:$N$20,2,0)","v":"#N/A"},{"$f":"+VLOOKUP('BASE DE RESPUESTAS'!L23,Back!$M$16:$N$20,2,0)","v":"#N/A"},{"$f":"+VLOOKUP('BASE DE RESPUESTAS'!M23,Back!$M$16:$N$20,2,0)","v":"#N/A"},{"$f":"+VLOOKUP('BASE DE RESPUESTAS'!N23,Back!$M$16:$N$20,2,0)","v":"#N/A"},{"$f":"+VLOOKUP('BASE DE RESPUESTAS'!O23,Back!$M$16:$N$20,2,0)","v":"#N/A"},{"$f":"+VLOOKUP('BASE DE RESPUESTAS'!P23,Back!$M$16:$N$20,2,0)","v":"#N/A"},{"$f":"+VLOOKUP('BASE DE RESPUESTAS'!Q23,Back!$M$16:$N$20,2,0)","v":"#N/A"},{"$f":"+VLOOKUP('BASE DE RESPUESTAS'!R23,Back!$M$16:$N$20,2,0)","v":"#N/A"},{"$f":"+VLOOKUP('BASE DE RESPUESTAS'!S23,Back!$M$16:$N$20,2,0)","v":"#N/A"},{"$f":"+VLOOKUP('BASE DE RESPUESTAS'!T23,Back!$M$16:$N$20,2,0)","v":"#N/A"},{"$f":"+VLOOKUP('BASE DE RESPUESTAS'!U23,Back!$M$16:$N$20,2,0)","v":"#N/A"},{"$f":"+VLOOKUP('BASE DE RESPUESTAS'!V23,Back!$M$16:$N$20,2,0)","v":"#N/A"},{"$f":"+VLOOKUP('BASE DE RESPUESTAS'!W23,Back!$M$16:$N$20,2,0)","v":"#N/A"},{"$f":"+VLOOKUP('BASE DE RESPUESTAS'!X23,Back!$M$16:$N$20,2,0)","v":"#N/A"},{"$f":"+VLOOKUP('BASE DE RESPUESTAS'!Y23,Back!$M$16:$N$20,2,0)","v":"#N/A"},{"$f":"+VLOOKUP('BASE DE RESPUESTAS'!Z23,Back!$M$16:$N$20,2,0)","v":"#N/A"},{"$f":"+VLOOKUP('BASE DE RESPUESTAS'!AA23,Back!$M$16:$N$20,2,0)","v":"#N/A"},{"$f":"+VLOOKUP('BASE DE RESPUESTAS'!AB23,Back!$M$16:$N$20,2,0)","v":"#N/A"},{"$f":"+VLOOKUP('BASE DE RESPUESTAS'!AC23,Back!$M$16:$N$20,2,0)","v":"#N/A"},{"$f":"+VLOOKUP('BASE DE RESPUESTAS'!AD23,Back!$M$16:$N$20,2,0)","v":"#N/A"},{"$f":"+VLOOKUP('BASE DE RESPUESTAS'!AE23,Back!$M$16:$N$20,2,0)","v":"#N/A"},{"$f":"+VLOOKUP('BASE DE RESPUESTAS'!AF23,Back!$M$16:$N$20,2,0)","v":"#N/A"},{"$f":"+VLOOKUP('BASE DE RESPUESTAS'!AG23,Back!$M$16:$N$20,2,0)","v":"#N/A"},{"$f":"+VLOOKUP('BASE DE RESPUESTAS'!AH23,Back!$M$16:$N$20,2,0)","v":"#N/A"},{"$f":"+VLOOKUP('BASE DE RESPUESTAS'!AI23,Back!$M$16:$N$20,2,0)","v":"#N/A"},{"$f":"+VLOOKUP('BASE DE RESPUESTAS'!AJ23,Back!$M$16:$N$20,2,0)","v":"#N/A"},{"$f":"+VLOOKUP('BASE DE RESPUESTAS'!AK23,Back!$M$16:$N$20,2,0)","v":"#N/A"},{"$f":"+VLOOKUP('BASE DE RESPUESTAS'!AL23,Back!$M$16:$N$20,2,0)","v":"#N/A"},{"$f":"+VLOOKUP('BASE DE RESPUESTAS'!AM23,Back!$M$16:$N$20,2,0)","v":"#N/A"},{"$f":"+VLOOKUP('BASE DE RESPUESTAS'!AN23,Back!$M$16:$N$20,2,0)","v":"#N/A"},{"$f":"+VLOOKUP('BASE DE RESPUESTAS'!AO23,Back!$M$16:$N$20,2,0)","v":"#N/A"},{"$f":"+VLOOKUP('BASE DE RESPUESTAS'!AP23,Back!$M$16:$N$20,2,0)","v":"#N/A"},{"$f":"+VLOOKUP('BASE DE RESPUESTAS'!AQ23,Back!$M$16:$N$20,2,0)","v":"#N/A"},{"$f":"+VLOOKUP('BASE DE RESPUESTAS'!AR23,Back!$M$16:$N$20,2,0)","v":"#N/A"},{"$f":"+VLOOKUP('BASE DE RESPUESTAS'!AS23,Back!$M$16:$N$20,2,0)","v":"#N/A"},{"$f":"+VLOOKUP('BASE DE RESPUESTAS'!AT23,Back!$M$16:$N$20,2,0)","v":"#N/A"},{"$f":"+VLOOKUP('BASE DE RESPUESTAS'!AU23,Back!$M$16:$N$20,2,0)","v":"#N/A"},{"$f":"+VLOOKUP('BASE DE RESPUESTAS'!AV23,Back!$M$16:$N$20,2,0)","v":"#N/A"},{"$f":"+VLOOKUP('BASE DE RESPUESTAS'!AW23,Back!$M$16:$N$20,2,0)","v":"#N/A"},{"$f":"+VLOOKUP('BASE DE RESPUESTAS'!AX23,Back!$M$16:$N$20,2,0)","v":"#N/A"},{"$f":"+VLOOKUP('BASE DE RESPUESTAS'!AY23,Back!$M$16:$N$20,2,0)","v":"#N/A"},{"$f":"+VLOOKUP('BASE DE RESPUESTAS'!AZ23,Back!$M$16:$N$20,2,0)","v":"#N/A"},{"$f":"+VLOOKUP('BASE DE RESPUESTAS'!BA23,Back!$M$16:$N$20,2,0)","v":"#N/A"},{"$f":"+VLOOKUP('BASE DE RESPUESTAS'!BB23,Back!$M$16:$N$20,2,0)","v":"#N/A"},{"$f":"+VLOOKUP('BASE DE RESPUESTAS'!BC23,Back!$M$16:$N$20,2,0)","v":"#N/A"},{"$f":"+VLOOKUP('BASE DE RESPUESTAS'!BD23,Back!$M$16:$N$20,2,0)","v":"#N/A"},{"$f":"+VLOOKUP('BASE DE RESPUESTAS'!BE23,Back!$M$16:$N$20,2,0)","v":"#N/A"}]
[null,null,null,null,2.0,"Expresa su enojo sin hacerse daño ni hacer daño a otros.",null,{"$f":"+VLOOKUP('BASE DE RESPUESTAS'!H24,Back!$M$16:$N$20,2,0)","v":"#N/A"},{"$f":"+VLOOKUP('BASE DE RESPUESTAS'!I24,Back!$M$16:$N$20,2,0)","v":"#N/A"},{"$f":"+VLOOKUP('BASE DE RESPUESTAS'!J24,Back!$M$16:$N$20,2,0)","v":"#N/A"},{"$f":"+VLOOKUP('BASE DE RESPUESTAS'!K24,Back!$M$16:$N$20,2,0)","v":"#N/A"},{"$f":"+VLOOKUP('BASE DE RESPUESTAS'!L24,Back!$M$16:$N$20,2,0)","v":"#N/A"},{"$f":"+VLOOKUP('BASE DE RESPUESTAS'!M24,Back!$M$16:$N$20,2,0)","v":"#N/A"},{"$f":"+VLOOKUP('BASE DE RESPUESTAS'!N24,Back!$M$16:$N$20,2,0)","v":"#N/A"},{"$f":"+VLOOKUP('BASE DE RESPUESTAS'!O24,Back!$M$16:$N$20,2,0)","v":"#N/A"},{"$f":"+VLOOKUP('BASE DE RESPUESTAS'!P24,Back!$M$16:$N$20,2,0)","v":"#N/A"},{"$f":"+VLOOKUP('BASE DE RESPUESTAS'!Q24,Back!$M$16:$N$20,2,0)","v":"#N/A"},{"$f":"+VLOOKUP('BASE DE RESPUESTAS'!R24,Back!$M$16:$N$20,2,0)","v":"#N/A"},{"$f":"+VLOOKUP('BASE DE RESPUESTAS'!S24,Back!$M$16:$N$20,2,0)","v":"#N/A"},{"$f":"+VLOOKUP('BASE DE RESPUESTAS'!T24,Back!$M$16:$N$20,2,0)","v":"#N/A"},{"$f":"+VLOOKUP('BASE DE RESPUESTAS'!U24,Back!$M$16:$N$20,2,0)","v":"#N/A"},{"$f":"+VLOOKUP('BASE DE RESPUESTAS'!V24,Back!$M$16:$N$20,2,0)","v":"#N/A"},{"$f":"+VLOOKUP('BASE DE RESPUESTAS'!W24,Back!$M$16:$N$20,2,0)","v":"#N/A"},{"$f":"+VLOOKUP('BASE DE RESPUESTAS'!X24,Back!$M$16:$N$20,2,0)","v":"#N/A"},{"$f":"+VLOOKUP('BASE DE RESPUESTAS'!Y24,Back!$M$16:$N$20,2,0)","v":"#N/A"},{"$f":"+VLOOKUP('BASE DE RESPUESTAS'!Z24,Back!$M$16:$N$20,2,0)","v":"#N/A"},{"$f":"+VLOOKUP('BASE DE RESPUESTAS'!AA24,Back!$M$16:$N$20,2,0)","v":"#N/A"},{"$f":"+VLOOKUP('BASE DE RESPUESTAS'!AB24,Back!$M$16:$N$20,2,0)","v":"#N/A"},{"$f":"+VLOOKUP('BASE DE RESPUESTAS'!AC24,Back!$M$16:$N$20,2,0)","v":"#N/A"},{"$f":"+VLOOKUP('BASE DE RESPUESTAS'!AD24,Back!$M$16:$N$20,2,0)","v":"#N/A"},{"$f":"+VLOOKUP('BASE DE RESPUESTAS'!AE24,Back!$M$16:$N$20,2,0)","v":"#N/A"},{"$f":"+VLOOKUP('BASE DE RESPUESTAS'!AF24,Back!$M$16:$N$20,2,0)","v":"#N/A"},{"$f":"+VLOOKUP('BASE DE RESPUESTAS'!AG24,Back!$M$16:$N$20,2,0)","v":"#N/A"},{"$f":"+VLOOKUP('BASE DE RESPUESTAS'!AH24,Back!$M$16:$N$20,2,0)","v":"#N/A"},{"$f":"+VLOOKUP('BASE DE RESPUESTAS'!AI24,Back!$M$16:$N$20,2,0)","v":"#N/A"},{"$f":"+VLOOKUP('BASE DE RESPUESTAS'!AJ24,Back!$M$16:$N$20,2,0)","v":"#N/A"},{"$f":"+VLOOKUP('BASE DE RESPUESTAS'!AK24,Back!$M$16:$N$20,2,0)","v":"#N/A"},{"$f":"+VLOOKUP('BASE DE RESPUESTAS'!AL24,Back!$M$16:$N$20,2,0)","v":"#N/A"},{"$f":"+VLOOKUP('BASE DE RESPUESTAS'!AM24,Back!$M$16:$N$20,2,0)","v":"#N/A"},{"$f":"+VLOOKUP('BASE DE RESPUESTAS'!AN24,Back!$M$16:$N$20,2,0)","v":"#N/A"},{"$f":"+VLOOKUP('BASE DE RESPUESTAS'!AO24,Back!$M$16:$N$20,2,0)","v":"#N/A"},{"$f":"+VLOOKUP('BASE DE RESPUESTAS'!AP24,Back!$M$16:$N$20,2,0)","v":"#N/A"},{"$f":"+VLOOKUP('BASE DE RESPUESTAS'!AQ24,Back!$M$16:$N$20,2,0)","v":"#N/A"},{"$f":"+VLOOKUP('BASE DE RESPUESTAS'!AR24,Back!$M$16:$N$20,2,0)","v":"#N/A"},{"$f":"+VLOOKUP('BASE DE RESPUESTAS'!AS24,Back!$M$16:$N$20,2,0)","v":"#N/A"},{"$f":"+VLOOKUP('BASE DE RESPUESTAS'!AT24,Back!$M$16:$N$20,2,0)","v":"#N/A"},{"$f":"+VLOOKUP('BASE DE RESPUESTAS'!AU24,Back!$M$16:$N$20,2,0)","v":"#N/A"},{"$f":"+VLOOKUP('BASE DE RESPUESTAS'!AV24,Back!$M$16:$N$20,2,0)","v":"#N/A"},{"$f":"+VLOOKUP('BASE DE RESPUESTAS'!AW24,Back!$M$16:$N$20,2,0)","v":"#N/A"},{"$f":"+VLOOKUP('BASE DE RESPUESTAS'!AX24,Back!$M$16:$N$20,2,0)","v":"#N/A"},{"$f":"+VLOOKUP('BASE DE RESPUESTAS'!AY24,Back!$M$16:$N$20,2,0)","v":"#N/A"},{"$f":"+VLOOKUP('BASE DE RESPUESTAS'!AZ24,Back!$M$16:$N$20,2,0)","v":"#N/A"},{"$f":"+VLOOKUP('BASE DE RESPUESTAS'!BA24,Back!$M$16:$N$20,2,0)","v":"#N/A"},{"$f":"+VLOOKUP('BASE DE RESPUESTAS'!BB24,Back!$M$16:$N$20,2,0)","v":"#N/A"},{"$f":"+VLOOKUP('BASE DE RESPUESTAS'!BC24,Back!$M$16:$N$20,2,0)","v":"#N/A"},{"$f":"+VLOOKUP('BASE DE RESPUESTAS'!BD24,Back!$M$16:$N$20,2,0)","v":"#N/A"},{"$f":"+VLOOKUP('BASE DE RESPUESTAS'!BE24,Back!$M$16:$N$20,2,0)","v":"#N/A"}]
[null,null,null,"La o el estudiante reconoce qué emociones le producen bienestar o malestar y expresa qué puede hacer para sentirse mejor.",3.0,"Reconoce qué puede hacer o hace cuando se siente triste, angustiado o mal.",null,{"$f":"+VLOOKUP('BASE DE RESPUESTAS'!H25,Back!$M$16:$N$20,2,0)","v":"#N/A"},{"$f":"+VLOOKUP('BASE DE RESPUESTAS'!I25,Back!$M$16:$N$20,2,0)","v":"#N/A"},{"$f":"+VLOOKUP('BASE DE RESPUESTAS'!J25,Back!$M$16:$N$20,2,0)","v":"#N/A"},{"$f":"+VLOOKUP('BASE DE RESPUESTAS'!K25,Back!$M$16:$N$20,2,0)","v":"#N/A"},{"$f":"+VLOOKUP('BASE DE RESPUESTAS'!L25,Back!$M$16:$N$20,2,0)","v":"#N/A"},{"$f":"+VLOOKUP('BASE DE RESPUESTAS'!M25,Back!$M$16:$N$20,2,0)","v":"#N/A"},{"$f":"+VLOOKUP('BASE DE RESPUESTAS'!N25,Back!$M$16:$N$20,2,0)","v":"#N/A"},{"$f":"+VLOOKUP('BASE DE RESPUESTAS'!O25,Back!$M$16:$N$20,2,0)","v":"#N/A"},{"$f":"+VLOOKUP('BASE DE RESPUESTAS'!P25,Back!$M$16:$N$20,2,0)","v":"#N/A"},{"$f":"+VLOOKUP('BASE DE RESPUESTAS'!Q25,Back!$M$16:$N$20,2,0)","v":"#N/A"},{"$f":"+VLOOKUP('BASE DE RESPUESTAS'!R25,Back!$M$16:$N$20,2,0)","v":"#N/A"},{"$f":"+VLOOKUP('BASE DE RESPUESTAS'!S25,Back!$M$16:$N$20,2,0)","v":"#N/A"},{"$f":"+VLOOKUP('BASE DE RESPUESTAS'!T25,Back!$M$16:$N$20,2,0)","v":"#N/A"},{"$f":"+VLOOKUP('BASE DE RESPUESTAS'!U25,Back!$M$16:$N$20,2,0)","v":"#N/A"},{"$f":"+VLOOKUP('BASE DE RESPUESTAS'!V25,Back!$M$16:$N$20,2,0)","v":"#N/A"},{"$f":"+VLOOKUP('BASE DE RESPUESTAS'!W25,Back!$M$16:$N$20,2,0)","v":"#N/A"},{"$f":"+VLOOKUP('BASE DE RESPUESTAS'!X25,Back!$M$16:$N$20,2,0)","v":"#N/A"},{"$f":"+VLOOKUP('BASE DE RESPUESTAS'!Y25,Back!$M$16:$N$20,2,0)","v":"#N/A"},{"$f":"+VLOOKUP('BASE DE RESPUESTAS'!Z25,Back!$M$16:$N$20,2,0)","v":"#N/A"},{"$f":"+VLOOKUP('BASE DE RESPUESTAS'!AA25,Back!$M$16:$N$20,2,0)","v":"#N/A"},{"$f":"+VLOOKUP('BASE DE RESPUESTAS'!AB25,Back!$M$16:$N$20,2,0)","v":"#N/A"},{"$f":"+VLOOKUP('BASE DE RESPUESTAS'!AC25,Back!$M$16:$N$20,2,0)","v":"#N/A"},{"$f":"+VLOOKUP('BASE DE RESPUESTAS'!AD25,Back!$M$16:$N$20,2,0)","v":"#N/A"},{"$f":"+VLOOKUP('BASE DE RESPUESTAS'!AE25,Back!$M$16:$N$20,2,0)","v":"#N/A"},{"$f":"+VLOOKUP('BASE DE RESPUESTAS'!AF25,Back!$M$16:$N$20,2,0)","v":"#N/A"},{"$f":"+VLOOKUP('BASE DE RESPUESTAS'!AG25,Back!$M$16:$N$20,2,0)","v":"#N/A"},{"$f":"+VLOOKUP('BASE DE RESPUESTAS'!AH25,Back!$M$16:$N$20,2,0)","v":"#N/A"},{"$f":"+VLOOKUP('BASE DE RESPUESTAS'!AI25,Back!$M$16:$N$20,2,0)","v":"#N/A"},{"$f":"+VLOOKUP('BASE DE RESPUESTAS'!AJ25,Back!$M$16:$N$20,2,0)","v":"#N/A"},{"$f":"+VLOOKUP('BASE DE RESPUESTAS'!AK25,Back!$M$16:$N$20,2,0)","v":"#N/A"},{"$f":"+VLOOKUP('BASE DE RESPUESTAS'!AL25,Back!$M$16:$N$20,2,0)","v":"#N/A"},{"$f":"+VLOOKUP('BASE DE RESPUESTAS'!AM25,Back!$M$16:$N$20,2,0)","v":"#N/A"},{"$f":"+VLOOKUP('BASE DE RESPUESTAS'!AN25,Back!$M$16:$N$20,2,0)","v":"#N/A"},{"$f":"+VLOOKUP('BASE DE RESPUESTAS'!AO25,Back!$M$16:$N$20,2,0)","v":"#N/A"},{"$f":"+VLOOKUP('BASE DE RESPUESTAS'!AP25,Back!$M$16:$N$20,2,0)","v":"#N/A"},{"$f":"+VLOOKUP('BASE DE RESPUESTAS'!AQ25,Back!$M$16:$N$20,2,0)","v":"#N/A"},{"$f":"+VLOOKUP('BASE DE RESPUESTAS'!AR25,Back!$M$16:$N$20,2,0)","v":"#N/A"},{"$f":"+VLOOKUP('BASE DE RESPUESTAS'!AS25,Back!$M$16:$N$20,2,0)","v":"#N/A"},{"$f":"+VLOOKUP('BASE DE RESPUESTAS'!AT25,Back!$M$16:$N$20,2,0)","v":"#N/A"},{"$f":"+VLOOKUP('BASE DE RESPUESTAS'!AU25,Back!$M$16:$N$20,2,0)","v":"#N/A"},{"$f":"+VLOOKUP('BASE DE RESPUESTAS'!AV25,Back!$M$16:$N$20,2,0)","v":"#N/A"},{"$f":"+VLOOKUP('BASE DE RESPUESTAS'!AW25,Back!$M$16:$N$20,2,0)","v":"#N/A"},{"$f":"+VLOOKUP('BASE DE RESPUESTAS'!AX25,Back!$M$16:$N$20,2,0)","v":"#N/A"},{"$f":"+VLOOKUP('BASE DE RESPUESTAS'!AY25,Back!$M$16:$N$20,2,0)","v":"#N/A"},{"$f":"+VLOOKUP('BASE DE RESPUESTAS'!AZ25,Back!$M$16:$N$20,2,0)","v":"#N/A"},{"$f":"+VLOOKUP('BASE DE RESPUESTAS'!BA25,Back!$M$16:$N$20,2,0)","v":"#N/A"},{"$f":"+VLOOKUP('BASE DE RESPUESTAS'!BB25,Back!$M$16:$N$20,2,0)","v":"#N/A"},{"$f":"+VLOOKUP('BASE DE RESPUESTAS'!BC25,Back!$M$16:$N$20,2,0)","v":"#N/A"},{"$f":"+VLOOKUP('BASE DE RESPUESTAS'!BD25,Back!$M$16:$N$20,2,0)","v":"#N/A"},{"$f":"+VLOOKUP('BASE DE RESPUESTAS'!BE25,Back!$M$16:$N$20,2,0)","v":"#N/A"}]
[null,null,null,null,4.0,"Es capaz de comunicar cómo se siente ante diferentes situaciones y pedir ayuda si lo necesita.",null,{"$f":"+VLOOKUP('BASE DE RESPUESTAS'!H26,Back!$M$16:$N$20,2,0)","v":"#N/A"},{"$f":"+VLOOKUP('BASE DE RESPUESTAS'!I26,Back!$M$16:$N$20,2,0)","v":"#N/A"},{"$f":"+VLOOKUP('BASE DE RESPUESTAS'!J26,Back!$M$16:$N$20,2,0)","v":"#N/A"},{"$f":"+VLOOKUP('BASE DE RESPUESTAS'!K26,Back!$M$16:$N$20,2,0)","v":"#N/A"},{"$f":"+VLOOKUP('BASE DE RESPUESTAS'!L26,Back!$M$16:$N$20,2,0)","v":"#N/A"},{"$f":"+VLOOKUP('BASE DE RESPUESTAS'!M26,Back!$M$16:$N$20,2,0)","v":"#N/A"},{"$f":"+VLOOKUP('BASE DE RESPUESTAS'!N26,Back!$M$16:$N$20,2,0)","v":"#N/A"},{"$f":"+VLOOKUP('BASE DE RESPUESTAS'!O26,Back!$M$16:$N$20,2,0)","v":"#N/A"},{"$f":"+VLOOKUP('BASE DE RESPUESTAS'!P26,Back!$M$16:$N$20,2,0)","v":"#N/A"},{"$f":"+VLOOKUP('BASE DE RESPUESTAS'!Q26,Back!$M$16:$N$20,2,0)","v":"#N/A"},{"$f":"+VLOOKUP('BASE DE RESPUESTAS'!R26,Back!$M$16:$N$20,2,0)","v":"#N/A"},{"$f":"+VLOOKUP('BASE DE RESPUESTAS'!S26,Back!$M$16:$N$20,2,0)","v":"#N/A"},{"$f":"+VLOOKUP('BASE DE RESPUESTAS'!T26,Back!$M$16:$N$20,2,0)","v":"#N/A"},{"$f":"+VLOOKUP('BASE DE RESPUESTAS'!U26,Back!$M$16:$N$20,2,0)","v":"#N/A"},{"$f":"+VLOOKUP('BASE DE RESPUESTAS'!V26,Back!$M$16:$N$20,2,0)","v":"#N/A"},{"$f":"+VLOOKUP('BASE DE RESPUESTAS'!W26,Back!$M$16:$N$20,2,0)","v":"#N/A"},{"$f":"+VLOOKUP('BASE DE RESPUESTAS'!X26,Back!$M$16:$N$20,2,0)","v":"#N/A"},{"$f":"+VLOOKUP('BASE DE RESPUESTAS'!Y26,Back!$M$16:$N$20,2,0)","v":"#N/A"},{"$f":"+VLOOKUP('BASE DE RESPUESTAS'!Z26,Back!$M$16:$N$20,2,0)","v":"#N/A"},{"$f":"+VLOOKUP('BASE DE RESPUESTAS'!AA26,Back!$M$16:$N$20,2,0)","v":"#N/A"},{"$f":"+VLOOKUP('BASE DE RESPUESTAS'!AB26,Back!$M$16:$N$20,2,0)","v":"#N/A"},{"$f":"+VLOOKUP('BASE DE RESPUESTAS'!AC26,Back!$M$16:$N$20,2,0)","v":"#N/A"},{"$f":"+VLOOKUP('BASE DE RESPUESTAS'!AD26,Back!$M$16:$N$20,2,0)","v":"#N/A"},{"$f":"+VLOOKUP('BASE DE RESPUESTAS'!AE26,Back!$M$16:$N$20,2,0)","v":"#N/A"},{"$f":"+VLOOKUP('BASE DE RESPUESTAS'!AF26,Back!$M$16:$N$20,2,0)","v":"#N/A"},{"$f":"+VLOOKUP('BASE DE RESPUESTAS'!AG26,Back!$M$16:$N$20,2,0)","v":"#N/A"},{"$f":"+VLOOKUP('BASE DE RESPUESTAS'!AH26,Back!$M$16:$N$20,2,0)","v":"#N/A"},{"$f":"+VLOOKUP('BASE DE RESPUESTAS'!AI26,Back!$M$16:$N$20,2,0)","v":"#N/A"},{"$f":"+VLOOKUP('BASE DE RESPUESTAS'!AJ26,Back!$M$16:$N$20,2,0)","v":"#N/A"},{"$f":"+VLOOKUP('BASE DE RESPUESTAS'!AK26,Back!$M$16:$N$20,2,0)","v":"#N/A"},{"$f":"+VLOOKUP('BASE DE RESPUESTAS'!AL26,Back!$M$16:$N$20,2,0)","v":"#N/A"},{"$f":"+VLOOKUP('BASE DE RESPUESTAS'!AM26,Back!$M$16:$N$20,2,0)","v":"#N/A"},{"$f":"+VLOOKUP('BASE DE RESPUESTAS'!AN26,Back!$M$16:$N$20,2,0)","v":"#N/A"},{"$f":"+VLOOKUP('BASE DE RESPUESTAS'!AO26,Back!$M$16:$N$20,2,0)","v":"#N/A"},{"$f":"+VLOOKUP('BASE DE RESPUESTAS'!AP26,Back!$M$16:$N$20,2,0)","v":"#N/A"},{"$f":"+VLOOKUP('BASE DE RESPUESTAS'!AQ26,Back!$M$16:$N$20,2,0)","v":"#N/A"},{"$f":"+VLOOKUP('BASE DE RESPUESTAS'!AR26,Back!$M$16:$N$20,2,0)","v":"#N/A"},{"$f":"+VLOOKUP('BASE DE RESPUESTAS'!AS26,Back!$M$16:$N$20,2,0)","v":"#N/A"},{"$f":"+VLOOKUP('BASE DE RESPUESTAS'!AT26,Back!$M$16:$N$20,2,0)","v":"#N/A"},{"$f":"+VLOOKUP('BASE DE RESPUESTAS'!AU26,Back!$M$16:$N$20,2,0)","v":"#N/A"},{"$f":"+VLOOKUP('BASE DE RESPUESTAS'!AV26,Back!$M$16:$N$20,2,0)","v":"#N/A"},{"$f":"+VLOOKUP('BASE DE RESPUESTAS'!AW26,Back!$M$16:$N$20,2,0)","v":"#N/A"},{"$f":"+VLOOKUP('BASE DE RESPUESTAS'!AX26,Back!$M$16:$N$20,2,0)","v":"#N/A"},{"$f":"+VLOOKUP('BASE DE RESPUESTAS'!AY26,Back!$M$16:$N$20,2,0)","v":"#N/A"},{"$f":"+VLOOKUP('BASE DE RESPUESTAS'!AZ26,Back!$M$16:$N$20,2,0)","v":"#N/A"},{"$f":"+VLOOKUP('BASE DE RESPUESTAS'!BA26,Back!$M$16:$N$20,2,0)","v":"#N/A"},{"$f":"+VLOOKUP('BASE DE RESPUESTAS'!BB26,Back!$M$16:$N$20,2,0)","v":"#N/A"},{"$f":"+VLOOKUP('BASE DE RESPUESTAS'!BC26,Back!$M$16:$N$20,2,0)","v":"#N/A"},{"$f":"+VLOOKUP('BASE DE RESPUESTAS'!BD26,Back!$M$16:$N$20,2,0)","v":"#N/A"},{"$f":"+VLOOKUP('BASE DE RESPUESTAS'!BE26,Back!$M$16:$N$20,2,0)","v":"#N/A"}]
[null,"HSE","Creatividad","La o el estudiante propone diferentes soluciones ante un mismo problema.",5.0,"Utiliza distintos recursos para resolver algún problema.",null,{"$f":"+VLOOKUP('BASE DE RESPUESTAS'!H27,Back!$M$16:$N$20,2,0)","v":"#N/A"},{"$f":"+VLOOKUP('BASE DE RESPUESTAS'!I27,Back!$M$16:$N$20,2,0)","v":"#N/A"},{"$f":"+VLOOKUP('BASE DE RESPUESTAS'!J27,Back!$M$16:$N$20,2,0)","v":"#N/A"},{"$f":"+VLOOKUP('BASE DE RESPUESTAS'!K27,Back!$M$16:$N$20,2,0)","v":"#N/A"},{"$f":"+VLOOKUP('BASE DE RESPUESTAS'!L27,Back!$M$16:$N$20,2,0)","v":"#N/A"},{"$f":"+VLOOKUP('BASE DE RESPUESTAS'!M27,Back!$M$16:$N$20,2,0)","v":"#N/A"},{"$f":"+VLOOKUP('BASE DE RESPUESTAS'!N27,Back!$M$16:$N$20,2,0)","v":"#N/A"},{"$f":"+VLOOKUP('BASE DE RESPUESTAS'!O27,Back!$M$16:$N$20,2,0)","v":"#N/A"},{"$f":"+VLOOKUP('BASE DE RESPUESTAS'!P27,Back!$M$16:$N$20,2,0)","v":"#N/A"},{"$f":"+VLOOKUP('BASE DE RESPUESTAS'!Q27,Back!$M$16:$N$20,2,0)","v":"#N/A"},{"$f":"+VLOOKUP('BASE DE RESPUESTAS'!R27,Back!$M$16:$N$20,2,0)","v":"#N/A"},{"$f":"+VLOOKUP('BASE DE RESPUESTAS'!S27,Back!$M$16:$N$20,2,0)","v":"#N/A"},{"$f":"+VLOOKUP('BASE DE RESPUESTAS'!T27,Back!$M$16:$N$20,2,0)","v":"#N/A"},{"$f":"+VLOOKUP('BASE DE RESPUESTAS'!U27,Back!$M$16:$N$20,2,0)","v":"#N/A"},{"$f":"+VLOOKUP('BASE DE RESPUESTAS'!V27,Back!$M$16:$N$20,2,0)","v":"#N/A"},{"$f":"+VLOOKUP('BASE DE RESPUESTAS'!W27,Back!$M$16:$N$20,2,0)","v":"#N/A"},{"$f":"+VLOOKUP('BASE DE RESPUESTAS'!X27,Back!$M$16:$N$20,2,0)","v":"#N/A"},{"$f":"+VLOOKUP('BASE DE RESPUESTAS'!Y27,Back!$M$16:$N$20,2,0)","v":"#N/A"},{"$f":"+VLOOKUP('BASE DE RESPUESTAS'!Z27,Back!$M$16:$N$20,2,0)","v":"#N/A"},{"$f":"+VLOOKUP('BASE DE RESPUESTAS'!AA27,Back!$M$16:$N$20,2,0)","v":"#N/A"},{"$f":"+VLOOKUP('BASE DE RESPUESTAS'!AB27,Back!$M$16:$N$20,2,0)","v":"#N/A"},{"$f":"+VLOOKUP('BASE DE RESPUESTAS'!AC27,Back!$M$16:$N$20,2,0)","v":"#N/A"},{"$f":"+VLOOKUP('BASE DE RESPUESTAS'!AD27,Back!$M$16:$N$20,2,0)","v":"#N/A"},{"$f":"+VLOOKUP('BASE DE RESPUESTAS'!AE27,Back!$M$16:$N$20,2,0)","v":"#N/A"},{"$f":"+VLOOKUP('BASE DE RESPUESTAS'!AF27,Back!$M$16:$N$20,2,0)","v":"#N/A"},{"$f":"+VLOOKUP('BASE DE RESPUESTAS'!AG27,Back!$M$16:$N$20,2,0)","v":"#N/A"},{"$f":"+VLOOKUP('BASE DE RESPUESTAS'!AH27,Back!$M$16:$N$20,2,0)","v":"#N/A"},{"$f":"+VLOOKUP('BASE DE RESPUESTAS'!AI27,Back!$M$16:$N$20,2,0)","v":"#N/A"},{"$f":"+VLOOKUP('BASE DE RESPUESTAS'!AJ27,Back!$M$16:$N$20,2,0)","v":"#N/A"},{"$f":"+VLOOKUP('BASE DE RESPUESTAS'!AK27,Back!$M$16:$N$20,2,0)","v":"#N/A"},{"$f":"+VLOOKUP('BASE DE RESPUESTAS'!AL27,Back!$M$16:$N$20,2,0)","v":"#N/A"},{"$f":"+VLOOKUP('BASE DE RESPUESTAS'!AM27,Back!$M$16:$N$20,2,0)","v":"#N/A"},{"$f":"+VLOOKUP('BASE DE RESPUESTAS'!AN27,Back!$M$16:$N$20,2,0)","v":"#N/A"},{"$f":"+VLOOKUP('BASE DE RESPUESTAS'!AO27,Back!$M$16:$N$20,2,0)","v":"#N/A"},{"$f":"+VLOOKUP('BASE DE RESPUESTAS'!AP27,Back!$M$16:$N$20,2,0)","v":"#N/A"},{"$f":"+VLOOKUP('BASE DE RESPUESTAS'!AQ27,Back!$M$16:$N$20,2,0)","v":"#N/A"},{"$f":"+VLOOKUP('BASE DE RESPUESTAS'!AR27,Back!$M$16:$N$20,2,0)","v":"#N/A"},{"$f":"+VLOOKUP('BASE DE RESPUESTAS'!AS27,Back!$M$16:$N$20,2,0)","v":"#N/A"},{"$f":"+VLOOKUP('BASE DE RESPUESTAS'!AT27,Back!$M$16:$N$20,2,0)","v":"#N/A"},{"$f":"+VLOOKUP('BASE DE RESPUESTAS'!AU27,Back!$M$16:$N$20,2,0)","v":"#N/A"},{"$f":"+VLOOKUP('BASE DE RESPUESTAS'!AV27,Back!$M$16:$N$20,2,0)","v":"#N/A"},{"$f":"+VLOOKUP('BASE DE RESPUESTAS'!AW27,Back!$M$16:$N$20,2,0)","v":"#N/A"},{"$f":"+VLOOKUP('BASE DE RESPUESTAS'!AX27,Back!$M$16:$N$20,2,0)","v":"#N/A"},{"$f":"+VLOOKUP('BASE DE RESPUESTAS'!AY27,Back!$M$16:$N$20,2,0)","v":"#N/A"},{"$f":"+VLOOKUP('BASE DE RESPUESTAS'!AZ27,Back!$M$16:$N$20,2,0)","v":"#N/A"},{"$f":"+VLOOKUP('BASE DE RESPUESTAS'!BA27,Back!$M$16:$N$20,2,0)","v":"#N/A"},{"$f":"+VLOOKUP('BASE DE RESPUESTAS'!BB27,Back!$M$16:$N$20,2,0)","v":"#N/A"},{"$f":"+VLOOKUP('BASE DE RESPUESTAS'!BC27,Back!$M$16:$N$20,2,0)","v":"#N/A"},{"$f":"+VLOOKUP('BASE DE RESPUESTAS'!BD27,Back!$M$16:$N$20,2,0)","v":"#N/A"},{"$f":"+VLOOKUP('BASE DE RESPUESTAS'!BE27,Back!$M$16:$N$20,2,0)","v":"#N/A"}]
[null,null,null,null,6.0,"Propone ideas nuevas y útiles para resolver problemas cotidianos.",null,{"$f":"+VLOOKUP('BASE DE RESPUESTAS'!H28,Back!$M$16:$N$20,2,0)","v":"#N/A"},{"$f":"+VLOOKUP('BASE DE RESPUESTAS'!I28,Back!$M$16:$N$20,2,0)","v":"#N/A"},{"$f":"+VLOOKUP('BASE DE RESPUESTAS'!J28,Back!$M$16:$N$20,2,0)","v":"#N/A"},{"$f":"+VLOOKUP('BASE DE RESPUESTAS'!K28,Back!$M$16:$N$20,2,0)","v":"#N/A"},{"$f":"+VLOOKUP('BASE DE RESPUESTAS'!L28,Back!$M$16:$N$20,2,0)","v":"#N/A"},{"$f":"+VLOOKUP('BASE DE RESPUESTAS'!M28,Back!$M$16:$N$20,2,0)","v":"#N/A"},{"$f":"+VLOOKUP('BASE DE RESPUESTAS'!N28,Back!$M$16:$N$20,2,0)","v":"#N/A"},{"$f":"+VLOOKUP('BASE DE RESPUESTAS'!O28,Back!$M$16:$N$20,2,0)","v":"#N/A"},{"$f":"+VLOOKUP('BASE DE RESPUESTAS'!P28,Back!$M$16:$N$20,2,0)","v":"#N/A"},{"$f":"+VLOOKUP('BASE DE RESPUESTAS'!Q28,Back!$M$16:$N$20,2,0)","v":"#N/A"},{"$f":"+VLOOKUP('BASE DE RESPUESTAS'!R28,Back!$M$16:$N$20,2,0)","v":"#N/A"},{"$f":"+VLOOKUP('BASE DE RESPUESTAS'!S28,Back!$M$16:$N$20,2,0)","v":"#N/A"},{"$f":"+VLOOKUP('BASE DE RESPUESTAS'!T28,Back!$M$16:$N$20,2,0)","v":"#N/A"},{"$f":"+VLOOKUP('BASE DE RESPUESTAS'!U28,Back!$M$16:$N$20,2,0)","v":"#N/A"},{"$f":"+VLOOKUP('BASE DE RESPUESTAS'!V28,Back!$M$16:$N$20,2,0)","v":"#N/A"},{"$f":"+VLOOKUP('BASE DE RESPUESTAS'!W28,Back!$M$16:$N$20,2,0)","v":"#N/A"},{"$f":"+VLOOKUP('BASE DE RESPUESTAS'!X28,Back!$M$16:$N$20,2,0)","v":"#N/A"},{"$f":"+VLOOKUP('BASE DE RESPUESTAS'!Y28,Back!$M$16:$N$20,2,0)","v":"#N/A"},{"$f":"+VLOOKUP('BASE DE RESPUESTAS'!Z28,Back!$M$16:$N$20,2,0)","v":"#N/A"},{"$f":"+VLOOKUP('BASE DE RESPUESTAS'!AA28,Back!$M$16:$N$20,2,0)","v":"#N/A"},{"$f":"+VLOOKUP('BASE DE RESPUESTAS'!AB28,Back!$M$16:$N$20,2,0)","v":"#N/A"},{"$f":"+VLOOKUP('BASE DE RESPUESTAS'!AC28,Back!$M$16:$N$20,2,0)","v":"#N/A"},{"$f":"+VLOOKUP('BASE DE RESPUESTAS'!AD28,Back!$M$16:$N$20,2,0)","v":"#N/A"},{"$f":"+VLOOKUP('BASE DE RESPUESTAS'!AE28,Back!$M$16:$N$20,2,0)","v":"#N/A"},{"$f":"+VLOOKUP('BASE DE RESPUESTAS'!AF28,Back!$M$16:$N$20,2,0)","v":"#N/A"},{"$f":"+VLOOKUP('BASE DE RESPUESTAS'!AG28,Back!$M$16:$N$20,2,0)","v":"#N/A"},{"$f":"+VLOOKUP('BASE DE RESPUESTAS'!AH28,Back!$M$16:$N$20,2,0)","v":"#N/A"},{"$f":"+VLOOKUP('BASE DE RESPUESTAS'!AI28,Back!$M$16:$N$20,2,0)","v":"#N/A"},{"$f":"+VLOOKUP('BASE DE RESPUESTAS'!AJ28,Back!$M$16:$N$20,2,0)","v":"#N/A"},{"$f":"+VLOOKUP('BASE DE RESPUESTAS'!AK28,Back!$M$16:$N$20,2,0)","v":"#N/A"},{"$f":"+VLOOKUP('BASE DE RESPUESTAS'!AL28,Back!$M$16:$N$20,2,0)","v":"#N/A"},{"$f":"+VLOOKUP('BASE DE RESPUESTAS'!AM28,Back!$M$16:$N$20,2,0)","v":"#N/A"},{"$f":"+VLOOKUP('BASE DE RESPUESTAS'!AN28,Back!$M$16:$N$20,2,0)","v":"#N/A"},{"$f":"+VLOOKUP('BASE DE RESPUESTAS'!AO28,Back!$M$16:$N$20,2,0)","v":"#N/A"},{"$f":"+VLOOKUP('BASE DE RESPUESTAS'!AP28,Back!$M$16:$N$20,2,0)","v":"#N/A"},{"$f":"+VLOOKUP('BASE DE RESPUESTAS'!AQ28,Back!$M$16:$N$20,2,0)","v":"#N/A"},{"$f":"+VLOOKUP('BASE DE RESPUESTAS'!AR28,Back!$M$16:$N$20,2,0)","v":"#N/A"},{"$f":"+VLOOKUP('BASE DE RESPUESTAS'!AS28,Back!$M$16:$N$20,2,0)","v":"#N/A"},{"$f":"+VLOOKUP('BASE DE RESPUESTAS'!AT28,Back!$M$16:$N$20,2,0)","v":"#N/A"},{"$f":"+VLOOKUP('BASE DE RESPUESTAS'!AU28,Back!$M$16:$N$20,2,0)","v":"#N/A"},{"$f":"+VLOOKUP('BASE DE RESPUESTAS'!AV28,Back!$M$16:$N$20,2,0)","v":"#N/A"},{"$f":"+VLOOKUP('BASE DE RESPUESTAS'!AW28,Back!$M$16:$N$20,2,0)","v":"#N/A"},{"$f":"+VLOOKUP('BASE DE RESPUESTAS'!AX28,Back!$M$16:$N$20,2,0)","v":"#N/A"},{"$f":"+VLOOKUP('BASE DE RESPUESTAS'!AY28,Back!$M$16:$N$20,2,0)","v":"#N/A"},{"$f":"+VLOOKUP('BASE DE RESPUESTAS'!AZ28,Back!$M$16:$N$20,2,0)","v":"#N/A"},{"$f":"+VLOOKUP('BASE DE RESPUESTAS'!BA28,Back!$M$16:$N$20,2,0)","v":"#N/A"},{"$f":"+VLOOKUP('BASE DE RESPUESTAS'!BB28,Back!$M$16:$N$20,2,0)","v":"#N/A"},{"$f":"+VLOOKUP('BASE DE RESPUESTAS'!BC28,Back!$M$16:$N$20,2,0)","v":"#N/A"},{"$f":"+VLOOKUP('BASE DE RESPUESTAS'!BD28,Back!$M$16:$N$20,2,0)","v":"#N/A"},{"$f":"+VLOOKUP('BASE DE RESPUESTAS'!BE28,Back!$M$16:$N$20,2,0)","v":"#N/A"}]
[null,null,null,"La o el estudiante propone actividades creativas en el grupo.",7.0,"Cuando al estudiante se le pide construir el final de una historia, es capaz de dar más de una alternativa.",null,{"$f":"+VLOOKUP('BASE DE RESPUESTAS'!H29,Back!$M$16:$N$20,2,0)","v":"#N/A"},{"$f":"+VLOOKUP('BASE DE RESPUESTAS'!I29,Back!$M$16:$N$20,2,0)","v":"#N/A"},{"$f":"+VLOOKUP('BASE DE RESPUESTAS'!J29,Back!$M$16:$N$20,2,0)","v":"#N/A"},{"$f":"+VLOOKUP('BASE DE RESPUESTAS'!K29,Back!$M$16:$N$20,2,0)","v":"#N/A"},{"$f":"+VLOOKUP('BASE DE RESPUESTAS'!L29,Back!$M$16:$N$20,2,0)","v":"#N/A"},{"$f":"+VLOOKUP('BASE DE RESPUESTAS'!M29,Back!$M$16:$N$20,2,0)","v":"#N/A"},{"$f":"+VLOOKUP('BASE DE RESPUESTAS'!N29,Back!$M$16:$N$20,2,0)","v":"#N/A"},{"$f":"+VLOOKUP('BASE DE RESPUESTAS'!O29,Back!$M$16:$N$20,2,0)","v":"#N/A"},{"$f":"+VLOOKUP('BASE DE RESPUESTAS'!P29,Back!$M$16:$N$20,2,0)","v":"#N/A"},{"$f":"+VLOOKUP('BASE DE RESPUESTAS'!Q29,Back!$M$16:$N$20,2,0)","v":"#N/A"},{"$f":"+VLOOKUP('BASE DE RESPUESTAS'!R29,Back!$M$16:$N$20,2,0)","v":"#N/A"},{"$f":"+VLOOKUP('BASE DE RESPUESTAS'!S29,Back!$M$16:$N$20,2,0)","v":"#N/A"},{"$f":"+VLOOKUP('BASE DE RESPUESTAS'!T29,Back!$M$16:$N$20,2,0)","v":"#N/A"},{"$f":"+VLOOKUP('BASE DE RESPUESTAS'!U29,Back!$M$16:$N$20,2,0)","v":"#N/A"},{"$f":"+VLOOKUP('BASE DE RESPUESTAS'!V29,Back!$M$16:$N$20,2,0)","v":"#N/A"},{"$f":"+VLOOKUP('BASE DE RESPUESTAS'!W29,Back!$M$16:$N$20,2,0)","v":"#N/A"},{"$f":"+VLOOKUP('BASE DE RESPUESTAS'!X29,Back!$M$16:$N$20,2,0)","v":"#N/A"},{"$f":"+VLOOKUP('BASE DE RESPUESTAS'!Y29,Back!$M$16:$N$20,2,0)","v":"#N/A"},{"$f":"+VLOOKUP('BASE DE RESPUESTAS'!Z29,Back!$M$16:$N$20,2,0)","v":"#N/A"},{"$f":"+VLOOKUP('BASE DE RESPUESTAS'!AA29,Back!$M$16:$N$20,2,0)","v":"#N/A"},{"$f":"+VLOOKUP('BASE DE RESPUESTAS'!AB29,Back!$M$16:$N$20,2,0)","v":"#N/A"},{"$f":"+VLOOKUP('BASE DE RESPUESTAS'!AC29,Back!$M$16:$N$20,2,0)","v":"#N/A"},{"$f":"+VLOOKUP('BASE DE RESPUESTAS'!AD29,Back!$M$16:$N$20,2,0)","v":"#N/A"},{"$f":"+VLOOKUP('BASE DE RESPUESTAS'!AE29,Back!$M$16:$N$20,2,0)","v":"#N/A"},{"$f":"+VLOOKUP('BASE DE RESPUESTAS'!AF29,Back!$M$16:$N$20,2,0)","v":"#N/A"},{"$f":"+VLOOKUP('BASE DE RESPUESTAS'!AG29,Back!$M$16:$N$20,2,0)","v":"#N/A"},{"$f":"+VLOOKUP('BASE DE RESPUESTAS'!AH29,Back!$M$16:$N$20,2,0)","v":"#N/A"},{"$f":"+VLOOKUP('BASE DE RESPUESTAS'!AI29,Back!$M$16:$N$20,2,0)","v":"#N/A"},{"$f":"+VLOOKUP('BASE DE RESPUESTAS'!AJ29,Back!$M$16:$N$20,2,0)","v":"#N/A"},{"$f":"+VLOOKUP('BASE DE RESPUESTAS'!AK29,Back!$M$16:$N$20,2,0)","v":"#N/A"},{"$f":"+VLOOKUP('BASE DE RESPUESTAS'!AL29,Back!$M$16:$N$20,2,0)","v":"#N/A"},{"$f":"+VLOOKUP('BASE DE RESPUESTAS'!AM29,Back!$M$16:$N$20,2,0)","v":"#N/A"},{"$f":"+VLOOKUP('BASE DE RESPUESTAS'!AN29,Back!$M$16:$N$20,2,0)","v":"#N/A"},{"$f":"+VLOOKUP('BASE DE RESPUESTAS'!AO29,Back!$M$16:$N$20,2,0)","v":"#N/A"},{"$f":"+VLOOKUP('BASE DE RESPUESTAS'!AP29,Back!$M$16:$N$20,2,0)","v":"#N/A"},{"$f":"+VLOOKUP('BASE DE RESPUESTAS'!AQ29,Back!$M$16:$N$20,2,0)","v":"#N/A"},{"$f":"+VLOOKUP('BASE DE RESPUESTAS'!AR29,Back!$M$16:$N$20,2,0)","v":"#N/A"},{"$f":"+VLOOKUP('BASE DE RESPUESTAS'!AS29,Back!$M$16:$N$20,2,0)","v":"#N/A"},{"$f":"+VLOOKUP('BASE DE RESPUESTAS'!AT29,Back!$M$16:$N$20,2,0)","v":"#N/A"},{"$f":"+VLOOKUP('BASE DE RESPUESTAS'!AU29,Back!$M$16:$N$20,2,0)","v":"#N/A"},{"$f":"+VLOOKUP('BASE DE RESPUESTAS'!AV29,Back!$M$16:$N$20,2,0)","v":"#N/A"},{"$f":"+VLOOKUP('BASE DE RESPUESTAS'!AW29,Back!$M$16:$N$20,2,0)","v":"#N/A"},{"$f":"+VLOOKUP('BASE DE RESPUESTAS'!AX29,Back!$M$16:$N$20,2,0)","v":"#N/A"},{"$f":"+VLOOKUP('BASE DE RESPUESTAS'!AY29,Back!$M$16:$N$20,2,0)","v":"#N/A"},{"$f":"+VLOOKUP('BASE DE RESPUESTAS'!AZ29,Back!$M$16:$N$20,2,0)","v":"#N/A"},{"$f":"+VLOOKUP('BASE DE RESPUESTAS'!BA29,Back!$M$16:$N$20,2,0)","v":"#N/A"},{"$f":"+VLOOKUP('BASE DE RESPUESTAS'!BB29,Back!$M$16:$N$20,2,0)","v":"#N/A"},{"$f":"+VLOOKUP('BASE DE RESPUESTAS'!BC29,Back!$M$16:$N$20,2,0)","v":"#N/A"},{"$f":"+VLOOKUP('BASE DE RESPUESTAS'!BD29,Back!$M$16:$N$20,2,0)","v":"#N/A"},{"$f":"+VLOOKUP('BASE DE RESPUESTAS'!BE29,Back!$M$16:$N$20,2,0)","v":"#N/A"}]
[null,null,null,null,8.0,"Sugiere o sorprende con nuevas propuestas de juego y/o formas de expresión.",null,{"$f":"+VLOOKUP('BASE DE RESPUESTAS'!H30,Back!$M$16:$N$20,2,0)","v":"#N/A"},{"$f":"+VLOOKUP('BASE DE RESPUESTAS'!I30,Back!$M$16:$N$20,2,0)","v":"#N/A"},{"$f":"+VLOOKUP('BASE DE RESPUESTAS'!J30,Back!$M$16:$N$20,2,0)","v":"#N/A"},{"$f":"+VLOOKUP('BASE DE RESPUESTAS'!K30,Back!$M$16:$N$20,2,0)","v":"#N/A"},{"$f":"+VLOOKUP('BASE DE RESPUESTAS'!L30,Back!$M$16:$N$20,2,0)","v":"#N/A"},{"$f":"+VLOOKUP('BASE DE RESPUESTAS'!M30,Back!$M$16:$N$20,2,0)","v":"#N/A"},{"$f":"+VLOOKUP('BASE DE RESPUESTAS'!N30,Back!$M$16:$N$20,2,0)","v":"#N/A"},{"$f":"+VLOOKUP('BASE DE RESPUESTAS'!O30,Back!$M$16:$N$20,2,0)","v":"#N/A"},{"$f":"+VLOOKUP('BASE DE RESPUESTAS'!P30,Back!$M$16:$N$20,2,0)","v":"#N/A"},{"$f":"+VLOOKUP('BASE DE RESPUESTAS'!Q30,Back!$M$16:$N$20,2,0)","v":"#N/A"},{"$f":"+VLOOKUP('BASE DE RESPUESTAS'!R30,Back!$M$16:$N$20,2,0)","v":"#N/A"},{"$f":"+VLOOKUP('BASE DE RESPUESTAS'!S30,Back!$M$16:$N$20,2,0)","v":"#N/A"},{"$f":"+VLOOKUP('BASE DE RESPUESTAS'!T30,Back!$M$16:$N$20,2,0)","v":"#N/A"},{"$f":"+VLOOKUP('BASE DE RESPUESTAS'!U30,Back!$M$16:$N$20,2,0)","v":"#N/A"},{"$f":"+VLOOKUP('BASE DE RESPUESTAS'!V30,Back!$M$16:$N$20,2,0)","v":"#N/A"},{"$f":"+VLOOKUP('BASE DE RESPUESTAS'!W30,Back!$M$16:$N$20,2,0)","v":"#N/A"},{"$f":"+VLOOKUP('BASE DE RESPUESTAS'!X30,Back!$M$16:$N$20,2,0)","v":"#N/A"},{"$f":"+VLOOKUP('BASE DE RESPUESTAS'!Y30,Back!$M$16:$N$20,2,0)","v":"#N/A"},{"$f":"+VLOOKUP('BASE DE RESPUESTAS'!Z30,Back!$M$16:$N$20,2,0)","v":"#N/A"},{"$f":"+VLOOKUP('BASE DE RESPUESTAS'!AA30,Back!$M$16:$N$20,2,0)","v":"#N/A"},{"$f":"+VLOOKUP('BASE DE RESPUESTAS'!AB30,Back!$M$16:$N$20,2,0)","v":"#N/A"},{"$f":"+VLOOKUP('BASE DE RESPUESTAS'!AC30,Back!$M$16:$N$20,2,0)","v":"#N/A"},{"$f":"+VLOOKUP('BASE DE RESPUESTAS'!AD30,Back!$M$16:$N$20,2,0)","v":"#N/A"},{"$f":"+VLOOKUP('BASE DE RESPUESTAS'!AE30,Back!$M$16:$N$20,2,0)","v":"#N/A"},{"$f":"+VLOOKUP('BASE DE RESPUESTAS'!AF30,Back!$M$16:$N$20,2,0)","v":"#N/A"},{"$f":"+VLOOKUP('BASE DE RESPUESTAS'!AG30,Back!$M$16:$N$20,2,0)","v":"#N/A"},{"$f":"+VLOOKUP('BASE DE RESPUESTAS'!AH30,Back!$M$16:$N$20,2,0)","v":"#N/A"},{"$f":"+VLOOKUP('BASE DE RESPUESTAS'!AI30,Back!$M$16:$N$20,2,0)","v":"#N/A"},{"$f":"+VLOOKUP('BASE DE RESPUESTAS'!AJ30,Back!$M$16:$N$20,2,0)","v":"#N/A"},{"$f":"+VLOOKUP('BASE DE RESPUESTAS'!AK30,Back!$M$16:$N$20,2,0)","v":"#N/A"},{"$f":"+VLOOKUP('BASE DE RESPUESTAS'!AL30,Back!$M$16:$N$20,2,0)","v":"#N/A"},{"$f":"+VLOOKUP('BASE DE RESPUESTAS'!AM30,Back!$M$16:$N$20,2,0)","v":"#N/A"},{"$f":"+VLOOKUP('BASE DE RESPUESTAS'!AN30,Back!$M$16:$N$20,2,0)","v":"#N/A"},{"$f":"+VLOOKUP('BASE DE RESPUESTAS'!AO30,Back!$M$16:$N$20,2,0)","v":"#N/A"},{"$f":"+VLOOKUP('BASE DE RESPUESTAS'!AP30,Back!$M$16:$N$20,2,0)","v":"#N/A"},{"$f":"+VLOOKUP('BASE DE RESPUESTAS'!AQ30,Back!$M$16:$N$20,2,0)","v":"#N/A"},{"$f":"+VLOOKUP('BASE DE RESPUESTAS'!AR30,Back!$M$16:$N$20,2,0)","v":"#N/A"},{"$f":"+VLOOKUP('BASE DE RESPUESTAS'!AS30,Back!$M$16:$N$20,2,0)","v":"#N/A"},{"$f":"+VLOOKUP('BASE DE RESPUESTAS'!AT30,Back!$M$16:$N$20,2,0)","v":"#N/A"},{"$f":"+VLOOKUP('BASE DE RESPUESTAS'!AU30,Back!$M$16:$N$20,2,0)","v":"#N/A"},{"$f":"+VLOOKUP('BASE DE RESPUESTAS'!AV30,Back!$M$16:$N$20,2,0)","v":"#N/A"},{"$f":"+VLOOKUP('BASE DE RESPUESTAS'!AW30,Back!$M$16:$N$20,2,0)","v":"#N/A"},{"$f":"+VLOOKUP('BASE DE RESPUESTAS'!AX30,Back!$M$16:$N$20,2,0)","v":"#N/A"},{"$f":"+VLOOKUP('BASE DE RESPUESTAS'!AY30,Back!$M$16:$N$20,2,0)","v":"#N/A"},{"$f":"+VLOOKUP('BASE DE RESPUESTAS'!AZ30,Back!$M$16:$N$20,2,0)","v":"#N/A"},{"$f":"+VLOOKUP('BASE DE RESPUESTAS'!BA30,Back!$M$16:$N$20,2,0)","v":"#N/A"},{"$f":"+VLOOKUP('BASE DE RESPUESTAS'!BB30,Back!$M$16:$N$20,2,0)","v":"#N/A"},{"$f":"+VLOOKUP('BASE DE RESPUESTAS'!BC30,Back!$M$16:$N$20,2,0)","v":"#N/A"},{"$f":"+VLOOKUP('BASE DE RESPUESTAS'!BD30,Back!$M$16:$N$20,2,0)","v":"#N/A"},{"$f":"+VLOOKUP('BASE DE RESPUESTAS'!BE30,Back!$M$16:$N$20,2,0)","v":"#N/A"}]
[null,"HSE","Toma de decisiones responsables","La o el estudiante evalúa diferentes opciones antes de tomar decisiones.",9.0,"Evalúa distintos escenarios antes de tomar una decisión.",null,{"$f":"+VLOOKUP('BASE DE RESPUESTAS'!H31,Back!$M$16:$N$20,2,0)","v":"#N/A"},{"$f":"+VLOOKUP('BASE DE RESPUESTAS'!I31,Back!$M$16:$N$20,2,0)","v":"#N/A"},{"$f":"+VLOOKUP('BASE DE RESPUESTAS'!J31,Back!$M$16:$N$20,2,0)","v":"#N/A"},{"$f":"+VLOOKUP('BASE DE RESPUESTAS'!K31,Back!$M$16:$N$20,2,0)","v":"#N/A"},{"$f":"+VLOOKUP('BASE DE RESPUESTAS'!L31,Back!$M$16:$N$20,2,0)","v":"#N/A"},{"$f":"+VLOOKUP('BASE DE RESPUESTAS'!M31,Back!$M$16:$N$20,2,0)","v":"#N/A"},{"$f":"+VLOOKUP('BASE DE RESPUESTAS'!N31,Back!$M$16:$N$20,2,0)","v":"#N/A"},{"$f":"+VLOOKUP('BASE DE RESPUESTAS'!O31,Back!$M$16:$N$20,2,0)","v":"#N/A"},{"$f":"+VLOOKUP('BASE DE RESPUESTAS'!P31,Back!$M$16:$N$20,2,0)","v":"#N/A"},{"$f":"+VLOOKUP('BASE DE RESPUESTAS'!Q31,Back!$M$16:$N$20,2,0)","v":"#N/A"},{"$f":"+VLOOKUP('BASE DE RESPUESTAS'!R31,Back!$M$16:$N$20,2,0)","v":"#N/A"},{"$f":"+VLOOKUP('BASE DE RESPUESTAS'!S31,Back!$M$16:$N$20,2,0)","v":"#N/A"},{"$f":"+VLOOKUP('BASE DE RESPUESTAS'!T31,Back!$M$16:$N$20,2,0)","v":"#N/A"},{"$f":"+VLOOKUP('BASE DE RESPUESTAS'!U31,Back!$M$16:$N$20,2,0)","v":"#N/A"},{"$f":"+VLOOKUP('BASE DE RESPUESTAS'!V31,Back!$M$16:$N$20,2,0)","v":"#N/A"},{"$f":"+VLOOKUP('BASE DE RESPUESTAS'!W31,Back!$M$16:$N$20,2,0)","v":"#N/A"},{"$f":"+VLOOKUP('BASE DE RESPUESTAS'!X31,Back!$M$16:$N$20,2,0)","v":"#N/A"},{"$f":"+VLOOKUP('BASE DE RESPUESTAS'!Y31,Back!$M$16:$N$20,2,0)","v":"#N/A"},{"$f":"+VLOOKUP('BASE DE RESPUESTAS'!Z31,Back!$M$16:$N$20,2,0)","v":"#N/A"},{"$f":"+VLOOKUP('BASE DE RESPUESTAS'!AA31,Back!$M$16:$N$20,2,0)","v":"#N/A"},{"$f":"+VLOOKUP('BASE DE RESPUESTAS'!AB31,Back!$M$16:$N$20,2,0)","v":"#N/A"},{"$f":"+VLOOKUP('BASE DE RESPUESTAS'!AC31,Back!$M$16:$N$20,2,0)","v":"#N/A"},{"$f":"+VLOOKUP('BASE DE RESPUESTAS'!AD31,Back!$M$16:$N$20,2,0)","v":"#N/A"},{"$f":"+VLOOKUP('BASE DE RESPUESTAS'!AE31,Back!$M$16:$N$20,2,0)","v":"#N/A"},{"$f":"+VLOOKUP('BASE DE RESPUESTAS'!AF31,Back!$M$16:$N$20,2,0)","v":"#N/A"},{"$f":"+VLOOKUP('BASE DE RESPUESTAS'!AG31,Back!$M$16:$N$20,2,0)","v":"#N/A"},{"$f":"+VLOOKUP('BASE DE RESPUESTAS'!AH31,Back!$M$16:$N$20,2,0)","v":"#N/A"},{"$f":"+VLOOKUP('BASE DE RESPUESTAS'!AI31,Back!$M$16:$N$20,2,0)","v":"#N/A"},{"$f":"+VLOOKUP('BASE DE RESPUESTAS'!AJ31,Back!$M$16:$N$20,2,0)","v":"#N/A"},{"$f":"+VLOOKUP('BASE DE RESPUESTAS'!AK31,Back!$M$16:$N$20,2,0)","v":"#N/A"},{"$f":"+VLOOKUP('BASE DE RESPUESTAS'!AL31,Back!$M$16:$N$20,2,0)","v":"#N/A"},{"$f":"+VLOOKUP('BASE DE RESPUESTAS'!AM31,Back!$M$16:$N$20,2,0)","v":"#N/A"},{"$f":"+VLOOKUP('BASE DE RESPUESTAS'!AN31,Back!$M$16:$N$20,2,0)","v":"#N/A"},{"$f":"+VLOOKUP('BASE DE RESPUESTAS'!AO31,Back!$M$16:$N$20,2,0)","v":"#N/A"},{"$f":"+VLOOKUP('BASE DE RESPUESTAS'!AP31,Back!$M$16:$N$20,2,0)","v":"#N/A"},{"$f":"+VLOOKUP('BASE DE RESPUESTAS'!AQ31,Back!$M$16:$N$20,2,0)","v":"#N/A"},{"$f":"+VLOOKUP('BASE DE RESPUESTAS'!AR31,Back!$M$16:$N$20,2,0)","v":"#N/A"},{"$f":"+VLOOKUP('BASE DE RESPUESTAS'!AS31,Back!$M$16:$N$20,2,0)","v":"#N/A"},{"$f":"+VLOOKUP('BASE DE RESPUESTAS'!AT31,Back!$M$16:$N$20,2,0)","v":"#N/A"},{"$f":"+VLOOKUP('BASE DE RESPUESTAS'!AU31,Back!$M$16:$N$20,2,0)","v":"#N/A"},{"$f":"+VLOOKUP('BASE DE RESPUESTAS'!AV31,Back!$M$16:$N$20,2,0)","v":"#N/A"},{"$f":"+VLOOKUP('BASE DE RESPUESTAS'!AW31,Back!$M$16:$N$20,2,0)","v":"#N/A"},{"$f":"+VLOOKUP('BASE DE RESPUESTAS'!AX31,Back!$M$16:$N$20,2,0)","v":"#N/A"},{"$f":"+VLOOKUP('BASE DE RESPUESTAS'!AY31,Back!$M$16:$N$20,2,0)","v":"#N/A"},{"$f":"+VLOOKUP('BASE DE RESPUESTAS'!AZ31,Back!$M$16:$N$20,2,0)","v":"#N/A"},{"$f":"+VLOOKUP('BASE DE RESPUESTAS'!BA31,Back!$M$16:$N$20,2,0)","v":"#N/A"},{"$f":"+VLOOKUP('BASE DE RESPUESTAS'!BB31,Back!$M$16:$N$20,2,0)","v":"#N/A"},{"$f":"+VLOOKUP('BASE DE RESPUESTAS'!BC31,Back!$M$16:$N$20,2,0)","v":"#N/A"},{"$f":"+VLOOKUP('BASE DE RESPUESTAS'!BD31,Back!$M$16:$N$20,2,0)","v":"#N/A"},{"$f":"+VLOOKUP('BASE DE RESPUESTAS'!BE31,Back!$M$16:$N$20,2,0)","v":"#N/A"}]
[null,null,null,null,10.0,"Entre dos o más acciones elige aquella que lo beneficia o benefician a otros.",null,{"$f":"+VLOOKUP('BASE DE RESPUESTAS'!H32,Back!$M$16:$N$20,2,0)","v":"#N/A"},{"$f":"+VLOOKUP('BASE DE RESPUESTAS'!I32,Back!$M$16:$N$20,2,0)","v":"#N/A"},{"$f":"+VLOOKUP('BASE DE RESPUESTAS'!J32,Back!$M$16:$N$20,2,0)","v":"#N/A"},{"$f":"+VLOOKUP('BASE DE RESPUESTAS'!K32,Back!$M$16:$N$20,2,0)","v":"#N/A"},{"$f":"+VLOOKUP('BASE DE RESPUESTAS'!L32,Back!$M$16:$N$20,2,0)","v":"#N/A"},{"$f":"+VLOOKUP('BASE DE RESPUESTAS'!M32,Back!$M$16:$N$20,2,0)","v":"#N/A"},{"$f":"+VLOOKUP('BASE DE RESPUESTAS'!N32,Back!$M$16:$N$20,2,0)","v":"#N/A"},{"$f":"+VLOOKUP('BASE DE RESPUESTAS'!O32,Back!$M$16:$N$20,2,0)","v":"#N/A"},{"$f":"+VLOOKUP('BASE DE RESPUESTAS'!P32,Back!$M$16:$N$20,2,0)","v":"#N/A"},{"$f":"+VLOOKUP('BASE DE RESPUESTAS'!Q32,Back!$M$16:$N$20,2,0)","v":"#N/A"},{"$f":"+VLOOKUP('BASE DE RESPUESTAS'!R32,Back!$M$16:$N$20,2,0)","v":"#N/A"},{"$f":"+VLOOKUP('BASE DE RESPUESTAS'!S32,Back!$M$16:$N$20,2,0)","v":"#N/A"},{"$f":"+VLOOKUP('BASE DE RESPUESTAS'!T32,Back!$M$16:$N$20,2,0)","v":"#N/A"},{"$f":"+VLOOKUP('BASE DE RESPUESTAS'!U32,Back!$M$16:$N$20,2,0)","v":"#N/A"},{"$f":"+VLOOKUP('BASE DE RESPUESTAS'!V32,Back!$M$16:$N$20,2,0)","v":"#N/A"},{"$f":"+VLOOKUP('BASE DE RESPUESTAS'!W32,Back!$M$16:$N$20,2,0)","v":"#N/A"},{"$f":"+VLOOKUP('BASE DE RESPUESTAS'!X32,Back!$M$16:$N$20,2,0)","v":"#N/A"},{"$f":"+VLOOKUP('BASE DE RESPUESTAS'!Y32,Back!$M$16:$N$20,2,0)","v":"#N/A"},{"$f":"+VLOOKUP('BASE DE RESPUESTAS'!Z32,Back!$M$16:$N$20,2,0)","v":"#N/A"},{"$f":"+VLOOKUP('BASE DE RESPUESTAS'!AA32,Back!$M$16:$N$20,2,0)","v":"#N/A"},{"$f":"+VLOOKUP('BASE DE RESPUESTAS'!AB32,Back!$M$16:$N$20,2,0)","v":"#N/A"},{"$f":"+VLOOKUP('BASE DE RESPUESTAS'!AC32,Back!$M$16:$N$20,2,0)","v":"#N/A"},{"$f":"+VLOOKUP('BASE DE RESPUESTAS'!AD32,Back!$M$16:$N$20,2,0)","v":"#N/A"},{"$f":"+VLOOKUP('BASE DE RESPUESTAS'!AE32,Back!$M$16:$N$20,2,0)","v":"#N/A"},{"$f":"+VLOOKUP('BASE DE RESPUESTAS'!AF32,Back!$M$16:$N$20,2,0)","v":"#N/A"},{"$f":"+VLOOKUP('BASE DE RESPUESTAS'!AG32,Back!$M$16:$N$20,2,0)","v":"#N/A"},{"$f":"+VLOOKUP('BASE DE RESPUESTAS'!AH32,Back!$M$16:$N$20,2,0)","v":"#N/A"},{"$f":"+VLOOKUP('BASE DE RESPUESTAS'!AI32,Back!$M$16:$N$20,2,0)","v":"#N/A"},{"$f":"+VLOOKUP('BASE DE RESPUESTAS'!AJ32,Back!$M$16:$N$20,2,0)","v":"#N/A"},{"$f":"+VLOOKUP('BASE DE RESPUESTAS'!AK32,Back!$M$16:$N$20,2,0)","v":"#N/A"},{"$f":"+VLOOKUP('BASE DE RESPUESTAS'!AL32,Back!$M$16:$N$20,2,0)","v":"#N/A"},{"$f":"+VLOOKUP('BASE DE RESPUESTAS'!AM32,Back!$M$16:$N$20,2,0)","v":"#N/A"},{"$f":"+VLOOKUP('BASE DE RESPUESTAS'!AN32,Back!$M$16:$N$20,2,0)","v":"#N/A"},{"$f":"+VLOOKUP('BASE DE RESPUESTAS'!AO32,Back!$M$16:$N$20,2,0)","v":"#N/A"},{"$f":"+VLOOKUP('BASE DE RESPUESTAS'!AP32,Back!$M$16:$N$20,2,0)","v":"#N/A"},{"$f":"+VLOOKUP('BASE DE RESPUESTAS'!AQ32,Back!$M$16:$N$20,2,0)","v":"#N/A"},{"$f":"+VLOOKUP('BASE DE RESPUESTAS'!AR32,Back!$M$16:$N$20,2,0)","v":"#N/A"},{"$f":"+VLOOKUP('BASE DE RESPUESTAS'!AS32,Back!$M$16:$N$20,2,0)","v":"#N/A"},{"$f":"+VLOOKUP('BASE DE RESPUESTAS'!AT32,Back!$M$16:$N$20,2,0)","v":"#N/A"},{"$f":"+VLOOKUP('BASE DE RESPUESTAS'!AU32,Back!$M$16:$N$20,2,0)","v":"#N/A"},{"$f":"+VLOOKUP('BASE DE RESPUESTAS'!AV32,Back!$M$16:$N$20,2,0)","v":"#N/A"},{"$f":"+VLOOKUP('BASE DE RESPUESTAS'!AW32,Back!$M$16:$N$20,2,0)","v":"#N/A"},{"$f":"+VLOOKUP('BASE DE RESPUESTAS'!AX32,Back!$M$16:$N$20,2,0)","v":"#N/A"},{"$f":"+VLOOKUP('BASE DE RESPUESTAS'!AY32,Back!$M$16:$N$20,2,0)","v":"#N/A"},{"$f":"+VLOOKUP('BASE DE RESPUESTAS'!AZ32,Back!$M$16:$N$20,2,0)","v":"#N/A"},{"$f":"+VLOOKUP('BASE DE RESPUESTAS'!BA32,Back!$M$16:$N$20,2,0)","v":"#N/A"},{"$f":"+VLOOKUP('BASE DE RESPUESTAS'!BB32,Back!$M$16:$N$20,2,0)","v":"#N/A"},{"$f":"+VLOOKUP('BASE DE RESPUESTAS'!BC32,Back!$M$16:$N$20,2,0)","v":"#N/A"},{"$f":"+VLOOKUP('BASE DE RESPUESTAS'!BD32,Back!$M$16:$N$20,2,0)","v":"#N/A"},{"$f":"+VLOOKUP('BASE DE RESPUESTAS'!BE32,Back!$M$16:$N$20,2,0)","v":"#N/A"}]
[null,null,null,"La o el estudiante comprende las consecuencias positivas o negativas de sus decisiones.",11.0,"Se toma un tiempo para analizar las situaciones y entender que toda acción tiene una consecuencia lógica.",null,{"$f":"+VLOOKUP('BASE DE RESPUESTAS'!H33,Back!$M$16:$N$20,2,0)","v":"#N/A"},{"$f":"+VLOOKUP('BASE DE RESPUESTAS'!I33,Back!$M$16:$N$20,2,0)","v":"#N/A"},{"$f":"+VLOOKUP('BASE DE RESPUESTAS'!J33,Back!$M$16:$N$20,2,0)","v":"#N/A"},{"$f":"+VLOOKUP('BASE DE RESPUESTAS'!K33,Back!$M$16:$N$20,2,0)","v":"#N/A"},{"$f":"+VLOOKUP('BASE DE RESPUESTAS'!L33,Back!$M$16:$N$20,2,0)","v":"#N/A"},{"$f":"+VLOOKUP('BASE DE RESPUESTAS'!M33,Back!$M$16:$N$20,2,0)","v":"#N/A"},{"$f":"+VLOOKUP('BASE DE RESPUESTAS'!N33,Back!$M$16:$N$20,2,0)","v":"#N/A"},{"$f":"+VLOOKUP('BASE DE RESPUESTAS'!O33,Back!$M$16:$N$20,2,0)","v":"#N/A"},{"$f":"+VLOOKUP('BASE DE RESPUESTAS'!P33,Back!$M$16:$N$20,2,0)","v":"#N/A"},{"$f":"+VLOOKUP('BASE DE RESPUESTAS'!Q33,Back!$M$16:$N$20,2,0)","v":"#N/A"},{"$f":"+VLOOKUP('BASE DE RESPUESTAS'!R33,Back!$M$16:$N$20,2,0)","v":"#N/A"},{"$f":"+VLOOKUP('BASE DE RESPUESTAS'!S33,Back!$M$16:$N$20,2,0)","v":"#N/A"},{"$f":"+VLOOKUP('BASE DE RESPUESTAS'!T33,Back!$M$16:$N$20,2,0)","v":"#N/A"},{"$f":"+VLOOKUP('BASE DE RESPUESTAS'!U33,Back!$M$16:$N$20,2,0)","v":"#N/A"},{"$f":"+VLOOKUP('BASE DE RESPUESTAS'!V33,Back!$M$16:$N$20,2,0)","v":"#N/A"},{"$f":"+VLOOKUP('BASE DE RESPUESTAS'!W33,Back!$M$16:$N$20,2,0)","v":"#N/A"},{"$f":"+VLOOKUP('BASE DE RESPUESTAS'!X33,Back!$M$16:$N$20,2,0)","v":"#N/A"},{"$f":"+VLOOKUP('BASE DE RESPUESTAS'!Y33,Back!$M$16:$N$20,2,0)","v":"#N/A"},{"$f":"+VLOOKUP('BASE DE RESPUESTAS'!Z33,Back!$M$16:$N$20,2,0)","v":"#N/A"},{"$f":"+VLOOKUP('BASE DE RESPUESTAS'!AA33,Back!$M$16:$N$20,2,0)","v":"#N/A"},{"$f":"+VLOOKUP('BASE DE RESPUESTAS'!AB33,Back!$M$16:$N$20,2,0)","v":"#N/A"},{"$f":"+VLOOKUP('BASE DE RESPUESTAS'!AC33,Back!$M$16:$N$20,2,0)","v":"#N/A"},{"$f":"+VLOOKUP('BASE DE RESPUESTAS'!AD33,Back!$M$16:$N$20,2,0)","v":"#N/A"},{"$f":"+VLOOKUP('BASE DE RESPUESTAS'!AE33,Back!$M$16:$N$20,2,0)","v":"#N/A"},{"$f":"+VLOOKUP('BASE DE RESPUESTAS'!AF33,Back!$M$16:$N$20,2,0)","v":"#N/A"},{"$f":"+VLOOKUP('BASE DE RESPUESTAS'!AG33,Back!$M$16:$N$20,2,0)","v":"#N/A"},{"$f":"+VLOOKUP('BASE DE RESPUESTAS'!AH33,Back!$M$16:$N$20,2,0)","v":"#N/A"},{"$f":"+VLOOKUP('BASE DE RESPUESTAS'!AI33,Back!$M$16:$N$20,2,0)","v":"#N/A"},{"$f":"+VLOOKUP('BASE DE RESPUESTAS'!AJ33,Back!$M$16:$N$20,2,0)","v":"#N/A"},{"$f":"+VLOOKUP('BASE DE RESPUESTAS'!AK33,Back!$M$16:$N$20,2,0)","v":"#N/A"},{"$f":"+VLOOKUP('BASE DE RESPUESTAS'!AL33,Back!$M$16:$N$20,2,0)","v":"#N/A"},{"$f":"+VLOOKUP('BASE DE RESPUESTAS'!AM33,Back!$M$16:$N$20,2,0)","v":"#N/A"},{"$f":"+VLOOKUP('BASE DE RESPUESTAS'!AN33,Back!$M$16:$N$20,2,0)","v":"#N/A"},{"$f":"+VLOOKUP('BASE DE RESPUESTAS'!AO33,Back!$M$16:$N$20,2,0)","v":"#N/A"},{"$f":"+VLOOKUP('BASE DE RESPUESTAS'!AP33,Back!$M$16:$N$20,2,0)","v":"#N/A"},{"$f":"+VLOOKUP('BASE DE RESPUESTAS'!AQ33,Back!$M$16:$N$20,2,0)","v":"#N/A"},{"$f":"+VLOOKUP('BASE DE RESPUESTAS'!AR33,Back!$M$16:$N$20,2,0)","v":"#N/A"},{"$f":"+VLOOKUP('BASE DE RESPUESTAS'!AS33,Back!$M$16:$N$20,2,0)","v":"#N/A"},{"$f":"+VLOOKUP('BASE DE RESPUESTAS'!AT33,Back!$M$16:$N$20,2,0)","v":"#N/A"},{"$f":"+VLOOKUP('BASE DE RESPUESTAS'!AU33,Back!$M$16:$N$20,2,0)","v":"#N/A"},{"$f":"+VLOOKUP('BASE DE RESPUESTAS'!AV33,Back!$M$16:$N$20,2,0)","v":"#N/A"},{"$f":"+VLOOKUP('BASE DE RESPUESTAS'!AW33,Back!$M$16:$N$20,2,0)","v":"#N/A"},{"$f":"+VLOOKUP('BASE DE RESPUESTAS'!AX33,Back!$M$16:$N$20,2,0)","v":"#N/A"},{"$f":"+VLOOKUP('BASE DE RESPUESTAS'!AY33,Back!$M$16:$N$20,2,0)","v":"#N/A"},{"$f":"+VLOOKUP('BASE DE RESPUESTAS'!AZ33,Back!$M$16:$N$20,2,0)","v":"#N/A"},{"$f":"+VLOOKUP('BASE DE RESPUESTAS'!BA33,Back!$M$16:$N$20,2,0)","v":"#N/A"},{"$f":"+VLOOKUP('BASE DE RESPUESTAS'!BB33,Back!$M$16:$N$20,2,0)","v":"#N/A"},{"$f":"+VLOOKUP('BASE DE RESPUESTAS'!BC33,Back!$M$16:$N$20,2,0)","v":"#N/A"},{"$f":"+VLOOKUP('BASE DE RESPUESTAS'!BD33,Back!$M$16:$N$20,2,0)","v":"#N/A"},{"$f":"+VLOOKUP('BASE DE RESPUESTAS'!BE33,Back!$M$16:$N$20,2,0)","v":"#N/A"}]
[null,null,null,null,12.0,"Explica las consecuencias que puede traer actuar de tal o cual forma.",null,{"$f":"+VLOOKUP('BASE DE RESPUESTAS'!H34,Back!$M$16:$N$20,2,0)","v":"#N/A"},{"$f":"+VLOOKUP('BASE DE RESPUESTAS'!I34,Back!$M$16:$N$20,2,0)","v":"#N/A"},{"$f":"+VLOOKUP('BASE DE RESPUESTAS'!J34,Back!$M$16:$N$20,2,0)","v":"#N/A"},{"$f":"+VLOOKUP('BASE DE RESPUESTAS'!K34,Back!$M$16:$N$20,2,0)","v":"#N/A"},{"$f":"+VLOOKUP('BASE DE RESPUESTAS'!L34,Back!$M$16:$N$20,2,0)","v":"#N/A"},{"$f":"+VLOOKUP('BASE DE RESPUESTAS'!M34,Back!$M$16:$N$20,2,0)","v":"#N/A"},{"$f":"+VLOOKUP('BASE DE RESPUESTAS'!N34,Back!$M$16:$N$20,2,0)","v":"#N/A"},{"$f":"+VLOOKUP('BASE DE RESPUESTAS'!O34,Back!$M$16:$N$20,2,0)","v":"#N/A"},{"$f":"+VLOOKUP('BASE DE RESPUESTAS'!P34,Back!$M$16:$N$20,2,0)","v":"#N/A"},{"$f":"+VLOOKUP('BASE DE RESPUESTAS'!Q34,Back!$M$16:$N$20,2,0)","v":"#N/A"},{"$f":"+VLOOKUP('BASE DE RESPUESTAS'!R34,Back!$M$16:$N$20,2,0)","v":"#N/A"},{"$f":"+VLOOKUP('BASE DE RESPUESTAS'!S34,Back!$M$16:$N$20,2,0)","v":"#N/A"},{"$f":"+VLOOKUP('BASE DE RESPUESTAS'!T34,Back!$M$16:$N$20,2,0)","v":"#N/A"},{"$f":"+VLOOKUP('BASE DE RESPUESTAS'!U34,Back!$M$16:$N$20,2,0)","v":"#N/A"},{"$f":"+VLOOKUP('BASE DE RESPUESTAS'!V34,Back!$M$16:$N$20,2,0)","v":"#N/A"},{"$f":"+VLOOKUP('BASE DE RESPUESTAS'!W34,Back!$M$16:$N$20,2,0)","v":"#N/A"},{"$f":"+VLOOKUP('BASE DE RESPUESTAS'!X34,Back!$M$16:$N$20,2,0)","v":"#N/A"},{"$f":"+VLOOKUP('BASE DE RESPUESTAS'!Y34,Back!$M$16:$N$20,2,0)","v":"#N/A"},{"$f":"+VLOOKUP('BASE DE RESPUESTAS'!Z34,Back!$M$16:$N$20,2,0)","v":"#N/A"},{"$f":"+VLOOKUP('BASE DE RESPUESTAS'!AA34,Back!$M$16:$N$20,2,0)","v":"#N/A"},{"$f":"+VLOOKUP('BASE DE RESPUESTAS'!AB34,Back!$M$16:$N$20,2,0)","v":"#N/A"},{"$f":"+VLOOKUP('BASE DE RESPUESTAS'!AC34,Back!$M$16:$N$20,2,0)","v":"#N/A"},{"$f":"+VLOOKUP('BASE DE RESPUESTAS'!AD34,Back!$M$16:$N$20,2,0)","v":"#N/A"},{"$f":"+VLOOKUP('BASE DE RESPUESTAS'!AE34,Back!$M$16:$N$20,2,0)","v":"#N/A"},{"$f":"+VLOOKUP('BASE DE RESPUESTAS'!AF34,Back!$M$16:$N$20,2,0)","v":"#N/A"},{"$f":"+VLOOKUP('BASE DE RESPUESTAS'!AG34,Back!$M$16:$N$20,2,0)","v":"#N/A"},{"$f":"+VLOOKUP('BASE DE RESPUESTAS'!AH34,Back!$M$16:$N$20,2,0)","v":"#N/A"},{"$f":"+VLOOKUP('BASE DE RESPUESTAS'!AI34,Back!$M$16:$N$20,2,0)","v":"#N/A"},{"$f":"+VLOOKUP('BASE DE RESPUESTAS'!AJ34,Back!$M$16:$N$20,2,0)","v":"#N/A"},{"$f":"+VLOOKUP('BASE DE RESPUESTAS'!AK34,Back!$M$16:$N$20,2,0)","v":"#N/A"},{"$f":"+VLOOKUP('BASE DE RESPUESTAS'!AL34,Back!$M$16:$N$20,2,0)","v":"#N/A"},{"$f":"+VLOOKUP('BASE DE RESPUESTAS'!AM34,Back!$M$16:$N$20,2,0)","v":"#N/A"},{"$f":"+VLOOKUP('BASE DE RESPUESTAS'!AN34,Back!$M$16:$N$20,2,0)","v":"#N/A"},{"$f":"+VLOOKUP('BASE DE RESPUESTAS'!AO34,Back!$M$16:$N$20,2,0)","v":"#N/A"},{"$f":"+VLOOKUP('BASE DE RESPUESTAS'!AP34,Back!$M$16:$N$20,2,0)","v":"#N/A"},{"$f":"+VLOOKUP('BASE DE RESPUESTAS'!AQ34,Back!$M$16:$N$20,2,0)","v":"#N/A"},{"$f":"+VLOOKUP('BASE DE RESPUESTAS'!AR34,Back!$M$16:$N$20,2,0)","v":"#N/A"},{"$f":"+VLOOKUP('BASE DE RESPUESTAS'!AS34,Back!$M$16:$N$20,2,0)","v":"#N/A"},{"$f":"+VLOOKUP('BASE DE RESPUESTAS'!AT34,Back!$M$16:$N$20,2,0)","v":"#N/A"},{"$f":"+VLOOKUP('BASE DE RESPUESTAS'!AU34,Back!$M$16:$N$20,2,0)","v":"#N/A"},{"$f":"+VLOOKUP('BASE DE RESPUESTAS'!AV34,Back!$M$16:$N$20,2,0)","v":"#N/A"},{"$f":"+VLOOKUP('BASE DE RESPUESTAS'!AW34,Back!$M$16:$N$20,2,0)","v":"#N/A"},{"$f":"+VLOOKUP('BASE DE RESPUESTAS'!AX34,Back!$M$16:$N$20,2,0)","v":"#N/A"},{"$f":"+VLOOKUP('BASE DE RESPUESTAS'!AY34,Back!$M$16:$N$20,2,0)","v":"#N/A"},{"$f":"+VLOOKUP('BASE DE RESPUESTAS'!AZ34,Back!$M$16:$N$20,2,0)","v":"#N/A"},{"$f":"+VLOOKUP('BASE DE RESPUESTAS'!BA34,Back!$M$16:$N$20,2,0)","v":"#N/A"},{"$f":"+VLOOKUP('BASE DE RESPUESTAS'!BB34,Back!$M$16:$N$20,2,0)","v":"#N/A"},{"$f":"+VLOOKUP('BASE DE RESPUESTAS'!BC34,Back!$M$16:$N$20,2,0)","v":"#N/A"},{"$f":"+VLOOKUP('BASE DE RESPUESTAS'!BD34,Back!$M$16:$N$20,2,0)","v":"#N/A"},{"$f":"+VLOOKUP('BASE DE RESPUESTAS'!BE34,Back!$M$16:$N$20,2,0)","v":"#N/A"}]
[null,"HSE","Comunicación asertiva","La o el estudiante practica la escucha activa.",13.0,"Cuando un compañero le habla, lo respeta, presta atención a sus palabras y es capaz de responder algo relacionado a lo dicho.",null,{"$f":"+VLOOKUP('BASE DE RESPUESTAS'!H35,Back!$M$16:$N$20,2,0)","v":"#N/A"},{"$f":"+VLOOKUP('BASE DE RESPUESTAS'!I35,Back!$M$16:$N$20,2,0)","v":"#N/A"},{"$f":"+VLOOKUP('BASE DE RESPUESTAS'!J35,Back!$M$16:$N$20,2,0)","v":"#N/A"},{"$f":"+VLOOKUP('BASE DE RESPUESTAS'!K35,Back!$M$16:$N$20,2,0)","v":"#N/A"},{"$f":"+VLOOKUP('BASE DE RESPUESTAS'!L35,Back!$M$16:$N$20,2,0)","v":"#N/A"},{"$f":"+VLOOKUP('BASE DE RESPUESTAS'!M35,Back!$M$16:$N$20,2,0)","v":"#N/A"},{"$f":"+VLOOKUP('BASE DE RESPUESTAS'!N35,Back!$M$16:$N$20,2,0)","v":"#N/A"},{"$f":"+VLOOKUP('BASE DE RESPUESTAS'!O35,Back!$M$16:$N$20,2,0)","v":"#N/A"},{"$f":"+VLOOKUP('BASE DE RESPUESTAS'!P35,Back!$M$16:$N$20,2,0)","v":"#N/A"},{"$f":"+VLOOKUP('BASE DE RESPUESTAS'!Q35,Back!$M$16:$N$20,2,0)","v":"#N/A"},{"$f":"+VLOOKUP('BASE DE RESPUESTAS'!R35,Back!$M$16:$N$20,2,0)","v":"#N/A"},{"$f":"+VLOOKUP('BASE DE RESPUESTAS'!S35,Back!$M$16:$N$20,2,0)","v":"#N/A"},{"$f":"+VLOOKUP('BASE DE RESPUESTAS'!T35,Back!$M$16:$N$20,2,0)","v":"#N/A"},{"$f":"+VLOOKUP('BASE DE RESPUESTAS'!U35,Back!$M$16:$N$20,2,0)","v":"#N/A"},{"$f":"+VLOOKUP('BASE DE RESPUESTAS'!V35,Back!$M$16:$N$20,2,0)","v":"#N/A"},{"$f":"+VLOOKUP('BASE DE RESPUESTAS'!W35,Back!$M$16:$N$20,2,0)","v":"#N/A"},{"$f":"+VLOOKUP('BASE DE RESPUESTAS'!X35,Back!$M$16:$N$20,2,0)","v":"#N/A"},{"$f":"+VLOOKUP('BASE DE RESPUESTAS'!Y35,Back!$M$16:$N$20,2,0)","v":"#N/A"},{"$f":"+VLOOKUP('BASE DE RESPUESTAS'!Z35,Back!$M$16:$N$20,2,0)","v":"#N/A"},{"$f":"+VLOOKUP('BASE DE RESPUESTAS'!AA35,Back!$M$16:$N$20,2,0)","v":"#N/A"},{"$f":"+VLOOKUP('BASE DE RESPUESTAS'!AB35,Back!$M$16:$N$20,2,0)","v":"#N/A"},{"$f":"+VLOOKUP('BASE DE RESPUESTAS'!AC35,Back!$M$16:$N$20,2,0)","v":"#N/A"},{"$f":"+VLOOKUP('BASE DE RESPUESTAS'!AD35,Back!$M$16:$N$20,2,0)","v":"#N/A"},{"$f":"+VLOOKUP('BASE DE RESPUESTAS'!AE35,Back!$M$16:$N$20,2,0)","v":"#N/A"},{"$f":"+VLOOKUP('BASE DE RESPUESTAS'!AF35,Back!$M$16:$N$20,2,0)","v":"#N/A"},{"$f":"+VLOOKUP('BASE DE RESPUESTAS'!AG35,Back!$M$16:$N$20,2,0)","v":"#N/A"},{"$f":"+VLOOKUP('BASE DE RESPUESTAS'!AH35,Back!$M$16:$N$20,2,0)","v":"#N/A"},{"$f":"+VLOOKUP('BASE DE RESPUESTAS'!AI35,Back!$M$16:$N$20,2,0)","v":"#N/A"},{"$f":"+VLOOKUP('BASE DE RESPUESTAS'!AJ35,Back!$M$16:$N$20,2,0)","v":"#N/A"},{"$f":"+VLOOKUP('BASE DE RESPUESTAS'!AK35,Back!$M$16:$N$20,2,0)","v":"#N/A"},{"$f":"+VLOOKUP('BASE DE RESPUESTAS'!AL35,Back!$M$16:$N$20,2,0)","v":"#N/A"},{"$f":"+VLOOKUP('BASE DE RESPUESTAS'!AM35,Back!$M$16:$N$20,2,0)","v":"#N/A"},{"$f":"+VLOOKUP('BASE DE RESPUESTAS'!AN35,Back!$M$16:$N$20,2,0)","v":"#N/A"},{"$f":"+VLOOKUP('BASE DE RESPUESTAS'!AO35,Back!$M$16:$N$20,2,0)","v":"#N/A"},{"$f":"+VLOOKUP('BASE DE RESPUESTAS'!AP35,Back!$M$16:$N$20,2,0)","v":"#N/A"},{"$f":"+VLOOKUP('BASE DE RESPUESTAS'!AQ35,Back!$M$16:$N$20,2,0)","v":"#N/A"},{"$f":"+VLOOKUP('BASE DE RESPUESTAS'!AR35,Back!$M$16:$N$20,2,0)","v":"#N/A"},{"$f":"+VLOOKUP('BASE DE RESPUESTAS'!AS35,Back!$M$16:$N$20,2,0)","v":"#N/A"},{"$f":"+VLOOKUP('BASE DE RESPUESTAS'!AT35,Back!$M$16:$N$20,2,0)","v":"#N/A"},{"$f":"+VLOOKUP('BASE DE RESPUESTAS'!AU35,Back!$M$16:$N$20,2,0)","v":"#N/A"},{"$f":"+VLOOKUP('BASE DE RESPUESTAS'!AV35,Back!$M$16:$N$20,2,0)","v":"#N/A"},{"$f":"+VLOOKUP('BASE DE RESPUESTAS'!AW35,Back!$M$16:$N$20,2,0)","v":"#N/A"},{"$f":"+VLOOKUP('BASE DE RESPUESTAS'!AX35,Back!$M$16:$N$20,2,0)","v":"#N/A"},{"$f":"+VLOOKUP('BASE DE RESPUESTAS'!AY35,Back!$M$16:$N$20,2,0)","v":"#N/A"},{"$f":"+VLOOKUP('BASE DE RESPUESTAS'!AZ35,Back!$M$16:$N$20,2,0)","v":"#N/A"},{"$f":"+VLOOKUP('BASE DE RESPUESTAS'!BA35,Back!$M$16:$N$20,2,0)","v":"#N/A"},{"$f":"+VLOOKUP('BASE DE RESPUESTAS'!BB35,Back!$M$16:$N$20,2,0)","v":"#N/A"},{"$f":"+VLOOKUP('BASE DE RESPUESTAS'!BC35,Back!$M$16:$N$20,2,0)","v":"#N/A"},{"$f":"+VLOOKUP('BASE DE RESPUESTAS'!BD35,Back!$M$16:$N$20,2,0)","v":"#N/A"},{"$f":"+VLOOKUP('BASE DE RESPUESTAS'!BE35,Back!$M$16:$N$20,2,0)","v":"#N/A"}]
[null,null,null,null,14.0,"Levanta la mano y espera su turno para dar su opinión.",null,{"$f":"+VLOOKUP('BASE DE RESPUESTAS'!H36,Back!$M$16:$N$20,2,0)","v":"#N/A"},{"$f":"+VLOOKUP('BASE DE RESPUESTAS'!I36,Back!$M$16:$N$20,2,0)","v":"#N/A"},{"$f":"+VLOOKUP('BASE DE RESPUESTAS'!J36,Back!$M$16:$N$20,2,0)","v":"#N/A"},{"$f":"+VLOOKUP('BASE DE RESPUESTAS'!K36,Back!$M$16:$N$20,2,0)","v":"#N/A"},{"$f":"+VLOOKUP('BASE DE RESPUESTAS'!L36,Back!$M$16:$N$20,2,0)","v":"#N/A"},{"$f":"+VLOOKUP('BASE DE RESPUESTAS'!M36,Back!$M$16:$N$20,2,0)","v":"#N/A"},{"$f":"+VLOOKUP('BASE DE RESPUESTAS'!N36,Back!$M$16:$N$20,2,0)","v":"#N/A"},{"$f":"+VLOOKUP('BASE DE RESPUESTAS'!O36,Back!$M$16:$N$20,2,0)","v":"#N/A"},{"$f":"+VLOOKUP('BASE DE RESPUESTAS'!P36,Back!$M$16:$N$20,2,0)","v":"#N/A"},{"$f":"+VLOOKUP('BASE DE RESPUESTAS'!Q36,Back!$M$16:$N$20,2,0)","v":"#N/A"},{"$f":"+VLOOKUP('BASE DE RESPUESTAS'!R36,Back!$M$16:$N$20,2,0)","v":"#N/A"},{"$f":"+VLOOKUP('BASE DE RESPUESTAS'!S36,Back!$M$16:$N$20,2,0)","v":"#N/A"},{"$f":"+VLOOKUP('BASE DE RESPUESTAS'!T36,Back!$M$16:$N$20,2,0)","v":"#N/A"},{"$f":"+VLOOKUP('BASE DE RESPUESTAS'!U36,Back!$M$16:$N$20,2,0)","v":"#N/A"},{"$f":"+VLOOKUP('BASE DE RESPUESTAS'!V36,Back!$M$16:$N$20,2,0)","v":"#N/A"},{"$f":"+VLOOKUP('BASE DE RESPUESTAS'!W36,Back!$M$16:$N$20,2,0)","v":"#N/A"},{"$f":"+VLOOKUP('BASE DE RESPUESTAS'!X36,Back!$M$16:$N$20,2,0)","v":"#N/A"},{"$f":"+VLOOKUP('BASE DE RESPUESTAS'!Y36,Back!$M$16:$N$20,2,0)","v":"#N/A"},{"$f":"+VLOOKUP('BASE DE RESPUESTAS'!Z36,Back!$M$16:$N$20,2,0)","v":"#N/A"},{"$f":"+VLOOKUP('BASE DE RESPUESTAS'!AA36,Back!$M$16:$N$20,2,0)","v":"#N/A"},{"$f":"+VLOOKUP('BASE DE RESPUESTAS'!AB36,Back!$M$16:$N$20,2,0)","v":"#N/A"},{"$f":"+VLOOKUP('BASE DE RESPUESTAS'!AC36,Back!$M$16:$N$20,2,0)","v":"#N/A"},{"$f":"+VLOOKUP('BASE DE RESPUESTAS'!AD36,Back!$M$16:$N$20,2,0)","v":"#N/A"},{"$f":"+VLOOKUP('BASE DE RESPUESTAS'!AE36,Back!$M$16:$N$20,2,0)","v":"#N/A"},{"$f":"+VLOOKUP('BASE DE RESPUESTAS'!AF36,Back!$M$16:$N$20,2,0)","v":"#N/A"},{"$f":"+VLOOKUP('BASE DE RESPUESTAS'!AG36,Back!$M$16:$N$20,2,0)","v":"#N/A"},{"$f":"+VLOOKUP('BASE DE RESPUESTAS'!AH36,Back!$M$16:$N$20,2,0)","v":"#N/A"},{"$f":"+VLOOKUP('BASE DE RESPUESTAS'!AI36,Back!$M$16:$N$20,2,0)","v":"#N/A"},{"$f":"+VLOOKUP('BASE DE RESPUESTAS'!AJ36,Back!$M$16:$N$20,2,0)","v":"#N/A"},{"$f":"+VLOOKUP('BASE DE RESPUESTAS'!AK36,Back!$M$16:$N$20,2,0)","v":"#N/A"},{"$f":"+VLOOKUP('BASE DE RESPUESTAS'!AL36,Back!$M$16:$N$20,2,0)","v":"#N/A"},{"$f":"+VLOOKUP('BASE DE RESPUESTAS'!AM36,Back!$M$16:$N$20,2,0)","v":"#N/A"},{"$f":"+VLOOKUP('BASE DE RESPUESTAS'!AN36,Back!$M$16:$N$20,2,0)","v":"#N/A"},{"$f":"+VLOOKUP('BASE DE RESPUESTAS'!AO36,Back!$M$16:$N$20,2,0)","v":"#N/A"},{"$f":"+VLOOKUP('BASE DE RESPUESTAS'!AP36,Back!$M$16:$N$20,2,0)","v":"#N/A"},{"$f":"+VLOOKUP('BASE DE RESPUESTAS'!AQ36,Back!$M$16:$N$20,2,0)","v":"#N/A"},{"$f":"+VLOOKUP('BASE DE RESPUESTAS'!AR36,Back!$M$16:$N$20,2,0)","v":"#N/A"},{"$f":"+VLOOKUP('BASE DE RESPUESTAS'!AS36,Back!$M$16:$N$20,2,0)","v":"#N/A"},{"$f":"+VLOOKUP('BASE DE RESPUESTAS'!AT36,Back!$M$16:$N$20,2,0)","v":"#N/A"},{"$f":"+VLOOKUP('BASE DE RESPUESTAS'!AU36,Back!$M$16:$N$20,2,0)","v":"#N/A"},{"$f":"+VLOOKUP('BASE DE RESPUESTAS'!AV36,Back!$M$16:$N$20,2,0)","v":"#N/A"},{"$f":"+VLOOKUP('BASE DE RESPUESTAS'!AW36,Back!$M$16:$N$20,2,0)","v":"#N/A"},{"$f":"+VLOOKUP('BASE DE RESPUESTAS'!AX36,Back!$M$16:$N$20,2,0)","v":"#N/A"},{"$f":"+VLOOKUP('BASE DE RESPUESTAS'!AY36,Back!$M$16:$N$20,2,0)","v":"#N/A"},{"$f":"+VLOOKUP('BASE DE RESPUESTAS'!AZ36,Back!$M$16:$N$20,2,0)","v":"#N/A"},{"$f":"+VLOOKUP('BASE DE RESPUESTAS'!BA36,Back!$M$16:$N$20,2,0)","v":"#N/A"},{"$f":"+VLOOKUP('BASE DE RESPUESTAS'!BB36,Back!$M$16:$N$20,2,0)","v":"#N/A"},{"$f":"+VLOOKUP('BASE DE RESPUESTAS'!BC36,Back!$M$16:$N$20,2,0)","v":"#N/A"},{"$f":"+VLOOKUP('BASE DE RESPUESTAS'!BD36,Back!$M$16:$N$20,2,0)","v":"#N/A"},{"$f":"+VLOOKUP('BASE DE RESPUESTAS'!BE36,Back!$M$16:$N$20,2,0)","v":"#N/A"}]
[null,null,null,"La o el estudiante comunica de forma clara sus necesidades e intereses, sin agredir a otras personas.",15.0,"Expresa con amabilidad lo que piensa y siente.",null,{"$f":"+VLOOKUP('BASE DE RESPUESTAS'!H37,Back!$M$16:$N$20,2,0)","v":"#N/A"},{"$f":"+VLOOKUP('BASE DE RESPUESTAS'!I37,Back!$M$16:$N$20,2,0)","v":"#N/A"},{"$f":"+VLOOKUP('BASE DE RESPUESTAS'!J37,Back!$M$16:$N$20,2,0)","v":"#N/A"},{"$f":"+VLOOKUP('BASE DE RESPUESTAS'!K37,Back!$M$16:$N$20,2,0)","v":"#N/A"},{"$f":"+VLOOKUP('BASE DE RESPUESTAS'!L37,Back!$M$16:$N$20,2,0)","v":"#N/A"},{"$f":"+VLOOKUP('BASE DE RESPUESTAS'!M37,Back!$M$16:$N$20,2,0)","v":"#N/A"},{"$f":"+VLOOKUP('BASE DE RESPUESTAS'!N37,Back!$M$16:$N$20,2,0)","v":"#N/A"},{"$f":"+VLOOKUP('BASE DE RESPUESTAS'!O37,Back!$M$16:$N$20,2,0)","v":"#N/A"},{"$f":"+VLOOKUP('BASE DE RESPUESTAS'!P37,Back!$M$16:$N$20,2,0)","v":"#N/A"},{"$f":"+VLOOKUP('BASE DE RESPUESTAS'!Q37,Back!$M$16:$N$20,2,0)","v":"#N/A"},{"$f":"+VLOOKUP('BASE DE RESPUESTAS'!R37,Back!$M$16:$N$20,2,0)","v":"#N/A"},{"$f":"+VLOOKUP('BASE DE RESPUESTAS'!S37,Back!$M$16:$N$20,2,0)","v":"#N/A"},{"$f":"+VLOOKUP('BASE DE RESPUESTAS'!T37,Back!$M$16:$N$20,2,0)","v":"#N/A"},{"$f":"+VLOOKUP('BASE DE RESPUESTAS'!U37,Back!$M$16:$N$20,2,0)","v":"#N/A"},{"$f":"+VLOOKUP('BASE DE RESPUESTAS'!V37,Back!$M$16:$N$20,2,0)","v":"#N/A"},{"$f":"+VLOOKUP('BASE DE RESPUESTAS'!W37,Back!$M$16:$N$20,2,0)","v":"#N/A"},{"$f":"+VLOOKUP('BASE DE RESPUESTAS'!X37,Back!$M$16:$N$20,2,0)","v":"#N/A"},{"$f":"+VLOOKUP('BASE DE RESPUESTAS'!Y37,Back!$M$16:$N$20,2,0)","v":"#N/A"},{"$f":"+VLOOKUP('BASE DE RESPUESTAS'!Z37,Back!$M$16:$N$20,2,0)","v":"#N/A"},{"$f":"+VLOOKUP('BASE DE RESPUESTAS'!AA37,Back!$M$16:$N$20,2,0)","v":"#N/A"},{"$f":"+VLOOKUP('BASE DE RESPUESTAS'!AB37,Back!$M$16:$N$20,2,0)","v":"#N/A"},{"$f":"+VLOOKUP('BASE DE RESPUESTAS'!AC37,Back!$M$16:$N$20,2,0)","v":"#N/A"},{"$f":"+VLOOKUP('BASE DE RESPUESTAS'!AD37,Back!$M$16:$N$20,2,0)","v":"#N/A"},{"$f":"+VLOOKUP('BASE DE RESPUESTAS'!AE37,Back!$M$16:$N$20,2,0)","v":"#N/A"},{"$f":"+VLOOKUP('BASE DE RESPUESTAS'!AF37,Back!$M$16:$N$20,2,0)","v":"#N/A"},{"$f":"+VLOOKUP('BASE DE RESPUESTAS'!AG37,Back!$M$16:$N$20,2,0)","v":"#N/A"},{"$f":"+VLOOKUP('BASE DE RESPUESTAS'!AH37,Back!$M$16:$N$20,2,0)","v":"#N/A"},{"$f":"+VLOOKUP('BASE DE RESPUESTAS'!AI37,Back!$M$16:$N$20,2,0)","v":"#N/A"},{"$f":"+VLOOKUP('BASE DE RESPUESTAS'!AJ37,Back!$M$16:$N$20,2,0)","v":"#N/A"},{"$f":"+VLOOKUP('BASE DE RESPUESTAS'!AK37,Back!$M$16:$N$20,2,0)","v":"#N/A"},{"$f":"+VLOOKUP('BASE DE RESPUESTAS'!AL37,Back!$M$16:$N$20,2,0)","v":"#N/A"},{"$f":"+VLOOKUP('BASE DE RESPUESTAS'!AM37,Back!$M$16:$N$20,2,0)","v":"#N/A"},{"$f":"+VLOOKUP('BASE DE RESPUESTAS'!AN37,Back!$M$16:$N$20,2,0)","v":"#N/A"},{"$f":"+VLOOKUP('BASE DE RESPUESTAS'!AO37,Back!$M$16:$N$20,2,0)","v":"#N/A"},{"$f":"+VLOOKUP('BASE DE RESPUESTAS'!AP37,Back!$M$16:$N$20,2,0)","v":"#N/A"},{"$f":"+VLOOKUP('BASE DE RESPUESTAS'!AQ37,Back!$M$16:$N$20,2,0)","v":"#N/A"},{"$f":"+VLOOKUP('BASE DE RESPUESTAS'!AR37,Back!$M$16:$N$20,2,0)","v":"#N/A"},{"$f":"+VLOOKUP('BASE DE RESPUESTAS'!AS37,Back!$M$16:$N$20,2,0)","v":"#N/A"},{"$f":"+VLOOKUP('BASE DE RESPUESTAS'!AT37,Back!$M$16:$N$20,2,0)","v":"#N/A"},{"$f":"+VLOOKUP('BASE DE RESPUESTAS'!AU37,Back!$M$16:$N$20,2,0)","v":"#N/A"},{"$f":"+VLOOKUP('BASE DE RESPUESTAS'!AV37,Back!$M$16:$N$20,2,0)","v":"#N/A"},{"$f":"+VLOOKUP('BASE DE RESPUESTAS'!AW37,Back!$M$16:$N$20,2,0)","v":"#N/A"},{"$f":"+VLOOKUP('BASE DE RESPUESTAS'!AX37,Back!$M$16:$N$20,2,0)","v":"#N/A"},{"$f":"+VLOOKUP('BASE DE RESPUESTAS'!AY37,Back!$M$16:$N$20,2,0)","v":"#N/A"},{"$f":"+VLOOKUP('BASE DE RESPUESTAS'!AZ37,Back!$M$16:$N$20,2,0)","v":"#N/A"},{"$f":"+VLOOKUP('BASE DE RESPUESTAS'!BA37,Back!$M$16:$N$20,2,0)","v":"#N/A"},{"$f":"+VLOOKUP('BASE DE RESPUESTAS'!BB37,Back!$M$16:$N$20,2,0)","v":"#N/A"},{"$f":"+VLOOKUP('BASE DE RESPUESTAS'!BC37,Back!$M$16:$N$20,2,0)","v":"#N/A"},{"$f":"+VLOOKUP('BASE DE RESPUESTAS'!BD37,Back!$M$16:$N$20,2,0)","v":"#N/A"},{"$f":"+VLOOKUP('BASE DE RESPUESTAS'!BE37,Back!$M$16:$N$20,2,0)","v":"#N/A"}]
[null,null,null,null,16.0,"Es capaz de comunicar alguna discrepancia, sin ser ofensivo a los demás.",null,{"$f":"+VLOOKUP('BASE DE RESPUESTAS'!H38,Back!$M$16:$N$20,2,0)","v":"#N/A"},{"$f":"+VLOOKUP('BASE DE RESPUESTAS'!I38,Back!$M$16:$N$20,2,0)","v":"#N/A"},{"$f":"+VLOOKUP('BASE DE RESPUESTAS'!J38,Back!$M$16:$N$20,2,0)","v":"#N/A"},{"$f":"+VLOOKUP('BASE DE RESPUESTAS'!K38,Back!$M$16:$N$20,2,0)","v":"#N/A"},{"$f":"+VLOOKUP('BASE DE RESPUESTAS'!L38,Back!$M$16:$N$20,2,0)","v":"#N/A"},{"$f":"+VLOOKUP('BASE DE RESPUESTAS'!M38,Back!$M$16:$N$20,2,0)","v":"#N/A"},{"$f":"+VLOOKUP('BASE DE RESPUESTAS'!N38,Back!$M$16:$N$20,2,0)","v":"#N/A"},{"$f":"+VLOOKUP('BASE DE RESPUESTAS'!O38,Back!$M$16:$N$20,2,0)","v":"#N/A"},{"$f":"+VLOOKUP('BASE DE RESPUESTAS'!P38,Back!$M$16:$N$20,2,0)","v":"#N/A"},{"$f":"+VLOOKUP('BASE DE RESPUESTAS'!Q38,Back!$M$16:$N$20,2,0)","v":"#N/A"},{"$f":"+VLOOKUP('BASE DE RESPUESTAS'!R38,Back!$M$16:$N$20,2,0)","v":"#N/A"},{"$f":"+VLOOKUP('BASE DE RESPUESTAS'!S38,Back!$M$16:$N$20,2,0)","v":"#N/A"},{"$f":"+VLOOKUP('BASE DE RESPUESTAS'!T38,Back!$M$16:$N$20,2,0)","v":"#N/A"},{"$f":"+VLOOKUP('BASE DE RESPUESTAS'!U38,Back!$M$16:$N$20,2,0)","v":"#N/A"},{"$f":"+VLOOKUP('BASE DE RESPUESTAS'!V38,Back!$M$16:$N$20,2,0)","v":"#N/A"},{"$f":"+VLOOKUP('BASE DE RESPUESTAS'!W38,Back!$M$16:$N$20,2,0)","v":"#N/A"},{"$f":"+VLOOKUP('BASE DE RESPUESTAS'!X38,Back!$M$16:$N$20,2,0)","v":"#N/A"},{"$f":"+VLOOKUP('BASE DE RESPUESTAS'!Y38,Back!$M$16:$N$20,2,0)","v":"#N/A"},{"$f":"+VLOOKUP('BASE DE RESPUESTAS'!Z38,Back!$M$16:$N$20,2,0)","v":"#N/A"},{"$f":"+VLOOKUP('BASE DE RESPUESTAS'!AA38,Back!$M$16:$N$20,2,0)","v":"#N/A"},{"$f":"+VLOOKUP('BASE DE RESPUESTAS'!AB38,Back!$M$16:$N$20,2,0)","v":"#N/A"},{"$f":"+VLOOKUP('BASE DE RESPUESTAS'!AC38,Back!$M$16:$N$20,2,0)","v":"#N/A"},{"$f":"+VLOOKUP('BASE DE RESPUESTAS'!AD38,Back!$M$16:$N$20,2,0)","v":"#N/A"},{"$f":"+VLOOKUP('BASE DE RESPUESTAS'!AE38,Back!$M$16:$N$20,2,0)","v":"#N/A"},{"$f":"+VLOOKUP('BASE DE RESPUESTAS'!AF38,Back!$M$16:$N$20,2,0)","v":"#N/A"},{"$f":"+VLOOKUP('BASE DE RESPUESTAS'!AG38,Back!$M$16:$N$20,2,0)","v":"#N/A"},{"$f":"+VLOOKUP('BASE DE RESPUESTAS'!AH38,Back!$M$16:$N$20,2,0)","v":"#N/A"},{"$f":"+VLOOKUP('BASE DE RESPUESTAS'!AI38,Back!$M$16:$N$20,2,0)","v":"#N/A"},{"$f":"+VLOOKUP('BASE DE RESPUESTAS'!AJ38,Back!$M$16:$N$20,2,0)","v":"#N/A"},{"$f":"+VLOOKUP('BASE DE RESPUESTAS'!AK38,Back!$M$16:$N$20,2,0)","v":"#N/A"},{"$f":"+VLOOKUP('BASE DE RESPUESTAS'!AL38,Back!$M$16:$N$20,2,0)","v":"#N/A"},{"$f":"+VLOOKUP('BASE DE RESPUESTAS'!AM38,Back!$M$16:$N$20,2,0)","v":"#N/A"},{"$f":"+VLOOKUP('BASE DE RESPUESTAS'!AN38,Back!$M$16:$N$20,2,0)","v":"#N/A"},{"$f":"+VLOOKUP('BASE DE RESPUESTAS'!AO38,Back!$M$16:$N$20,2,0)","v":"#N/A"},{"$f":"+VLOOKUP('BASE DE RESPUESTAS'!AP38,Back!$M$16:$N$20,2,0)","v":"#N/A"},{"$f":"+VLOOKUP('BASE DE RESPUESTAS'!AQ38,Back!$M$16:$N$20,2,0)","v":"#N/A"},{"$f":"+VLOOKUP('BASE DE RESPUESTAS'!AR38,Back!$M$16:$N$20,2,0)","v":"#N/A"},{"$f":"+VLOOKUP('BASE DE RESPUESTAS'!AS38,Back!$M$16:$N$20,2,0)","v":"#N/A"},{"$f":"+VLOOKUP('BASE DE RESPUESTAS'!AT38,Back!$M$16:$N$20,2,0)","v":"#N/A"},{"$f":"+VLOOKUP('BASE DE RESPUESTAS'!AU38,Back!$M$16:$N$20,2,0)","v":"#N/A"},{"$f":"+VLOOKUP('BASE DE RESPUESTAS'!AV38,Back!$M$16:$N$20,2,0)","v":"#N/A"},{"$f":"+VLOOKUP('BASE DE RESPUESTAS'!AW38,Back!$M$16:$N$20,2,0)","v":"#N/A"},{"$f":"+VLOOKUP('BASE DE RESPUESTAS'!AX38,Back!$M$16:$N$20,2,0)","v":"#N/A"},{"$f":"+VLOOKUP('BASE DE RESPUESTAS'!AY38,Back!$M$16:$N$20,2,0)","v":"#N/A"},{"$f":"+VLOOKUP('BASE DE RESPUESTAS'!AZ38,Back!$M$16:$N$20,2,0)","v":"#N/A"},{"$f":"+VLOOKUP('BASE DE RESPUESTAS'!BA38,Back!$M$16:$N$20,2,0)","v":"#N/A"},{"$f":"+VLOOKUP('BASE DE RESPUESTAS'!BB38,Back!$M$16:$N$20,2,0)","v":"#N/A"},{"$f":"+VLOOKUP('BASE DE RESPUESTAS'!BC38,Back!$M$16:$N$20,2,0)","v":"#N/A"},{"$f":"+VLOOKUP('BASE DE RESPUESTAS'!BD38,Back!$M$16:$N$20,2,0)","v":"#N/A"},{"$f":"+VLOOKUP('BASE DE RESPUESTAS'!BE38,Back!$M$16:$N$20,2,0)","v":"#N/A"}]
[null,"HSE","Trabajo en equipo","La o el estudiante trabaja con sus compañeras/os colaborativamente.",17.0,"Se integra a las diferentes actividades, fuera y dentro del aula, con sus compañeros.",null,{"$f":"+VLOOKUP('BASE DE RESPUESTAS'!H39,Back!$M$16:$N$20,2,0)","v":"#N/A"},{"$f":"+VLOOKUP('BASE DE RESPUESTAS'!I39,Back!$M$16:$N$20,2,0)","v":"#N/A"},{"$f":"+VLOOKUP('BASE DE RESPUESTAS'!J39,Back!$M$16:$N$20,2,0)","v":"#N/A"},{"$f":"+VLOOKUP('BASE DE RESPUESTAS'!K39,Back!$M$16:$N$20,2,0)","v":"#N/A"},{"$f":"+VLOOKUP('BASE DE RESPUESTAS'!L39,Back!$M$16:$N$20,2,0)","v":"#N/A"},{"$f":"+VLOOKUP('BASE DE RESPUESTAS'!M39,Back!$M$16:$N$20,2,0)","v":"#N/A"},{"$f":"+VLOOKUP('BASE DE RESPUESTAS'!N39,Back!$M$16:$N$20,2,0)","v":"#N/A"},{"$f":"+VLOOKUP('BASE DE RESPUESTAS'!O39,Back!$M$16:$N$20,2,0)","v":"#N/A"},{"$f":"+VLOOKUP('BASE DE RESPUESTAS'!P39,Back!$M$16:$N$20,2,0)","v":"#N/A"},{"$f":"+VLOOKUP('BASE DE RESPUESTAS'!Q39,Back!$M$16:$N$20,2,0)","v":"#N/A"},{"$f":"+VLOOKUP('BASE DE RESPUESTAS'!R39,Back!$M$16:$N$20,2,0)","v":"#N/A"},{"$f":"+VLOOKUP('BASE DE RESPUESTAS'!S39,Back!$M$16:$N$20,2,0)","v":"#N/A"},{"$f":"+VLOOKUP('BASE DE RESPUESTAS'!T39,Back!$M$16:$N$20,2,0)","v":"#N/A"},{"$f":"+VLOOKUP('BASE DE RESPUESTAS'!U39,Back!$M$16:$N$20,2,0)","v":"#N/A"},{"$f":"+VLOOKUP('BASE DE RESPUESTAS'!V39,Back!$M$16:$N$20,2,0)","v":"#N/A"},{"$f":"+VLOOKUP('BASE DE RESPUESTAS'!W39,Back!$M$16:$N$20,2,0)","v":"#N/A"},{"$f":"+VLOOKUP('BASE DE RESPUESTAS'!X39,Back!$M$16:$N$20,2,0)","v":"#N/A"},{"$f":"+VLOOKUP('BASE DE RESPUESTAS'!Y39,Back!$M$16:$N$20,2,0)","v":"#N/A"},{"$f":"+VLOOKUP('BASE DE RESPUESTAS'!Z39,Back!$M$16:$N$20,2,0)","v":"#N/A"},{"$f":"+VLOOKUP('BASE DE RESPUESTAS'!AA39,Back!$M$16:$N$20,2,0)","v":"#N/A"},{"$f":"+VLOOKUP('BASE DE RESPUESTAS'!AB39,Back!$M$16:$N$20,2,0)","v":"#N/A"},{"$f":"+VLOOKUP('BASE DE RESPUESTAS'!AC39,Back!$M$16:$N$20,2,0)","v":"#N/A"},{"$f":"+VLOOKUP('BASE DE RESPUESTAS'!AD39,Back!$M$16:$N$20,2,0)","v":"#N/A"},{"$f":"+VLOOKUP('BASE DE RESPUESTAS'!AE39,Back!$M$16:$N$20,2,0)","v":"#N/A"},{"$f":"+VLOOKUP('BASE DE RESPUESTAS'!AF39,Back!$M$16:$N$20,2,0)","v":"#N/A"},{"$f":"+VLOOKUP('BASE DE RESPUESTAS'!AG39,Back!$M$16:$N$20,2,0)","v":"#N/A"},{"$f":"+VLOOKUP('BASE DE RESPUESTAS'!AH39,Back!$M$16:$N$20,2,0)","v":"#N/A"},{"$f":"+VLOOKUP('BASE DE RESPUESTAS'!AI39,Back!$M$16:$N$20,2,0)","v":"#N/A"},{"$f":"+VLOOKUP('BASE DE RESPUESTAS'!AJ39,Back!$M$16:$N$20,2,0)","v":"#N/A"},{"$f":"+VLOOKUP('BASE DE RESPUESTAS'!AK39,Back!$M$16:$N$20,2,0)","v":"#N/A"},{"$f":"+VLOOKUP('BASE DE RESPUESTAS'!AL39,Back!$M$16:$N$20,2,0)","v":"#N/A"},{"$f":"+VLOOKUP('BASE DE RESPUESTAS'!AM39,Back!$M$16:$N$20,2,0)","v":"#N/A"},{"$f":"+VLOOKUP('BASE DE RESPUESTAS'!AN39,Back!$M$16:$N$20,2,0)","v":"#N/A"},{"$f":"+VLOOKUP('BASE DE RESPUESTAS'!AO39,Back!$M$16:$N$20,2,0)","v":"#N/A"},{"$f":"+VLOOKUP('BASE DE RESPUESTAS'!AP39,Back!$M$16:$N$20,2,0)","v":"#N/A"},{"$f":"+VLOOKUP('BASE DE RESPUESTAS'!AQ39,Back!$M$16:$N$20,2,0)","v":"#N/A"},{"$f":"+VLOOKUP('BASE DE RESPUESTAS'!AR39,Back!$M$16:$N$20,2,0)","v":"#N/A"},{"$f":"+VLOOKUP('BASE DE RESPUESTAS'!AS39,Back!$M$16:$N$20,2,0)","v":"#N/A"},{"$f":"+VLOOKUP('BASE DE RESPUESTAS'!AT39,Back!$M$16:$N$20,2,0)","v":"#N/A"},{"$f":"+VLOOKUP('BASE DE RESPUESTAS'!AU39,Back!$M$16:$N$20,2,0)","v":"#N/A"},{"$f":"+VLOOKUP('BASE DE RESPUESTAS'!AV39,Back!$M$16:$N$20,2,0)","v":"#N/A"},{"$f":"+VLOOKUP('BASE DE RESPUESTAS'!AW39,Back!$M$16:$N$20,2,0)","v":"#N/A"},{"$f":"+VLOOKUP('BASE DE RESPUESTAS'!AX39,Back!$M$16:$N$20,2,0)","v":"#N/A"},{"$f":"+VLOOKUP('BASE DE RESPUESTAS'!AY39,Back!$M$16:$N$20,2,0)","v":"#N/A"},{"$f":"+VLOOKUP('BASE DE RESPUESTAS'!AZ39,Back!$M$16:$N$20,2,0)","v":"#N/A"},{"$f":"+VLOOKUP('BASE DE RESPUESTAS'!BA39,Back!$M$16:$N$20,2,0)","v":"#N/A"},{"$f":"+VLOOKUP('BASE DE RESPUESTAS'!BB39,Back!$M$16:$N$20,2,0)","v":"#N/A"},{"$f":"+VLOOKUP('BASE DE RESPUESTAS'!BC39,Back!$M$16:$N$20,2,0)","v":"#N/A"},{"$f":"+VLOOKUP('BASE DE RESPUESTAS'!BD39,Back!$M$16:$N$20,2,0)","v":"#N/A"},{"$f":"+VLOOKUP('BASE DE RESPUESTAS'!BE39,Back!$M$16:$N$20,2,0)","v":"#N/A"}]
[null,null,null,null,18.0,"Propone actividades que involucren el trabajo colaborativo.",null,{"$f":"+VLOOKUP('BASE DE RESPUESTAS'!H40,Back!$M$16:$N$20,2,0)","v":"#N/A"},{"$f":"+VLOOKUP('BASE DE RESPUESTAS'!I40,Back!$M$16:$N$20,2,0)","v":"#N/A"},{"$f":"+VLOOKUP('BASE DE RESPUESTAS'!J40,Back!$M$16:$N$20,2,0)","v":"#N/A"},{"$f":"+VLOOKUP('BASE DE RESPUESTAS'!K40,Back!$M$16:$N$20,2,0)","v":"#N/A"},{"$f":"+VLOOKUP('BASE DE RESPUESTAS'!L40,Back!$M$16:$N$20,2,0)","v":"#N/A"},{"$f":"+VLOOKUP('BASE DE RESPUESTAS'!M40,Back!$M$16:$N$20,2,0)","v":"#N/A"},{"$f":"+VLOOKUP('BASE DE RESPUESTAS'!N40,Back!$M$16:$N$20,2,0)","v":"#N/A"},{"$f":"+VLOOKUP('BASE DE RESPUESTAS'!O40,Back!$M$16:$N$20,2,0)","v":"#N/A"},{"$f":"+VLOOKUP('BASE DE RESPUESTAS'!P40,Back!$M$16:$N$20,2,0)","v":"#N/A"},{"$f":"+VLOOKUP('BASE DE RESPUESTAS'!Q40,Back!$M$16:$N$20,2,0)","v":"#N/A"},{"$f":"+VLOOKUP('BASE DE RESPUESTAS'!R40,Back!$M$16:$N$20,2,0)","v":"#N/A"},{"$f":"+VLOOKUP('BASE DE RESPUESTAS'!S40,Back!$M$16:$N$20,2,0)","v":"#N/A"},{"$f":"+VLOOKUP('BASE DE RESPUESTAS'!T40,Back!$M$16:$N$20,2,0)","v":"#N/A"},{"$f":"+VLOOKUP('BASE DE RESPUESTAS'!U40,Back!$M$16:$N$20,2,0)","v":"#N/A"},{"$f":"+VLOOKUP('BASE DE RESPUESTAS'!V40,Back!$M$16:$N$20,2,0)","v":"#N/A"},{"$f":"+VLOOKUP('BASE DE RESPUESTAS'!W40,Back!$M$16:$N$20,2,0)","v":"#N/A"},{"$f":"+VLOOKUP('BASE DE RESPUESTAS'!X40,Back!$M$16:$N$20,2,0)","v":"#N/A"},{"$f":"+VLOOKUP('BASE DE RESPUESTAS'!Y40,Back!$M$16:$N$20,2,0)","v":"#N/A"},{"$f":"+VLOOKUP('BASE DE RESPUESTAS'!Z40,Back!$M$16:$N$20,2,0)","v":"#N/A"},{"$f":"+VLOOKUP('BASE DE RESPUESTAS'!AA40,Back!$M$16:$N$20,2,0)","v":"#N/A"},{"$f":"+VLOOKUP('BASE DE RESPUESTAS'!AB40,Back!$M$16:$N$20,2,0)","v":"#N/A"},{"$f":"+VLOOKUP('BASE DE RESPUESTAS'!AC40,Back!$M$16:$N$20,2,0)","v":"#N/A"},{"$f":"+VLOOKUP('BASE DE RESPUESTAS'!AD40,Back!$M$16:$N$20,2,0)","v":"#N/A"},{"$f":"+VLOOKUP('BASE DE RESPUESTAS'!AE40,Back!$M$16:$N$20,2,0)","v":"#N/A"},{"$f":"+VLOOKUP('BASE DE RESPUESTAS'!AF40,Back!$M$16:$N$20,2,0)","v":"#N/A"},{"$f":"+VLOOKUP('BASE DE RESPUESTAS'!AG40,Back!$M$16:$N$20,2,0)","v":"#N/A"},{"$f":"+VLOOKUP('BASE DE RESPUESTAS'!AH40,Back!$M$16:$N$20,2,0)","v":"#N/A"},{"$f":"+VLOOKUP('BASE DE RESPUESTAS'!AI40,Back!$M$16:$N$20,2,0)","v":"#N/A"},{"$f":"+VLOOKUP('BASE DE RESPUESTAS'!AJ40,Back!$M$16:$N$20,2,0)","v":"#N/A"},{"$f":"+VLOOKUP('BASE DE RESPUESTAS'!AK40,Back!$M$16:$N$20,2,0)","v":"#N/A"},{"$f":"+VLOOKUP('BASE DE RESPUESTAS'!AL40,Back!$M$16:$N$20,2,0)","v":"#N/A"},{"$f":"+VLOOKUP('BASE DE RESPUESTAS'!AM40,Back!$M$16:$N$20,2,0)","v":"#N/A"},{"$f":"+VLOOKUP('BASE DE RESPUESTAS'!AN40,Back!$M$16:$N$20,2,0)","v":"#N/A"},{"$f":"+VLOOKUP('BASE DE RESPUESTAS'!AO40,Back!$M$16:$N$20,2,0)","v":"#N/A"},{"$f":"+VLOOKUP('BASE DE RESPUESTAS'!AP40,Back!$M$16:$N$20,2,0)","v":"#N/A"},{"$f":"+VLOOKUP('BASE DE RESPUESTAS'!AQ40,Back!$M$16:$N$20,2,0)","v":"#N/A"},{"$f":"+VLOOKUP('BASE DE RESPUESTAS'!AR40,Back!$M$16:$N$20,2,0)","v":"#N/A"},{"$f":"+VLOOKUP('BASE DE RESPUESTAS'!AS40,Back!$M$16:$N$20,2,0)","v":"#N/A"},{"$f":"+VLOOKUP('BASE DE RESPUESTAS'!AT40,Back!$M$16:$N$20,2,0)","v":"#N/A"},{"$f":"+VLOOKUP('BASE DE RESPUESTAS'!AU40,Back!$M$16:$N$20,2,0)","v":"#N/A"},{"$f":"+VLOOKUP('BASE DE RESPUESTAS'!AV40,Back!$M$16:$N$20,2,0)","v":"#N/A"},{"$f":"+VLOOKUP('BASE DE RESPUESTAS'!AW40,Back!$M$16:$N$20,2,0)","v":"#N/A"},{"$f":"+VLOOKUP('BASE DE RESPUESTAS'!AX40,Back!$M$16:$N$20,2,0)","v":"#N/A"},{"$f":"+VLOOKUP('BASE DE RESPUESTAS'!AY40,Back!$M$16:$N$20,2,0)","v":"#N/A"},{"$f":"+VLOOKUP('BASE DE RESPUESTAS'!AZ40,Back!$M$16:$N$20,2,0)","v":"#N/A"},{"$f":"+VLOOKUP('BASE DE RESPUESTAS'!BA40,Back!$M$16:$N$20,2,0)","v":"#N/A"},{"$f":"+VLOOKUP('BASE DE RESPUESTAS'!BB40,Back!$M$16:$N$20,2,0)","v":"#N/A"},{"$f":"+VLOOKUP('BASE DE RESPUESTAS'!BC40,Back!$M$16:$N$20,2,0)","v":"#N/A"},{"$f":"+VLOOKUP('BASE DE RESPUESTAS'!BD40,Back!$M$16:$N$20,2,0)","v":"#N/A"},{"$f":"+VLOOKUP('BASE DE RESPUESTAS'!BE40,Back!$M$16:$N$20,2,0)","v":"#N/A"}]
[null,null,null,null,19.0,"Participa en el intercambio de ideas para llegar a acuerdos comunes.",null,{"$f":"+VLOOKUP('BASE DE RESPUESTAS'!H41,Back!$M$16:$N$20,2,0)","v":"#N/A"},{"$f":"+VLOOKUP('BASE DE RESPUESTAS'!I41,Back!$M$16:$N$20,2,0)","v":"#N/A"},{"$f":"+VLOOKUP('BASE DE RESPUESTAS'!J41,Back!$M$16:$N$20,2,0)","v":"#N/A"},{"$f":"+VLOOKUP('BASE DE RESPUESTAS'!K41,Back!$M$16:$N$20,2,0)","v":"#N/A"},{"$f":"+VLOOKUP('BASE DE RESPUESTAS'!L41,Back!$M$16:$N$20,2,0)","v":"#N/A"},{"$f":"+VLOOKUP('BASE DE RESPUESTAS'!M41,Back!$M$16:$N$20,2,0)","v":"#N/A"},{"$f":"+VLOOKUP('BASE DE RESPUESTAS'!N41,Back!$M$16:$N$20,2,0)","v":"#N/A"},{"$f":"+VLOOKUP('BASE DE RESPUESTAS'!O41,Back!$M$16:$N$20,2,0)","v":"#N/A"},{"$f":"+VLOOKUP('BASE DE RESPUESTAS'!P41,Back!$M$16:$N$20,2,0)","v":"#N/A"},{"$f":"+VLOOKUP('BASE DE RESPUESTAS'!Q41,Back!$M$16:$N$20,2,0)","v":"#N/A"},{"$f":"+VLOOKUP('BASE DE RESPUESTAS'!R41,Back!$M$16:$N$20,2,0)","v":"#N/A"},{"$f":"+VLOOKUP('BASE DE RESPUESTAS'!S41,Back!$M$16:$N$20,2,0)","v":"#N/A"},{"$f":"+VLOOKUP('BASE DE RESPUESTAS'!T41,Back!$M$16:$N$20,2,0)","v":"#N/A"},{"$f":"+VLOOKUP('BASE DE RESPUESTAS'!U41,Back!$M$16:$N$20,2,0)","v":"#N/A"},{"$f":"+VLOOKUP('BASE DE RESPUESTAS'!V41,Back!$M$16:$N$20,2,0)","v":"#N/A"},{"$f":"+VLOOKUP('BASE DE RESPUESTAS'!W41,Back!$M$16:$N$20,2,0)","v":"#N/A"},{"$f":"+VLOOKUP('BASE DE RESPUESTAS'!X41,Back!$M$16:$N$20,2,0)","v":"#N/A"},{"$f":"+VLOOKUP('BASE DE RESPUESTAS'!Y41,Back!$M$16:$N$20,2,0)","v":"#N/A"},{"$f":"+VLOOKUP('BASE DE RESPUESTAS'!Z41,Back!$M$16:$N$20,2,0)","v":"#N/A"},{"$f":"+VLOOKUP('BASE DE RESPUESTAS'!AA41,Back!$M$16:$N$20,2,0)","v":"#N/A"},{"$f":"+VLOOKUP('BASE DE RESPUESTAS'!AB41,Back!$M$16:$N$20,2,0)","v":"#N/A"},{"$f":"+VLOOKUP('BASE DE RESPUESTAS'!AC41,Back!$M$16:$N$20,2,0)","v":"#N/A"},{"$f":"+VLOOKUP('BASE DE RESPUESTAS'!AD41,Back!$M$16:$N$20,2,0)","v":"#N/A"},{"$f":"+VLOOKUP('BASE DE RESPUESTAS'!AE41,Back!$M$16:$N$20,2,0)","v":"#N/A"},{"$f":"+VLOOKUP('BASE DE RESPUESTAS'!AF41,Back!$M$16:$N$20,2,0)","v":"#N/A"},{"$f":"+VLOOKUP('BASE DE RESPUESTAS'!AG41,Back!$M$16:$N$20,2,0)","v":"#N/A"},{"$f":"+VLOOKUP('BASE DE RESPUESTAS'!AH41,Back!$M$16:$N$20,2,0)","v":"#N/A"},{"$f":"+VLOOKUP('BASE DE RESPUESTAS'!AI41,Back!$M$16:$N$20,2,0)","v":"#N/A"},{"$f":"+VLOOKUP('BASE DE RESPUESTAS'!AJ41,Back!$M$16:$N$20,2,0)","v":"#N/A"},{"$f":"+VLOOKUP('BASE DE RESPUESTAS'!AK41,Back!$M$16:$N$20,2,0)","v":"#N/A"},{"$f":"+VLOOKUP('BASE DE RESPUESTAS'!AL41,Back!$M$16:$N$20,2,0)","v":"#N/A"},{"$f":"+VLOOKUP('BASE DE RESPUESTAS'!AM41,Back!$M$16:$N$20,2,0)","v":"#N/A"},{"$f":"+VLOOKUP('BASE DE RESPUESTAS'!AN41,Back!$M$16:$N$20,2,0)","v":"#N/A"},{"$f":"+VLOOKUP('BASE DE RESPUESTAS'!AO41,Back!$M$16:$N$20,2,0)","v":"#N/A"},{"$f":"+VLOOKUP('BASE DE RESPUESTAS'!AP41,Back!$M$16:$N$20,2,0)","v":"#N/A"},{"$f":"+VLOOKUP('BASE DE RESPUESTAS'!AQ41,Back!$M$16:$N$20,2,0)","v":"#N/A"},{"$f":"+VLOOKUP('BASE DE RESPUESTAS'!AR41,Back!$M$16:$N$20,2,0)","v":"#N/A"},{"$f":"+VLOOKUP('BASE DE RESPUESTAS'!AS41,Back!$M$16:$N$20,2,0)","v":"#N/A"},{"$f":"+VLOOKUP('BASE DE RESPUESTAS'!AT41,Back!$M$16:$N$20,2,0)","v":"#N/A"},{"$f":"+VLOOKUP('BASE DE RESPUESTAS'!AU41,Back!$M$16:$N$20,2,0)","v":"#N/A"},{"$f":"+VLOOKUP('BASE DE RESPUESTAS'!AV41,Back!$M$16:$N$20,2,0)","v":"#N/A"},{"$f":"+VLOOKUP('BASE DE RESPUESTAS'!AW41,Back!$M$16:$N$20,2,0)","v":"#N/A"},{"$f":"+VLOOKUP('BASE DE RESPUESTAS'!AX41,Back!$M$16:$N$20,2,0)","v":"#N/A"},{"$f":"+VLOOKUP('BASE DE RESPUESTAS'!AY41,Back!$M$16:$N$20,2,0)","v":"#N/A"},{"$f":"+VLOOKUP('BASE DE RESPUESTAS'!AZ41,Back!$M$16:$N$20,2,0)","v":"#N/A"},{"$f":"+VLOOKUP('BASE DE RESPUESTAS'!BA41,Back!$M$16:$N$20,2,0)","v":"#N/A"},{"$f":"+VLOOKUP('BASE DE RESPUESTAS'!BB41,Back!$M$16:$N$20,2,0)","v":"#N/A"},{"$f":"+VLOOKUP('BASE DE RESPUESTAS'!BC41,Back!$M$16:$N$20,2,0)","v":"#N/A"},{"$f":"+VLOOKUP('BASE DE RESPUESTAS'!BD41,Back!$M$16:$N$20,2,0)","v":"#N/A"},{"$f":"+VLOOKUP('BASE DE RESPUESTAS'!BE41,Back!$M$16:$N$20,2,0)","v":"#N/A"}]
[null,null,null,"La o el estudiante cumple con las indicaciones y plazos de las tareas contribuyendo al trabajo en equipo.",20.0,"Es capaz de dividir tareas de manera equitativa para cumplir las actividades propuestas en el grupo.",null,{"$f":"+VLOOKUP('BASE DE RESPUESTAS'!H42,Back!$M$16:$N$20,2,0)","v":"#N/A"},{"$f":"+VLOOKUP('BASE DE RESPUESTAS'!I42,Back!$M$16:$N$20,2,0)","v":"#N/A"},{"$f":"+VLOOKUP('BASE DE RESPUESTAS'!J42,Back!$M$16:$N$20,2,0)","v":"#N/A"},{"$f":"+VLOOKUP('BASE DE RESPUESTAS'!K42,Back!$M$16:$N$20,2,0)","v":"#N/A"},{"$f":"+VLOOKUP('BASE DE RESPUESTAS'!L42,Back!$M$16:$N$20,2,0)","v":"#N/A"},{"$f":"+VLOOKUP('BASE DE RESPUESTAS'!M42,Back!$M$16:$N$20,2,0)","v":"#N/A"},{"$f":"+VLOOKUP('BASE DE RESPUESTAS'!N42,Back!$M$16:$N$20,2,0)","v":"#N/A"},{"$f":"+VLOOKUP('BASE DE RESPUESTAS'!O42,Back!$M$16:$N$20,2,0)","v":"#N/A"},{"$f":"+VLOOKUP('BASE DE RESPUESTAS'!P42,Back!$M$16:$N$20,2,0)","v":"#N/A"},{"$f":"+VLOOKUP('BASE DE RESPUESTAS'!Q42,Back!$M$16:$N$20,2,0)","v":"#N/A"},{"$f":"+VLOOKUP('BASE DE RESPUESTAS'!R42,Back!$M$16:$N$20,2,0)","v":"#N/A"},{"$f":"+VLOOKUP('BASE DE RESPUESTAS'!S42,Back!$M$16:$N$20,2,0)","v":"#N/A"},{"$f":"+VLOOKUP('BASE DE RESPUESTAS'!T42,Back!$M$16:$N$20,2,0)","v":"#N/A"},{"$f":"+VLOOKUP('BASE DE RESPUESTAS'!U42,Back!$M$16:$N$20,2,0)","v":"#N/A"},{"$f":"+VLOOKUP('BASE DE RESPUESTAS'!V42,Back!$M$16:$N$20,2,0)","v":"#N/A"},{"$f":"+VLOOKUP('BASE DE RESPUESTAS'!W42,Back!$M$16:$N$20,2,0)","v":"#N/A"},{"$f":"+VLOOKUP('BASE DE RESPUESTAS'!X42,Back!$M$16:$N$20,2,0)","v":"#N/A"},{"$f":"+VLOOKUP('BASE DE RESPUESTAS'!Y42,Back!$M$16:$N$20,2,0)","v":"#N/A"},{"$f":"+VLOOKUP('BASE DE RESPUESTAS'!Z42,Back!$M$16:$N$20,2,0)","v":"#N/A"},{"$f":"+VLOOKUP('BASE DE RESPUESTAS'!AA42,Back!$M$16:$N$20,2,0)","v":"#N/A"},{"$f":"+VLOOKUP('BASE DE RESPUESTAS'!AB42,Back!$M$16:$N$20,2,0)","v":"#N/A"},{"$f":"+VLOOKUP('BASE DE RESPUESTAS'!AC42,Back!$M$16:$N$20,2,0)","v":"#N/A"},{"$f":"+VLOOKUP('BASE DE RESPUESTAS'!AD42,Back!$M$16:$N$20,2,0)","v":"#N/A"},{"$f":"+VLOOKUP('BASE DE RESPUESTAS'!AE42,Back!$M$16:$N$20,2,0)","v":"#N/A"},{"$f":"+VLOOKUP('BASE DE RESPUESTAS'!AF42,Back!$M$16:$N$20,2,0)","v":"#N/A"},{"$f":"+VLOOKUP('BASE DE RESPUESTAS'!AG42,Back!$M$16:$N$20,2,0)","v":"#N/A"},{"$f":"+VLOOKUP('BASE DE RESPUESTAS'!AH42,Back!$M$16:$N$20,2,0)","v":"#N/A"},{"$f":"+VLOOKUP('BASE DE RESPUESTAS'!AI42,Back!$M$16:$N$20,2,0)","v":"#N/A"},{"$f":"+VLOOKUP('BASE DE RESPUESTAS'!AJ42,Back!$M$16:$N$20,2,0)","v":"#N/A"},{"$f":"+VLOOKUP('BASE DE RESPUESTAS'!AK42,Back!$M$16:$N$20,2,0)","v":"#N/A"},{"$f":"+VLOOKUP('BASE DE RESPUESTAS'!AL42,Back!$M$16:$N$20,2,0)","v":"#N/A"},{"$f":"+VLOOKUP('BASE DE RESPUESTAS'!AM42,Back!$M$16:$N$20,2,0)","v":"#N/A"},{"$f":"+VLOOKUP('BASE DE RESPUESTAS'!AN42,Back!$M$16:$N$20,2,0)","v":"#N/A"},{"$f":"+VLOOKUP('BASE DE RESPUESTAS'!AO42,Back!$M$16:$N$20,2,0)","v":"#N/A"},{"$f":"+VLOOKUP('BASE DE RESPUESTAS'!AP42,Back!$M$16:$N$20,2,0)","v":"#N/A"},{"$f":"+VLOOKUP('BASE DE RESPUESTAS'!AQ42,Back!$M$16:$N$20,2,0)","v":"#N/A"},{"$f":"+VLOOKUP('BASE DE RESPUESTAS'!AR42,Back!$M$16:$N$20,2,0)","v":"#N/A"},{"$f":"+VLOOKUP('BASE DE RESPUESTAS'!AS42,Back!$M$16:$N$20,2,0)","v":"#N/A"},{"$f":"+VLOOKUP('BASE DE RESPUESTAS'!AT42,Back!$M$16:$N$20,2,0)","v":"#N/A"},{"$f":"+VLOOKUP('BASE DE RESPUESTAS'!AU42,Back!$M$16:$N$20,2,0)","v":"#N/A"},{"$f":"+VLOOKUP('BASE DE RESPUESTAS'!AV42,Back!$M$16:$N$20,2,0)","v":"#N/A"},{"$f":"+VLOOKUP('BASE DE RESPUESTAS'!AW42,Back!$M$16:$N$20,2,0)","v":"#N/A"},{"$f":"+VLOOKUP('BASE DE RESPUESTAS'!AX42,Back!$M$16:$N$20,2,0)","v":"#N/A"},{"$f":"+VLOOKUP('BASE DE RESPUESTAS'!AY42,Back!$M$16:$N$20,2,0)","v":"#N/A"},{"$f":"+VLOOKUP('BASE DE RESPUESTAS'!AZ42,Back!$M$16:$N$20,2,0)","v":"#N/A"},{"$f":"+VLOOKUP('BASE DE RESPUESTAS'!BA42,Back!$M$16:$N$20,2,0)","v":"#N/A"},{"$f":"+VLOOKUP('BASE DE RESPUESTAS'!BB42,Back!$M$16:$N$20,2,0)","v":"#N/A"},{"$f":"+VLOOKUP('BASE DE RESPUESTAS'!BC42,Back!$M$16:$N$20,2,0)","v":"#N/A"},{"$f":"+VLOOKUP('BASE DE RESPUESTAS'!BD42,Back!$M$16:$N$20,2,0)","v":"#N/A"},{"$f":"+VLOOKUP('BASE DE RESPUESTAS'!BE42,Back!$M$16:$N$20,2,0)","v":"#N/A"}]
[null,null,null,null,21.0,"Puede cumplir con la actividad que se le asigna dentro de un grupo.",null,{"$f":"+VLOOKUP('BASE DE RESPUESTAS'!H43,Back!$M$16:$N$20,2,0)","v":"#N/A"},{"$f":"+VLOOKUP('BASE DE RESPUESTAS'!I43,Back!$M$16:$N$20,2,0)","v":"#N/A"},{"$f":"+VLOOKUP('BASE DE RESPUESTAS'!J43,Back!$M$16:$N$20,2,0)","v":"#N/A"},{"$f":"+VLOOKUP('BASE DE RESPUESTAS'!K43,Back!$M$16:$N$20,2,0)","v":"#N/A"},{"$f":"+VLOOKUP('BASE DE RESPUESTAS'!L43,Back!$M$16:$N$20,2,0)","v":"#N/A"},{"$f":"+VLOOKUP('BASE DE RESPUESTAS'!M43,Back!$M$16:$N$20,2,0)","v":"#N/A"},{"$f":"+VLOOKUP('BASE DE RESPUESTAS'!N43,Back!$M$16:$N$20,2,0)","v":"#N/A"},{"$f":"+VLOOKUP('BASE DE RESPUESTAS'!O43,Back!$M$16:$N$20,2,0)","v":"#N/A"},{"$f":"+VLOOKUP('BASE DE RESPUESTAS'!P43,Back!$M$16:$N$20,2,0)","v":"#N/A"},{"$f":"+VLOOKUP('BASE DE RESPUESTAS'!Q43,Back!$M$16:$N$20,2,0)","v":"#N/A"},{"$f":"+VLOOKUP('BASE DE RESPUESTAS'!R43,Back!$M$16:$N$20,2,0)","v":"#N/A"},{"$f":"+VLOOKUP('BASE DE RESPUESTAS'!S43,Back!$M$16:$N$20,2,0)","v":"#N/A"},{"$f":"+VLOOKUP('BASE DE RESPUESTAS'!T43,Back!$M$16:$N$20,2,0)","v":"#N/A"},{"$f":"+VLOOKUP('BASE DE RESPUESTAS'!U43,Back!$M$16:$N$20,2,0)","v":"#N/A"},{"$f":"+VLOOKUP('BASE DE RESPUESTAS'!V43,Back!$M$16:$N$20,2,0)","v":"#N/A"},{"$f":"+VLOOKUP('BASE DE RESPUESTAS'!W43,Back!$M$16:$N$20,2,0)","v":"#N/A"},{"$f":"+VLOOKUP('BASE DE RESPUESTAS'!X43,Back!$M$16:$N$20,2,0)","v":"#N/A"},{"$f":"+VLOOKUP('BASE DE RESPUESTAS'!Y43,Back!$M$16:$N$20,2,0)","v":"#N/A"},{"$f":"+VLOOKUP('BASE DE RESPUESTAS'!Z43,Back!$M$16:$N$20,2,0)","v":"#N/A"},{"$f":"+VLOOKUP('BASE DE RESPUESTAS'!AA43,Back!$M$16:$N$20,2,0)","v":"#N/A"},{"$f":"+VLOOKUP('BASE DE RESPUESTAS'!AB43,Back!$M$16:$N$20,2,0)","v":"#N/A"},{"$f":"+VLOOKUP('BASE DE RESPUESTAS'!AC43,Back!$M$16:$N$20,2,0)","v":"#N/A"},{"$f":"+VLOOKUP('BASE DE RESPUESTAS'!AD43,Back!$M$16:$N$20,2,0)","v":"#N/A"},{"$f":"+VLOOKUP('BASE DE RESPUESTAS'!AE43,Back!$M$16:$N$20,2,0)","v":"#N/A"},{"$f":"+VLOOKUP('BASE DE RESPUESTAS'!AF43,Back!$M$16:$N$20,2,0)","v":"#N/A"},{"$f":"+VLOOKUP('BASE DE RESPUESTAS'!AG43,Back!$M$16:$N$20,2,0)","v":"#N/A"},{"$f":"+VLOOKUP('BASE DE RESPUESTAS'!AH43,Back!$M$16:$N$20,2,0)","v":"#N/A"},{"$f":"+VLOOKUP('BASE DE RESPUESTAS'!AI43,Back!$M$16:$N$20,2,0)","v":"#N/A"},{"$f":"+VLOOKUP('BASE DE RESPUESTAS'!AJ43,Back!$M$16:$N$20,2,0)","v":"#N/A"},{"$f":"+VLOOKUP('BASE DE RESPUESTAS'!AK43,Back!$M$16:$N$20,2,0)","v":"#N/A"},{"$f":"+VLOOKUP('BASE DE RESPUESTAS'!AL43,Back!$M$16:$N$20,2,0)","v":"#N/A"},{"$f":"+VLOOKUP('BASE DE RESPUESTAS'!AM43,Back!$M$16:$N$20,2,0)","v":"#N/A"},{"$f":"+VLOOKUP('BASE DE RESPUESTAS'!AN43,Back!$M$16:$N$20,2,0)","v":"#N/A"},{"$f":"+VLOOKUP('BASE DE RESPUESTAS'!AO43,Back!$M$16:$N$20,2,0)","v":"#N/A"},{"$f":"+VLOOKUP('BASE DE RESPUESTAS'!AP43,Back!$M$16:$N$20,2,0)","v":"#N/A"},{"$f":"+VLOOKUP('BASE DE RESPUESTAS'!AQ43,Back!$M$16:$N$20,2,0)","v":"#N/A"},{"$f":"+VLOOKUP('BASE DE RESPUESTAS'!AR43,Back!$M$16:$N$20,2,0)","v":"#N/A"},{"$f":"+VLOOKUP('BASE DE RESPUESTAS'!AS43,Back!$M$16:$N$20,2,0)","v":"#N/A"},{"$f":"+VLOOKUP('BASE DE RESPUESTAS'!AT43,Back!$M$16:$N$20,2,0)","v":"#N/A"},{"$f":"+VLOOKUP('BASE DE RESPUESTAS'!AU43,Back!$M$16:$N$20,2,0)","v":"#N/A"},{"$f":"+VLOOKUP('BASE DE RESPUESTAS'!AV43,Back!$M$16:$N$20,2,0)","v":"#N/A"},{"$f":"+VLOOKUP('BASE DE RESPUESTAS'!AW43,Back!$M$16:$N$20,2,0)","v":"#N/A"},{"$f":"+VLOOKUP('BASE DE RESPUESTAS'!AX43,Back!$M$16:$N$20,2,0)","v":"#N/A"},{"$f":"+VLOOKUP('BASE DE RESPUESTAS'!AY43,Back!$M$16:$N$20,2,0)","v":"#N/A"},{"$f":"+VLOOKUP('BASE DE RESPUESTAS'!AZ43,Back!$M$16:$N$20,2,0)","v":"#N/A"},{"$f":"+VLOOKUP('BASE DE RESPUESTAS'!BA43,Back!$M$16:$N$20,2,0)","v":"#N/A"},{"$f":"+VLOOKUP('BASE DE RESPUESTAS'!BB43,Back!$M$16:$N$20,2,0)","v":"#N/A"},{"$f":"+VLOOKUP('BASE DE RESPUESTAS'!BC43,Back!$M$16:$N$20,2,0)","v":"#N/A"},{"$f":"+VLOOKUP('BASE DE RESPUESTAS'!BD43,Back!$M$16:$N$20,2,0)","v":"#N/A"},{"$f":"+VLOOKUP('BASE DE RESPUESTAS'!BE43,Back!$M$16:$N$20,2,0)","v":"#N/A"}]
[null,"HSE","Empatía","La o el estudiante muestra interés en las emociones y necesidades de otras personas.",22.0,"Está atento/a a las necesidades de sus compañeros y ofrece soluciones para mejorar la situación.",null,{"$f":"+VLOOKUP('BASE DE RESPUESTAS'!H44,Back!$M$16:$N$20,2,0)","v":"#N/A"},{"$f":"+VLOOKUP('BASE DE RESPUESTAS'!I44,Back!$M$16:$N$20,2,0)","v":"#N/A"},{"$f":"+VLOOKUP('BASE DE RESPUESTAS'!J44,Back!$M$16:$N$20,2,0)","v":"#N/A"},{"$f":"+VLOOKUP('BASE DE RESPUESTAS'!K44,Back!$M$16:$N$20,2,0)","v":"#N/A"},{"$f":"+VLOOKUP('BASE DE RESPUESTAS'!L44,Back!$M$16:$N$20,2,0)","v":"#N/A"},{"$f":"+VLOOKUP('BASE DE RESPUESTAS'!M44,Back!$M$16:$N$20,2,0)","v":"#N/A"},{"$f":"+VLOOKUP('BASE DE RESPUESTAS'!N44,Back!$M$16:$N$20,2,0)","v":"#N/A"},{"$f":"+VLOOKUP('BASE DE RESPUESTAS'!O44,Back!$M$16:$N$20,2,0)","v":"#N/A"},{"$f":"+VLOOKUP('BASE DE RESPUESTAS'!P44,Back!$M$16:$N$20,2,0)","v":"#N/A"},{"$f":"+VLOOKUP('BASE DE RESPUESTAS'!Q44,Back!$M$16:$N$20,2,0)","v":"#N/A"},{"$f":"+VLOOKUP('BASE DE RESPUESTAS'!R44,Back!$M$16:$N$20,2,0)","v":"#N/A"},{"$f":"+VLOOKUP('BASE DE RESPUESTAS'!S44,Back!$M$16:$N$20,2,0)","v":"#N/A"},{"$f":"+VLOOKUP('BASE DE RESPUESTAS'!T44,Back!$M$16:$N$20,2,0)","v":"#N/A"},{"$f":"+VLOOKUP('BASE DE RESPUESTAS'!U44,Back!$M$16:$N$20,2,0)","v":"#N/A"},{"$f":"+VLOOKUP('BASE DE RESPUESTAS'!V44,Back!$M$16:$N$20,2,0)","v":"#N/A"},{"$f":"+VLOOKUP('BASE DE RESPUESTAS'!W44,Back!$M$16:$N$20,2,0)","v":"#N/A"},{"$f":"+VLOOKUP('BASE DE RESPUESTAS'!X44,Back!$M$16:$N$20,2,0)","v":"#N/A"},{"$f":"+VLOOKUP('BASE DE RESPUESTAS'!Y44,Back!$M$16:$N$20,2,0)","v":"#N/A"},{"$f":"+VLOOKUP('BASE DE RESPUESTAS'!Z44,Back!$M$16:$N$20,2,0)","v":"#N/A"},{"$f":"+VLOOKUP('BASE DE RESPUESTAS'!AA44,Back!$M$16:$N$20,2,0)","v":"#N/A"},{"$f":"+VLOOKUP('BASE DE RESPUESTAS'!AB44,Back!$M$16:$N$20,2,0)","v":"#N/A"},{"$f":"+VLOOKUP('BASE DE RESPUESTAS'!AC44,Back!$M$16:$N$20,2,0)","v":"#N/A"},{"$f":"+VLOOKUP('BASE DE RESPUESTAS'!AD44,Back!$M$16:$N$20,2,0)","v":"#N/A"},{"$f":"+VLOOKUP('BASE DE RESPUESTAS'!AE44,Back!$M$16:$N$20,2,0)","v":"#N/A"},{"$f":"+VLOOKUP('BASE DE RESPUESTAS'!AF44,Back!$M$16:$N$20,2,0)","v":"#N/A"},{"$f":"+VLOOKUP('BASE DE RESPUESTAS'!AG44,Back!$M$16:$N$20,2,0)","v":"#N/A"},{"$f":"+VLOOKUP('BASE DE RESPUESTAS'!AH44,Back!$M$16:$N$20,2,0)","v":"#N/A"},{"$f":"+VLOOKUP('BASE DE RESPUESTAS'!AI44,Back!$M$16:$N$20,2,0)","v":"#N/A"},{"$f":"+VLOOKUP('BASE DE RESPUESTAS'!AJ44,Back!$M$16:$N$20,2,0)","v":"#N/A"},{"$f":"+VLOOKUP('BASE DE RESPUESTAS'!AK44,Back!$M$16:$N$20,2,0)","v":"#N/A"},{"$f":"+VLOOKUP('BASE DE RESPUESTAS'!AL44,Back!$M$16:$N$20,2,0)","v":"#N/A"},{"$f":"+VLOOKUP('BASE DE RESPUESTAS'!AM44,Back!$M$16:$N$20,2,0)","v":"#N/A"},{"$f":"+VLOOKUP('BASE DE RESPUESTAS'!AN44,Back!$M$16:$N$20,2,0)","v":"#N/A"},{"$f":"+VLOOKUP('BASE DE RESPUESTAS'!AO44,Back!$M$16:$N$20,2,0)","v":"#N/A"},{"$f":"+VLOOKUP('BASE DE RESPUESTAS'!AP44,Back!$M$16:$N$20,2,0)","v":"#N/A"},{"$f":"+VLOOKUP('BASE DE RESPUESTAS'!AQ44,Back!$M$16:$N$20,2,0)","v":"#N/A"},{"$f":"+VLOOKUP('BASE DE RESPUESTAS'!AR44,Back!$M$16:$N$20,2,0)","v":"#N/A"},{"$f":"+VLOOKUP('BASE DE RESPUESTAS'!AS44,Back!$M$16:$N$20,2,0)","v":"#N/A"},{"$f":"+VLOOKUP('BASE DE RESPUESTAS'!AT44,Back!$M$16:$N$20,2,0)","v":"#N/A"},{"$f":"+VLOOKUP('BASE DE RESPUESTAS'!AU44,Back!$M$16:$N$20,2,0)","v":"#N/A"},{"$f":"+VLOOKUP('BASE DE RESPUESTAS'!AV44,Back!$M$16:$N$20,2,0)","v":"#N/A"},{"$f":"+VLOOKUP('BASE DE RESPUESTAS'!AW44,Back!$M$16:$N$20,2,0)","v":"#N/A"},{"$f":"+VLOOKUP('BASE DE RESPUESTAS'!AX44,Back!$M$16:$N$20,2,0)","v":"#N/A"},{"$f":"+VLOOKUP('BASE DE RESPUESTAS'!AY44,Back!$M$16:$N$20,2,0)","v":"#N/A"},{"$f":"+VLOOKUP('BASE DE RESPUESTAS'!AZ44,Back!$M$16:$N$20,2,0)","v":"#N/A"},{"$f":"+VLOOKUP('BASE DE RESPUESTAS'!BA44,Back!$M$16:$N$20,2,0)","v":"#N/A"},{"$f":"+VLOOKUP('BASE DE RESPUESTAS'!BB44,Back!$M$16:$N$20,2,0)","v":"#N/A"},{"$f":"+VLOOKUP('BASE DE RESPUESTAS'!BC44,Back!$M$16:$N$20,2,0)","v":"#N/A"},{"$f":"+VLOOKUP('BASE DE RESPUESTAS'!BD44,Back!$M$16:$N$20,2,0)","v":"#N/A"},{"$f":"+VLOOKUP('BASE DE RESPUESTAS'!BE44,Back!$M$16:$N$20,2,0)","v":"#N/A"}]
[null,null,null,null,23.0,"Se da cuenta cómo se sienten sus compañeros/as y entiende la causa.",null,{"$f":"+VLOOKUP('BASE DE RESPUESTAS'!H45,Back!$M$16:$N$20,2,0)","v":"#N/A"},{"$f":"+VLOOKUP('BASE DE RESPUESTAS'!I45,Back!$M$16:$N$20,2,0)","v":"#N/A"},{"$f":"+VLOOKUP('BASE DE RESPUESTAS'!J45,Back!$M$16:$N$20,2,0)","v":"#N/A"},{"$f":"+VLOOKUP('BASE DE RESPUESTAS'!K45,Back!$M$16:$N$20,2,0)","v":"#N/A"},{"$f":"+VLOOKUP('BASE DE RESPUESTAS'!L45,Back!$M$16:$N$20,2,0)","v":"#N/A"},{"$f":"+VLOOKUP('BASE DE RESPUESTAS'!M45,Back!$M$16:$N$20,2,0)","v":"#N/A"},{"$f":"+VLOOKUP('BASE DE RESPUESTAS'!N45,Back!$M$16:$N$20,2,0)","v":"#N/A"},{"$f":"+VLOOKUP('BASE DE RESPUESTAS'!O45,Back!$M$16:$N$20,2,0)","v":"#N/A"},{"$f":"+VLOOKUP('BASE DE RESPUESTAS'!P45,Back!$M$16:$N$20,2,0)","v":"#N/A"},{"$f":"+VLOOKUP('BASE DE RESPUESTAS'!Q45,Back!$M$16:$N$20,2,0)","v":"#N/A"},{"$f":"+VLOOKUP('BASE DE RESPUESTAS'!R45,Back!$M$16:$N$20,2,0)","v":"#N/A"},{"$f":"+VLOOKUP('BASE DE RESPUESTAS'!S45,Back!$M$16:$N$20,2,0)","v":"#N/A"},{"$f":"+VLOOKUP('BASE DE RESPUESTAS'!T45,Back!$M$16:$N$20,2,0)","v":"#N/A"},{"$f":"+VLOOKUP('BASE DE RESPUESTAS'!U45,Back!$M$16:$N$20,2,0)","v":"#N/A"},{"$f":"+VLOOKUP('BASE DE RESPUESTAS'!V45,Back!$M$16:$N$20,2,0)","v":"#N/A"},{"$f":"+VLOOKUP('BASE DE RESPUESTAS'!W45,Back!$M$16:$N$20,2,0)","v":"#N/A"},{"$f":"+VLOOKUP('BASE DE RESPUESTAS'!X45,Back!$M$16:$N$20,2,0)","v":"#N/A"},{"$f":"+VLOOKUP('BASE DE RESPUESTAS'!Y45,Back!$M$16:$N$20,2,0)","v":"#N/A"},{"$f":"+VLOOKUP('BASE DE RESPUESTAS'!Z45,Back!$M$16:$N$20,2,0)","v":"#N/A"},{"$f":"+VLOOKUP('BASE DE RESPUESTAS'!AA45,Back!$M$16:$N$20,2,0)","v":"#N/A"},{"$f":"+VLOOKUP('BASE DE RESPUESTAS'!AB45,Back!$M$16:$N$20,2,0)","v":"#N/A"},{"$f":"+VLOOKUP('BASE DE RESPUESTAS'!AC45,Back!$M$16:$N$20,2,0)","v":"#N/A"},{"$f":"+VLOOKUP('BASE DE RESPUESTAS'!AD45,Back!$M$16:$N$20,2,0)","v":"#N/A"},{"$f":"+VLOOKUP('BASE DE RESPUESTAS'!AE45,Back!$M$16:$N$20,2,0)","v":"#N/A"},{"$f":"+VLOOKUP('BASE DE RESPUESTAS'!AF45,Back!$M$16:$N$20,2,0)","v":"#N/A"},{"$f":"+VLOOKUP('BASE DE RESPUESTAS'!AG45,Back!$M$16:$N$20,2,0)","v":"#N/A"},{"$f":"+VLOOKUP('BASE DE RESPUESTAS'!AH45,Back!$M$16:$N$20,2,0)","v":"#N/A"},{"$f":"+VLOOKUP('BASE DE RESPUESTAS'!AI45,Back!$M$16:$N$20,2,0)","v":"#N/A"},{"$f":"+VLOOKUP('BASE DE RESPUESTAS'!AJ45,Back!$M$16:$N$20,2,0)","v":"#N/A"},{"$f":"+VLOOKUP('BASE DE RESPUESTAS'!AK45,Back!$M$16:$N$20,2,0)","v":"#N/A"},{"$f":"+VLOOKUP('BASE DE RESPUESTAS'!AL45,Back!$M$16:$N$20,2,0)","v":"#N/A"},{"$f":"+VLOOKUP('BASE DE RESPUESTAS'!AM45,Back!$M$16:$N$20,2,0)","v":"#N/A"},{"$f":"+VLOOKUP('BASE DE RESPUESTAS'!AN45,Back!$M$16:$N$20,2,0)","v":"#N/A"},{"$f":"+VLOOKUP('BASE DE RESPUESTAS'!AO45,Back!$M$16:$N$20,2,0)","v":"#N/A"},{"$f":"+VLOOKUP('BASE DE RESPUESTAS'!AP45,Back!$M$16:$N$20,2,0)","v":"#N/A"},{"$f":"+VLOOKUP('BASE DE RESPUESTAS'!AQ45,Back!$M$16:$N$20,2,0)","v":"#N/A"},{"$f":"+VLOOKUP('BASE DE RESPUESTAS'!AR45,Back!$M$16:$N$20,2,0)","v":"#N/A"},{"$f":"+VLOOKUP('BASE DE RESPUESTAS'!AS45,Back!$M$16:$N$20,2,0)","v":"#N/A"},{"$f":"+VLOOKUP('BASE DE RESPUESTAS'!AT45,Back!$M$16:$N$20,2,0)","v":"#N/A"},{"$f":"+VLOOKUP('BASE DE RESPUESTAS'!AU45,Back!$M$16:$N$20,2,0)","v":"#N/A"},{"$f":"+VLOOKUP('BASE DE RESPUESTAS'!AV45,Back!$M$16:$N$20,2,0)","v":"#N/A"},{"$f":"+VLOOKUP('BASE DE RESPUESTAS'!AW45,Back!$M$16:$N$20,2,0)","v":"#N/A"},{"$f":"+VLOOKUP('BASE DE RESPUESTAS'!AX45,Back!$M$16:$N$20,2,0)","v":"#N/A"},{"$f":"+VLOOKUP('BASE DE RESPUESTAS'!AY45,Back!$M$16:$N$20,2,0)","v":"#N/A"},{"$f":"+VLOOKUP('BASE DE RESPUESTAS'!AZ45,Back!$M$16:$N$20,2,0)","v":"#N/A"},{"$f":"+VLOOKUP('BASE DE RESPUESTAS'!BA45,Back!$M$16:$N$20,2,0)","v":"#N/A"},{"$f":"+VLOOKUP('BASE DE RESPUESTAS'!BB45,Back!$M$16:$N$20,2,0)","v":"#N/A"},{"$f":"+VLOOKUP('BASE DE RESPUESTAS'!BC45,Back!$M$16:$N$20,2,0)","v":"#N/A"},{"$f":"+VLOOKUP('BASE DE RESPUESTAS'!BD45,Back!$M$16:$N$20,2,0)","v":"#N/A"},{"$f":"+VLOOKUP('BASE DE RESPUESTAS'!BE45,Back!$M$16:$N$20,2,0)","v":"#N/A"}]
[null,null,null,"La o el estudiante busca cómo ayudar a otras personas para que se sientan mejor.",24.0,"Propone acciones para que la otra persona se sienta mejor cuando identifica que se siente mal.",null,{"$f":"+VLOOKUP('BASE DE RESPUESTAS'!H46,Back!$M$16:$N$20,2,0)","v":"#N/A"},{"$f":"+VLOOKUP('BASE DE RESPUESTAS'!I46,Back!$M$16:$N$20,2,0)","v":"#N/A"},{"$f":"+VLOOKUP('BASE DE RESPUESTAS'!J46,Back!$M$16:$N$20,2,0)","v":"#N/A"},{"$f":"+VLOOKUP('BASE DE RESPUESTAS'!K46,Back!$M$16:$N$20,2,0)","v":"#N/A"},{"$f":"+VLOOKUP('BASE DE RESPUESTAS'!L46,Back!$M$16:$N$20,2,0)","v":"#N/A"},{"$f":"+VLOOKUP('BASE DE RESPUESTAS'!M46,Back!$M$16:$N$20,2,0)","v":"#N/A"},{"$f":"+VLOOKUP('BASE DE RESPUESTAS'!N46,Back!$M$16:$N$20,2,0)","v":"#N/A"},{"$f":"+VLOOKUP('BASE DE RESPUESTAS'!O46,Back!$M$16:$N$20,2,0)","v":"#N/A"},{"$f":"+VLOOKUP('BASE DE RESPUESTAS'!P46,Back!$M$16:$N$20,2,0)","v":"#N/A"},{"$f":"+VLOOKUP('BASE DE RESPUESTAS'!Q46,Back!$M$16:$N$20,2,0)","v":"#N/A"},{"$f":"+VLOOKUP('BASE DE RESPUESTAS'!R46,Back!$M$16:$N$20,2,0)","v":"#N/A"},{"$f":"+VLOOKUP('BASE DE RESPUESTAS'!S46,Back!$M$16:$N$20,2,0)","v":"#N/A"},{"$f":"+VLOOKUP('BASE DE RESPUESTAS'!T46,Back!$M$16:$N$20,2,0)","v":"#N/A"},{"$f":"+VLOOKUP('BASE DE RESPUESTAS'!U46,Back!$M$16:$N$20,2,0)","v":"#N/A"},{"$f":"+VLOOKUP('BASE DE RESPUESTAS'!V46,Back!$M$16:$N$20,2,0)","v":"#N/A"},{"$f":"+VLOOKUP('BASE DE RESPUESTAS'!W46,Back!$M$16:$N$20,2,0)","v":"#N/A"},{"$f":"+VLOOKUP('BASE DE RESPUESTAS'!X46,Back!$M$16:$N$20,2,0)","v":"#N/A"},{"$f":"+VLOOKUP('BASE DE RESPUESTAS'!Y46,Back!$M$16:$N$20,2,0)","v":"#N/A"},{"$f":"+VLOOKUP('BASE DE RESPUESTAS'!Z46,Back!$M$16:$N$20,2,0)","v":"#N/A"},{"$f":"+VLOOKUP('BASE DE RESPUESTAS'!AA46,Back!$M$16:$N$20,2,0)","v":"#N/A"},{"$f":"+VLOOKUP('BASE DE RESPUESTAS'!AB46,Back!$M$16:$N$20,2,0)","v":"#N/A"},{"$f":"+VLOOKUP('BASE DE RESPUESTAS'!AC46,Back!$M$16:$N$20,2,0)","v":"#N/A"},{"$f":"+VLOOKUP('BASE DE RESPUESTAS'!AD46,Back!$M$16:$N$20,2,0)","v":"#N/A"},{"$f":"+VLOOKUP('BASE DE RESPUESTAS'!AE46,Back!$M$16:$N$20,2,0)","v":"#N/A"},{"$f":"+VLOOKUP('BASE DE RESPUESTAS'!AF46,Back!$M$16:$N$20,2,0)","v":"#N/A"},{"$f":"+VLOOKUP('BASE DE RESPUESTAS'!AG46,Back!$M$16:$N$20,2,0)","v":"#N/A"},{"$f":"+VLOOKUP('BASE DE RESPUESTAS'!AH46,Back!$M$16:$N$20,2,0)","v":"#N/A"},{"$f":"+VLOOKUP('BASE DE RESPUESTAS'!AI46,Back!$M$16:$N$20,2,0)","v":"#N/A"},{"$f":"+VLOOKUP('BASE DE RESPUESTAS'!AJ46,Back!$M$16:$N$20,2,0)","v":"#N/A"},{"$f":"+VLOOKUP('BASE DE RESPUESTAS'!AK46,Back!$M$16:$N$20,2,0)","v":"#N/A"},{"$f":"+VLOOKUP('BASE DE RESPUESTAS'!AL46,Back!$M$16:$N$20,2,0)","v":"#N/A"},{"$f":"+VLOOKUP('BASE DE RESPUESTAS'!AM46,Back!$M$16:$N$20,2,0)","v":"#N/A"},{"$f":"+VLOOKUP('BASE DE RESPUESTAS'!AN46,Back!$M$16:$N$20,2,0)","v":"#N/A"},{"$f":"+VLOOKUP('BASE DE RESPUESTAS'!AO46,Back!$M$16:$N$20,2,0)","v":"#N/A"},{"$f":"+VLOOKUP('BASE DE RESPUESTAS'!AP46,Back!$M$16:$N$20,2,0)","v":"#N/A"},{"$f":"+VLOOKUP('BASE DE RESPUESTAS'!AQ46,Back!$M$16:$N$20,2,0)","v":"#N/A"},{"$f":"+VLOOKUP('BASE DE RESPUESTAS'!AR46,Back!$M$16:$N$20,2,0)","v":"#N/A"},{"$f":"+VLOOKUP('BASE DE RESPUESTAS'!AS46,Back!$M$16:$N$20,2,0)","v":"#N/A"},{"$f":"+VLOOKUP('BASE DE RESPUESTAS'!AT46,Back!$M$16:$N$20,2,0)","v":"#N/A"},{"$f":"+VLOOKUP('BASE DE RESPUESTAS'!AU46,Back!$M$16:$N$20,2,0)","v":"#N/A"},{"$f":"+VLOOKUP('BASE DE RESPUESTAS'!AV46,Back!$M$16:$N$20,2,0)","v":"#N/A"},{"$f":"+VLOOKUP('BASE DE RESPUESTAS'!AW46,Back!$M$16:$N$20,2,0)","v":"#N/A"},{"$f":"+VLOOKUP('BASE DE RESPUESTAS'!AX46,Back!$M$16:$N$20,2,0)","v":"#N/A"},{"$f":"+VLOOKUP('BASE DE RESPUESTAS'!AY46,Back!$M$16:$N$20,2,0)","v":"#N/A"},{"$f":"+VLOOKUP('BASE DE RESPUESTAS'!AZ46,Back!$M$16:$N$20,2,0)","v":"#N/A"},{"$f":"+VLOOKUP('BASE DE RESPUESTAS'!BA46,Back!$M$16:$N$20,2,0)","v":"#N/A"},{"$f":"+VLOOKUP('BASE DE RESPUESTAS'!BB46,Back!$M$16:$N$20,2,0)","v":"#N/A"},{"$f":"+VLOOKUP('BASE DE RESPUESTAS'!BC46,Back!$M$16:$N$20,2,0)","v":"#N/A"},{"$f":"+VLOOKUP('BASE DE RESPUESTAS'!BD46,Back!$M$16:$N$20,2,0)","v":"#N/A"},{"$f":"+VLOOKUP('BASE DE RESPUESTAS'!BE46,Back!$M$16:$N$20,2,0)","v":"#N/A"}]
[null,null,null,null,25.0,"Ofrece ayuda cuando un compañero o compañera lo necesita.",null,{"$f":"+VLOOKUP('BASE DE RESPUESTAS'!H47,Back!$M$16:$N$20,2,0)","v":"#N/A"},{"$f":"+VLOOKUP('BASE DE RESPUESTAS'!I47,Back!$M$16:$N$20,2,0)","v":"#N/A"},{"$f":"+VLOOKUP('BASE DE RESPUESTAS'!J47,Back!$M$16:$N$20,2,0)","v":"#N/A"},{"$f":"+VLOOKUP('BASE DE RESPUESTAS'!K47,Back!$M$16:$N$20,2,0)","v":"#N/A"},{"$f":"+VLOOKUP('BASE DE RESPUESTAS'!L47,Back!$M$16:$N$20,2,0)","v":"#N/A"},{"$f":"+VLOOKUP('BASE DE RESPUESTAS'!M47,Back!$M$16:$N$20,2,0)","v":"#N/A"},{"$f":"+VLOOKUP('BASE DE RESPUESTAS'!N47,Back!$M$16:$N$20,2,0)","v":"#N/A"},{"$f":"+VLOOKUP('BASE DE RESPUESTAS'!O47,Back!$M$16:$N$20,2,0)","v":"#N/A"},{"$f":"+VLOOKUP('BASE DE RESPUESTAS'!P47,Back!$M$16:$N$20,2,0)","v":"#N/A"},{"$f":"+VLOOKUP('BASE DE RESPUESTAS'!Q47,Back!$M$16:$N$20,2,0)","v":"#N/A"},{"$f":"+VLOOKUP('BASE DE RESPUESTAS'!R47,Back!$M$16:$N$20,2,0)","v":"#N/A"},{"$f":"+VLOOKUP('BASE DE RESPUESTAS'!S47,Back!$M$16:$N$20,2,0)","v":"#N/A"},{"$f":"+VLOOKUP('BASE DE RESPUESTAS'!T47,Back!$M$16:$N$20,2,0)","v":"#N/A"},{"$f":"+VLOOKUP('BASE DE RESPUESTAS'!U47,Back!$M$16:$N$20,2,0)","v":"#N/A"},{"$f":"+VLOOKUP('BASE DE RESPUESTAS'!V47,Back!$M$16:$N$20,2,0)","v":"#N/A"},{"$f":"+VLOOKUP('BASE DE RESPUESTAS'!W47,Back!$M$16:$N$20,2,0)","v":"#N/A"},{"$f":"+VLOOKUP('BASE DE RESPUESTAS'!X47,Back!$M$16:$N$20,2,0)","v":"#N/A"},{"$f":"+VLOOKUP('BASE DE RESPUESTAS'!Y47,Back!$M$16:$N$20,2,0)","v":"#N/A"},{"$f":"+VLOOKUP('BASE DE RESPUESTAS'!Z47,Back!$M$16:$N$20,2,0)","v":"#N/A"},{"$f":"+VLOOKUP('BASE DE RESPUESTAS'!AA47,Back!$M$16:$N$20,2,0)","v":"#N/A"},{"$f":"+VLOOKUP('BASE DE RESPUESTAS'!AB47,Back!$M$16:$N$20,2,0)","v":"#N/A"},{"$f":"+VLOOKUP('BASE DE RESPUESTAS'!AC47,Back!$M$16:$N$20,2,0)","v":"#N/A"},{"$f":"+VLOOKUP('BASE DE RESPUESTAS'!AD47,Back!$M$16:$N$20,2,0)","v":"#N/A"},{"$f":"+VLOOKUP('BASE DE RESPUESTAS'!AE47,Back!$M$16:$N$20,2,0)","v":"#N/A"},{"$f":"+VLOOKUP('BASE DE RESPUESTAS'!AF47,Back!$M$16:$N$20,2,0)","v":"#N/A"},{"$f":"+VLOOKUP('BASE DE RESPUESTAS'!AG47,Back!$M$16:$N$20,2,0)","v":"#N/A"},{"$f":"+VLOOKUP('BASE DE RESPUESTAS'!AH47,Back!$M$16:$N$20,2,0)","v":"#N/A"},{"$f":"+VLOOKUP('BASE DE RESPUESTAS'!AI47,Back!$M$16:$N$20,2,0)","v":"#N/A"},{"$f":"+VLOOKUP('BASE DE RESPUESTAS'!AJ47,Back!$M$16:$N$20,2,0)","v":"#N/A"},{"$f":"+VLOOKUP('BASE DE RESPUESTAS'!AK47,Back!$M$16:$N$20,2,0)","v":"#N/A"},{"$f":"+VLOOKUP('BASE DE RESPUESTAS'!AL47,Back!$M$16:$N$20,2,0)","v":"#N/A"},{"$f":"+VLOOKUP('BASE DE RESPUESTAS'!AM47,Back!$M$16:$N$20,2,0)","v":"#N/A"},{"$f":"+VLOOKUP('BASE DE RESPUESTAS'!AN47,Back!$M$16:$N$20,2,0)","v":"#N/A"},{"$f":"+VLOOKUP('BASE DE RESPUESTAS'!AO47,Back!$M$16:$N$20,2,0)","v":"#N/A"},{"$f":"+VLOOKUP('BASE DE RESPUESTAS'!AP47,Back!$M$16:$N$20,2,0)","v":"#N/A"},{"$f":"+VLOOKUP('BASE DE RESPUESTAS'!AQ47,Back!$M$16:$N$20,2,0)","v":"#N/A"},{"$f":"+VLOOKUP('BASE DE RESPUESTAS'!AR47,Back!$M$16:$N$20,2,0)","v":"#N/A"},{"$f":"+VLOOKUP('BASE DE RESPUESTAS'!AS47,Back!$M$16:$N$20,2,0)","v":"#N/A"},{"$f":"+VLOOKUP('BASE DE RESPUESTAS'!AT47,Back!$M$16:$N$20,2,0)","v":"#N/A"},{"$f":"+VLOOKUP('BASE DE RESPUESTAS'!AU47,Back!$M$16:$N$20,2,0)","v":"#N/A"},{"$f":"+VLOOKUP('BASE DE RESPUESTAS'!AV47,Back!$M$16:$N$20,2,0)","v":"#N/A"},{"$f":"+VLOOKUP('BASE DE RESPUESTAS'!AW47,Back!$M$16:$N$20,2,0)","v":"#N/A"},{"$f":"+VLOOKUP('BASE DE RESPUESTAS'!AX47,Back!$M$16:$N$20,2,0)","v":"#N/A"},{"$f":"+VLOOKUP('BASE DE RESPUESTAS'!AY47,Back!$M$16:$N$20,2,0)","v":"#N/A"},{"$f":"+VLOOKUP('BASE DE RESPUESTAS'!AZ47,Back!$M$16:$N$20,2,0)","v":"#N/A"},{"$f":"+VLOOKUP('BASE DE RESPUESTAS'!BA47,Back!$M$16:$N$20,2,0)","v":"#N/A"},{"$f":"+VLOOKUP('BASE DE RESPUESTAS'!BB47,Back!$M$16:$N$20,2,0)","v":"#N/A"},{"$f":"+VLOOKUP('BASE DE RESPUESTAS'!BC47,Back!$M$16:$N$20,2,0)","v":"#N/A"},{"$f":"+VLOOKUP('BASE DE RESPUESTAS'!BD47,Back!$M$16:$N$20,2,0)","v":"#N/A"},{"$f":"+VLOOKUP('BASE DE RESPUESTAS'!BE47,Back!$M$16:$N$20,2,0)","v":"#N/A"}]
[null,"HSE","Resolución de conflictos","La o el estudiante tiene iniciativa para solucionar problemas que pueda tener con algún/a compañera/o.",26.0,"En situaciones conflictivas el estudiante busca el diálogo para encontrar una solución.",null,{"$f":"+VLOOKUP('BASE DE RESPUESTAS'!H48,Back!$M$16:$N$20,2,0)","v":"#N/A"},{"$f":"+VLOOKUP('BASE DE RESPUESTAS'!I48,Back!$M$16:$N$20,2,0)","v":"#N/A"},{"$f":"+VLOOKUP('BASE DE RESPUESTAS'!J48,Back!$M$16:$N$20,2,0)","v":"#N/A"},{"$f":"+VLOOKUP('BASE DE RESPUESTAS'!K48,Back!$M$16:$N$20,2,0)","v":"#N/A"},{"$f":"+VLOOKUP('BASE DE RESPUESTAS'!L48,Back!$M$16:$N$20,2,0)","v":"#N/A"},{"$f":"+VLOOKUP('BASE DE RESPUESTAS'!M48,Back!$M$16:$N$20,2,0)","v":"#N/A"},{"$f":"+VLOOKUP('BASE DE RESPUESTAS'!N48,Back!$M$16:$N$20,2,0)","v":"#N/A"},{"$f":"+VLOOKUP('BASE DE RESPUESTAS'!O48,Back!$M$16:$N$20,2,0)","v":"#N/A"},{"$f":"+VLOOKUP('BASE DE RESPUESTAS'!P48,Back!$M$16:$N$20,2,0)","v":"#N/A"},{"$f":"+VLOOKUP('BASE DE RESPUESTAS'!Q48,Back!$M$16:$N$20,2,0)","v":"#N/A"},{"$f":"+VLOOKUP('BASE DE RESPUESTAS'!R48,Back!$M$16:$N$20,2,0)","v":"#N/A"},{"$f":"+VLOOKUP('BASE DE RESPUESTAS'!S48,Back!$M$16:$N$20,2,0)","v":"#N/A"},{"$f":"+VLOOKUP('BASE DE RESPUESTAS'!T48,Back!$M$16:$N$20,2,0)","v":"#N/A"},{"$f":"+VLOOKUP('BASE DE RESPUESTAS'!U48,Back!$M$16:$N$20,2,0)","v":"#N/A"},{"$f":"+VLOOKUP('BASE DE RESPUESTAS'!V48,Back!$M$16:$N$20,2,0)","v":"#N/A"},{"$f":"+VLOOKUP('BASE DE RESPUESTAS'!W48,Back!$M$16:$N$20,2,0)","v":"#N/A"},{"$f":"+VLOOKUP('BASE DE RESPUESTAS'!X48,Back!$M$16:$N$20,2,0)","v":"#N/A"},{"$f":"+VLOOKUP('BASE DE RESPUESTAS'!Y48,Back!$M$16:$N$20,2,0)","v":"#N/A"},{"$f":"+VLOOKUP('BASE DE RESPUESTAS'!Z48,Back!$M$16:$N$20,2,0)","v":"#N/A"},{"$f":"+VLOOKUP('BASE DE RESPUESTAS'!AA48,Back!$M$16:$N$20,2,0)","v":"#N/A"},{"$f":"+VLOOKUP('BASE DE RESPUESTAS'!AB48,Back!$M$16:$N$20,2,0)","v":"#N/A"},{"$f":"+VLOOKUP('BASE DE RESPUESTAS'!AC48,Back!$M$16:$N$20,2,0)","v":"#N/A"},{"$f":"+VLOOKUP('BASE DE RESPUESTAS'!AD48,Back!$M$16:$N$20,2,0)","v":"#N/A"},{"$f":"+VLOOKUP('BASE DE RESPUESTAS'!AE48,Back!$M$16:$N$20,2,0)","v":"#N/A"},{"$f":"+VLOOKUP('BASE DE RESPUESTAS'!AF48,Back!$M$16:$N$20,2,0)","v":"#N/A"},{"$f":"+VLOOKUP('BASE DE RESPUESTAS'!AG48,Back!$M$16:$N$20,2,0)","v":"#N/A"},{"$f":"+VLOOKUP('BASE DE RESPUESTAS'!AH48,Back!$M$16:$N$20,2,0)","v":"#N/A"},{"$f":"+VLOOKUP('BASE DE RESPUESTAS'!AI48,Back!$M$16:$N$20,2,0)","v":"#N/A"},{"$f":"+VLOOKUP('BASE DE RESPUESTAS'!AJ48,Back!$M$16:$N$20,2,0)","v":"#N/A"},{"$f":"+VLOOKUP('BASE DE RESPUESTAS'!AK48,Back!$M$16:$N$20,2,0)","v":"#N/A"},{"$f":"+VLOOKUP('BASE DE RESPUESTAS'!AL48,Back!$M$16:$N$20,2,0)","v":"#N/A"},{"$f":"+VLOOKUP('BASE DE RESPUESTAS'!AM48,Back!$M$16:$N$20,2,0)","v":"#N/A"},{"$f":"+VLOOKUP('BASE DE RESPUESTAS'!AN48,Back!$M$16:$N$20,2,0)","v":"#N/A"},{"$f":"+VLOOKUP('BASE DE RESPUESTAS'!AO48,Back!$M$16:$N$20,2,0)","v":"#N/A"},{"$f":"+VLOOKUP('BASE DE RESPUESTAS'!AP48,Back!$M$16:$N$20,2,0)","v":"#N/A"},{"$f":"+VLOOKUP('BASE DE RESPUESTAS'!AQ48,Back!$M$16:$N$20,2,0)","v":"#N/A"},{"$f":"+VLOOKUP('BASE DE RESPUESTAS'!AR48,Back!$M$16:$N$20,2,0)","v":"#N/A"},{"$f":"+VLOOKUP('BASE DE RESPUESTAS'!AS48,Back!$M$16:$N$20,2,0)","v":"#N/A"},{"$f":"+VLOOKUP('BASE DE RESPUESTAS'!AT48,Back!$M$16:$N$20,2,0)","v":"#N/A"},{"$f":"+VLOOKUP('BASE DE RESPUESTAS'!AU48,Back!$M$16:$N$20,2,0)","v":"#N/A"},{"$f":"+VLOOKUP('BASE DE RESPUESTAS'!AV48,Back!$M$16:$N$20,2,0)","v":"#N/A"},{"$f":"+VLOOKUP('BASE DE RESPUESTAS'!AW48,Back!$M$16:$N$20,2,0)","v":"#N/A"},{"$f":"+VLOOKUP('BASE DE RESPUESTAS'!AX48,Back!$M$16:$N$20,2,0)","v":"#N/A"},{"$f":"+VLOOKUP('BASE DE RESPUESTAS'!AY48,Back!$M$16:$N$20,2,0)","v":"#N/A"},{"$f":"+VLOOKUP('BASE DE RESPUESTAS'!AZ48,Back!$M$16:$N$20,2,0)","v":"#N/A"},{"$f":"+VLOOKUP('BASE DE RESPUESTAS'!BA48,Back!$M$16:$N$20,2,0)","v":"#N/A"},{"$f":"+VLOOKUP('BASE DE RESPUESTAS'!BB48,Back!$M$16:$N$20,2,0)","v":"#N/A"},{"$f":"+VLOOKUP('BASE DE RESPUESTAS'!BC48,Back!$M$16:$N$20,2,0)","v":"#N/A"},{"$f":"+VLOOKUP('BASE DE RESPUESTAS'!BD48,Back!$M$16:$N$20,2,0)","v":"#N/A"},{"$f":"+VLOOKUP('BASE DE RESPUESTAS'!BE48,Back!$M$16:$N$20,2,0)","v":"#N/A"}]
[null,null,null,null,27.0,"Busca ayuda de un adulto si no se encuentra una situación mediante el diálogo. ",null,{"$f":"+VLOOKUP('BASE DE RESPUESTAS'!H49,Back!$M$16:$N$20,2,0)","v":"#N/A"},{"$f":"+VLOOKUP('BASE DE RESPUESTAS'!I49,Back!$M$16:$N$20,2,0)","v":"#N/A"},{"$f":"+VLOOKUP('BASE DE RESPUESTAS'!J49,Back!$M$16:$N$20,2,0)","v":"#N/A"},{"$f":"+VLOOKUP('BASE DE RESPUESTAS'!K49,Back!$M$16:$N$20,2,0)","v":"#N/A"},{"$f":"+VLOOKUP('BASE DE RESPUESTAS'!L49,Back!$M$16:$N$20,2,0)","v":"#N/A"},{"$f":"+VLOOKUP('BASE DE RESPUESTAS'!M49,Back!$M$16:$N$20,2,0)","v":"#N/A"},{"$f":"+VLOOKUP('BASE DE RESPUESTAS'!N49,Back!$M$16:$N$20,2,0)","v":"#N/A"},{"$f":"+VLOOKUP('BASE DE RESPUESTAS'!O49,Back!$M$16:$N$20,2,0)","v":"#N/A"},{"$f":"+VLOOKUP('BASE DE RESPUESTAS'!P49,Back!$M$16:$N$20,2,0)","v":"#N/A"},{"$f":"+VLOOKUP('BASE DE RESPUESTAS'!Q49,Back!$M$16:$N$20,2,0)","v":"#N/A"},{"$f":"+VLOOKUP('BASE DE RESPUESTAS'!R49,Back!$M$16:$N$20,2,0)","v":"#N/A"},{"$f":"+VLOOKUP('BASE DE RESPUESTAS'!S49,Back!$M$16:$N$20,2,0)","v":"#N/A"},{"$f":"+VLOOKUP('BASE DE RESPUESTAS'!T49,Back!$M$16:$N$20,2,0)","v":"#N/A"},{"$f":"+VLOOKUP('BASE DE RESPUESTAS'!U49,Back!$M$16:$N$20,2,0)","v":"#N/A"},{"$f":"+VLOOKUP('BASE DE RESPUESTAS'!V49,Back!$M$16:$N$20,2,0)","v":"#N/A"},{"$f":"+VLOOKUP('BASE DE RESPUESTAS'!W49,Back!$M$16:$N$20,2,0)","v":"#N/A"},{"$f":"+VLOOKUP('BASE DE RESPUESTAS'!X49,Back!$M$16:$N$20,2,0)","v":"#N/A"},{"$f":"+VLOOKUP('BASE DE RESPUESTAS'!Y49,Back!$M$16:$N$20,2,0)","v":"#N/A"},{"$f":"+VLOOKUP('BASE DE RESPUESTAS'!Z49,Back!$M$16:$N$20,2,0)","v":"#N/A"},{"$f":"+VLOOKUP('BASE DE RESPUESTAS'!AA49,Back!$M$16:$N$20,2,0)","v":"#N/A"},{"$f":"+VLOOKUP('BASE DE RESPUESTAS'!AB49,Back!$M$16:$N$20,2,0)","v":"#N/A"},{"$f":"+VLOOKUP('BASE DE RESPUESTAS'!AC49,Back!$M$16:$N$20,2,0)","v":"#N/A"},{"$f":"+VLOOKUP('BASE DE RESPUESTAS'!AD49,Back!$M$16:$N$20,2,0)","v":"#N/A"},{"$f":"+VLOOKUP('BASE DE RESPUESTAS'!AE49,Back!$M$16:$N$20,2,0)","v":"#N/A"},{"$f":"+VLOOKUP('BASE DE RESPUESTAS'!AF49,Back!$M$16:$N$20,2,0)","v":"#N/A"},{"$f":"+VLOOKUP('BASE DE RESPUESTAS'!AG49,Back!$M$16:$N$20,2,0)","v":"#N/A"},{"$f":"+VLOOKUP('BASE DE RESPUESTAS'!AH49,Back!$M$16:$N$20,2,0)","v":"#N/A"},{"$f":"+VLOOKUP('BASE DE RESPUESTAS'!AI49,Back!$M$16:$N$20,2,0)","v":"#N/A"},{"$f":"+VLOOKUP('BASE DE RESPUESTAS'!AJ49,Back!$M$16:$N$20,2,0)","v":"#N/A"},{"$f":"+VLOOKUP('BASE DE RESPUESTAS'!AK49,Back!$M$16:$N$20,2,0)","v":"#N/A"},{"$f":"+VLOOKUP('BASE DE RESPUESTAS'!AL49,Back!$M$16:$N$20,2,0)","v":"#N/A"},{"$f":"+VLOOKUP('BASE DE RESPUESTAS'!AM49,Back!$M$16:$N$20,2,0)","v":"#N/A"},{"$f":"+VLOOKUP('BASE DE RESPUESTAS'!AN49,Back!$M$16:$N$20,2,0)","v":"#N/A"},{"$f":"+VLOOKUP('BASE DE RESPUESTAS'!AO49,Back!$M$16:$N$20,2,0)","v":"#N/A"},{"$f":"+VLOOKUP('BASE DE RESPUESTAS'!AP49,Back!$M$16:$N$20,2,0)","v":"#N/A"},{"$f":"+VLOOKUP('BASE DE RESPUESTAS'!AQ49,Back!$M$16:$N$20,2,0)","v":"#N/A"},{"$f":"+VLOOKUP('BASE DE RESPUESTAS'!AR49,Back!$M$16:$N$20,2,0)","v":"#N/A"},{"$f":"+VLOOKUP('BASE DE RESPUESTAS'!AS49,Back!$M$16:$N$20,2,0)","v":"#N/A"},{"$f":"+VLOOKUP('BASE DE RESPUESTAS'!AT49,Back!$M$16:$N$20,2,0)","v":"#N/A"},{"$f":"+VLOOKUP('BASE DE RESPUESTAS'!AU49,Back!$M$16:$N$20,2,0)","v":"#N/A"},{"$f":"+VLOOKUP('BASE DE RESPUESTAS'!AV49,Back!$M$16:$N$20,2,0)","v":"#N/A"},{"$f":"+VLOOKUP('BASE DE RESPUESTAS'!AW49,Back!$M$16:$N$20,2,0)","v":"#N/A"},{"$f":"+VLOOKUP('BASE DE RESPUESTAS'!AX49,Back!$M$16:$N$20,2,0)","v":"#N/A"},{"$f":"+VLOOKUP('BASE DE RESPUESTAS'!AY49,Back!$M$16:$N$20,2,0)","v":"#N/A"},{"$f":"+VLOOKUP('BASE DE RESPUESTAS'!AZ49,Back!$M$16:$N$20,2,0)","v":"#N/A"},{"$f":"+VLOOKUP('BASE DE RESPUESTAS'!BA49,Back!$M$16:$N$20,2,0)","v":"#N/A"},{"$f":"+VLOOKUP('BASE DE RESPUESTAS'!BB49,Back!$M$16:$N$20,2,0)","v":"#N/A"},{"$f":"+VLOOKUP('BASE DE RESPUESTAS'!BC49,Back!$M$16:$N$20,2,0)","v":"#N/A"},{"$f":"+VLOOKUP('BASE DE RESPUESTAS'!BD49,Back!$M$16:$N$20,2,0)","v":"#N/A"},{"$f":"+VLOOKUP('BASE DE RESPUESTAS'!BE49,Back!$M$16:$N$20,2,0)","v":"#N/A"}]
[null,null,null,"La o el estudiante tiene el interés de intervenir en problemas entre sus compañeras/os para que se solucionen sus problemas.",28.0,"Está atento/a ante posibles situaciones de conflicto entre sus compañeros/as.",null,{"$f":"+VLOOKUP('BASE DE RESPUESTAS'!H50,Back!$M$16:$N$20,2,0)","v":"#N/A"},{"$f":"+VLOOKUP('BASE DE RESPUESTAS'!I50,Back!$M$16:$N$20,2,0)","v":"#N/A"},{"$f":"+VLOOKUP('BASE DE RESPUESTAS'!J50,Back!$M$16:$N$20,2,0)","v":"#N/A"},{"$f":"+VLOOKUP('BASE DE RESPUESTAS'!K50,Back!$M$16:$N$20,2,0)","v":"#N/A"},{"$f":"+VLOOKUP('BASE DE RESPUESTAS'!L50,Back!$M$16:$N$20,2,0)","v":"#N/A"},{"$f":"+VLOOKUP('BASE DE RESPUESTAS'!M50,Back!$M$16:$N$20,2,0)","v":"#N/A"},{"$f":"+VLOOKUP('BASE DE RESPUESTAS'!N50,Back!$M$16:$N$20,2,0)","v":"#N/A"},{"$f":"+VLOOKUP('BASE DE RESPUESTAS'!O50,Back!$M$16:$N$20,2,0)","v":"#N/A"},{"$f":"+VLOOKUP('BASE DE RESPUESTAS'!P50,Back!$M$16:$N$20,2,0)","v":"#N/A"},{"$f":"+VLOOKUP('BASE DE RESPUESTAS'!Q50,Back!$M$16:$N$20,2,0)","v":"#N/A"},{"$f":"+VLOOKUP('BASE DE RESPUESTAS'!R50,Back!$M$16:$N$20,2,0)","v":"#N/A"},{"$f":"+VLOOKUP('BASE DE RESPUESTAS'!S50,Back!$M$16:$N$20,2,0)","v":"#N/A"},{"$f":"+VLOOKUP('BASE DE RESPUESTAS'!T50,Back!$M$16:$N$20,2,0)","v":"#N/A"},{"$f":"+VLOOKUP('BASE DE RESPUESTAS'!U50,Back!$M$16:$N$20,2,0)","v":"#N/A"},{"$f":"+VLOOKUP('BASE DE RESPUESTAS'!V50,Back!$M$16:$N$20,2,0)","v":"#N/A"},{"$f":"+VLOOKUP('BASE DE RESPUESTAS'!W50,Back!$M$16:$N$20,2,0)","v":"#N/A"},{"$f":"+VLOOKUP('BASE DE RESPUESTAS'!X50,Back!$M$16:$N$20,2,0)","v":"#N/A"},{"$f":"+VLOOKUP('BASE DE RESPUESTAS'!Y50,Back!$M$16:$N$20,2,0)","v":"#N/A"},{"$f":"+VLOOKUP('BASE DE RESPUESTAS'!Z50,Back!$M$16:$N$20,2,0)","v":"#N/A"},{"$f":"+VLOOKUP('BASE DE RESPUESTAS'!AA50,Back!$M$16:$N$20,2,0)","v":"#N/A"},{"$f":"+VLOOKUP('BASE DE RESPUESTAS'!AB50,Back!$M$16:$N$20,2,0)","v":"#N/A"},{"$f":"+VLOOKUP('BASE DE RESPUESTAS'!AC50,Back!$M$16:$N$20,2,0)","v":"#N/A"},{"$f":"+VLOOKUP('BASE DE RESPUESTAS'!AD50,Back!$M$16:$N$20,2,0)","v":"#N/A"},{"$f":"+VLOOKUP('BASE DE RESPUESTAS'!AE50,Back!$M$16:$N$20,2,0)","v":"#N/A"},{"$f":"+VLOOKUP('BASE DE RESPUESTAS'!AF50,Back!$M$16:$N$20,2,0)","v":"#N/A"},{"$f":"+VLOOKUP('BASE DE RESPUESTAS'!AG50,Back!$M$16:$N$20,2,0)","v":"#N/A"},{"$f":"+VLOOKUP('BASE DE RESPUESTAS'!AH50,Back!$M$16:$N$20,2,0)","v":"#N/A"},{"$f":"+VLOOKUP('BASE DE RESPUESTAS'!AI50,Back!$M$16:$N$20,2,0)","v":"#N/A"},{"$f":"+VLOOKUP('BASE DE RESPUESTAS'!AJ50,Back!$M$16:$N$20,2,0)","v":"#N/A"},{"$f":"+VLOOKUP('BASE DE RESPUESTAS'!AK50,Back!$M$16:$N$20,2,0)","v":"#N/A"},{"$f":"+VLOOKUP('BASE DE RESPUESTAS'!AL50,Back!$M$16:$N$20,2,0)","v":"#N/A"},{"$f":"+VLOOKUP('BASE DE RESPUESTAS'!AM50,Back!$M$16:$N$20,2,0)","v":"#N/A"},{"$f":"+VLOOKUP('BASE DE RESPUESTAS'!AN50,Back!$M$16:$N$20,2,0)","v":"#N/A"},{"$f":"+VLOOKUP('BASE DE RESPUESTAS'!AO50,Back!$M$16:$N$20,2,0)","v":"#N/A"},{"$f":"+VLOOKUP('BASE DE RESPUESTAS'!AP50,Back!$M$16:$N$20,2,0)","v":"#N/A"},{"$f":"+VLOOKUP('BASE DE RESPUESTAS'!AQ50,Back!$M$16:$N$20,2,0)","v":"#N/A"},{"$f":"+VLOOKUP('BASE DE RESPUESTAS'!AR50,Back!$M$16:$N$20,2,0)","v":"#N/A"},{"$f":"+VLOOKUP('BASE DE RESPUESTAS'!AS50,Back!$M$16:$N$20,2,0)","v":"#N/A"},{"$f":"+VLOOKUP('BASE DE RESPUESTAS'!AT50,Back!$M$16:$N$20,2,0)","v":"#N/A"},{"$f":"+VLOOKUP('BASE DE RESPUESTAS'!AU50,Back!$M$16:$N$20,2,0)","v":"#N/A"},{"$f":"+VLOOKUP('BASE DE RESPUESTAS'!AV50,Back!$M$16:$N$20,2,0)","v":"#N/A"},{"$f":"+VLOOKUP('BASE DE RESPUESTAS'!AW50,Back!$M$16:$N$20,2,0)","v":"#N/A"},{"$f":"+VLOOKUP('BASE DE RESPUESTAS'!AX50,Back!$M$16:$N$20,2,0)","v":"#N/A"},{"$f":"+VLOOKUP('BASE DE RESPUESTAS'!AY50,Back!$M$16:$N$20,2,0)","v":"#N/A"},{"$f":"+VLOOKUP('BASE DE RESPUESTAS'!AZ50,Back!$M$16:$N$20,2,0)","v":"#N/A"},{"$f":"+VLOOKUP('BASE DE RESPUESTAS'!BA50,Back!$M$16:$N$20,2,0)","v":"#N/A"},{"$f":"+VLOOKUP('BASE DE RESPUESTAS'!BB50,Back!$M$16:$N$20,2,0)","v":"#N/A"},{"$f":"+VLOOKUP('BASE DE RESPUESTAS'!BC50,Back!$M$16:$N$20,2,0)","v":"#N/A"},{"$f":"+VLOOKUP('BASE DE RESPUESTAS'!BD50,Back!$M$16:$N$20,2,0)","v":"#N/A"},{"$f":"+VLOOKUP('BASE DE RESPUESTAS'!BE50,Back!$M$16:$N$20,2,0)","v":"#N/A"}]
[null,null,null,null,29.0,"Es capaz de proponer soluciones para afrontar el conflicto.",null,{"$f":"+VLOOKUP('BASE DE RESPUESTAS'!H51,Back!$M$16:$N$20,2,0)","v":"#N/A"},{"$f":"+VLOOKUP('BASE DE RESPUESTAS'!I51,Back!$M$16:$N$20,2,0)","v":"#N/A"},{"$f":"+VLOOKUP('BASE DE RESPUESTAS'!J51,Back!$M$16:$N$20,2,0)","v":"#N/A"},{"$f":"+VLOOKUP('BASE DE RESPUESTAS'!K51,Back!$M$16:$N$20,2,0)","v":"#N/A"},{"$f":"+VLOOKUP('BASE DE RESPUESTAS'!L51,Back!$M$16:$N$20,2,0)","v":"#N/A"},{"$f":"+VLOOKUP('BASE DE RESPUESTAS'!M51,Back!$M$16:$N$20,2,0)","v":"#N/A"},{"$f":"+VLOOKUP('BASE DE RESPUESTAS'!N51,Back!$M$16:$N$20,2,0)","v":"#N/A"},{"$f":"+VLOOKUP('BASE DE RESPUESTAS'!O51,Back!$M$16:$N$20,2,0)","v":"#N/A"},{"$f":"+VLOOKUP('BASE DE RESPUESTAS'!P51,Back!$M$16:$N$20,2,0)","v":"#N/A"},{"$f":"+VLOOKUP('BASE DE RESPUESTAS'!Q51,Back!$M$16:$N$20,2,0)","v":"#N/A"},{"$f":"+VLOOKUP('BASE DE RESPUESTAS'!R51,Back!$M$16:$N$20,2,0)","v":"#N/A"},{"$f":"+VLOOKUP('BASE DE RESPUESTAS'!S51,Back!$M$16:$N$20,2,0)","v":"#N/A"},{"$f":"+VLOOKUP('BASE DE RESPUESTAS'!T51,Back!$M$16:$N$20,2,0)","v":"#N/A"},{"$f":"+VLOOKUP('BASE DE RESPUESTAS'!U51,Back!$M$16:$N$20,2,0)","v":"#N/A"},{"$f":"+VLOOKUP('BASE DE RESPUESTAS'!V51,Back!$M$16:$N$20,2,0)","v":"#N/A"},{"$f":"+VLOOKUP('BASE DE RESPUESTAS'!W51,Back!$M$16:$N$20,2,0)","v":"#N/A"},{"$f":"+VLOOKUP('BASE DE RESPUESTAS'!X51,Back!$M$16:$N$20,2,0)","v":"#N/A"},{"$f":"+VLOOKUP('BASE DE RESPUESTAS'!Y51,Back!$M$16:$N$20,2,0)","v":"#N/A"},{"$f":"+VLOOKUP('BASE DE RESPUESTAS'!Z51,Back!$M$16:$N$20,2,0)","v":"#N/A"},{"$f":"+VLOOKUP('BASE DE RESPUESTAS'!AA51,Back!$M$16:$N$20,2,0)","v":"#N/A"},{"$f":"+VLOOKUP('BASE DE RESPUESTAS'!AB51,Back!$M$16:$N$20,2,0)","v":"#N/A"},{"$f":"+VLOOKUP('BASE DE RESPUESTAS'!AC51,Back!$M$16:$N$20,2,0)","v":"#N/A"},{"$f":"+VLOOKUP('BASE DE RESPUESTAS'!AD51,Back!$M$16:$N$20,2,0)","v":"#N/A"},{"$f":"+VLOOKUP('BASE DE RESPUESTAS'!AE51,Back!$M$16:$N$20,2,0)","v":"#N/A"},{"$f":"+VLOOKUP('BASE DE RESPUESTAS'!AF51,Back!$M$16:$N$20,2,0)","v":"#N/A"},{"$f":"+VLOOKUP('BASE DE RESPUESTAS'!AG51,Back!$M$16:$N$20,2,0)","v":"#N/A"},{"$f":"+VLOOKUP('BASE DE RESPUESTAS'!AH51,Back!$M$16:$N$20,2,0)","v":"#N/A"},{"$f":"+VLOOKUP('BASE DE RESPUESTAS'!AI51,Back!$M$16:$N$20,2,0)","v":"#N/A"},{"$f":"+VLOOKUP('BASE DE RESPUESTAS'!AJ51,Back!$M$16:$N$20,2,0)","v":"#N/A"},{"$f":"+VLOOKUP('BASE DE RESPUESTAS'!AK51,Back!$M$16:$N$20,2,0)","v":"#N/A"},{"$f":"+VLOOKUP('BASE DE RESPUESTAS'!AL51,Back!$M$16:$N$20,2,0)","v":"#N/A"},{"$f":"+VLOOKUP('BASE DE RESPUESTAS'!AM51,Back!$M$16:$N$20,2,0)","v":"#N/A"},{"$f":"+VLOOKUP('BASE DE RESPUESTAS'!AN51,Back!$M$16:$N$20,2,0)","v":"#N/A"},{"$f":"+VLOOKUP('BASE DE RESPUESTAS'!AO51,Back!$M$16:$N$20,2,0)","v":"#N/A"},{"$f":"+VLOOKUP('BASE DE RESPUESTAS'!AP51,Back!$M$16:$N$20,2,0)","v":"#N/A"},{"$f":"+VLOOKUP('BASE DE RESPUESTAS'!AQ51,Back!$M$16:$N$20,2,0)","v":"#N/A"},{"$f":"+VLOOKUP('BASE DE RESPUESTAS'!AR51,Back!$M$16:$N$20,2,0)","v":"#N/A"},{"$f":"+VLOOKUP('BASE DE RESPUESTAS'!AS51,Back!$M$16:$N$20,2,0)","v":"#N/A"},{"$f":"+VLOOKUP('BASE DE RESPUESTAS'!AT51,Back!$M$16:$N$20,2,0)","v":"#N/A"},{"$f":"+VLOOKUP('BASE DE RESPUESTAS'!AU51,Back!$M$16:$N$20,2,0)","v":"#N/A"},{"$f":"+VLOOKUP('BASE DE RESPUESTAS'!AV51,Back!$M$16:$N$20,2,0)","v":"#N/A"},{"$f":"+VLOOKUP('BASE DE RESPUESTAS'!AW51,Back!$M$16:$N$20,2,0)","v":"#N/A"},{"$f":"+VLOOKUP('BASE DE RESPUESTAS'!AX51,Back!$M$16:$N$20,2,0)","v":"#N/A"},{"$f":"+VLOOKUP('BASE DE RESPUESTAS'!AY51,Back!$M$16:$N$20,2,0)","v":"#N/A"},{"$f":"+VLOOKUP('BASE DE RESPUESTAS'!AZ51,Back!$M$16:$N$20,2,0)","v":"#N/A"},{"$f":"+VLOOKUP('BASE DE RESPUESTAS'!BA51,Back!$M$16:$N$20,2,0)","v":"#N/A"},{"$f":"+VLOOKUP('BASE DE RESPUESTAS'!BB51,Back!$M$16:$N$20,2,0)","v":"#N/A"},{"$f":"+VLOOKUP('BASE DE RESPUESTAS'!BC51,Back!$M$16:$N$20,2,0)","v":"#N/A"},{"$f":"+VLOOKUP('BASE DE RESPUESTAS'!BD51,Back!$M$16:$N$20,2,0)","v":"#N/A"},{"$f":"+VLOOKUP('BASE DE RESPUESTAS'!BE51,Back!$M$16:$N$20,2,0)","v":"#N/A"}]
[null,"HSE","Conciencia social","La o el estudiante reconoce que las personas son diversas y que todas merecen respeto.",30.0,"Reconoce las diferencias entre sus compañeros e interactúa con sus compañeros partiendo del respeto y el afecto.",null,{"$f":"+VLOOKUP('BASE DE RESPUESTAS'!H52,Back!$M$16:$N$20,2,0)","v":"#N/A"},{"$f":"+VLOOKUP('BASE DE RESPUESTAS'!I52,Back!$M$16:$N$20,2,0)","v":"#N/A"},{"$f":"+VLOOKUP('BASE DE RESPUESTAS'!J52,Back!$M$16:$N$20,2,0)","v":"#N/A"},{"$f":"+VLOOKUP('BASE DE RESPUESTAS'!K52,Back!$M$16:$N$20,2,0)","v":"#N/A"},{"$f":"+VLOOKUP('BASE DE RESPUESTAS'!L52,Back!$M$16:$N$20,2,0)","v":"#N/A"},{"$f":"+VLOOKUP('BASE DE RESPUESTAS'!M52,Back!$M$16:$N$20,2,0)","v":"#N/A"},{"$f":"+VLOOKUP('BASE DE RESPUESTAS'!N52,Back!$M$16:$N$20,2,0)","v":"#N/A"},{"$f":"+VLOOKUP('BASE DE RESPUESTAS'!O52,Back!$M$16:$N$20,2,0)","v":"#N/A"},{"$f":"+VLOOKUP('BASE DE RESPUESTAS'!P52,Back!$M$16:$N$20,2,0)","v":"#N/A"},{"$f":"+VLOOKUP('BASE DE RESPUESTAS'!Q52,Back!$M$16:$N$20,2,0)","v":"#N/A"},{"$f":"+VLOOKUP('BASE DE RESPUESTAS'!R52,Back!$M$16:$N$20,2,0)","v":"#N/A"},{"$f":"+VLOOKUP('BASE DE RESPUESTAS'!S52,Back!$M$16:$N$20,2,0)","v":"#N/A"},{"$f":"+VLOOKUP('BASE DE RESPUESTAS'!T52,Back!$M$16:$N$20,2,0)","v":"#N/A"},{"$f":"+VLOOKUP('BASE DE RESPUESTAS'!U52,Back!$M$16:$N$20,2,0)","v":"#N/A"},{"$f":"+VLOOKUP('BASE DE RESPUESTAS'!V52,Back!$M$16:$N$20,2,0)","v":"#N/A"},{"$f":"+VLOOKUP('BASE DE RESPUESTAS'!W52,Back!$M$16:$N$20,2,0)","v":"#N/A"},{"$f":"+VLOOKUP('BASE DE RESPUESTAS'!X52,Back!$M$16:$N$20,2,0)","v":"#N/A"},{"$f":"+VLOOKUP('BASE DE RESPUESTAS'!Y52,Back!$M$16:$N$20,2,0)","v":"#N/A"},{"$f":"+VLOOKUP('BASE DE RESPUESTAS'!Z52,Back!$M$16:$N$20,2,0)","v":"#N/A"},{"$f":"+VLOOKUP('BASE DE RESPUESTAS'!AA52,Back!$M$16:$N$20,2,0)","v":"#N/A"},{"$f":"+VLOOKUP('BASE DE RESPUESTAS'!AB52,Back!$M$16:$N$20,2,0)","v":"#N/A"},{"$f":"+VLOOKUP('BASE DE RESPUESTAS'!AC52,Back!$M$16:$N$20,2,0)","v":"#N/A"},{"$f":"+VLOOKUP('BASE DE RESPUESTAS'!AD52,Back!$M$16:$N$20,2,0)","v":"#N/A"},{"$f":"+VLOOKUP('BASE DE RESPUESTAS'!AE52,Back!$M$16:$N$20,2,0)","v":"#N/A"},{"$f":"+VLOOKUP('BASE DE RESPUESTAS'!AF52,Back!$M$16:$N$20,2,0)","v":"#N/A"},{"$f":"+VLOOKUP('BASE DE RESPUESTAS'!AG52,Back!$M$16:$N$20,2,0)","v":"#N/A"},{"$f":"+VLOOKUP('BASE DE RESPUESTAS'!AH52,Back!$M$16:$N$20,2,0)","v":"#N/A"},{"$f":"+VLOOKUP('BASE DE RESPUESTAS'!AI52,Back!$M$16:$N$20,2,0)","v":"#N/A"},{"$f":"+VLOOKUP('BASE DE RESPUESTAS'!AJ52,Back!$M$16:$N$20,2,0)","v":"#N/A"},{"$f":"+VLOOKUP('BASE DE RESPUESTAS'!AK52,Back!$M$16:$N$20,2,0)","v":"#N/A"},{"$f":"+VLOOKUP('BASE DE RESPUESTAS'!AL52,Back!$M$16:$N$20,2,0)","v":"#N/A"},{"$f":"+VLOOKUP('BASE DE RESPUESTAS'!AM52,Back!$M$16:$N$20,2,0)","v":"#N/A"},{"$f":"+VLOOKUP('BASE DE RESPUESTAS'!AN52,Back!$M$16:$N$20,2,0)","v":"#N/A"},{"$f":"+VLOOKUP('BASE DE RESPUESTAS'!AO52,Back!$M$16:$N$20,2,0)","v":"#N/A"},{"$f":"+VLOOKUP('BASE DE RESPUESTAS'!AP52,Back!$M$16:$N$20,2,0)","v":"#N/A"},{"$f":"+VLOOKUP('BASE DE RESPUESTAS'!AQ52,Back!$M$16:$N$20,2,0)","v":"#N/A"},{"$f":"+VLOOKUP('BASE DE RESPUESTAS'!AR52,Back!$M$16:$N$20,2,0)","v":"#N/A"},{"$f":"+VLOOKUP('BASE DE RESPUESTAS'!AS52,Back!$M$16:$N$20,2,0)","v":"#N/A"},{"$f":"+VLOOKUP('BASE DE RESPUESTAS'!AT52,Back!$M$16:$N$20,2,0)","v":"#N/A"},{"$f":"+VLOOKUP('BASE DE RESPUESTAS'!AU52,Back!$M$16:$N$20,2,0)","v":"#N/A"},{"$f":"+VLOOKUP('BASE DE RESPUESTAS'!AV52,Back!$M$16:$N$20,2,0)","v":"#N/A"},{"$f":"+VLOOKUP('BASE DE RESPUESTAS'!AW52,Back!$M$16:$N$20,2,0)","v":"#N/A"},{"$f":"+VLOOKUP('BASE DE RESPUESTAS'!AX52,Back!$M$16:$N$20,2,0)","v":"#N/A"},{"$f":"+VLOOKUP('BASE DE RESPUESTAS'!AY52,Back!$M$16:$N$20,2,0)","v":"#N/A"},{"$f":"+VLOOKUP('BASE DE RESPUESTAS'!AZ52,Back!$M$16:$N$20,2,0)","v":"#N/A"},{"$f":"+VLOOKUP('BASE DE RESPUESTAS'!BA52,Back!$M$16:$N$20,2,0)","v":"#N/A"},{"$f":"+VLOOKUP('BASE DE RESPUESTAS'!BB52,Back!$M$16:$N$20,2,0)","v":"#N/A"},{"$f":"+VLOOKUP('BASE DE RESPUESTAS'!BC52,Back!$M$16:$N$20,2,0)","v":"#N/A"},{"$f":"+VLOOKUP('BASE DE RESPUESTAS'!BD52,Back!$M$16:$N$20,2,0)","v":"#N/A"},{"$f":"+VLOOKUP('BASE DE RESPUESTAS'!BE52,Back!$M$16:$N$20,2,0)","v":"#N/A"}]
[null,null,null,null,31.0,"Se dirige a los demás por su nombre y no por apodos.",null,{"$f":"+VLOOKUP('BASE DE RESPUESTAS'!H53,Back!$M$16:$N$20,2,0)","v":"#N/A"},{"$f":"+VLOOKUP('BASE DE RESPUESTAS'!I53,Back!$M$16:$N$20,2,0)","v":"#N/A"},{"$f":"+VLOOKUP('BASE DE RESPUESTAS'!J53,Back!$M$16:$N$20,2,0)","v":"#N/A"},{"$f":"+VLOOKUP('BASE DE RESPUESTAS'!K53,Back!$M$16:$N$20,2,0)","v":"#N/A"},{"$f":"+VLOOKUP('BASE DE RESPUESTAS'!L53,Back!$M$16:$N$20,2,0)","v":"#N/A"},{"$f":"+VLOOKUP('BASE DE RESPUESTAS'!M53,Back!$M$16:$N$20,2,0)","v":"#N/A"},{"$f":"+VLOOKUP('BASE DE RESPUESTAS'!N53,Back!$M$16:$N$20,2,0)","v":"#N/A"},{"$f":"+VLOOKUP('BASE DE RESPUESTAS'!O53,Back!$M$16:$N$20,2,0)","v":"#N/A"},{"$f":"+VLOOKUP('BASE DE RESPUESTAS'!P53,Back!$M$16:$N$20,2,0)","v":"#N/A"},{"$f":"+VLOOKUP('BASE DE RESPUESTAS'!Q53,Back!$M$16:$N$20,2,0)","v":"#N/A"},{"$f":"+VLOOKUP('BASE DE RESPUESTAS'!R53,Back!$M$16:$N$20,2,0)","v":"#N/A"},{"$f":"+VLOOKUP('BASE DE RESPUESTAS'!S53,Back!$M$16:$N$20,2,0)","v":"#N/A"},{"$f":"+VLOOKUP('BASE DE RESPUESTAS'!T53,Back!$M$16:$N$20,2,0)","v":"#N/A"},{"$f":"+VLOOKUP('BASE DE RESPUESTAS'!U53,Back!$M$16:$N$20,2,0)","v":"#N/A"},{"$f":"+VLOOKUP('BASE DE RESPUESTAS'!V53,Back!$M$16:$N$20,2,0)","v":"#N/A"},{"$f":"+VLOOKUP('BASE DE RESPUESTAS'!W53,Back!$M$16:$N$20,2,0)","v":"#N/A"},{"$f":"+VLOOKUP('BASE DE RESPUESTAS'!X53,Back!$M$16:$N$20,2,0)","v":"#N/A"},{"$f":"+VLOOKUP('BASE DE RESPUESTAS'!Y53,Back!$M$16:$N$20,2,0)","v":"#N/A"},{"$f":"+VLOOKUP('BASE DE RESPUESTAS'!Z53,Back!$M$16:$N$20,2,0)","v":"#N/A"},{"$f":"+VLOOKUP('BASE DE RESPUESTAS'!AA53,Back!$M$16:$N$20,2,0)","v":"#N/A"},{"$f":"+VLOOKUP('BASE DE RESPUESTAS'!AB53,Back!$M$16:$N$20,2,0)","v":"#N/A"},{"$f":"+VLOOKUP('BASE DE RESPUESTAS'!AC53,Back!$M$16:$N$20,2,0)","v":"#N/A"},{"$f":"+VLOOKUP('BASE DE RESPUESTAS'!AD53,Back!$M$16:$N$20,2,0)","v":"#N/A"},{"$f":"+VLOOKUP('BASE DE RESPUESTAS'!AE53,Back!$M$16:$N$20,2,0)","v":"#N/A"},{"$f":"+VLOOKUP('BASE DE RESPUESTAS'!AF53,Back!$M$16:$N$20,2,0)","v":"#N/A"},{"$f":"+VLOOKUP('BASE DE RESPUESTAS'!AG53,Back!$M$16:$N$20,2,0)","v":"#N/A"},{"$f":"+VLOOKUP('BASE DE RESPUESTAS'!AH53,Back!$M$16:$N$20,2,0)","v":"#N/A"},{"$f":"+VLOOKUP('BASE DE RESPUESTAS'!AI53,Back!$M$16:$N$20,2,0)","v":"#N/A"},{"$f":"+VLOOKUP('BASE DE RESPUESTAS'!AJ53,Back!$M$16:$N$20,2,0)","v":"#N/A"},{"$f":"+VLOOKUP('BASE DE RESPUESTAS'!AK53,Back!$M$16:$N$20,2,0)","v":"#N/A"},{"$f":"+VLOOKUP('BASE DE RESPUESTAS'!AL53,Back!$M$16:$N$20,2,0)","v":"#N/A"},{"$f":"+VLOOKUP('BASE DE RESPUESTAS'!AM53,Back!$M$16:$N$20,2,0)","v":"#N/A"},{"$f":"+VLOOKUP('BASE DE RESPUESTAS'!AN53,Back!$M$16:$N$20,2,0)","v":"#N/A"},{"$f":"+VLOOKUP('BASE DE RESPUESTAS'!AO53,Back!$M$16:$N$20,2,0)","v":"#N/A"},{"$f":"+VLOOKUP('BASE DE RESPUESTAS'!AP53,Back!$M$16:$N$20,2,0)","v":"#N/A"},{"$f":"+VLOOKUP('BASE DE RESPUESTAS'!AQ53,Back!$M$16:$N$20,2,0)","v":"#N/A"},{"$f":"+VLOOKUP('BASE DE RESPUESTAS'!AR53,Back!$M$16:$N$20,2,0)","v":"#N/A"},{"$f":"+VLOOKUP('BASE DE RESPUESTAS'!AS53,Back!$M$16:$N$20,2,0)","v":"#N/A"},{"$f":"+VLOOKUP('BASE DE RESPUESTAS'!AT53,Back!$M$16:$N$20,2,0)","v":"#N/A"},{"$f":"+VLOOKUP('BASE DE RESPUESTAS'!AU53,Back!$M$16:$N$20,2,0)","v":"#N/A"},{"$f":"+VLOOKUP('BASE DE RESPUESTAS'!AV53,Back!$M$16:$N$20,2,0)","v":"#N/A"},{"$f":"+VLOOKUP('BASE DE RESPUESTAS'!AW53,Back!$M$16:$N$20,2,0)","v":"#N/A"},{"$f":"+VLOOKUP('BASE DE RESPUESTAS'!AX53,Back!$M$16:$N$20,2,0)","v":"#N/A"},{"$f":"+VLOOKUP('BASE DE RESPUESTAS'!AY53,Back!$M$16:$N$20,2,0)","v":"#N/A"},{"$f":"+VLOOKUP('BASE DE RESPUESTAS'!AZ53,Back!$M$16:$N$20,2,0)","v":"#N/A"},{"$f":"+VLOOKUP('BASE DE RESPUESTAS'!BA53,Back!$M$16:$N$20,2,0)","v":"#N/A"},{"$f":"+VLOOKUP('BASE DE RESPUESTAS'!BB53,Back!$M$16:$N$20,2,0)","v":"#N/A"},{"$f":"+VLOOKUP('BASE DE RESPUESTAS'!BC53,Back!$M$16:$N$20,2,0)","v":"#N/A"},{"$f":"+VLOOKUP('BASE DE RESPUESTAS'!BD53,Back!$M$16:$N$20,2,0)","v":"#N/A"},{"$f":"+VLOOKUP('BASE DE RESPUESTAS'!BE53,Back!$M$16:$N$20,2,0)","v":"#N/A"}]
[null,null,null,"La o el estudiante es sensible ante temas de interés de su entorno inmediato (escuela, familia).",32.0,"Expresa preocupación y/o empatía frente a una situación problemática.",null,{"$f":"+VLOOKUP('BASE DE RESPUESTAS'!H54,Back!$M$16:$N$20,2,0)","v":"#N/A"},{"$f":"+VLOOKUP('BASE DE RESPUESTAS'!I54,Back!$M$16:$N$20,2,0)","v":"#N/A"},{"$f":"+VLOOKUP('BASE DE RESPUESTAS'!J54,Back!$M$16:$N$20,2,0)","v":"#N/A"},{"$f":"+VLOOKUP('BASE DE RESPUESTAS'!K54,Back!$M$16:$N$20,2,0)","v":"#N/A"},{"$f":"+VLOOKUP('BASE DE RESPUESTAS'!L54,Back!$M$16:$N$20,2,0)","v":"#N/A"},{"$f":"+VLOOKUP('BASE DE RESPUESTAS'!M54,Back!$M$16:$N$20,2,0)","v":"#N/A"},{"$f":"+VLOOKUP('BASE DE RESPUESTAS'!N54,Back!$M$16:$N$20,2,0)","v":"#N/A"},{"$f":"+VLOOKUP('BASE DE RESPUESTAS'!O54,Back!$M$16:$N$20,2,0)","v":"#N/A"},{"$f":"+VLOOKUP('BASE DE RESPUESTAS'!P54,Back!$M$16:$N$20,2,0)","v":"#N/A"},{"$f":"+VLOOKUP('BASE DE RESPUESTAS'!Q54,Back!$M$16:$N$20,2,0)","v":"#N/A"},{"$f":"+VLOOKUP('BASE DE RESPUESTAS'!R54,Back!$M$16:$N$20,2,0)","v":"#N/A"},{"$f":"+VLOOKUP('BASE DE RESPUESTAS'!S54,Back!$M$16:$N$20,2,0)","v":"#N/A"},{"$f":"+VLOOKUP('BASE DE RESPUESTAS'!T54,Back!$M$16:$N$20,2,0)","v":"#N/A"},{"$f":"+VLOOKUP('BASE DE RESPUESTAS'!U54,Back!$M$16:$N$20,2,0)","v":"#N/A"},{"$f":"+VLOOKUP('BASE DE RESPUESTAS'!V54,Back!$M$16:$N$20,2,0)","v":"#N/A"},{"$f":"+VLOOKUP('BASE DE RESPUESTAS'!W54,Back!$M$16:$N$20,2,0)","v":"#N/A"},{"$f":"+VLOOKUP('BASE DE RESPUESTAS'!X54,Back!$M$16:$N$20,2,0)","v":"#N/A"},{"$f":"+VLOOKUP('BASE DE RESPUESTAS'!Y54,Back!$M$16:$N$20,2,0)","v":"#N/A"},{"$f":"+VLOOKUP('BASE DE RESPUESTAS'!Z54,Back!$M$16:$N$20,2,0)","v":"#N/A"},{"$f":"+VLOOKUP('BASE DE RESPUESTAS'!AA54,Back!$M$16:$N$20,2,0)","v":"#N/A"},{"$f":"+VLOOKUP('BASE DE RESPUESTAS'!AB54,Back!$M$16:$N$20,2,0)","v":"#N/A"},{"$f":"+VLOOKUP('BASE DE RESPUESTAS'!AC54,Back!$M$16:$N$20,2,0)","v":"#N/A"},{"$f":"+VLOOKUP('BASE DE RESPUESTAS'!AD54,Back!$M$16:$N$20,2,0)","v":"#N/A"},{"$f":"+VLOOKUP('BASE DE RESPUESTAS'!AE54,Back!$M$16:$N$20,2,0)","v":"#N/A"},{"$f":"+VLOOKUP('BASE DE RESPUESTAS'!AF54,Back!$M$16:$N$20,2,0)","v":"#N/A"},{"$f":"+VLOOKUP('BASE DE RESPUESTAS'!AG54,Back!$M$16:$N$20,2,0)","v":"#N/A"},{"$f":"+VLOOKUP('BASE DE RESPUESTAS'!AH54,Back!$M$16:$N$20,2,0)","v":"#N/A"},{"$f":"+VLOOKUP('BASE DE RESPUESTAS'!AI54,Back!$M$16:$N$20,2,0)","v":"#N/A"},{"$f":"+VLOOKUP('BASE DE RESPUESTAS'!AJ54,Back!$M$16:$N$20,2,0)","v":"#N/A"},{"$f":"+VLOOKUP('BASE DE RESPUESTAS'!AK54,Back!$M$16:$N$20,2,0)","v":"#N/A"},{"$f":"+VLOOKUP('BASE DE RESPUESTAS'!AL54,Back!$M$16:$N$20,2,0)","v":"#N/A"},{"$f":"+VLOOKUP('BASE DE RESPUESTAS'!AM54,Back!$M$16:$N$20,2,0)","v":"#N/A"},{"$f":"+VLOOKUP('BASE DE RESPUESTAS'!AN54,Back!$M$16:$N$20,2,0)","v":"#N/A"},{"$f":"+VLOOKUP('BASE DE RESPUESTAS'!AO54,Back!$M$16:$N$20,2,0)","v":"#N/A"},{"$f":"+VLOOKUP('BASE DE RESPUESTAS'!AP54,Back!$M$16:$N$20,2,0)","v":"#N/A"},{"$f":"+VLOOKUP('BASE DE RESPUESTAS'!AQ54,Back!$M$16:$N$20,2,0)","v":"#N/A"},{"$f":"+VLOOKUP('BASE DE RESPUESTAS'!AR54,Back!$M$16:$N$20,2,0)","v":"#N/A"},{"$f":"+VLOOKUP('BASE DE RESPUESTAS'!AS54,Back!$M$16:$N$20,2,0)","v":"#N/A"},{"$f":"+VLOOKUP('BASE DE RESPUESTAS'!AT54,Back!$M$16:$N$20,2,0)","v":"#N/A"},{"$f":"+VLOOKUP('BASE DE RESPUESTAS'!AU54,Back!$M$16:$N$20,2,0)","v":"#N/A"},{"$f":"+VLOOKUP('BASE DE RESPUESTAS'!AV54,Back!$M$16:$N$20,2,0)","v":"#N/A"},{"$f":"+VLOOKUP('BASE DE RESPUESTAS'!AW54,Back!$M$16:$N$20,2,0)","v":"#N/A"},{"$f":"+VLOOKUP('BASE DE RESPUESTAS'!AX54,Back!$M$16:$N$20,2,0)","v":"#N/A"},{"$f":"+VLOOKUP('BASE DE RESPUESTAS'!AY54,Back!$M$16:$N$20,2,0)","v":"#N/A"},{"$f":"+VLOOKUP('BASE DE RESPUESTAS'!AZ54,Back!$M$16:$N$20,2,0)","v":"#N/A"},{"$f":"+VLOOKUP('BASE DE RESPUESTAS'!BA54,Back!$M$16:$N$20,2,0)","v":"#N/A"},{"$f":"+VLOOKUP('BASE DE RESPUESTAS'!BB54,Back!$M$16:$N$20,2,0)","v":"#N/A"},{"$f":"+VLOOKUP('BASE DE RESPUESTAS'!BC54,Back!$M$16:$N$20,2,0)","v":"#N/A"},{"$f":"+VLOOKUP('BASE DE RESPUESTAS'!BD54,Back!$M$16:$N$20,2,0)","v":"#N/A"},{"$f":"+VLOOKUP('BASE DE RESPUESTAS'!BE54,Back!$M$16:$N$20,2,0)","v":"#N/A"}]
[null,null,null,null,33.0,"Reconoce situaciones que afecten el bienestar propio o el de sus compañeros y es capaz de pedir ayuda a un adulto.",null,{"$f":"+VLOOKUP('BASE DE RESPUESTAS'!H55,Back!$M$16:$N$20,2,0)","v":"#N/A"},{"$f":"+VLOOKUP('BASE DE RESPUESTAS'!I55,Back!$M$16:$N$20,2,0)","v":"#N/A"},{"$f":"+VLOOKUP('BASE DE RESPUESTAS'!J55,Back!$M$16:$N$20,2,0)","v":"#N/A"},{"$f":"+VLOOKUP('BASE DE RESPUESTAS'!K55,Back!$M$16:$N$20,2,0)","v":"#N/A"},{"$f":"+VLOOKUP('BASE DE RESPUESTAS'!L55,Back!$M$16:$N$20,2,0)","v":"#N/A"},{"$f":"+VLOOKUP('BASE DE RESPUESTAS'!M55,Back!$M$16:$N$20,2,0)","v":"#N/A"},{"$f":"+VLOOKUP('BASE DE RESPUESTAS'!N55,Back!$M$16:$N$20,2,0)","v":"#N/A"},{"$f":"+VLOOKUP('BASE DE RESPUESTAS'!O55,Back!$M$16:$N$20,2,0)","v":"#N/A"},{"$f":"+VLOOKUP('BASE DE RESPUESTAS'!P55,Back!$M$16:$N$20,2,0)","v":"#N/A"},{"$f":"+VLOOKUP('BASE DE RESPUESTAS'!Q55,Back!$M$16:$N$20,2,0)","v":"#N/A"},{"$f":"+VLOOKUP('BASE DE RESPUESTAS'!R55,Back!$M$16:$N$20,2,0)","v":"#N/A"},{"$f":"+VLOOKUP('BASE DE RESPUESTAS'!S55,Back!$M$16:$N$20,2,0)","v":"#N/A"},{"$f":"+VLOOKUP('BASE DE RESPUESTAS'!T55,Back!$M$16:$N$20,2,0)","v":"#N/A"},{"$f":"+VLOOKUP('BASE DE RESPUESTAS'!U55,Back!$M$16:$N$20,2,0)","v":"#N/A"},{"$f":"+VLOOKUP('BASE DE RESPUESTAS'!V55,Back!$M$16:$N$20,2,0)","v":"#N/A"},{"$f":"+VLOOKUP('BASE DE RESPUESTAS'!W55,Back!$M$16:$N$20,2,0)","v":"#N/A"},{"$f":"+VLOOKUP('BASE DE RESPUESTAS'!X55,Back!$M$16:$N$20,2,0)","v":"#N/A"},{"$f":"+VLOOKUP('BASE DE RESPUESTAS'!Y55,Back!$M$16:$N$20,2,0)","v":"#N/A"},{"$f":"+VLOOKUP('BASE DE RESPUESTAS'!Z55,Back!$M$16:$N$20,2,0)","v":"#N/A"},{"$f":"+VLOOKUP('BASE DE RESPUESTAS'!AA55,Back!$M$16:$N$20,2,0)","v":"#N/A"},{"$f":"+VLOOKUP('BASE DE RESPUESTAS'!AB55,Back!$M$16:$N$20,2,0)","v":"#N/A"},{"$f":"+VLOOKUP('BASE DE RESPUESTAS'!AC55,Back!$M$16:$N$20,2,0)","v":"#N/A"},{"$f":"+VLOOKUP('BASE DE RESPUESTAS'!AD55,Back!$M$16:$N$20,2,0)","v":"#N/A"},{"$f":"+VLOOKUP('BASE DE RESPUESTAS'!AE55,Back!$M$16:$N$20,2,0)","v":"#N/A"},{"$f":"+VLOOKUP('BASE DE RESPUESTAS'!AF55,Back!$M$16:$N$20,2,0)","v":"#N/A"},{"$f":"+VLOOKUP('BASE DE RESPUESTAS'!AG55,Back!$M$16:$N$20,2,0)","v":"#N/A"},{"$f":"+VLOOKUP('BASE DE RESPUESTAS'!AH55,Back!$M$16:$N$20,2,0)","v":"#N/A"},{"$f":"+VLOOKUP('BASE DE RESPUESTAS'!AI55,Back!$M$16:$N$20,2,0)","v":"#N/A"},{"$f":"+VLOOKUP('BASE DE RESPUESTAS'!AJ55,Back!$M$16:$N$20,2,0)","v":"#N/A"},{"$f":"+VLOOKUP('BASE DE RESPUESTAS'!AK55,Back!$M$16:$N$20,2,0)","v":"#N/A"},{"$f":"+VLOOKUP('BASE DE RESPUESTAS'!AL55,Back!$M$16:$N$20,2,0)","v":"#N/A"},{"$f":"+VLOOKUP('BASE DE RESPUESTAS'!AM55,Back!$M$16:$N$20,2,0)","v":"#N/A"},{"$f":"+VLOOKUP('BASE DE RESPUESTAS'!AN55,Back!$M$16:$N$20,2,0)","v":"#N/A"},{"$f":"+VLOOKUP('BASE DE RESPUESTAS'!AO55,Back!$M$16:$N$20,2,0)","v":"#N/A"},{"$f":"+VLOOKUP('BASE DE RESPUESTAS'!AP55,Back!$M$16:$N$20,2,0)","v":"#N/A"},{"$f":"+VLOOKUP('BASE DE RESPUESTAS'!AQ55,Back!$M$16:$N$20,2,0)","v":"#N/A"},{"$f":"+VLOOKUP('BASE DE RESPUESTAS'!AR55,Back!$M$16:$N$20,2,0)","v":"#N/A"},{"$f":"+VLOOKUP('BASE DE RESPUESTAS'!AS55,Back!$M$16:$N$20,2,0)","v":"#N/A"},{"$f":"+VLOOKUP('BASE DE RESPUESTAS'!AT55,Back!$M$16:$N$20,2,0)","v":"#N/A"},{"$f":"+VLOOKUP('BASE DE RESPUESTAS'!AU55,Back!$M$16:$N$20,2,0)","v":"#N/A"},{"$f":"+VLOOKUP('BASE DE RESPUESTAS'!AV55,Back!$M$16:$N$20,2,0)","v":"#N/A"},{"$f":"+VLOOKUP('BASE DE RESPUESTAS'!AW55,Back!$M$16:$N$20,2,0)","v":"#N/A"},{"$f":"+VLOOKUP('BASE DE RESPUESTAS'!AX55,Back!$M$16:$N$20,2,0)","v":"#N/A"},{"$f":"+VLOOKUP('BASE DE RESPUESTAS'!AY55,Back!$M$16:$N$20,2,0)","v":"#N/A"},{"$f":"+VLOOKUP('BASE DE RESPUESTAS'!AZ55,Back!$M$16:$N$20,2,0)","v":"#N/A"},{"$f":"+VLOOKUP('BASE DE RESPUESTAS'!BA55,Back!$M$16:$N$20,2,0)","v":"#N/A"},{"$f":"+VLOOKUP('BASE DE RESPUESTAS'!BB55,Back!$M$16:$N$20,2,0)","v":"#N/A"},{"$f":"+VLOOKUP('BASE DE RESPUESTAS'!BC55,Back!$M$16:$N$20,2,0)","v":"#N/A"},{"$f":"+VLOOKUP('BASE DE RESPUESTAS'!BD55,Back!$M$16:$N$20,2,0)","v":"#N/A"},{"$f":"+VLOOKUP('BASE DE RESPUESTAS'!BE55,Back!$M$16:$N$20,2,0)","v":"#N/A"}]
[null,"HSE","Comportamiento prosocial","La o el estudiante realiza acciones de bien común en el aula, por motivación propia.",34.0,"Tiene la iniciativa de mantener limpio y ordenado los espacios y materiales que comparte con sus compañeros.",null,{"$f":"+VLOOKUP('BASE DE RESPUESTAS'!H56,Back!$M$16:$N$20,2,0)","v":"#N/A"},{"$f":"+VLOOKUP('BASE DE RESPUESTAS'!I56,Back!$M$16:$N$20,2,0)","v":"#N/A"},{"$f":"+VLOOKUP('BASE DE RESPUESTAS'!J56,Back!$M$16:$N$20,2,0)","v":"#N/A"},{"$f":"+VLOOKUP('BASE DE RESPUESTAS'!K56,Back!$M$16:$N$20,2,0)","v":"#N/A"},{"$f":"+VLOOKUP('BASE DE RESPUESTAS'!L56,Back!$M$16:$N$20,2,0)","v":"#N/A"},{"$f":"+VLOOKUP('BASE DE RESPUESTAS'!M56,Back!$M$16:$N$20,2,0)","v":"#N/A"},{"$f":"+VLOOKUP('BASE DE RESPUESTAS'!N56,Back!$M$16:$N$20,2,0)","v":"#N/A"},{"$f":"+VLOOKUP('BASE DE RESPUESTAS'!O56,Back!$M$16:$N$20,2,0)","v":"#N/A"},{"$f":"+VLOOKUP('BASE DE RESPUESTAS'!P56,Back!$M$16:$N$20,2,0)","v":"#N/A"},{"$f":"+VLOOKUP('BASE DE RESPUESTAS'!Q56,Back!$M$16:$N$20,2,0)","v":"#N/A"},{"$f":"+VLOOKUP('BASE DE RESPUESTAS'!R56,Back!$M$16:$N$20,2,0)","v":"#N/A"},{"$f":"+VLOOKUP('BASE DE RESPUESTAS'!S56,Back!$M$16:$N$20,2,0)","v":"#N/A"},{"$f":"+VLOOKUP('BASE DE RESPUESTAS'!T56,Back!$M$16:$N$20,2,0)","v":"#N/A"},{"$f":"+VLOOKUP('BASE DE RESPUESTAS'!U56,Back!$M$16:$N$20,2,0)","v":"#N/A"},{"$f":"+VLOOKUP('BASE DE RESPUESTAS'!V56,Back!$M$16:$N$20,2,0)","v":"#N/A"},{"$f":"+VLOOKUP('BASE DE RESPUESTAS'!W56,Back!$M$16:$N$20,2,0)","v":"#N/A"},{"$f":"+VLOOKUP('BASE DE RESPUESTAS'!X56,Back!$M$16:$N$20,2,0)","v":"#N/A"},{"$f":"+VLOOKUP('BASE DE RESPUESTAS'!Y56,Back!$M$16:$N$20,2,0)","v":"#N/A"},{"$f":"+VLOOKUP('BASE DE RESPUESTAS'!Z56,Back!$M$16:$N$20,2,0)","v":"#N/A"},{"$f":"+VLOOKUP('BASE DE RESPUESTAS'!AA56,Back!$M$16:$N$20,2,0)","v":"#N/A"},{"$f":"+VLOOKUP('BASE DE RESPUESTAS'!AB56,Back!$M$16:$N$20,2,0)","v":"#N/A"},{"$f":"+VLOOKUP('BASE DE RESPUESTAS'!AC56,Back!$M$16:$N$20,2,0)","v":"#N/A"},{"$f":"+VLOOKUP('BASE DE RESPUESTAS'!AD56,Back!$M$16:$N$20,2,0)","v":"#N/A"},{"$f":"+VLOOKUP('BASE DE RESPUESTAS'!AE56,Back!$M$16:$N$20,2,0)","v":"#N/A"},{"$f":"+VLOOKUP('BASE DE RESPUESTAS'!AF56,Back!$M$16:$N$20,2,0)","v":"#N/A"},{"$f":"+VLOOKUP('BASE DE RESPUESTAS'!AG56,Back!$M$16:$N$20,2,0)","v":"#N/A"},{"$f":"+VLOOKUP('BASE DE RESPUESTAS'!AH56,Back!$M$16:$N$20,2,0)","v":"#N/A"},{"$f":"+VLOOKUP('BASE DE RESPUESTAS'!AI56,Back!$M$16:$N$20,2,0)","v":"#N/A"},{"$f":"+VLOOKUP('BASE DE RESPUESTAS'!AJ56,Back!$M$16:$N$20,2,0)","v":"#N/A"},{"$f":"+VLOOKUP('BASE DE RESPUESTAS'!AK56,Back!$M$16:$N$20,2,0)","v":"#N/A"},{"$f":"+VLOOKUP('BASE DE RESPUESTAS'!AL56,Back!$M$16:$N$20,2,0)","v":"#N/A"},{"$f":"+VLOOKUP('BASE DE RESPUESTAS'!AM56,Back!$M$16:$N$20,2,0)","v":"#N/A"},{"$f":"+VLOOKUP('BASE DE RESPUESTAS'!AN56,Back!$M$16:$N$20,2,0)","v":"#N/A"},{"$f":"+VLOOKUP('BASE DE RESPUESTAS'!AO56,Back!$M$16:$N$20,2,0)","v":"#N/A"},{"$f":"+VLOOKUP('BASE DE RESPUESTAS'!AP56,Back!$M$16:$N$20,2,0)","v":"#N/A"},{"$f":"+VLOOKUP('BASE DE RESPUESTAS'!AQ56,Back!$M$16:$N$20,2,0)","v":"#N/A"},{"$f":"+VLOOKUP('BASE DE RESPUESTAS'!AR56,Back!$M$16:$N$20,2,0)","v":"#N/A"},{"$f":"+VLOOKUP('BASE DE RESPUESTAS'!AS56,Back!$M$16:$N$20,2,0)","v":"#N/A"},{"$f":"+VLOOKUP('BASE DE RESPUESTAS'!AT56,Back!$M$16:$N$20,2,0)","v":"#N/A"},{"$f":"+VLOOKUP('BASE DE RESPUESTAS'!AU56,Back!$M$16:$N$20,2,0)","v":"#N/A"},{"$f":"+VLOOKUP('BASE DE RESPUESTAS'!AV56,Back!$M$16:$N$20,2,0)","v":"#N/A"},{"$f":"+VLOOKUP('BASE DE RESPUESTAS'!AW56,Back!$M$16:$N$20,2,0)","v":"#N/A"},{"$f":"+VLOOKUP('BASE DE RESPUESTAS'!AX56,Back!$M$16:$N$20,2,0)","v":"#N/A"},{"$f":"+VLOOKUP('BASE DE RESPUESTAS'!AY56,Back!$M$16:$N$20,2,0)","v":"#N/A"},{"$f":"+VLOOKUP('BASE DE RESPUESTAS'!AZ56,Back!$M$16:$N$20,2,0)","v":"#N/A"},{"$f":"+VLOOKUP('BASE DE RESPUESTAS'!BA56,Back!$M$16:$N$20,2,0)","v":"#N/A"},{"$f":"+VLOOKUP('BASE DE RESPUESTAS'!BB56,Back!$M$16:$N$20,2,0)","v":"#N/A"},{"$f":"+VLOOKUP('BASE DE RESPUESTAS'!BC56,Back!$M$16:$N$20,2,0)","v":"#N/A"},{"$f":"+VLOOKUP('BASE DE RESPUESTAS'!BD56,Back!$M$16:$N$20,2,0)","v":"#N/A"},{"$f":"+VLOOKUP('BASE DE RESPUESTAS'!BE56,Back!$M$16:$N$20,2,0)","v":"#N/A"}]
[null,null,null,null,35.0,"Mantiene hábitos de autocuidado (aseo personal, alimentación, etc.) para su propio bienestar y el de los demás.",null,{"$f":"+VLOOKUP('BASE DE RESPUESTAS'!H57,Back!$M$16:$N$20,2,0)","v":"#N/A"},{"$f":"+VLOOKUP('BASE DE RESPUESTAS'!I57,Back!$M$16:$N$20,2,0)","v":"#N/A"},{"$f":"+VLOOKUP('BASE DE RESPUESTAS'!J57,Back!$M$16:$N$20,2,0)","v":"#N/A"},{"$f":"+VLOOKUP('BASE DE RESPUESTAS'!K57,Back!$M$16:$N$20,2,0)","v":"#N/A"},{"$f":"+VLOOKUP('BASE DE RESPUESTAS'!L57,Back!$M$16:$N$20,2,0)","v":"#N/A"},{"$f":"+VLOOKUP('BASE DE RESPUESTAS'!M57,Back!$M$16:$N$20,2,0)","v":"#N/A"},{"$f":"+VLOOKUP('BASE DE RESPUESTAS'!N57,Back!$M$16:$N$20,2,0)","v":"#N/A"},{"$f":"+VLOOKUP('BASE DE RESPUESTAS'!O57,Back!$M$16:$N$20,2,0)","v":"#N/A"},{"$f":"+VLOOKUP('BASE DE RESPUESTAS'!P57,Back!$M$16:$N$20,2,0)","v":"#N/A"},{"$f":"+VLOOKUP('BASE DE RESPUESTAS'!Q57,Back!$M$16:$N$20,2,0)","v":"#N/A"},{"$f":"+VLOOKUP('BASE DE RESPUESTAS'!R57,Back!$M$16:$N$20,2,0)","v":"#N/A"},{"$f":"+VLOOKUP('BASE DE RESPUESTAS'!S57,Back!$M$16:$N$20,2,0)","v":"#N/A"},{"$f":"+VLOOKUP('BASE DE RESPUESTAS'!T57,Back!$M$16:$N$20,2,0)","v":"#N/A"},{"$f":"+VLOOKUP('BASE DE RESPUESTAS'!U57,Back!$M$16:$N$20,2,0)","v":"#N/A"},{"$f":"+VLOOKUP('BASE DE RESPUESTAS'!V57,Back!$M$16:$N$20,2,0)","v":"#N/A"},{"$f":"+VLOOKUP('BASE DE RESPUESTAS'!W57,Back!$M$16:$N$20,2,0)","v":"#N/A"},{"$f":"+VLOOKUP('BASE DE RESPUESTAS'!X57,Back!$M$16:$N$20,2,0)","v":"#N/A"},{"$f":"+VLOOKUP('BASE DE RESPUESTAS'!Y57,Back!$M$16:$N$20,2,0)","v":"#N/A"},{"$f":"+VLOOKUP('BASE DE RESPUESTAS'!Z57,Back!$M$16:$N$20,2,0)","v":"#N/A"},{"$f":"+VLOOKUP('BASE DE RESPUESTAS'!AA57,Back!$M$16:$N$20,2,0)","v":"#N/A"},{"$f":"+VLOOKUP('BASE DE RESPUESTAS'!AB57,Back!$M$16:$N$20,2,0)","v":"#N/A"},{"$f":"+VLOOKUP('BASE DE RESPUESTAS'!AC57,Back!$M$16:$N$20,2,0)","v":"#N/A"},{"$f":"+VLOOKUP('BASE DE RESPUESTAS'!AD57,Back!$M$16:$N$20,2,0)","v":"#N/A"},{"$f":"+VLOOKUP('BASE DE RESPUESTAS'!AE57,Back!$M$16:$N$20,2,0)","v":"#N/A"},{"$f":"+VLOOKUP('BASE DE RESPUESTAS'!AF57,Back!$M$16:$N$20,2,0)","v":"#N/A"},{"$f":"+VLOOKUP('BASE DE RESPUESTAS'!AG57,Back!$M$16:$N$20,2,0)","v":"#N/A"},{"$f":"+VLOOKUP('BASE DE RESPUESTAS'!AH57,Back!$M$16:$N$20,2,0)","v":"#N/A"},{"$f":"+VLOOKUP('BASE DE RESPUESTAS'!AI57,Back!$M$16:$N$20,2,0)","v":"#N/A"},{"$f":"+VLOOKUP('BASE DE RESPUESTAS'!AJ57,Back!$M$16:$N$20,2,0)","v":"#N/A"},{"$f":"+VLOOKUP('BASE DE RESPUESTAS'!AK57,Back!$M$16:$N$20,2,0)","v":"#N/A"},{"$f":"+VLOOKUP('BASE DE RESPUESTAS'!AL57,Back!$M$16:$N$20,2,0)","v":"#N/A"},{"$f":"+VLOOKUP('BASE DE RESPUESTAS'!AM57,Back!$M$16:$N$20,2,0)","v":"#N/A"},{"$f":"+VLOOKUP('BASE DE RESPUESTAS'!AN57,Back!$M$16:$N$20,2,0)","v":"#N/A"},{"$f":"+VLOOKUP('BASE DE RESPUESTAS'!AO57,Back!$M$16:$N$20,2,0)","v":"#N/A"},{"$f":"+VLOOKUP('BASE DE RESPUESTAS'!AP57,Back!$M$16:$N$20,2,0)","v":"#N/A"},{"$f":"+VLOOKUP('BASE DE RESPUESTAS'!AQ57,Back!$M$16:$N$20,2,0)","v":"#N/A"},{"$f":"+VLOOKUP('BASE DE RESPUESTAS'!AR57,Back!$M$16:$N$20,2,0)","v":"#N/A"},{"$f":"+VLOOKUP('BASE DE RESPUESTAS'!AS57,Back!$M$16:$N$20,2,0)","v":"#N/A"},{"$f":"+VLOOKUP('BASE DE RESPUESTAS'!AT57,Back!$M$16:$N$20,2,0)","v":"#N/A"},{"$f":"+VLOOKUP('BASE DE RESPUESTAS'!AU57,Back!$M$16:$N$20,2,0)","v":"#N/A"},{"$f":"+VLOOKUP('BASE DE RESPUESTAS'!AV57,Back!$M$16:$N$20,2,0)","v":"#N/A"},{"$f":"+VLOOKUP('BASE DE RESPUESTAS'!AW57,Back!$M$16:$N$20,2,0)","v":"#N/A"},{"$f":"+VLOOKUP('BASE DE RESPUESTAS'!AX57,Back!$M$16:$N$20,2,0)","v":"#N/A"},{"$f":"+VLOOKUP('BASE DE RESPUESTAS'!AY57,Back!$M$16:$N$20,2,0)","v":"#N/A"},{"$f":"+VLOOKUP('BASE DE RESPUESTAS'!AZ57,Back!$M$16:$N$20,2,0)","v":"#N/A"},{"$f":"+VLOOKUP('BASE DE RESPUESTAS'!BA57,Back!$M$16:$N$20,2,0)","v":"#N/A"},{"$f":"+VLOOKUP('BASE DE RESPUESTAS'!BB57,Back!$M$16:$N$20,2,0)","v":"#N/A"},{"$f":"+VLOOKUP('BASE DE RESPUESTAS'!BC57,Back!$M$16:$N$20,2,0)","v":"#N/A"},{"$f":"+VLOOKUP('BASE DE RESPUESTAS'!BD57,Back!$M$16:$N$20,2,0)","v":"#N/A"},{"$f":"+VLOOKUP('BASE DE RESPUESTAS'!BE57,Back!$M$16:$N$20,2,0)","v":"#N/A"}]
[null,null,null,"La o el estudiante propone acciones para el cuidado del ambiente.",36.0,"Identifica acciones en su entorno orientadas al cuidado ambiental.",null,{"$f":"+VLOOKUP('BASE DE RESPUESTAS'!H58,Back!$M$16:$N$20,2,0)","v":"#N/A"},{"$f":"+VLOOKUP('BASE DE RESPUESTAS'!I58,Back!$M$16:$N$20,2,0)","v":"#N/A"},{"$f":"+VLOOKUP('BASE DE RESPUESTAS'!J58,Back!$M$16:$N$20,2,0)","v":"#N/A"},{"$f":"+VLOOKUP('BASE DE RESPUESTAS'!K58,Back!$M$16:$N$20,2,0)","v":"#N/A"},{"$f":"+VLOOKUP('BASE DE RESPUESTAS'!L58,Back!$M$16:$N$20,2,0)","v":"#N/A"},{"$f":"+VLOOKUP('BASE DE RESPUESTAS'!M58,Back!$M$16:$N$20,2,0)","v":"#N/A"},{"$f":"+VLOOKUP('BASE DE RESPUESTAS'!N58,Back!$M$16:$N$20,2,0)","v":"#N/A"},{"$f":"+VLOOKUP('BASE DE RESPUESTAS'!O58,Back!$M$16:$N$20,2,0)","v":"#N/A"},{"$f":"+VLOOKUP('BASE DE RESPUESTAS'!P58,Back!$M$16:$N$20,2,0)","v":"#N/A"},{"$f":"+VLOOKUP('BASE DE RESPUESTAS'!Q58,Back!$M$16:$N$20,2,0)","v":"#N/A"},{"$f":"+VLOOKUP('BASE DE RESPUESTAS'!R58,Back!$M$16:$N$20,2,0)","v":"#N/A"},{"$f":"+VLOOKUP('BASE DE RESPUESTAS'!S58,Back!$M$16:$N$20,2,0)","v":"#N/A"},{"$f":"+VLOOKUP('BASE DE RESPUESTAS'!T58,Back!$M$16:$N$20,2,0)","v":"#N/A"},{"$f":"+VLOOKUP('BASE DE RESPUESTAS'!U58,Back!$M$16:$N$20,2,0)","v":"#N/A"},{"$f":"+VLOOKUP('BASE DE RESPUESTAS'!V58,Back!$M$16:$N$20,2,0)","v":"#N/A"},{"$f":"+VLOOKUP('BASE DE RESPUESTAS'!W58,Back!$M$16:$N$20,2,0)","v":"#N/A"},{"$f":"+VLOOKUP('BASE DE RESPUESTAS'!X58,Back!$M$16:$N$20,2,0)","v":"#N/A"},{"$f":"+VLOOKUP('BASE DE RESPUESTAS'!Y58,Back!$M$16:$N$20,2,0)","v":"#N/A"},{"$f":"+VLOOKUP('BASE DE RESPUESTAS'!Z58,Back!$M$16:$N$20,2,0)","v":"#N/A"},{"$f":"+VLOOKUP('BASE DE RESPUESTAS'!AA58,Back!$M$16:$N$20,2,0)","v":"#N/A"},{"$f":"+VLOOKUP('BASE DE RESPUESTAS'!AB58,Back!$M$16:$N$20,2,0)","v":"#N/A"},{"$f":"+VLOOKUP('BASE DE RESPUESTAS'!AC58,Back!$M$16:$N$20,2,0)","v":"#N/A"},{"$f":"+VLOOKUP('BASE DE RESPUESTAS'!AD58,Back!$M$16:$N$20,2,0)","v":"#N/A"},{"$f":"+VLOOKUP('BASE DE RESPUESTAS'!AE58,Back!$M$16:$N$20,2,0)","v":"#N/A"},{"$f":"+VLOOKUP('BASE DE RESPUESTAS'!AF58,Back!$M$16:$N$20,2,0)","v":"#N/A"},{"$f":"+VLOOKUP('BASE DE RESPUESTAS'!AG58,Back!$M$16:$N$20,2,0)","v":"#N/A"},{"$f":"+VLOOKUP('BASE DE RESPUESTAS'!AH58,Back!$M$16:$N$20,2,0)","v":"#N/A"},{"$f":"+VLOOKUP('BASE DE RESPUESTAS'!AI58,Back!$M$16:$N$20,2,0)","v":"#N/A"},{"$f":"+VLOOKUP('BASE DE RESPUESTAS'!AJ58,Back!$M$16:$N$20,2,0)","v":"#N/A"},{"$f":"+VLOOKUP('BASE DE RESPUESTAS'!AK58,Back!$M$16:$N$20,2,0)","v":"#N/A"},{"$f":"+VLOOKUP('BASE DE RESPUESTAS'!AL58,Back!$M$16:$N$20,2,0)","v":"#N/A"},{"$f":"+VLOOKUP('BASE DE RESPUESTAS'!AM58,Back!$M$16:$N$20,2,0)","v":"#N/A"},{"$f":"+VLOOKUP('BASE DE RESPUESTAS'!AN58,Back!$M$16:$N$20,2,0)","v":"#N/A"},{"$f":"+VLOOKUP('BASE DE RESPUESTAS'!AO58,Back!$M$16:$N$20,2,0)","v":"#N/A"},{"$f":"+VLOOKUP('BASE DE RESPUESTAS'!AP58,Back!$M$16:$N$20,2,0)","v":"#N/A"},{"$f":"+VLOOKUP('BASE DE RESPUESTAS'!AQ58,Back!$M$16:$N$20,2,0)","v":"#N/A"},{"$f":"+VLOOKUP('BASE DE RESPUESTAS'!AR58,Back!$M$16:$N$20,2,0)","v":"#N/A"},{"$f":"+VLOOKUP('BASE DE RESPUESTAS'!AS58,Back!$M$16:$N$20,2,0)","v":"#N/A"},{"$f":"+VLOOKUP('BASE DE RESPUESTAS'!AT58,Back!$M$16:$N$20,2,0)","v":"#N/A"},{"$f":"+VLOOKUP('BASE DE RESPUESTAS'!AU58,Back!$M$16:$N$20,2,0)","v":"#N/A"},{"$f":"+VLOOKUP('BASE DE RESPUESTAS'!AV58,Back!$M$16:$N$20,2,0)","v":"#N/A"},{"$f":"+VLOOKUP('BASE DE RESPUESTAS'!AW58,Back!$M$16:$N$20,2,0)","v":"#N/A"},{"$f":"+VLOOKUP('BASE DE RESPUESTAS'!AX58,Back!$M$16:$N$20,2,0)","v":"#N/A"},{"$f":"+VLOOKUP('BASE DE RESPUESTAS'!AY58,Back!$M$16:$N$20,2,0)","v":"#N/A"},{"$f":"+VLOOKUP('BASE DE RESPUESTAS'!AZ58,Back!$M$16:$N$20,2,0)","v":"#N/A"},{"$f":"+VLOOKUP('BASE DE RESPUESTAS'!BA58,Back!$M$16:$N$20,2,0)","v":"#N/A"},{"$f":"+VLOOKUP('BASE DE RESPUESTAS'!BB58,Back!$M$16:$N$20,2,0)","v":"#N/A"},{"$f":"+VLOOKUP('BASE DE RESPUESTAS'!BC58,Back!$M$16:$N$20,2,0)","v":"#N/A"},{"$f":"+VLOOKUP('BASE DE RESPUESTAS'!BD58,Back!$M$16:$N$20,2,0)","v":"#N/A"},{"$f":"+VLOOKUP('BASE DE RESPUESTAS'!BE58,Back!$M$16:$N$20,2,0)","v":"#N/A"}]
[null,null,null,null,37.0,"Propone acciones que buscan cuidar el ambiente ",null,{"$f":"+VLOOKUP('BASE DE RESPUESTAS'!H59,Back!$M$16:$N$20,2,0)","v":"#N/A"},{"$f":"+VLOOKUP('BASE DE RESPUESTAS'!I59,Back!$M$16:$N$20,2,0)","v":"#N/A"},{"$f":"+VLOOKUP('BASE DE RESPUESTAS'!J59,Back!$M$16:$N$20,2,0)","v":"#N/A"},{"$f":"+VLOOKUP('BASE DE RESPUESTAS'!K59,Back!$M$16:$N$20,2,0)","v":"#N/A"},{"$f":"+VLOOKUP('BASE DE RESPUESTAS'!L59,Back!$M$16:$N$20,2,0)","v":"#N/A"},{"$f":"+VLOOKUP('BASE DE RESPUESTAS'!M59,Back!$M$16:$N$20,2,0)","v":"#N/A"},{"$f":"+VLOOKUP('BASE DE RESPUESTAS'!N59,Back!$M$16:$N$20,2,0)","v":"#N/A"},{"$f":"+VLOOKUP('BASE DE RESPUESTAS'!O59,Back!$M$16:$N$20,2,0)","v":"#N/A"},{"$f":"+VLOOKUP('BASE DE RESPUESTAS'!P59,Back!$M$16:$N$20,2,0)","v":"#N/A"},{"$f":"+VLOOKUP('BASE DE RESPUESTAS'!Q59,Back!$M$16:$N$20,2,0)","v":"#N/A"},{"$f":"+VLOOKUP('BASE DE RESPUESTAS'!R59,Back!$M$16:$N$20,2,0)","v":"#N/A"},{"$f":"+VLOOKUP('BASE DE RESPUESTAS'!S59,Back!$M$16:$N$20,2,0)","v":"#N/A"},{"$f":"+VLOOKUP('BASE DE RESPUESTAS'!T59,Back!$M$16:$N$20,2,0)","v":"#N/A"},{"$f":"+VLOOKUP('BASE DE RESPUESTAS'!U59,Back!$M$16:$N$20,2,0)","v":"#N/A"},{"$f":"+VLOOKUP('BASE DE RESPUESTAS'!V59,Back!$M$16:$N$20,2,0)","v":"#N/A"},{"$f":"+VLOOKUP('BASE DE RESPUESTAS'!W59,Back!$M$16:$N$20,2,0)","v":"#N/A"},{"$f":"+VLOOKUP('BASE DE RESPUESTAS'!X59,Back!$M$16:$N$20,2,0)","v":"#N/A"},{"$f":"+VLOOKUP('BASE DE RESPUESTAS'!Y59,Back!$M$16:$N$20,2,0)","v":"#N/A"},{"$f":"+VLOOKUP('BASE DE RESPUESTAS'!Z59,Back!$M$16:$N$20,2,0)","v":"#N/A"},{"$f":"+VLOOKUP('BASE DE RESPUESTAS'!AA59,Back!$M$16:$N$20,2,0)","v":"#N/A"},{"$f":"+VLOOKUP('BASE DE RESPUESTAS'!AB59,Back!$M$16:$N$20,2,0)","v":"#N/A"},{"$f":"+VLOOKUP('BASE DE RESPUESTAS'!AC59,Back!$M$16:$N$20,2,0)","v":"#N/A"},{"$f":"+VLOOKUP('BASE DE RESPUESTAS'!AD59,Back!$M$16:$N$20,2,0)","v":"#N/A"},{"$f":"+VLOOKUP('BASE DE RESPUESTAS'!AE59,Back!$M$16:$N$20,2,0)","v":"#N/A"},{"$f":"+VLOOKUP('BASE DE RESPUESTAS'!AF59,Back!$M$16:$N$20,2,0)","v":"#N/A"},{"$f":"+VLOOKUP('BASE DE RESPUESTAS'!AG59,Back!$M$16:$N$20,2,0)","v":"#N/A"},{"$f":"+VLOOKUP('BASE DE RESPUESTAS'!AH59,Back!$M$16:$N$20,2,0)","v":"#N/A"},{"$f":"+VLOOKUP('BASE DE RESPUESTAS'!AI59,Back!$M$16:$N$20,2,0)","v":"#N/A"},{"$f":"+VLOOKUP('BASE DE RESPUESTAS'!AJ59,Back!$M$16:$N$20,2,0)","v":"#N/A"},{"$f":"+VLOOKUP('BASE DE RESPUESTAS'!AK59,Back!$M$16:$N$20,2,0)","v":"#N/A"},{"$f":"+VLOOKUP('BASE DE RESPUESTAS'!AL59,Back!$M$16:$N$20,2,0)","v":"#N/A"},{"$f":"+VLOOKUP('BASE DE RESPUESTAS'!AM59,Back!$M$16:$N$20,2,0)","v":"#N/A"},{"$f":"+VLOOKUP('BASE DE RESPUESTAS'!AN59,Back!$M$16:$N$20,2,0)","v":"#N/A"},{"$f":"+VLOOKUP('BASE DE RESPUESTAS'!AO59,Back!$M$16:$N$20,2,0)","v":"#N/A"},{"$f":"+VLOOKUP('BASE DE RESPUESTAS'!AP59,Back!$M$16:$N$20,2,0)","v":"#N/A"},{"$f":"+VLOOKUP('BASE DE RESPUESTAS'!AQ59,Back!$M$16:$N$20,2,0)","v":"#N/A"},{"$f":"+VLOOKUP('BASE DE RESPUESTAS'!AR59,Back!$M$16:$N$20,2,0)","v":"#N/A"},{"$f":"+VLOOKUP('BASE DE RESPUESTAS'!AS59,Back!$M$16:$N$20,2,0)","v":"#N/A"},{"$f":"+VLOOKUP('BASE DE RESPUESTAS'!AT59,Back!$M$16:$N$20,2,0)","v":"#N/A"},{"$f":"+VLOOKUP('BASE DE RESPUESTAS'!AU59,Back!$M$16:$N$20,2,0)","v":"#N/A"},{"$f":"+VLOOKUP('BASE DE RESPUESTAS'!AV59,Back!$M$16:$N$20,2,0)","v":"#N/A"},{"$f":"+VLOOKUP('BASE DE RESPUESTAS'!AW59,Back!$M$16:$N$20,2,0)","v":"#N/A"},{"$f":"+VLOOKUP('BASE DE RESPUESTAS'!AX59,Back!$M$16:$N$20,2,0)","v":"#N/A"},{"$f":"+VLOOKUP('BASE DE RESPUESTAS'!AY59,Back!$M$16:$N$20,2,0)","v":"#N/A"},{"$f":"+VLOOKUP('BASE DE RESPUESTAS'!AZ59,Back!$M$16:$N$20,2,0)","v":"#N/A"},{"$f":"+VLOOKUP('BASE DE RESPUESTAS'!BA59,Back!$M$16:$N$20,2,0)","v":"#N/A"},{"$f":"+VLOOKUP('BASE DE RESPUESTAS'!BB59,Back!$M$16:$N$20,2,0)","v":"#N/A"},{"$f":"+VLOOKUP('BASE DE RESPUESTAS'!BC59,Back!$M$16:$N$20,2,0)","v":"#N/A"},{"$f":"+VLOOKUP('BASE DE RESPUESTAS'!BD59,Back!$M$16:$N$20,2,0)","v":"#N/A"},{"$f":"+VLOOKUP('BASE DE RESPUESTAS'!BE59,Back!$M$16:$N$20,2,0)","v":"#N/A"}]
[null,"FR","Dificultades para mantener la concentración ","La o el estudiante interrumpe constantemente una actividad, lo que dificulta su rendimiento.",38.0,"Interrumpe constantemente (hablando, moviéndose) el desarrollo de una actividad en el aula. ",null,{"$f":"+VLOOKUP('BASE DE RESPUESTAS'!H60,Back!$M$16:$N$20,2,0)","v":"#N/A"},{"$f":"+VLOOKUP('BASE DE RESPUESTAS'!I60,Back!$M$16:$N$20,2,0)","v":"#N/A"},{"$f":"+VLOOKUP('BASE DE RESPUESTAS'!J60,Back!$M$16:$N$20,2,0)","v":"#N/A"},{"$f":"+VLOOKUP('BASE DE RESPUESTAS'!K60,Back!$M$16:$N$20,2,0)","v":"#N/A"},{"$f":"+VLOOKUP('BASE DE RESPUESTAS'!L60,Back!$M$16:$N$20,2,0)","v":"#N/A"},{"$f":"+VLOOKUP('BASE DE RESPUESTAS'!M60,Back!$M$16:$N$20,2,0)","v":"#N/A"},{"$f":"+VLOOKUP('BASE DE RESPUESTAS'!N60,Back!$M$16:$N$20,2,0)","v":"#N/A"},{"$f":"+VLOOKUP('BASE DE RESPUESTAS'!O60,Back!$M$16:$N$20,2,0)","v":"#N/A"},{"$f":"+VLOOKUP('BASE DE RESPUESTAS'!P60,Back!$M$16:$N$20,2,0)","v":"#N/A"},{"$f":"+VLOOKUP('BASE DE RESPUESTAS'!Q60,Back!$M$16:$N$20,2,0)","v":"#N/A"},{"$f":"+VLOOKUP('BASE DE RESPUESTAS'!R60,Back!$M$16:$N$20,2,0)","v":"#N/A"},{"$f":"+VLOOKUP('BASE DE RESPUESTAS'!S60,Back!$M$16:$N$20,2,0)","v":"#N/A"},{"$f":"+VLOOKUP('BASE DE RESPUESTAS'!T60,Back!$M$16:$N$20,2,0)","v":"#N/A"},{"$f":"+VLOOKUP('BASE DE RESPUESTAS'!U60,Back!$M$16:$N$20,2,0)","v":"#N/A"},{"$f":"+VLOOKUP('BASE DE RESPUESTAS'!V60,Back!$M$16:$N$20,2,0)","v":"#N/A"},{"$f":"+VLOOKUP('BASE DE RESPUESTAS'!W60,Back!$M$16:$N$20,2,0)","v":"#N/A"},{"$f":"+VLOOKUP('BASE DE RESPUESTAS'!X60,Back!$M$16:$N$20,2,0)","v":"#N/A"},{"$f":"+VLOOKUP('BASE DE RESPUESTAS'!Y60,Back!$M$16:$N$20,2,0)","v":"#N/A"},{"$f":"+VLOOKUP('BASE DE RESPUESTAS'!Z60,Back!$M$16:$N$20,2,0)","v":"#N/A"},{"$f":"+VLOOKUP('BASE DE RESPUESTAS'!AA60,Back!$M$16:$N$20,2,0)","v":"#N/A"},{"$f":"+VLOOKUP('BASE DE RESPUESTAS'!AB60,Back!$M$16:$N$20,2,0)","v":"#N/A"},{"$f":"+VLOOKUP('BASE DE RESPUESTAS'!AC60,Back!$M$16:$N$20,2,0)","v":"#N/A"},{"$f":"+VLOOKUP('BASE DE RESPUESTAS'!AD60,Back!$M$16:$N$20,2,0)","v":"#N/A"},{"$f":"+VLOOKUP('BASE DE RESPUESTAS'!AE60,Back!$M$16:$N$20,2,0)","v":"#N/A"},{"$f":"+VLOOKUP('BASE DE RESPUESTAS'!AF60,Back!$M$16:$N$20,2,0)","v":"#N/A"},{"$f":"+VLOOKUP('BASE DE RESPUESTAS'!AG60,Back!$M$16:$N$20,2,0)","v":"#N/A"},{"$f":"+VLOOKUP('BASE DE RESPUESTAS'!AH60,Back!$M$16:$N$20,2,0)","v":"#N/A"},{"$f":"+VLOOKUP('BASE DE RESPUESTAS'!AI60,Back!$M$16:$N$20,2,0)","v":"#N/A"},{"$f":"+VLOOKUP('BASE DE RESPUESTAS'!AJ60,Back!$M$16:$N$20,2,0)","v":"#N/A"},{"$f":"+VLOOKUP('BASE DE RESPUESTAS'!AK60,Back!$M$16:$N$20,2,0)","v":"#N/A"},{"$f":"+VLOOKUP('BASE DE RESPUESTAS'!AL60,Back!$M$16:$N$20,2,0)","v":"#N/A"},{"$f":"+VLOOKUP('BASE DE RESPUESTAS'!AM60,Back!$M$16:$N$20,2,0)","v":"#N/A"},{"$f":"+VLOOKUP('BASE DE RESPUESTAS'!AN60,Back!$M$16:$N$20,2,0)","v":"#N/A"},{"$f":"+VLOOKUP('BASE DE RESPUESTAS'!AO60,Back!$M$16:$N$20,2,0)","v":"#N/A"},{"$f":"+VLOOKUP('BASE DE RESPUESTAS'!AP60,Back!$M$16:$N$20,2,0)","v":"#N/A"},{"$f":"+VLOOKUP('BASE DE RESPUESTAS'!AQ60,Back!$M$16:$N$20,2,0)","v":"#N/A"},{"$f":"+VLOOKUP('BASE DE RESPUESTAS'!AR60,Back!$M$16:$N$20,2,0)","v":"#N/A"},{"$f":"+VLOOKUP('BASE DE RESPUESTAS'!AS60,Back!$M$16:$N$20,2,0)","v":"#N/A"},{"$f":"+VLOOKUP('BASE DE RESPUESTAS'!AT60,Back!$M$16:$N$20,2,0)","v":"#N/A"},{"$f":"+VLOOKUP('BASE DE RESPUESTAS'!AU60,Back!$M$16:$N$20,2,0)","v":"#N/A"},{"$f":"+VLOOKUP('BASE DE RESPUESTAS'!AV60,Back!$M$16:$N$20,2,0)","v":"#N/A"},{"$f":"+VLOOKUP('BASE DE RESPUESTAS'!AW60,Back!$M$16:$N$20,2,0)","v":"#N/A"},{"$f":"+VLOOKUP('BASE DE RESPUESTAS'!AX60,Back!$M$16:$N$20,2,0)","v":"#N/A"},{"$f":"+VLOOKUP('BASE DE RESPUESTAS'!AY60,Back!$M$16:$N$20,2,0)","v":"#N/A"},{"$f":"+VLOOKUP('BASE DE RESPUESTAS'!AZ60,Back!$M$16:$N$20,2,0)","v":"#N/A"},{"$f":"+VLOOKUP('BASE DE RESPUESTAS'!BA60,Back!$M$16:$N$20,2,0)","v":"#N/A"},{"$f":"+VLOOKUP('BASE DE RESPUESTAS'!BB60,Back!$M$16:$N$20,2,0)","v":"#N/A"},{"$f":"+VLOOKUP('BASE DE RESPUESTAS'!BC60,Back!$M$16:$N$20,2,0)","v":"#N/A"},{"$f":"+VLOOKUP('BASE DE RESPUESTAS'!BD60,Back!$M$16:$N$20,2,0)","v":"#N/A"},{"$f":"+VLOOKUP('BASE DE RESPUESTAS'!BE60,Back!$M$16:$N$20,2,0)","v":"#N/A"}]
[null,null,null,"Presenta dificultad para culminar tareas ya empezadas.",39.0,"La o el estudiante presenta dificultad para culminar tareas ya empezadas.",null,{"$f":"+VLOOKUP('BASE DE RESPUESTAS'!H61,Back!$M$16:$N$20,2,0)","v":"#N/A"},{"$f":"+VLOOKUP('BASE DE RESPUESTAS'!I61,Back!$M$16:$N$20,2,0)","v":"#N/A"},{"$f":"+VLOOKUP('BASE DE RESPUESTAS'!J61,Back!$M$16:$N$20,2,0)","v":"#N/A"},{"$f":"+VLOOKUP('BASE DE RESPUESTAS'!K61,Back!$M$16:$N$20,2,0)","v":"#N/A"},{"$f":"+VLOOKUP('BASE DE RESPUESTAS'!L61,Back!$M$16:$N$20,2,0)","v":"#N/A"},{"$f":"+VLOOKUP('BASE DE RESPUESTAS'!M61,Back!$M$16:$N$20,2,0)","v":"#N/A"},{"$f":"+VLOOKUP('BASE DE RESPUESTAS'!N61,Back!$M$16:$N$20,2,0)","v":"#N/A"},{"$f":"+VLOOKUP('BASE DE RESPUESTAS'!O61,Back!$M$16:$N$20,2,0)","v":"#N/A"},{"$f":"+VLOOKUP('BASE DE RESPUESTAS'!P61,Back!$M$16:$N$20,2,0)","v":"#N/A"},{"$f":"+VLOOKUP('BASE DE RESPUESTAS'!Q61,Back!$M$16:$N$20,2,0)","v":"#N/A"},{"$f":"+VLOOKUP('BASE DE RESPUESTAS'!R61,Back!$M$16:$N$20,2,0)","v":"#N/A"},{"$f":"+VLOOKUP('BASE DE RESPUESTAS'!S61,Back!$M$16:$N$20,2,0)","v":"#N/A"},{"$f":"+VLOOKUP('BASE DE RESPUESTAS'!T61,Back!$M$16:$N$20,2,0)","v":"#N/A"},{"$f":"+VLOOKUP('BASE DE RESPUESTAS'!U61,Back!$M$16:$N$20,2,0)","v":"#N/A"},{"$f":"+VLOOKUP('BASE DE RESPUESTAS'!V61,Back!$M$16:$N$20,2,0)","v":"#N/A"},{"$f":"+VLOOKUP('BASE DE RESPUESTAS'!W61,Back!$M$16:$N$20,2,0)","v":"#N/A"},{"$f":"+VLOOKUP('BASE DE RESPUESTAS'!X61,Back!$M$16:$N$20,2,0)","v":"#N/A"},{"$f":"+VLOOKUP('BASE DE RESPUESTAS'!Y61,Back!$M$16:$N$20,2,0)","v":"#N/A"},{"$f":"+VLOOKUP('BASE DE RESPUESTAS'!Z61,Back!$M$16:$N$20,2,0)","v":"#N/A"},{"$f":"+VLOOKUP('BASE DE RESPUESTAS'!AA61,Back!$M$16:$N$20,2,0)","v":"#N/A"},{"$f":"+VLOOKUP('BASE DE RESPUESTAS'!AB61,Back!$M$16:$N$20,2,0)","v":"#N/A"},{"$f":"+VLOOKUP('BASE DE RESPUESTAS'!AC61,Back!$M$16:$N$20,2,0)","v":"#N/A"},{"$f":"+VLOOKUP('BASE DE RESPUESTAS'!AD61,Back!$M$16:$N$20,2,0)","v":"#N/A"},{"$f":"+VLOOKUP('BASE DE RESPUESTAS'!AE61,Back!$M$16:$N$20,2,0)","v":"#N/A"},{"$f":"+VLOOKUP('BASE DE RESPUESTAS'!AF61,Back!$M$16:$N$20,2,0)","v":"#N/A"},{"$f":"+VLOOKUP('BASE DE RESPUESTAS'!AG61,Back!$M$16:$N$20,2,0)","v":"#N/A"},{"$f":"+VLOOKUP('BASE DE RESPUESTAS'!AH61,Back!$M$16:$N$20,2,0)","v":"#N/A"},{"$f":"+VLOOKUP('BASE DE RESPUESTAS'!AI61,Back!$M$16:$N$20,2,0)","v":"#N/A"},{"$f":"+VLOOKUP('BASE DE RESPUESTAS'!AJ61,Back!$M$16:$N$20,2,0)","v":"#N/A"},{"$f":"+VLOOKUP('BASE DE RESPUESTAS'!AK61,Back!$M$16:$N$20,2,0)","v":"#N/A"},{"$f":"+VLOOKUP('BASE DE RESPUESTAS'!AL61,Back!$M$16:$N$20,2,0)","v":"#N/A"},{"$f":"+VLOOKUP('BASE DE RESPUESTAS'!AM61,Back!$M$16:$N$20,2,0)","v":"#N/A"},{"$f":"+VLOOKUP('BASE DE RESPUESTAS'!AN61,Back!$M$16:$N$20,2,0)","v":"#N/A"},{"$f":"+VLOOKUP('BASE DE RESPUESTAS'!AO61,Back!$M$16:$N$20,2,0)","v":"#N/A"},{"$f":"+VLOOKUP('BASE DE RESPUESTAS'!AP61,Back!$M$16:$N$20,2,0)","v":"#N/A"},{"$f":"+VLOOKUP('BASE DE RESPUESTAS'!AQ61,Back!$M$16:$N$20,2,0)","v":"#N/A"},{"$f":"+VLOOKUP('BASE DE RESPUESTAS'!AR61,Back!$M$16:$N$20,2,0)","v":"#N/A"},{"$f":"+VLOOKUP('BASE DE RESPUESTAS'!AS61,Back!$M$16:$N$20,2,0)","v":"#N/A"},{"$f":"+VLOOKUP('BASE DE RESPUESTAS'!AT61,Back!$M$16:$N$20,2,0)","v":"#N/A"},{"$f":"+VLOOKUP('BASE DE RESPUESTAS'!AU61,Back!$M$16:$N$20,2,0)","v":"#N/A"},{"$f":"+VLOOKUP('BASE DE RESPUESTAS'!AV61,Back!$M$16:$N$20,2,0)","v":"#N/A"},{"$f":"+VLOOKUP('BASE DE RESPUESTAS'!AW61,Back!$M$16:$N$20,2,0)","v":"#N/A"},{"$f":"+VLOOKUP('BASE DE RESPUESTAS'!AX61,Back!$M$16:$N$20,2,0)","v":"#N/A"},{"$f":"+VLOOKUP('BASE DE RESPUESTAS'!AY61,Back!$M$16:$N$20,2,0)","v":"#N/A"},{"$f":"+VLOOKUP('BASE DE RESPUESTAS'!AZ61,Back!$M$16:$N$20,2,0)","v":"#N/A"},{"$f":"+VLOOKUP('BASE DE RESPUESTAS'!BA61,Back!$M$16:$N$20,2,0)","v":"#N/A"},{"$f":"+VLOOKUP('BASE DE RESPUESTAS'!BB61,Back!$M$16:$N$20,2,0)","v":"#N/A"},{"$f":"+VLOOKUP('BASE DE RESPUESTAS'!BC61,Back!$M$16:$N$20,2,0)","v":"#N/A"},{"$f":"+VLOOKUP('BASE DE RESPUESTAS'!BD61,Back!$M$16:$N$20,2,0)","v":"#N/A"},{"$f":"+VLOOKUP('BASE DE RESPUESTAS'!BE61,Back!$M$16:$N$20,2,0)","v":"#N/A"}]
[null,"FR","Dificultades en el desarrollo social","La o el estudiante se retrae y no participa en las actividades grupales.",40.0,"Durante el recreo, se aísla, o no participa de los juegos con sus compañeras y compañeros.",null,{"$f":"+VLOOKUP('BASE DE RESPUESTAS'!H62,Back!$M$16:$N$20,2,0)","v":"#N/A"},{"$f":"+VLOOKUP('BASE DE RESPUESTAS'!I62,Back!$M$16:$N$20,2,0)","v":"#N/A"},{"$f":"+VLOOKUP('BASE DE RESPUESTAS'!J62,Back!$M$16:$N$20,2,0)","v":"#N/A"},{"$f":"+VLOOKUP('BASE DE RESPUESTAS'!K62,Back!$M$16:$N$20,2,0)","v":"#N/A"},{"$f":"+VLOOKUP('BASE DE RESPUESTAS'!L62,Back!$M$16:$N$20,2,0)","v":"#N/A"},{"$f":"+VLOOKUP('BASE DE RESPUESTAS'!M62,Back!$M$16:$N$20,2,0)","v":"#N/A"},{"$f":"+VLOOKUP('BASE DE RESPUESTAS'!N62,Back!$M$16:$N$20,2,0)","v":"#N/A"},{"$f":"+VLOOKUP('BASE DE RESPUESTAS'!O62,Back!$M$16:$N$20,2,0)","v":"#N/A"},{"$f":"+VLOOKUP('BASE DE RESPUESTAS'!P62,Back!$M$16:$N$20,2,0)","v":"#N/A"},{"$f":"+VLOOKUP('BASE DE RESPUESTAS'!Q62,Back!$M$16:$N$20,2,0)","v":"#N/A"},{"$f":"+VLOOKUP('BASE DE RESPUESTAS'!R62,Back!$M$16:$N$20,2,0)","v":"#N/A"},{"$f":"+VLOOKUP('BASE DE RESPUESTAS'!S62,Back!$M$16:$N$20,2,0)","v":"#N/A"},{"$f":"+VLOOKUP('BASE DE RESPUESTAS'!T62,Back!$M$16:$N$20,2,0)","v":"#N/A"},{"$f":"+VLOOKUP('BASE DE RESPUESTAS'!U62,Back!$M$16:$N$20,2,0)","v":"#N/A"},{"$f":"+VLOOKUP('BASE DE RESPUESTAS'!V62,Back!$M$16:$N$20,2,0)","v":"#N/A"},{"$f":"+VLOOKUP('BASE DE RESPUESTAS'!W62,Back!$M$16:$N$20,2,0)","v":"#N/A"},{"$f":"+VLOOKUP('BASE DE RESPUESTAS'!X62,Back!$M$16:$N$20,2,0)","v":"#N/A"},{"$f":"+VLOOKUP('BASE DE RESPUESTAS'!Y62,Back!$M$16:$N$20,2,0)","v":"#N/A"},{"$f":"+VLOOKUP('BASE DE RESPUESTAS'!Z62,Back!$M$16:$N$20,2,0)","v":"#N/A"},{"$f":"+VLOOKUP('BASE DE RESPUESTAS'!AA62,Back!$M$16:$N$20,2,0)","v":"#N/A"},{"$f":"+VLOOKUP('BASE DE RESPUESTAS'!AB62,Back!$M$16:$N$20,2,0)","v":"#N/A"},{"$f":"+VLOOKUP('BASE DE RESPUESTAS'!AC62,Back!$M$16:$N$20,2,0)","v":"#N/A"},{"$f":"+VLOOKUP('BASE DE RESPUESTAS'!AD62,Back!$M$16:$N$20,2,0)","v":"#N/A"},{"$f":"+VLOOKUP('BASE DE RESPUESTAS'!AE62,Back!$M$16:$N$20,2,0)","v":"#N/A"},{"$f":"+VLOOKUP('BASE DE RESPUESTAS'!AF62,Back!$M$16:$N$20,2,0)","v":"#N/A"},{"$f":"+VLOOKUP('BASE DE RESPUESTAS'!AG62,Back!$M$16:$N$20,2,0)","v":"#N/A"},{"$f":"+VLOOKUP('BASE DE RESPUESTAS'!AH62,Back!$M$16:$N$20,2,0)","v":"#N/A"},{"$f":"+VLOOKUP('BASE DE RESPUESTAS'!AI62,Back!$M$16:$N$20,2,0)","v":"#N/A"},{"$f":"+VLOOKUP('BASE DE RESPUESTAS'!AJ62,Back!$M$16:$N$20,2,0)","v":"#N/A"},{"$f":"+VLOOKUP('BASE DE RESPUESTAS'!AK62,Back!$M$16:$N$20,2,0)","v":"#N/A"},{"$f":"+VLOOKUP('BASE DE RESPUESTAS'!AL62,Back!$M$16:$N$20,2,0)","v":"#N/A"},{"$f":"+VLOOKUP('BASE DE RESPUESTAS'!AM62,Back!$M$16:$N$20,2,0)","v":"#N/A"},{"$f":"+VLOOKUP('BASE DE RESPUESTAS'!AN62,Back!$M$16:$N$20,2,0)","v":"#N/A"},{"$f":"+VLOOKUP('BASE DE RESPUESTAS'!AO62,Back!$M$16:$N$20,2,0)","v":"#N/A"},{"$f":"+VLOOKUP('BASE DE RESPUESTAS'!AP62,Back!$M$16:$N$20,2,0)","v":"#N/A"},{"$f":"+VLOOKUP('BASE DE RESPUESTAS'!AQ62,Back!$M$16:$N$20,2,0)","v":"#N/A"},{"$f":"+VLOOKUP('BASE DE RESPUESTAS'!AR62,Back!$M$16:$N$20,2,0)","v":"#N/A"},{"$f":"+VLOOKUP('BASE DE RESPUESTAS'!AS62,Back!$M$16:$N$20,2,0)","v":"#N/A"},{"$f":"+VLOOKUP('BASE DE RESPUESTAS'!AT62,Back!$M$16:$N$20,2,0)","v":"#N/A"},{"$f":"+VLOOKUP('BASE DE RESPUESTAS'!AU62,Back!$M$16:$N$20,2,0)","v":"#N/A"},{"$f":"+VLOOKUP('BASE DE RESPUESTAS'!AV62,Back!$M$16:$N$20,2,0)","v":"#N/A"},{"$f":"+VLOOKUP('BASE DE RESPUESTAS'!AW62,Back!$M$16:$N$20,2,0)","v":"#N/A"},{"$f":"+VLOOKUP('BASE DE RESPUESTAS'!AX62,Back!$M$16:$N$20,2,0)","v":"#N/A"},{"$f":"+VLOOKUP('BASE DE RESPUESTAS'!AY62,Back!$M$16:$N$20,2,0)","v":"#N/A"},{"$f":"+VLOOKUP('BASE DE RESPUESTAS'!AZ62,Back!$M$16:$N$20,2,0)","v":"#N/A"},{"$f":"+VLOOKUP('BASE DE RESPUESTAS'!BA62,Back!$M$16:$N$20,2,0)","v":"#N/A"},{"$f":"+VLOOKUP('BASE DE RESPUESTAS'!BB62,Back!$M$16:$N$20,2,0)","v":"#N/A"},{"$f":"+VLOOKUP('BASE DE RESPUESTAS'!BC62,Back!$M$16:$N$20,2,0)","v":"#N/A"},{"$f":"+VLOOKUP('BASE DE RESPUESTAS'!BD62,Back!$M$16:$N$20,2,0)","v":"#N/A"},{"$f":"+VLOOKUP('BASE DE RESPUESTAS'!BE62,Back!$M$16:$N$20,2,0)","v":"#N/A"}]
[null,null,null,null,41.0,"No tiene iniciativa para participar en las actividades grupales. ",null,{"$f":"+VLOOKUP('BASE DE RESPUESTAS'!H63,Back!$M$16:$N$20,2,0)","v":"#N/A"},{"$f":"+VLOOKUP('BASE DE RESPUESTAS'!I63,Back!$M$16:$N$20,2,0)","v":"#N/A"},{"$f":"+VLOOKUP('BASE DE RESPUESTAS'!J63,Back!$M$16:$N$20,2,0)","v":"#N/A"},{"$f":"+VLOOKUP('BASE DE RESPUESTAS'!K63,Back!$M$16:$N$20,2,0)","v":"#N/A"},{"$f":"+VLOOKUP('BASE DE RESPUESTAS'!L63,Back!$M$16:$N$20,2,0)","v":"#N/A"},{"$f":"+VLOOKUP('BASE DE RESPUESTAS'!M63,Back!$M$16:$N$20,2,0)","v":"#N/A"},{"$f":"+VLOOKUP('BASE DE RESPUESTAS'!N63,Back!$M$16:$N$20,2,0)","v":"#N/A"},{"$f":"+VLOOKUP('BASE DE RESPUESTAS'!O63,Back!$M$16:$N$20,2,0)","v":"#N/A"},{"$f":"+VLOOKUP('BASE DE RESPUESTAS'!P63,Back!$M$16:$N$20,2,0)","v":"#N/A"},{"$f":"+VLOOKUP('BASE DE RESPUESTAS'!Q63,Back!$M$16:$N$20,2,0)","v":"#N/A"},{"$f":"+VLOOKUP('BASE DE RESPUESTAS'!R63,Back!$M$16:$N$20,2,0)","v":"#N/A"},{"$f":"+VLOOKUP('BASE DE RESPUESTAS'!S63,Back!$M$16:$N$20,2,0)","v":"#N/A"},{"$f":"+VLOOKUP('BASE DE RESPUESTAS'!T63,Back!$M$16:$N$20,2,0)","v":"#N/A"},{"$f":"+VLOOKUP('BASE DE RESPUESTAS'!U63,Back!$M$16:$N$20,2,0)","v":"#N/A"},{"$f":"+VLOOKUP('BASE DE RESPUESTAS'!V63,Back!$M$16:$N$20,2,0)","v":"#N/A"},{"$f":"+VLOOKUP('BASE DE RESPUESTAS'!W63,Back!$M$16:$N$20,2,0)","v":"#N/A"},{"$f":"+VLOOKUP('BASE DE RESPUESTAS'!X63,Back!$M$16:$N$20,2,0)","v":"#N/A"},{"$f":"+VLOOKUP('BASE DE RESPUESTAS'!Y63,Back!$M$16:$N$20,2,0)","v":"#N/A"},{"$f":"+VLOOKUP('BASE DE RESPUESTAS'!Z63,Back!$M$16:$N$20,2,0)","v":"#N/A"},{"$f":"+VLOOKUP('BASE DE RESPUESTAS'!AA63,Back!$M$16:$N$20,2,0)","v":"#N/A"},{"$f":"+VLOOKUP('BASE DE RESPUESTAS'!AB63,Back!$M$16:$N$20,2,0)","v":"#N/A"},{"$f":"+VLOOKUP('BASE DE RESPUESTAS'!AC63,Back!$M$16:$N$20,2,0)","v":"#N/A"},{"$f":"+VLOOKUP('BASE DE RESPUESTAS'!AD63,Back!$M$16:$N$20,2,0)","v":"#N/A"},{"$f":"+VLOOKUP('BASE DE RESPUESTAS'!AE63,Back!$M$16:$N$20,2,0)","v":"#N/A"},{"$f":"+VLOOKUP('BASE DE RESPUESTAS'!AF63,Back!$M$16:$N$20,2,0)","v":"#N/A"},{"$f":"+VLOOKUP('BASE DE RESPUESTAS'!AG63,Back!$M$16:$N$20,2,0)","v":"#N/A"},{"$f":"+VLOOKUP('BASE DE RESPUESTAS'!AH63,Back!$M$16:$N$20,2,0)","v":"#N/A"},{"$f":"+VLOOKUP('BASE DE RESPUESTAS'!AI63,Back!$M$16:$N$20,2,0)","v":"#N/A"},{"$f":"+VLOOKUP('BASE DE RESPUESTAS'!AJ63,Back!$M$16:$N$20,2,0)","v":"#N/A"},{"$f":"+VLOOKUP('BASE DE RESPUESTAS'!AK63,Back!$M$16:$N$20,2,0)","v":"#N/A"},{"$f":"+VLOOKUP('BASE DE RESPUESTAS'!AL63,Back!$M$16:$N$20,2,0)","v":"#N/A"},{"$f":"+VLOOKUP('BASE DE RESPUESTAS'!AM63,Back!$M$16:$N$20,2,0)","v":"#N/A"},{"$f":"+VLOOKUP('BASE DE RESPUESTAS'!AN63,Back!$M$16:$N$20,2,0)","v":"#N/A"},{"$f":"+VLOOKUP('BASE DE RESPUESTAS'!AO63,Back!$M$16:$N$20,2,0)","v":"#N/A"},{"$f":"+VLOOKUP('BASE DE RESPUESTAS'!AP63,Back!$M$16:$N$20,2,0)","v":"#N/A"},{"$f":"+VLOOKUP('BASE DE RESPUESTAS'!AQ63,Back!$M$16:$N$20,2,0)","v":"#N/A"},{"$f":"+VLOOKUP('BASE DE RESPUESTAS'!AR63,Back!$M$16:$N$20,2,0)","v":"#N/A"},{"$f":"+VLOOKUP('BASE DE RESPUESTAS'!AS63,Back!$M$16:$N$20,2,0)","v":"#N/A"},{"$f":"+VLOOKUP('BASE DE RESPUESTAS'!AT63,Back!$M$16:$N$20,2,0)","v":"#N/A"},{"$f":"+VLOOKUP('BASE DE RESPUESTAS'!AU63,Back!$M$16:$N$20,2,0)","v":"#N/A"},{"$f":"+VLOOKUP('BASE DE RESPUESTAS'!AV63,Back!$M$16:$N$20,2,0)","v":"#N/A"},{"$f":"+VLOOKUP('BASE DE RESPUESTAS'!AW63,Back!$M$16:$N$20,2,0)","v":"#N/A"},{"$f":"+VLOOKUP('BASE DE RESPUESTAS'!AX63,Back!$M$16:$N$20,2,0)","v":"#N/A"},{"$f":"+VLOOKUP('BASE DE RESPUESTAS'!AY63,Back!$M$16:$N$20,2,0)","v":"#N/A"},{"$f":"+VLOOKUP('BASE DE RESPUESTAS'!AZ63,Back!$M$16:$N$20,2,0)","v":"#N/A"},{"$f":"+VLOOKUP('BASE DE RESPUESTAS'!BA63,Back!$M$16:$N$20,2,0)","v":"#N/A"},{"$f":"+VLOOKUP('BASE DE RESPUESTAS'!BB63,Back!$M$16:$N$20,2,0)","v":"#N/A"},{"$f":"+VLOOKUP('BASE DE RESPUESTAS'!BC63,Back!$M$16:$N$20,2,0)","v":"#N/A"},{"$f":"+VLOOKUP('BASE DE RESPUESTAS'!BD63,Back!$M$16:$N$20,2,0)","v":"#N/A"},{"$f":"+VLOOKUP('BASE DE RESPUESTAS'!BE63,Back!$M$16:$N$20,2,0)","v":"#N/A"}]
[null,"FR","Trabajo Infantil","La o el estudiante se ve obligada/o a trabajar, utilizando sus tiempos de estudio y exponiéndose a riesgos.",42.0,"Realiza actividades laborales o de cuidado, utilizando sus tiempos de estudio.",null,{"$f":"+VLOOKUP('BASE DE RESPUESTAS'!H64,Back!$M$16:$N$20,2,0)","v":"#N/A"},{"$f":"+VLOOKUP('BASE DE RESPUESTAS'!I64,Back!$M$16:$N$20,2,0)","v":"#N/A"},{"$f":"+VLOOKUP('BASE DE RESPUESTAS'!J64,Back!$M$16:$N$20,2,0)","v":"#N/A"},{"$f":"+VLOOKUP('BASE DE RESPUESTAS'!K64,Back!$M$16:$N$20,2,0)","v":"#N/A"},{"$f":"+VLOOKUP('BASE DE RESPUESTAS'!L64,Back!$M$16:$N$20,2,0)","v":"#N/A"},{"$f":"+VLOOKUP('BASE DE RESPUESTAS'!M64,Back!$M$16:$N$20,2,0)","v":"#N/A"},{"$f":"+VLOOKUP('BASE DE RESPUESTAS'!N64,Back!$M$16:$N$20,2,0)","v":"#N/A"},{"$f":"+VLOOKUP('BASE DE RESPUESTAS'!O64,Back!$M$16:$N$20,2,0)","v":"#N/A"},{"$f":"+VLOOKUP('BASE DE RESPUESTAS'!P64,Back!$M$16:$N$20,2,0)","v":"#N/A"},{"$f":"+VLOOKUP('BASE DE RESPUESTAS'!Q64,Back!$M$16:$N$20,2,0)","v":"#N/A"},{"$f":"+VLOOKUP('BASE DE RESPUESTAS'!R64,Back!$M$16:$N$20,2,0)","v":"#N/A"},{"$f":"+VLOOKUP('BASE DE RESPUESTAS'!S64,Back!$M$16:$N$20,2,0)","v":"#N/A"},{"$f":"+VLOOKUP('BASE DE RESPUESTAS'!T64,Back!$M$16:$N$20,2,0)","v":"#N/A"},{"$f":"+VLOOKUP('BASE DE RESPUESTAS'!U64,Back!$M$16:$N$20,2,0)","v":"#N/A"},{"$f":"+VLOOKUP('BASE DE RESPUESTAS'!V64,Back!$M$16:$N$20,2,0)","v":"#N/A"},{"$f":"+VLOOKUP('BASE DE RESPUESTAS'!W64,Back!$M$16:$N$20,2,0)","v":"#N/A"},{"$f":"+VLOOKUP('BASE DE RESPUESTAS'!X64,Back!$M$16:$N$20,2,0)","v":"#N/A"},{"$f":"+VLOOKUP('BASE DE RESPUESTAS'!Y64,Back!$M$16:$N$20,2,0)","v":"#N/A"},{"$f":"+VLOOKUP('BASE DE RESPUESTAS'!Z64,Back!$M$16:$N$20,2,0)","v":"#N/A"},{"$f":"+VLOOKUP('BASE DE RESPUESTAS'!AA64,Back!$M$16:$N$20,2,0)","v":"#N/A"},{"$f":"+VLOOKUP('BASE DE RESPUESTAS'!AB64,Back!$M$16:$N$20,2,0)","v":"#N/A"},{"$f":"+VLOOKUP('BASE DE RESPUESTAS'!AC64,Back!$M$16:$N$20,2,0)","v":"#N/A"},{"$f":"+VLOOKUP('BASE DE RESPUESTAS'!AD64,Back!$M$16:$N$20,2,0)","v":"#N/A"},{"$f":"+VLOOKUP('BASE DE RESPUESTAS'!AE64,Back!$M$16:$N$20,2,0)","v":"#N/A"},{"$f":"+VLOOKUP('BASE DE RESPUESTAS'!AF64,Back!$M$16:$N$20,2,0)","v":"#N/A"},{"$f":"+VLOOKUP('BASE DE RESPUESTAS'!AG64,Back!$M$16:$N$20,2,0)","v":"#N/A"},{"$f":"+VLOOKUP('BASE DE RESPUESTAS'!AH64,Back!$M$16:$N$20,2,0)","v":"#N/A"},{"$f":"+VLOOKUP('BASE DE RESPUESTAS'!AI64,Back!$M$16:$N$20,2,0)","v":"#N/A"},{"$f":"+VLOOKUP('BASE DE RESPUESTAS'!AJ64,Back!$M$16:$N$20,2,0)","v":"#N/A"},{"$f":"+VLOOKUP('BASE DE RESPUESTAS'!AK64,Back!$M$16:$N$20,2,0)","v":"#N/A"},{"$f":"+VLOOKUP('BASE DE RESPUESTAS'!AL64,Back!$M$16:$N$20,2,0)","v":"#N/A"},{"$f":"+VLOOKUP('BASE DE RESPUESTAS'!AM64,Back!$M$16:$N$20,2,0)","v":"#N/A"},{"$f":"+VLOOKUP('BASE DE RESPUESTAS'!AN64,Back!$M$16:$N$20,2,0)","v":"#N/A"},{"$f":"+VLOOKUP('BASE DE RESPUESTAS'!AO64,Back!$M$16:$N$20,2,0)","v":"#N/A"},{"$f":"+VLOOKUP('BASE DE RESPUESTAS'!AP64,Back!$M$16:$N$20,2,0)","v":"#N/A"},{"$f":"+VLOOKUP('BASE DE RESPUESTAS'!AQ64,Back!$M$16:$N$20,2,0)","v":"#N/A"},{"$f":"+VLOOKUP('BASE DE RESPUESTAS'!AR64,Back!$M$16:$N$20,2,0)","v":"#N/A"},{"$f":"+VLOOKUP('BASE DE RESPUESTAS'!AS64,Back!$M$16:$N$20,2,0)","v":"#N/A"},{"$f":"+VLOOKUP('BASE DE RESPUESTAS'!AT64,Back!$M$16:$N$20,2,0)","v":"#N/A"},{"$f":"+VLOOKUP('BASE DE RESPUESTAS'!AU64,Back!$M$16:$N$20,2,0)","v":"#N/A"},{"$f":"+VLOOKUP('BASE DE RESPUESTAS'!AV64,Back!$M$16:$N$20,2,0)","v":"#N/A"},{"$f":"+VLOOKUP('BASE DE RESPUESTAS'!AW64,Back!$M$16:$N$20,2,0)","v":"#N/A"},{"$f":"+VLOOKUP('BASE DE RESPUESTAS'!AX64,Back!$M$16:$N$20,2,0)","v":"#N/A"},{"$f":"+VLOOKUP('BASE DE RESPUESTAS'!AY64,Back!$M$16:$N$20,2,0)","v":"#N/A"},{"$f":"+VLOOKUP('BASE DE RESPUESTAS'!AZ64,Back!$M$16:$N$20,2,0)","v":"#N/A"},{"$f":"+VLOOKUP('BASE DE RESPUESTAS'!BA64,Back!$M$16:$N$20,2,0)","v":"#N/A"},{"$f":"+VLOOKUP('BASE DE RESPUESTAS'!BB64,Back!$M$16:$N$20,2,0)","v":"#N/A"},{"$f":"+VLOOKUP('BASE DE RESPUESTAS'!BC64,Back!$M$16:$N$20,2,0)","v":"#N/A"},{"$f":"+VLOOKUP('BASE DE RESPUESTAS'!BD64,Back!$M$16:$N$20,2,0)","v":"#N/A"},{"$f":"+VLOOKUP('BASE DE RESPUESTAS'!BE64,Back!$M$16:$N$20,2,0)","v":"#N/A"}]
[null,null,null,null,43.0,"Realiza actividades laborales que implican riesgo para su desarrollo",null,{"$f":"+VLOOKUP('BASE DE RESPUESTAS'!H65,Back!$M$16:$N$20,2,0)","v":"#N/A"},{"$f":"+VLOOKUP('BASE DE RESPUESTAS'!I65,Back!$M$16:$N$20,2,0)","v":"#N/A"},{"$f":"+VLOOKUP('BASE DE RESPUESTAS'!J65,Back!$M$16:$N$20,2,0)","v":"#N/A"},{"$f":"+VLOOKUP('BASE DE RESPUESTAS'!K65,Back!$M$16:$N$20,2,0)","v":"#N/A"},{"$f":"+VLOOKUP('BASE DE RESPUESTAS'!L65,Back!$M$16:$N$20,2,0)","v":"#N/A"},{"$f":"+VLOOKUP('BASE DE RESPUESTAS'!M65,Back!$M$16:$N$20,2,0)","v":"#N/A"},{"$f":"+VLOOKUP('BASE DE RESPUESTAS'!N65,Back!$M$16:$N$20,2,0)","v":"#N/A"},{"$f":"+VLOOKUP('BASE DE RESPUESTAS'!O65,Back!$M$16:$N$20,2,0)","v":"#N/A"},{"$f":"+VLOOKUP('BASE DE RESPUESTAS'!P65,Back!$M$16:$N$20,2,0)","v":"#N/A"},{"$f":"+VLOOKUP('BASE DE RESPUESTAS'!Q65,Back!$M$16:$N$20,2,0)","v":"#N/A"},{"$f":"+VLOOKUP('BASE DE RESPUESTAS'!R65,Back!$M$16:$N$20,2,0)","v":"#N/A"},{"$f":"+VLOOKUP('BASE DE RESPUESTAS'!S65,Back!$M$16:$N$20,2,0)","v":"#N/A"},{"$f":"+VLOOKUP('BASE DE RESPUESTAS'!T65,Back!$M$16:$N$20,2,0)","v":"#N/A"},{"$f":"+VLOOKUP('BASE DE RESPUESTAS'!U65,Back!$M$16:$N$20,2,0)","v":"#N/A"},{"$f":"+VLOOKUP('BASE DE RESPUESTAS'!V65,Back!$M$16:$N$20,2,0)","v":"#N/A"},{"$f":"+VLOOKUP('BASE DE RESPUESTAS'!W65,Back!$M$16:$N$20,2,0)","v":"#N/A"},{"$f":"+VLOOKUP('BASE DE RESPUESTAS'!X65,Back!$M$16:$N$20,2,0)","v":"#N/A"},{"$f":"+VLOOKUP('BASE DE RESPUESTAS'!Y65,Back!$M$16:$N$20,2,0)","v":"#N/A"},{"$f":"+VLOOKUP('BASE DE RESPUESTAS'!Z65,Back!$M$16:$N$20,2,0)","v":"#N/A"},{"$f":"+VLOOKUP('BASE DE RESPUESTAS'!AA65,Back!$M$16:$N$20,2,0)","v":"#N/A"},{"$f":"+VLOOKUP('BASE DE RESPUESTAS'!AB65,Back!$M$16:$N$20,2,0)","v":"#N/A"},{"$f":"+VLOOKUP('BASE DE RESPUESTAS'!AC65,Back!$M$16:$N$20,2,0)","v":"#N/A"},{"$f":"+VLOOKUP('BASE DE RESPUESTAS'!AD65,Back!$M$16:$N$20,2,0)","v":"#N/A"},{"$f":"+VLOOKUP('BASE DE RESPUESTAS'!AE65,Back!$M$16:$N$20,2,0)","v":"#N/A"},{"$f":"+VLOOKUP('BASE DE RESPUESTAS'!AF65,Back!$M$16:$N$20,2,0)","v":"#N/A"},{"$f":"+VLOOKUP('BASE DE RESPUESTAS'!AG65,Back!$M$16:$N$20,2,0)","v":"#N/A"},{"$f":"+VLOOKUP('BASE DE RESPUESTAS'!AH65,Back!$M$16:$N$20,2,0)","v":"#N/A"},{"$f":"+VLOOKUP('BASE DE RESPUESTAS'!AI65,Back!$M$16:$N$20,2,0)","v":"#N/A"},{"$f":"+VLOOKUP('BASE DE RESPUESTAS'!AJ65,Back!$M$16:$N$20,2,0)","v":"#N/A"},{"$f":"+VLOOKUP('BASE DE RESPUESTAS'!AK65,Back!$M$16:$N$20,2,0)","v":"#N/A"},{"$f":"+VLOOKUP('BASE DE RESPUESTAS'!AL65,Back!$M$16:$N$20,2,0)","v":"#N/A"},{"$f":"+VLOOKUP('BASE DE RESPUESTAS'!AM65,Back!$M$16:$N$20,2,0)","v":"#N/A"},{"$f":"+VLOOKUP('BASE DE RESPUESTAS'!AN65,Back!$M$16:$N$20,2,0)","v":"#N/A"},{"$f":"+VLOOKUP('BASE DE RESPUESTAS'!AO65,Back!$M$16:$N$20,2,0)","v":"#N/A"},{"$f":"+VLOOKUP('BASE DE RESPUESTAS'!AP65,Back!$M$16:$N$20,2,0)","v":"#N/A"},{"$f":"+VLOOKUP('BASE DE RESPUESTAS'!AQ65,Back!$M$16:$N$20,2,0)","v":"#N/A"},{"$f":"+VLOOKUP('BASE DE RESPUESTAS'!AR65,Back!$M$16:$N$20,2,0)","v":"#N/A"},{"$f":"+VLOOKUP('BASE DE RESPUESTAS'!AS65,Back!$M$16:$N$20,2,0)","v":"#N/A"},{"$f":"+VLOOKUP('BASE DE RESPUESTAS'!AT65,Back!$M$16:$N$20,2,0)","v":"#N/A"},{"$f":"+VLOOKUP('BASE DE RESPUESTAS'!AU65,Back!$M$16:$N$20,2,0)","v":"#N/A"},{"$f":"+VLOOKUP('BASE DE RESPUESTAS'!AV65,Back!$M$16:$N$20,2,0)","v":"#N/A"},{"$f":"+VLOOKUP('BASE DE RESPUESTAS'!AW65,Back!$M$16:$N$20,2,0)","v":"#N/A"},{"$f":"+VLOOKUP('BASE DE RESPUESTAS'!AX65,Back!$M$16:$N$20,2,0)","v":"#N/A"},{"$f":"+VLOOKUP('BASE DE RESPUESTAS'!AY65,Back!$M$16:$N$20,2,0)","v":"#N/A"},{"$f":"+VLOOKUP('BASE DE RESPUESTAS'!AZ65,Back!$M$16:$N$20,2,0)","v":"#N/A"},{"$f":"+VLOOKUP('BASE DE RESPUESTAS'!BA65,Back!$M$16:$N$20,2,0)","v":"#N/A"},{"$f":"+VLOOKUP('BASE DE RESPUESTAS'!BB65,Back!$M$16:$N$20,2,0)","v":"#N/A"},{"$f":"+VLOOKUP('BASE DE RESPUESTAS'!BC65,Back!$M$16:$N$20,2,0)","v":"#N/A"},{"$f":"+VLOOKUP('BASE DE RESPUESTAS'!BD65,Back!$M$16:$N$20,2,0)","v":"#N/A"},{"$f":"+VLOOKUP('BASE DE RESPUESTAS'!BE65,Back!$M$16:$N$20,2,0)","v":"#N/A"}]
[null,null,null,null,44.0,"Presenta señales de cansancio y/o duerme durante el horario escolar, de manera frecuente, a consecuencia de realizar actividades laborales o de cuidado que no corresponden a su edad.",null,{"$f":"+VLOOKUP('BASE DE RESPUESTAS'!H66,Back!$M$16:$N$20,2,0)","v":"#N/A"},{"$f":"+VLOOKUP('BASE DE RESPUESTAS'!I66,Back!$M$16:$N$20,2,0)","v":"#N/A"},{"$f":"+VLOOKUP('BASE DE RESPUESTAS'!J66,Back!$M$16:$N$20,2,0)","v":"#N/A"},{"$f":"+VLOOKUP('BASE DE RESPUESTAS'!K66,Back!$M$16:$N$20,2,0)","v":"#N/A"},{"$f":"+VLOOKUP('BASE DE RESPUESTAS'!L66,Back!$M$16:$N$20,2,0)","v":"#N/A"},{"$f":"+VLOOKUP('BASE DE RESPUESTAS'!M66,Back!$M$16:$N$20,2,0)","v":"#N/A"},{"$f":"+VLOOKUP('BASE DE RESPUESTAS'!N66,Back!$M$16:$N$20,2,0)","v":"#N/A"},{"$f":"+VLOOKUP('BASE DE RESPUESTAS'!O66,Back!$M$16:$N$20,2,0)","v":"#N/A"},{"$f":"+VLOOKUP('BASE DE RESPUESTAS'!P66,Back!$M$16:$N$20,2,0)","v":"#N/A"},{"$f":"+VLOOKUP('BASE DE RESPUESTAS'!Q66,Back!$M$16:$N$20,2,0)","v":"#N/A"},{"$f":"+VLOOKUP('BASE DE RESPUESTAS'!R66,Back!$M$16:$N$20,2,0)","v":"#N/A"},{"$f":"+VLOOKUP('BASE DE RESPUESTAS'!S66,Back!$M$16:$N$20,2,0)","v":"#N/A"},{"$f":"+VLOOKUP('BASE DE RESPUESTAS'!T66,Back!$M$16:$N$20,2,0)","v":"#N/A"},{"$f":"+VLOOKUP('BASE DE RESPUESTAS'!U66,Back!$M$16:$N$20,2,0)","v":"#N/A"},{"$f":"+VLOOKUP('BASE DE RESPUESTAS'!V66,Back!$M$16:$N$20,2,0)","v":"#N/A"},{"$f":"+VLOOKUP('BASE DE RESPUESTAS'!W66,Back!$M$16:$N$20,2,0)","v":"#N/A"},{"$f":"+VLOOKUP('BASE DE RESPUESTAS'!X66,Back!$M$16:$N$20,2,0)","v":"#N/A"},{"$f":"+VLOOKUP('BASE DE RESPUESTAS'!Y66,Back!$M$16:$N$20,2,0)","v":"#N/A"},{"$f":"+VLOOKUP('BASE DE RESPUESTAS'!Z66,Back!$M$16:$N$20,2,0)","v":"#N/A"},{"$f":"+VLOOKUP('BASE DE RESPUESTAS'!AA66,Back!$M$16:$N$20,2,0)","v":"#N/A"},{"$f":"+VLOOKUP('BASE DE RESPUESTAS'!AB66,Back!$M$16:$N$20,2,0)","v":"#N/A"},{"$f":"+VLOOKUP('BASE DE RESPUESTAS'!AC66,Back!$M$16:$N$20,2,0)","v":"#N/A"},{"$f":"+VLOOKUP('BASE DE RESPUESTAS'!AD66,Back!$M$16:$N$20,2,0)","v":"#N/A"},{"$f":"+VLOOKUP('BASE DE RESPUESTAS'!AE66,Back!$M$16:$N$20,2,0)","v":"#N/A"},{"$f":"+VLOOKUP('BASE DE RESPUESTAS'!AF66,Back!$M$16:$N$20,2,0)","v":"#N/A"},{"$f":"+VLOOKUP('BASE DE RESPUESTAS'!AG66,Back!$M$16:$N$20,2,0)","v":"#N/A"},{"$f":"+VLOOKUP('BASE DE RESPUESTAS'!AH66,Back!$M$16:$N$20,2,0)","v":"#N/A"},{"$f":"+VLOOKUP('BASE DE RESPUESTAS'!AI66,Back!$M$16:$N$20,2,0)","v":"#N/A"},{"$f":"+VLOOKUP('BASE DE RESPUESTAS'!AJ66,Back!$M$16:$N$20,2,0)","v":"#N/A"},{"$f":"+VLOOKUP('BASE DE RESPUESTAS'!AK66,Back!$M$16:$N$20,2,0)","v":"#N/A"},{"$f":"+VLOOKUP('BASE DE RESPUESTAS'!AL66,Back!$M$16:$N$20,2,0)","v":"#N/A"},{"$f":"+VLOOKUP('BASE DE RESPUESTAS'!AM66,Back!$M$16:$N$20,2,0)","v":"#N/A"},{"$f":"+VLOOKUP('BASE DE RESPUESTAS'!AN66,Back!$M$16:$N$20,2,0)","v":"#N/A"},{"$f":"+VLOOKUP('BASE DE RESPUESTAS'!AO66,Back!$M$16:$N$20,2,0)","v":"#N/A"},{"$f":"+VLOOKUP('BASE DE RESPUESTAS'!AP66,Back!$M$16:$N$20,2,0)","v":"#N/A"},{"$f":"+VLOOKUP('BASE DE RESPUESTAS'!AQ66,Back!$M$16:$N$20,2,0)","v":"#N/A"},{"$f":"+VLOOKUP('BASE DE RESPUESTAS'!AR66,Back!$M$16:$N$20,2,0)","v":"#N/A"},{"$f":"+VLOOKUP('BASE DE RESPUESTAS'!AS66,Back!$M$16:$N$20,2,0)","v":"#N/A"},{"$f":"+VLOOKUP('BASE DE RESPUESTAS'!AT66,Back!$M$16:$N$20,2,0)","v":"#N/A"},{"$f":"+VLOOKUP('BASE DE RESPUESTAS'!AU66,Back!$M$16:$N$20,2,0)","v":"#N/A"},{"$f":"+VLOOKUP('BASE DE RESPUESTAS'!AV66,Back!$M$16:$N$20,2,0)","v":"#N/A"},{"$f":"+VLOOKUP('BASE DE RESPUESTAS'!AW66,Back!$M$16:$N$20,2,0)","v":"#N/A"},{"$f":"+VLOOKUP('BASE DE RESPUESTAS'!AX66,Back!$M$16:$N$20,2,0)","v":"#N/A"},{"$f":"+VLOOKUP('BASE DE RESPUESTAS'!AY66,Back!$M$16:$N$20,2,0)","v":"#N/A"},{"$f":"+VLOOKUP('BASE DE RESPUESTAS'!AZ66,Back!$M$16:$N$20,2,0)","v":"#N/A"},{"$f":"+VLOOKUP('BASE DE RESPUESTAS'!BA66,Back!$M$16:$N$20,2,0)","v":"#N/A"},{"$f":"+VLOOKUP('BASE DE RESPUESTAS'!BB66,Back!$M$16:$N$20,2,0)","v":"#N/A"},{"$f":"+VLOOKUP('BASE DE RESPUESTAS'!BC66,Back!$M$16:$N$20,2,0)","v":"#N/A"},{"$f":"+VLOOKUP('BASE DE RESPUESTAS'!BD66,Back!$M$16:$N$20,2,0)","v":"#N/A"},{"$f":"+VLOOKUP('BASE DE RESPUESTAS'!BE66,Back!$M$16:$N$20,2,0)","v":"#N/A"}]
[null,"FR","Ausentismo Escolar","La o el estudiante falta con frecuencia a la escuela, sin justificación.",45.0,"La o el estudiante falta con frecuencia a la escuela, sin justificación.",null,{"$f":"+VLOOKUP('BASE DE RESPUESTAS'!H67,Back!$M$16:$N$20,2,0)","v":"#N/A"},{"$f":"+VLOOKUP('BASE DE RESPUESTAS'!I67,Back!$M$16:$N$20,2,0)","v":"#N/A"},{"$f":"+VLOOKUP('BASE DE RESPUESTAS'!J67,Back!$M$16:$N$20,2,0)","v":"#N/A"},{"$f":"+VLOOKUP('BASE DE RESPUESTAS'!K67,Back!$M$16:$N$20,2,0)","v":"#N/A"},{"$f":"+VLOOKUP('BASE DE RESPUESTAS'!L67,Back!$M$16:$N$20,2,0)","v":"#N/A"},{"$f":"+VLOOKUP('BASE DE RESPUESTAS'!M67,Back!$M$16:$N$20,2,0)","v":"#N/A"},{"$f":"+VLOOKUP('BASE DE RESPUESTAS'!N67,Back!$M$16:$N$20,2,0)","v":"#N/A"},{"$f":"+VLOOKUP('BASE DE RESPUESTAS'!O67,Back!$M$16:$N$20,2,0)","v":"#N/A"},{"$f":"+VLOOKUP('BASE DE RESPUESTAS'!P67,Back!$M$16:$N$20,2,0)","v":"#N/A"},{"$f":"+VLOOKUP('BASE DE RESPUESTAS'!Q67,Back!$M$16:$N$20,2,0)","v":"#N/A"},{"$f":"+VLOOKUP('BASE DE RESPUESTAS'!R67,Back!$M$16:$N$20,2,0)","v":"#N/A"},{"$f":"+VLOOKUP('BASE DE RESPUESTAS'!S67,Back!$M$16:$N$20,2,0)","v":"#N/A"},{"$f":"+VLOOKUP('BASE DE RESPUESTAS'!T67,Back!$M$16:$N$20,2,0)","v":"#N/A"},{"$f":"+VLOOKUP('BASE DE RESPUESTAS'!U67,Back!$M$16:$N$20,2,0)","v":"#N/A"},{"$f":"+VLOOKUP('BASE DE RESPUESTAS'!V67,Back!$M$16:$N$20,2,0)","v":"#N/A"},{"$f":"+VLOOKUP('BASE DE RESPUESTAS'!W67,Back!$M$16:$N$20,2,0)","v":"#N/A"},{"$f":"+VLOOKUP('BASE DE RESPUESTAS'!X67,Back!$M$16:$N$20,2,0)","v":"#N/A"},{"$f":"+VLOOKUP('BASE DE RESPUESTAS'!Y67,Back!$M$16:$N$20,2,0)","v":"#N/A"},{"$f":"+VLOOKUP('BASE DE RESPUESTAS'!Z67,Back!$M$16:$N$20,2,0)","v":"#N/A"},{"$f":"+VLOOKUP('BASE DE RESPUESTAS'!AA67,Back!$M$16:$N$20,2,0)","v":"#N/A"},{"$f":"+VLOOKUP('BASE DE RESPUESTAS'!AB67,Back!$M$16:$N$20,2,0)","v":"#N/A"},{"$f":"+VLOOKUP('BASE DE RESPUESTAS'!AC67,Back!$M$16:$N$20,2,0)","v":"#N/A"},{"$f":"+VLOOKUP('BASE DE RESPUESTAS'!AD67,Back!$M$16:$N$20,2,0)","v":"#N/A"},{"$f":"+VLOOKUP('BASE DE RESPUESTAS'!AE67,Back!$M$16:$N$20,2,0)","v":"#N/A"},{"$f":"+VLOOKUP('BASE DE RESPUESTAS'!AF67,Back!$M$16:$N$20,2,0)","v":"#N/A"},{"$f":"+VLOOKUP('BASE DE RESPUESTAS'!AG67,Back!$M$16:$N$20,2,0)","v":"#N/A"},{"$f":"+VLOOKUP('BASE DE RESPUESTAS'!AH67,Back!$M$16:$N$20,2,0)","v":"#N/A"},{"$f":"+VLOOKUP('BASE DE RESPUESTAS'!AI67,Back!$M$16:$N$20,2,0)","v":"#N/A"},{"$f":"+VLOOKUP('BASE DE RESPUESTAS'!AJ67,Back!$M$16:$N$20,2,0)","v":"#N/A"},{"$f":"+VLOOKUP('BASE DE RESPUESTAS'!AK67,Back!$M$16:$N$20,2,0)","v":"#N/A"},{"$f":"+VLOOKUP('BASE DE RESPUESTAS'!AL67,Back!$M$16:$N$20,2,0)","v":"#N/A"},{"$f":"+VLOOKUP('BASE DE RESPUESTAS'!AM67,Back!$M$16:$N$20,2,0)","v":"#N/A"},{"$f":"+VLOOKUP('BASE DE RESPUESTAS'!AN67,Back!$M$16:$N$20,2,0)","v":"#N/A"},{"$f":"+VLOOKUP('BASE DE RESPUESTAS'!AO67,Back!$M$16:$N$20,2,0)","v":"#N/A"},{"$f":"+VLOOKUP('BASE DE RESPUESTAS'!AP67,Back!$M$16:$N$20,2,0)","v":"#N/A"},{"$f":"+VLOOKUP('BASE DE RESPUESTAS'!AQ67,Back!$M$16:$N$20,2,0)","v":"#N/A"},{"$f":"+VLOOKUP('BASE DE RESPUESTAS'!AR67,Back!$M$16:$N$20,2,0)","v":"#N/A"},{"$f":"+VLOOKUP('BASE DE RESPUESTAS'!AS67,Back!$M$16:$N$20,2,0)","v":"#N/A"},{"$f":"+VLOOKUP('BASE DE RESPUESTAS'!AT67,Back!$M$16:$N$20,2,0)","v":"#N/A"},{"$f":"+VLOOKUP('BASE DE RESPUESTAS'!AU67,Back!$M$16:$N$20,2,0)","v":"#N/A"},{"$f":"+VLOOKUP('BASE DE RESPUESTAS'!AV67,Back!$M$16:$N$20,2,0)","v":"#N/A"},{"$f":"+VLOOKUP('BASE DE RESPUESTAS'!AW67,Back!$M$16:$N$20,2,0)","v":"#N/A"},{"$f":"+VLOOKUP('BASE DE RESPUESTAS'!AX67,Back!$M$16:$N$20,2,0)","v":"#N/A"},{"$f":"+VLOOKUP('BASE DE RESPUESTAS'!AY67,Back!$M$16:$N$20,2,0)","v":"#N/A"},{"$f":"+VLOOKUP('BASE DE RESPUESTAS'!AZ67,Back!$M$16:$N$20,2,0)","v":"#N/A"},{"$f":"+VLOOKUP('BASE DE RESPUESTAS'!BA67,Back!$M$16:$N$20,2,0)","v":"#N/A"},{"$f":"+VLOOKUP('BASE DE RESPUESTAS'!BB67,Back!$M$16:$N$20,2,0)","v":"#N/A"},{"$f":"+VLOOKUP('BASE DE RESPUESTAS'!BC67,Back!$M$16:$N$20,2,0)","v":"#N/A"},{"$f":"+VLOOKUP('BASE DE RESPUESTAS'!BD67,Back!$M$16:$N$20,2,0)","v":"#N/A"},{"$f":"+VLOOKUP('BASE DE RESPUESTAS'!BE67,Back!$M$16:$N$20,2,0)","v":"#N/A"}]
[null,"FR","Riesgo de desprotección familiar","La o el estudiante muestra reiteradamente signos de violencia física en el cuerpo.",46.0,"Presenta signos de violencia física (moretones, marcas enrojecidas, rasguños, entre otros), de manera frecuente, que no se relaciona con conductas esperadas (juegos, accidentes, etc).",null,{"$f":"+VLOOKUP('BASE DE RESPUESTAS'!H68,Back!$M$16:$N$20,2,0)","v":"#N/A"},{"$f":"+VLOOKUP('BASE DE RESPUESTAS'!I68,Back!$M$16:$N$20,2,0)","v":"#N/A"},{"$f":"+VLOOKUP('BASE DE RESPUESTAS'!J68,Back!$M$16:$N$20,2,0)","v":"#N/A"},{"$f":"+VLOOKUP('BASE DE RESPUESTAS'!K68,Back!$M$16:$N$20,2,0)","v":"#N/A"},{"$f":"+VLOOKUP('BASE DE RESPUESTAS'!L68,Back!$M$16:$N$20,2,0)","v":"#N/A"},{"$f":"+VLOOKUP('BASE DE RESPUESTAS'!M68,Back!$M$16:$N$20,2,0)","v":"#N/A"},{"$f":"+VLOOKUP('BASE DE RESPUESTAS'!N68,Back!$M$16:$N$20,2,0)","v":"#N/A"},{"$f":"+VLOOKUP('BASE DE RESPUESTAS'!O68,Back!$M$16:$N$20,2,0)","v":"#N/A"},{"$f":"+VLOOKUP('BASE DE RESPUESTAS'!P68,Back!$M$16:$N$20,2,0)","v":"#N/A"},{"$f":"+VLOOKUP('BASE DE RESPUESTAS'!Q68,Back!$M$16:$N$20,2,0)","v":"#N/A"},{"$f":"+VLOOKUP('BASE DE RESPUESTAS'!R68,Back!$M$16:$N$20,2,0)","v":"#N/A"},{"$f":"+VLOOKUP('BASE DE RESPUESTAS'!S68,Back!$M$16:$N$20,2,0)","v":"#N/A"},{"$f":"+VLOOKUP('BASE DE RESPUESTAS'!T68,Back!$M$16:$N$20,2,0)","v":"#N/A"},{"$f":"+VLOOKUP('BASE DE RESPUESTAS'!U68,Back!$M$16:$N$20,2,0)","v":"#N/A"},{"$f":"+VLOOKUP('BASE DE RESPUESTAS'!V68,Back!$M$16:$N$20,2,0)","v":"#N/A"},{"$f":"+VLOOKUP('BASE DE RESPUESTAS'!W68,Back!$M$16:$N$20,2,0)","v":"#N/A"},{"$f":"+VLOOKUP('BASE DE RESPUESTAS'!X68,Back!$M$16:$N$20,2,0)","v":"#N/A"},{"$f":"+VLOOKUP('BASE DE RESPUESTAS'!Y68,Back!$M$16:$N$20,2,0)","v":"#N/A"},{"$f":"+VLOOKUP('BASE DE RESPUESTAS'!Z68,Back!$M$16:$N$20,2,0)","v":"#N/A"},{"$f":"+VLOOKUP('BASE DE RESPUESTAS'!AA68,Back!$M$16:$N$20,2,0)","v":"#N/A"},{"$f":"+VLOOKUP('BASE DE RESPUESTAS'!AB68,Back!$M$16:$N$20,2,0)","v":"#N/A"},{"$f":"+VLOOKUP('BASE DE RESPUESTAS'!AC68,Back!$M$16:$N$20,2,0)","v":"#N/A"},{"$f":"+VLOOKUP('BASE DE RESPUESTAS'!AD68,Back!$M$16:$N$20,2,0)","v":"#N/A"},{"$f":"+VLOOKUP('BASE DE RESPUESTAS'!AE68,Back!$M$16:$N$20,2,0)","v":"#N/A"},{"$f":"+VLOOKUP('BASE DE RESPUESTAS'!AF68,Back!$M$16:$N$20,2,0)","v":"#N/A"},{"$f":"+VLOOKUP('BASE DE RESPUESTAS'!AG68,Back!$M$16:$N$20,2,0)","v":"#N/A"},{"$f":"+VLOOKUP('BASE DE RESPUESTAS'!AH68,Back!$M$16:$N$20,2,0)","v":"#N/A"},{"$f":"+VLOOKUP('BASE DE RESPUESTAS'!AI68,Back!$M$16:$N$20,2,0)","v":"#N/A"},{"$f":"+VLOOKUP('BASE DE RESPUESTAS'!AJ68,Back!$M$16:$N$20,2,0)","v":"#N/A"},{"$f":"+VLOOKUP('BASE DE RESPUESTAS'!AK68,Back!$M$16:$N$20,2,0)","v":"#N/A"},{"$f":"+VLOOKUP('BASE DE RESPUESTAS'!AL68,Back!$M$16:$N$20,2,0)","v":"#N/A"},{"$f":"+VLOOKUP('BASE DE RESPUESTAS'!AM68,Back!$M$16:$N$20,2,0)","v":"#N/A"},{"$f":"+VLOOKUP('BASE DE RESPUESTAS'!AN68,Back!$M$16:$N$20,2,0)","v":"#N/A"},{"$f":"+VLOOKUP('BASE DE RESPUESTAS'!AO68,Back!$M$16:$N$20,2,0)","v":"#N/A"},{"$f":"+VLOOKUP('BASE DE RESPUESTAS'!AP68,Back!$M$16:$N$20,2,0)","v":"#N/A"},{"$f":"+VLOOKUP('BASE DE RESPUESTAS'!AQ68,Back!$M$16:$N$20,2,0)","v":"#N/A"},{"$f":"+VLOOKUP('BASE DE RESPUESTAS'!AR68,Back!$M$16:$N$20,2,0)","v":"#N/A"},{"$f":"+VLOOKUP('BASE DE RESPUESTAS'!AS68,Back!$M$16:$N$20,2,0)","v":"#N/A"},{"$f":"+VLOOKUP('BASE DE RESPUESTAS'!AT68,Back!$M$16:$N$20,2,0)","v":"#N/A"},{"$f":"+VLOOKUP('BASE DE RESPUESTAS'!AU68,Back!$M$16:$N$20,2,0)","v":"#N/A"},{"$f":"+VLOOKUP('BASE DE RESPUESTAS'!AV68,Back!$M$16:$N$20,2,0)","v":"#N/A"},{"$f":"+VLOOKUP('BASE DE RESPUESTAS'!AW68,Back!$M$16:$N$20,2,0)","v":"#N/A"},{"$f":"+VLOOKUP('BASE DE RESPUESTAS'!AX68,Back!$M$16:$N$20,2,0)","v":"#N/A"},{"$f":"+VLOOKUP('BASE DE RESPUESTAS'!AY68,Back!$M$16:$N$20,2,0)","v":"#N/A"},{"$f":"+VLOOKUP('BASE DE RESPUESTAS'!AZ68,Back!$M$16:$N$20,2,0)","v":"#N/A"},{"$f":"+VLOOKUP('BASE DE RESPUESTAS'!BA68,Back!$M$16:$N$20,2,0)","v":"#N/A"},{"$f":"+VLOOKUP('BASE DE RESPUESTAS'!BB68,Back!$M$16:$N$20,2,0)","v":"#N/A"},{"$f":"+VLOOKUP('BASE DE RESPUESTAS'!BC68,Back!$M$16:$N$20,2,0)","v":"#N/A"},{"$f":"+VLOOKUP('BASE DE RESPUESTAS'!BD68,Back!$M$16:$N$20,2,0)","v":"#N/A"},{"$f":"+VLOOKUP('BASE DE RESPUESTAS'!BE68,Back!$M$16:$N$20,2,0)","v":"#N/A"}]
[null,null,null,"La o el estudiante muestra efectos de negligencia.",47.0,"Asiste a clases desaseado o con indicios de falta de higiene reiteradamente.",null,{"$f":"+VLOOKUP('BASE DE RESPUESTAS'!H69,Back!$M$16:$N$20,2,0)","v":"#N/A"},{"$f":"+VLOOKUP('BASE DE RESPUESTAS'!I69,Back!$M$16:$N$20,2,0)","v":"#N/A"},{"$f":"+VLOOKUP('BASE DE RESPUESTAS'!J69,Back!$M$16:$N$20,2,0)","v":"#N/A"},{"$f":"+VLOOKUP('BASE DE RESPUESTAS'!K69,Back!$M$16:$N$20,2,0)","v":"#N/A"},{"$f":"+VLOOKUP('BASE DE RESPUESTAS'!L69,Back!$M$16:$N$20,2,0)","v":"#N/A"},{"$f":"+VLOOKUP('BASE DE RESPUESTAS'!M69,Back!$M$16:$N$20,2,0)","v":"#N/A"},{"$f":"+VLOOKUP('BASE DE RESPUESTAS'!N69,Back!$M$16:$N$20,2,0)","v":"#N/A"},{"$f":"+VLOOKUP('BASE DE RESPUESTAS'!O69,Back!$M$16:$N$20,2,0)","v":"#N/A"},{"$f":"+VLOOKUP('BASE DE RESPUESTAS'!P69,Back!$M$16:$N$20,2,0)","v":"#N/A"},{"$f":"+VLOOKUP('BASE DE RESPUESTAS'!Q69,Back!$M$16:$N$20,2,0)","v":"#N/A"},{"$f":"+VLOOKUP('BASE DE RESPUESTAS'!R69,Back!$M$16:$N$20,2,0)","v":"#N/A"},{"$f":"+VLOOKUP('BASE DE RESPUESTAS'!S69,Back!$M$16:$N$20,2,0)","v":"#N/A"},{"$f":"+VLOOKUP('BASE DE RESPUESTAS'!T69,Back!$M$16:$N$20,2,0)","v":"#N/A"},{"$f":"+VLOOKUP('BASE DE RESPUESTAS'!U69,Back!$M$16:$N$20,2,0)","v":"#N/A"},{"$f":"+VLOOKUP('BASE DE RESPUESTAS'!V69,Back!$M$16:$N$20,2,0)","v":"#N/A"},{"$f":"+VLOOKUP('BASE DE RESPUESTAS'!W69,Back!$M$16:$N$20,2,0)","v":"#N/A"},{"$f":"+VLOOKUP('BASE DE RESPUESTAS'!X69,Back!$M$16:$N$20,2,0)","v":"#N/A"},{"$f":"+VLOOKUP('BASE DE RESPUESTAS'!Y69,Back!$M$16:$N$20,2,0)","v":"#N/A"},{"$f":"+VLOOKUP('BASE DE RESPUESTAS'!Z69,Back!$M$16:$N$20,2,0)","v":"#N/A"},{"$f":"+VLOOKUP('BASE DE RESPUESTAS'!AA69,Back!$M$16:$N$20,2,0)","v":"#N/A"},{"$f":"+VLOOKUP('BASE DE RESPUESTAS'!AB69,Back!$M$16:$N$20,2,0)","v":"#N/A"},{"$f":"+VLOOKUP('BASE DE RESPUESTAS'!AC69,Back!$M$16:$N$20,2,0)","v":"#N/A"},{"$f":"+VLOOKUP('BASE DE RESPUESTAS'!AD69,Back!$M$16:$N$20,2,0)","v":"#N/A"},{"$f":"+VLOOKUP('BASE DE RESPUESTAS'!AE69,Back!$M$16:$N$20,2,0)","v":"#N/A"},{"$f":"+VLOOKUP('BASE DE RESPUESTAS'!AF69,Back!$M$16:$N$20,2,0)","v":"#N/A"},{"$f":"+VLOOKUP('BASE DE RESPUESTAS'!AG69,Back!$M$16:$N$20,2,0)","v":"#N/A"},{"$f":"+VLOOKUP('BASE DE RESPUESTAS'!AH69,Back!$M$16:$N$20,2,0)","v":"#N/A"},{"$f":"+VLOOKUP('BASE DE RESPUESTAS'!AI69,Back!$M$16:$N$20,2,0)","v":"#N/A"},{"$f":"+VLOOKUP('BASE DE RESPUESTAS'!AJ69,Back!$M$16:$N$20,2,0)","v":"#N/A"},{"$f":"+VLOOKUP('BASE DE RESPUESTAS'!AK69,Back!$M$16:$N$20,2,0)","v":"#N/A"},{"$f":"+VLOOKUP('BASE DE RESPUESTAS'!AL69,Back!$M$16:$N$20,2,0)","v":"#N/A"},{"$f":"+VLOOKUP('BASE DE RESPUESTAS'!AM69,Back!$M$16:$N$20,2,0)","v":"#N/A"},{"$f":"+VLOOKUP('BASE DE RESPUESTAS'!AN69,Back!$M$16:$N$20,2,0)","v":"#N/A"},{"$f":"+VLOOKUP('BASE DE RESPUESTAS'!AO69,Back!$M$16:$N$20,2,0)","v":"#N/A"},{"$f":"+VLOOKUP('BASE DE RESPUESTAS'!AP69,Back!$M$16:$N$20,2,0)","v":"#N/A"},{"$f":"+VLOOKUP('BASE DE RESPUESTAS'!AQ69,Back!$M$16:$N$20,2,0)","v":"#N/A"},{"$f":"+VLOOKUP('BASE DE RESPUESTAS'!AR69,Back!$M$16:$N$20,2,0)","v":"#N/A"},{"$f":"+VLOOKUP('BASE DE RESPUESTAS'!AS69,Back!$M$16:$N$20,2,0)","v":"#N/A"},{"$f":"+VLOOKUP('BASE DE RESPUESTAS'!AT69,Back!$M$16:$N$20,2,0)","v":"#N/A"},{"$f":"+VLOOKUP('BASE DE RESPUESTAS'!AU69,Back!$M$16:$N$20,2,0)","v":"#N/A"},{"$f":"+VLOOKUP('BASE DE RESPUESTAS'!AV69,Back!$M$16:$N$20,2,0)","v":"#N/A"},{"$f":"+VLOOKUP('BASE DE RESPUESTAS'!AW69,Back!$M$16:$N$20,2,0)","v":"#N/A"},{"$f":"+VLOOKUP('BASE DE RESPUESTAS'!AX69,Back!$M$16:$N$20,2,0)","v":"#N/A"},{"$f":"+VLOOKUP('BASE DE RESPUESTAS'!AY69,Back!$M$16:$N$20,2,0)","v":"#N/A"},{"$f":"+VLOOKUP('BASE DE RESPUESTAS'!AZ69,Back!$M$16:$N$20,2,0)","v":"#N/A"},{"$f":"+VLOOKUP('BASE DE RESPUESTAS'!BA69,Back!$M$16:$N$20,2,0)","v":"#N/A"},{"$f":"+VLOOKUP('BASE DE RESPUESTAS'!BB69,Back!$M$16:$N$20,2,0)","v":"#N/A"},{"$f":"+VLOOKUP('BASE DE RESPUESTAS'!BC69,Back!$M$16:$N$20,2,0)","v":"#N/A"},{"$f":"+VLOOKUP('BASE DE RESPUESTAS'!BD69,Back!$M$16:$N$20,2,0)","v":"#N/A"},{"$f":"+VLOOKUP('BASE DE RESPUESTAS'!BE69,Back!$M$16:$N$20,2,0)","v":"#N/A"}]
[null,null,null,null,48.0,"La familia no muestra interés por el proceso educativo del niño o niña (Ejemplo: no se comunica por ninguna vía con el docente, no justifica las faltas, no acuden a las citaciones y no lo justifica.",null,{"$f":"+VLOOKUP('BASE DE RESPUESTAS'!H70,Back!$M$16:$N$20,2,0)","v":"#N/A"},{"$f":"+VLOOKUP('BASE DE RESPUESTAS'!I70,Back!$M$16:$N$20,2,0)","v":"#N/A"},{"$f":"+VLOOKUP('BASE DE RESPUESTAS'!J70,Back!$M$16:$N$20,2,0)","v":"#N/A"},{"$f":"+VLOOKUP('BASE DE RESPUESTAS'!K70,Back!$M$16:$N$20,2,0)","v":"#N/A"},{"$f":"+VLOOKUP('BASE DE RESPUESTAS'!L70,Back!$M$16:$N$20,2,0)","v":"#N/A"},{"$f":"+VLOOKUP('BASE DE RESPUESTAS'!M70,Back!$M$16:$N$20,2,0)","v":"#N/A"},{"$f":"+VLOOKUP('BASE DE RESPUESTAS'!N70,Back!$M$16:$N$20,2,0)","v":"#N/A"},{"$f":"+VLOOKUP('BASE DE RESPUESTAS'!O70,Back!$M$16:$N$20,2,0)","v":"#N/A"},{"$f":"+VLOOKUP('BASE DE RESPUESTAS'!P70,Back!$M$16:$N$20,2,0)","v":"#N/A"},{"$f":"+VLOOKUP('BASE DE RESPUESTAS'!Q70,Back!$M$16:$N$20,2,0)","v":"#N/A"},{"$f":"+VLOOKUP('BASE DE RESPUESTAS'!R70,Back!$M$16:$N$20,2,0)","v":"#N/A"},{"$f":"+VLOOKUP('BASE DE RESPUESTAS'!S70,Back!$M$16:$N$20,2,0)","v":"#N/A"},{"$f":"+VLOOKUP('BASE DE RESPUESTAS'!T70,Back!$M$16:$N$20,2,0)","v":"#N/A"},{"$f":"+VLOOKUP('BASE DE RESPUESTAS'!U70,Back!$M$16:$N$20,2,0)","v":"#N/A"},{"$f":"+VLOOKUP('BASE DE RESPUESTAS'!V70,Back!$M$16:$N$20,2,0)","v":"#N/A"},{"$f":"+VLOOKUP('BASE DE RESPUESTAS'!W70,Back!$M$16:$N$20,2,0)","v":"#N/A"},{"$f":"+VLOOKUP('BASE DE RESPUESTAS'!X70,Back!$M$16:$N$20,2,0)","v":"#N/A"},{"$f":"+VLOOKUP('BASE DE RESPUESTAS'!Y70,Back!$M$16:$N$20,2,0)","v":"#N/A"},{"$f":"+VLOOKUP('BASE DE RESPUESTAS'!Z70,Back!$M$16:$N$20,2,0)","v":"#N/A"},{"$f":"+VLOOKUP('BASE DE RESPUESTAS'!AA70,Back!$M$16:$N$20,2,0)","v":"#N/A"},{"$f":"+VLOOKUP('BASE DE RESPUESTAS'!AB70,Back!$M$16:$N$20,2,0)","v":"#N/A"},{"$f":"+VLOOKUP('BASE DE RESPUESTAS'!AC70,Back!$M$16:$N$20,2,0)","v":"#N/A"},{"$f":"+VLOOKUP('BASE DE RESPUESTAS'!AD70,Back!$M$16:$N$20,2,0)","v":"#N/A"},{"$f":"+VLOOKUP('BASE DE RESPUESTAS'!AE70,Back!$M$16:$N$20,2,0)","v":"#N/A"},{"$f":"+VLOOKUP('BASE DE RESPUESTAS'!AF70,Back!$M$16:$N$20,2,0)","v":"#N/A"},{"$f":"+VLOOKUP('BASE DE RESPUESTAS'!AG70,Back!$M$16:$N$20,2,0)","v":"#N/A"},{"$f":"+VLOOKUP('BASE DE RESPUESTAS'!AH70,Back!$M$16:$N$20,2,0)","v":"#N/A"},{"$f":"+VLOOKUP('BASE DE RESPUESTAS'!AI70,Back!$M$16:$N$20,2,0)","v":"#N/A"},{"$f":"+VLOOKUP('BASE DE RESPUESTAS'!AJ70,Back!$M$16:$N$20,2,0)","v":"#N/A"},{"$f":"+VLOOKUP('BASE DE RESPUESTAS'!AK70,Back!$M$16:$N$20,2,0)","v":"#N/A"},{"$f":"+VLOOKUP('BASE DE RESPUESTAS'!AL70,Back!$M$16:$N$20,2,0)","v":"#N/A"},{"$f":"+VLOOKUP('BASE DE RESPUESTAS'!AM70,Back!$M$16:$N$20,2,0)","v":"#N/A"},{"$f":"+VLOOKUP('BASE DE RESPUESTAS'!AN70,Back!$M$16:$N$20,2,0)","v":"#N/A"},{"$f":"+VLOOKUP('BASE DE RESPUESTAS'!AO70,Back!$M$16:$N$20,2,0)","v":"#N/A"},{"$f":"+VLOOKUP('BASE DE RESPUESTAS'!AP70,Back!$M$16:$N$20,2,0)","v":"#N/A"},{"$f":"+VLOOKUP('BASE DE RESPUESTAS'!AQ70,Back!$M$16:$N$20,2,0)","v":"#N/A"},{"$f":"+VLOOKUP('BASE DE RESPUESTAS'!AR70,Back!$M$16:$N$20,2,0)","v":"#N/A"},{"$f":"+VLOOKUP('BASE DE RESPUESTAS'!AS70,Back!$M$16:$N$20,2,0)","v":"#N/A"},{"$f":"+VLOOKUP('BASE DE RESPUESTAS'!AT70,Back!$M$16:$N$20,2,0)","v":"#N/A"},{"$f":"+VLOOKUP('BASE DE RESPUESTAS'!AU70,Back!$M$16:$N$20,2,0)","v":"#N/A"},{"$f":"+VLOOKUP('BASE DE RESPUESTAS'!AV70,Back!$M$16:$N$20,2,0)","v":"#N/A"},{"$f":"+VLOOKUP('BASE DE RESPUESTAS'!AW70,Back!$M$16:$N$20,2,0)","v":"#N/A"},{"$f":"+VLOOKUP('BASE DE RESPUESTAS'!AX70,Back!$M$16:$N$20,2,0)","v":"#N/A"},{"$f":"+VLOOKUP('BASE DE RESPUESTAS'!AY70,Back!$M$16:$N$20,2,0)","v":"#N/A"},{"$f":"+VLOOKUP('BASE DE RESPUESTAS'!AZ70,Back!$M$16:$N$20,2,0)","v":"#N/A"},{"$f":"+VLOOKUP('BASE DE RESPUESTAS'!BA70,Back!$M$16:$N$20,2,0)","v":"#N/A"},{"$f":"+VLOOKUP('BASE DE RESPUESTAS'!BB70,Back!$M$16:$N$20,2,0)","v":"#N/A"},{"$f":"+VLOOKUP('BASE DE RESPUESTAS'!BC70,Back!$M$16:$N$20,2,0)","v":"#N/A"},{"$f":"+VLOOKUP('BASE DE RESPUESTAS'!BD70,Back!$M$16:$N$20,2,0)","v":"#N/A"},{"$f":"+VLOOKUP('BASE DE RESPUESTAS'!BE70,Back!$M$16:$N$20,2,0)","v":"#N/A"}]
[null,"FR","Violencia escolar","La o el estudiante hace distinciones discriminatorias entre varones y mujeres.",49.0,"Excluye a compañeras/os de alguna actividad, argumentando que no pueden participan porque son mujeres o porque son hombres.   ",null,{"$f":"+VLOOKUP('BASE DE RESPUESTAS'!H71,Back!$M$16:$N$20,2,0)","v":"#N/A"},{"$f":"+VLOOKUP('BASE DE RESPUESTAS'!I71,Back!$M$16:$N$20,2,0)","v":"#N/A"},{"$f":"+VLOOKUP('BASE DE RESPUESTAS'!J71,Back!$M$16:$N$20,2,0)","v":"#N/A"},{"$f":"+VLOOKUP('BASE DE RESPUESTAS'!K71,Back!$M$16:$N$20,2,0)","v":"#N/A"},{"$f":"+VLOOKUP('BASE DE RESPUESTAS'!L71,Back!$M$16:$N$20,2,0)","v":"#N/A"},{"$f":"+VLOOKUP('BASE DE RESPUESTAS'!M71,Back!$M$16:$N$20,2,0)","v":"#N/A"},{"$f":"+VLOOKUP('BASE DE RESPUESTAS'!N71,Back!$M$16:$N$20,2,0)","v":"#N/A"},{"$f":"+VLOOKUP('BASE DE RESPUESTAS'!O71,Back!$M$16:$N$20,2,0)","v":"#N/A"},{"$f":"+VLOOKUP('BASE DE RESPUESTAS'!P71,Back!$M$16:$N$20,2,0)","v":"#N/A"},{"$f":"+VLOOKUP('BASE DE RESPUESTAS'!Q71,Back!$M$16:$N$20,2,0)","v":"#N/A"},{"$f":"+VLOOKUP('BASE DE RESPUESTAS'!R71,Back!$M$16:$N$20,2,0)","v":"#N/A"},{"$f":"+VLOOKUP('BASE DE RESPUESTAS'!S71,Back!$M$16:$N$20,2,0)","v":"#N/A"},{"$f":"+VLOOKUP('BASE DE RESPUESTAS'!T71,Back!$M$16:$N$20,2,0)","v":"#N/A"},{"$f":"+VLOOKUP('BASE DE RESPUESTAS'!U71,Back!$M$16:$N$20,2,0)","v":"#N/A"},{"$f":"+VLOOKUP('BASE DE RESPUESTAS'!V71,Back!$M$16:$N$20,2,0)","v":"#N/A"},{"$f":"+VLOOKUP('BASE DE RESPUESTAS'!W71,Back!$M$16:$N$20,2,0)","v":"#N/A"},{"$f":"+VLOOKUP('BASE DE RESPUESTAS'!X71,Back!$M$16:$N$20,2,0)","v":"#N/A"},{"$f":"+VLOOKUP('BASE DE RESPUESTAS'!Y71,Back!$M$16:$N$20,2,0)","v":"#N/A"},{"$f":"+VLOOKUP('BASE DE RESPUESTAS'!Z71,Back!$M$16:$N$20,2,0)","v":"#N/A"},{"$f":"+VLOOKUP('BASE DE RESPUESTAS'!AA71,Back!$M$16:$N$20,2,0)","v":"#N/A"},{"$f":"+VLOOKUP('BASE DE RESPUESTAS'!AB71,Back!$M$16:$N$20,2,0)","v":"#N/A"},{"$f":"+VLOOKUP('BASE DE RESPUESTAS'!AC71,Back!$M$16:$N$20,2,0)","v":"#N/A"},{"$f":"+VLOOKUP('BASE DE RESPUESTAS'!AD71,Back!$M$16:$N$20,2,0)","v":"#N/A"},{"$f":"+VLOOKUP('BASE DE RESPUESTAS'!AE71,Back!$M$16:$N$20,2,0)","v":"#N/A"},{"$f":"+VLOOKUP('BASE DE RESPUESTAS'!AF71,Back!$M$16:$N$20,2,0)","v":"#N/A"},{"$f":"+VLOOKUP('BASE DE RESPUESTAS'!AG71,Back!$M$16:$N$20,2,0)","v":"#N/A"},{"$f":"+VLOOKUP('BASE DE RESPUESTAS'!AH71,Back!$M$16:$N$20,2,0)","v":"#N/A"},{"$f":"+VLOOKUP('BASE DE RESPUESTAS'!AI71,Back!$M$16:$N$20,2,0)","v":"#N/A"},{"$f":"+VLOOKUP('BASE DE RESPUESTAS'!AJ71,Back!$M$16:$N$20,2,0)","v":"#N/A"},{"$f":"+VLOOKUP('BASE DE RESPUESTAS'!AK71,Back!$M$16:$N$20,2,0)","v":"#N/A"},{"$f":"+VLOOKUP('BASE DE RESPUESTAS'!AL71,Back!$M$16:$N$20,2,0)","v":"#N/A"},{"$f":"+VLOOKUP('BASE DE RESPUESTAS'!AM71,Back!$M$16:$N$20,2,0)","v":"#N/A"},{"$f":"+VLOOKUP('BASE DE RESPUESTAS'!AN71,Back!$M$16:$N$20,2,0)","v":"#N/A"},{"$f":"+VLOOKUP('BASE DE RESPUESTAS'!AO71,Back!$M$16:$N$20,2,0)","v":"#N/A"},{"$f":"+VLOOKUP('BASE DE RESPUESTAS'!AP71,Back!$M$16:$N$20,2,0)","v":"#N/A"},{"$f":"+VLOOKUP('BASE DE RESPUESTAS'!AQ71,Back!$M$16:$N$20,2,0)","v":"#N/A"},{"$f":"+VLOOKUP('BASE DE RESPUESTAS'!AR71,Back!$M$16:$N$20,2,0)","v":"#N/A"},{"$f":"+VLOOKUP('BASE DE RESPUESTAS'!AS71,Back!$M$16:$N$20,2,0)","v":"#N/A"},{"$f":"+VLOOKUP('BASE DE RESPUESTAS'!AT71,Back!$M$16:$N$20,2,0)","v":"#N/A"},{"$f":"+VLOOKUP('BASE DE RESPUESTAS'!AU71,Back!$M$16:$N$20,2,0)","v":"#N/A"},{"$f":"+VLOOKUP('BASE DE RESPUESTAS'!AV71,Back!$M$16:$N$20,2,0)","v":"#N/A"},{"$f":"+VLOOKUP('BASE DE RESPUESTAS'!AW71,Back!$M$16:$N$20,2,0)","v":"#N/A"},{"$f":"+VLOOKUP('BASE DE RESPUESTAS'!AX71,Back!$M$16:$N$20,2,0)","v":"#N/A"},{"$f":"+VLOOKUP('BASE DE RESPUESTAS'!AY71,Back!$M$16:$N$20,2,0)","v":"#N/A"},{"$f":"+VLOOKUP('BASE DE RESPUESTAS'!AZ71,Back!$M$16:$N$20,2,0)","v":"#N/A"},{"$f":"+VLOOKUP('BASE DE RESPUESTAS'!BA71,Back!$M$16:$N$20,2,0)","v":"#N/A"},{"$f":"+VLOOKUP('BASE DE RESPUESTAS'!BB71,Back!$M$16:$N$20,2,0)","v":"#N/A"},{"$f":"+VLOOKUP('BASE DE RESPUESTAS'!BC71,Back!$M$16:$N$20,2,0)","v":"#N/A"},{"$f":"+VLOOKUP('BASE DE RESPUESTAS'!BD71,Back!$M$16:$N$20,2,0)","v":"#N/A"},{"$f":"+VLOOKUP('BASE DE RESPUESTAS'!BE71,Back!$M$16:$N$20,2,0)","v":"#N/A"}]
[null,null,null,"La o el estudiante recibe gritos, amenazas o golpes por parte de sus compañeros/as.",50.0,"Recibe maltrato físico y/o verbal o es excluido por parte de sus compañeras/os",null,{"$f":"+VLOOKUP('BASE DE RESPUESTAS'!H72,Back!$M$16:$N$20,2,0)","v":"#N/A"},{"$f":"+VLOOKUP('BASE DE RESPUESTAS'!I72,Back!$M$16:$N$20,2,0)","v":"#N/A"},{"$f":"+VLOOKUP('BASE DE RESPUESTAS'!J72,Back!$M$16:$N$20,2,0)","v":"#N/A"},{"$f":"+VLOOKUP('BASE DE RESPUESTAS'!K72,Back!$M$16:$N$20,2,0)","v":"#N/A"},{"$f":"+VLOOKUP('BASE DE RESPUESTAS'!L72,Back!$M$16:$N$20,2,0)","v":"#N/A"},{"$f":"+VLOOKUP('BASE DE RESPUESTAS'!M72,Back!$M$16:$N$20,2,0)","v":"#N/A"},{"$f":"+VLOOKUP('BASE DE RESPUESTAS'!N72,Back!$M$16:$N$20,2,0)","v":"#N/A"},{"$f":"+VLOOKUP('BASE DE RESPUESTAS'!O72,Back!$M$16:$N$20,2,0)","v":"#N/A"},{"$f":"+VLOOKUP('BASE DE RESPUESTAS'!P72,Back!$M$16:$N$20,2,0)","v":"#N/A"},{"$f":"+VLOOKUP('BASE DE RESPUESTAS'!Q72,Back!$M$16:$N$20,2,0)","v":"#N/A"},{"$f":"+VLOOKUP('BASE DE RESPUESTAS'!R72,Back!$M$16:$N$20,2,0)","v":"#N/A"},{"$f":"+VLOOKUP('BASE DE RESPUESTAS'!S72,Back!$M$16:$N$20,2,0)","v":"#N/A"},{"$f":"+VLOOKUP('BASE DE RESPUESTAS'!T72,Back!$M$16:$N$20,2,0)","v":"#N/A"},{"$f":"+VLOOKUP('BASE DE RESPUESTAS'!U72,Back!$M$16:$N$20,2,0)","v":"#N/A"},{"$f":"+VLOOKUP('BASE DE RESPUESTAS'!V72,Back!$M$16:$N$20,2,0)","v":"#N/A"},{"$f":"+VLOOKUP('BASE DE RESPUESTAS'!W72,Back!$M$16:$N$20,2,0)","v":"#N/A"},{"$f":"+VLOOKUP('BASE DE RESPUESTAS'!X72,Back!$M$16:$N$20,2,0)","v":"#N/A"},{"$f":"+VLOOKUP('BASE DE RESPUESTAS'!Y72,Back!$M$16:$N$20,2,0)","v":"#N/A"},{"$f":"+VLOOKUP('BASE DE RESPUESTAS'!Z72,Back!$M$16:$N$20,2,0)","v":"#N/A"},{"$f":"+VLOOKUP('BASE DE RESPUESTAS'!AA72,Back!$M$16:$N$20,2,0)","v":"#N/A"},{"$f":"+VLOOKUP('BASE DE RESPUESTAS'!AB72,Back!$M$16:$N$20,2,0)","v":"#N/A"},{"$f":"+VLOOKUP('BASE DE RESPUESTAS'!AC72,Back!$M$16:$N$20,2,0)","v":"#N/A"},{"$f":"+VLOOKUP('BASE DE RESPUESTAS'!AD72,Back!$M$16:$N$20,2,0)","v":"#N/A"},{"$f":"+VLOOKUP('BASE DE RESPUESTAS'!AE72,Back!$M$16:$N$20,2,0)","v":"#N/A"},{"$f":"+VLOOKUP('BASE DE RESPUESTAS'!AF72,Back!$M$16:$N$20,2,0)","v":"#N/A"},{"$f":"+VLOOKUP('BASE DE RESPUESTAS'!AG72,Back!$M$16:$N$20,2,0)","v":"#N/A"},{"$f":"+VLOOKUP('BASE DE RESPUESTAS'!AH72,Back!$M$16:$N$20,2,0)","v":"#N/A"},{"$f":"+VLOOKUP('BASE DE RESPUESTAS'!AI72,Back!$M$16:$N$20,2,0)","v":"#N/A"},{"$f":"+VLOOKUP('BASE DE RESPUESTAS'!AJ72,Back!$M$16:$N$20,2,0)","v":"#N/A"},{"$f":"+VLOOKUP('BASE DE RESPUESTAS'!AK72,Back!$M$16:$N$20,2,0)","v":"#N/A"},{"$f":"+VLOOKUP('BASE DE RESPUESTAS'!AL72,Back!$M$16:$N$20,2,0)","v":"#N/A"},{"$f":"+VLOOKUP('BASE DE RESPUESTAS'!AM72,Back!$M$16:$N$20,2,0)","v":"#N/A"},{"$f":"+VLOOKUP('BASE DE RESPUESTAS'!AN72,Back!$M$16:$N$20,2,0)","v":"#N/A"},{"$f":"+VLOOKUP('BASE DE RESPUESTAS'!AO72,Back!$M$16:$N$20,2,0)","v":"#N/A"},{"$f":"+VLOOKUP('BASE DE RESPUESTAS'!AP72,Back!$M$16:$N$20,2,0)","v":"#N/A"},{"$f":"+VLOOKUP('BASE DE RESPUESTAS'!AQ72,Back!$M$16:$N$20,2,0)","v":"#N/A"},{"$f":"+VLOOKUP('BASE DE RESPUESTAS'!AR72,Back!$M$16:$N$20,2,0)","v":"#N/A"},{"$f":"+VLOOKUP('BASE DE RESPUESTAS'!AS72,Back!$M$16:$N$20,2,0)","v":"#N/A"},{"$f":"+VLOOKUP('BASE DE RESPUESTAS'!AT72,Back!$M$16:$N$20,2,0)","v":"#N/A"},{"$f":"+VLOOKUP('BASE DE RESPUESTAS'!AU72,Back!$M$16:$N$20,2,0)","v":"#N/A"},{"$f":"+VLOOKUP('BASE DE RESPUESTAS'!AV72,Back!$M$16:$N$20,2,0)","v":"#N/A"},{"$f":"+VLOOKUP('BASE DE RESPUESTAS'!AW72,Back!$M$16:$N$20,2,0)","v":"#N/A"},{"$f":"+VLOOKUP('BASE DE RESPUESTAS'!AX72,Back!$M$16:$N$20,2,0)","v":"#N/A"},{"$f":"+VLOOKUP('BASE DE RESPUESTAS'!AY72,Back!$M$16:$N$20,2,0)","v":"#N/A"},{"$f":"+VLOOKUP('BASE DE RESPUESTAS'!AZ72,Back!$M$16:$N$20,2,0)","v":"#N/A"},{"$f":"+VLOOKUP('BASE DE RESPUESTAS'!BA72,Back!$M$16:$N$20,2,0)","v":"#N/A"},{"$f":"+VLOOKUP('BASE DE RESPUESTAS'!BB72,Back!$M$16:$N$20,2,0)","v":"#N/A"},{"$f":"+VLOOKUP('BASE DE RESPUESTAS'!BC72,Back!$M$16:$N$20,2,0)","v":"#N/A"},{"$f":"+VLOOKUP('BASE DE RESPUESTAS'!BD72,Back!$M$16:$N$20,2,0)","v":"#N/A"},{"$f":"+VLOOKUP('BASE DE RESPUESTAS'!BE72,Back!$M$16:$N$20,2,0)","v":"#N/A"}]
[null,null,null,"La o el estudiante se relaciona de manera agresiva física y/o verbal con sus compañeras/os.",51.0,"Grita, amenaza o golpea a sus compañeras/os para imponerse.",null,{"$f":"+VLOOKUP('BASE DE RESPUESTAS'!H73,Back!$M$16:$N$20,2,0)","v":"#N/A"},{"$f":"+VLOOKUP('BASE DE RESPUESTAS'!I73,Back!$M$16:$N$20,2,0)","v":"#N/A"},{"$f":"+VLOOKUP('BASE DE RESPUESTAS'!J73,Back!$M$16:$N$20,2,0)","v":"#N/A"},{"$f":"+VLOOKUP('BASE DE RESPUESTAS'!K73,Back!$M$16:$N$20,2,0)","v":"#N/A"},{"$f":"+VLOOKUP('BASE DE RESPUESTAS'!L73,Back!$M$16:$N$20,2,0)","v":"#N/A"},{"$f":"+VLOOKUP('BASE DE RESPUESTAS'!M73,Back!$M$16:$N$20,2,0)","v":"#N/A"},{"$f":"+VLOOKUP('BASE DE RESPUESTAS'!N73,Back!$M$16:$N$20,2,0)","v":"#N/A"},{"$f":"+VLOOKUP('BASE DE RESPUESTAS'!O73,Back!$M$16:$N$20,2,0)","v":"#N/A"},{"$f":"+VLOOKUP('BASE DE RESPUESTAS'!P73,Back!$M$16:$N$20,2,0)","v":"#N/A"},{"$f":"+VLOOKUP('BASE DE RESPUESTAS'!Q73,Back!$M$16:$N$20,2,0)","v":"#N/A"},{"$f":"+VLOOKUP('BASE DE RESPUESTAS'!R73,Back!$M$16:$N$20,2,0)","v":"#N/A"},{"$f":"+VLOOKUP('BASE DE RESPUESTAS'!S73,Back!$M$16:$N$20,2,0)","v":"#N/A"},{"$f":"+VLOOKUP('BASE DE RESPUESTAS'!T73,Back!$M$16:$N$20,2,0)","v":"#N/A"},{"$f":"+VLOOKUP('BASE DE RESPUESTAS'!U73,Back!$M$16:$N$20,2,0)","v":"#N/A"},{"$f":"+VLOOKUP('BASE DE RESPUESTAS'!V73,Back!$M$16:$N$20,2,0)","v":"#N/A"},{"$f":"+VLOOKUP('BASE DE RESPUESTAS'!W73,Back!$M$16:$N$20,2,0)","v":"#N/A"},{"$f":"+VLOOKUP('BASE DE RESPUESTAS'!X73,Back!$M$16:$N$20,2,0)","v":"#N/A"},{"$f":"+VLOOKUP('BASE DE RESPUESTAS'!Y73,Back!$M$16:$N$20,2,0)","v":"#N/A"},{"$f":"+VLOOKUP('BASE DE RESPUESTAS'!Z73,Back!$M$16:$N$20,2,0)","v":"#N/A"},{"$f":"+VLOOKUP('BASE DE RESPUESTAS'!AA73,Back!$M$16:$N$20,2,0)","v":"#N/A"},{"$f":"+VLOOKUP('BASE DE RESPUESTAS'!AB73,Back!$M$16:$N$20,2,0)","v":"#N/A"},{"$f":"+VLOOKUP('BASE DE RESPUESTAS'!AC73,Back!$M$16:$N$20,2,0)","v":"#N/A"},{"$f":"+VLOOKUP('BASE DE RESPUESTAS'!AD73,Back!$M$16:$N$20,2,0)","v":"#N/A"},{"$f":"+VLOOKUP('BASE DE RESPUESTAS'!AE73,Back!$M$16:$N$20,2,0)","v":"#N/A"},{"$f":"+VLOOKUP('BASE DE RESPUESTAS'!AF73,Back!$M$16:$N$20,2,0)","v":"#N/A"},{"$f":"+VLOOKUP('BASE DE RESPUESTAS'!AG73,Back!$M$16:$N$20,2,0)","v":"#N/A"},{"$f":"+VLOOKUP('BASE DE RESPUESTAS'!AH73,Back!$M$16:$N$20,2,0)","v":"#N/A"},{"$f":"+VLOOKUP('BASE DE RESPUESTAS'!AI73,Back!$M$16:$N$20,2,0)","v":"#N/A"},{"$f":"+VLOOKUP('BASE DE RESPUESTAS'!AJ73,Back!$M$16:$N$20,2,0)","v":"#N/A"},{"$f":"+VLOOKUP('BASE DE RESPUESTAS'!AK73,Back!$M$16:$N$20,2,0)","v":"#N/A"},{"$f":"+VLOOKUP('BASE DE RESPUESTAS'!AL73,Back!$M$16:$N$20,2,0)","v":"#N/A"},{"$f":"+VLOOKUP('BASE DE RESPUESTAS'!AM73,Back!$M$16:$N$20,2,0)","v":"#N/A"},{"$f":"+VLOOKUP('BASE DE RESPUESTAS'!AN73,Back!$M$16:$N$20,2,0)","v":"#N/A"},{"$f":"+VLOOKUP('BASE DE RESPUESTAS'!AO73,Back!$M$16:$N$20,2,0)","v":"#N/A"},{"$f":"+VLOOKUP('BASE DE RESPUESTAS'!AP73,Back!$M$16:$N$20,2,0)","v":"#N/A"},{"$f":"+VLOOKUP('BASE DE RESPUESTAS'!AQ73,Back!$M$16:$N$20,2,0)","v":"#N/A"},{"$f":"+VLOOKUP('BASE DE RESPUESTAS'!AR73,Back!$M$16:$N$20,2,0)","v":"#N/A"},{"$f":"+VLOOKUP('BASE DE RESPUESTAS'!AS73,Back!$M$16:$N$20,2,0)","v":"#N/A"},{"$f":"+VLOOKUP('BASE DE RESPUESTAS'!AT73,Back!$M$16:$N$20,2,0)","v":"#N/A"},{"$f":"+VLOOKUP('BASE DE RESPUESTAS'!AU73,Back!$M$16:$N$20,2,0)","v":"#N/A"},{"$f":"+VLOOKUP('BASE DE RESPUESTAS'!AV73,Back!$M$16:$N$20,2,0)","v":"#N/A"},{"$f":"+VLOOKUP('BASE DE RESPUESTAS'!AW73,Back!$M$16:$N$20,2,0)","v":"#N/A"},{"$f":"+VLOOKUP('BASE DE RESPUESTAS'!AX73,Back!$M$16:$N$20,2,0)","v":"#N/A"},{"$f":"+VLOOKUP('BASE DE RESPUESTAS'!AY73,Back!$M$16:$N$20,2,0)","v":"#N/A"},{"$f":"+VLOOKUP('BASE DE RESPUESTAS'!AZ73,Back!$M$16:$N$20,2,0)","v":"#N/A"},{"$f":"+VLOOKUP('BASE DE RESPUESTAS'!BA73,Back!$M$16:$N$20,2,0)","v":"#N/A"},{"$f":"+VLOOKUP('BASE DE RESPUESTAS'!BB73,Back!$M$16:$N$20,2,0)","v":"#N/A"},{"$f":"+VLOOKUP('BASE DE RESPUESTAS'!BC73,Back!$M$16:$N$20,2,0)","v":"#N/A"},{"$f":"+VLOOKUP('BASE DE RESPUESTAS'!BD73,Back!$M$16:$N$20,2,0)","v":"#N/A"},{"$f":"+VLOOKUP('BASE DE RESPUESTAS'!BE73,Back!$M$16:$N$20,2,0)","v":"#N/A"}]

{"sheet":"Resumen de indicadores HSE","index":4,"n_rows":38,"n_cols":57,"rows_kept":38,"cut":false,"hidden":false,"merged":[[3,3,3,4],[4,1,5,1],[4,2,5,2],[4,3,4,4],[5,3,5,4],[6,1,7,1],[6,2,7,2],[6,3,6,4],[7,3,7,4],[8,3,8,4],[9,3,9,4],[10,3,10,4],[11,3,11,4],[12,3,12,4],[15,1,16,1],[17,1,18,1],[19,1,20,1],[21,1,22,1],[23,1,24,1],[25,1,26,1],[27,1,28,1],[29,1,30,1],[17,2,18,2],[19,2,20,2],[21,2,22,2],[23,2,24,2],[25,2,26,2],[27,2,28,2],[29,2,30,2],[8,1,9,1],[8,2,9,2],[10,1,12,1],[10,2,12,2],[13,1,14,1],[13,2,14,2],[15,2,16,2],[13,3,13,4],[14,3,14,4],[15,3,15,4],[16,3,16,4],[17,3,17,4],[18,3,18,4],[19,3,19,4],[27,3,27,4],[28,3,28,4],[29,3,29,4],[30,3,30,4],[20,3,20,4],[21,3,21,4],[22,3,22,4],[23,3,23,4],[24,3,24,4],[25,3,25,4],[26,3,26,4]]}
[]
[]
[]
[null,"Dimensión","Escala","Indicadores",null,"Puntaje Promedio del aula, por indicador",null,{"$f":"+'BASE DE RESPUESTAS'!H5","v":"Estudiante 1"},{"$f":"+'BASE DE RESPUESTAS'!I5","v":"Estudiante 2"},{"$f":"+'BASE DE RESPUESTAS'!J5","v":"Estudiante 3"},{"$f":"+'BASE DE RESPUESTAS'!K5","v":"Estudiante 4"},{"$f":"+'BASE DE RESPUESTAS'!L5","v":"Estudiante 5"},{"$f":"+'BASE DE RESPUESTAS'!M5","v":"Estudiante 6"},{"$f":"+'BASE DE RESPUESTAS'!N5","v":"Estudiante 7"},{"$f":"+'BASE DE RESPUESTAS'!O5","v":"Estudiante 8"},{"$f":"+'BASE DE RESPUESTAS'!P5","v":"Estudiante 9"},{"$f":"+'BASE DE RESPUESTAS'!Q5","v":"Estudiante 10"},{"$f":"+'BASE DE RESPUESTAS'!R5","v":"Estudiante 11"},{"$f":"+'BASE DE RESPUESTAS'!S5","v":"Estudiante 12"},{"$f":"+'BASE DE RESPUESTAS'!T5","v":"Estudiante 13"},{"$f":"+'BASE DE RESPUESTAS'!U5","v":"Estudiante 14"},{"$f":"+'BASE DE RESPUESTAS'!V5","v":"Estudiante 15"},{"$f":"+'BASE DE RESPUESTAS'!W5","v":"Estudiante 16"},{"$f":"+'BASE DE RESPUESTAS'!X5","v":"Estudiante 17"},{"$f":"+'BASE DE RESPUESTAS'!Y5","v":"Estudiante 18"},{"$f":"+'BASE DE RESPUESTAS'!Z5","v":"Estudiante 19"},{"$f":"+'BASE DE RESPUESTAS'!AA5","v":"Estudiante 20"},{"$f":"+'BASE DE RESPUESTAS'!AB5","v":"Estudiante 21"},{"$f":"+'BASE DE RESPUESTAS'!AC5","v":"Estudiante 22"},{"$f":"+'BASE DE RESPUESTAS'!AD5","v":"Estudiante 23"},{"$f":"+'BASE DE RESPUESTAS'!AE5","v":"Estudiante 24"},{"$f":"+'BASE DE RESPUESTAS'!AF5","v":"Estudiante 25"},{"$f":"+'BASE DE RESPUESTAS'!AG5","v":"Estudiante 26"},{"$f":"+'BASE DE RESPUESTAS'!AH5","v":"Estudiante 27"},{"$f":"+'BASE DE RESPUESTAS'!AI5","v":"Estudiante 28"},{"$f":"+'BASE DE RESPUESTAS'!AJ5","v":"Estudiante 29"},{"$f":"+'BASE DE RESPUESTAS'!AK5","v":"Estudiante 30"},{"$f":"+'BASE DE RESPUESTAS'!AL5","v":"Estudiante 31"},{"$f":"+'BASE DE RESPUESTAS'!AM5","v":"Estudiante 32"},{"$f":"+'BASE DE RESPUESTAS'!AN5","v":"Estudiante 33"},{"$f":"+'BASE DE RESPUESTAS'!AO5","v":"Estudiante 34"},{"$f":"+'BASE DE RESPUESTAS'!AP5","v":"Estudiante 35"},{"$f":"+'BASE DE RESPUESTAS'!AQ5","v":"Estudiante 36"},{"$f":"+'BASE DE RESPUESTAS'!AR5","v":"Estudiante 37"},{"$f":"+'BASE DE RESPUESTAS'!AS5","v":"Estudiante 38"},{"$f":"+'BASE DE RESPUESTAS'!AT5","v":"Estudiante 39"},{"$f":"+'BASE DE RESPUESTAS'!AU5","v":"Estudiante 40"},{"$f":"+'BASE DE RESPUESTAS'!AV5","v":"Estudiante 41"},{"$f":"+'BASE DE RESPUESTAS'!AW5","v":"Estudiante 42"},{"$f":"+'BASE DE RESPUESTAS'!AX5","v":"Estudiante 43"},{"$f":"+'BASE DE RESPUESTAS'!AY5","v":"Estudiante 44"},{"$f":"+'BASE DE RESPUESTAS'!AZ5","v":"Estudiante 45"},{"$f":"+'BASE DE RESPUESTAS'!BA5","v":"Estudiante 46"},{"$f":"+'BASE DE RESPUESTAS'!BB5","v":"Estudiante 47"},{"$f":"+'BASE DE RESPUESTAS'!BC5","v":"Estudiante 48"},{"$f":"+'BASE DE RESPUESTAS'!BD5","v":"Estudiante 49"},{"$f":"+'BASE DE RESPUESTAS'!BE5","v":"Estudiante 50"}]
[null,"HSE","Autoconcepto","La o el estudiante se describe a sí mismo/a en tres o más aspectos.",null,{"$f":"+IFERROR(AVERAGEIFS(H5:BE5,H5:BE5,\">=0\"),\"\")","v":""},null,{"$f":"+IFERROR((VLOOKUP('BASE DE RESPUESTAS'!H7,Back!$M$16:$N$20,2,0)),\"\")","v":""},{"$f":"+IFERROR((VLOOKUP('BASE DE RESPUESTAS'!I7,Back!$M$16:$N$20,2,0)),\"\")","v":""},{"$f":"+IFERROR((VLOOKUP('BASE DE RESPUESTAS'!J7,Back!$M$16:$N$20,2,0)),\"\")","v":""},{"$f":"+IFERROR((VLOOKUP('BASE DE RESPUESTAS'!K7,Back!$M$16:$N$20,2,0)),\"\")","v":""},{"$f":"+IFERROR((VLOOKUP('BASE DE RESPUESTAS'!L7,Back!$M$16:$N$20,2,0)),\"\")","v":""},{"$f":"+IFERROR((VLOOKUP('BASE DE RESPUESTAS'!M7,Back!$M$16:$N$20,2,0)),\"\")","v":""},{"$f":"+IFERROR((VLOOKUP('BASE DE RESPUESTAS'!N7,Back!$M$16:$N$20,2,0)),\"\")","v":""},{"$f":"+IFERROR((VLOOKUP('BASE DE RESPUESTAS'!O7,Back!$M$16:$N$20,2,0)),\"\")","v":""},{"$f":"+IFERROR((VLOOKUP('BASE DE RESPUESTAS'!P7,Back!$M$16:$N$20,2,0)),\"\")","v":""},{"$f":"+IFERROR((VLOOKUP('BASE DE RESPUESTAS'!Q7,Back!$M$16:$N$20,2,0)),\"\")","v":""},{"$f":"+IFERROR((VLOOKUP('BASE DE RESPUESTAS'!R7,Back!$M$16:$N$20,2,0)),\"\")","v":""},{"$f":"+IFERROR((VLOOKUP('BASE DE RESPUESTAS'!S7,Back!$M$16:$N$20,2,0)),\"\")","v":""},{"$f":"+IFERROR((VLOOKUP('BASE DE RESPUESTAS'!T7,Back!$M$16:$N$20,2,0)),\"\")","v":""},{"$f":"+IFERROR((VLOOKUP('BASE DE RESPUESTAS'!U7,Back!$M$16:$N$20,2,0)),\"\")","v":""},{"$f":"+IFERROR((VLOOKUP('BASE DE RESPUESTAS'!V7,Back!$M$16:$N$20,2,0)),\"\")","v":""},{"$f":"+IFERROR((VLOOKUP('BASE DE RESPUESTAS'!W7,Back!$M$16:$N$20,2,0)),\"\")","v":""},{"$f":"+IFERROR((VLOOKUP('BASE DE RESPUESTAS'!X7,Back!$M$16:$N$20,2,0)),\"\")","v":""},{"$f":"+IFERROR((VLOOKUP('BASE DE RESPUESTAS'!Y7,Back!$M$16:$N$20,2,0)),\"\")","v":""},{"$f":"+IFERROR((VLOOKUP('BASE DE RESPUESTAS'!Z7,Back!$M$16:$N$20,2,0)),\"\")","v":""},{"$f":"+IFERROR((VLOOKUP('BASE DE RESPUESTAS'!AA7,Back!$M$16:$N$20,2,0)),\"\")","v":""},{"$f":"+IFERROR((VLOOKUP('BASE DE RESPUESTAS'!AB7,Back!$M$16:$N$20,2,0)),\"\")","v":""},{"$f":"+IFERROR((VLOOKUP('BASE DE RESPUESTAS'!AC7,Back!$M$16:$N$20,2,0)),\"\")","v":""},{"$f":"+IFERROR((VLOOKUP('BASE DE RESPUESTAS'!AD7,Back!$M$16:$N$20,2,0)),\"\")","v":""},{"$f":"+IFERROR((VLOOKUP('BASE DE RESPUESTAS'!AE7,Back!$M$16:$N$20,2,0)),\"\")","v":""},{"$f":"+IFERROR((VLOOKUP('BASE DE RESPUESTAS'!AF7,Back!$M$16:$N$20,2,0)),\"\")","v":""},{"$f":"+IFERROR((VLOOKUP('BASE DE RESPUESTAS'!AG7,Back!$M$16:$N$20,2,0)),\"\")","v":""},{"$f":"+IFERROR((VLOOKUP('BASE DE RESPUESTAS'!AH7,Back!$M$16:$N$20,2,0)),\"\")","v":""},{"$f":"+IFERROR((VLOOKUP('BASE DE RESPUESTAS'!AI7,Back!$M$16:$N$20,2,0)),\"\")","v":""},{"$f":"+IFERROR((VLOOKUP('BASE DE RESPUESTAS'!AJ7,Back!$M$16:$N$20,2,0)),\"\")","v":""},{"$f":"+IFERROR((VLOOKUP('BASE DE RESPUESTAS'!AK7,Back!$M$16:$N$20,2,0)),\"\")","v":""},{"$f":"+IFERROR((VLOOKUP('BASE DE RESPUESTAS'!AL7,Back!$M$16:$N$20,2,0)),\"\")","v":""},{"$f":"+IFERROR((VLOOKUP('BASE DE RESPUESTAS'!AM7,Back!$M$16:$N$20,2,0)),\"\")","v":""},{"$f":"+IFERROR((VLOOKUP('BASE DE RESPUESTAS'!AN7,Back!$M$16:$N$20,2,0)),\"\")","v":""},{"$f":"+IFERROR((VLOOKUP('BASE DE RESPUESTAS'!AO7,Back!$M$16:$N$20,2,0)),\"\")","v":""},{"$f":"+IFERROR((VLOOKUP('BASE DE RESPUESTAS'!AP7,Back!$M$16:$N$20,2,0)),\"\")","v":""},{"$f":"+IFERROR((VLOOKUP('BASE DE RESPUESTAS'!AQ7,Back!$M$16:$N$20,2,0)),\"\")","v":""},{"$f":"+IFERROR((VLOOKUP('BASE DE RESPUESTAS'!AR7,Back!$M$16:$N$20,2,0)),\"\")","v":""},{"$f":"+IFERROR((VLOOKUP('BASE DE RESPUESTAS'!AS7,Back!$M$16:$N$20,2,0)),\"\")","v":""},{"$f":"+IFERROR((VLOOKUP('BASE DE RESPUESTAS'!AT7,Back!$M$16:$N$20,2,0)),\"\")","v":""},{"$f":"+IFERROR((VLOOKUP('BASE DE RESPUESTAS'!AU7,Back!$M$16:$N$20,2,0)),\"\")","v":""},{"$f":"+IFERROR((VLOOKUP('BASE DE RESPUESTAS'!AV7,Back!$M$16:$N$20,2,0)),\"\")","v":""},{"$f":"+IFERROR((VLOOKUP('BASE DE RESPUESTAS'!AW7,Back!$M$16:$N$20,2,0)),\"\")","v":""},{"$f":"+IFERROR((VLOOKUP('BASE DE RESPUESTAS'!AX7,Back!$M$16:$N$20,2,0)),\"\")","v":""},{"$f":"+IFERROR((VLOOKUP('BASE DE RESPUESTAS'!AY7,Back!$M$16:$N$20,2,0)),\"\")","v":""},{"$f":"+IFERROR((VLOOKUP('BASE DE RESPUESTAS'!AZ7,Back!$M$16:$N$20,2,0)),\"\")","v":""},{"$f":"+IFERROR((VLOOKUP('BASE DE RESPUESTAS'!BA7,Back!$M$16:$N$20,2,0)),\"\")","v":""},{"$f":"+IFERROR((VLOOKUP('BASE DE RESPUESTAS'!BB7,Back!$M$16:$N$20,2,0)),\"\")","v":""},{"$f":"+IFERROR((VLOOKUP('BASE DE RESPUESTAS'!BC7,Back!$M$16:$N$20,2,0)),\"\")","v":""},{"$f":"+IFERROR((VLOOKUP('BASE DE RESPUESTAS'!BD7,Back!$M$16:$N$20,2,0)),\"\")","v":""},{"$f":"+IFERROR((VLOOKUP('BASE DE RESPUESTAS'!BE7,Back!$M$16:$N$20,2,0)),\"\")","v":""}]
[null,null,null,"La o el estudiante reconoce aquello que debe mejorar.",null,"",null,{"$f":"+IFERROR((VLOOKUP('BASE DE RESPUESTAS'!H8,Back!$M$16:$N$20,2,0)),\"\")","v":""},{"$f":"+IFERROR((VLOOKUP('BASE DE RESPUESTAS'!I8,Back!$M$16:$N$20,2,0)),\"\")","v":""},{"$f":"+IFERROR((VLOOKUP('BASE DE RESPUESTAS'!J8,Back!$M$16:$N$20,2,0)),\"\")","v":""},{"$f":"+IFERROR((VLOOKUP('BASE DE RESPUESTAS'!K8,Back!$M$16:$N$20,2,0)),\"\")","v":""},{"$f":"+IFERROR((VLOOKUP('BASE DE RESPUESTAS'!L8,Back!$M$16:$N$20,2,0)),\"\")","v":""},{"$f":"+IFERROR((VLOOKUP('BASE DE RESPUESTAS'!M8,Back!$M$16:$N$20,2,0)),\"\")","v":""},{"$f":"+IFERROR((VLOOKUP('BASE DE RESPUESTAS'!N8,Back!$M$16:$N$20,2,0)),\"\")","v":""},{"$f":"+IFERROR((VLOOKUP('BASE DE RESPUESTAS'!O8,Back!$M$16:$N$20,2,0)),\"\")","v":""},{"$f":"+IFERROR((VLOOKUP('BASE DE RESPUESTAS'!P8,Back!$M$16:$N$20,2,0)),\"\")","v":""},{"$f":"+IFERROR((VLOOKUP('BASE DE RESPUESTAS'!Q8,Back!$M$16:$N$20,2,0)),\"\")","v":""},{"$f":"+IFERROR((VLOOKUP('BASE DE RESPUESTAS'!R8,Back!$M$16:$N$20,2,0)),\"\")","v":""},{"$f":"+IFERROR((VLOOKUP('BASE DE RESPUESTAS'!S8,Back!$M$16:$N$20,2,0)),\"\")","v":""},{"$f":"+IFERROR((VLOOKUP('BASE DE RESPUESTAS'!T8,Back!$M$16:$N$20,2,0)),\"\")","v":""},{"$f":"+IFERROR((VLOOKUP('BASE DE RESPUESTAS'!U8,Back!$M$16:$N$20,2,0)),\"\")","v":""},{"$f":"+IFERROR((VLOOKUP('BASE DE RESPUESTAS'!V8,Back!$M$16:$N$20,2,0)),\"\")","v":""},{"$f":"+IFERROR((VLOOKUP('BASE DE RESPUESTAS'!W8,Back!$M$16:$N$20,2,0)),\"\")","v":""},{"$f":"+IFERROR((VLOOKUP('BASE DE RESPUESTAS'!X8,Back!$M$16:$N$20,2,0)),\"\")","v":""},{"$f":"+IFERROR((VLOOKUP('BASE DE RESPUESTAS'!Y8,Back!$M$16:$N$20,2,0)),\"\")","v":""},{"$f":"+IFERROR((VLOOKUP('BASE DE RESPUESTAS'!Z8,Back!$M$16:$N$20,2,0)),\"\")","v":""},{"$f":"+IFERROR((VLOOKUP('BASE DE RESPUESTAS'!AA8,Back!$M$16:$N$20,2,0)),\"\")","v":""},{"$f":"+IFERROR((VLOOKUP('BASE DE RESPUESTAS'!AB8,Back!$M$16:$N$20,2,0)),\"\")","v":""},{"$f":"+IFERROR((VLOOKUP('BASE DE RESPUESTAS'!AC8,Back!$M$16:$N$20,2,0)),\"\")","v":""},{"$f":"+IFERROR((VLOOKUP('BASE DE RESPUESTAS'!AD8,Back!$M$16:$N$20,2,0)),\"\")","v":""},{"$f":"+IFERROR((VLOOKUP('BASE DE RESPUESTAS'!AE8,Back!$M$16:$N$20,2,0)),\"\")","v":""},{"$f":"+IFERROR((VLOOKUP('BASE DE RESPUESTAS'!AF8,Back!$M$16:$N$20,2,0)),\"\")","v":""},{"$f":"+IFERROR((VLOOKUP('BASE DE RESPUESTAS'!AG8,Back!$M$16:$N$20,2,0)),\"\")","v":""},{"$f":"+IFERROR((VLOOKUP('BASE DE RESPUESTAS'!AH8,Back!$M$16:$N$20,2,0)),\"\")","v":""},{"$f":"+IFERROR((VLOOKUP('BASE DE RESPUESTAS'!AI8,Back!$M$16:$N$20,2,0)),\"\")","v":""},{"$f":"+IFERROR((VLOOKUP('BASE DE RESPUESTAS'!AJ8,Back!$M$16:$N$20,2,0)),\"\")","v":""},{"$f":"+IFERROR((VLOOKUP('BASE DE RESPUESTAS'!AK8,Back!$M$16:$N$20,2,0)),\"\")","v":""},{"$f":"+IFERROR((VLOOKUP('BASE DE RESPUESTAS'!AL8,Back!$M$16:$N$20,2,0)),\"\")","v":""},{"$f":"+IFERROR((VLOOKUP('BASE DE RESPUESTAS'!AM8,Back!$M$16:$N$20,2,0)),\"\")","v":""},{"$f":"+IFERROR((VLOOKUP('BASE DE RESPUESTAS'!AN8,Back!$M$16:$N$20,2,0)),\"\")","v":""},{"$f":"+IFERROR((VLOOKUP('BASE DE RESPUESTAS'!AO8,Back!$M$16:$N$20,2,0)),\"\")","v":""},{"$f":"+IFERROR((VLOOKUP('BASE DE RESPUESTAS'!AP8,Back!$M$16:$N$20,2,0)),\"\")","v":""},{"$f":"+IFERROR((VLOOKUP('BASE DE RESPUESTAS'!AQ8,Back!$M$16:$N$20,2,0)),\"\")","v":""},{"$f":"+IFERROR((VLOOKUP('BASE DE RESPUESTAS'!AR8,Back!$M$16:$N$20,2,0)),\"\")","v":""},{"$f":"+IFERROR((VLOOKUP('BASE DE RESPUESTAS'!AS8,Back!$M$16:$N$20,2,0)),\"\")","v":""},{"$f":"+IFERROR((VLOOKUP('BASE DE RESPUESTAS'!AT8,Back!$M$16:$N$20,2,0)),\"\")","v":""},{"$f":"+IFERROR((VLOOKUP('BASE DE RESPUESTAS'!AU8,Back!$M$16:$N$20,2,0)),\"\")","v":""},{"$f":"+IFERROR((VLOOKUP('BASE DE RESPUESTAS'!AV8,Back!$M$16:$N$20,2,0)),\"\")","v":""},{"$f":"+IFERROR((VLOOKUP('BASE DE RESPUESTAS'!AW8,Back!$M$16:$N$20,2,0)),\"\")","v":""},{"$f":"+IFERROR((VLOOKUP('BASE DE RESPUESTAS'!AX8,Back!$M$16:$N$20,2,0)),\"\")","v":""},{"$f":"+IFERROR((VLOOKUP('BASE DE RESPUESTAS'!AY8,Back!$M$16:$N$20,2,0)),\"\")","v":""},{"$f":"+IFERROR((VLOOKUP('BASE DE RESPUESTAS'!AZ8,Back!$M$16:$N$20,2,0)),\"\")","v":""},{"$f":"+IFERROR((VLOOKUP('BASE DE RESPUESTAS'!BA8,Back!$M$16:$N$20,2,0)),\"\")","v":""},{"$f":"+IFERROR((VLOOKUP('BASE DE RESPUESTAS'!BB8,Back!$M$16:$N$20,2,0)),\"\")","v":""},{"$f":"+IFERROR((VLOOKUP('BASE DE RESPUESTAS'!BC8,Back!$M$16:$N$20,2,0)),\"\")","v":""},{"$f":"+IFERROR((VLOOKUP('BASE DE RESPUESTAS'!BD8,Back!$M$16:$N$20,2,0)),\"\")","v":""},{"$f":"+IFERROR((VLOOKUP('BASE DE RESPUESTAS'!BE8,Back!$M$16:$N$20,2,0)),\"\")","v":""}]
[null,"HSE","Autoestima","La o el estudiante se reconoce a sí mismo/a como único/a y valioso/a.",null,"",null,{"$f":"+IFERROR(AVERAGE(Espejo!H7:H8),\"\")","v":""},{"$f":"+IFERROR(AVERAGE(Espejo!I7:I8),\"\")","v":""},{"$f":"+IFERROR(AVERAGE(Espejo!J7:J8),\"\")","v":""},{"$f":"+IFERROR(AVERAGE(Espejo!K7:K8),\"\")","v":""},{"$f":"+IFERROR(AVERAGE(Espejo!L7:L8),\"\")","v":""},{"$f":"+IFERROR(AVERAGE(Espejo!M7:M8),\"\")","v":""},{"$f":"+IFERROR(AVERAGE(Espejo!N7:N8),\"\")","v":""},{"$f":"+IFERROR(AVERAGE(Espejo!O7:O8),\"\")","v":""},{"$f":"+IFERROR(AVERAGE(Espejo!P7:P8),\"\")","v":""},{"$f":"+IFERROR(AVERAGE(Espejo!Q7:Q8),\"\")","v":""},{"$f":"+IFERROR(AVERAGE(Espejo!R7:R8),\"\")","v":""},{"$f":"+IFERROR(AVERAGE(Espejo!S7:S8),\"\")","v":""},{"$f":"+IFERROR(AVERAGE(Espejo!T7:T8),\"\")","v":""},{"$f":"+IFERROR(AVERAGE(Espejo!U7:U8),\"\")","v":""},{"$f":"+IFERROR(AVERAGE(Espejo!V7:V8),\"\")","v":""},{"$f":"+IFERROR(AVERAGE(Espejo!W7:W8),\"\")","v":""},{"$f":"+IFERROR(AVERAGE(Espejo!X7:X8),\"\")","v":""},{"$f":"+IFERROR(AVERAGE(Espejo!Y7:Y8),\"\")","v":""},{"$f":"+IFERROR(AVERAGE(Espejo!Z7:Z8),\"\")","v":""},{"$f":"+IFERROR(AVERAGE(Espejo!AA7:AA8),\"\")","v":""},{"$f":"+IFERROR(AVERAGE(Espejo!AB7:AB8),\"\")","v":""},{"$f":"+IFERROR(AVERAGE(Espejo!AC7:AC8),\"\")","v":""},{"$f":"+IFERROR(AVERAGE(Espejo!AD7:AD8),\"\")","v":""},{"$f":"+IFERROR(AVERAGE(Espejo!AE7:AE8),\"\")","v":""},{"$f":"+IFERROR(AVERAGE(Espejo!AF7:AF8),\"\")","v":""},{"$f":"+IFERROR(AVERAGE(Espejo!AG7:AG8),\"\")","v":""},{"$f":"+IFERROR(AVERAGE(Espejo!AH7:AH8),\"\")","v":""},{"$f":"+IFERROR(AVERAGE(Espejo!AI7:AI8),\"\")","v":""},{"$f":"+IFERROR(AVERAGE(Espejo!AJ7:AJ8),\"\")","v":""},{"$f":"+IFERROR(AVERAGE(Espejo!AK7:AK8),\"\")","v":""},{"$f":"+IFERROR(AVERAGE(Espejo!AL7:AL8),\"\")","v":""},{"$f":"+IFERROR(AVERAGE(Espejo!AM7:AM8),\"\")","v":""},{"$f":"+IFERROR(AVERAGE(Espejo!AN7:AN8),\"\")","v":""},{"$f":"+IFERROR(AVERAGE(Espejo!AO7:AO8),\"\")","v":""},{"$f":"+IFERROR(AVERAGE(Espejo!AP7:AP8),\"\")","v":""},{"$f":"+IFERROR(AVERAGE(Espejo!AQ7:AQ8),\"\")","v":""},{"$f":"+IFERROR(AVERAGE(Espejo!AR7:AR8),\"\")","v":""},{"$f":"+IFERROR(AVERAGE(Espejo!AS7:AS8),\"\")","v":""},{"$f":"+IFERROR(AVERAGE(Espejo!AT7:AT8),\"\")","v":""},{"$f":"+IFERROR(AVERAGE(Espejo!AU7:AU8),\"\")","v":""},{"$f":"+IFERROR(AVERAGE(Espejo!AV7:AV8),\"\")","v":""},{"$f":"+IFERROR(AVERAGE(Espejo!AW7:AW8),\"\")","v":""},{"$f":"+IFERROR(AVERAGE(Espejo!AX7:AX8),\"\")","v":""},{"$f":"+IFERROR(AVERAGE(Espejo!AY7:AY8),\"\")","v":""},{"$f":"+IFERROR(AVERAGE(Espejo!AZ7:AZ8),\"\")","v":""},{"$f":"+IFERROR(AVERAGE(Espejo!BA7:BA8),\"\")","v":""},{"$f":"+IFERROR(AVERAGE(Espejo!BB7:BB8),\"\")","v":""},{"$f":"+IFERROR(AVERAGE(Espejo!BC7:BC8),\"\")","v":""},{"$f":"+IFERROR(AVERAGE(Espejo!BD7:BD8),\"\")","v":""},{"$f":"+IFERROR(AVERAGE(Espejo!BE7:BE8),\"\")","v":""}]
[null,null,null,"La o el estudiante expresa que es capaz de realizar tareas y aceptar retos.",null,"",null,{"$f":"+IFERROR(AVERAGE(Espejo!H9:H10),\"\")","v":""},{"$f":"+IFERROR(AVERAGE(Espejo!I9:I10),\"\")","v":""},{"$f":"+IFERROR(AVERAGE(Espejo!J9:J10),\"\")","v":""},{"$f":"+IFERROR(AVERAGE(Espejo!K9:K10),\"\")","v":""},{"$f":"+IFERROR(AVERAGE(Espejo!L9:L10),\"\")","v":""},{"$f":"+IFERROR(AVERAGE(Espejo!M9:M10),\"\")","v":""},{"$f":"+IFERROR(AVERAGE(Espejo!N9:N10),\"\")","v":""},{"$f":"+IFERROR(AVERAGE(Espejo!O9:O10),\"\")","v":""},{"$f":"+IFERROR(AVERAGE(Espejo!P9:P10),\"\")","v":""},{"$f":"+IFERROR(AVERAGE(Espejo!Q9:Q10),\"\")","v":""},{"$f":"+IFERROR(AVERAGE(Espejo!R9:R10),\"\")","v":""},{"$f":"+IFERROR(AVERAGE(Espejo!S9:S10),\"\")","v":""},{"$f":"+IFERROR(AVERAGE(Espejo!T9:T10),\"\")","v":""},{"$f":"+IFERROR(AVERAGE(Espejo!U9:U10),\"\")","v":""},{"$f":"+IFERROR(AVERAGE(Espejo!V9:V10),\"\")","v":""},{"$f":"+IFERROR(AVERAGE(Espejo!W9:W10),\"\")","v":""},{"$f":"+IFERROR(AVERAGE(Espejo!X9:X10),\"\")","v":""},{"$f":"+IFERROR(AVERAGE(Espejo!Y9:Y10),\"\")","v":""},{"$f":"+IFERROR(AVERAGE(Espejo!Z9:Z10),\"\")","v":""},{"$f":"+IFERROR(AVERAGE(Espejo!AA9:AA10),\"\")","v":""},{"$f":"+IFERROR(AVERAGE(Espejo!AB9:AB10),\"\")","v":""},{"$f":"+IFERROR(AVERAGE(Espejo!AC9:AC10),\"\")","v":""},{"$f":"+IFERROR(AVERAGE(Espejo!AD9:AD10),\"\")","v":""},{"$f":"+IFERROR(AVERAGE(Espejo!AE9:AE10),\"\")","v":""},{"$f":"+IFERROR(AVERAGE(Espejo!AF9:AF10),\"\")","v":""},{"$f":"+IFERROR(AVERAGE(Espejo!AG9:AG10),\"\")","v":""},{"$f":"+IFERROR(AVERAGE(Espejo!AH9:AH10),\"\")","v":""},{"$f":"+IFERROR(AVERAGE(Espejo!AI9:AI10),\"\")","v":""},{"$f":"+IFERROR(AVERAGE(Espejo!AJ9:AJ10),\"\")","v":""},{"$f":"+IFERROR(AVERAGE(Espejo!AK9:AK10),\"\")","v":""},{"$f":"+IFERROR(AVERAGE(Espejo!AL9:AL10),\"\")","v":""},{"$f":"+IFERROR(AVERAGE(Espejo!AM9:AM10),\"\")","v":""},{"$f":"+IFERROR(AVERAGE(Espejo!AN9:AN10),\"\")","v":""},{"$f":"+IFERROR(AVERAGE(Espejo!AO9:AO10),\"\")","v":""},{"$f":"+IFERROR(AVERAGE(Espejo!AP9:AP10),\"\")","v":""},{"$f":"+IFERROR(AVERAGE(Espejo!AQ9:AQ10),\"\")","v":""},{"$f":"+IFERROR(AVERAGE(Espejo!AR9:AR10),\"\")","v":""},{"$f":"+IFERROR(AVERAGE(Espejo!AS9:AS10),\"\")","v":""},{"$f":"+IFERROR(AVERAGE(Espejo!AT9:AT10),\"\")","v":""},{"$f":"+IFERROR(AVERAGE(Espejo!AU9:AU10),\"\")","v":""},{"$f":"+IFERROR(AVERAGE(Espejo!AV9:AV10),\"\")","v":""},{"$f":"+IFERROR(AVERAGE(Espejo!AW9:AW10),\"\")","v":""},{"$f":"+IFERROR(AVERAGE(Espejo!AX9:AX10),\"\")","v":""},{"$f":"+IFERROR(AVERAGE(Espejo!AY9:AY10),\"\")","v":""},{"$f":"+IFERROR(AVERAGE(Espejo!AZ9:AZ10),\"\")","v":""},{"$f":"+IFERROR(AVERAGE(Espejo!BA9:BA10),\"\")","v":""},{"$f":"+IFERROR(AVERAGE(Espejo!BB9:BB10),\"\")","v":""},{"$f":"+IFERROR(AVERAGE(Espejo!BC9:BC10),\"\")","v":""},{"$f":"+IFERROR(AVERAGE(Espejo!BD9:BD10),\"\")","v":""},{"$f":"+IFERROR(AVERAGE(Espejo!BE9:BE10),\"\")","v":""}]
[null,"HSE","Conciencia emocional","La o el estudiante nombra y diferencia sus emociones, reconociendo sus causas y consecuencias.",null,"",null,{"$f":"+IFERROR(AVERAGE(Espejo!H11:H12),\"\")","v":""},{"$f":"+IFERROR(AVERAGE(Espejo!I11:I12),\"\")","v":""},{"$f":"+IFERROR(AVERAGE(Espejo!J11:J12),\"\")","v":""},{"$f":"+IFERROR(AVERAGE(Espejo!K11:K12),\"\")","v":""},{"$f":"+IFERROR(AVERAGE(Espejo!L11:L12),\"\")","v":""},{"$f":"+IFERROR(AVERAGE(Espejo!M11:M12),\"\")","v":""},{"$f":"+IFERROR(AVERAGE(Espejo!N11:N12),\"\")","v":""},{"$f":"+IFERROR(AVERAGE(Espejo!O11:O12),\"\")","v":""},{"$f":"+IFERROR(AVERAGE(Espejo!P11:P12),\"\")","v":""},{"$f":"+IFERROR(AVERAGE(Espejo!Q11:Q12),\"\")","v":""},{"$f":"+IFERROR(AVERAGE(Espejo!R11:R12),\"\")","v":""},{"$f":"+IFERROR(AVERAGE(Espejo!S11:S12),\"\")","v":""},{"$f":"+IFERROR(AVERAGE(Espejo!T11:T12),\"\")","v":""},{"$f":"+IFERROR(AVERAGE(Espejo!U11:U12),\"\")","v":""},{"$f":"+IFERROR(AVERAGE(Espejo!V11:V12),\"\")","v":""},{"$f":"+IFERROR(AVERAGE(Espejo!W11:W12),\"\")","v":""},{"$f":"+IFERROR(AVERAGE(Espejo!X11:X12),\"\")","v":""},{"$f":"+IFERROR(AVERAGE(Espejo!Y11:Y12),\"\")","v":""},{"$f":"+IFERROR(AVERAGE(Espejo!Z11:Z12),\"\")","v":""},{"$f":"+IFERROR(AVERAGE(Espejo!AA11:AA12),\"\")","v":""},{"$f":"+IFERROR(AVERAGE(Espejo!AB11:AB12),\"\")","v":""},{"$f":"+IFERROR(AVERAGE(Espejo!AC11:AC12),\"\")","v":""},{"$f":"+IFERROR(AVERAGE(Espejo!AD11:AD12),\"\")","v":""},{"$f":"+IFERROR(AVERAGE(Espejo!AE11:AE12),\"\")","v":""},{"$f":"+IFERROR(AVERAGE(Espejo!AF11:AF12),\"\")","v":""},{"$f":"+IFERROR(AVERAGE(Espejo!AG11:AG12),\"\")","v":""},{"$f":"+IFERROR(AVERAGE(Espejo!AH11:AH12),\"\")","v":""},{"$f":"+IFERROR(AVERAGE(Espejo!AI11:AI12),\"\")","v":""},{"$f":"+IFERROR(AVERAGE(Espejo!AJ11:AJ12),\"\")","v":""},{"$f":"+IFERROR(AVERAGE(Espejo!AK11:AK12),\"\")","v":""},{"$f":"+IFERROR(AVERAGE(Espejo!AL11:AL12),\"\")","v":""},{"$f":"+IFERROR(AVERAGE(Espejo!AM11:AM12),\"\")","v":""},{"$f":"+IFERROR(AVERAGE(Espejo!AN11:AN12),\"\")","v":""},{"$f":"+IFERROR(AVERAGE(Espejo!AO11:AO12),\"\")","v":""},{"$f":"+IFERROR(AVERAGE(Espejo!AP11:AP12),\"\")","v":""},{"$f":"+IFERROR(AVERAGE(Espejo!AQ11:AQ12),\"\")","v":""},{"$f":"+IFERROR(AVERAGE(Espejo!AR11:AR12),\"\")","v":""},{"$f":"+IFERROR(AVERAGE(Espejo!AS11:AS12),\"\")","v":""},{"$f":"+IFERROR(AVERAGE(Espejo!AT11:AT12),\"\")","v":""},{"$f":"+IFERROR(AVERAGE(Espejo!AU11:AU12),\"\")","v":""},{"$f":"+IFERROR(AVERAGE(Espejo!AV11:AV12),\"\")","v":""},{"$f":"+IFERROR(AVERAGE(Espejo!AW11:AW12),\"\")","v":""},{"$f":"+IFERROR(AVERAGE(Espejo!AX11:AX12),\"\")","v":""},{"$f":"+IFERROR(AVERAGE(Espejo!AY11:AY12),\"\")","v":""},{"$f":"+IFERROR(AVERAGE(Espejo!AZ11:AZ12),\"\")","v":""},{"$f":"+IFERROR(AVERAGE(Espejo!BA11:BA12),\"\")","v":""},{"$f":"+IFERROR(AVERAGE(Espejo!BB11:BB12),\"\")","v":""},{"$f":"+IFERROR(AVERAGE(Espejo!BC11:BC12),\"\")","v":""},{"$f":"+IFERROR(AVERAGE(Espejo!BD11:BD12),\"\")","v":""},{"$f":"+IFERROR(AVERAGE(Espejo!BE11:BE12),\"\")","v":""}]
[null,null,null,"La o el estudiante nombra y diferencia las emociones de sus compañeras/os. ",null,"",null,{"$f":"+IFERROR(AVERAGE(Espejo!H13:H14),\"\")","v":""},{"$f":"+IFERROR(AVERAGE(Espejo!I13:I14),\"\")","v":""},{"$f":"+IFERROR(AVERAGE(Espejo!J13:J14),\"\")","v":""},{"$f":"+IFERROR(AVERAGE(Espejo!K13:K14),\"\")","v":""},{"$f":"+IFERROR(AVERAGE(Espejo!L13:L14),\"\")","v":""},{"$f":"+IFERROR(AVERAGE(Espejo!M13:M14),\"\")","v":""},{"$f":"+IFERROR(AVERAGE(Espejo!N13:N14),\"\")","v":""},{"$f":"+IFERROR(AVERAGE(Espejo!O13:O14),\"\")","v":""},{"$f":"+IFERROR(AVERAGE(Espejo!P13:P14),\"\")","v":""},{"$f":"+IFERROR(AVERAGE(Espejo!Q13:Q14),\"\")","v":""},{"$f":"+IFERROR(AVERAGE(Espejo!R13:R14),\"\")","v":""},{"$f":"+IFERROR(AVERAGE(Espejo!S13:S14),\"\")","v":""},{"$f":"+IFERROR(AVERAGE(Espejo!T13:T14),\"\")","v":""},{"$f":"+IFERROR(AVERAGE(Espejo!U13:U14),\"\")","v":""},{"$f":"+IFERROR(AVERAGE(Espejo!V13:V14),\"\")","v":""},{"$f":"+IFERROR(AVERAGE(Espejo!W13:W14),\"\")","v":""},{"$f":"+IFERROR(AVERAGE(Espejo!X13:X14),\"\")","v":""},{"$f":"+IFERROR(AVERAGE(Espejo!Y13:Y14),\"\")","v":""},{"$f":"+IFERROR(AVERAGE(Espejo!Z13:Z14),\"\")","v":""},{"$f":"+IFERROR(AVERAGE(Espejo!AA13:AA14),\"\")","v":""},{"$f":"+IFERROR(AVERAGE(Espejo!AB13:AB14),\"\")","v":""},{"$f":"+IFERROR(AVERAGE(Espejo!AC13:AC14),\"\")","v":""},{"$f":"+IFERROR(AVERAGE(Espejo!AD13:AD14),\"\")","v":""},{"$f":"+IFERROR(AVERAGE(Espejo!AE13:AE14),\"\")","v":""},{"$f":"+IFERROR(AVERAGE(Espejo!AF13:AF14),\"\")","v":""},{"$f":"+IFERROR(AVERAGE(Espejo!AG13:AG14),\"\")","v":""},{"$f":"+IFERROR(AVERAGE(Espejo!AH13:AH14),\"\")","v":""},{"$f":"+IFERROR(AVERAGE(Espejo!AI13:AI14),\"\")","v":""},{"$f":"+IFERROR(AVERAGE(Espejo!AJ13:AJ14),\"\")","v":""},{"$f":"+IFERROR(AVERAGE(Espejo!AK13:AK14),\"\")","v":""},{"$f":"+IFERROR(AVERAGE(Espejo!AL13:AL14),\"\")","v":""},{"$f":"+IFERROR(AVERAGE(Espejo!AM13:AM14),\"\")","v":""},{"$f":"+IFERROR(AVERAGE(Espejo!AN13:AN14),\"\")","v":""},{"$f":"+IFERROR(AVERAGE(Espejo!AO13:AO14),\"\")","v":""},{"$f":"+IFERROR(AVERAGE(Espejo!AP13:AP14),\"\")","v":""},{"$f":"+IFERROR(AVERAGE(Espejo!AQ13:AQ14),\"\")","v":""},{"$f":"+IFERROR(AVERAGE(Espejo!AR13:AR14),\"\")","v":""},{"$f":"+IFERROR(AVERAGE(Espejo!AS13:AS14),\"\")","v":""},{"$f":"+IFERROR(AVERAGE(Espejo!AT13:AT14),\"\")","v":""},{"$f":"+IFERROR(AVERAGE(Espejo!AU13:AU14),\"\")","v":""},{"$f":"+IFERROR(AVERAGE(Espejo!AV13:AV14),\"\")","v":""},{"$f":"+IFERROR(AVERAGE(Espejo!AW13:AW14),\"\")","v":""},{"$f":"+IFERROR(AVERAGE(Espejo!AX13:AX14),\"\")","v":""},{"$f":"+IFERROR(AVERAGE(Espejo!AY13:AY14),\"\")","v":""},{"$f":"+IFERROR(AVERAGE(Espejo!AZ13:AZ14),\"\")","v":""},{"$f":"+IFERROR(AVERAGE(Espejo!BA13:BA14),\"\")","v":""},{"$f":"+IFERROR(AVERAGE(Espejo!BB13:BB14),\"\")","v":""},{"$f":"+IFERROR(AVERAGE(Espejo!BC13:BC14),\"\")","v":""},{"$f":"+IFERROR(AVERAGE(Espejo!BD13:BD14),\"\")","v":""},{"$f":"+IFERROR(AVERAGE(Espejo!BE13:BE14),\"\")","v":""}]
[null,"HSE","Autocuidado","La o el estudiante reacciona ante situaciones peligrosas.",null,"",null,{"$f":"+IFERROR((VLOOKUP('BASE DE RESPUESTAS'!H17,Back!$M$16:$N$20,2,0)),\"\")","v":""},{"$f":"+IFERROR((VLOOKUP('BASE DE RESPUESTAS'!I17,Back!$M$16:$N$20,2,0)),\"\")","v":""},{"$f":"+IFERROR((VLOOKUP('BASE DE RESPUESTAS'!J17,Back!$M$16:$N$20,2,0)),\"\")","v":""},{"$f":"+IFERROR((VLOOKUP('BASE DE RESPUESTAS'!K17,Back!$M$16:$N$20,2,0)),\"\")","v":""},{"$f":"+IFERROR((VLOOKUP('BASE DE RESPUESTAS'!L17,Back!$M$16:$N$20,2,0)),\"\")","v":""},{"$f":"+IFERROR((VLOOKUP('BASE DE RESPUESTAS'!M17,Back!$M$16:$N$20,2,0)),\"\")","v":""},{"$f":"+IFERROR((VLOOKUP('BASE DE RESPUESTAS'!N17,Back!$M$16:$N$20,2,0)),\"\")","v":""},{"$f":"+IFERROR((VLOOKUP('BASE DE RESPUESTAS'!O17,Back!$M$16:$N$20,2,0)),\"\")","v":""},{"$f":"+IFERROR((VLOOKUP('BASE DE RESPUESTAS'!P17,Back!$M$16:$N$20,2,0)),\"\")","v":""},{"$f":"+IFERROR((VLOOKUP('BASE DE RESPUESTAS'!Q17,Back!$M$16:$N$20,2,0)),\"\")","v":""},{"$f":"+IFERROR((VLOOKUP('BASE DE RESPUESTAS'!R17,Back!$M$16:$N$20,2,0)),\"\")","v":""},{"$f":"+IFERROR((VLOOKUP('BASE DE RESPUESTAS'!S17,Back!$M$16:$N$20,2,0)),\"\")","v":""},{"$f":"+IFERROR((VLOOKUP('BASE DE RESPUESTAS'!T17,Back!$M$16:$N$20,2,0)),\"\")","v":""},{"$f":"+IFERROR((VLOOKUP('BASE DE RESPUESTAS'!U17,Back!$M$16:$N$20,2,0)),\"\")","v":""},{"$f":"+IFERROR((VLOOKUP('BASE DE RESPUESTAS'!V17,Back!$M$16:$N$20,2,0)),\"\")","v":""},{"$f":"+IFERROR((VLOOKUP('BASE DE RESPUESTAS'!W17,Back!$M$16:$N$20,2,0)),\"\")","v":""},{"$f":"+IFERROR((VLOOKUP('BASE DE RESPUESTAS'!X17,Back!$M$16:$N$20,2,0)),\"\")","v":""},{"$f":"+IFERROR((VLOOKUP('BASE DE RESPUESTAS'!Y17,Back!$M$16:$N$20,2,0)),\"\")","v":""},{"$f":"+IFERROR((VLOOKUP('BASE DE RESPUESTAS'!Z17,Back!$M$16:$N$20,2,0)),\"\")","v":""},{"$f":"+IFERROR((VLOOKUP('BASE DE RESPUESTAS'!AA17,Back!$M$16:$N$20,2,0)),\"\")","v":""},{"$f":"+IFERROR((VLOOKUP('BASE DE RESPUESTAS'!AB17,Back!$M$16:$N$20,2,0)),\"\")","v":""},{"$f":"+IFERROR((VLOOKUP('BASE DE RESPUESTAS'!AC17,Back!$M$16:$N$20,2,0)),\"\")","v":""},{"$f":"+IFERROR((VLOOKUP('BASE DE RESPUESTAS'!AD17,Back!$M$16:$N$20,2,0)),\"\")","v":""},{"$f":"+IFERROR((VLOOKUP('BASE DE RESPUESTAS'!AE17,Back!$M$16:$N$20,2,0)),\"\")","v":""},{"$f":"+IFERROR((VLOOKUP('BASE DE RESPUESTAS'!AF17,Back!$M$16:$N$20,2,0)),\"\")","v":""},{"$f":"+IFERROR((VLOOKUP('BASE DE RESPUESTAS'!AG17,Back!$M$16:$N$20,2,0)),\"\")","v":""},{"$f":"+IFERROR((VLOOKUP('BASE DE RESPUESTAS'!AH17,Back!$M$16:$N$20,2,0)),\"\")","v":""},{"$f":"+IFERROR((VLOOKUP('BASE DE RESPUESTAS'!AI17,Back!$M$16:$N$20,2,0)),\"\")","v":""},{"$f":"+IFERROR((VLOOKUP('BASE DE RESPUESTAS'!AJ17,Back!$M$16:$N$20,2,0)),\"\")","v":""},{"$f":"+IFERROR((VLOOKUP('BASE DE RESPUESTAS'!AK17,Back!$M$16:$N$20,2,0)),\"\")","v":""},{"$f":"+IFERROR((VLOOKUP('BASE DE RESPUESTAS'!AL17,Back!$M$16:$N$20,2,0)),\"\")","v":""},{"$f":"+IFERROR((VLOOKUP('BASE DE RESPUESTAS'!AM17,Back!$M$16:$N$20,2,0)),\"\")","v":""},{"$f":"+IFERROR((VLOOKUP('BASE DE RESPUESTAS'!AN17,Back!$M$16:$N$20,2,0)),\"\")","v":""},{"$f":"+IFERROR((VLOOKUP('BASE DE RESPUESTAS'!AO17,Back!$M$16:$N$20,2,0)),\"\")","v":""},{"$f":"+IFERROR((VLOOKUP('BASE DE RESPUESTAS'!AP17,Back!$M$16:$N$20,2,0)),\"\")","v":""},{"$f":"+IFERROR((VLOOKUP('BASE DE RESPUESTAS'!AQ17,Back!$M$16:$N$20,2,0)),\"\")","v":""},{"$f":"+IFERROR((VLOOKUP('BASE DE RESPUESTAS'!AR17,Back!$M$16:$N$20,2,0)),\"\")","v":""},{"$f":"+IFERROR((VLOOKUP('BASE DE RESPUESTAS'!AS17,Back!$M$16:$N$20,2,0)),\"\")","v":""},{"$f":"+IFERROR((VLOOKUP('BASE DE RESPUESTAS'!AT17,Back!$M$16:$N$20,2,0)),\"\")","v":""},{"$f":"+IFERROR((VLOOKUP('BASE DE RESPUESTAS'!AU17,Back!$M$16:$N$20,2,0)),\"\")","v":""},{"$f":"+IFERROR((VLOOKUP('BASE DE RESPUESTAS'!AV17,Back!$M$16:$N$20,2,0)),\"\")","v":""},{"$f":"+IFERROR((VLOOKUP('BASE DE RESPUESTAS'!AW17,Back!$M$16:$N$20,2,0)),\"\")","v":""},{"$f":"+IFERROR((VLOOKUP('BASE DE RESPUESTAS'!AX17,Back!$M$16:$N$20,2,0)),\"\")","v":""},{"$f":"+IFERROR((VLOOKUP('BASE DE RESPUESTAS'!AY17,Back!$M$16:$N$20,2,0)),\"\")","v":""},{"$f":"+IFERROR((VLOOKUP('BASE DE RESPUESTAS'!AZ17,Back!$M$16:$N$20,2,0)),\"\")","v":""},{"$f":"+IFERROR((VLOOKUP('BASE DE RESPUESTAS'!BA17,Back!$M$16:$N$20,2,0)),\"\")","v":""},{"$f":"+IFERROR((VLOOKUP('BASE DE RESPUESTAS'!BB17,Back!$M$16:$N$20,2,0)),\"\")","v":""},{"$f":"+IFERROR((VLOOKUP('BASE DE RESPUESTAS'!BC17,Back!$M$16:$N$20,2,0)),\"\")","v":""},{"$f":"+IFERROR((VLOOKUP('BASE DE RESPUESTAS'!BD17,Back!$M$16:$N$20,2,0)),\"\")","v":""},{"$f":"+IFERROR((VLOOKUP('BASE DE RESPUESTAS'!BE17,Back!$M$16:$N$20,2,0)),\"\")","v":""}]
[null,null,null,"La o el estudiante practica hábitos de higiene personal de manera autónoma.",null,"",null,{"$f":"+IFERROR((VLOOKUP('BASE DE RESPUESTAS'!H18,Back!$M$16:$N$20,2,0)),\"\")","v":""},{"$f":"+IFERROR((VLOOKUP('BASE DE RESPUESTAS'!I18,Back!$M$16:$N$20,2,0)),\"\")","v":""},{"$f":"+IFERROR((VLOOKUP('BASE DE RESPUESTAS'!J18,Back!$M$16:$N$20,2,0)),\"\")","v":""},{"$f":"+IFERROR((VLOOKUP('BASE DE RESPUESTAS'!K18,Back!$M$16:$N$20,2,0)),\"\")","v":""},{"$f":"+IFERROR((VLOOKUP('BASE DE RESPUESTAS'!L18,Back!$M$16:$N$20,2,0)),\"\")","v":""},{"$f":"+IFERROR((VLOOKUP('BASE DE RESPUESTAS'!M18,Back!$M$16:$N$20,2,0)),\"\")","v":""},{"$f":"+IFERROR((VLOOKUP('BASE DE RESPUESTAS'!N18,Back!$M$16:$N$20,2,0)),\"\")","v":""},{"$f":"+IFERROR((VLOOKUP('BASE DE RESPUESTAS'!O18,Back!$M$16:$N$20,2,0)),\"\")","v":""},{"$f":"+IFERROR((VLOOKUP('BASE DE RESPUESTAS'!P18,Back!$M$16:$N$20,2,0)),\"\")","v":""},{"$f":"+IFERROR((VLOOKUP('BASE DE RESPUESTAS'!Q18,Back!$M$16:$N$20,2,0)),\"\")","v":""},{"$f":"+IFERROR((VLOOKUP('BASE DE RESPUESTAS'!R18,Back!$M$16:$N$20,2,0)),\"\")","v":""},{"$f":"+IFERROR((VLOOKUP('BASE DE RESPUESTAS'!S18,Back!$M$16:$N$20,2,0)),\"\")","v":""},{"$f":"+IFERROR((VLOOKUP('BASE DE RESPUESTAS'!T18,Back!$M$16:$N$20,2,0)),\"\")","v":""},{"$f":"+IFERROR((VLOOKUP('BASE DE RESPUESTAS'!U18,Back!$M$16:$N$20,2,0)),\"\")","v":""},{"$f":"+IFERROR((VLOOKUP('BASE DE RESPUESTAS'!V18,Back!$M$16:$N$20,2,0)),\"\")","v":""},{"$f":"+IFERROR((VLOOKUP('BASE DE RESPUESTAS'!W18,Back!$M$16:$N$20,2,0)),\"\")","v":""},{"$f":"+IFERROR((VLOOKUP('BASE DE RESPUESTAS'!X18,Back!$M$16:$N$20,2,0)),\"\")","v":""},{"$f":"+IFERROR((VLOOKUP('BASE DE RESPUESTAS'!Y18,Back!$M$16:$N$20,2,0)),\"\")","v":""},{"$f":"+IFERROR((VLOOKUP('BASE DE RESPUESTAS'!Z18,Back!$M$16:$N$20,2,0)),\"\")","v":""},{"$f":"+IFERROR((VLOOKUP('BASE DE RESPUESTAS'!AA18,Back!$M$16:$N$20,2,0)),\"\")","v":""},{"$f":"+IFERROR((VLOOKUP('BASE DE RESPUESTAS'!AB18,Back!$M$16:$N$20,2,0)),\"\")","v":""},{"$f":"+IFERROR((VLOOKUP('BASE DE RESPUESTAS'!AC18,Back!$M$16:$N$20,2,0)),\"\")","v":""},{"$f":"+IFERROR((VLOOKUP('BASE DE RESPUESTAS'!AD18,Back!$M$16:$N$20,2,0)),\"\")","v":""},{"$f":"+IFERROR((VLOOKUP('BASE DE RESPUESTAS'!AE18,Back!$M$16:$N$20,2,0)),\"\")","v":""},{"$f":"+IFERROR((VLOOKUP('BASE DE RESPUESTAS'!AF18,Back!$M$16:$N$20,2,0)),\"\")","v":""},{"$f":"+IFERROR((VLOOKUP('BASE DE RESPUESTAS'!AG18,Back!$M$16:$N$20,2,0)),\"\")","v":""},{"$f":"+IFERROR((VLOOKUP('BASE DE RESPUESTAS'!AH18,Back!$M$16:$N$20,2,0)),\"\")","v":""},{"$f":"+IFERROR((VLOOKUP('BASE DE RESPUESTAS'!AI18,Back!$M$16:$N$20,2,0)),\"\")","v":""},{"$f":"+IFERROR((VLOOKUP('BASE DE RESPUESTAS'!AJ18,Back!$M$16:$N$20,2,0)),\"\")","v":""},{"$f":"+IFERROR((VLOOKUP('BASE DE RESPUESTAS'!AK18,Back!$M$16:$N$20,2,0)),\"\")","v":""},{"$f":"+IFERROR((VLOOKUP('BASE DE RESPUESTAS'!AL18,Back!$M$16:$N$20,2,0)),\"\")","v":""},{"$f":"+IFERROR((VLOOKUP('BASE DE RESPUESTAS'!AM18,Back!$M$16:$N$20,2,0)),\"\")","v":""},{"$f":"+IFERROR((VLOOKUP('BASE DE RESPUESTAS'!AN18,Back!$M$16:$N$20,2,0)),\"\")","v":""},{"$f":"+IFERROR((VLOOKUP('BASE DE RESPUESTAS'!AO18,Back!$M$16:$N$20,2,0)),\"\")","v":""},{"$f":"+IFERROR((VLOOKUP('BASE DE RESPUESTAS'!AP18,Back!$M$16:$N$20,2,0)),\"\")","v":""},{"$f":"+IFERROR((VLOOKUP('BASE DE RESPUESTAS'!AQ18,Back!$M$16:$N$20,2,0)),\"\")","v":""},{"$f":"+IFERROR((VLOOKUP('BASE DE RESPUESTAS'!AR18,Back!$M$16:$N$20,2,0)),\"\")","v":""},{"$f":"+IFERROR((VLOOKUP('BASE DE RESPUESTAS'!AS18,Back!$M$16:$N$20,2,0)),\"\")","v":""},{"$f":"+IFERROR((VLOOKUP('BASE DE RESPUESTAS'!AT18,Back!$M$16:$N$20,2,0)),\"\")","v":""},{"$f":"+IFERROR((VLOOKUP('BASE DE RESPUESTAS'!AU18,Back!$M$16:$N$20,2,0)),\"\")","v":""},{"$f":"+IFERROR((VLOOKUP('BASE DE RESPUESTAS'!AV18,Back!$M$16:$N$20,2,0)),\"\")","v":""},{"$f":"+IFERROR((VLOOKUP('BASE DE RESPUESTAS'!AW18,Back!$M$16:$N$20,2,0)),\"\")","v":""},{"$f":"+IFERROR((VLOOKUP('BASE DE RESPUESTAS'!AX18,Back!$M$16:$N$20,2,0)),\"\")","v":""},{"$f":"+IFERROR((VLOOKUP('BASE DE RESPUESTAS'!AY18,Back!$M$16:$N$20,2,0)),\"\")","v":""},{"$f":"+IFERROR((VLOOKUP('BASE DE RESPUESTAS'!AZ18,Back!$M$16:$N$20,2,0)),\"\")","v":""},{"$f":"+IFERROR((VLOOKUP('BASE DE RESPUESTAS'!BA18,Back!$M$16:$N$20,2,0)),\"\")","v":""},{"$f":"+IFERROR((VLOOKUP('BASE DE RESPUESTAS'!BB18,Back!$M$16:$N$20,2,0)),\"\")","v":""},{"$f":"+IFERROR((VLOOKUP('BASE DE RESPUESTAS'!BC18,Back!$M$16:$N$20,2,0)),\"\")","v":""},{"$f":"+IFERROR((VLOOKUP('BASE DE RESPUESTAS'!BD18,Back!$M$16:$N$20,2,0)),\"\")","v":""},{"$f":"+IFERROR((VLOOKUP('BASE DE RESPUESTAS'!BE18,Back!$M$16:$N$20,2,0)),\"\")","v":""}]
[null,null,null,"La o el estudiante expresa cuando algo le incomoda o se siente en peligro y acude a una persona de confianza.",null,"",null,{"$f":"+IFERROR((VLOOKUP('BASE DE RESPUESTAS'!H19,Back!$M$16:$N$20,2,0)),\"\")","v":""},{"$f":"+IFERROR((VLOOKUP('BASE DE RESPUESTAS'!I19,Back!$M$16:$N$20,2,0)),\"\")","v":""},{"$f":"+IFERROR((VLOOKUP('BASE DE RESPUESTAS'!J19,Back!$M$16:$N$20,2,0)),\"\")","v":""},{"$f":"+IFERROR((VLOOKUP('BASE DE RESPUESTAS'!K19,Back!$M$16:$N$20,2,0)),\"\")","v":""},{"$f":"+IFERROR((VLOOKUP('BASE DE RESPUESTAS'!L19,Back!$M$16:$N$20,2,0)),\"\")","v":""},{"$f":"+IFERROR((VLOOKUP('BASE DE RESPUESTAS'!M19,Back!$M$16:$N$20,2,0)),\"\")","v":""},{"$f":"+IFERROR((VLOOKUP('BASE DE RESPUESTAS'!N19,Back!$M$16:$N$20,2,0)),\"\")","v":""},{"$f":"+IFERROR((VLOOKUP('BASE DE RESPUESTAS'!O19,Back!$M$16:$N$20,2,0)),\"\")","v":""},{"$f":"+IFERROR((VLOOKUP('BASE DE RESPUESTAS'!P19,Back!$M$16:$N$20,2,0)),\"\")","v":""},{"$f":"+IFERROR((VLOOKUP('BASE DE RESPUESTAS'!Q19,Back!$M$16:$N$20,2,0)),\"\")","v":""},{"$f":"+IFERROR((VLOOKUP('BASE DE RESPUESTAS'!R19,Back!$M$16:$N$20,2,0)),\"\")","v":""},{"$f":"+IFERROR((VLOOKUP('BASE DE RESPUESTAS'!S19,Back!$M$16:$N$20,2,0)),\"\")","v":""},{"$f":"+IFERROR((VLOOKUP('BASE DE RESPUESTAS'!T19,Back!$M$16:$N$20,2,0)),\"\")","v":""},{"$f":"+IFERROR((VLOOKUP('BASE DE RESPUESTAS'!U19,Back!$M$16:$N$20,2,0)),\"\")","v":""},{"$f":"+IFERROR((VLOOKUP('BASE DE RESPUESTAS'!V19,Back!$M$16:$N$20,2,0)),\"\")","v":""},{"$f":"+IFERROR((VLOOKUP('BASE DE RESPUESTAS'!W19,Back!$M$16:$N$20,2,0)),\"\")","v":""},{"$f":"+IFERROR((VLOOKUP('BASE DE RESPUESTAS'!X19,Back!$M$16:$N$20,2,0)),\"\")","v":""},{"$f":"+IFERROR((VLOOKUP('BASE DE RESPUESTAS'!Y19,Back!$M$16:$N$20,2,0)),\"\")","v":""},{"$f":"+IFERROR((VLOOKUP('BASE DE RESPUESTAS'!Z19,Back!$M$16:$N$20,2,0)),\"\")","v":""},{"$f":"+IFERROR((VLOOKUP('BASE DE RESPUESTAS'!AA19,Back!$M$16:$N$20,2,0)),\"\")","v":""},{"$f":"+IFERROR((VLOOKUP('BASE DE RESPUESTAS'!AB19,Back!$M$16:$N$20,2,0)),\"\")","v":""},{"$f":"+IFERROR((VLOOKUP('BASE DE RESPUESTAS'!AC19,Back!$M$16:$N$20,2,0)),\"\")","v":""},{"$f":"+IFERROR((VLOOKUP('BASE DE RESPUESTAS'!AD19,Back!$M$16:$N$20,2,0)),\"\")","v":""},{"$f":"+IFERROR((VLOOKUP('BASE DE RESPUESTAS'!AE19,Back!$M$16:$N$20,2,0)),\"\")","v":""},{"$f":"+IFERROR((VLOOKUP('BASE DE RESPUESTAS'!AF19,Back!$M$16:$N$20,2,0)),\"\")","v":""},{"$f":"+IFERROR((VLOOKUP('BASE DE RESPUESTAS'!AG19,Back!$M$16:$N$20,2,0)),\"\")","v":""},{"$f":"+IFERROR((VLOOKUP('BASE DE RESPUESTAS'!AH19,Back!$M$16:$N$20,2,0)),\"\")","v":""},{"$f":"+IFERROR((VLOOKUP('BASE DE RESPUESTAS'!AI19,Back!$M$16:$N$20,2,0)),\"\")","v":""},{"$f":"+IFERROR((VLOOKUP('BASE DE RESPUESTAS'!AJ19,Back!$M$16:$N$20,2,0)),\"\")","v":""},{"$f":"+IFERROR((VLOOKUP('BASE DE RESPUESTAS'!AK19,Back!$M$16:$N$20,2,0)),\"\")","v":""},{"$f":"+IFERROR((VLOOKUP('BASE DE RESPUESTAS'!AL19,Back!$M$16:$N$20,2,0)),\"\")","v":""},{"$f":"+IFERROR((VLOOKUP('BASE DE RESPUESTAS'!AM19,Back!$M$16:$N$20,2,0)),\"\")","v":""},{"$f":"+IFERROR((VLOOKUP('BASE DE RESPUESTAS'!AN19,Back!$M$16:$N$20,2,0)),\"\")","v":""},{"$f":"+IFERROR((VLOOKUP('BASE DE RESPUESTAS'!AO19,Back!$M$16:$N$20,2,0)),\"\")","v":""},{"$f":"+IFERROR((VLOOKUP('BASE DE RESPUESTAS'!AP19,Back!$M$16:$N$20,2,0)),\"\")","v":""},{"$f":"+IFERROR((VLOOKUP('BASE DE RESPUESTAS'!AQ19,Back!$M$16:$N$20,2,0)),\"\")","v":""},{"$f":"+IFERROR((VLOOKUP('BASE DE RESPUESTAS'!AR19,Back!$M$16:$N$20,2,0)),\"\")","v":""},{"$f":"+IFERROR((VLOOKUP('BASE DE RESPUESTAS'!AS19,Back!$M$16:$N$20,2,0)),\"\")","v":""},{"$f":"+IFERROR((VLOOKUP('BASE DE RESPUESTAS'!AT19,Back!$M$16:$N$20,2,0)),\"\")","v":""},{"$f":"+IFERROR((VLOOKUP('BASE DE RESPUESTAS'!AU19,Back!$M$16:$N$20,2,0)),\"\")","v":""},{"$f":"+IFERROR((VLOOKUP('BASE DE RESPUESTAS'!AV19,Back!$M$16:$N$20,2,0)),\"\")","v":""},{"$f":"+IFERROR((VLOOKUP('BASE DE RESPUESTAS'!AW19,Back!$M$16:$N$20,2,0)),\"\")","v":""},{"$f":"+IFERROR((VLOOKUP('BASE DE RESPUESTAS'!AX19,Back!$M$16:$N$20,2,0)),\"\")","v":""},{"$f":"+IFERROR((VLOOKUP('BASE DE RESPUESTAS'!AY19,Back!$M$16:$N$20,2,0)),\"\")","v":""},{"$f":"+IFERROR((VLOOKUP('BASE DE RESPUESTAS'!AZ19,Back!$M$16:$N$20,2,0)),\"\")","v":""},{"$f":"+IFERROR((VLOOKUP('BASE DE RESPUESTAS'!BA19,Back!$M$16:$N$20,2,0)),\"\")","v":""},{"$f":"+IFERROR((VLOOKUP('BASE DE RESPUESTAS'!BB19,Back!$M$16:$N$20,2,0)),\"\")","v":""},{"$f":"+IFERROR((VLOOKUP('BASE DE RESPUESTAS'!BC19,Back!$M$16:$N$20,2,0)),\"\")","v":""},{"$f":"+IFERROR((VLOOKUP('BASE DE RESPUESTAS'!BD19,Back!$M$16:$N$20,2,0)),\"\")","v":""},{"$f":"+IFERROR((VLOOKUP('BASE DE RESPUESTAS'!BE19,Back!$M$16:$N$20,2,0)),\"\")","v":""}]
[null,"HSE","Regulación emocional","La o el estudiante  es capaz de mantener la calma ante situaciones de conflicto o estrés, con una mínima guía de la persona adulta. ",null,"",null,{"$f":"+IFERROR(AVERAGE(Espejo!H21:H22),\"\")","v":""},{"$f":"+IFERROR(AVERAGE(Espejo!I21:I22),\"\")","v":""},{"$f":"+IFERROR(AVERAGE(Espejo!J21:J22),\"\")","v":""},{"$f":"+IFERROR(AVERAGE(Espejo!K21:K22),\"\")","v":""},{"$f":"+IFERROR(AVERAGE(Espejo!L21:L22),\"\")","v":""},{"$f":"+IFERROR(AVERAGE(Espejo!M21:M22),\"\")","v":""},{"$f":"+IFERROR(AVERAGE(Espejo!N21:N22),\"\")","v":""},{"$f":"+IFERROR(AVERAGE(Espejo!O21:O22),\"\")","v":""},{"$f":"+IFERROR(AVERAGE(Espejo!P21:P22),\"\")","v":""},{"$f":"+IFERROR(AVERAGE(Espejo!Q21:Q22),\"\")","v":""},{"$f":"+IFERROR(AVERAGE(Espejo!R21:R22),\"\")","v":""},{"$f":"+IFERROR(AVERAGE(Espejo!S21:S22),\"\")","v":""},{"$f":"+IFERROR(AVERAGE(Espejo!T21:T22),\"\")","v":""},{"$f":"+IFERROR(AVERAGE(Espejo!U21:U22),\"\")","v":""},{"$f":"+IFERROR(AVERAGE(Espejo!V21:V22),\"\")","v":""},{"$f":"+IFERROR(AVERAGE(Espejo!W21:W22),\"\")","v":""},{"$f":"+IFERROR(AVERAGE(Espejo!X21:X22),\"\")","v":""},{"$f":"+IFERROR(AVERAGE(Espejo!Y21:Y22),\"\")","v":""},{"$f":"+IFERROR(AVERAGE(Espejo!Z21:Z22),\"\")","v":""},{"$f":"+IFERROR(AVERAGE(Espejo!AA21:AA22),\"\")","v":""},{"$f":"+IFERROR(AVERAGE(Espejo!AB21:AB22),\"\")","v":""},{"$f":"+IFERROR(AVERAGE(Espejo!AC21:AC22),\"\")","v":""},{"$f":"+IFERROR(AVERAGE(Espejo!AD21:AD22),\"\")","v":""},{"$f":"+IFERROR(AVERAGE(Espejo!AE21:AE22),\"\")","v":""},{"$f":"+IFERROR(AVERAGE(Espejo!AF21:AF22),\"\")","v":""},{"$f":"+IFERROR(AVERAGE(Espejo!AG21:AG22),\"\")","v":""},{"$f":"+IFERROR(AVERAGE(Espejo!AH21:AH22),\"\")","v":""},{"$f":"+IFERROR(AVERAGE(Espejo!AI21:AI22),\"\")","v":""},{"$f":"+IFERROR(AVERAGE(Espejo!AJ21:AJ22),\"\")","v":""},{"$f":"+IFERROR(AVERAGE(Espejo!AK21:AK22),\"\")","v":""},{"$f":"+IFERROR(AVERAGE(Espejo!AL21:AL22),\"\")","v":""},{"$f":"+IFERROR(AVERAGE(Espejo!AM21:AM22),\"\")","v":""},{"$f":"+IFERROR(AVERAGE(Espejo!AN21:AN22),\"\")","v":""},{"$f":"+IFERROR(AVERAGE(Espejo!AO21:AO22),\"\")","v":""},{"$f":"+IFERROR(AVERAGE(Espejo!AP21:AP22),\"\")","v":""},{"$f":"+IFERROR(AVERAGE(Espejo!AQ21:AQ22),\"\")","v":""},{"$f":"+IFERROR(AVERAGE(Espejo!AR21:AR22),\"\")","v":""},{"$f":"+IFERROR(AVERAGE(Espejo!AS21:AS22),\"\")","v":""},{"$f":"+IFERROR(AVERAGE(Espejo!AT21:AT22),\"\")","v":""},{"$f":"+IFERROR(AVERAGE(Espejo!AU21:AU22),\"\")","v":""},{"$f":"+IFERROR(AVERAGE(Espejo!AV21:AV22),\"\")","v":""},{"$f":"+IFERROR(AVERAGE(Espejo!AW21:AW22),\"\")","v":""},{"$f":"+IFERROR(AVERAGE(Espejo!AX21:AX22),\"\")","v":""},{"$f":"+IFERROR(AVERAGE(Espejo!AY21:AY22),\"\")","v":""},{"$f":"+IFERROR(AVERAGE(Espejo!AZ21:AZ22),\"\")","v":""},{"$f":"+IFERROR(AVERAGE(Espejo!BA21:BA22),\"\")","v":""},{"$f":"+IFERROR(AVERAGE(Espejo!BB21:BB22),\"\")","v":""},{"$f":"+IFERROR(AVERAGE(Espejo!BC21:BC22),\"\")","v":""},{"$f":"+IFERROR(AVERAGE(Espejo!BD21:BD22),\"\")","v":""},{"$f":"+IFERROR(AVERAGE(Espejo!BE21:BE22),\"\")","v":""}]
[null,null,null,"La o el estudiante reconoce qué emociones le producen bienestar o malestar y expresa qué puede hacer para sentirse mejor.",null,"",null,{"$f":"+IFERROR(AVERAGE(Espejo!H23:H24),\"\")","v":""},{"$f":"+IFERROR(AVERAGE(Espejo!I23:I24),\"\")","v":""},{"$f":"+IFERROR(AVERAGE(Espejo!J23:J24),\"\")","v":""},{"$f":"+IFERROR(AVERAGE(Espejo!K23:K24),\"\")","v":""},{"$f":"+IFERROR(AVERAGE(Espejo!L23:L24),\"\")","v":""},{"$f":"+IFERROR(AVERAGE(Espejo!M23:M24),\"\")","v":""},{"$f":"+IFERROR(AVERAGE(Espejo!N23:N24),\"\")","v":""},{"$f":"+IFERROR(AVERAGE(Espejo!O23:O24),\"\")","v":""},{"$f":"+IFERROR(AVERAGE(Espejo!P23:P24),\"\")","v":""},{"$f":"+IFERROR(AVERAGE(Espejo!Q23:Q24),\"\")","v":""},{"$f":"+IFERROR(AVERAGE(Espejo!R23:R24),\"\")","v":""},{"$f":"+IFERROR(AVERAGE(Espejo!S23:S24),\"\")","v":""},{"$f":"+IFERROR(AVERAGE(Espejo!T23:T24),\"\")","v":""},{"$f":"+IFERROR(AVERAGE(Espejo!U23:U24),\"\")","v":""},{"$f":"+IFERROR(AVERAGE(Espejo!V23:V24),\"\")","v":""},{"$f":"+IFERROR(AVERAGE(Espejo!W23:W24),\"\")","v":""},{"$f":"+IFERROR(AVERAGE(Espejo!X23:X24),\"\")","v":""},{"$f":"+IFERROR(AVERAGE(Espejo!Y23:Y24),\"\")","v":""},{"$f":"+IFERROR(AVERAGE(Espejo!Z23:Z24),\"\")","v":""},{"$f":"+IFERROR(AVERAGE(Espejo!AA23:AA24),\"\")","v":""},{"$f":"+IFERROR(AVERAGE(Espejo!AB23:AB24),\"\")","v":""},{"$f":"+IFERROR(AVERAGE(Espejo!AC23:AC24),\"\")","v":""},{"$f":"+IFERROR(AVERAGE(Espejo!AD23:AD24),\"\")","v":""},{"$f":"+IFERROR(AVERAGE(Espejo!AE23:AE24),\"\")","v":""},{"$f":"+IFERROR(AVERAGE(Espejo!AF23:AF24),\"\")","v":""},{"$f":"+IFERROR(AVERAGE(Espejo!AG23:AG24),\"\")","v":""},{"$f":"+IFERROR(AVERAGE(Espejo!AH23:AH24),\"\")","v":""},{"$f":"+IFERROR(AVERAGE(Espejo!AI23:AI24),\"\")","v":""},{"$f":"+IFERROR(AVERAGE(Espejo!AJ23:AJ24),\"\")","v":""},{"$f":"+IFERROR(AVERAGE(Espejo!AK23:AK24),\"\")","v":""},{"$f":"+IFERROR(AVERAGE(Espejo!AL23:AL24),\"\")","v":""},{"$f":"+IFERROR(AVERAGE(Espejo!AM23:AM24),\"\")","v":""},{"$f":"+IFERROR(AVERAGE(Espejo!AN23:AN24),\"\")","v":""},{"$f":"+IFERROR(AVERAGE(Espejo!AO23:AO24),\"\")","v":""},{"$f":"+IFERROR(AVERAGE(Espejo!AP23:AP24),\"\")","v":""},{"$f":"+IFERROR(AVERAGE(Espejo!AQ23:AQ24),\"\")","v":""},{"$f":"+IFERROR(AVERAGE(Espejo!AR23:AR24),\"\")","v":""},{"$f":"+IFERROR(AVERAGE(Espejo!AS23:AS24),\"\")","v":""},{"$f":"+IFERROR(AVERAGE(Espejo!AT23:AT24),\"\")","v":""},{"$f":"+IFERROR(AVERAGE(Espejo!AU23:AU24),\"\")","v":""},{"$f":"+IFERROR(AVERAGE(Espejo!AV23:AV24),\"\")","v":""},{"$f":"+IFERROR(AVERAGE(Espejo!AW23:AW24),\"\")","v":""},{"$f":"+IFERROR(AVERAGE(Espejo!AX23:AX24),\"\")","v":""},{"$f":"+IFERROR(AVERAGE(Espejo!AY23:AY24),\"\")","v":""},{"$f":"+IFERROR(AVERAGE(Espejo!AZ23:AZ24),\"\")","v":""},{"$f":"+IFERROR(AVERAGE(Espejo!BA23:BA24),\"\")","v":""},{"$f":"+IFERROR(AVERAGE(Espejo!BB23:BB24),\"\")","v":""},{"$f":"+IFERROR(AVERAGE(Espejo!BC23:BC24),\"\")","v":""},{"$f":"+IFERROR(AVERAGE(Espejo!BD23:BD24),\"\")","v":""},{"$f":"+IFERROR(AVERAGE(Espejo!BE23:BE24),\"\")","v":""}]
[null,"HSE","Creatividad","La o el estudiante propone diferentes soluciones ante un mismo problema.",null,"",null,{"$f":"+IFERROR(AVERAGE(Espejo!H25:H26),\"\")","v":""},{"$f":"+IFERROR(AVERAGE(Espejo!I25:I26),\"\")","v":""},{"$f":"+IFERROR(AVERAGE(Espejo!J25:J26),\"\")","v":""},{"$f":"+IFERROR(AVERAGE(Espejo!K25:K26),\"\")","v":""},{"$f":"+IFERROR(AVERAGE(Espejo!L25:L26),\"\")","v":""},{"$f":"+IFERROR(AVERAGE(Espejo!M25:M26),\"\")","v":""},{"$f":"+IFERROR(AVERAGE(Espejo!N25:N26),\"\")","v":""},{"$f":"+IFERROR(AVERAGE(Espejo!O25:O26),\"\")","v":""},{"$f":"+IFERROR(AVERAGE(Espejo!P25:P26),\"\")","v":""},{"$f":"+IFERROR(AVERAGE(Espejo!Q25:Q26),\"\")","v":""},{"$f":"+IFERROR(AVERAGE(Espejo!R25:R26),\"\")","v":""},{"$f":"+IFERROR(AVERAGE(Espejo!S25:S26),\"\")","v":""},{"$f":"+IFERROR(AVERAGE(Espejo!T25:T26),\"\")","v":""},{"$f":"+IFERROR(AVERAGE(Espejo!U25:U26),\"\")","v":""},{"$f":"+IFERROR(AVERAGE(Espejo!V25:V26),\"\")","v":""},{"$f":"+IFERROR(AVERAGE(Espejo!W25:W26),\"\")","v":""},{"$f":"+IFERROR(AVERAGE(Espejo!X25:X26),\"\")","v":""},{"$f":"+IFERROR(AVERAGE(Espejo!Y25:Y26),\"\")","v":""},{"$f":"+IFERROR(AVERAGE(Espejo!Z25:Z26),\"\")","v":""},{"$f":"+IFERROR(AVERAGE(Espejo!AA25:AA26),\"\")","v":""},{"$f":"+IFERROR(AVERAGE(Espejo!AB25:AB26),\"\")","v":""},{"$f":"+IFERROR(AVERAGE(Espejo!AC25:AC26),\"\")","v":""},{"$f":"+IFERROR(AVERAGE(Espejo!AD25:AD26),\"\")","v":""},{"$f":"+IFERROR(AVERAGE(Espejo!AE25:AE26),\"\")","v":""},{"$f":"+IFERROR(AVERAGE(Espejo!AF25:AF26),\"\")","v":""},{"$f":"+IFERROR(AVERAGE(Espejo!AG25:AG26),\"\")","v":""},{"$f":"+IFERROR(AVERAGE(Espejo!AH25:AH26),\"\")","v":""},{"$f":"+IFERROR(AVERAGE(Espejo!AI25:AI26),\"\")","v":""},{"$f":"+IFERROR(AVERAGE(Espejo!AJ25:AJ26),\"\")","v":""},{"$f":"+IFERROR(AVERAGE(Espejo!AK25:AK26),\"\")","v":""},{"$f":"+IFERROR(AVERAGE(Espejo!AL25:AL26),\"\")","v":""},{"$f":"+IFERROR(AVERAGE(Espejo!AM25:AM26),\"\")","v":""},{"$f":"+IFERROR(AVERAGE(Espejo!AN25:AN26),\"\")","v":""},{"$f":"+IFERROR(AVERAGE(Espejo!AO25:AO26),\"\")","v":""},{"$f":"+IFERROR(AVERAGE(Espejo!AP25:AP26),\"\")","v":""},{"$f":"+IFERROR(AVERAGE(Espejo!AQ25:AQ26),\"\")","v":""},{"$f":"+IFERROR(AVERAGE(Espejo!AR25:AR26),\"\")","v":""},{"$f":"+IFERROR(AVERAGE(Espejo!AS25:AS26),\"\")","v":""},{"$f":"+IFERROR(AVERAGE(Espejo!AT25:AT26),\"\")","v":""},{"$f":"+IFERROR(AVERAGE(Espejo!AU25:AU26),\"\")","v":""},{"$f":"+IFERROR(AVERAGE(Espejo!AV25:AV26),\"\")","v":""},{"$f":"+IFERROR(AVERAGE(Espejo!AW25:AW26),\"\")","v":""},{"$f":"+IFERROR(AVERAGE(Espejo!AX25:AX26),\"\")","v":""},{"$f":"+IFERROR(AVERAGE(Espejo!AY25:AY26),\"\")","v":""},{"$f":"+IFERROR(AVERAGE(Espejo!AZ25:AZ26),\"\")","v":""},{"$f":"+IFERROR(AVERAGE(Espejo!BA25:BA26),\"\")","v":""},{"$f":"+IFERROR(AVERAGE(Espejo!BB25:BB26),\"\")","v":""},{"$f":"+IFERROR(AVERAGE(Espejo!BC25:BC26),\"\")","v":""},{"$f":"+IFERROR(AVERAGE(Espejo!BD25:BD26),\"\")","v":""},{"$f":"+IFERROR(AVERAGE(Espejo!BE25:BE26),\"\")","v":""}]
[null,null,null,"La o el estudiante propone actividades creativas en el grupo.",null,"",null,{"$f":"+IFERROR(AVERAGE(Espejo!H27:H28),\"\")","v":""},{"$f":"+IFERROR(AVERAGE(Espejo!I27:I28),\"\")","v":""},{"$f":"+IFERROR(AVERAGE(Espejo!J27:J28),\"\")","v":""},{"$f":"+IFERROR(AVERAGE(Espejo!K27:K28),\"\")","v":""},{"$f":"+IFERROR(AVERAGE(Espejo!L27:L28),\"\")","v":""},{"$f":"+IFERROR(AVERAGE(Espejo!M27:M28),\"\")","v":""},{"$f":"+IFERROR(AVERAGE(Espejo!N27:N28),\"\")","v":""},{"$f":"+IFERROR(AVERAGE(Espejo!O27:O28),\"\")","v":""},{"$f":"+IFERROR(AVERAGE(Espejo!P27:P28),\"\")","v":""},{"$f":"+IFERROR(AVERAGE(Espejo!Q27:Q28),\"\")","v":""},{"$f":"+IFERROR(AVERAGE(Espejo!R27:R28),\"\")","v":""},{"$f":"+IFERROR(AVERAGE(Espejo!S27:S28),\"\")","v":""},{"$f":"+IFERROR(AVERAGE(Espejo!T27:T28),\"\")","v":""},{"$f":"+IFERROR(AVERAGE(Espejo!U27:U28),\"\")","v":""},{"$f":"+IFERROR(AVERAGE(Espejo!V27:V28),\"\")","v":""},{"$f":"+IFERROR(AVERAGE(Espejo!W27:W28),\"\")","v":""},{"$f":"+IFERROR(AVERAGE(Espejo!X27:X28),\"\")","v":""},{"$f":"+IFERROR(AVERAGE(Espejo!Y27:Y28),\"\")","v":""},{"$f":"+IFERROR(AVERAGE(Espejo!Z27:Z28),\"\")","v":""},{"$f":"+IFERROR(AVERAGE(Espejo!AA27:AA28),\"\")","v":""},{"$f":"+IFERROR(AVERAGE(Espejo!AB27:AB28),\"\")","v":""},{"$f":"+IFERROR(AVERAGE(Espejo!AC27:AC28),\"\")","v":""},{"$f":"+IFERROR(AVERAGE(Espejo!AD27:AD28),\"\")","v":""},{"$f":"+IFERROR(AVERAGE(Espejo!AE27:AE28),\"\")","v":""},{"$f":"+IFERROR(AVERAGE(Espejo!AF27:AF28),\"\")","v":""},{"$f":"+IFERROR(AVERAGE(Espejo!AG27:AG28),\"\")","v":""},{"$f":"+IFERROR(AVERAGE(Espejo!AH27:AH28),\"\")","v":""},{"$f":"+IFERROR(AVERAGE(Espejo!AI27:AI28),\"\")","v":""},{"$f":"+IFERROR(AVERAGE(Espejo!AJ27:AJ28),\"\")","v":""},{"$f":"+IFERROR(AVERAGE(Espejo!AK27:AK28),\"\")","v":""},{"$f":"+IFERROR(AVERAGE(Espejo!AL27:AL28),\"\")","v":""},{"$f":"+IFERROR(AVERAGE(Espejo!AM27:AM28),\"\")","v":""},{"$f":"+IFERROR(AVERAGE(Espejo!AN27:AN28),\"\")","v":""},{"$f":"+IFERROR(AVERAGE(Espejo!AO27:AO28),\"\")","v":""},{"$f":"+IFERROR(AVERAGE(Espejo!AP27:AP28),\"\")","v":""},{"$f":"+IFERROR(AVERAGE(Espejo!AQ27:AQ28),\"\")","v":""},{"$f":"+IFERROR(AVERAGE(Espejo!AR27:AR28),\"\")","v":""},{"$f":"+IFERROR(AVERAGE(Espejo!AS27:AS28),\"\")","v":""},{"$f":"+IFERROR(AVERAGE(Espejo!AT27:AT28),\"\")","v":""},{"$f":"+IFERROR(AVERAGE(Espejo!AU27:AU28),\"\")","v":""},{"$f":"+IFERROR(AVERAGE(Espejo!AV27:AV28),\"\")","v":""},{"$f":"+IFERROR(AVERAGE(Espejo!AW27:AW28),\"\")","v":""},{"$f":"+IFERROR(AVERAGE(Espejo!AX27:AX28),\"\")","v":""},{"$f":"+IFERROR(AVERAGE(Espejo!AY27:AY28),\"\")","v":""},{"$f":"+IFERROR(AVERAGE(Espejo!AZ27:AZ28),\"\")","v":""},{"$f":"+IFERROR(AVERAGE(Espejo!BA27:BA28),\"\")","v":""},{"$f":"+IFERROR(AVERAGE(Espejo!BB27:BB28),\"\")","v":""},{"$f":"+IFERROR(AVERAGE(Espejo!BC27:BC28),\"\")","v":""},{"$f":"+IFERROR(AVERAGE(Espejo!BD27:BD28),\"\")","v":""},{"$f":"+IFERROR(AVERAGE(Espejo!BE27:BE28),\"\")","v":""}]
[null,"HSE","Toma de decisiones responsables","La o el estudiante evalúa diferentes opciones antes de tomar decisiones.",null,"",null,{"$f":"+IFERROR(AVERAGE(Espejo!H29:H30),\"\")","v":""},{"$f":"+IFERROR(AVERAGE(Espejo!I29:I30),\"\")","v":""},{"$f":"+IFERROR(AVERAGE(Espejo!J29:J30),\"\")","v":""},{"$f":"+IFERROR(AVERAGE(Espejo!K29:K30),\"\")","v":""},{"$f":"+IFERROR(AVERAGE(Espejo!L29:L30),\"\")","v":""},{"$f":"+IFERROR(AVERAGE(Espejo!M29:M30),\"\")","v":""},{"$f":"+IFERROR(AVERAGE(Espejo!N29:N30),\"\")","v":""},{"$f":"+IFERROR(AVERAGE(Espejo!O29:O30),\"\")","v":""},{"$f":"+IFERROR(AVERAGE(Espejo!P29:P30),\"\")","v":""},{"$f":"+IFERROR(AVERAGE(Espejo!Q29:Q30),\"\")","v":""},{"$f":"+IFERROR(AVERAGE(Espejo!R29:R30),\"\")","v":""},{"$f":"+IFERROR(AVERAGE(Espejo!S29:S30),\"\")","v":""},{"$f":"+IFERROR(AVERAGE(Espejo!T29:T30),\"\")","v":""},{"$f":"+IFERROR(AVERAGE(Espejo!U29:U30),\"\")","v":""},{"$f":"+IFERROR(AVERAGE(Espejo!V29:V30),\"\")","v":""},{"$f":"+IFERROR(AVERAGE(Espejo!W29:W30),\"\")","v":""},{"$f":"+IFERROR(AVERAGE(Espejo!X29:X30),\"\")","v":""},{"$f":"+IFERROR(AVERAGE(Espejo!Y29:Y30),\"\")","v":""},{"$f":"+IFERROR(AVERAGE(Espejo!Z29:Z30),\"\")","v":""},{"$f":"+IFERROR(AVERAGE(Espejo!AA29:AA30),\"\")","v":""},{"$f":"+IFERROR(AVERAGE(Espejo!AB29:AB30),\"\")","v":""},{"$f":"+IFERROR(AVERAGE(Espejo!AC29:AC30),\"\")","v":""},{"$f":"+IFERROR(AVERAGE(Espejo!AD29:AD30),\"\")","v":""},{"$f":"+IFERROR(AVERAGE(Espejo!AE29:AE30),\"\")","v":""},{"$f":"+IFERROR(AVERAGE(Espejo!AF29:AF30),\"\")","v":""},{"$f":"+IFERROR(AVERAGE(Espejo!AG29:AG30),\"\")","v":""},{"$f":"+IFERROR(AVERAGE(Espejo!AH29:AH30),\"\")","v":""},{"$f":"+IFERROR(AVERAGE(Espejo!AI29:AI30),\"\")","v":""},{"$f":"+IFERROR(AVERAGE(Espejo!AJ29:AJ30),\"\")","v":""},{"$f":"+IFERROR(AVERAGE(Espejo!AK29:AK30),\"\")","v":""},{"$f":"+IFERROR(AVERAGE(Espejo!AL29:AL30),\"\")","v":""},{"$f":"+IFERROR(AVERAGE(Espejo!AM29:AM30),\"\")","v":""},{"$f":"+IFERROR(AVERAGE(Espejo!AN29:AN30),\"\")","v":""},{"$f":"+IFERROR(AVERAGE(Espejo!AO29:AO30),\"\")","v":""},{"$f":"+IFERROR(AVERAGE(Espejo!AP29:AP30),\"\")","v":""},{"$f":"+IFERROR(AVERAGE(Espejo!AQ29:AQ30),\"\")","v":""},{"$f":"+IFERROR(AVERAGE(Espejo!AR29:AR30),\"\")","v":""},{"$f":"+IFERROR(AVERAGE(Espejo!AS29:AS30),\"\")","v":""},{"$f":"+IFERROR(AVERAGE(Espejo!AT29:AT30),\"\")","v":""},{"$f":"+IFERROR(AVERAGE(Espejo!AU29:AU30),\"\")","v":""},{"$f":"+IFERROR(AVERAGE(Espejo!AV29:AV30),\"\")","v":""},{"$f":"+IFERROR(AVERAGE(Espejo!AW29:AW30),\"\")","v":""},{"$f":"+IFERROR(AVERAGE(Espejo!AX29:AX30),\"\")","v":""},{"$f":"+IFERROR(AVERAGE(Espejo!AY29:AY30),\"\")","v":""},{"$f":"+IFERROR(AVERAGE(Espejo!AZ29:AZ30),\"\")","v":""},{"$f":"+IFERROR(AVERAGE(Espejo!BA29:BA30),\"\")","v":""},{"$f":"+IFERROR(AVERAGE(Espejo!BB29:BB30),\"\")","v":""},{"$f":"+IFERROR(AVERAGE(Espejo!BC29:BC30),\"\")","v":""},{"$f":"+IFERROR(AVERAGE(Espejo!BD29:BD30),\"\")","v":""},{"$f":"+IFERROR(AVERAGE(Espejo!BE29:BE30),\"\")","v":""}]
[null,null,null,"La o el estudiante comprende las consecuencias positivas o negativas de sus decisiones.",null,"",null,{"$f":"+IFERROR(AVERAGE(Espejo!H31:H32),\"\")","v":""},{"$f":"+IFERROR(AVERAGE(Espejo!I31:I32),\"\")","v":""},{"$f":"+IFERROR(AVERAGE(Espejo!J31:J32),\"\")","v":""},{"$f":"+IFERROR(AVERAGE(Espejo!K31:K32),\"\")","v":""},{"$f":"+IFERROR(AVERAGE(Espejo!L31:L32),\"\")","v":""},{"$f":"+IFERROR(AVERAGE(Espejo!M31:M32),\"\")","v":""},{"$f":"+IFERROR(AVERAGE(Espejo!N31:N32),\"\")","v":""},{"$f":"+IFERROR(AVERAGE(Espejo!O31:O32),\"\")","v":""},{"$f":"+IFERROR(AVERAGE(Espejo!P31:P32),\"\")","v":""},{"$f":"+IFERROR(AVERAGE(Espejo!Q31:Q32),\"\")","v":""},{"$f":"+IFERROR(AVERAGE(Espejo!R31:R32),\"\")","v":""},{"$f":"+IFERROR(AVERAGE(Espejo!S31:S32),\"\")","v":""},{"$f":"+IFERROR(AVERAGE(Espejo!T31:T32),\"\")","v":""},{"$f":"+IFERROR(AVERAGE(Espejo!U31:U32),\"\")","v":""},{"$f":"+IFERROR(AVERAGE(Espejo!V31:V32),\"\")","v":""},{"$f":"+IFERROR(AVERAGE(Espejo!W31:W32),\"\")","v":""},{"$f":"+IFERROR(AVERAGE(Espejo!X31:X32),\"\")","v":""},{"$f":"+IFERROR(AVERAGE(Espejo!Y31:Y32),\"\")","v":""},{"$f":"+IFERROR(AVERAGE(Espejo!Z31:Z32),\"\")","v":""},{"$f":"+IFERROR(AVERAGE(Espejo!AA31:AA32),\"\")","v":""},{"$f":"+IFERROR(AVERAGE(Espejo!AB31:AB32),\"\")","v":""},{"$f":"+IFERROR(AVERAGE(Espejo!AC31:AC32),\"\")","v":""},{"$f":"+IFERROR(AVERAGE(Espejo!AD31:AD32),\"\")","v":""},{"$f":"+IFERROR(AVERAGE(Espejo!AE31:AE32),\"\")","v":""},{"$f":"+IFERROR(AVERAGE(Espejo!AF31:AF32),\"\")","v":""},{"$f":"+IFERROR(AVERAGE(Espejo!AG31:AG32),\"\")","v":""},{"$f":"+IFERROR(AVERAGE(Espejo!AH31:AH32),\"\")","v":""},{"$f":"+IFERROR(AVERAGE(Espejo!AI31:AI32),\"\")","v":""},{"$f":"+IFERROR(AVERAGE(Espejo!AJ31:AJ32),\"\")","v":""},{"$f":"+IFERROR(AVERAGE(Espejo!AK31:AK32),\"\")","v":""},{"$f":"+IFERROR(AVERAGE(Espejo!AL31:AL32),\"\")","v":""},{"$f":"+IFERROR(AVERAGE(Espejo!AM31:AM32),\"\")","v":""},{"$f":"+IFERROR(AVERAGE(Espejo!AN31:AN32),\"\")","v":""},{"$f":"+IFERROR(AVERAGE(Espejo!AO31:AO32),\"\")","v":""},{"$f":"+IFERROR(AVERAGE(Espejo!AP31:AP32),\"\")","v":""},{"$f":"+IFERROR(AVERAGE(Espejo!AQ31:AQ32),\"\")","v":""},{"$f":"+IFERROR(AVERAGE(Espejo!AR31:AR32),\"\")","v":""},{"$f":"+IFERROR(AVERAGE(Espejo!AS31:AS32),\"\")","v":""},{"$f":"+IFERROR(AVERAGE(Espejo!AT31:AT32),\"\")","v":""},{"$f":"+IFERROR(AVERAGE(Espejo!AU31:AU32),\"\")","v":""},{"$f":"+IFERROR(AVERAGE(Espejo!AV31:AV32),\"\")","v":""},{"$f":"+IFERROR(AVERAGE(Espejo!AW31:AW32),\"\")","v":""},{"$f":"+IFERROR(AVERAGE(Espejo!AX31:AX32),\"\")","v":""},{"$f":"+IFERROR(AVERAGE(Espejo!AY31:AY32),\"\")","v":""},{"$f":"+IFERROR(AVERAGE(Espejo!AZ31:AZ32),\"\")","v":""},{"$f":"+IFERROR(AVERAGE(Espejo!BA31:BA32),\"\")","v":""},{"$f":"+IFERROR(AVERAGE(Espejo!BB31:BB32),\"\")","v":""},{"$f":"+IFERROR(AVERAGE(Espejo!BC31:BC32),\"\")","v":""},{"$f":"+IFERROR(AVERAGE(Espejo!BD31:BD32),\"\")","v":""},{"$f":"+IFERROR(AVERAGE(Espejo!BE31:BE32),\"\")","v":""}]
[null,"HSE","Comunicación asertiva","La o el estudiante practica la escucha activa.",null,"",null,{"$f":"+IFERROR(AVERAGE(Espejo!H33:H34),\"\")","v":""},{"$f":"+IFERROR(AVERAGE(Espejo!I33:I34),\"\")","v":""},{"$f":"+IFERROR(AVERAGE(Espejo!J33:J34),\"\")","v":""},{"$f":"+IFERROR(AVERAGE(Espejo!K33:K34),\"\")","v":""},{"$f":"+IFERROR(AVERAGE(Espejo!L33:L34),\"\")","v":""},{"$f":"+IFERROR(AVERAGE(Espejo!M33:M34),\"\")","v":""},{"$f":"+IFERROR(AVERAGE(Espejo!N33:N34),\"\")","v":""},{"$f":"+IFERROR(AVERAGE(Espejo!O33:O34),\"\")","v":""},{"$f":"+IFERROR(AVERAGE(Espejo!P33:P34),\"\")","v":""},{"$f":"+IFERROR(AVERAGE(Espejo!Q33:Q34),\"\")","v":""},{"$f":"+IFERROR(AVERAGE(Espejo!R33:R34),\"\")","v":""},{"$f":"+IFERROR(AVERAGE(Espejo!S33:S34),\"\")","v":""},{"$f":"+IFERROR(AVERAGE(Espejo!T33:T34),\"\")","v":""},{"$f":"+IFERROR(AVERAGE(Espejo!U33:U34),\"\")","v":""},{"$f":"+IFERROR(AVERAGE(Espejo!V33:V34),\"\")","v":""},{"$f":"+IFERROR(AVERAGE(Espejo!W33:W34),\"\")","v":""},{"$f":"+IFERROR(AVERAGE(Espejo!X33:X34),\"\")","v":""},{"$f":"+IFERROR(AVERAGE(Espejo!Y33:Y34),\"\")","v":""},{"$f":"+IFERROR(AVERAGE(Espejo!Z33:Z34),\"\")","v":""},{"$f":"+IFERROR(AVERAGE(Espejo!AA33:AA34),\"\")","v":""},{"$f":"+IFERROR(AVERAGE(Espejo!AB33:AB34),\"\")","v":""},{"$f":"+IFERROR(AVERAGE(Espejo!AC33:AC34),\"\")","v":""},{"$f":"+IFERROR(AVERAGE(Espejo!AD33:AD34),\"\")","v":""},{"$f":"+IFERROR(AVERAGE(Espejo!AE33:AE34),\"\")","v":""},{"$f":"+IFERROR(AVERAGE(Espejo!AF33:AF34),\"\")","v":""},{"$f":"+IFERROR(AVERAGE(Espejo!AG33:AG34),\"\")","v":""},{"$f":"+IFERROR(AVERAGE(Espejo!AH33:AH34),\"\")","v":""},{"$f":"+IFERROR(AVERAGE(Espejo!AI33:AI34),\"\")","v":""},{"$f":"+IFERROR(AVERAGE(Espejo!AJ33:AJ34),\"\")","v":""},{"$f":"+IFERROR(AVERAGE(Espejo!AK33:AK34),\"\")","v":""},{"$f":"+IFERROR(AVERAGE(Espejo!AL33:AL34),\"\")","v":""},{"$f":"+IFERROR(AVERAGE(Espejo!AM33:AM34),\"\")","v":""},{"$f":"+IFERROR(AVERAGE(Espejo!AN33:AN34),\"\")","v":""},{"$f":"+IFERROR(AVERAGE(Espejo!AO33:AO34),\"\")","v":""},{"$f":"+IFERROR(AVERAGE(Espejo!AP33:AP34),\"\")","v":""},{"$f":"+IFERROR(AVERAGE(Espejo!AQ33:AQ34),\"\")","v":""},{"$f":"+IFERROR(AVERAGE(Espejo!AR33:AR34),\"\")","v":""},{"$f":"+IFERROR(AVERAGE(Espejo!AS33:AS34),\"\")","v":""},{"$f":"+IFERROR(AVERAGE(Espejo!AT33:AT34),\"\")","v":""},{"$f":"+IFERROR(AVERAGE(Espejo!AU33:AU34),\"\")","v":""},{"$f":"+IFERROR(AVERAGE(Espejo!AV33:AV34),\"\")","v":""},{"$f":"+IFERROR(AVERAGE(Espejo!AW33:AW34),\"\")","v":""},{"$f":"+IFERROR(AVERAGE(Espejo!AX33:AX34),\"\")","v":""},{"$f":"+IFERROR(AVERAGE(Espejo!AY33:AY34),\"\")","v":""},{"$f":"+IFERROR(AVERAGE(Espejo!AZ33:AZ34),\"\")","v":""},{"$f":"+IFERROR(AVERAGE(Espejo!BA33:BA34),\"\")","v":""},{"$f":"+IFERROR(AVERAGE(Espejo!BB33:BB34),\"\")","v":""},{"$f":"+IFERROR(AVERAGE(Espejo!BC33:BC34),\"\")","v":""},{"$f":"+IFERROR(AVERAGE(Espejo!BD33:BD34),\"\")","v":""},{"$f":"+IFERROR(AVERAGE(Espejo!BE33:BE34),\"\")","v":""}]
[null,null,null,"La o el estudiante comunica de forma clara sus necesidades e intereses, sin agredir a otras personas.",null,"",null,{"$f":"+IFERROR(AVERAGE(Espejo!H35:H36),\"\")","v":""},{"$f":"+IFERROR(AVERAGE(Espejo!I35:I36),\"\")","v":""},{"$f":"+IFERROR(AVERAGE(Espejo!J35:J36),\"\")","v":""},{"$f":"+IFERROR(AVERAGE(Espejo!K35:K36),\"\")","v":""},{"$f":"+IFERROR(AVERAGE(Espejo!L35:L36),\"\")","v":""},{"$f":"+IFERROR(AVERAGE(Espejo!M35:M36),\"\")","v":""},{"$f":"+IFERROR(AVERAGE(Espejo!N35:N36),\"\")","v":""},{"$f":"+IFERROR(AVERAGE(Espejo!O35:O36),\"\")","v":""},{"$f":"+IFERROR(AVERAGE(Espejo!P35:P36),\"\")","v":""},{"$f":"+IFERROR(AVERAGE(Espejo!Q35:Q36),\"\")","v":""},{"$f":"+IFERROR(AVERAGE(Espejo!R35:R36),\"\")","v":""},{"$f":"+IFERROR(AVERAGE(Espejo!S35:S36),\"\")","v":""},{"$f":"+IFERROR(AVERAGE(Espejo!T35:T36),\"\")","v":""},{"$f":"+IFERROR(AVERAGE(Espejo!U35:U36),\"\")","v":""},{"$f":"+IFERROR(AVERAGE(Espejo!V35:V36),\"\")","v":""},{"$f":"+IFERROR(AVERAGE(Espejo!W35:W36),\"\")","v":""},{"$f":"+IFERROR(AVERAGE(Espejo!X35:X36),\"\")","v":""},{"$f":"+IFERROR(AVERAGE(Espejo!Y35:Y36),\"\")","v":""},{"$f":"+IFERROR(AVERAGE(Espejo!Z35:Z36),\"\")","v":""},{"$f":"+IFERROR(AVERAGE(Espejo!AA35:AA36),\"\")","v":""},{"$f":"+IFERROR(AVERAGE(Espejo!AB35:AB36),\"\")","v":""},{"$f":"+IFERROR(AVERAGE(Espejo!AC35:AC36),\"\")","v":""},{"$f":"+IFERROR(AVERAGE(Espejo!AD35:AD36),\"\")","v":""},{"$f":"+IFERROR(AVERAGE(Espejo!AE35:AE36),\"\")","v":""},{"$f":"+IFERROR(AVERAGE(Espejo!AF35:AF36),\"\")","v":""},{"$f":"+IFERROR(AVERAGE(Espejo!AG35:AG36),\"\")","v":""},{"$f":"+IFERROR(AVERAGE(Espejo!AH35:AH36),\"\")","v":""},{"$f":"+IFERROR(AVERAGE(Espejo!AI35:AI36),\"\")","v":""},{"$f":"+IFERROR(AVERAGE(Espejo!AJ35:AJ36),\"\")","v":""},{"$f":"+IFERROR(AVERAGE(Espejo!AK35:AK36),\"\")","v":""},{"$f":"+IFERROR(AVERAGE(Espejo!AL35:AL36),\"\")","v":""},{"$f":"+IFERROR(AVERAGE(Espejo!AM35:AM36),\"\")","v":""},{"$f":"+IFERROR(AVERAGE(Espejo!AN35:AN36),\"\")","v":""},{"$f":"+IFERROR(AVERAGE(Espejo!AO35:AO36),\"\")","v":""},{"$f":"+IFERROR(AVERAGE(Espejo!AP35:AP36),\"\")","v":""},{"$f":"+IFERROR(AVERAGE(Espejo!AQ35:AQ36),\"\")","v":""},{"$f":"+IFERROR(AVERAGE(Espejo!AR35:AR36),\"\")","v":""},{"$f":"+IFERROR(AVERAGE(Espejo!AS35:AS36),\"\")","v":""},{"$f":"+IFERROR(AVERAGE(Espejo!AT35:AT36),\"\")","v":""},{"$f":"+IFERROR(AVERAGE(Espejo!AU35:AU36),\"\")","v":""},{"$f":"+IFERROR(AVERAGE(Espejo!AV35:AV36),\"\")","v":""},{"$f":"+IFERROR(AVERAGE(Espejo!AW35:AW36),\"\")","v":""},{"$f":"+IFERROR(AVERAGE(Espejo!AX35:AX36),\"\")","v":""},{"$f":"+IFERROR(AVERAGE(Espejo!AY35:AY36),\"\")","v":""},{"$f":"+IFERROR(AVERAGE(Espejo!AZ35:AZ36),\"\")","v":""},{"$f":"+IFERROR(AVERAGE(Espejo!BA35:BA36),\"\")","v":""},{"$f":"+IFERROR(AVERAGE(Espejo!BB35:BB36),\"\")","v":""},{"$f":"+IFERROR(AVERAGE(Espejo!BC35:BC36),\"\")","v":""},{"$f":"+IFERROR(AVERAGE(Espejo!BD35:BD36),\"\")","v":""},{"$f":"+IFERROR(AVERAGE(Espejo!BE35:BE36),\"\")","v":""}]
[null,"HSE","Trabajo en Equipo","La o el estudiante trabaja con sus compañeras/os colaborativamente.",null,"",null,{"$f":"+IFERROR(AVERAGE(Espejo!H37:H39),\"\")","v":""},{"$f":"+IFERROR(AVERAGE(Espejo!I37:I39),\"\")","v":""},{"$f":"+IFERROR(AVERAGE(Espejo!J37:J39),\"\")","v":""},{"$f":"+IFERROR(AVERAGE(Espejo!K37:K39),\"\")","v":""},{"$f":"+IFERROR(AVERAGE(Espejo!L37:L39),\"\")","v":""},{"$f":"+IFERROR(AVERAGE(Espejo!M37:M39),\"\")","v":""},{"$f":"+IFERROR(AVERAGE(Espejo!N37:N39),\"\")","v":""},{"$f":"+IFERROR(AVERAGE(Espejo!O37:O39),\"\")","v":""},{"$f":"+IFERROR(AVERAGE(Espejo!P37:P39),\"\")","v":""},{"$f":"+IFERROR(AVERAGE(Espejo!Q37:Q39),\"\")","v":""},{"$f":"+IFERROR(AVERAGE(Espejo!R37:R39),\"\")","v":""},{"$f":"+IFERROR(AVERAGE(Espejo!S37:S39),\"\")","v":""},{"$f":"+IFERROR(AVERAGE(Espejo!T37:T39),\"\")","v":""},{"$f":"+IFERROR(AVERAGE(Espejo!U37:U39),\"\")","v":""},{"$f":"+IFERROR(AVERAGE(Espejo!V37:V39),\"\")","v":""},{"$f":"+IFERROR(AVERAGE(Espejo!W37:W39),\"\")","v":""},{"$f":"+IFERROR(AVERAGE(Espejo!X37:X39),\"\")","v":""},{"$f":"+IFERROR(AVERAGE(Espejo!Y37:Y39),\"\")","v":""},{"$f":"+IFERROR(AVERAGE(Espejo!Z37:Z39),\"\")","v":""},{"$f":"+IFERROR(AVERAGE(Espejo!AA37:AA39),\"\")","v":""},{"$f":"+IFERROR(AVERAGE(Espejo!AB37:AB39),\"\")","v":""},{"$f":"+IFERROR(AVERAGE(Espejo!AC37:AC39),\"\")","v":""},{"$f":"+IFERROR(AVERAGE(Espejo!AD37:AD39),\"\")","v":""},{"$f":"+IFERROR(AVERAGE(Espejo!AE37:AE39),\"\")","v":""},{"$f":"+IFERROR(AVERAGE(Espejo!AF37:AF39),\"\")","v":""},{"$f":"+IFERROR(AVERAGE(Espejo!AG37:AG39),\"\")","v":""},{"$f":"+IFERROR(AVERAGE(Espejo!AH37:AH39),\"\")","v":""},{"$f":"+IFERROR(AVERAGE(Espejo!AI37:AI39),\"\")","v":""},{"$f":"+IFERROR(AVERAGE(Espejo!AJ37:AJ39),\"\")","v":""},{"$f":"+IFERROR(AVERAGE(Espejo!AK37:AK39),\"\")","v":""},{"$f":"+IFERROR(AVERAGE(Espejo!AL37:AL39),\"\")","v":""},{"$f":"+IFERROR(AVERAGE(Espejo!AM37:AM39),\"\")","v":""},{"$f":"+IFERROR(AVERAGE(Espejo!AN37:AN39),\"\")","v":""},{"$f":"+IFERROR(AVERAGE(Espejo!AO37:AO39),\"\")","v":""},{"$f":"+IFERROR(AVERAGE(Espejo!AP37:AP39),\"\")","v":""},{"$f":"+IFERROR(AVERAGE(Espejo!AQ37:AQ39),\"\")","v":""},{"$f":"+IFERROR(AVERAGE(Espejo!AR37:AR39),\"\")","v":""},{"$f":"+IFERROR(AVERAGE(Espejo!AS37:AS39),\"\")","v":""},{"$f":"+IFERROR(AVERAGE(Espejo!AT37:AT39),\"\")","v":""},{"$f":"+IFERROR(AVERAGE(Espejo!AU37:AU39),\"\")","v":""},{"$f":"+IFERROR(AVERAGE(Espejo!AV37:AV39),\"\")","v":""},{"$f":"+IFERROR(AVERAGE(Espejo!AW37:AW39),\"\")","v":""},{"$f":"+IFERROR(AVERAGE(Espejo!AX37:AX39),\"\")","v":""},{"$f":"+IFERROR(AVERAGE(Espejo!AY37:AY39),\"\")","v":""},{"$f":"+IFERROR(AVERAGE(Espejo!AZ37:AZ39),\"\")","v":""},{"$f":"+IFERROR(AVERAGE(Espejo!BA37:BA39),\"\")","v":""},{"$f":"+IFERROR(AVERAGE(Espejo!BB37:BB39),\"\")","v":""},{"$f":"+IFERROR(AVERAGE(Espejo!BC37:BC39),\"\")","v":""},{"$f":"+IFERROR(AVERAGE(Espejo!BD37:BD39),\"\")","v":""},{"$f":"+IFERROR(AVERAGE(Espejo!BE37:BE39),\"\")","v":""}]
[null,null,null,"La o el estudiante cumple con las indicaciones y plazos de las tareas contribuyendo al trabajo en equipo.",null,"",null,{"$f":"+IFERROR(AVERAGE(Espejo!H40:H41),\"\")","v":""},{"$f":"+IFERROR(AVERAGE(Espejo!I40:I41),\"\")","v":""},{"$f":"+IFERROR(AVERAGE(Espejo!J40:J41),\"\")","v":""},{"$f":"+IFERROR(AVERAGE(Espejo!K40:K41),\"\")","v":""},{"$f":"+IFERROR(AVERAGE(Espejo!L40:L41),\"\")","v":""},{"$f":"+IFERROR(AVERAGE(Espejo!M40:M41),\"\")","v":""},{"$f":"+IFERROR(AVERAGE(Espejo!N40:N41),\"\")","v":""},{"$f":"+IFERROR(AVERAGE(Espejo!O40:O41),\"\")","v":""},{"$f":"+IFERROR(AVERAGE(Espejo!P40:P41),\"\")","v":""},{"$f":"+IFERROR(AVERAGE(Espejo!Q40:Q41),\"\")","v":""},{"$f":"+IFERROR(AVERAGE(Espejo!R40:R41),\"\")","v":""},{"$f":"+IFERROR(AVERAGE(Espejo!S40:S41),\"\")","v":""},{"$f":"+IFERROR(AVERAGE(Espejo!T40:T41),\"\")","v":""},{"$f":"+IFERROR(AVERAGE(Espejo!U40:U41),\"\")","v":""},{"$f":"+IFERROR(AVERAGE(Espejo!V40:V41),\"\")","v":""},{"$f":"+IFERROR(AVERAGE(Espejo!W40:W41),\"\")","v":""},{"$f":"+IFERROR(AVERAGE(Espejo!X40:X41),\"\")","v":""},{"$f":"+IFERROR(AVERAGE(Espejo!Y40:Y41),\"\")","v":""},{"$f":"+IFERROR(AVERAGE(Espejo!Z40:Z41),\"\")","v":""},{"$f":"+IFERROR(AVERAGE(Espejo!AA40:AA41),\"\")","v":""},{"$f":"+IFERROR(AVERAGE(Espejo!AB40:AB41),\"\")","v":""},{"$f":"+IFERROR(AVERAGE(Espejo!AC40:AC41),\"\")","v":""},{"$f":"+IFERROR(AVERAGE(Espejo!AD40:AD41),\"\")","v":""},{"$f":"+IFERROR(AVERAGE(Espejo!AE40:AE41),\"\")","v":""},{"$f":"+IFERROR(AVERAGE(Espejo!AF40:AF41),\"\")","v":""},{"$f":"+IFERROR(AVERAGE(Espejo!AG40:AG41),\"\")","v":""},{"$f":"+IFERROR(AVERAGE(Espejo!AH40:AH41),\"\")","v":""},{"$f":"+IFERROR(AVERAGE(Espejo!AI40:AI41),\"\")","v":""},{"$f":"+IFERROR(AVERAGE(Espejo!AJ40:AJ41),\"\")","v":""},{"$f":"+IFERROR(AVERAGE(Espejo!AK40:AK41),\"\")","v":""},{"$f":"+IFERROR(AVERAGE(Espejo!AL40:AL41),\"\")","v":""},{"$f":"+IFERROR(AVERAGE(Espejo!AM40:AM41),\"\")","v":""},{"$f":"+IFERROR(AVERAGE(Espejo!AN40:AN41),\"\")","v":""},{"$f":"+IFERROR(AVERAGE(Espejo!AO40:AO41),\"\")","v":""},{"$f":"+IFERROR(AVERAGE(Espejo!AP40:AP41),\"\")","v":""},{"$f":"+IFERROR(AVERAGE(Espejo!AQ40:AQ41),\"\")","v":""},{"$f":"+IFERROR(AVERAGE(Espejo!AR40:AR41),\"\")","v":""},{"$f":"+IFERROR(AVERAGE(Espejo!AS40:AS41),\"\")","v":""},{"$f":"+IFERROR(AVERAGE(Espejo!AT40:AT41),\"\")","v":""},{"$f":"+IFERROR(AVERAGE(Espejo!AU40:AU41),\"\")","v":""},{"$f":"+IFERROR(AVERAGE(Espejo!AV40:AV41),\"\")","v":""},{"$f":"+IFERROR(AVERAGE(Espejo!AW40:AW41),\"\")","v":""},{"$f":"+IFERROR(AVERAGE(Espejo!AX40:AX41),\"\")","v":""},{"$f":"+IFERROR(AVERAGE(Espejo!AY40:AY41),\"\")","v":""},{"$f":"+IFERROR(AVERAGE(Espejo!AZ40:AZ41),\"\")","v":""},{"$f":"+IFERROR(AVERAGE(Espejo!BA40:BA41),\"\")","v":""},{"$f":"+IFERROR(AVERAGE(Espejo!BB40:BB41),\"\")","v":""},{"$f":"+IFERROR(AVERAGE(Espejo!BC40:BC41),\"\")","v":""},{"$f":"+IFERROR(AVERAGE(Espejo!BD40:BD41),\"\")","v":""},{"$f":"+IFERROR(AVERAGE(Espejo!BE40:BE41),\"\")","v":""}]
[null,"HSE","Empatía","La o el estudiante muestra interés en las emociones y necesidades de otras personas.",null,"",null,{"$f":"+IFERROR(AVERAGE(Espejo!H42:H43),\"\")","v":""},{"$f":"+IFERROR(AVERAGE(Espejo!I42:I43),\"\")","v":""},{"$f":"+IFERROR(AVERAGE(Espejo!J42:J43),\"\")","v":""},{"$f":"+IFERROR(AVERAGE(Espejo!K42:K43),\"\")","v":""},{"$f":"+IFERROR(AVERAGE(Espejo!L42:L43),\"\")","v":""},{"$f":"+IFERROR(AVERAGE(Espejo!M42:M43),\"\")","v":""},{"$f":"+IFERROR(AVERAGE(Espejo!N42:N43),\"\")","v":""},{"$f":"+IFERROR(AVERAGE(Espejo!O42:O43),\"\")","v":""},{"$f":"+IFERROR(AVERAGE(Espejo!P42:P43),\"\")","v":""},{"$f":"+IFERROR(AVERAGE(Espejo!Q42:Q43),\"\")","v":""},{"$f":"+IFERROR(AVERAGE(Espejo!R42:R43),\"\")","v":""},{"$f":"+IFERROR(AVERAGE(Espejo!S42:S43),\"\")","v":""},{"$f":"+IFERROR(AVERAGE(Espejo!T42:T43),\"\")","v":""},{"$f":"+IFERROR(AVERAGE(Espejo!U42:U43),\"\")","v":""},{"$f":"+IFERROR(AVERAGE(Espejo!V42:V43),\"\")","v":""},{"$f":"+IFERROR(AVERAGE(Espejo!W42:W43),\"\")","v":""},{"$f":"+IFERROR(AVERAGE(Espejo!X42:X43),\"\")","v":""},{"$f":"+IFERROR(AVERAGE(Espejo!Y42:Y43),\"\")","v":""},{"$f":"+IFERROR(AVERAGE(Espejo!Z42:Z43),\"\")","v":""},{"$f":"+IFERROR(AVERAGE(Espejo!AA42:AA43),\"\")","v":""},{"$f":"+IFERROR(AVERAGE(Espejo!AB42:AB43),\"\")","v":""},{"$f":"+IFERROR(AVERAGE(Espejo!AC42:AC43),\"\")","v":""},{"$f":"+IFERROR(AVERAGE(Espejo!AD42:AD43),\"\")","v":""},{"$f":"+IFERROR(AVERAGE(Espejo!AE42:AE43),\"\")","v":""},{"$f":"+IFERROR(AVERAGE(Espejo!AF42:AF43),\"\")","v":""},{"$f":"+IFERROR(AVERAGE(Espejo!AG42:AG43),\"\")","v":""},{"$f":"+IFERROR(AVERAGE(Espejo!AH42:AH43),\"\")","v":""},{"$f":"+IFERROR(AVERAGE(Espejo!AI42:AI43),\"\")","v":""},{"$f":"+IFERROR(AVERAGE(Espejo!AJ42:AJ43),\"\")","v":""},{"$f":"+IFERROR(AVERAGE(Espejo!AK42:AK43),\"\")","v":""},{"$f":"+IFERROR(AVERAGE(Espejo!AL42:AL43),\"\")","v":""},{"$f":"+IFERROR(AVERAGE(Espejo!AM42:AM43),\"\")","v":""},{"$f":"+IFERROR(AVERAGE(Espejo!AN42:AN43),\"\")","v":""},{"$f":"+IFERROR(AVERAGE(Espejo!AO42:AO43),\"\")","v":""},{"$f":"+IFERROR(AVERAGE(Espejo!AP42:AP43),\"\")","v":""},{"$f":"+IFERROR(AVERAGE(Espejo!AQ42:AQ43),\"\")","v":""},{"$f":"+IFERROR(AVERAGE(Espejo!AR42:AR43),\"\")","v":""},{"$f":"+IFERROR(AVERAGE(Espejo!AS42:AS43),\"\")","v":""},{"$f":"+IFERROR(AVERAGE(Espejo!AT42:AT43),\"\")","v":""},{"$f":"+IFERROR(AVERAGE(Espejo!AU42:AU43),\"\")","v":""},{"$f":"+IFERROR(AVERAGE(Espejo!AV42:AV43),\"\")","v":""},{"$f":"+IFERROR(AVERAGE(Espejo!AW42:AW43),\"\")","v":""},{"$f":"+IFERROR(AVERAGE(Espejo!AX42:AX43),\"\")","v":""},{"$f":"+IFERROR(AVERAGE(Espejo!AY42:AY43),\"\")","v":""},{"$f":"+IFERROR(AVERAGE(Espejo!AZ42:AZ43),\"\")","v":""},{"$f":"+IFERROR(AVERAGE(Espejo!BA42:BA43),\"\")","v":""},{"$f":"+IFERROR(AVERAGE(Espejo!BB42:BB43),\"\")","v":""},{"$f":"+IFERROR(AVERAGE(Espejo!BC42:BC43),\"\")","v":""},{"$f":"+IFERROR(AVERAGE(Espejo!BD42:BD43),\"\")","v":""},{"$f":"+IFERROR(AVERAGE(Espejo!BE42:BE43),\"\")","v":""}]
[null,null,null,"La o el estudiante busca cómo ayudar a otras personas para que se sientan mejor.",null,"",null,{"$f":"+IFERROR(AVERAGE(Espejo!H44:H45),\"\")","v":""},{"$f":"+IFERROR(AVERAGE(Espejo!I44:I45),\"\")","v":""},{"$f":"+IFERROR(AVERAGE(Espejo!J44:J45),\"\")","v":""},{"$f":"+IFERROR(AVERAGE(Espejo!K44:K45),\"\")","v":""},{"$f":"+IFERROR(AVERAGE(Espejo!L44:L45),\"\")","v":""},{"$f":"+IFERROR(AVERAGE(Espejo!M44:M45),\"\")","v":""},{"$f":"+IFERROR(AVERAGE(Espejo!N44:N45),\"\")","v":""},{"$f":"+IFERROR(AVERAGE(Espejo!O44:O45),\"\")","v":""},{"$f":"+IFERROR(AVERAGE(Espejo!P44:P45),\"\")","v":""},{"$f":"+IFERROR(AVERAGE(Espejo!Q44:Q45),\"\")","v":""},{"$f":"+IFERROR(AVERAGE(Espejo!R44:R45),\"\")","v":""},{"$f":"+IFERROR(AVERAGE(Espejo!S44:S45),\"\")","v":""},{"$f":"+IFERROR(AVERAGE(Espejo!T44:T45),\"\")","v":""},{"$f":"+IFERROR(AVERAGE(Espejo!U44:U45),\"\")","v":""},{"$f":"+IFERROR(AVERAGE(Espejo!V44:V45),\"\")","v":""},{"$f":"+IFERROR(AVERAGE(Espejo!W44:W45),\"\")","v":""},{"$f":"+IFERROR(AVERAGE(Espejo!X44:X45),\"\")","v":""},{"$f":"+IFERROR(AVERAGE(Espejo!Y44:Y45),\"\")","v":""},{"$f":"+IFERROR(AVERAGE(Espejo!Z44:Z45),\"\")","v":""},{"$f":"+IFERROR(AVERAGE(Espejo!AA44:AA45),\"\")","v":""},{"$f":"+IFERROR(AVERAGE(Espejo!AB44:AB45),\"\")","v":""},{"$f":"+IFERROR(AVERAGE(Espejo!AC44:AC45),\"\")","v":""},{"$f":"+IFERROR(AVERAGE(Espejo!AD44:AD45),\"\")","v":""},{"$f":"+IFERROR(AVERAGE(Espejo!AE44:AE45),\"\")","v":""},{"$f":"+IFERROR(AVERAGE(Espejo!AF44:AF45),\"\")","v":""},{"$f":"+IFERROR(AVERAGE(Espejo!AG44:AG45),\"\")","v":""},{"$f":"+IFERROR(AVERAGE(Espejo!AH44:AH45),\"\")","v":""},{"$f":"+IFERROR(AVERAGE(Espejo!AI44:AI45),\"\")","v":""},{"$f":"+IFERROR(AVERAGE(Espejo!AJ44:AJ45),\"\")","v":""},{"$f":"+IFERROR(AVERAGE(Espejo!AK44:AK45),\"\")","v":""},{"$f":"+IFERROR(AVERAGE(Espejo!AL44:AL45),\"\")","v":""},{"$f":"+IFERROR(AVERAGE(Espejo!AM44:AM45),\"\")","v":""},{"$f":"+IFERROR(AVERAGE(Espejo!AN44:AN45),\"\")","v":""},{"$f":"+IFERROR(AVERAGE(Espejo!AO44:AO45),\"\")","v":""},{"$f":"+IFERROR(AVERAGE(Espejo!AP44:AP45),\"\")","v":""},{"$f":"+IFERROR(AVERAGE(Espejo!AQ44:AQ45),\"\")","v":""},{"$f":"+IFERROR(AVERAGE(Espejo!AR44:AR45),\"\")","v":""},{"$f":"+IFERROR(AVERAGE(Espejo!AS44:AS45),\"\")","v":""},{"$f":"+IFERROR(AVERAGE(Espejo!AT44:AT45),\"\")","v":""},{"$f":"+IFERROR(AVERAGE(Espejo!AU44:AU45),\"\")","v":""},{"$f":"+IFERROR(AVERAGE(Espejo!AV44:AV45),\"\")","v":""},{"$f":"+IFERROR(AVERAGE(Espejo!AW44:AW45),\"\")","v":""},{"$f":"+IFERROR(AVERAGE(Espejo!AX44:AX45),\"\")","v":""},{"$f":"+IFERROR(AVERAGE(Espejo!AY44:AY45),\"\")","v":""},{"$f":"+IFERROR(AVERAGE(Espejo!AZ44:AZ45),\"\")","v":""},{"$f":"+IFERROR(AVERAGE(Espejo!BA44:BA45),\"\")","v":""},{"$f":"+IFERROR(AVERAGE(Espejo!BB44:BB45),\"\")","v":""},{"$f":"+IFERROR(AVERAGE(Espejo!BC44:BC45),\"\")","v":""},{"$f":"+IFERROR(AVERAGE(Espejo!BD44:BD45),\"\")","v":""},{"$f":"+IFERROR(AVERAGE(Espejo!BE44:BE45),\"\")","v":""}]
[null,"HSE","Resolución de Conflictos","La o el estudiante tiene iniciativa para solucionar problemas que pueda tener con algún/a compañera/o.",null,"",null,{"$f":"+IFERROR(AVERAGE(Espejo!H46:H47),\"\")","v":""},{"$f":"+IFERROR(AVERAGE(Espejo!I46:I47),\"\")","v":""},{"$f":"+IFERROR(AVERAGE(Espejo!J46:J47),\"\")","v":""},{"$f":"+IFERROR(AVERAGE(Espejo!K46:K47),\"\")","v":""},{"$f":"+IFERROR(AVERAGE(Espejo!L46:L47),\"\")","v":""},{"$f":"+IFERROR(AVERAGE(Espejo!M46:M47),\"\")","v":""},{"$f":"+IFERROR(AVERAGE(Espejo!N46:N47),\"\")","v":""},{"$f":"+IFERROR(AVERAGE(Espejo!O46:O47),\"\")","v":""},{"$f":"+IFERROR(AVERAGE(Espejo!P46:P47),\"\")","v":""},{"$f":"+IFERROR(AVERAGE(Espejo!Q46:Q47),\"\")","v":""},{"$f":"+IFERROR(AVERAGE(Espejo!R46:R47),\"\")","v":""},{"$f":"+IFERROR(AVERAGE(Espejo!S46:S47),\"\")","v":""},{"$f":"+IFERROR(AVERAGE(Espejo!T46:T47),\"\")","v":""},{"$f":"+IFERROR(AVERAGE(Espejo!U46:U47),\"\")","v":""},{"$f":"+IFERROR(AVERAGE(Espejo!V46:V47),\"\")","v":""},{"$f":"+IFERROR(AVERAGE(Espejo!W46:W47),\"\")","v":""},{"$f":"+IFERROR(AVERAGE(Espejo!X46:X47),\"\")","v":""},{"$f":"+IFERROR(AVERAGE(Espejo!Y46:Y47),\"\")","v":""},{"$f":"+IFERROR(AVERAGE(Espejo!Z46:Z47),\"\")","v":""},{"$f":"+IFERROR(AVERAGE(Espejo!AA46:AA47),\"\")","v":""},{"$f":"+IFERROR(AVERAGE(Espejo!AB46:AB47),\"\")","v":""},{"$f":"+IFERROR(AVERAGE(Espejo!AC46:AC47),\"\")","v":""},{"$f":"+IFERROR(AVERAGE(Espejo!AD46:AD47),\"\")","v":""},{"$f":"+IFERROR(AVERAGE(Espejo!AE46:AE47),\"\")","v":""},{"$f":"+IFERROR(AVERAGE(Espejo!AF46:AF47),\"\")","v":""},{"$f":"+IFERROR(AVERAGE(Espejo!AG46:AG47),\"\")","v":""},{"$f":"+IFERROR(AVERAGE(Espejo!AH46:AH47),\"\")","v":""},{"$f":"+IFERROR(AVERAGE(Espejo!AI46:AI47),\"\")","v":""},{"$f":"+IFERROR(AVERAGE(Espejo!AJ46:AJ47),\"\")","v":""},{"$f":"+IFERROR(AVERAGE(Espejo!AK46:AK47),\"\")","v":""},{"$f":"+IFERROR(AVERAGE(Espejo!AL46:AL47),\"\")","v":""},{"$f":"+IFERROR(AVERAGE(Espejo!AM46:AM47),\"\")","v":""},{"$f":"+IFERROR(AVERAGE(Espejo!AN46:AN47),\"\")","v":""},{"$f":"+IFERROR(AVERAGE(Espejo!AO46:AO47),\"\")","v":""},{"$f":"+IFERROR(AVERAGE(Espejo!AP46:AP47),\"\")","v":""},{"$f":"+IFERROR(AVERAGE(Espejo!AQ46:AQ47),\"\")","v":""},{"$f":"+IFERROR(AVERAGE(Espejo!AR46:AR47),\"\")","v":""},{"$f":"+IFERROR(AVERAGE(Espejo!AS46:AS47),\"\")","v":""},{"$f":"+IFERROR(AVERAGE(Espejo!AT46:AT47),\"\")","v":""},{"$f":"+IFERROR(AVERAGE(Espejo!AU46:AU47),\"\")","v":""},{"$f":"+IFERROR(AVERAGE(Espejo!AV46:AV47),\"\")","v":""},{"$f":"+IFERROR(AVERAGE(Espejo!AW46:AW47),\"\")","v":""},{"$f":"+IFERROR(AVERAGE(Espejo!AX46:AX47),\"\")","v":""},{"$f":"+IFERROR(AVERAGE(Espejo!AY46:AY47),\"\")","v":""},{"$f":"+IFERROR(AVERAGE(Espejo!AZ46:AZ47),\"\")","v":""},{"$f":"+IFERROR(AVERAGE(Espejo!BA46:BA47),\"\")","v":""},{"$f":"+IFERROR(AVERAGE(Espejo!BB46:BB47),\"\")","v":""},{"$f":"+IFERROR(AVERAGE(Espejo!BC46:BC47),\"\")","v":""},{"$f":"+IFERROR(AVERAGE(Espejo!BD46:BD47),\"\")","v":""},{"$f":"+IFERROR(AVERAGE(Espejo!BE46:BE47),\"\")","v":""}]
[null,null,null,"La o el estudiante tiene el interés de intervenir en problemas entre sus compañeras/os para que se solucionen sus problemas.",null,"",null,{"$f":"+IFERROR(AVERAGE(Espejo!H48:H49),\"\")","v":""},{"$f":"+IFERROR(AVERAGE(Espejo!I48:I49),\"\")","v":""},{"$f":"+IFERROR(AVERAGE(Espejo!J48:J49),\"\")","v":""},{"$f":"+IFERROR(AVERAGE(Espejo!K48:K49),\"\")","v":""},{"$f":"+IFERROR(AVERAGE(Espejo!L48:L49),\"\")","v":""},{"$f":"+IFERROR(AVERAGE(Espejo!M48:M49),\"\")","v":""},{"$f":"+IFERROR(AVERAGE(Espejo!N48:N49),\"\")","v":""},{"$f":"+IFERROR(AVERAGE(Espejo!O48:O49),\"\")","v":""},{"$f":"+IFERROR(AVERAGE(Espejo!P48:P49),\"\")","v":""},{"$f":"+IFERROR(AVERAGE(Espejo!Q48:Q49),\"\")","v":""},{"$f":"+IFERROR(AVERAGE(Espejo!R48:R49),\"\")","v":""},{"$f":"+IFERROR(AVERAGE(Espejo!S48:S49),\"\")","v":""},{"$f":"+IFERROR(AVERAGE(Espejo!T48:T49),\"\")","v":""},{"$f":"+IFERROR(AVERAGE(Espejo!U48:U49),\"\")","v":""},{"$f":"+IFERROR(AVERAGE(Espejo!V48:V49),\"\")","v":""},{"$f":"+IFERROR(AVERAGE(Espejo!W48:W49),\"\")","v":""},{"$f":"+IFERROR(AVERAGE(Espejo!X48:X49),\"\")","v":""},{"$f":"+IFERROR(AVERAGE(Espejo!Y48:Y49),\"\")","v":""},{"$f":"+IFERROR(AVERAGE(Espejo!Z48:Z49),\"\")","v":""},{"$f":"+IFERROR(AVERAGE(Espejo!AA48:AA49),\"\")","v":""},{"$f":"+IFERROR(AVERAGE(Espejo!AB48:AB49),\"\")","v":""},{"$f":"+IFERROR(AVERAGE(Espejo!AC48:AC49),\"\")","v":""},{"$f":"+IFERROR(AVERAGE(Espejo!AD48:AD49),\"\")","v":""},{"$f":"+IFERROR(AVERAGE(Espejo!AE48:AE49),\"\")","v":""},{"$f":"+IFERROR(AVERAGE(Espejo!AF48:AF49),\"\")","v":""},{"$f":"+IFERROR(AVERAGE(Espejo!AG48:AG49),\"\")","v":""},{"$f":"+IFERROR(AVERAGE(Espejo!AH48:AH49),\"\")","v":""},{"$f":"+IFERROR(AVERAGE(Espejo!AI48:AI49),\"\")","v":""},{"$f":"+IFERROR(AVERAGE(Espejo!AJ48:AJ49),\"\")","v":""},{"$f":"+IFERROR(AVERAGE(Espejo!AK48:AK49),\"\")","v":""},{"$f":"+IFERROR(AVERAGE(Espejo!AL48:AL49),\"\")","v":""},{"$f":"+IFERROR(AVERAGE(Espejo!AM48:AM49),\"\")","v":""},{"$f":"+IFERROR(AVERAGE(Espejo!AN48:AN49),\"\")","v":""},{"$f":"+IFERROR(AVERAGE(Espejo!AO48:AO49),\"\")","v":""},{"$f":"+IFERROR(AVERAGE(Espejo!AP48:AP49),\"\")","v":""},{"$f":"+IFERROR(AVERAGE(Espejo!AQ48:AQ49),\"\")","v":""},{"$f":"+IFERROR(AVERAGE(Espejo!AR48:AR49),\"\")","v":""},{"$f":"+IFERROR(AVERAGE(Espejo!AS48:AS49),\"\")","v":""},{"$f":"+IFERROR(AVERAGE(Espejo!AT48:AT49),\"\")","v":""},{"$f":"+IFERROR(AVERAGE(Espejo!AU48:AU49),\"\")","v":""},{"$f":"+IFERROR(AVERAGE(Espejo!AV48:AV49),\"\")","v":""},{"$f":"+IFERROR(AVERAGE(Espejo!AW48:AW49),\"\")","v":""},{"$f":"+IFERROR(AVERAGE(Espejo!AX48:AX49),\"\")","v":""},{"$f":"+IFERROR(AVERAGE(Espejo!AY48:AY49),\"\")","v":""},{"$f":"+IFERROR(AVERAGE(Espejo!AZ48:AZ49),\"\")","v":""},{"$f":"+IFERROR(AVERAGE(Espejo!BA48:BA49),\"\")","v":""},{"$f":"+IFERROR(AVERAGE(Espejo!BB48:BB49),\"\")","v":""},{"$f":"+IFERROR(AVERAGE(Espejo!BC48:BC49),\"\")","v":""},{"$f":"+IFERROR(AVERAGE(Espejo!BD48:BD49),\"\")","v":""},{"$f":"+IFERROR(AVERAGE(Espejo!BE48:BE49),\"\")","v":""}]
[null,"HSE","Conciencia social","La o el estudiante reconoce que las personas son diversas y que todas merecen respeto.",null,"",null,{"$f":"+IFERROR(AVERAGE(Espejo!H50:H51),\"\")","v":""},{"$f":"+IFERROR(AVERAGE(Espejo!I50:I51),\"\")","v":""},{"$f":"+IFERROR(AVERAGE(Espejo!J50:J51),\"\")","v":""},{"$f":"+IFERROR(AVERAGE(Espejo!K50:K51),\"\")","v":""},{"$f":"+IFERROR(AVERAGE(Espejo!L50:L51),\"\")","v":""},{"$f":"+IFERROR(AVERAGE(Espejo!M50:M51),\"\")","v":""},{"$f":"+IFERROR(AVERAGE(Espejo!N50:N51),\"\")","v":""},{"$f":"+IFERROR(AVERAGE(Espejo!O50:O51),\"\")","v":""},{"$f":"+IFERROR(AVERAGE(Espejo!P50:P51),\"\")","v":""},{"$f":"+IFERROR(AVERAGE(Espejo!Q50:Q51),\"\")","v":""},{"$f":"+IFERROR(AVERAGE(Espejo!R50:R51),\"\")","v":""},{"$f":"+IFERROR(AVERAGE(Espejo!S50:S51),\"\")","v":""},{"$f":"+IFERROR(AVERAGE(Espejo!T50:T51),\"\")","v":""},{"$f":"+IFERROR(AVERAGE(Espejo!U50:U51),\"\")","v":""},{"$f":"+IFERROR(AVERAGE(Espejo!V50:V51),\"\")","v":""},{"$f":"+IFERROR(AVERAGE(Espejo!W50:W51),\"\")","v":""},{"$f":"+IFERROR(AVERAGE(Espejo!X50:X51),\"\")","v":""},{"$f":"+IFERROR(AVERAGE(Espejo!Y50:Y51),\"\")","v":""},{"$f":"+IFERROR(AVERAGE(Espejo!Z50:Z51),\"\")","v":""},{"$f":"+IFERROR(AVERAGE(Espejo!AA50:AA51),\"\")","v":""},{"$f":"+IFERROR(AVERAGE(Espejo!AB50:AB51),\"\")","v":""},{"$f":"+IFERROR(AVERAGE(Espejo!AC50:AC51),\"\")","v":""},{"$f":"+IFERROR(AVERAGE(Espejo!AD50:AD51),\"\")","v":""},{"$f":"+IFERROR(AVERAGE(Espejo!AE50:AE51),\"\")","v":""},{"$f":"+IFERROR(AVERAGE(Espejo!AF50:AF51),\"\")","v":""},{"$f":"+IFERROR(AVERAGE(Espejo!AG50:AG51),\"\")","v":""},{"$f":"+IFERROR(AVERAGE(Espejo!AH50:AH51),\"\")","v":""},{"$f":"+IFERROR(AVERAGE(Espejo!AI50:AI51),\"\")","v":""},{"$f":"+IFERROR(AVERAGE(Espejo!AJ50:AJ51),\"\")","v":""},{"$f":"+IFERROR(AVERAGE(Espejo!AK50:AK51),\"\")","v":""},{"$f":"+IFERROR(AVERAGE(Espejo!AL50:AL51),\"\")","v":""},{"$f":"+IFERROR(AVERAGE(Espejo!AM50:AM51),\"\")","v":""},{"$f":"+IFERROR(AVERAGE(Espejo!AN50:AN51),\"\")","v":""},{"$f":"+IFERROR(AVERAGE(Espejo!AO50:AO51),\"\")","v":""},{"$f":"+IFERROR(AVERAGE(Espejo!AP50:AP51),\"\")","v":""},{"$f":"+IFERROR(AVERAGE(Espejo!AQ50:AQ51),\"\")","v":""},{"$f":"+IFERROR(AVERAGE(Espejo!AR50:AR51),\"\")","v":""},{"$f":"+IFERROR(AVERAGE(Espejo!AS50:AS51),\"\")","v":""},{"$f":"+IFERROR(AVERAGE(Espejo!AT50:AT51),\"\")","v":""},{"$f":"+IFERROR(AVERAGE(Espejo!AU50:AU51),\"\")","v":""},{"$f":"+IFERROR(AVERAGE(Espejo!AV50:AV51),\"\")","v":""},{"$f":"+IFERROR(AVERAGE(Espejo!AW50:AW51),\"\")","v":""},{"$f":"+IFERROR(AVERAGE(Espejo!AX50:AX51),\"\")","v":""},{"$f":"+IFERROR(AVERAGE(Espejo!AY50:AY51),\"\")","v":""},{"$f":"+IFERROR(AVERAGE(Espejo!AZ50:AZ51),\"\")","v":""},{"$f":"+IFERROR(AVERAGE(Espejo!BA50:BA51),\"\")","v":""},{"$f":"+IFERROR(AVERAGE(Espejo!BB50:BB51),\"\")","v":""},{"$f":"+IFERROR(AVERAGE(Espejo!BC50:BC51),\"\")","v":""},{"$f":"+IFERROR(AVERAGE(Espejo!BD50:BD51),\"\")","v":""},{"$f":"+IFERROR(AVERAGE(Espejo!BE50:BE51),\"\")","v":""}]
[null,null,null,"La o el estudiante es sensible ante temas de interés de su entorno inmediato (escuela, familia).",null,"",null,{"$f":"+IFERROR(AVERAGE(Espejo!H52:H53),\"\")","v":""},{"$f":"+IFERROR(AVERAGE(Espejo!I52:I53),\"\")","v":""},{"$f":"+IFERROR(AVERAGE(Espejo!J52:J53),\"\")","v":""},{"$f":"+IFERROR(AVERAGE(Espejo!K52:K53),\"\")","v":""},{"$f":"+IFERROR(AVERAGE(Espejo!L52:L53),\"\")","v":""},{"$f":"+IFERROR(AVERAGE(Espejo!M52:M53),\"\")","v":""},{"$f":"+IFERROR(AVERAGE(Espejo!N52:N53),\"\")","v":""},{"$f":"+IFERROR(AVERAGE(Espejo!O52:O53),\"\")","v":""},{"$f":"+IFERROR(AVERAGE(Espejo!P52:P53),\"\")","v":""},{"$f":"+IFERROR(AVERAGE(Espejo!Q52:Q53),\"\")","v":""},{"$f":"+IFERROR(AVERAGE(Espejo!R52:R53),\"\")","v":""},{"$f":"+IFERROR(AVERAGE(Espejo!S52:S53),\"\")","v":""},{"$f":"+IFERROR(AVERAGE(Espejo!T52:T53),\"\")","v":""},{"$f":"+IFERROR(AVERAGE(Espejo!U52:U53),\"\")","v":""},{"$f":"+IFERROR(AVERAGE(Espejo!V52:V53),\"\")","v":""},{"$f":"+IFERROR(AVERAGE(Espejo!W52:W53),\"\")","v":""},{"$f":"+IFERROR(AVERAGE(Espejo!X52:X53),\"\")","v":""},{"$f":"+IFERROR(AVERAGE(Espejo!Y52:Y53),\"\")","v":""},{"$f":"+IFERROR(AVERAGE(Espejo!Z52:Z53),\"\")","v":""},{"$f":"+IFERROR(AVERAGE(Espejo!AA52:AA53),\"\")","v":""},{"$f":"+IFERROR(AVERAGE(Espejo!AB52:AB53),\"\")","v":""},{"$f":"+IFERROR(AVERAGE(Espejo!AC52:AC53),\"\")","v":""},{"$f":"+IFERROR(AVERAGE(Espejo!AD52:AD53),\"\")","v":""},{"$f":"+IFERROR(AVERAGE(Espejo!AE52:AE53),\"\")","v":""},{"$f":"+IFERROR(AVERAGE(Espejo!AF52:AF53),\"\")","v":""},{"$f":"+IFERROR(AVERAGE(Espejo!AG52:AG53),\"\")","v":""},{"$f":"+IFERROR(AVERAGE(Espejo!AH52:AH53),\"\")","v":""},{"$f":"+IFERROR(AVERAGE(Espejo!AI52:AI53),\"\")","v":""},{"$f":"+IFERROR(AVERAGE(Espejo!AJ52:AJ53),\"\")","v":""},{"$f":"+IFERROR(AVERAGE(Espejo!AK52:AK53),\"\")","v":""},{"$f":"+IFERROR(AVERAGE(Espejo!AL52:AL53),\"\")","v":""},{"$f":"+IFERROR(AVERAGE(Espejo!AM52:AM53),\"\")","v":""},{"$f":"+IFERROR(AVERAGE(Espejo!AN52:AN53),\"\")","v":""},{"$f":"+IFERROR(AVERAGE(Espejo!AO52:AO53),\"\")","v":""},{"$f":"+IFERROR(AVERAGE(Espejo!AP52:AP53),\"\")","v":""},{"$f":"+IFERROR(AVERAGE(Espejo!AQ52:AQ53),\"\")","v":""},{"$f":"+IFERROR(AVERAGE(Espejo!AR52:AR53),\"\")","v":""},{"$f":"+IFERROR(AVERAGE(Espejo!AS52:AS53),\"\")","v":""},{"$f":"+IFERROR(AVERAGE(Espejo!AT52:AT53),\"\")","v":""},{"$f":"+IFERROR(AVERAGE(Espejo!AU52:AU53),\"\")","v":""},{"$f":"+IFERROR(AVERAGE(Espejo!AV52:AV53),\"\")","v":""},{"$f":"+IFERROR(AVERAGE(Espejo!AW52:AW53),\"\")","v":""},{"$f":"+IFERROR(AVERAGE(Espejo!AX52:AX53),\"\")","v":""},{"$f":"+IFERROR(AVERAGE(Espejo!AY52:AY53),\"\")","v":""},{"$f":"+IFERROR(AVERAGE(Espejo!AZ52:AZ53),\"\")","v":""},{"$f":"+IFERROR(AVERAGE(Espejo!BA52:BA53),\"\")","v":""},{"$f":"+IFERROR(AVERAGE(Espejo!BB52:BB53),\"\")","v":""},{"$f":"+IFERROR(AVERAGE(Espejo!BC52:BC53),\"\")","v":""},{"$f":"+IFERROR(AVERAGE(Espejo!BD52:BD53),\"\")","v":""},{"$f":"+IFERROR(AVERAGE(Espejo!BE52:BE53),\"\")","v":""}]
[null,"HSE","Comportamiento prosocial","La o el estudiante realiza acciones de bien común en el aula, por motivación propia.",null,"",null,{"$f":"+IFERROR(AVERAGE(Espejo!H54:H55),\"\")","v":""},{"$f":"+IFERROR(AVERAGE(Espejo!I54:I55),\"\")","v":""},{"$f":"+IFERROR(AVERAGE(Espejo!J54:J55),\"\")","v":""},{"$f":"+IFERROR(AVERAGE(Espejo!K54:K55),\"\")","v":""},{"$f":"+IFERROR(AVERAGE(Espejo!L54:L55),\"\")","v":""},{"$f":"+IFERROR(AVERAGE(Espejo!M54:M55),\"\")","v":""},{"$f":"+IFERROR(AVERAGE(Espejo!N54:N55),\"\")","v":""},{"$f":"+IFERROR(AVERAGE(Espejo!O54:O55),\"\")","v":""},{"$f":"+IFERROR(AVERAGE(Espejo!P54:P55),\"\")","v":""},{"$f":"+IFERROR(AVERAGE(Espejo!Q54:Q55),\"\")","v":""},{"$f":"+IFERROR(AVERAGE(Espejo!R54:R55),\"\")","v":""},{"$f":"+IFERROR(AVERAGE(Espejo!S54:S55),\"\")","v":""},{"$f":"+IFERROR(AVERAGE(Espejo!T54:T55),\"\")","v":""},{"$f":"+IFERROR(AVERAGE(Espejo!U54:U55),\"\")","v":""},{"$f":"+IFERROR(AVERAGE(Espejo!V54:V55),\"\")","v":""},{"$f":"+IFERROR(AVERAGE(Espejo!W54:W55),\"\")","v":""},{"$f":"+IFERROR(AVERAGE(Espejo!X54:X55),\"\")","v":""},{"$f":"+IFERROR(AVERAGE(Espejo!Y54:Y55),\"\")","v":""},{"$f":"+IFERROR(AVERAGE(Espejo!Z54:Z55),\"\")","v":""},{"$f":"+IFERROR(AVERAGE(Espejo!AA54:AA55),\"\")","v":""},{"$f":"+IFERROR(AVERAGE(Espejo!AB54:AB55),\"\")","v":""},{"$f":"+IFERROR(AVERAGE(Espejo!AC54:AC55),\"\")","v":""},{"$f":"+IFERROR(AVERAGE(Espejo!AD54:AD55),\"\")","v":""},{"$f":"+IFERROR(AVERAGE(Espejo!AE54:AE55),\"\")","v":""},{"$f":"+IFERROR(AVERAGE(Espejo!AF54:AF55),\"\")","v":""},{"$f":"+IFERROR(AVERAGE(Espejo!AG54:AG55),\"\")","v":""},{"$f":"+IFERROR(AVERAGE(Espejo!AH54:AH55),\"\")","v":""},{"$f":"+IFERROR(AVERAGE(Espejo!AI54:AI55),\"\")","v":""},{"$f":"+IFERROR(AVERAGE(Espejo!AJ54:AJ55),\"\")","v":""},{"$f":"+IFERROR(AVERAGE(Espejo!AK54:AK55),\"\")","v":""},{"$f":"+IFERROR(AVERAGE(Espejo!AL54:AL55),\"\")","v":""},{"$f":"+IFERROR(AVERAGE(Espejo!AM54:AM55),\"\")","v":""},{"$f":"+IFERROR(AVERAGE(Espejo!AN54:AN55),\"\")","v":""},{"$f":"+IFERROR(AVERAGE(Espejo!AO54:AO55),\"\")","v":""},{"$f":"+IFERROR(AVERAGE(Espejo!AP54:AP55),\"\")","v":""},{"$f":"+IFERROR(AVERAGE(Espejo!AQ54:AQ55),\"\")","v":""},{"$f":"+IFERROR(AVERAGE(Espejo!AR54:AR55),\"\")","v":""},{"$f":"+IFERROR(AVERAGE(Espejo!AS54:AS55),\"\")","v":""},{"$f":"+IFERROR(AVERAGE(Espejo!AT54:AT55),\"\")","v":""},{"$f":"+IFERROR(AVERAGE(Espejo!AU54:AU55),\"\")","v":""},{"$f":"+IFERROR(AVERAGE(Espejo!AV54:AV55),\"\")","v":""},{"$f":"+IFERROR(AVERAGE(Espejo!AW54:AW55),\"\")","v":""},{"$f":"+IFERROR(AVERAGE(Espejo!AX54:AX55),\"\")","v":""},{"$f":"+IFERROR(AVERAGE(Espejo!AY54:AY55),\"\")","v":""},{"$f":"+IFERROR(AVERAGE(Espejo!AZ54:AZ55),\"\")","v":""},{"$f":"+IFERROR(AVERAGE(Espejo!BA54:BA55),\"\")","v":""},{"$f":"+IFERROR(AVERAGE(Espejo!BB54:BB55),\"\")","v":""},{"$f":"+IFERROR(AVERAGE(Espejo!BC54:BC55),\"\")","v":""},{"$f":"+IFERROR(AVERAGE(Espejo!BD54:BD55),\"\")","v":""},{"$f":"+IFERROR(AVERAGE(Espejo!BE54:BE55),\"\")","v":""}]
[null,null,null,"La o el estudiante propone acciones para el cuidado del ambiente.",null,"",null,{"$f":"+IFERROR(AVERAGE(Espejo!H56:H57),\"\")","v":""},{"$f":"+IFERROR(AVERAGE(Espejo!I56:I57),\"\")","v":""},{"$f":"+IFERROR(AVERAGE(Espejo!J56:J57),\"\")","v":""},{"$f":"+IFERROR(AVERAGE(Espejo!K56:K57),\"\")","v":""},{"$f":"+IFERROR(AVERAGE(Espejo!L56:L57),\"\")","v":""},{"$f":"+IFERROR(AVERAGE(Espejo!M56:M57),\"\")","v":""},{"$f":"+IFERROR(AVERAGE(Espejo!N56:N57),\"\")","v":""},{"$f":"+IFERROR(AVERAGE(Espejo!O56:O57),\"\")","v":""},{"$f":"+IFERROR(AVERAGE(Espejo!P56:P57),\"\")","v":""},{"$f":"+IFERROR(AVERAGE(Espejo!Q56:Q57),\"\")","v":""},{"$f":"+IFERROR(AVERAGE(Espejo!R56:R57),\"\")","v":""},{"$f":"+IFERROR(AVERAGE(Espejo!S56:S57),\"\")","v":""},{"$f":"+IFERROR(AVERAGE(Espejo!T56:T57),\"\")","v":""},{"$f":"+IFERROR(AVERAGE(Espejo!U56:U57),\"\")","v":""},{"$f":"+IFERROR(AVERAGE(Espejo!V56:V57),\"\")","v":""},{"$f":"+IFERROR(AVERAGE(Espejo!W56:W57),\"\")","v":""},{"$f":"+IFERROR(AVERAGE(Espejo!X56:X57),\"\")","v":""},{"$f":"+IFERROR(AVERAGE(Espejo!Y56:Y57),\"\")","v":""},{"$f":"+IFERROR(AVERAGE(Espejo!Z56:Z57),\"\")","v":""},{"$f":"+IFERROR(AVERAGE(Espejo!AA56:AA57),\"\")","v":""},{"$f":"+IFERROR(AVERAGE(Espejo!AB56:AB57),\"\")","v":""},{"$f":"+IFERROR(AVERAGE(Espejo!AC56:AC57),\"\")","v":""},{"$f":"+IFERROR(AVERAGE(Espejo!AD56:AD57),\"\")","v":""},{"$f":"+IFERROR(AVERAGE(Espejo!AE56:AE57),\"\")","v":""},{"$f":"+IFERROR(AVERAGE(Espejo!AF56:AF57),\"\")","v":""},{"$f":"+IFERROR(AVERAGE(Espejo!AG56:AG57),\"\")","v":""},{"$f":"+IFERROR(AVERAGE(Espejo!AH56:AH57),\"\")","v":""},{"$f":"+IFERROR(AVERAGE(Espejo!AI56:AI57),\"\")","v":""},{"$f":"+IFERROR(AVERAGE(Espejo!AJ56:AJ57),\"\")","v":""},{"$f":"+IFERROR(AVERAGE(Espejo!AK56:AK57),\"\")","v":""},{"$f":"+IFERROR(AVERAGE(Espejo!AL56:AL57),\"\")","v":""},{"$f":"+IFERROR(AVERAGE(Espejo!AM56:AM57),\"\")","v":""},{"$f":"+IFERROR(AVERAGE(Espejo!AN56:AN57),\"\")","v":""},{"$f":"+IFERROR(AVERAGE(Espejo!AO56:AO57),\"\")","v":""},{"$f":"+IFERROR(AVERAGE(Espejo!AP56:AP57),\"\")","v":""},{"$f":"+IFERROR(AVERAGE(Espejo!AQ56:AQ57),\"\")","v":""},{"$f":"+IFERROR(AVERAGE(Espejo!AR56:AR57),\"\")","v":""},{"$f":"+IFERROR(AVERAGE(Espejo!AS56:AS57),\"\")","v":""},{"$f":"+IFERROR(AVERAGE(Espejo!AT56:AT57),\"\")","v":""},{"$f":"+IFERROR(AVERAGE(Espejo!AU56:AU57),\"\")","v":""},{"$f":"+IFERROR(AVERAGE(Espejo!AV56:AV57),\"\")","v":""},{"$f":"+IFERROR(AVERAGE(Espejo!AW56:AW57),\"\")","v":""},{"$f":"+IFERROR(AVERAGE(Espejo!AX56:AX57),\"\")","v":""},{"$f":"+IFERROR(AVERAGE(Espejo!AY56:AY57),\"\")","v":""},{"$f":"+IFERROR(AVERAGE(Espejo!AZ56:AZ57),\"\")","v":""},{"$f":"+IFERROR(AVERAGE(Espejo!BA56:BA57),\"\")","v":""},{"$f":"+IFERROR(AVERAGE(Espejo!BB56:BB57),\"\")","v":""},{"$f":"+IFERROR(AVERAGE(Espejo!BC56:BC57),\"\")","v":""},{"$f":"+IFERROR(AVERAGE(Espejo!BD56:BD57),\"\")","v":""},{"$f":"+IFERROR(AVERAGE(Espejo!BE56:BE57),\"\")","v":""}]
[]
[null,null,null,null,null,"Indicadores",null,{"$f":"+H4","v":"Estudiante 1"},"Estudiante 2","Estudiante 3","Estudiante 4","Estudiante 5","Estudiante 6","Estudiante 7","Estudiante 8","Estudiante 9","Estudiante 10","Estudiante 11","Estudiante 12","Estudiante 13","Estudiante 14","Estudiante 15","Estudiante 16","Estudiante 17","Estudiante 18","Estudiante 19","Estudiante 20","Estudiante 21","Estudiante 22","Estudiante 23","Estudiante 24","Estudiante 25","Estudiante 26","Estudiante 27","Estudiante 28","Estudiante 29","Estudiante 30","Estudiante 31","Estudiante 32","Estudiante 33","Estudiante 34","Estudiante 35","Estudiante 36","Estudiante 37","Estudiante 38","Estudiante 39","Estudiante 40","Estudiante 41","Estudiante 42","Estudiante 43","Estudiante 44","Estudiante 45","Estudiante 46","Estudiante 47","Estudiante 48","Estudiante 49","Estudiante 50"]
[null,null,null,null,null,"En Blanco",null,{"$f":"IFERROR(COUNTIFS(H5:H31,\"-\"),\"-\")","v":0},0,0,0,0,0,0,0,0,0,0,0,0,0,0,0,0,0,0,0,0,0,0,0,0,0,0,0,0,0,0,0,0,0,0,0,0,0,0,0,0,0,0,0,0,0,0,0,0,0]
[null,null,null,null,null,"En inicio",null,{"$f":"IFERROR(COUNTIFS(H5:H31,\">=0\",H5:H31,\"<=0.25\"),\"-\")","v":0},0,0,0,0,0,0,0,0,0,0,0,0,0,0,0,0,0,0,0,0,0,0,0,0,0,0,0,0,0,0,0,0,0,0,0,0,0,0,0,0,0,0,0,0,0,0,0,0,0]
[null,null,null,null,null,"En Proceso",null,{"$f":"IFERROR(COUNTIFS(H5:H31,\">=0.26\",H5:H31,\"<=0.74\"),\"-\")","v":0},0,0,0,0,0,0,0,0,0,0,0,0,0,0,0,0,0,0,0,0,0,0,0,0,0,0,0,0,0,0,0,0,0,0,0,0,0,0,0,0,0,0,0,0,0,0,0,0,0]
[null,null,null,null,null,"Satisfactorio",null,{"$f":"IFERROR((COUNTIFS(H5:H31,\">=0.75\")),\"-\")","v":0},0,0,0,0,0,0,0,0,0,0,0,0,0,0,0,0,0,0,0,0,0,0,0,0,0,0,0,0,0,0,0,0,0,0,0,0,0,0,0,0,0,0,0,0,0,0,0,0,0]
[null,null,null,null,null,"TOTAL",null,{"$f":"+SUM(H34:H37)","v":0},0,0,0,0,0,0,0,0,0,0,0,0,0,0,0,0,0,0,0,0,0,0,0,0,0,0,0,0,0,0,0,0,0,0,0,0,0,0,0,0,0,0,0,0,0,0,0,0,0]

{"sheet":"Resumen de Escala HSE","index":5,"n_rows":25,"n_cols":55,"rows_kept":25,"cut":false,"hidden":false,"merged":[]}
[]
[]
[]
[null,"Dimensión","Escala","Resultado Promedio del aula",null,{"$f":"+'BASE DE RESPUESTAS'!H5","v":"Estudiante 1"},{"$f":"+'BASE DE RESPUESTAS'!I5","v":"Estudiante 2"},{"$f":"+'BASE DE RESPUESTAS'!J5","v":"Estudiante 3"},{"$f":"+'BASE DE RESPUESTAS'!K5","v":"Estudiante 4"},{"$f":"+'BASE DE RESPUESTAS'!L5","v":"Estudiante 5"},{"$f":"+'BASE DE RESPUESTAS'!M5","v":"Estudiante 6"},{"$f":"+'BASE DE RESPUESTAS'!N5","v":"Estudiante 7"},{"$f":"+'BASE DE RESPUESTAS'!O5","v":"Estudiante 8"},{"$f":"+'BASE DE RESPUESTAS'!P5","v":"Estudiante 9"},{"$f":"+'BASE DE RESPUESTAS'!Q5","v":"Estudiante 10"},{"$f":"+'BASE DE RESPUESTAS'!R5","v":"Estudiante 11"},{"$f":"+'BASE DE RESPUESTAS'!S5","v":"Estudiante 12"},{"$f":"+'BASE DE RESPUESTAS'!T5","v":"Estudiante 13"},{"$f":"+'BASE DE RESPUESTAS'!U5","v":"Estudiante 14"},{"$f":"+'BASE DE RESPUESTAS'!V5","v":"Estudiante 15"},{"$f":"+'BASE DE RESPUESTAS'!W5","v":"Estudiante 16"},{"$f":"+'BASE DE RESPUESTAS'!X5","v":"Estudiante 17"},{"$f":"+'BASE DE RESPUESTAS'!Y5","v":"Estudiante 18"},{"$f":"+'BASE DE RESPUESTAS'!Z5","v":"Estudiante 19"},{"$f":"+'BASE DE RESPUESTAS'!AA5","v":"Estudiante 20"},{"$f":"+'BASE DE RESPUESTAS'!AB5","v":"Estudiante 21"},{"$f":"+'BASE DE RESPUESTAS'!AC5","v":"Estudiante 22"},{"$f":"+'BASE DE RESPUESTAS'!AD5","v":"Estudiante 23"},{"$f":"+'BASE DE RESPUESTAS'!AE5","v":"Estudiante 24"},{"$f":"+'BASE DE RESPUESTAS'!AF5","v":"Estudiante 25"},{"$f":"+'BASE DE RESPUESTAS'!AG5","v":"Estudiante 26"},{"$f":"+'BASE DE RESPUESTAS'!AH5","v":"Estudiante 27"},{"$f":"+'BASE DE RESPUESTAS'!AI5","v":"Estudiante 28"},{"$f":"+'BASE DE RESPUESTAS'!AJ5","v":"Estudiante 29"},{"$f":"+'BASE DE RESPUESTAS'!AK5","v":"Estudiante 30"},{"$f":"+'BASE DE RESPUESTAS'!AL5","v":"Estudiante 31"},{"$f":"+'BASE DE RESPUESTAS'!AM5","v":"Estudiante 32"},{"$f":"+'BASE DE RESPUESTAS'!AN5","v":"Estudiante 33"},{"$f":"+'BASE DE RESPUESTAS'!AO5","v":"Estudiante 34"},{"$f":"+'BASE DE RESPUESTAS'!AP5","v":"Estudiante 35"},{"$f":"+'BASE DE RESPUESTAS'!AQ5","v":"Estudiante 36"},{"$f":"+'BASE DE RESPUESTAS'!AR5","v":"Estudiante 37"},{"$f":"+'BASE DE RESPUESTAS'!AS5","v":"Estudiante 38"},{"$f":"+'BASE DE RESPUESTAS'!AT5","v":"Estudiante 39"},{"$f":"+'BASE DE RESPUESTAS'!AU5","v":"Estudiante 40"},{"$f":"+'BASE DE RESPUESTAS'!AV5","v":"Estudiante 41"},{"$f":"+'BASE DE RESPUESTAS'!AW5","v":"Estudiante 42"},{"$f":"+'BASE DE RESPUESTAS'!AX5","v":"Estudiante 43"},{"$f":"+'BASE DE RESPUESTAS'!AY5","v":"Estudiante 44"},{"$f":"+'BASE DE RESPUESTAS'!AZ5","v":"Estudiante 45"},{"$f":"+'BASE DE RESPUESTAS'!BA5","v":"Estudiante 46"},{"$f":"+'BASE DE RESPUESTAS'!BB5","v":"Estudiante 47"},{"$f":"+'BASE DE RESPUESTAS'!BC5","v":"Estudiante 48"},{"$f":"+'BASE DE RESPUESTAS'!BD5","v":"Estudiante 49"},{"$f":"+'BASE DE RESPUESTAS'!BE5","v":"Estudiante 50"}]
[]
[null,"HSE","Autoconcepto",{"$f":"+IFERROR(AVERAGEIFS(F6:BC6,F6:BC6,\">=0\"),\"-\")","v":"-"},null,{"$f":"+IFERROR(AVERAGEIFS('Resumen de indicadores HSE'!H5:H6,'Resumen de indicadores HSE'!H5:H6,\">=0\"),\"-\")","v":"-"},{"$f":"+IFERROR(AVERAGEIFS('Resumen de indicadores HSE'!I5:I6,'Resumen de indicadores HSE'!I5:I6,\">=0\"),\"-\")","v":"-"},{"$f":"+IFERROR(AVERAGEIFS('Resumen de indicadores HSE'!J5:J6,'Resumen de indicadores HSE'!J5:J6,\">=0\"),\"-\")","v":"-"},{"$f":"+IFERROR(AVERAGEIFS('Resumen de indicadores HSE'!K5:K6,'Resumen de indicadores HSE'!K5:K6,\">=0\"),\"-\")","v":"-"},{"$f":"+IFERROR(AVERAGEIFS('Resumen de indicadores HSE'!L5:L6,'Resumen de indicadores HSE'!L5:L6,\">=0\"),\"-\")","v":"-"},{"$f":"+IFERROR(AVERAGEIFS('Resumen de indicadores HSE'!M5:M6,'Resumen de indicadores HSE'!M5:M6,\">=0\"),\"-\")","v":"-"},{"$f":"+IFERROR(AVERAGEIFS('Resumen de indicadores HSE'!N5:N6,'Resumen de indicadores HSE'!N5:N6,\">=0\"),\"-\")","v":"-"},{"$f":"+IFERROR(AVERAGEIFS('Resumen de indicadores HSE'!O5:O6,'Resumen de indicadores HSE'!O5:O6,\">=0\"),\"-\")","v":"-"},{"$f":"+IFERROR(AVERAGEIFS('Resumen de indicadores HSE'!P5:P6,'Resumen de indicadores HSE'!P5:P6,\">=0\"),\"-\")","v":"-"},{"$f":"+IFERROR(AVERAGEIFS('Resumen de indicadores HSE'!Q5:Q6,'Resumen de indicadores HSE'!Q5:Q6,\">=0\"),\"-\")","v":"-"},{"$f":"+IFERROR(AVERAGEIFS('Resumen de indicadores HSE'!R5:R6,'Resumen de indicadores HSE'!R5:R6,\">=0\"),\"-\")","v":"-"},{"$f":"+IFERROR(AVERAGEIFS('Resumen de indicadores HSE'!S5:S6,'Resumen de indicadores HSE'!S5:S6,\">=0\"),\"-\")","v":"-"},{"$f":"+IFERROR(AVERAGEIFS('Resumen de indicadores HSE'!T5:T6,'Resumen de indicadores HSE'!T5:T6,\">=0\"),\"-\")","v":"-"},{"$f":"+IFERROR(AVERAGEIFS('Resumen de indicadores HSE'!U5:U6,'Resumen de indicadores HSE'!U5:U6,\">=0\"),\"-\")","v":"-"},{"$f":"+IFERROR(AVERAGEIFS('Resumen de indicadores HSE'!V5:V6,'Resumen de indicadores HSE'!V5:V6,\">=0\"),\"-\")","v":"-"},{"$f":"+IFERROR(AVERAGEIFS('Resumen de indicadores HSE'!W5:W6,'Resumen de indicadores HSE'!W5:W6,\">=0\"),\"-\")","v":"-"},{"$f":"+IFERROR(AVERAGEIFS('Resumen de indicadores HSE'!X5:X6,'Resumen de indicadores HSE'!X5:X6,\">=0\"),\"-\")","v":"-"},{"$f":"+IFERROR(AVERAGEIFS('Resumen de indicadores HSE'!Y5:Y6,'Resumen de indicadores HSE'!Y5:Y6,\">=0\"),\"-\")","v":"-"},{"$f":"+IFERROR(AVERAGEIFS('Resumen de indicadores HSE'!Z5:Z6,'Resumen de indicadores HSE'!Z5:Z6,\">=0\"),\"-\")","v":"-"},{"$f":"+IFERROR(AVERAGEIFS('Resumen de indicadores HSE'!AA5:AA6,'Resumen de indicadores HSE'!AA5:AA6,\">=0\"),\"-\")","v":"-"},{"$f":"+IFERROR(AVERAGEIFS('Resumen de indicadores HSE'!AB5:AB6,'Resumen de indicadores HSE'!AB5:AB6,\">=0\"),\"-\")","v":"-"},{"$f":"+IFERROR(AVERAGEIFS('Resumen de indicadores HSE'!AC5:AC6,'Resumen de indicadores HSE'!AC5:AC6,\">=0\"),\"-\")","v":"-"},{"$f":"+IFERROR(AVERAGEIFS('Resumen de indicadores HSE'!AD5:AD6,'Resumen de indicadores HSE'!AD5:AD6,\">=0\"),\"-\")","v":"-"},{"$f":"+IFERROR(AVERAGEIFS('Resumen de indicadores HSE'!AE5:AE6,'Resumen de indicadores HSE'!AE5:AE6,\">=0\"),\"-\")","v":"-"},{"$f":"+IFERROR(AVERAGEIFS('Resumen de indicadores HSE'!AF5:AF6,'Resumen de indicadores HSE'!AF5:AF6,\">=0\"),\"-\")","v":"-"},{"$f":"+IFERROR(AVERAGEIFS('Resumen de indicadores HSE'!AG5:AG6,'Resumen de indicadores HSE'!AG5:AG6,\">=0\"),\"-\")","v":"-"},{"$f":"+IFERROR(AVERAGEIFS('Resumen de indicadores HSE'!AH5:AH6,'Resumen de indicadores HSE'!AH5:AH6,\">=0\"),\"-\")","v":"-"},{"$f":"+IFERROR(AVERAGEIFS('Resumen de indicadores HSE'!AI5:AI6,'Resumen de indicadores HSE'!AI5:AI6,\">=0\"),\"-\")","v":"-"},{"$f":"+IFERROR(AVERAGEIFS('Resumen de indicadores HSE'!AJ5:AJ6,'Resumen de indicadores HSE'!AJ5:AJ6,\">=0\"),\"-\")","v":"-"},{"$f":"+IFERROR(AVERAGEIFS('Resumen de indicadores HSE'!AK5:AK6,'Resumen de indicadores HSE'!AK5:AK6,\">=0\"),\"-\")","v":"-"},{"$f":"+IFERROR(AVERAGEIFS('Resumen de indicadores HSE'!AL5:AL6,'Resumen de indicadores HSE'!AL5:AL6,\">=0\"),\"-\")","v":"-"},{"$f":"+IFERROR(AVERAGEIFS('Resumen de indicadores HSE'!AM5:AM6,'Resumen de indicadores HSE'!AM5:AM6,\">=0\"),\"-\")","v":"-"},{"$f":"+IFERROR(AVERAGEIFS('Resumen de indicadores HSE'!AN5:AN6,'Resumen de indicadores HSE'!AN5:AN6,\">=0\"),\"-\")","v":"-"},{"$f":"+IFERROR(AVERAGEIFS('Resumen de indicadores HSE'!AO5:AO6,'Resumen de indicadores HSE'!AO5:AO6,\">=0\"),\"-\")","v":"-"},{"$f":"+IFERROR(AVERAGEIFS('Resumen de indicadores HSE'!AP5:AP6,'Resumen de indicadores HSE'!AP5:AP6,\">=0\"),\"-\")","v":"-"},{"$f":"+IFERROR(AVERAGEIFS('Resumen de indicadores HSE'!AQ5:AQ6,'Resumen de indicadores HSE'!AQ5:AQ6,\">=0\"),\"-\")","v":"-"},{"$f":"+IFERROR(AVERAGEIFS('Resumen de indicadores HSE'!AR5:AR6,'Resumen de indicadores HSE'!AR5:AR6,\">=0\"),\"-\")","v":"-"},{"$f":"+IFERROR(AVERAGEIFS('Resumen de indicadores HSE'!AS5:AS6,'Resumen de indicadores HSE'!AS5:AS6,\">=0\"),\"-\")","v":"-"},{"$f":"+IFERROR(AVERAGEIFS('Resumen de indicadores HSE'!AT5:AT6,'Resumen de indicadores HSE'!AT5:AT6,\">=0\"),\"-\")","v":"-"},{"$f":"+IFERROR(AVERAGEIFS('Resumen de indicadores HSE'!AU5:AU6,'Resumen de indicadores HSE'!AU5:AU6,\">=0\"),\"-\")","v":"-"},{"$f":"+IFERROR(AVERAGEIFS('Resumen de indicadores HSE'!AV5:AV6,'Resumen de indicadores HSE'!AV5:AV6,\">=0\"),\"-\")","v":"-"},{"$f":"+IFERROR(AVERAGEIFS('Resumen de indicadores HSE'!AW5:AW6,'Resumen de indicadores HSE'!AW5:AW6,\">=0\"),\"-\")","v":"-"},{"$f":"+IFERROR(AVERAGEIFS('Resumen de indicadores HSE'!AX5:AX6,'Resumen de indicadores HSE'!AX5:AX6,\">=0\"),\"-\")","v":"-"},{"$f":"+IFERROR(AVERAGEIFS('Resumen de indicadores HSE'!AY5:AY6,'Resumen de indicadores HSE'!AY5:AY6,\">=0\"),\"-\")","v":"-"},{"$f":"+IFERROR(AVERAGEIFS('Resumen de indicadores HSE'!AZ5:AZ6,'Resumen de indicadores HSE'!AZ5:AZ6,\">=0\"),\"-\")","v":"-"},{"$f":"+IFERROR(AVERAGEIFS('Resumen de indicadores HSE'!BA5:BA6,'Resumen de indicadores HSE'!BA5:BA6,\">=0\"),\"-\")","v":"-"},{"$f":"+IFERROR(AVERAGEIFS('Resumen de indicadores HSE'!BB5:BB6,'Resumen de indicadores HSE'!BB5:BB6,\">=0\"),\"-\")","v":"-"},{"$f":"+IFERROR(AVERAGEIFS('Resumen de indicadores HSE'!BC5:BC6,'Resumen de indicadores HSE'!BC5:BC6,\">=0\"),\"-\")","v":"-"},{"$f":"+IFERROR(AVERAGEIFS('Resumen de indicadores HSE'!BD5:BD6,'Resumen de indicadores HSE'!BD5:BD6,\">=0\"),\"-\")","v":"-"},{"$f":"+IFERROR(AVERAGEIFS('Resumen de indicadores HSE'!BE5:BE6,'Resumen de indicadores HSE'!BE5:BE6,\">=0\"),\"-\")","v":"-"}]
[null,"HSE","Autoestima","-",null,{"$f":"+IFERROR(AVERAGEIFS('Resumen de indicadores HSE'!H7:H8,'Resumen de indicadores HSE'!H7:H8,\">=0\"),\"-\")","v":"-"},{"$f":"+IFERROR(AVERAGEIFS('Resumen de indicadores HSE'!I7:I8,'Resumen de indicadores HSE'!I7:I8,\">=0\"),\"-\")","v":"-"},{"$f":"+IFERROR(AVERAGEIFS('Resumen de indicadores HSE'!J7:J8,'Resumen de indicadores HSE'!J7:J8,\">=0\"),\"-\")","v":"-"},{"$f":"+IFERROR(AVERAGEIFS('Resumen de indicadores HSE'!K7:K8,'Resumen de indicadores HSE'!K7:K8,\">=0\"),\"-\")","v":"-"},{"$f":"+IFERROR(AVERAGEIFS('Resumen de indicadores HSE'!L7:L8,'Resumen de indicadores HSE'!L7:L8,\">=0\"),\"-\")","v":"-"},{"$f":"+IFERROR(AVERAGEIFS('Resumen de indicadores HSE'!M7:M8,'Resumen de indicadores HSE'!M7:M8,\">=0\"),\"-\")","v":"-"},{"$f":"+IFERROR(AVERAGEIFS('Resumen de indicadores HSE'!N7:N8,'Resumen de indicadores HSE'!N7:N8,\">=0\"),\"-\")","v":"-"},{"$f":"+IFERROR(AVERAGEIFS('Resumen de indicadores HSE'!O7:O8,'Resumen de indicadores HSE'!O7:O8,\">=0\"),\"-\")","v":"-"},{"$f":"+IFERROR(AVERAGEIFS('Resumen de indicadores HSE'!P7:P8,'Resumen de indicadores HSE'!P7:P8,\">=0\"),\"-\")","v":"-"},{"$f":"+IFERROR(AVERAGEIFS('Resumen de indicadores HSE'!Q7:Q8,'Resumen de indicadores HSE'!Q7:Q8,\">=0\"),\"-\")","v":"-"},{"$f":"+IFERROR(AVERAGEIFS('Resumen de indicadores HSE'!R7:R8,'Resumen de indicadores HSE'!R7:R8,\">=0\"),\"-\")","v":"-"},{"$f":"+IFERROR(AVERAGEIFS('Resumen de indicadores HSE'!S7:S8,'Resumen de indicadores HSE'!S7:S8,\">=0\"),\"-\")","v":"-"},{"$f":"+IFERROR(AVERAGEIFS('Resumen de indicadores HSE'!T7:T8,'Resumen de indicadores HSE'!T7:T8,\">=0\"),\"-\")","v":"-"},{"$f":"+IFERROR(AVERAGEIFS('Resumen de indicadores HSE'!U7:U8,'Resumen de indicadores HSE'!U7:U8,\">=0\"),\"-\")","v":"-"},{"$f":"+IFERROR(AVERAGEIFS('Resumen de indicadores HSE'!V7:V8,'Resumen de indicadores HSE'!V7:V8,\">=0\"),\"-\")","v":"-"},{"$f":"+IFERROR(AVERAGEIFS('Resumen de indicadores HSE'!W7:W8,'Resumen de indicadores HSE'!W7:W8,\">=0\"),\"-\")","v":"-"},{"$f":"+IFERROR(AVERAGEIFS('Resumen de indicadores HSE'!X7:X8,'Resumen de indicadores HSE'!X7:X8,\">=0\"),\"-\")","v":"-"},{"$f":"+IFERROR(AVERAGEIFS('Resumen de indicadores HSE'!Y7:Y8,'Resumen de indicadores HSE'!Y7:Y8,\">=0\"),\"-\")","v":"-"},{"$f":"+IFERROR(AVERAGEIFS('Resumen de indicadores HSE'!Z7:Z8,'Resumen de indicadores HSE'!Z7:Z8,\">=0\"),\"-\")","v":"-"},{"$f":"+IFERROR(AVERAGEIFS('Resumen de indicadores HSE'!AA7:AA8,'Resumen de indicadores HSE'!AA7:AA8,\">=0\"),\"-\")","v":"-"},{"$f":"+IFERROR(AVERAGEIFS('Resumen de indicadores HSE'!AB7:AB8,'Resumen de indicadores HSE'!AB7:AB8,\">=0\"),\"-\")","v":"-"},{"$f":"+IFERROR(AVERAGEIFS('Resumen de indicadores HSE'!AC7:AC8,'Resumen de indicadores HSE'!AC7:AC8,\">=0\"),\"-\")","v":"-"},{"$f":"+IFERROR(AVERAGEIFS('Resumen de indicadores HSE'!AD7:AD8,'Resumen de indicadores HSE'!AD7:AD8,\">=0\"),\"-\")","v":"-"},{"$f":"+IFERROR(AVERAGEIFS('Resumen de indicadores HSE'!AE7:AE8,'Resumen de indicadores HSE'!AE7:AE8,\">=0\"),\"-\")","v":"-"},{"$f":"+IFERROR(AVERAGEIFS('Resumen de indicadores HSE'!AF7:AF8,'Resumen de indicadores HSE'!AF7:AF8,\">=0\"),\"-\")","v":"-"},{"$f":"+IFERROR(AVERAGEIFS('Resumen de indicadores HSE'!AG7:AG8,'Resumen de indicadores HSE'!AG7:AG8,\">=0\"),\"-\")","v":"-"},{"$f":"+IFERROR(AVERAGEIFS('Resumen de indicadores HSE'!AH7:AH8,'Resumen de indicadores HSE'!AH7:AH8,\">=0\"),\"-\")","v":"-"},{"$f":"+IFERROR(AVERAGEIFS('Resumen de indicadores HSE'!AI7:AI8,'Resumen de indicadores HSE'!AI7:AI8,\">=0\"),\"-\")","v":"-"},{"$f":"+IFERROR(AVERAGEIFS('Resumen de indicadores HSE'!AJ7:AJ8,'Resumen de indicadores HSE'!AJ7:AJ8,\">=0\"),\"-\")","v":"-"},{"$f":"+IFERROR(AVERAGEIFS('Resumen de indicadores HSE'!AK7:AK8,'Resumen de indicadores HSE'!AK7:AK8,\">=0\"),\"-\")","v":"-"},{"$f":"+IFERROR(AVERAGEIFS('Resumen de indicadores HSE'!AL7:AL8,'Resumen de indicadores HSE'!AL7:AL8,\">=0\"),\"-\")","v":"-"},{"$f":"+IFERROR(AVERAGEIFS('Resumen de indicadores HSE'!AM7:AM8,'Resumen de indicadores HSE'!AM7:AM8,\">=0\"),\"-\")","v":"-"},{"$f":"+IFERROR(AVERAGEIFS('Resumen de indicadores HSE'!AN7:AN8,'Resumen de indicadores HSE'!AN7:AN8,\">=0\"),\"-\")","v":"-"},{"$f":"+IFERROR(AVERAGEIFS('Resumen de indicadores HSE'!AO7:AO8,'Resumen de indicadores HSE'!AO7:AO8,\">=0\"),\"-\")","v":"-"},{"$f":"+IFERROR(AVERAGEIFS('Resumen de indicadores HSE'!AP7:AP8,'Resumen de indicadores HSE'!AP7:AP8,\">=0\"),\"-\")","v":"-"},{"$f":"+IFERROR(AVERAGEIFS('Resumen de indicadores HSE'!AQ7:AQ8,'Resumen de indicadores HSE'!AQ7:AQ8,\">=0\"),\"-\")","v":"-"},{"$f":"+IFERROR(AVERAGEIFS('Resumen de indicadores HSE'!AR7:AR8,'Resumen de indicadores HSE'!AR7:AR8,\">=0\"),\"-\")","v":"-"},{"$f":"+IFERROR(AVERAGEIFS('Resumen de indicadores HSE'!AS7:AS8,'Resumen de indicadores HSE'!AS7:AS8,\">=0\"),\"-\")","v":"-"},{"$f":"+IFERROR(AVERAGEIFS('Resumen de indicadores HSE'!AT7:AT8,'Resumen de indicadores HSE'!AT7:AT8,\">=0\"),\"-\")","v":"-"},{"$f":"+IFERROR(AVERAGEIFS('Resumen de indicadores HSE'!AU7:AU8,'Resumen de indicadores HSE'!AU7:AU8,\">=0\"),\"-\")","v":"-"},{"$f":"+IFERROR(AVERAGEIFS('Resumen de indicadores HSE'!AV7:AV8,'Resumen de indicadores HSE'!AV7:AV8,\">=0\"),\"-\")","v":"-"},{"$f":"+IFERROR(AVERAGEIFS('Resumen de indicadores HSE'!AW7:AW8,'Resumen de indicadores HSE'!AW7:AW8,\">=0\"),\"-\")","v":"-"},{"$f":"+IFERROR(AVERAGEIFS('Resumen de indicadores HSE'!AX7:AX8,'Resumen de indicadores HSE'!AX7:AX8,\">=0\"),\"-\")","v":"-"},{"$f":"+IFERROR(AVERAGEIFS('Resumen de indicadores HSE'!AY7:AY8,'Resumen de indicadores HSE'!AY7:AY8,\">=0\"),\"-\")","v":"-"},{"$f":"+IFERROR(AVERAGEIFS('Resumen de indicadores HSE'!AZ7:AZ8,'Resumen de indicadores HSE'!AZ7:AZ8,\">=0\"),\"-\")","v":"-"},{"$f":"+IFERROR(AVERAGEIFS('Resumen de indicadores HSE'!BA7:BA8,'Resumen de indicadores HSE'!BA7:BA8,\">=0\"),\"-\")","v":"-"},{"$f":"+IFERROR(AVERAGEIFS('Resumen de indicadores HSE'!BB7:BB8,'Resumen de indicadores HSE'!BB7:BB8,\">=0\"),\"-\")","v":"-"},{"$f":"+IFERROR(AVERAGEIFS('Resumen de indicadores HSE'!BC7:BC8,'Resumen de indicadores HSE'!BC7:BC8,\">=0\"),\"-\")","v":"-"},{"$f":"+IFERROR(AVERAGEIFS('Resumen de indicadores HSE'!BD7:BD8,'Resumen de indicadores HSE'!BD7:BD8,\">=0\"),\"-\")","v":"-"},{"$f":"+IFERROR(AVERAGEIFS('Resumen de indicadores HSE'!BE7:BE8,'Resumen de indicadores HSE'!BE7:BE8,\">=0\"),\"-\")","v":"-"}]
[null,"HSE","Conciencia Emocional","-",null,{"$f":"+IFERROR(AVERAGEIFS('Resumen de indicadores HSE'!H9:H10,'Resumen de indicadores HSE'!H9:H10,\">=0\"),\"-\")","v":"-"},{"$f":"+IFERROR(AVERAGEIFS('Resumen de indicadores HSE'!I9:I10,'Resumen de indicadores HSE'!I9:I10,\">=0\"),\"-\")","v":"-"},{"$f":"+IFERROR(AVERAGEIFS('Resumen de indicadores HSE'!J9:J10,'Resumen de indicadores HSE'!J9:J10,\">=0\"),\"-\")","v":"-"},{"$f":"+IFERROR(AVERAGEIFS('Resumen de indicadores HSE'!K9:K10,'Resumen de indicadores HSE'!K9:K10,\">=0\"),\"-\")","v":"-"},{"$f":"+IFERROR(AVERAGEIFS('Resumen de indicadores HSE'!L9:L10,'Resumen de indicadores HSE'!L9:L10,\">=0\"),\"-\")","v":"-"},{"$f":"+IFERROR(AVERAGEIFS('Resumen de indicadores HSE'!M9:M10,'Resumen de indicadores HSE'!M9:M10,\">=0\"),\"-\")","v":"-"},{"$f":"+IFERROR(AVERAGEIFS('Resumen de indicadores HSE'!N9:N10,'Resumen de indicadores HSE'!N9:N10,\">=0\"),\"-\")","v":"-"},{"$f":"+IFERROR(AVERAGEIFS('Resumen de indicadores HSE'!O9:O10,'Resumen de indicadores HSE'!O9:O10,\">=0\"),\"-\")","v":"-"},{"$f":"+IFERROR(AVERAGEIFS('Resumen de indicadores HSE'!P9:P10,'Resumen de indicadores HSE'!P9:P10,\">=0\"),\"-\")","v":"-"},{"$f":"+IFERROR(AVERAGEIFS('Resumen de indicadores HSE'!Q9:Q10,'Resumen de indicadores HSE'!Q9:Q10,\">=0\"),\"-\")","v":"-"},{"$f":"+IFERROR(AVERAGEIFS('Resumen de indicadores HSE'!R9:R10,'Resumen de indicadores HSE'!R9:R10,\">=0\"),\"-\")","v":"-"},{"$f":"+IFERROR(AVERAGEIFS('Resumen de indicadores HSE'!S9:S10,'Resumen de indicadores HSE'!S9:S10,\">=0\"),\"-\")","v":"-"},{"$f":"+IFERROR(AVERAGEIFS('Resumen de indicadores HSE'!T9:T10,'Resumen de indicadores HSE'!T9:T10,\">=0\"),\"-\")","v":"-"},{"$f":"+IFERROR(AVERAGEIFS('Resumen de indicadores HSE'!U9:U10,'Resumen de indicadores HSE'!U9:U10,\">=0\"),\"-\")","v":"-"},{"$f":"+IFERROR(AVERAGEIFS('Resumen de indicadores HSE'!V9:V10,'Resumen de indicadores HSE'!V9:V10,\">=0\"),\"-\")","v":"-"},{"$f":"+IFERROR(AVERAGEIFS('Resumen de indicadores HSE'!W9:W10,'Resumen de indicadores HSE'!W9:W10,\">=0\"),\"-\")","v":"-"},{"$f":"+IFERROR(AVERAGEIFS('Resumen de indicadores HSE'!X9:X10,'Resumen de indicadores HSE'!X9:X10,\">=0\"),\"-\")","v":"-"},{"$f":"+IFERROR(AVERAGEIFS('Resumen de indicadores HSE'!Y9:Y10,'Resumen de indicadores HSE'!Y9:Y10,\">=0\"),\"-\")","v":"-"},{"$f":"+IFERROR(AVERAGEIFS('Resumen de indicadores HSE'!Z9:Z10,'Resumen de indicadores HSE'!Z9:Z10,\">=0\"),\"-\")","v":"-"},{"$f":"+IFERROR(AVERAGEIFS('Resumen de indicadores HSE'!AA9:AA10,'Resumen de indicadores HSE'!AA9:AA10,\">=0\"),\"-\")","v":"-"},{"$f":"+IFERROR(AVERAGEIFS('Resumen de indicadores HSE'!AB9:AB10,'Resumen de indicadores HSE'!AB9:AB10,\">=0\"),\"-\")","v":"-"},{"$f":"+IFERROR(AVERAGEIFS('Resumen de indicadores HSE'!AC9:AC10,'Resumen de indicadores HSE'!AC9:AC10,\">=0\"),\"-\")","v":"-"},{"$f":"+IFERROR(AVERAGEIFS('Resumen de indicadores HSE'!AD9:AD10,'Resumen de indicadores HSE'!AD9:AD10,\">=0\"),\"-\")","v":"-"},{"$f":"+IFERROR(AVERAGEIFS('Resumen de indicadores HSE'!AE9:AE10,'Resumen de indicadores HSE'!AE9:AE10,\">=0\"),\"-\")","v":"-"},{"$f":"+IFERROR(AVERAGEIFS('Resumen de indicadores HSE'!AF9:AF10,'Resumen de indicadores HSE'!AF9:AF10,\">=0\"),\"-\")","v":"-"},{"$f":"+IFERROR(AVERAGEIFS('Resumen de indicadores HSE'!AG9:AG10,'Resumen de indicadores HSE'!AG9:AG10,\">=0\"),\"-\")","v":"-"},{"$f":"+IFERROR(AVERAGEIFS('Resumen de indicadores HSE'!AH9:AH10,'Resumen de indicadores HSE'!AH9:AH10,\">=0\"),\"-\")","v":"-"},{"$f":"+IFERROR(AVERAGEIFS('Resumen de indicadores HSE'!AI9:AI10,'Resumen de indicadores HSE'!AI9:AI10,\">=0\"),\"-\")","v":"-"},{"$f":"+IFERROR(AVERAGEIFS('Resumen de indicadores HSE'!AJ9:AJ10,'Resumen de indicadores HSE'!AJ9:AJ10,\">=0\"),\"-\")","v":"-"},{"$f":"+IFERROR(AVERAGEIFS('Resumen de indicadores HSE'!AK9:AK10,'Resumen de indicadores HSE'!AK9:AK10,\">=0\"),\"-\")","v":"-"},{"$f":"+IFERROR(AVERAGEIFS('Resumen de indicadores HSE'!AL9:AL10,'Resumen de indicadores HSE'!AL9:AL10,\">=0\"),\"-\")","v":"-"},{"$f":"+IFERROR(AVERAGEIFS('Resumen de indicadores HSE'!AM9:AM10,'Resumen de indicadores HSE'!AM9:AM10,\">=0\"),\"-\")","v":"-"},{"$f":"+IFERROR(AVERAGEIFS('Resumen de indicadores HSE'!AN9:AN10,'Resumen de indicadores HSE'!AN9:AN10,\">=0\"),\"-\")","v":"-"},{"$f":"+IFERROR(AVERAGEIFS('Resumen de indicadores HSE'!AO9:AO10,'Resumen de indicadores HSE'!AO9:AO10,\">=0\"),\"-\")","v":"-"},{"$f":"+IFERROR(AVERAGEIFS('Resumen de indicadores HSE'!AP9:AP10,'Resumen de indicadores HSE'!AP9:AP10,\">=0\"),\"-\")","v":"-"},{"$f":"+IFERROR(AVERAGEIFS('Resumen de indicadores HSE'!AQ9:AQ10,'Resumen de indicadores HSE'!AQ9:AQ10,\">=0\"),\"-\")","v":"-"},{"$f":"+IFERROR(AVERAGEIFS('Resumen de indicadores HSE'!AR9:AR10,'Resumen de indicadores HSE'!AR9:AR10,\">=0\"),\"-\")","v":"-"},{"$f":"+IFERROR(AVERAGEIFS('Resumen de indicadores HSE'!AS9:AS10,'Resumen de indicadores HSE'!AS9:AS10,\">=0\"),\"-\")","v":"-"},{"$f":"+IFERROR(AVERAGEIFS('Resumen de indicadores HSE'!AT9:AT10,'Resumen de indicadores HSE'!AT9:AT10,\">=0\"),\"-\")","v":"-"},{"$f":"+IFERROR(AVERAGEIFS('Resumen de indicadores HSE'!AU9:AU10,'Resumen de indicadores HSE'!AU9:AU10,\">=0\"),\"-\")","v":"-"},{"$f":"+IFERROR(AVERAGEIFS('Resumen de indicadores HSE'!AV9:AV10,'Resumen de indicadores HSE'!AV9:AV10,\">=0\"),\"-\")","v":"-"},{"$f":"+IFERROR(AVERAGEIFS('Resumen de indicadores HSE'!AW9:AW10,'Resumen de indicadores HSE'!AW9:AW10,\">=0\"),\"-\")","v":"-"},{"$f":"+IFERROR(AVERAGEIFS('Resumen de indicadores HSE'!AX9:AX10,'Resumen de indicadores HSE'!AX9:AX10,\">=0\"),\"-\")","v":"-"},{"$f":"+IFERROR(AVERAGEIFS('Resumen de indicadores HSE'!AY9:AY10,'Resumen de indicadores HSE'!AY9:AY10,\">=0\"),\"-\")","v":"-"},{"$f":"+IFERROR(AVERAGEIFS('Resumen de indicadores HSE'!AZ9:AZ10,'Resumen de indicadores HSE'!AZ9:AZ10,\">=0\"),\"-\")","v":"-"},{"$f":"+IFERROR(AVERAGEIFS('Resumen de indicadores HSE'!BA9:BA10,'Resumen de indicadores HSE'!BA9:BA10,\">=0\"),\"-\")","v":"-"},{"$f":"+IFERROR(AVERAGEIFS('Resumen de indicadores HSE'!BB9:BB10,'Resumen de indicadores HSE'!BB9:BB10,\">=0\"),\"-\")","v":"-"},{"$f":"+IFERROR(AVERAGEIFS('Resumen de indicadores HSE'!BC9:BC10,'Resumen de indicadores HSE'!BC9:BC10,\">=0\"),\"-\")","v":"-"},{"$f":"+IFERROR(AVERAGEIFS('Resumen de indicadores HSE'!BD9:BD10,'Resumen de indicadores HSE'!BD9:BD10,\">=0\"),\"-\")","v":"-"},{"$f":"+IFERROR(AVERAGEIFS('Resumen de indicadores HSE'!BE9:BE10,'Resumen de indicadores HSE'!BE9:BE10,\">=0\"),\"-\")","v":"-"}]
[null,"HSE","Autocuidado","-",null,{"$f":"+IFERROR(AVERAGEIFS('Resumen de indicadores HSE'!H11:H13,'Resumen de indicadores HSE'!H11:H13,\">=0\"),\"-\")","v":"-"},{"$f":"+IFERROR(AVERAGEIFS('Resumen de indicadores HSE'!I11:I13,'Resumen de indicadores HSE'!I11:I13,\">=0\"),\"-\")","v":"-"},{"$f":"+IFERROR(AVERAGEIFS('Resumen de indicadores HSE'!J11:J13,'Resumen de indicadores HSE'!J11:J13,\">=0\"),\"-\")","v":"-"},{"$f":"+IFERROR(AVERAGEIFS('Resumen de indicadores HSE'!K11:K13,'Resumen de indicadores HSE'!K11:K13,\">=0\"),\"-\")","v":"-"},{"$f":"+IFERROR(AVERAGEIFS('Resumen de indicadores HSE'!L11:L13,'Resumen de indicadores HSE'!L11:L13,\">=0\"),\"-\")","v":"-"},{"$f":"+IFERROR(AVERAGEIFS('Resumen de indicadores HSE'!M11:M13,'Resumen de indicadores HSE'!M11:M13,\">=0\"),\"-\")","v":"-"},{"$f":"+IFERROR(AVERAGEIFS('Resumen de indicadores HSE'!N11:N13,'Resumen de indicadores HSE'!N11:N13,\">=0\"),\"-\")","v":"-"},{"$f":"+IFERROR(AVERAGEIFS('Resumen de indicadores HSE'!O11:O13,'Resumen de indicadores HSE'!O11:O13,\">=0\"),\"-\")","v":"-"},{"$f":"+IFERROR(AVERAGEIFS('Resumen de indicadores HSE'!P11:P13,'Resumen de indicadores HSE'!P11:P13,\">=0\"),\"-\")","v":"-"},{"$f":"+IFERROR(AVERAGEIFS('Resumen de indicadores HSE'!Q11:Q13,'Resumen de indicadores HSE'!Q11:Q13,\">=0\"),\"-\")","v":"-"},{"$f":"+IFERROR(AVERAGEIFS('Resumen de indicadores HSE'!R11:R13,'Resumen de indicadores HSE'!R11:R13,\">=0\"),\"-\")","v":"-"},{"$f":"+IFERROR(AVERAGEIFS('Resumen de indicadores HSE'!S11:S13,'Resumen de indicadores HSE'!S11:S13,\">=0\"),\"-\")","v":"-"},{"$f":"+IFERROR(AVERAGEIFS('Resumen de indicadores HSE'!T11:T13,'Resumen de indicadores HSE'!T11:T13,\">=0\"),\"-\")","v":"-"},{"$f":"+IFERROR(AVERAGEIFS('Resumen de indicadores HSE'!U11:U13,'Resumen de indicadores HSE'!U11:U13,\">=0\"),\"-\")","v":"-"},{"$f":"+IFERROR(AVERAGEIFS('Resumen de indicadores HSE'!V11:V13,'Resumen de indicadores HSE'!V11:V13,\">=0\"),\"-\")","v":"-"},{"$f":"+IFERROR(AVERAGEIFS('Resumen de indicadores HSE'!W11:W13,'Resumen de indicadores HSE'!W11:W13,\">=0\"),\"-\")","v":"-"},{"$f":"+IFERROR(AVERAGEIFS('Resumen de indicadores HSE'!X11:X13,'Resumen de indicadores HSE'!X11:X13,\">=0\"),\"-\")","v":"-"},{"$f":"+IFERROR(AVERAGEIFS('Resumen de indicadores HSE'!Y11:Y13,'Resumen de indicadores HSE'!Y11:Y13,\">=0\"),\"-\")","v":"-"},{"$f":"+IFERROR(AVERAGEIFS('Resumen de indicadores HSE'!Z11:Z13,'Resumen de indicadores HSE'!Z11:Z13,\">=0\"),\"-\")","v":"-"},{"$f":"+IFERROR(AVERAGEIFS('Resumen de indicadores HSE'!AA11:AA13,'Resumen de indicadores HSE'!AA11:AA13,\">=0\"),\"-\")","v":"-"},{"$f":"+IFERROR(AVERAGEIFS('Resumen de indicadores HSE'!AB11:AB13,'Resumen de indicadores HSE'!AB11:AB13,\">=0\"),\"-\")","v":"-"},{"$f":"+IFERROR(AVERAGEIFS('Resumen de indicadores HSE'!AC11:AC13,'Resumen de indicadores HSE'!AC11:AC13,\">=0\"),\"-\")","v":"-"},{"$f":"+IFERROR(AVERAGEIFS('Resumen de indicadores HSE'!AD11:AD13,'Resumen de indicadores HSE'!AD11:AD13,\">=0\"),\"-\")","v":"-"},{"$f":"+IFERROR(AVERAGEIFS('Resumen de indicadores HSE'!AE11:AE13,'Resumen de indicadores HSE'!AE11:AE13,\">=0\"),\"-\")","v":"-"},{"$f":"+IFERROR(AVERAGEIFS('Resumen de indicadores HSE'!AF11:AF13,'Resumen de indicadores HSE'!AF11:AF13,\">=0\"),\"-\")","v":"-"},{"$f":"+IFERROR(AVERAGEIFS('Resumen de indicadores HSE'!AG11:AG13,'Resumen de indicadores HSE'!AG11:AG13,\">=0\"),\"-\")","v":"-"},{"$f":"+IFERROR(AVERAGEIFS('Resumen de indicadores HSE'!AH11:AH13,'Resumen de indicadores HSE'!AH11:AH13,\">=0\"),\"-\")","v":"-"},{"$f":"+IFERROR(AVERAGEIFS('Resumen de indicadores HSE'!AI11:AI13,'Resumen de indicadores HSE'!AI11:AI13,\">=0\"),\"-\")","v":"-"},{"$f":"+IFERROR(AVERAGEIFS('Resumen de indicadores HSE'!AJ11:AJ13,'Resumen de indicadores HSE'!AJ11:AJ13,\">=0\"),\"-\")","v":"-"},{"$f":"+IFERROR(AVERAGEIFS('Resumen de indicadores HSE'!AK11:AK13,'Resumen de indicadores HSE'!AK11:AK13,\">=0\"),\"-\")","v":"-"},{"$f":"+IFERROR(AVERAGEIFS('Resumen de indicadores HSE'!AL11:AL13,'Resumen de indicadores HSE'!AL11:AL13,\">=0\"),\"-\")","v":"-"},{"$f":"+IFERROR(AVERAGEIFS('Resumen de indicadores HSE'!AM11:AM13,'Resumen de indicadores HSE'!AM11:AM13,\">=0\"),\"-\")","v":"-"},{"$f":"+IFERROR(AVERAGEIFS('Resumen de indicadores HSE'!AN11:AN13,'Resumen de indicadores HSE'!AN11:AN13,\">=0\"),\"-\")","v":"-"},{"$f":"+IFERROR(AVERAGEIFS('Resumen de indicadores HSE'!AO11:AO13,'Resumen de indicadores HSE'!AO11:AO13,\">=0\"),\"-\")","v":"-"},{"$f":"+IFERROR(AVERAGEIFS('Resumen de indicadores HSE'!AP11:AP13,'Resumen de indicadores HSE'!AP11:AP13,\">=0\"),\"-\")","v":"-"},{"$f":"+IFERROR(AVERAGEIFS('Resumen de indicadores HSE'!AQ11:AQ13,'Resumen de indicadores HSE'!AQ11:AQ13,\">=0\"),\"-\")","v":"-"},{"$f":"+IFERROR(AVERAGEIFS('Resumen de indicadores HSE'!AR11:AR13,'Resumen de indicadores HSE'!AR11:AR13,\">=0\"),\"-\")","v":"-"},{"$f":"+IFERROR(AVERAGEIFS('Resumen de indicadores HSE'!AS11:AS13,'Resumen de indicadores HSE'!AS11:AS13,\">=0\"),\"-\")","v":"-"},{"$f":"+IFERROR(AVERAGEIFS('Resumen de indicadores HSE'!AT11:AT13,'Resumen de indicadores HSE'!AT11:AT13,\">=0\"),\"-\")","v":"-"},{"$f":"+IFERROR(AVERAGEIFS('Resumen de indicadores HSE'!AU11:AU13,'Resumen de indicadores HSE'!AU11:AU13,\">=0\"),\"-\")","v":"-"},{"$f":"+IFERROR(AVERAGEIFS('Resumen de indicadores HSE'!AV11:AV13,'Resumen de indicadores HSE'!AV11:AV13,\">=0\"),\"-\")","v":"-"},{"$f":"+IFERROR(AVERAGEIFS('Resumen de indicadores HSE'!AW11:AW13,'Resumen de indicadores HSE'!AW11:AW13,\">=0\"),\"-\")","v":"-"},{"$f":"+IFERROR(AVERAGEIFS('Resumen de indicadores HSE'!AX11:AX13,'Resumen de indicadores HSE'!AX11:AX13,\">=0\"),\"-\")","v":"-"},{"$f":"+IFERROR(AVERAGEIFS('Resumen de indicadores HSE'!AY11:AY13,'Resumen de indicadores HSE'!AY11:AY13,\">=0\"),\"-\")","v":"-"},{"$f":"+IFERROR(AVERAGEIFS('Resumen de indicadores HSE'!AZ11:AZ13,'Resumen de indicadores HSE'!AZ11:AZ13,\">=0\"),\"-\")","v":"-"},{"$f":"+IFERROR(AVERAGEIFS('Resumen de indicadores HSE'!BA11:BA13,'Resumen de indicadores HSE'!BA11:BA13,\">=0\"),\"-\")","v":"-"},{"$f":"+IFERROR(AVERAGEIFS('Resumen de indicadores HSE'!BB11:BB13,'Resumen de indicadores HSE'!BB11:BB13,\">=0\"),\"-\")","v":"-"},{"$f":"+IFERROR(AVERAGEIFS('Resumen de indicadores HSE'!BC11:BC13,'Resumen de indicadores HSE'!BC11:BC13,\">=0\"),\"-\")","v":"-"},{"$f":"+IFERROR(AVERAGEIFS('Resumen de indicadores HSE'!BD11:BD13,'Resumen de indicadores HSE'!BD11:BD13,\">=0\"),\"-\")","v":"-"},{"$f":"+IFERROR(AVERAGEIFS('Resumen de indicadores HSE'!BE11:BE13,'Resumen de indicadores HSE'!BE11:BE13,\">=0\"),\"-\")","v":"-"}]
[null,"HSE","Regulación Emocional","-",null,{"$f":"+IFERROR(AVERAGEIFS('Resumen de indicadores HSE'!H14:H15,'Resumen de indicadores HSE'!H14:H15,\">=0\"),\"-\")","v":"-"},{"$f":"+IFERROR(AVERAGEIFS('Resumen de indicadores HSE'!I14:I15,'Resumen de indicadores HSE'!I14:I15,\">=0\"),\"-\")","v":"-"},{"$f":"+IFERROR(AVERAGEIFS('Resumen de indicadores HSE'!J14:J15,'Resumen de indicadores HSE'!J14:J15,\">=0\"),\"-\")","v":"-"},{"$f":"+IFERROR(AVERAGEIFS('Resumen de indicadores HSE'!K14:K15,'Resumen de indicadores HSE'!K14:K15,\">=0\"),\"-\")","v":"-"},{"$f":"+IFERROR(AVERAGEIFS('Resumen de indicadores HSE'!L14:L15,'Resumen de indicadores HSE'!L14:L15,\">=0\"),\"-\")","v":"-"},{"$f":"+IFERROR(AVERAGEIFS('Resumen de indicadores HSE'!M14:M15,'Resumen de indicadores HSE'!M14:M15,\">=0\"),\"-\")","v":"-"},{"$f":"+IFERROR(AVERAGEIFS('Resumen de indicadores HSE'!N14:N15,'Resumen de indicadores HSE'!N14:N15,\">=0\"),\"-\")","v":"-"},{"$f":"+IFERROR(AVERAGEIFS('Resumen de indicadores HSE'!O14:O15,'Resumen de indicadores HSE'!O14:O15,\">=0\"),\"-\")","v":"-"},{"$f":"+IFERROR(AVERAGEIFS('Resumen de indicadores HSE'!P14:P15,'Resumen de indicadores HSE'!P14:P15,\">=0\"),\"-\")","v":"-"},{"$f":"+IFERROR(AVERAGEIFS('Resumen de indicadores HSE'!Q14:Q15,'Resumen de indicadores HSE'!Q14:Q15,\">=0\"),\"-\")","v":"-"},{"$f":"+IFERROR(AVERAGEIFS('Resumen de indicadores HSE'!R14:R15,'Resumen de indicadores HSE'!R14:R15,\">=0\"),\"-\")","v":"-"},{"$f":"+IFERROR(AVERAGEIFS('Resumen de indicadores HSE'!S14:S15,'Resumen de indicadores HSE'!S14:S15,\">=0\"),\"-\")","v":"-"},{"$f":"+IFERROR(AVERAGEIFS('Resumen de indicadores HSE'!T14:T15,'Resumen de indicadores HSE'!T14:T15,\">=0\"),\"-\")","v":"-"},{"$f":"+IFERROR(AVERAGEIFS('Resumen de indicadores HSE'!U14:U15,'Resumen de indicadores HSE'!U14:U15,\">=0\"),\"-\")","v":"-"},{"$f":"+IFERROR(AVERAGEIFS('Resumen de indicadores HSE'!V14:V15,'Resumen de indicadores HSE'!V14:V15,\">=0\"),\"-\")","v":"-"},{"$f":"+IFERROR(AVERAGEIFS('Resumen de indicadores HSE'!W14:W15,'Resumen de indicadores HSE'!W14:W15,\">=0\"),\"-\")","v":"-"},{"$f":"+IFERROR(AVERAGEIFS('Resumen de indicadores HSE'!X14:X15,'Resumen de indicadores HSE'!X14:X15,\">=0\"),\"-\")","v":"-"},{"$f":"+IFERROR(AVERAGEIFS('Resumen de indicadores HSE'!Y14:Y15,'Resumen de indicadores HSE'!Y14:Y15,\">=0\"),\"-\")","v":"-"},{"$f":"+IFERROR(AVERAGEIFS('Resumen de indicadores HSE'!Z14:Z15,'Resumen de indicadores HSE'!Z14:Z15,\">=0\"),\"-\")","v":"-"},{"$f":"+IFERROR(AVERAGEIFS('Resumen de indicadores HSE'!AA14:AA15,'Resumen de indicadores HSE'!AA14:AA15,\">=0\"),\"-\")","v":"-"},{"$f":"+IFERROR(AVERAGEIFS('Resumen de indicadores HSE'!AB14:AB15,'Resumen de indicadores HSE'!AB14:AB15,\">=0\"),\"-\")","v":"-"},{"$f":"+IFERROR(AVERAGEIFS('Resumen de indicadores HSE'!AC14:AC15,'Resumen de indicadores HSE'!AC14:AC15,\">=0\"),\"-\")","v":"-"},{"$f":"+IFERROR(AVERAGEIFS('Resumen de indicadores HSE'!AD14:AD15,'Resumen de indicadores HSE'!AD14:AD15,\">=0\"),\"-\")","v":"-"},{"$f":"+IFERROR(AVERAGEIFS('Resumen de indicadores HSE'!AE14:AE15,'Resumen de indicadores HSE'!AE14:AE15,\">=0\"),\"-\")","v":"-"},{"$f":"+IFERROR(AVERAGEIFS('Resumen de indicadores HSE'!AF14:AF15,'Resumen de indicadores HSE'!AF14:AF15,\">=0\"),\"-\")","v":"-"},{"$f":"+IFERROR(AVERAGEIFS('Resumen de indicadores HSE'!AG14:AG15,'Resumen de indicadores HSE'!AG14:AG15,\">=0\"),\"-\")","v":"-"},{"$f":"+IFERROR(AVERAGEIFS('Resumen de indicadores HSE'!AH14:AH15,'Resumen de indicadores HSE'!AH14:AH15,\">=0\"),\"-\")","v":"-"},{"$f":"+IFERROR(AVERAGEIFS('Resumen de indicadores HSE'!AI14:AI15,'Resumen de indicadores HSE'!AI14:AI15,\">=0\"),\"-\")","v":"-"},{"$f":"+IFERROR(AVERAGEIFS('Resumen de indicadores HSE'!AJ14:AJ15,'Resumen de indicadores HSE'!AJ14:AJ15,\">=0\"),\"-\")","v":"-"},{"$f":"+IFERROR(AVERAGEIFS('Resumen de indicadores HSE'!AK14:AK15,'Resumen de indicadores HSE'!AK14:AK15,\">=0\"),\"-\")","v":"-"},{"$f":"+IFERROR(AVERAGEIFS('Resumen de indicadores HSE'!AL14:AL15,'Resumen de indicadores HSE'!AL14:AL15,\">=0\"),\"-\")","v":"-"},{"$f":"+IFERROR(AVERAGEIFS('Resumen de indicadores HSE'!AM14:AM15,'Resumen de indicadores HSE'!AM14:AM15,\">=0\"),\"-\")","v":"-"},{"$f":"+IFERROR(AVERAGEIFS('Resumen de indicadores HSE'!AN14:AN15,'Resumen de indicadores HSE'!AN14:AN15,\">=0\"),\"-\")","v":"-"},{"$f":"+IFERROR(AVERAGEIFS('Resumen de indicadores HSE'!AO14:AO15,'Resumen de indicadores HSE'!AO14:AO15,\">=0\"),\"-\")","v":"-"},{"$f":"+IFERROR(AVERAGEIFS('Resumen de indicadores HSE'!AP14:AP15,'Resumen de indicadores HSE'!AP14:AP15,\">=0\"),\"-\")","v":"-"},{"$f":"+IFERROR(AVERAGEIFS('Resumen de indicadores HSE'!AQ14:AQ15,'Resumen de indicadores HSE'!AQ14:AQ15,\">=0\"),\"-\")","v":"-"},{"$f":"+IFERROR(AVERAGEIFS('Resumen de indicadores HSE'!AR14:AR15,'Resumen de indicadores HSE'!AR14:AR15,\">=0\"),\"-\")","v":"-"},{"$f":"+IFERROR(AVERAGEIFS('Resumen de indicadores HSE'!AS14:AS15,'Resumen de indicadores HSE'!AS14:AS15,\">=0\"),\"-\")","v":"-"},{"$f":"+IFERROR(AVERAGEIFS('Resumen de indicadores HSE'!AT14:AT15,'Resumen de indicadores HSE'!AT14:AT15,\">=0\"),\"-\")","v":"-"},{"$f":"+IFERROR(AVERAGEIFS('Resumen de indicadores HSE'!AU14:AU15,'Resumen de indicadores HSE'!AU14:AU15,\">=0\"),\"-\")","v":"-"},{"$f":"+IFERROR(AVERAGEIFS('Resumen de indicadores HSE'!AV14:AV15,'Resumen de indicadores HSE'!AV14:AV15,\">=0\"),\"-\")","v":"-"},{"$f":"+IFERROR(AVERAGEIFS('Resumen de indicadores HSE'!AW14:AW15,'Resumen de indicadores HSE'!AW14:AW15,\">=0\"),\"-\")","v":"-"},{"$f":"+IFERROR(AVERAGEIFS('Resumen de indicadores HSE'!AX14:AX15,'Resumen de indicadores HSE'!AX14:AX15,\">=0\"),\"-\")","v":"-"},{"$f":"+IFERROR(AVERAGEIFS('Resumen de indicadores HSE'!AY14:AY15,'Resumen de indicadores HSE'!AY14:AY15,\">=0\"),\"-\")","v":"-"},{"$f":"+IFERROR(AVERAGEIFS('Resumen de indicadores HSE'!AZ14:AZ15,'Resumen de indicadores HSE'!AZ14:AZ15,\">=0\"),\"-\")","v":"-"},{"$f":"+IFERROR(AVERAGEIFS('Resumen de indicadores HSE'!BA14:BA15,'Resumen de indicadores HSE'!BA14:BA15,\">=0\"),\"-\")","v":"-"},{"$f":"+IFERROR(AVERAGEIFS('Resumen de indicadores HSE'!BB14:BB15,'Resumen de indicadores HSE'!BB14:BB15,\">=0\"),\"-\")","v":"-"},{"$f":"+IFERROR(AVERAGEIFS('Resumen de indicadores HSE'!BC14:BC15,'Resumen de indicadores HSE'!BC14:BC15,\">=0\"),\"-\")","v":"-"},{"$f":"+IFERROR(AVERAGEIFS('Resumen de indicadores HSE'!BD14:BD15,'Resumen de indicadores HSE'!BD14:BD15,\">=0\"),\"-\")","v":"-"},{"$f":"+IFERROR(AVERAGEIFS('Resumen de indicadores HSE'!BE14:BE15,'Resumen de indicadores HSE'!BE14:BE15,\">=0\"),\"-\")","v":"-"}]
[null,"HSE","Creatividad","-",null,{"$f":"+IFERROR(AVERAGEIFS('Resumen de indicadores HSE'!H16:H17,'Resumen de indicadores HSE'!H16:H17,\">=0\"),\"-\")","v":"-"},{"$f":"+IFERROR(AVERAGEIFS('Resumen de indicadores HSE'!I16:I17,'Resumen de indicadores HSE'!I16:I17,\">=0\"),\"-\")","v":"-"},{"$f":"+IFERROR(AVERAGEIFS('Resumen de indicadores HSE'!J16:J17,'Resumen de indicadores HSE'!J16:J17,\">=0\"),\"-\")","v":"-"},{"$f":"+IFERROR(AVERAGEIFS('Resumen de indicadores HSE'!K16:K17,'Resumen de indicadores HSE'!K16:K17,\">=0\"),\"-\")","v":"-"},{"$f":"+IFERROR(AVERAGEIFS('Resumen de indicadores HSE'!L16:L17,'Resumen de indicadores HSE'!L16:L17,\">=0\"),\"-\")","v":"-"},{"$f":"+IFERROR(AVERAGEIFS('Resumen de indicadores HSE'!M16:M17,'Resumen de indicadores HSE'!M16:M17,\">=0\"),\"-\")","v":"-"},{"$f":"+IFERROR(AVERAGEIFS('Resumen de indicadores HSE'!N16:N17,'Resumen de indicadores HSE'!N16:N17,\">=0\"),\"-\")","v":"-"},{"$f":"+IFERROR(AVERAGEIFS('Resumen de indicadores HSE'!O16:O17,'Resumen de indicadores HSE'!O16:O17,\">=0\"),\"-\")","v":"-"},{"$f":"+IFERROR(AVERAGEIFS('Resumen de indicadores HSE'!P16:P17,'Resumen de indicadores HSE'!P16:P17,\">=0\"),\"-\")","v":"-"},{"$f":"+IFERROR(AVERAGEIFS('Resumen de indicadores HSE'!Q16:Q17,'Resumen de indicadores HSE'!Q16:Q17,\">=0\"),\"-\")","v":"-"},{"$f":"+IFERROR(AVERAGEIFS('Resumen de indicadores HSE'!R16:R17,'Resumen de indicadores HSE'!R16:R17,\">=0\"),\"-\")","v":"-"},{"$f":"+IFERROR(AVERAGEIFS('Resumen de indicadores HSE'!S16:S17,'Resumen de indicadores HSE'!S16:S17,\">=0\"),\"-\")","v":"-"},{"$f":"+IFERROR(AVERAGEIFS('Resumen de indicadores HSE'!T16:T17,'Resumen de indicadores HSE'!T16:T17,\">=0\"),\"-\")","v":"-"},{"$f":"+IFERROR(AVERAGEIFS('Resumen de indicadores HSE'!U16:U17,'Resumen de indicadores HSE'!U16:U17,\">=0\"),\"-\")","v":"-"},{"$f":"+IFERROR(AVERAGEIFS('Resumen de indicadores HSE'!V16:V17,'Resumen de indicadores HSE'!V16:V17,\">=0\"),\"-\")","v":"-"},{"$f":"+IFERROR(AVERAGEIFS('Resumen de indicadores HSE'!W16:W17,'Resumen de indicadores HSE'!W16:W17,\">=0\"),\"-\")","v":"-"},{"$f":"+IFERROR(AVERAGEIFS('Resumen de indicadores HSE'!X16:X17,'Resumen de indicadores HSE'!X16:X17,\">=0\"),\"-\")","v":"-"},{"$f":"+IFERROR(AVERAGEIFS('Resumen de indicadores HSE'!Y16:Y17,'Resumen de indicadores HSE'!Y16:Y17,\">=0\"),\"-\")","v":"-"},{"$f":"+IFERROR(AVERAGEIFS('Resumen de indicadores HSE'!Z16:Z17,'Resumen de indicadores HSE'!Z16:Z17,\">=0\"),\"-\")","v":"-"},{"$f":"+IFERROR(AVERAGEIFS('Resumen de indicadores HSE'!AA16:AA17,'Resumen de indicadores HSE'!AA16:AA17,\">=0\"),\"-\")","v":"-"},{"$f":"+IFERROR(AVERAGEIFS('Resumen de indicadores HSE'!AB16:AB17,'Resumen de indicadores HSE'!AB16:AB17,\">=0\"),\"-\")","v":"-"},{"$f":"+IFERROR(AVERAGEIFS('Resumen de indicadores HSE'!AC16:AC17,'Resumen de indicadores HSE'!AC16:AC17,\">=0\"),\"-\")","v":"-"},{"$f":"+IFERROR(AVERAGEIFS('Resumen de indicadores HSE'!AD16:AD17,'Resumen de indicadores HSE'!AD16:AD17,\">=0\"),\"-\")","v":"-"},{"$f":"+IFERROR(AVERAGEIFS('Resumen de indicadores HSE'!AE16:AE17,'Resumen de indicadores HSE'!AE16:AE17,\">=0\"),\"-\")","v":"-"},{"$f":"+IFERROR(AVERAGEIFS('Resumen de indicadores HSE'!AF16:AF17,'Resumen de indicadores HSE'!AF16:AF17,\">=0\"),\"-\")","v":"-"},{"$f":"+IFERROR(AVERAGEIFS('Resumen de indicadores HSE'!AG16:AG17,'Resumen de indicadores HSE'!AG16:AG17,\">=0\"),\"-\")","v":"-"},{"$f":"+IFERROR(AVERAGEIFS('Resumen de indicadores HSE'!AH16:AH17,'Resumen de indicadores HSE'!AH16:AH17,\">=0\"),\"-\")","v":"-"},{"$f":"+IFERROR(AVERAGEIFS('Resumen de indicadores HSE'!AI16:AI17,'Resumen de indicadores HSE'!AI16:AI17,\">=0\"),\"-\")","v":"-"},{"$f":"+IFERROR(AVERAGEIFS('Resumen de indicadores HSE'!AJ16:AJ17,'Resumen de indicadores HSE'!AJ16:AJ17,\">=0\"),\"-\")","v":"-"},{"$f":"+IFERROR(AVERAGEIFS('Resumen de indicadores HSE'!AK16:AK17,'Resumen de indicadores HSE'!AK16:AK17,\">=0\"),\"-\")","v":"-"},{"$f":"+IFERROR(AVERAGEIFS('Resumen de indicadores HSE'!AL16:AL17,'Resumen de indicadores HSE'!AL16:AL17,\">=0\"),\"-\")","v":"-"},{"$f":"+IFERROR(AVERAGEIFS('Resumen de indicadores HSE'!AM16:AM17,'Resumen de indicadores HSE'!AM16:AM17,\">=0\"),\"-\")","v":"-"},{"$f":"+IFERROR(AVERAGEIFS('Resumen de indicadores HSE'!AN16:AN17,'Resumen de indicadores HSE'!AN16:AN17,\">=0\"),\"-\")","v":"-"},{"$f":"+IFERROR(AVERAGEIFS('Resumen de indicadores HSE'!AO16:AO17,'Resumen de indicadores HSE'!AO16:AO17,\">=0\"),\"-\")","v":"-"},{"$f":"+IFERROR(AVERAGEIFS('Resumen de indicadores HSE'!AP16:AP17,'Resumen de indicadores HSE'!AP16:AP17,\">=0\"),\"-\")","v":"-"},{"$f":"+IFERROR(AVERAGEIFS('Resumen de indicadores HSE'!AQ16:AQ17,'Resumen de indicadores HSE'!AQ16:AQ17,\">=0\"),\"-\")","v":"-"},{"$f":"+IFERROR(AVERAGEIFS('Resumen de indicadores HSE'!AR16:AR17,'Resumen de indicadores HSE'!AR16:AR17,\">=0\"),\"-\")","v":"-"},{"$f":"+IFERROR(AVERAGEIFS('Resumen de indicadores HSE'!AS16:AS17,'Resumen de indicadores HSE'!AS16:AS17,\">=0\"),\"-\")","v":"-"},{"$f":"+IFERROR(AVERAGEIFS('Resumen de indicadores HSE'!AT16:AT17,'Resumen de indicadores HSE'!AT16:AT17,\">=0\"),\"-\")","v":"-"},{"$f":"+IFERROR(AVERAGEIFS('Resumen de indicadores HSE'!AU16:AU17,'Resumen de indicadores HSE'!AU16:AU17,\">=0\"),\"-\")","v":"-"},{"$f":"+IFERROR(AVERAGEIFS('Resumen de indicadores HSE'!AV16:AV17,'Resumen de indicadores HSE'!AV16:AV17,\">=0\"),\"-\")","v":"-"},{"$f":"+IFERROR(AVERAGEIFS('Resumen de indicadores HSE'!AW16:AW17,'Resumen de indicadores HSE'!AW16:AW17,\">=0\"),\"-\")","v":"-"},{"$f":"+IFERROR(AVERAGEIFS('Resumen de indicadores HSE'!AX16:AX17,'Resumen de indicadores HSE'!AX16:AX17,\">=0\"),\"-\")","v":"-"},{"$f":"+IFERROR(AVERAGEIFS('Resumen de indicadores HSE'!AY16:AY17,'Resumen de indicadores HSE'!AY16:AY17,\">=0\"),\"-\")","v":"-"},{"$f":"+IFERROR(AVERAGEIFS('Resumen de indicadores HSE'!AZ16:AZ17,'Resumen de indicadores HSE'!AZ16:AZ17,\">=0\"),\"-\")","v":"-"},{"$f":"+IFERROR(AVERAGEIFS('Resumen de indicadores HSE'!BA16:BA17,'Resumen de indicadores HSE'!BA16:BA17,\">=0\"),\"-\")","v":"-"},{"$f":"+IFERROR(AVERAGEIFS('Resumen de indicadores HSE'!BB16:BB17,'Resumen de indicadores HSE'!BB16:BB17,\">=0\"),\"-\")","v":"-"},{"$f":"+IFERROR(AVERAGEIFS('Resumen de indicadores HSE'!BC16:BC17,'Resumen de indicadores HSE'!BC16:BC17,\">=0\"),\"-\")","v":"-"},{"$f":"+IFERROR(AVERAGEIFS('Resumen de indicadores HSE'!BD16:BD17,'Resumen de indicadores HSE'!BD16:BD17,\">=0\"),\"-\")","v":"-"},{"$f":"+IFERROR(AVERAGEIFS('Resumen de indicadores HSE'!BE16:BE17,'Resumen de indicadores HSE'!BE16:BE17,\">=0\"),\"-\")","v":"-"}]
[null,"HSE","Toma de decisiones responsables","-",null,{"$f":"+IFERROR(AVERAGEIFS('Resumen de indicadores HSE'!H18:H19,'Resumen de indicadores HSE'!H18:H19,\">=0\"),\"-\")","v":"-"},{"$f":"+IFERROR(AVERAGEIFS('Resumen de indicadores HSE'!I18:I19,'Resumen de indicadores HSE'!I18:I19,\">=0\"),\"-\")","v":"-"},{"$f":"+IFERROR(AVERAGEIFS('Resumen de indicadores HSE'!J18:J19,'Resumen de indicadores HSE'!J18:J19,\">=0\"),\"-\")","v":"-"},{"$f":"+IFERROR(AVERAGEIFS('Resumen de indicadores HSE'!K18:K19,'Resumen de indicadores HSE'!K18:K19,\">=0\"),\"-\")","v":"-"},{"$f":"+IFERROR(AVERAGEIFS('Resumen de indicadores HSE'!L18:L19,'Resumen de indicadores HSE'!L18:L19,\">=0\"),\"-\")","v":"-"},{"$f":"+IFERROR(AVERAGEIFS('Resumen de indicadores HSE'!M18:M19,'Resumen de indicadores HSE'!M18:M19,\">=0\"),\"-\")","v":"-"},{"$f":"+IFERROR(AVERAGEIFS('Resumen de indicadores HSE'!N18:N19,'Resumen de indicadores HSE'!N18:N19,\">=0\"),\"-\")","v":"-"},{"$f":"+IFERROR(AVERAGEIFS('Resumen de indicadores HSE'!O18:O19,'Resumen de indicadores HSE'!O18:O19,\">=0\"),\"-\")","v":"-"},{"$f":"+IFERROR(AVERAGEIFS('Resumen de indicadores HSE'!P18:P19,'Resumen de indicadores HSE'!P18:P19,\">=0\"),\"-\")","v":"-"},{"$f":"+IFERROR(AVERAGEIFS('Resumen de indicadores HSE'!Q18:Q19,'Resumen de indicadores HSE'!Q18:Q19,\">=0\"),\"-\")","v":"-"},{"$f":"+IFERROR(AVERAGEIFS('Resumen de indicadores HSE'!R18:R19,'Resumen de indicadores HSE'!R18:R19,\">=0\"),\"-\")","v":"-"},{"$f":"+IFERROR(AVERAGEIFS('Resumen de indicadores HSE'!S18:S19,'Resumen de indicadores HSE'!S18:S19,\">=0\"),\"-\")","v":"-"},{"$f":"+IFERROR(AVERAGEIFS('Resumen de indicadores HSE'!T18:T19,'Resumen de indicadores HSE'!T18:T19,\">=0\"),\"-\")","v":"-"},{"$f":"+IFERROR(AVERAGEIFS('Resumen de indicadores HSE'!U18:U19,'Resumen de indicadores HSE'!U18:U19,\">=0\"),\"-\")","v":"-"},{"$f":"+IFERROR(AVERAGEIFS('Resumen de indicadores HSE'!V18:V19,'Resumen de indicadores HSE'!V18:V19,\">=0\"),\"-\")","v":"-"},{"$f":"+IFERROR(AVERAGEIFS('Resumen de indicadores HSE'!W18:W19,'Resumen de indicadores HSE'!W18:W19,\">=0\"),\"-\")","v":"-"},{"$f":"+IFERROR(AVERAGEIFS('Resumen de indicadores HSE'!X18:X19,'Resumen de indicadores HSE'!X18:X19,\">=0\"),\"-\")","v":"-"},{"$f":"+IFERROR(AVERAGEIFS('Resumen de indicadores HSE'!Y18:Y19,'Resumen de indicadores HSE'!Y18:Y19,\">=0\"),\"-\")","v":"-"},{"$f":"+IFERROR(AVERAGEIFS('Resumen de indicadores HSE'!Z18:Z19,'Resumen de indicadores HSE'!Z18:Z19,\">=0\"),\"-\")","v":"-"},{"$f":"+IFERROR(AVERAGEIFS('Resumen de indicadores HSE'!AA18:AA19,'Resumen de indicadores HSE'!AA18:AA19,\">=0\"),\"-\")","v":"-"},{"$f":"+IFERROR(AVERAGEIFS('Resumen de indicadores HSE'!AB18:AB19,'Resumen de indicadores HSE'!AB18:AB19,\">=0\"),\"-\")","v":"-"},{"$f":"+IFERROR(AVERAGEIFS('Resumen de indicadores HSE'!AC18:AC19,'Resumen de indicadores HSE'!AC18:AC19,\">=0\"),\"-\")","v":"-"},{"$f":"+IFERROR(AVERAGEIFS('Resumen de indicadores HSE'!AD18:AD19,'Resumen de indicadores HSE'!AD18:AD19,\">=0\"),\"-\")","v":"-"},{"$f":"+IFERROR(AVERAGEIFS('Resumen de indicadores HSE'!AE18:AE19,'Resumen de indicadores HSE'!AE18:AE19,\">=0\"),\"-\")","v":"-"},{"$f":"+IFERROR(AVERAGEIFS('Resumen de indicadores HSE'!AF18:AF19,'Resumen de indicadores HSE'!AF18:AF19,\">=0\"),\"-\")","v":"-"},{"$f":"+IFERROR(AVERAGEIFS('Resumen de indicadores HSE'!AG18:AG19,'Resumen de indicadores HSE'!AG18:AG19,\">=0\"),\"-\")","v":"-"},{"$f":"+IFERROR(AVERAGEIFS('Resumen de indicadores HSE'!AH18:AH19,'Resumen de indicadores HSE'!AH18:AH19,\">=0\"),\"-\")","v":"-"},{"$f":"+IFERROR(AVERAGEIFS('Resumen de indicadores HSE'!AI18:AI19,'Resumen de indicadores HSE'!AI18:AI19,\">=0\"),\"-\")","v":"-"},{"$f":"+IFERROR(AVERAGEIFS('Resumen de indicadores HSE'!AJ18:AJ19,'Resumen de indicadores HSE'!AJ18:AJ19,\">=0\"),\"-\")","v":"-"},{"$f":"+IFERROR(AVERAGEIFS('Resumen de indicadores HSE'!AK18:AK19,'Resumen de indicadores HSE'!AK18:AK19,\">=0\"),\"-\")","v":"-"},{"$f":"+IFERROR(AVERAGEIFS('Resumen de indicadores HSE'!AL18:AL19,'Resumen de indicadores HSE'!AL18:AL19,\">=0\"),\"-\")","v":"-"},{"$f":"+IFERROR(AVERAGEIFS('Resumen de indicadores HSE'!AM18:AM19,'Resumen de indicadores HSE'!AM18:AM19,\">=0\"),\"-\")","v":"-"},{"$f":"+IFERROR(AVERAGEIFS('Resumen de indicadores HSE'!AN18:AN19,'Resumen de indicadores HSE'!AN18:AN19,\">=0\"),\"-\")","v":"-"},{"$f":"+IFERROR(AVERAGEIFS('Resumen de indicadores HSE'!AO18:AO19,'Resumen de indicadores HSE'!AO18:AO19,\">=0\"),\"-\")","v":"-"},{"$f":"+IFERROR(AVERAGEIFS('Resumen de indicadores HSE'!AP18:AP19,'Resumen de indicadores HSE'!AP18:AP19,\">=0\"),\"-\")","v":"-"},{"$f":"+IFERROR(AVERAGEIFS('Resumen de indicadores HSE'!AQ18:AQ19,'Resumen de indicadores HSE'!AQ18:AQ19,\">=0\"),\"-\")","v":"-"},{"$f":"+IFERROR(AVERAGEIFS('Resumen de indicadores HSE'!AR18:AR19,'Resumen de indicadores HSE'!AR18:AR19,\">=0\"),\"-\")","v":"-"},{"$f":"+IFERROR(AVERAGEIFS('Resumen de indicadores HSE'!AS18:AS19,'Resumen de indicadores HSE'!AS18:AS19,\">=0\"),\"-\")","v":"-"},{"$f":"+IFERROR(AVERAGEIFS('Resumen de indicadores HSE'!AT18:AT19,'Resumen de indicadores HSE'!AT18:AT19,\">=0\"),\"-\")","v":"-"},{"$f":"+IFERROR(AVERAGEIFS('Resumen de indicadores HSE'!AU18:AU19,'Resumen de indicadores HSE'!AU18:AU19,\">=0\"),\"-\")","v":"-"},{"$f":"+IFERROR(AVERAGEIFS('Resumen de indicadores HSE'!AV18:AV19,'Resumen de indicadores HSE'!AV18:AV19,\">=0\"),\"-\")","v":"-"},{"$f":"+IFERROR(AVERAGEIFS('Resumen de indicadores HSE'!AW18:AW19,'Resumen de indicadores HSE'!AW18:AW19,\">=0\"),\"-\")","v":"-"},{"$f":"+IFERROR(AVERAGEIFS('Resumen de indicadores HSE'!AX18:AX19,'Resumen de indicadores HSE'!AX18:AX19,\">=0\"),\"-\")","v":"-"},{"$f":"+IFERROR(AVERAGEIFS('Resumen de indicadores HSE'!AY18:AY19,'Resumen de indicadores HSE'!AY18:AY19,\">=0\"),\"-\")","v":"-"},{"$f":"+IFERROR(AVERAGEIFS('Resumen de indicadores HSE'!AZ18:AZ19,'Resumen de indicadores HSE'!AZ18:AZ19,\">=0\"),\"-\")","v":"-"},{"$f":"+IFERROR(AVERAGEIFS('Resumen de indicadores HSE'!BA18:BA19,'Resumen de indicadores HSE'!BA18:BA19,\">=0\"),\"-\")","v":"-"},{"$f":"+IFERROR(AVERAGEIFS('Resumen de indicadores HSE'!BB18:BB19,'Resumen de indicadores HSE'!BB18:BB19,\">=0\"),\"-\")","v":"-"},{"$f":"+IFERROR(AVERAGEIFS('Resumen de indicadores HSE'!BC18:BC19,'Resumen de indicadores HSE'!BC18:BC19,\">=0\"),\"-\")","v":"-"},{"$f":"+IFERROR(AVERAGEIFS('Resumen de indicadores HSE'!BD18:BD19,'Resumen de indicadores HSE'!BD18:BD19,\">=0\"),\"-\")","v":"-"},{"$f":"+IFERROR(AVERAGEIFS('Resumen de indicadores HSE'!BE18:BE19,'Resumen de indicadores HSE'!BE18:BE19,\">=0\"),\"-\")","v":"-"}]
[null,"HSE","Comunicación Asertiva","-",null,{"$f":"+IFERROR(AVERAGEIFS('Resumen de indicadores HSE'!H20:H21,'Resumen de indicadores HSE'!H20:H21,\">=0\"),\"-\")","v":"-"},{"$f":"+IFERROR(AVERAGEIFS('Resumen de indicadores HSE'!I20:I21,'Resumen de indicadores HSE'!I20:I21,\">=0\"),\"-\")","v":"-"},{"$f":"+IFERROR(AVERAGEIFS('Resumen de indicadores HSE'!J20:J21,'Resumen de indicadores HSE'!J20:J21,\">=0\"),\"-\")","v":"-"},{"$f":"+IFERROR(AVERAGEIFS('Resumen de indicadores HSE'!K20:K21,'Resumen de indicadores HSE'!K20:K21,\">=0\"),\"-\")","v":"-"},{"$f":"+IFERROR(AVERAGEIFS('Resumen de indicadores HSE'!L20:L21,'Resumen de indicadores HSE'!L20:L21,\">=0\"),\"-\")","v":"-"},{"$f":"+IFERROR(AVERAGEIFS('Resumen de indicadores HSE'!M20:M21,'Resumen de indicadores HSE'!M20:M21,\">=0\"),\"-\")","v":"-"},{"$f":"+IFERROR(AVERAGEIFS('Resumen de indicadores HSE'!N20:N21,'Resumen de indicadores HSE'!N20:N21,\">=0\"),\"-\")","v":"-"},{"$f":"+IFERROR(AVERAGEIFS('Resumen de indicadores HSE'!O20:O21,'Resumen de indicadores HSE'!O20:O21,\">=0\"),\"-\")","v":"-"},{"$f":"+IFERROR(AVERAGEIFS('Resumen de indicadores HSE'!P20:P21,'Resumen de indicadores HSE'!P20:P21,\">=0\"),\"-\")","v":"-"},{"$f":"+IFERROR(AVERAGEIFS('Resumen de indicadores HSE'!Q20:Q21,'Resumen de indicadores HSE'!Q20:Q21,\">=0\"),\"-\")","v":"-"},{"$f":"+IFERROR(AVERAGEIFS('Resumen de indicadores HSE'!R20:R21,'Resumen de indicadores HSE'!R20:R21,\">=0\"),\"-\")","v":"-"},{"$f":"+IFERROR(AVERAGEIFS('Resumen de indicadores HSE'!S20:S21,'Resumen de indicadores HSE'!S20:S21,\">=0\"),\"-\")","v":"-"},{"$f":"+IFERROR(AVERAGEIFS('Resumen de indicadores HSE'!T20:T21,'Resumen de indicadores HSE'!T20:T21,\">=0\"),\"-\")","v":"-"},{"$f":"+IFERROR(AVERAGEIFS('Resumen de indicadores HSE'!U20:U21,'Resumen de indicadores HSE'!U20:U21,\">=0\"),\"-\")","v":"-"},{"$f":"+IFERROR(AVERAGEIFS('Resumen de indicadores HSE'!V20:V21,'Resumen de indicadores HSE'!V20:V21,\">=0\"),\"-\")","v":"-"},{"$f":"+IFERROR(AVERAGEIFS('Resumen de indicadores HSE'!W20:W21,'Resumen de indicadores HSE'!W20:W21,\">=0\"),\"-\")","v":"-"},{"$f":"+IFERROR(AVERAGEIFS('Resumen de indicadores HSE'!X20:X21,'Resumen de indicadores HSE'!X20:X21,\">=0\"),\"-\")","v":"-"},{"$f":"+IFERROR(AVERAGEIFS('Resumen de indicadores HSE'!Y20:Y21,'Resumen de indicadores HSE'!Y20:Y21,\">=0\"),\"-\")","v":"-"},{"$f":"+IFERROR(AVERAGEIFS('Resumen de indicadores HSE'!Z20:Z21,'Resumen de indicadores HSE'!Z20:Z21,\">=0\"),\"-\")","v":"-"},{"$f":"+IFERROR(AVERAGEIFS('Resumen de indicadores HSE'!AA20:AA21,'Resumen de indicadores HSE'!AA20:AA21,\">=0\"),\"-\")","v":"-"},{"$f":"+IFERROR(AVERAGEIFS('Resumen de indicadores HSE'!AB20:AB21,'Resumen de indicadores HSE'!AB20:AB21,\">=0\"),\"-\")","v":"-"},{"$f":"+IFERROR(AVERAGEIFS('Resumen de indicadores HSE'!AC20:AC21,'Resumen de indicadores HSE'!AC20:AC21,\">=0\"),\"-\")","v":"-"},{"$f":"+IFERROR(AVERAGEIFS('Resumen de indicadores HSE'!AD20:AD21,'Resumen de indicadores HSE'!AD20:AD21,\">=0\"),\"-\")","v":"-"},{"$f":"+IFERROR(AVERAGEIFS('Resumen de indicadores HSE'!AE20:AE21,'Resumen de indicadores HSE'!AE20:AE21,\">=0\"),\"-\")","v":"-"},{"$f":"+IFERROR(AVERAGEIFS('Resumen de indicadores HSE'!AF20:AF21,'Resumen de indicadores HSE'!AF20:AF21,\">=0\"),\"-\")","v":"-"},{"$f":"+IFERROR(AVERAGEIFS('Resumen de indicadores HSE'!AG20:AG21,'Resumen de indicadores HSE'!AG20:AG21,\">=0\"),\"-\")","v":"-"},{"$f":"+IFERROR(AVERAGEIFS('Resumen de indicadores HSE'!AH20:AH21,'Resumen de indicadores HSE'!AH20:AH21,\">=0\"),\"-\")","v":"-"},{"$f":"+IFERROR(AVERAGEIFS('Resumen de indicadores HSE'!AI20:AI21,'Resumen de indicadores HSE'!AI20:AI21,\">=0\"),\"-\")","v":"-"},{"$f":"+IFERROR(AVERAGEIFS('Resumen de indicadores HSE'!AJ20:AJ21,'Resumen de indicadores HSE'!AJ20:AJ21,\">=0\"),\"-\")","v":"-"},{"$f":"+IFERROR(AVERAGEIFS('Resumen de indicadores HSE'!AK20:AK21,'Resumen de indicadores HSE'!AK20:AK21,\">=0\"),\"-\")","v":"-"},{"$f":"+IFERROR(AVERAGEIFS('Resumen de indicadores HSE'!AL20:AL21,'Resumen de indicadores HSE'!AL20:AL21,\">=0\"),\"-\")","v":"-"},{"$f":"+IFERROR(AVERAGEIFS('Resumen de indicadores HSE'!AM20:AM21,'Resumen de indicadores HSE'!AM20:AM21,\">=0\"),\"-\")","v":"-"},{"$f":"+IFERROR(AVERAGEIFS('Resumen de indicadores HSE'!AN20:AN21,'Resumen de indicadores HSE'!AN20:AN21,\">=0\"),\"-\")","v":"-"},{"$f":"+IFERROR(AVERAGEIFS('Resumen de indicadores HSE'!AO20:AO21,'Resumen de indicadores HSE'!AO20:AO21,\">=0\"),\"-\")","v":"-"},{"$f":"+IFERROR(AVERAGEIFS('Resumen de indicadores HSE'!AP20:AP21,'Resumen de indicadores HSE'!AP20:AP21,\">=0\"),\"-\")","v":"-"},{"$f":"+IFERROR(AVERAGEIFS('Resumen de indicadores HSE'!AQ20:AQ21,'Resumen de indicadores HSE'!AQ20:AQ21,\">=0\"),\"-\")","v":"-"},{"$f":"+IFERROR(AVERAGEIFS('Resumen de indicadores HSE'!AR20:AR21,'Resumen de indicadores HSE'!AR20:AR21,\">=0\"),\"-\")","v":"-"},{"$f":"+IFERROR(AVERAGEIFS('Resumen de indicadores HSE'!AS20:AS21,'Resumen de indicadores HSE'!AS20:AS21,\">=0\"),\"-\")","v":"-"},{"$f":"+IFERROR(AVERAGEIFS('Resumen de indicadores HSE'!AT20:AT21,'Resumen de indicadores HSE'!AT20:AT21,\">=0\"),\"-\")","v":"-"},{"$f":"+IFERROR(AVERAGEIFS('Resumen de indicadores HSE'!AU20:AU21,'Resumen de indicadores HSE'!AU20:AU21,\">=0\"),\"-\")","v":"-"},{"$f":"+IFERROR(AVERAGEIFS('Resumen de indicadores HSE'!AV20:AV21,'Resumen de indicadores HSE'!AV20:AV21,\">=0\"),\"-\")","v":"-"},{"$f":"+IFERROR(AVERAGEIFS('Resumen de indicadores HSE'!AW20:AW21,'Resumen de indicadores HSE'!AW20:AW21,\">=0\"),\"-\")","v":"-"},{"$f":"+IFERROR(AVERAGEIFS('Resumen de indicadores HSE'!AX20:AX21,'Resumen de indicadores HSE'!AX20:AX21,\">=0\"),\"-\")","v":"-"},{"$f":"+IFERROR(AVERAGEIFS('Resumen de indicadores HSE'!AY20:AY21,'Resumen de indicadores HSE'!AY20:AY21,\">=0\"),\"-\")","v":"-"},{"$f":"+IFERROR(AVERAGEIFS('Resumen de indicadores HSE'!AZ20:AZ21,'Resumen de indicadores HSE'!AZ20:AZ21,\">=0\"),\"-\")","v":"-"},{"$f":"+IFERROR(AVERAGEIFS('Resumen de indicadores HSE'!BA20:BA21,'Resumen de indicadores HSE'!BA20:BA21,\">=0\"),\"-\")","v":"-"},{"$f":"+IFERROR(AVERAGEIFS('Resumen de indicadores HSE'!BB20:BB21,'Resumen de indicadores HSE'!BB20:BB21,\">=0\"),\"-\")","v":"-"},{"$f":"+IFERROR(AVERAGEIFS('Resumen de indicadores HSE'!BC20:BC21,'Resumen de indicadores HSE'!BC20:BC21,\">=0\"),\"-\")","v":"-"},{"$f":"+IFERROR(AVERAGEIFS('Resumen de indicadores HSE'!BD20:BD21,'Resumen de indicadores HSE'!BD20:BD21,\">=0\"),\"-\")","v":"-"},{"$f":"+IFERROR(AVERAGEIFS('Resumen de indicadores HSE'!BE20:BE21,'Resumen de indicadores HSE'!BE20:BE21,\">=0\"),\"-\")","v":"-"}]
[null,"HSE","Trabajo en Equipo","-",null,{"$f":"+IFERROR(AVERAGEIFS('Resumen de indicadores HSE'!H22:H23,'Resumen de indicadores HSE'!H22:H23,\">=0\"),\"-\")","v":"-"},{"$f":"+IFERROR(AVERAGEIFS('Resumen de indicadores HSE'!I22:I23,'Resumen de indicadores HSE'!I22:I23,\">=0\"),\"-\")","v":"-"},{"$f":"+IFERROR(AVERAGEIFS('Resumen de indicadores HSE'!J22:J23,'Resumen de indicadores HSE'!J22:J23,\">=0\"),\"-\")","v":"-"},{"$f":"+IFERROR(AVERAGEIFS('Resumen de indicadores HSE'!K22:K23,'Resumen de indicadores HSE'!K22:K23,\">=0\"),\"-\")","v":"-"},{"$f":"+IFERROR(AVERAGEIFS('Resumen de indicadores HSE'!L22:L23,'Resumen de indicadores HSE'!L22:L23,\">=0\"),\"-\")","v":"-"},{"$f":"+IFERROR(AVERAGEIFS('Resumen de indicadores HSE'!M22:M23,'Resumen de indicadores HSE'!M22:M23,\">=0\"),\"-\")","v":"-"},{"$f":"+IFERROR(AVERAGEIFS('Resumen de indicadores HSE'!N22:N23,'Resumen de indicadores HSE'!N22:N23,\">=0\"),\"-\")","v":"-"},{"$f":"+IFERROR(AVERAGEIFS('Resumen de indicadores HSE'!O22:O23,'Resumen de indicadores HSE'!O22:O23,\">=0\"),\"-\")","v":"-"},{"$f":"+IFERROR(AVERAGEIFS('Resumen de indicadores HSE'!P22:P23,'Resumen de indicadores HSE'!P22:P23,\">=0\"),\"-\")","v":"-"},{"$f":"+IFERROR(AVERAGEIFS('Resumen de indicadores HSE'!Q22:Q23,'Resumen de indicadores HSE'!Q22:Q23,\">=0\"),\"-\")","v":"-"},{"$f":"+IFERROR(AVERAGEIFS('Resumen de indicadores HSE'!R22:R23,'Resumen de indicadores HSE'!R22:R23,\">=0\"),\"-\")","v":"-"},{"$f":"+IFERROR(AVERAGEIFS('Resumen de indicadores HSE'!S22:S23,'Resumen de indicadores HSE'!S22:S23,\">=0\"),\"-\")","v":"-"},{"$f":"+IFERROR(AVERAGEIFS('Resumen de indicadores HSE'!T22:T23,'Resumen de indicadores HSE'!T22:T23,\">=0\"),\"-\")","v":"-"},{"$f":"+IFERROR(AVERAGEIFS('Resumen de indicadores HSE'!U22:U23,'Resumen de indicadores HSE'!U22:U23,\">=0\"),\"-\")","v":"-"},{"$f":"+IFERROR(AVERAGEIFS('Resumen de indicadores HSE'!V22:V23,'Resumen de indicadores HSE'!V22:V23,\">=0\"),\"-\")","v":"-"},{"$f":"+IFERROR(AVERAGEIFS('Resumen de indicadores HSE'!W22:W23,'Resumen de indicadores HSE'!W22:W23,\">=0\"),\"-\")","v":"-"},{"$f":"+IFERROR(AVERAGEIFS('Resumen de indicadores HSE'!X22:X23,'Resumen de indicadores HSE'!X22:X23,\">=0\"),\"-\")","v":"-"},{"$f":"+IFERROR(AVERAGEIFS('Resumen de indicadores HSE'!Y22:Y23,'Resumen de indicadores HSE'!Y22:Y23,\">=0\"),\"-\")","v":"-"},{"$f":"+IFERROR(AVERAGEIFS('Resumen de indicadores HSE'!Z22:Z23,'Resumen de indicadores HSE'!Z22:Z23,\">=0\"),\"-\")","v":"-"},{"$f":"+IFERROR(AVERAGEIFS('Resumen de indicadores HSE'!AA22:AA23,'Resumen de indicadores HSE'!AA22:AA23,\">=0\"),\"-\")","v":"-"},{"$f":"+IFERROR(AVERAGEIFS('Resumen de indicadores HSE'!AB22:AB23,'Resumen de indicadores HSE'!AB22:AB23,\">=0\"),\"-\")","v":"-"},{"$f":"+IFERROR(AVERAGEIFS('Resumen de indicadores HSE'!AC22:AC23,'Resumen de indicadores HSE'!AC22:AC23,\">=0\"),\"-\")","v":"-"},{"$f":"+IFERROR(AVERAGEIFS('Resumen de indicadores HSE'!AD22:AD23,'Resumen de indicadores HSE'!AD22:AD23,\">=0\"),\"-\")","v":"-"},{"$f":"+IFERROR(AVERAGEIFS('Resumen de indicadores HSE'!AE22:AE23,'Resumen de indicadores HSE'!AE22:AE23,\">=0\"),\"-\")","v":"-"},{"$f":"+IFERROR(AVERAGEIFS('Resumen de indicadores HSE'!AF22:AF23,'Resumen de indicadores HSE'!AF22:AF23,\">=0\"),\"-\")","v":"-"},{"$f":"+IFERROR(AVERAGEIFS('Resumen de indicadores HSE'!AG22:AG23,'Resumen de indicadores HSE'!AG22:AG23,\">=0\"),\"-\")","v":"-"},{"$f":"+IFERROR(AVERAGEIFS('Resumen de indicadores HSE'!AH22:AH23,'Resumen de indicadores HSE'!AH22:AH23,\">=0\"),\"-\")","v":"-"},{"$f":"+IFERROR(AVERAGEIFS('Resumen de indicadores HSE'!AI22:AI23,'Resumen de indicadores HSE'!AI22:AI23,\">=0\"),\"-\")","v":"-"},{"$f":"+IFERROR(AVERAGEIFS('Resumen de indicadores HSE'!AJ22:AJ23,'Resumen de indicadores HSE'!AJ22:AJ23,\">=0\"),\"-\")","v":"-"},{"$f":"+IFERROR(AVERAGEIFS('Resumen de indicadores HSE'!AK22:AK23,'Resumen de indicadores HSE'!AK22:AK23,\">=0\"),\"-\")","v":"-"},{"$f":"+IFERROR(AVERAGEIFS('Resumen de indicadores HSE'!AL22:AL23,'Resumen de indicadores HSE'!AL22:AL23,\">=0\"),\"-\")","v":"-"},{"$f":"+IFERROR(AVERAGEIFS('Resumen de indicadores HSE'!AM22:AM23,'Resumen de indicadores HSE'!AM22:AM23,\">=0\"),\"-\")","v":"-"},{"$f":"+IFERROR(AVERAGEIFS('Resumen de indicadores HSE'!AN22:AN23,'Resumen de indicadores HSE'!AN22:AN23,\">=0\"),\"-\")","v":"-"},{"$f":"+IFERROR(AVERAGEIFS('Resumen de indicadores HSE'!AO22:AO23,'Resumen de indicadores HSE'!AO22:AO23,\">=0\"),\"-\")","v":"-"},{"$f":"+IFERROR(AVERAGEIFS('Resumen de indicadores HSE'!AP22:AP23,'Resumen de indicadores HSE'!AP22:AP23,\">=0\"),\"-\")","v":"-"},{"$f":"+IFERROR(AVERAGEIFS('Resumen de indicadores HSE'!AQ22:AQ23,'Resumen de indicadores HSE'!AQ22:AQ23,\">=0\"),\"-\")","v":"-"},{"$f":"+IFERROR(AVERAGEIFS('Resumen de indicadores HSE'!AR22:AR23,'Resumen de indicadores HSE'!AR22:AR23,\">=0\"),\"-\")","v":"-"},{"$f":"+IFERROR(AVERAGEIFS('Resumen de indicadores HSE'!AS22:AS23,'Resumen de indicadores HSE'!AS22:AS23,\">=0\"),\"-\")","v":"-"},{"$f":"+IFERROR(AVERAGEIFS('Resumen de indicadores HSE'!AT22:AT23,'Resumen de indicadores HSE'!AT22:AT23,\">=0\"),\"-\")","v":"-"},{"$f":"+IFERROR(AVERAGEIFS('Resumen de indicadores HSE'!AU22:AU23,'Resumen de indicadores HSE'!AU22:AU23,\">=0\"),\"-\")","v":"-"},{"$f":"+IFERROR(AVERAGEIFS('Resumen de indicadores HSE'!AV22:AV23,'Resumen de indicadores HSE'!AV22:AV23,\">=0\"),\"-\")","v":"-"},{"$f":"+IFERROR(AVERAGEIFS('Resumen de indicadores HSE'!AW22:AW23,'Resumen de indicadores HSE'!AW22:AW23,\">=0\"),\"-\")","v":"-"},{"$f":"+IFERROR(AVERAGEIFS('Resumen de indicadores HSE'!AX22:AX23,'Resumen de indicadores HSE'!AX22:AX23,\">=0\"),\"-\")","v":"-"},{"$f":"+IFERROR(AVERAGEIFS('Resumen de indicadores HSE'!AY22:AY23,'Resumen de indicadores HSE'!AY22:AY23,\">=0\"),\"-\")","v":"-"},{"$f":"+IFERROR(AVERAGEIFS('Resumen de indicadores HSE'!AZ22:AZ23,'Resumen de indicadores HSE'!AZ22:AZ23,\">=0\"),\"-\")","v":"-"},{"$f":"+IFERROR(AVERAGEIFS('Resumen de indicadores HSE'!BA22:BA23,'Resumen de indicadores HSE'!BA22:BA23,\">=0\"),\"-\")","v":"-"},{"$f":"+IFERROR(AVERAGEIFS('Resumen de indicadores HSE'!BB22:BB23,'Resumen de indicadores HSE'!BB22:BB23,\">=0\"),\"-\")","v":"-"},{"$f":"+IFERROR(AVERAGEIFS('Resumen de indicadores HSE'!BC22:BC23,'Resumen de indicadores HSE'!BC22:BC23,\">=0\"),\"-\")","v":"-"},{"$f":"+IFERROR(AVERAGEIFS('Resumen de indicadores HSE'!BD22:BD23,'Resumen de indicadores HSE'!BD22:BD23,\">=0\"),\"-\")","v":"-"},{"$f":"+IFERROR(AVERAGEIFS('Resumen de indicadores HSE'!BE22:BE23,'Resumen de indicadores HSE'!BE22:BE23,\">=0\"),\"-\")","v":"-"}]
[null,"HSE","Empatía","-",null,{"$f":"+IFERROR(AVERAGEIFS('Resumen de indicadores HSE'!H24:H25,'Resumen de indicadores HSE'!H24:H25,\">=0\"),\"-\")","v":"-"},{"$f":"+IFERROR(AVERAGEIFS('Resumen de indicadores HSE'!I24:I25,'Resumen de indicadores HSE'!I24:I25,\">=0\"),\"-\")","v":"-"},{"$f":"+IFERROR(AVERAGEIFS('Resumen de indicadores HSE'!J24:J25,'Resumen de indicadores HSE'!J24:J25,\">=0\"),\"-\")","v":"-"},{"$f":"+IFERROR(AVERAGEIFS('Resumen de indicadores HSE'!K24:K25,'Resumen de indicadores HSE'!K24:K25,\">=0\"),\"-\")","v":"-"},{"$f":"+IFERROR(AVERAGEIFS('Resumen de indicadores HSE'!L24:L25,'Resumen de indicadores HSE'!L24:L25,\">=0\"),\"-\")","v":"-"},{"$f":"+IFERROR(AVERAGEIFS('Resumen de indicadores HSE'!M24:M25,'Resumen de indicadores HSE'!M24:M25,\">=0\"),\"-\")","v":"-"},{"$f":"+IFERROR(AVERAGEIFS('Resumen de indicadores HSE'!N24:N25,'Resumen de indicadores HSE'!N24:N25,\">=0\"),\"-\")","v":"-"},{"$f":"+IFERROR(AVERAGEIFS('Resumen de indicadores HSE'!O24:O25,'Resumen de indicadores HSE'!O24:O25,\">=0\"),\"-\")","v":"-"},{"$f":"+IFERROR(AVERAGEIFS('Resumen de indicadores HSE'!P24:P25,'Resumen de indicadores HSE'!P24:P25,\">=0\"),\"-\")","v":"-"},{"$f":"+IFERROR(AVERAGEIFS('Resumen de indicadores HSE'!Q24:Q25,'Resumen de indicadores HSE'!Q24:Q25,\">=0\"),\"-\")","v":"-"},{"$f":"+IFERROR(AVERAGEIFS('Resumen de indicadores HSE'!R24:R25,'Resumen de indicadores HSE'!R24:R25,\">=0\"),\"-\")","v":"-"},{"$f":"+IFERROR(AVERAGEIFS('Resumen de indicadores HSE'!S24:S25,'Resumen de indicadores HSE'!S24:S25,\">=0\"),\"-\")","v":"-"},{"$f":"+IFERROR(AVERAGEIFS('Resumen de indicadores HSE'!T24:T25,'Resumen de indicadores HSE'!T24:T25,\">=0\"),\"-\")","v":"-"},{"$f":"+IFERROR(AVERAGEIFS('Resumen de indicadores HSE'!U24:U25,'Resumen de indicadores HSE'!U24:U25,\">=0\"),\"-\")","v":"-"},{"$f":"+IFERROR(AVERAGEIFS('Resumen de indicadores HSE'!V24:V25,'Resumen de indicadores HSE'!V24:V25,\">=0\"),\"-\")","v":"-"},{"$f":"+IFERROR(AVERAGEIFS('Resumen de indicadores HSE'!W24:W25,'Resumen de indicadores HSE'!W24:W25,\">=0\"),\"-\")","v":"-"},{"$f":"+IFERROR(AVERAGEIFS('Resumen de indicadores HSE'!X24:X25,'Resumen de indicadores HSE'!X24:X25,\">=0\"),\"-\")","v":"-"},{"$f":"+IFERROR(AVERAGEIFS('Resumen de indicadores HSE'!Y24:Y25,'Resumen de indicadores HSE'!Y24:Y25,\">=0\"),\"-\")","v":"-"},{"$f":"+IFERROR(AVERAGEIFS('Resumen de indicadores HSE'!Z24:Z25,'Resumen de indicadores HSE'!Z24:Z25,\">=0\"),\"-\")","v":"-"},{"$f":"+IFERROR(AVERAGEIFS('Resumen de indicadores HSE'!AA24:AA25,'Resumen de indicadores HSE'!AA24:AA25,\">=0\"),\"-\")","v":"-"},{"$f":"+IFERROR(AVERAGEIFS('Resumen de indicadores HSE'!AB24:AB25,'Resumen de indicadores HSE'!AB24:AB25,\">=0\"),\"-\")","v":"-"},{"$f":"+IFERROR(AVERAGEIFS('Resumen de indicadores HSE'!AC24:AC25,'Resumen de indicadores HSE'!AC24:AC25,\">=0\"),\"-\")","v":"-"},{"$f":"+IFERROR(AVERAGEIFS('Resumen de indicadores HSE'!AD24:AD25,'Resumen de indicadores HSE'!AD24:AD25,\">=0\"),\"-\")","v":"-"},{"$f":"+IFERROR(AVERAGEIFS('Resumen de indicadores HSE'!AE24:AE25,'Resumen de indicadores HSE'!AE24:AE25,\">=0\"),\"-\")","v":"-"},{"$f":"+IFERROR(AVERAGEIFS('Resumen de indicadores HSE'!AF24:AF25,'Resumen de indicadores HSE'!AF24:AF25,\">=0\"),\"-\")","v":"-"},{"$f":"+IFERROR(AVERAGEIFS('Resumen de indicadores HSE'!AG24:AG25,'Resumen de indicadores HSE'!AG24:AG25,\">=0\"),\"-\")","v":"-"},{"$f":"+IFERROR(AVERAGEIFS('Resumen de indicadores HSE'!AH24:AH25,'Resumen de indicadores HSE'!AH24:AH25,\">=0\"),\"-\")","v":"-"},{"$f":"+IFERROR(AVERAGEIFS('Resumen de indicadores HSE'!AI24:AI25,'Resumen de indicadores HSE'!AI24:AI25,\">=0\"),\"-\")","v":"-"},{"$f":"+IFERROR(AVERAGEIFS('Resumen de indicadores HSE'!AJ24:AJ25,'Resumen de indicadores HSE'!AJ24:AJ25,\">=0\"),\"-\")","v":"-"},{"$f":"+IFERROR(AVERAGEIFS('Resumen de indicadores HSE'!AK24:AK25,'Resumen de indicadores HSE'!AK24:AK25,\">=0\"),\"-\")","v":"-"},{"$f":"+IFERROR(AVERAGEIFS('Resumen de indicadores HSE'!AL24:AL25,'Resumen de indicadores HSE'!AL24:AL25,\">=0\"),\"-\")","v":"-"},{"$f":"+IFERROR(AVERAGEIFS('Resumen de indicadores HSE'!AM24:AM25,'Resumen de indicadores HSE'!AM24:AM25,\">=0\"),\"-\")","v":"-"},{"$f":"+IFERROR(AVERAGEIFS('Resumen de indicadores HSE'!AN24:AN25,'Resumen de indicadores HSE'!AN24:AN25,\">=0\"),\"-\")","v":"-"},{"$f":"+IFERROR(AVERAGEIFS('Resumen de indicadores HSE'!AO24:AO25,'Resumen de indicadores HSE'!AO24:AO25,\">=0\"),\"-\")","v":"-"},{"$f":"+IFERROR(AVERAGEIFS('Resumen de indicadores HSE'!AP24:AP25,'Resumen de indicadores HSE'!AP24:AP25,\">=0\"),\"-\")","v":"-"},{"$f":"+IFERROR(AVERAGEIFS('Resumen de indicadores HSE'!AQ24:AQ25,'Resumen de indicadores HSE'!AQ24:AQ25,\">=0\"),\"-\")","v":"-"},{"$f":"+IFERROR(AVERAGEIFS('Resumen de indicadores HSE'!AR24:AR25,'Resumen de indicadores HSE'!AR24:AR25,\">=0\"),\"-\")","v":"-"},{"$f":"+IFERROR(AVERAGEIFS('Resumen de indicadores HSE'!AS24:AS25,'Resumen de indicadores HSE'!AS24:AS25,\">=0\"),\"-\")","v":"-"},{"$f":"+IFERROR(AVERAGEIFS('Resumen de indicadores HSE'!AT24:AT25,'Resumen de indicadores HSE'!AT24:AT25,\">=0\"),\"-\")","v":"-"},{"$f":"+IFERROR(AVERAGEIFS('Resumen de indicadores HSE'!AU24:AU25,'Resumen de indicadores HSE'!AU24:AU25,\">=0\"),\"-\")","v":"-"},{"$f":"+IFERROR(AVERAGEIFS('Resumen de indicadores HSE'!AV24:AV25,'Resumen de indicadores HSE'!AV24:AV25,\">=0\"),\"-\")","v":"-"},{"$f":"+IFERROR(AVERAGEIFS('Resumen de indicadores HSE'!AW24:AW25,'Resumen de indicadores HSE'!AW24:AW25,\">=0\"),\"-\")","v":"-"},{"$f":"+IFERROR(AVERAGEIFS('Resumen de indicadores HSE'!AX24:AX25,'Resumen de indicadores HSE'!AX24:AX25,\">=0\"),\"-\")","v":"-"},{"$f":"+IFERROR(AVERAGEIFS('Resumen de indicadores HSE'!AY24:AY25,'Resumen de indicadores HSE'!AY24:AY25,\">=0\"),\"-\")","v":"-"},{"$f":"+IFERROR(AVERAGEIFS('Resumen de indicadores HSE'!AZ24:AZ25,'Resumen de indicadores HSE'!AZ24:AZ25,\">=0\"),\"-\")","v":"-"},{"$f":"+IFERROR(AVERAGEIFS('Resumen de indicadores HSE'!BA24:BA25,'Resumen de indicadores HSE'!BA24:BA25,\">=0\"),\"-\")","v":"-"},{"$f":"+IFERROR(AVERAGEIFS('Resumen de indicadores HSE'!BB24:BB25,'Resumen de indicadores HSE'!BB24:BB25,\">=0\"),\"-\")","v":"-"},{"$f":"+IFERROR(AVERAGEIFS('Resumen de indicadores HSE'!BC24:BC25,'Resumen de indicadores HSE'!BC24:BC25,\">=0\"),\"-\")","v":"-"},{"$f":"+IFERROR(AVERAGEIFS('Resumen de indicadores HSE'!BD24:BD25,'Resumen de indicadores HSE'!BD24:BD25,\">=0\"),\"-\")","v":"-"},{"$f":"+IFERROR(AVERAGEIFS('Resumen de indicadores HSE'!BE24:BE25,'Resumen de indicadores HSE'!BE24:BE25,\">=0\"),\"-\")","v":"-"}]
[null,"HSE","Resolución de Conflictos","-",null,{"$f":"+IFERROR(AVERAGEIFS('Resumen de indicadores HSE'!H26:H27,'Resumen de indicadores HSE'!H26:H27,\">=0\"),\"-\")","v":"-"},{"$f":"+IFERROR(AVERAGEIFS('Resumen de indicadores HSE'!I26:I27,'Resumen de indicadores HSE'!I26:I27,\">=0\"),\"-\")","v":"-"},{"$f":"+IFERROR(AVERAGEIFS('Resumen de indicadores HSE'!J26:J27,'Resumen de indicadores HSE'!J26:J27,\">=0\"),\"-\")","v":"-"},{"$f":"+IFERROR(AVERAGEIFS('Resumen de indicadores HSE'!K26:K27,'Resumen de indicadores HSE'!K26:K27,\">=0\"),\"-\")","v":"-"},{"$f":"+IFERROR(AVERAGEIFS('Resumen de indicadores HSE'!L26:L27,'Resumen de indicadores HSE'!L26:L27,\">=0\"),\"-\")","v":"-"},{"$f":"+IFERROR(AVERAGEIFS('Resumen de indicadores HSE'!M26:M27,'Resumen de indicadores HSE'!M26:M27,\">=0\"),\"-\")","v":"-"},{"$f":"+IFERROR(AVERAGEIFS('Resumen de indicadores HSE'!N26:N27,'Resumen de indicadores HSE'!N26:N27,\">=0\"),\"-\")","v":"-"},{"$f":"+IFERROR(AVERAGEIFS('Resumen de indicadores HSE'!O26:O27,'Resumen de indicadores HSE'!O26:O27,\">=0\"),\"-\")","v":"-"},{"$f":"+IFERROR(AVERAGEIFS('Resumen de indicadores HSE'!P26:P27,'Resumen de indicadores HSE'!P26:P27,\">=0\"),\"-\")","v":"-"},{"$f":"+IFERROR(AVERAGEIFS('Resumen de indicadores HSE'!Q26:Q27,'Resumen de indicadores HSE'!Q26:Q27,\">=0\"),\"-\")","v":"-"},{"$f":"+IFERROR(AVERAGEIFS('Resumen de indicadores HSE'!R26:R27,'Resumen de indicadores HSE'!R26:R27,\">=0\"),\"-\")","v":"-"},{"$f":"+IFERROR(AVERAGEIFS('Resumen de indicadores HSE'!S26:S27,'Resumen de indicadores HSE'!S26:S27,\">=0\"),\"-\")","v":"-"},{"$f":"+IFERROR(AVERAGEIFS('Resumen de indicadores HSE'!T26:T27,'Resumen de indicadores HSE'!T26:T27,\">=0\"),\"-\")","v":"-"},{"$f":"+IFERROR(AVERAGEIFS('Resumen de indicadores HSE'!U26:U27,'Resumen de indicadores HSE'!U26:U27,\">=0\"),\"-\")","v":"-"},{"$f":"+IFERROR(AVERAGEIFS('Resumen de indicadores HSE'!V26:V27,'Resumen de indicadores HSE'!V26:V27,\">=0\"),\"-\")","v":"-"},{"$f":"+IFERROR(AVERAGEIFS('Resumen de indicadores HSE'!W26:W27,'Resumen de indicadores HSE'!W26:W27,\">=0\"),\"-\")","v":"-"},{"$f":"+IFERROR(AVERAGEIFS('Resumen de indicadores HSE'!X26:X27,'Resumen de indicadores HSE'!X26:X27,\">=0\"),\"-\")","v":"-"},{"$f":"+IFERROR(AVERAGEIFS('Resumen de indicadores HSE'!Y26:Y27,'Resumen de indicadores HSE'!Y26:Y27,\">=0\"),\"-\")","v":"-"},{"$f":"+IFERROR(AVERAGEIFS('Resumen de indicadores HSE'!Z26:Z27,'Resumen de indicadores HSE'!Z26:Z27,\">=0\"),\"-\")","v":"-"},{"$f":"+IFERROR(AVERAGEIFS('Resumen de indicadores HSE'!AA26:AA27,'Resumen de indicadores HSE'!AA26:AA27,\">=0\"),\"-\")","v":"-"},{"$f":"+IFERROR(AVERAGEIFS('Resumen de indicadores HSE'!AB26:AB27,'Resumen de indicadores HSE'!AB26:AB27,\">=0\"),\"-\")","v":"-"},{"$f":"+IFERROR(AVERAGEIFS('Resumen de indicadores HSE'!AC26:AC27,'Resumen de indicadores HSE'!AC26:AC27,\">=0\"),\"-\")","v":"-"},{"$f":"+IFERROR(AVERAGEIFS('Resumen de indicadores HSE'!AD26:AD27,'Resumen de indicadores HSE'!AD26:AD27,\">=0\"),\"-\")","v":"-"},{"$f":"+IFERROR(AVERAGEIFS('Resumen de indicadores HSE'!AE26:AE27,'Resumen de indicadores HSE'!AE26:AE27,\">=0\"),\"-\")","v":"-"},{"$f":"+IFERROR(AVERAGEIFS('Resumen de indicadores HSE'!AF26:AF27,'Resumen de indicadores HSE'!AF26:AF27,\">=0\"),\"-\")","v":"-"},{"$f":"+IFERROR(AVERAGEIFS('Resumen de indicadores HSE'!AG26:AG27,'Resumen de indicadores HSE'!AG26:AG27,\">=0\"),\"-\")","v":"-"},{"$f":"+IFERROR(AVERAGEIFS('Resumen de indicadores HSE'!AH26:AH27,'Resumen de indicadores HSE'!AH26:AH27,\">=0\"),\"-\")","v":"-"},{"$f":"+IFERROR(AVERAGEIFS('Resumen de indicadores HSE'!AI26:AI27,'Resumen de indicadores HSE'!AI26:AI27,\">=0\"),\"-\")","v":"-"},{"$f":"+IFERROR(AVERAGEIFS('Resumen de indicadores HSE'!AJ26:AJ27,'Resumen de indicadores HSE'!AJ26:AJ27,\">=0\"),\"-\")","v":"-"},{"$f":"+IFERROR(AVERAGEIFS('Resumen de indicadores HSE'!AK26:AK27,'Resumen de indicadores HSE'!AK26:AK27,\">=0\"),\"-\")","v":"-"},{"$f":"+IFERROR(AVERAGEIFS('Resumen de indicadores HSE'!AL26:AL27,'Resumen de indicadores HSE'!AL26:AL27,\">=0\"),\"-\")","v":"-"},{"$f":"+IFERROR(AVERAGEIFS('Resumen de indicadores HSE'!AM26:AM27,'Resumen de indicadores HSE'!AM26:AM27,\">=0\"),\"-\")","v":"-"},{"$f":"+IFERROR(AVERAGEIFS('Resumen de indicadores HSE'!AN26:AN27,'Resumen de indicadores HSE'!AN26:AN27,\">=0\"),\"-\")","v":"-"},{"$f":"+IFERROR(AVERAGEIFS('Resumen de indicadores HSE'!AO26:AO27,'Resumen de indicadores HSE'!AO26:AO27,\">=0\"),\"-\")","v":"-"},{"$f":"+IFERROR(AVERAGEIFS('Resumen de indicadores HSE'!AP26:AP27,'Resumen de indicadores HSE'!AP26:AP27,\">=0\"),\"-\")","v":"-"},{"$f":"+IFERROR(AVERAGEIFS('Resumen de indicadores HSE'!AQ26:AQ27,'Resumen de indicadores HSE'!AQ26:AQ27,\">=0\"),\"-\")","v":"-"},{"$f":"+IFERROR(AVERAGEIFS('Resumen de indicadores HSE'!AR26:AR27,'Resumen de indicadores HSE'!AR26:AR27,\">=0\"),\"-\")","v":"-"},{"$f":"+IFERROR(AVERAGEIFS('Resumen de indicadores HSE'!AS26:AS27,'Resumen de indicadores HSE'!AS26:AS27,\">=0\"),\"-\")","v":"-"},{"$f":"+IFERROR(AVERAGEIFS('Resumen de indicadores HSE'!AT26:AT27,'Resumen de indicadores HSE'!AT26:AT27,\">=0\"),\"-\")","v":"-"},{"$f":"+IFERROR(AVERAGEIFS('Resumen de indicadores HSE'!AU26:AU27,'Resumen de indicadores HSE'!AU26:AU27,\">=0\"),\"-\")","v":"-"},{"$f":"+IFERROR(AVERAGEIFS('Resumen de indicadores HSE'!AV26:AV27,'Resumen de indicadores HSE'!AV26:AV27,\">=0\"),\"-\")","v":"-"},{"$f":"+IFERROR(AVERAGEIFS('Resumen de indicadores HSE'!AW26:AW27,'Resumen de indicadores HSE'!AW26:AW27,\">=0\"),\"-\")","v":"-"},{"$f":"+IFERROR(AVERAGEIFS('Resumen de indicadores HSE'!AX26:AX27,'Resumen de indicadores HSE'!AX26:AX27,\">=0\"),\"-\")","v":"-"},{"$f":"+IFERROR(AVERAGEIFS('Resumen de indicadores HSE'!AY26:AY27,'Resumen de indicadores HSE'!AY26:AY27,\">=0\"),\"-\")","v":"-"},{"$f":"+IFERROR(AVERAGEIFS('Resumen de indicadores HSE'!AZ26:AZ27,'Resumen de indicadores HSE'!AZ26:AZ27,\">=0\"),\"-\")","v":"-"},{"$f":"+IFERROR(AVERAGEIFS('Resumen de indicadores HSE'!BA26:BA27,'Resumen de indicadores HSE'!BA26:BA27,\">=0\"),\"-\")","v":"-"},{"$f":"+IFERROR(AVERAGEIFS('Resumen de indicadores HSE'!BB26:BB27,'Resumen de indicadores HSE'!BB26:BB27,\">=0\"),\"-\")","v":"-"},{"$f":"+IFERROR(AVERAGEIFS('Resumen de indicadores HSE'!BC26:BC27,'Resumen de indicadores HSE'!BC26:BC27,\">=0\"),\"-\")","v":"-"},{"$f":"+IFERROR(AVERAGEIFS('Resumen de indicadores HSE'!BD26:BD27,'Resumen de indicadores HSE'!BD26:BD27,\">=0\"),\"-\")","v":"-"},{"$f":"+IFERROR(AVERAGEIFS('Resumen de indicadores HSE'!BE26:BE27,'Resumen de indicadores HSE'!BE26:BE27,\">=0\"),\"-\")","v":"-"}]
[null,"HSE","Conciencia Social","-",null,{"$f":"+IFERROR(AVERAGEIFS('Resumen de indicadores HSE'!H28:H29,'Resumen de indicadores HSE'!H28:H29,\">=0\"),\"-\")","v":"-"},{"$f":"+IFERROR(AVERAGEIFS('Resumen de indicadores HSE'!I28:I29,'Resumen de indicadores HSE'!I28:I29,\">=0\"),\"-\")","v":"-"},{"$f":"+IFERROR(AVERAGEIFS('Resumen de indicadores HSE'!J28:J29,'Resumen de indicadores HSE'!J28:J29,\">=0\"),\"-\")","v":"-"},{"$f":"+IFERROR(AVERAGEIFS('Resumen de indicadores HSE'!K28:K29,'Resumen de indicadores HSE'!K28:K29,\">=0\"),\"-\")","v":"-"},{"$f":"+IFERROR(AVERAGEIFS('Resumen de indicadores HSE'!L28:L29,'Resumen de indicadores HSE'!L28:L29,\">=0\"),\"-\")","v":"-"},{"$f":"+IFERROR(AVERAGEIFS('Resumen de indicadores HSE'!M28:M29,'Resumen de indicadores HSE'!M28:M29,\">=0\"),\"-\")","v":"-"},{"$f":"+IFERROR(AVERAGEIFS('Resumen de indicadores HSE'!N28:N29,'Resumen de indicadores HSE'!N28:N29,\">=0\"),\"-\")","v":"-"},{"$f":"+IFERROR(AVERAGEIFS('Resumen de indicadores HSE'!O28:O29,'Resumen de indicadores HSE'!O28:O29,\">=0\"),\"-\")","v":"-"},{"$f":"+IFERROR(AVERAGEIFS('Resumen de indicadores HSE'!P28:P29,'Resumen de indicadores HSE'!P28:P29,\">=0\"),\"-\")","v":"-"},{"$f":"+IFERROR(AVERAGEIFS('Resumen de indicadores HSE'!Q28:Q29,'Resumen de indicadores HSE'!Q28:Q29,\">=0\"),\"-\")","v":"-"},{"$f":"+IFERROR(AVERAGEIFS('Resumen de indicadores HSE'!R28:R29,'Resumen de indicadores HSE'!R28:R29,\">=0\"),\"-\")","v":"-"},{"$f":"+IFERROR(AVERAGEIFS('Resumen de indicadores HSE'!S28:S29,'Resumen de indicadores HSE'!S28:S29,\">=0\"),\"-\")","v":"-"},{"$f":"+IFERROR(AVERAGEIFS('Resumen de indicadores HSE'!T28:T29,'Resumen de indicadores HSE'!T28:T29,\">=0\"),\"-\")","v":"-"},{"$f":"+IFERROR(AVERAGEIFS('Resumen de indicadores HSE'!U28:U29,'Resumen de indicadores HSE'!U28:U29,\">=0\"),\"-\")","v":"-"},{"$f":"+IFERROR(AVERAGEIFS('Resumen de indicadores HSE'!V28:V29,'Resumen de indicadores HSE'!V28:V29,\">=0\"),\"-\")","v":"-"},{"$f":"+IFERROR(AVERAGEIFS('Resumen de indicadores HSE'!W28:W29,'Resumen de indicadores HSE'!W28:W29,\">=0\"),\"-\")","v":"-"},{"$f":"+IFERROR(AVERAGEIFS('Resumen de indicadores HSE'!X28:X29,'Resumen de indicadores HSE'!X28:X29,\">=0\"),\"-\")","v":"-"},{"$f":"+IFERROR(AVERAGEIFS('Resumen de indicadores HSE'!Y28:Y29,'Resumen de indicadores HSE'!Y28:Y29,\">=0\"),\"-\")","v":"-"},{"$f":"+IFERROR(AVERAGEIFS('Resumen de indicadores HSE'!Z28:Z29,'Resumen de indicadores HSE'!Z28:Z29,\">=0\"),\"-\")","v":"-"},{"$f":"+IFERROR(AVERAGEIFS('Resumen de indicadores HSE'!AA28:AA29,'Resumen de indicadores HSE'!AA28:AA29,\">=0\"),\"-\")","v":"-"},{"$f":"+IFERROR(AVERAGEIFS('Resumen de indicadores HSE'!AB28:AB29,'Resumen de indicadores HSE'!AB28:AB29,\">=0\"),\"-\")","v":"-"},{"$f":"+IFERROR(AVERAGEIFS('Resumen de indicadores HSE'!AC28:AC29,'Resumen de indicadores HSE'!AC28:AC29,\">=0\"),\"-\")","v":"-"},{"$f":"+IFERROR(AVERAGEIFS('Resumen de indicadores HSE'!AD28:AD29,'Resumen de indicadores HSE'!AD28:AD29,\">=0\"),\"-\")","v":"-"},{"$f":"+IFERROR(AVERAGEIFS('Resumen de indicadores HSE'!AE28:AE29,'Resumen de indicadores HSE'!AE28:AE29,\">=0\"),\"-\")","v":"-"},{"$f":"+IFERROR(AVERAGEIFS('Resumen de indicadores HSE'!AF28:AF29,'Resumen de indicadores HSE'!AF28:AF29,\">=0\"),\"-\")","v":"-"},{"$f":"+IFERROR(AVERAGEIFS('Resumen de indicadores HSE'!AG28:AG29,'Resumen de indicadores HSE'!AG28:AG29,\">=0\"),\"-\")","v":"-"},{"$f":"+IFERROR(AVERAGEIFS('Resumen de indicadores HSE'!AH28:AH29,'Resumen de indicadores HSE'!AH28:AH29,\">=0\"),\"-\")","v":"-"},{"$f":"+IFERROR(AVERAGEIFS('Resumen de indicadores HSE'!AI28:AI29,'Resumen de indicadores HSE'!AI28:AI29,\">=0\"),\"-\")","v":"-"},{"$f":"+IFERROR(AVERAGEIFS('Resumen de indicadores HSE'!AJ28:AJ29,'Resumen de indicadores HSE'!AJ28:AJ29,\">=0\"),\"-\")","v":"-"},{"$f":"+IFERROR(AVERAGEIFS('Resumen de indicadores HSE'!AK28:AK29,'Resumen de indicadores HSE'!AK28:AK29,\">=0\"),\"-\")","v":"-"},{"$f":"+IFERROR(AVERAGEIFS('Resumen de indicadores HSE'!AL28:AL29,'Resumen de indicadores HSE'!AL28:AL29,\">=0\"),\"-\")","v":"-"},{"$f":"+IFERROR(AVERAGEIFS('Resumen de indicadores HSE'!AM28:AM29,'Resumen de indicadores HSE'!AM28:AM29,\">=0\"),\"-\")","v":"-"},{"$f":"+IFERROR(AVERAGEIFS('Resumen de indicadores HSE'!AN28:AN29,'Resumen de indicadores HSE'!AN28:AN29,\">=0\"),\"-\")","v":"-"},{"$f":"+IFERROR(AVERAGEIFS('Resumen de indicadores HSE'!AO28:AO29,'Resumen de indicadores HSE'!AO28:AO29,\">=0\"),\"-\")","v":"-"},{"$f":"+IFERROR(AVERAGEIFS('Resumen de indicadores HSE'!AP28:AP29,'Resumen de indicadores HSE'!AP28:AP29,\">=0\"),\"-\")","v":"-"},{"$f":"+IFERROR(AVERAGEIFS('Resumen de indicadores HSE'!AQ28:AQ29,'Resumen de indicadores HSE'!AQ28:AQ29,\">=0\"),\"-\")","v":"-"},{"$f":"+IFERROR(AVERAGEIFS('Resumen de indicadores HSE'!AR28:AR29,'Resumen de indicadores HSE'!AR28:AR29,\">=0\"),\"-\")","v":"-"},{"$f":"+IFERROR(AVERAGEIFS('Resumen de indicadores HSE'!AS28:AS29,'Resumen de indicadores HSE'!AS28:AS29,\">=0\"),\"-\")","v":"-"},{"$f":"+IFERROR(AVERAGEIFS('Resumen de indicadores HSE'!AT28:AT29,'Resumen de indicadores HSE'!AT28:AT29,\">=0\"),\"-\")","v":"-"},{"$f":"+IFERROR(AVERAGEIFS('Resumen de indicadores HSE'!AU28:AU29,'Resumen de indicadores HSE'!AU28:AU29,\">=0\"),\"-\")","v":"-"},{"$f":"+IFERROR(AVERAGEIFS('Resumen de indicadores HSE'!AV28:AV29,'Resumen de indicadores HSE'!AV28:AV29,\">=0\"),\"-\")","v":"-"},{"$f":"+IFERROR(AVERAGEIFS('Resumen de indicadores HSE'!AW28:AW29,'Resumen de indicadores HSE'!AW28:AW29,\">=0\"),\"-\")","v":"-"},{"$f":"+IFERROR(AVERAGEIFS('Resumen de indicadores HSE'!AX28:AX29,'Resumen de indicadores HSE'!AX28:AX29,\">=0\"),\"-\")","v":"-"},{"$f":"+IFERROR(AVERAGEIFS('Resumen de indicadores HSE'!AY28:AY29,'Resumen de indicadores HSE'!AY28:AY29,\">=0\"),\"-\")","v":"-"},{"$f":"+IFERROR(AVERAGEIFS('Resumen de indicadores HSE'!AZ28:AZ29,'Resumen de indicadores HSE'!AZ28:AZ29,\">=0\"),\"-\")","v":"-"},{"$f":"+IFERROR(AVERAGEIFS('Resumen de indicadores HSE'!BA28:BA29,'Resumen de indicadores HSE'!BA28:BA29,\">=0\"),\"-\")","v":"-"},{"$f":"+IFERROR(AVERAGEIFS('Resumen de indicadores HSE'!BB28:BB29,'Resumen de indicadores HSE'!BB28:BB29,\">=0\"),\"-\")","v":"-"},{"$f":"+IFERROR(AVERAGEIFS('Resumen de indicadores HSE'!BC28:BC29,'Resumen de indicadores HSE'!BC28:BC29,\">=0\"),\"-\")","v":"-"},{"$f":"+IFERROR(AVERAGEIFS('Resumen de indicadores HSE'!BD28:BD29,'Resumen de indicadores HSE'!BD28:BD29,\">=0\"),\"-\")","v":"-"},{"$f":"+IFERROR(AVERAGEIFS('Resumen de indicadores HSE'!BE28:BE29,'Resumen de indicadores HSE'!BE28:BE29,\">=0\"),\"-\")","v":"-"}]
[null,"HSE","Comportamiento Prosocial","-",null,{"$f":"+IFERROR(AVERAGEIFS('Resumen de indicadores HSE'!H30:H31,'Resumen de indicadores HSE'!H30:H31,\">=0\"),\"-\")","v":"-"},{"$f":"+IFERROR(AVERAGEIFS('Resumen de indicadores HSE'!I30:I31,'Resumen de indicadores HSE'!I30:I31,\">=0\"),\"-\")","v":"-"},{"$f":"+IFERROR(AVERAGEIFS('Resumen de indicadores HSE'!J30:J31,'Resumen de indicadores HSE'!J30:J31,\">=0\"),\"-\")","v":"-"},{"$f":"+IFERROR(AVERAGEIFS('Resumen de indicadores HSE'!K30:K31,'Resumen de indicadores HSE'!K30:K31,\">=0\"),\"-\")","v":"-"},{"$f":"+IFERROR(AVERAGEIFS('Resumen de indicadores HSE'!L30:L31,'Resumen de indicadores HSE'!L30:L31,\">=0\"),\"-\")","v":"-"},{"$f":"+IFERROR(AVERAGEIFS('Resumen de indicadores HSE'!M30:M31,'Resumen de indicadores HSE'!M30:M31,\">=0\"),\"-\")","v":"-"},{"$f":"+IFERROR(AVERAGEIFS('Resumen de indicadores HSE'!N30:N31,'Resumen de indicadores HSE'!N30:N31,\">=0\"),\"-\")","v":"-"},{"$f":"+IFERROR(AVERAGEIFS('Resumen de indicadores HSE'!O30:O31,'Resumen de indicadores HSE'!O30:O31,\">=0\"),\"-\")","v":"-"},{"$f":"+IFERROR(AVERAGEIFS('Resumen de indicadores HSE'!P30:P31,'Resumen de indicadores HSE'!P30:P31,\">=0\"),\"-\")","v":"-"},{"$f":"+IFERROR(AVERAGEIFS('Resumen de indicadores HSE'!Q30:Q31,'Resumen de indicadores HSE'!Q30:Q31,\">=0\"),\"-\")","v":"-"},{"$f":"+IFERROR(AVERAGEIFS('Resumen de indicadores HSE'!R30:R31,'Resumen de indicadores HSE'!R30:R31,\">=0\"),\"-\")","v":"-"},{"$f":"+IFERROR(AVERAGEIFS('Resumen de indicadores HSE'!S30:S31,'Resumen de indicadores HSE'!S30:S31,\">=0\"),\"-\")","v":"-"},{"$f":"+IFERROR(AVERAGEIFS('Resumen de indicadores HSE'!T30:T31,'Resumen de indicadores HSE'!T30:T31,\">=0\"),\"-\")","v":"-"},{"$f":"+IFERROR(AVERAGEIFS('Resumen de indicadores HSE'!U30:U31,'Resumen de indicadores HSE'!U30:U31,\">=0\"),\"-\")","v":"-"},{"$f":"+IFERROR(AVERAGEIFS('Resumen de indicadores HSE'!V30:V31,'Resumen de indicadores HSE'!V30:V31,\">=0\"),\"-\")","v":"-"},{"$f":"+IFERROR(AVERAGEIFS('Resumen de indicadores HSE'!W30:W31,'Resumen de indicadores HSE'!W30:W31,\">=0\"),\"-\")","v":"-"},{"$f":"+IFERROR(AVERAGEIFS('Resumen de indicadores HSE'!X30:X31,'Resumen de indicadores HSE'!X30:X31,\">=0\"),\"-\")","v":"-"},{"$f":"+IFERROR(AVERAGEIFS('Resumen de indicadores HSE'!Y30:Y31,'Resumen de indicadores HSE'!Y30:Y31,\">=0\"),\"-\")","v":"-"},{"$f":"+IFERROR(AVERAGEIFS('Resumen de indicadores HSE'!Z30:Z31,'Resumen de indicadores HSE'!Z30:Z31,\">=0\"),\"-\")","v":"-"},{"$f":"+IFERROR(AVERAGEIFS('Resumen de indicadores HSE'!AA30:AA31,'Resumen de indicadores HSE'!AA30:AA31,\">=0\"),\"-\")","v":"-"},{"$f":"+IFERROR(AVERAGEIFS('Resumen de indicadores HSE'!AB30:AB31,'Resumen de indicadores HSE'!AB30:AB31,\">=0\"),\"-\")","v":"-"},{"$f":"+IFERROR(AVERAGEIFS('Resumen de indicadores HSE'!AC30:AC31,'Resumen de indicadores HSE'!AC30:AC31,\">=0\"),\"-\")","v":"-"},{"$f":"+IFERROR(AVERAGEIFS('Resumen de indicadores HSE'!AD30:AD31,'Resumen de indicadores HSE'!AD30:AD31,\">=0\"),\"-\")","v":"-"},{"$f":"+IFERROR(AVERAGEIFS('Resumen de indicadores HSE'!AE30:AE31,'Resumen de indicadores HSE'!AE30:AE31,\">=0\"),\"-\")","v":"-"},{"$f":"+IFERROR(AVERAGEIFS('Resumen de indicadores HSE'!AF30:AF31,'Resumen de indicadores HSE'!AF30:AF31,\">=0\"),\"-\")","v":"-"},{"$f":"+IFERROR(AVERAGEIFS('Resumen de indicadores HSE'!AG30:AG31,'Resumen de indicadores HSE'!AG30:AG31,\">=0\"),\"-\")","v":"-"},{"$f":"+IFERROR(AVERAGEIFS('Resumen de indicadores HSE'!AH30:AH31,'Resumen de indicadores HSE'!AH30:AH31,\">=0\"),\"-\")","v":"-"},{"$f":"+IFERROR(AVERAGEIFS('Resumen de indicadores HSE'!AI30:AI31,'Resumen de indicadores HSE'!AI30:AI31,\">=0\"),\"-\")","v":"-"},{"$f":"+IFERROR(AVERAGEIFS('Resumen de indicadores HSE'!AJ30:AJ31,'Resumen de indicadores HSE'!AJ30:AJ31,\">=0\"),\"-\")","v":"-"},{"$f":"+IFERROR(AVERAGEIFS('Resumen de indicadores HSE'!AK30:AK31,'Resumen de indicadores HSE'!AK30:AK31,\">=0\"),\"-\")","v":"-"},{"$f":"+IFERROR(AVERAGEIFS('Resumen de indicadores HSE'!AL30:AL31,'Resumen de indicadores HSE'!AL30:AL31,\">=0\"),\"-\")","v":"-"},{"$f":"+IFERROR(AVERAGEIFS('Resumen de indicadores HSE'!AM30:AM31,'Resumen de indicadores HSE'!AM30:AM31,\">=0\"),\"-\")","v":"-"},{"$f":"+IFERROR(AVERAGEIFS('Resumen de indicadores HSE'!AN30:AN31,'Resumen de indicadores HSE'!AN30:AN31,\">=0\"),\"-\")","v":"-"},{"$f":"+IFERROR(AVERAGEIFS('Resumen de indicadores HSE'!AO30:AO31,'Resumen de indicadores HSE'!AO30:AO31,\">=0\"),\"-\")","v":"-"},{"$f":"+IFERROR(AVERAGEIFS('Resumen de indicadores HSE'!AP30:AP31,'Resumen de indicadores HSE'!AP30:AP31,\">=0\"),\"-\")","v":"-"},{"$f":"+IFERROR(AVERAGEIFS('Resumen de indicadores HSE'!AQ30:AQ31,'Resumen de indicadores HSE'!AQ30:AQ31,\">=0\"),\"-\")","v":"-"},{"$f":"+IFERROR(AVERAGEIFS('Resumen de indicadores HSE'!AR30:AR31,'Resumen de indicadores HSE'!AR30:AR31,\">=0\"),\"-\")","v":"-"},{"$f":"+IFERROR(AVERAGEIFS('Resumen de indicadores HSE'!AS30:AS31,'Resumen de indicadores HSE'!AS30:AS31,\">=0\"),\"-\")","v":"-"},{"$f":"+IFERROR(AVERAGEIFS('Resumen de indicadores HSE'!AT30:AT31,'Resumen de indicadores HSE'!AT30:AT31,\">=0\"),\"-\")","v":"-"},{"$f":"+IFERROR(AVERAGEIFS('Resumen de indicadores HSE'!AU30:AU31,'Resumen de indicadores HSE'!AU30:AU31,\">=0\"),\"-\")","v":"-"},{"$f":"+IFERROR(AVERAGEIFS('Resumen de indicadores HSE'!AV30:AV31,'Resumen de indicadores HSE'!AV30:AV31,\">=0\"),\"-\")","v":"-"},{"$f":"+IFERROR(AVERAGEIFS('Resumen de indicadores HSE'!AW30:AW31,'Resumen de indicadores HSE'!AW30:AW31,\">=0\"),\"-\")","v":"-"},{"$f":"+IFERROR(AVERAGEIFS('Resumen de indicadores HSE'!AX30:AX31,'Resumen de indicadores HSE'!AX30:AX31,\">=0\"),\"-\")","v":"-"},{"$f":"+IFERROR(AVERAGEIFS('Resumen de indicadores HSE'!AY30:AY31,'Resumen de indicadores HSE'!AY30:AY31,\">=0\"),\"-\")","v":"-"},{"$f":"+IFERROR(AVERAGEIFS('Resumen de indicadores HSE'!AZ30:AZ31,'Resumen de indicadores HSE'!AZ30:AZ31,\">=0\"),\"-\")","v":"-"},{"$f":"+IFERROR(AVERAGEIFS('Resumen de indicadores HSE'!BA30:BA31,'Resumen de indicadores HSE'!BA30:BA31,\">=0\"),\"-\")","v":"-"},{"$f":"+IFERROR(AVERAGEIFS('Resumen de indicadores HSE'!BB30:BB31,'Resumen de indicadores HSE'!BB30:BB31,\">=0\"),\"-\")","v":"-"},{"$f":"+IFERROR(AVERAGEIFS('Resumen de indicadores HSE'!BC30:BC31,'Resumen de indicadores HSE'!BC30:BC31,\">=0\"),\"-\")","v":"-"},{"$f":"+IFERROR(AVERAGEIFS('Resumen de indicadores HSE'!BD30:BD31,'Resumen de indicadores HSE'!BD30:BD31,\">=0\"),\"-\")","v":"-"},{"$f":"+IFERROR(AVERAGEIFS('Resumen de indicadores HSE'!BE30:BE31,'Resumen de indicadores HSE'!BE30:BE31,\">=0\"),\"-\")","v":"-"}]
[]
[null,null,null,"Indicadores",null,{"$f":"+F4","v":"Estudiante 1"},"Estudiante 2","Estudiante 3","Estudiante 4","Estudiante 5","Estudiante 6","Estudiante 7","Estudiante 8","Estudiante 9","Estudiante 10","Estudiante 11","Estudiante 12","Estudiante 13","Estudiante 14","Estudiante 15","Estudiante 16","Estudiante 17","Estudiante 18","Estudiante 19","Estudiante 20","Estudiante 21","Estudiante 22","Estudiante 23","Estudiante 24","Estudiante 25","Estudiante 26","Estudiante 27","Estudiante 28","Estudiante 29","Estudiante 30","Estudiante 31","Estudiante 32","Estudiante 33","Estudiante 34","Estudiante 35","Estudiante 36","Estudiante 37","Estudiante 38","Estudiante 39","Estudiante 40","Estudiante 41","Estudiante 42","Estudiante 43","Estudiante 44","Estudiante 45","Estudiante 46","Estudiante 47","Estudiante 48","Estudiante 49","Estudiante 50"]
[null,null,null,"Promedio Escala",null,{"$f":"IFERROR(AVERAGEIFS(F6:F18,F6:F18,\">=0\"),\"-\")","v":"-"},"-","-","-","-","-","-","-","-","-","-","-","-","-","-","-","-","-","-","-","-","-","-","-","-","-","-","-","-","-","-","-","-","-","-","-","-","-","-","-","-","-","-","-","-","-","-","-","-","-"]
[null,null,null,"En inicio",null,{"$f":"IF(ISNUMBER(F21),COUNTIFS(F6:F18,\">=0\",F6:F18,\"<=0.25\"),0)","v":0},0,0,0,0,0,0,0,0,0,0,0,0,0,0,0,0,0,0,0,0,0,0,0,0,0,0,0,0,0,0,0,0,0,0,0,0,0,0,0,0,0,0,0,0,0,0,0,0,0]
[null,null,null,"En Proceso",null,{"$f":"IF(ISNUMBER(F21),COUNTIFS(F6:F18,\">=0.26\",F6:F18,\"<=0.74\"),0)","v":0},0,0,0,0,0,0,0,0,0,0,0,0,0,0,0,0,0,0,0,0,0,0,0,0,0,0,0,0,0,0,0,0,0,0,0,0,0,0,0,0,0,0,0,0,0,0,0,0,0]
[null,null,null,"Satisfactorio",null,{"$f":"IF(ISNUMBER(F21),COUNTIFS(F6:F18,\">=0.75\"),0)","v":0},0,0,0,0,0,0,0,0,0,0,0,0,0,0,0,0,0,0,0,0,0,0,0,0,0,0,0,0,0,0,0,0,0,0,0,0,0,0,0,0,0,0,0,0,0,0,0,0,0]
[null,null,null,"TOTAL",null,{"$f":"+SUM(F22:F24)","v":0},0,0,0,0,0,0,0,0,0,0,0,0,0,0,0,0,0,0,0,0,0,0,0,0,0,0,0,0,0,0,0,0,0,0,0,0,0,0,0,0,0,0,0,0,0,0,0,0,0]

{"sheet":"Resumen de indicadores FR","index":6,"n_rows":21,"n_cols":57,"rows_kept":21,"cut":false,"hidden":false,"merged":[[4,1,5,1],[9,1,10,1],[11,1,13,1],[8,3,8,4],[9,3,9,4],[9,2,10,2],[11,2,13,2],[11,3,11,4],[12,3,12,4],[13,3,13,4],[3,3,3,4],[4,2,5,2],[4,3,4,4],[5,3,5,4],[6,3,6,4],[7,3,7,4],[10,3,10,4]]}
[]
[]
[]
[null,"Dimensión","Escala","Indicadores",null,"Puntaje Promedio del aula, por indicador",null,{"$f":"'BASE DE RESPUESTAS'!H5","v":"Estudiante 1"},{"$f":"'BASE DE RESPUESTAS'!I5","v":"Estudiante 2"},{"$f":"'BASE DE RESPUESTAS'!J5","v":"Estudiante 3"},{"$f":"'BASE DE RESPUESTAS'!K5","v":"Estudiante 4"},{"$f":"'BASE DE RESPUESTAS'!L5","v":"Estudiante 5"},{"$f":"'BASE DE RESPUESTAS'!M5","v":"Estudiante 6"},{"$f":"'BASE DE RESPUESTAS'!N5","v":"Estudiante 7"},{"$f":"'BASE DE RESPUESTAS'!O5","v":"Estudiante 8"},{"$f":"'BASE DE RESPUESTAS'!P5","v":"Estudiante 9"},{"$f":"'BASE DE RESPUESTAS'!Q5","v":"Estudiante 10"},{"$f":"'BASE DE RESPUESTAS'!R5","v":"Estudiante 11"},{"$f":"'BASE DE RESPUESTAS'!S5","v":"Estudiante 12"},{"$f":"'BASE DE RESPUESTAS'!T5","v":"Estudiante 13"},{"$f":"'BASE DE RESPUESTAS'!U5","v":"Estudiante 14"},{"$f":"'BASE DE RESPUESTAS'!V5","v":"Estudiante 15"},{"$f":"'BASE DE RESPUESTAS'!W5","v":"Estudiante 16"},{"$f":"'BASE DE RESPUESTAS'!X5","v":"Estudiante 17"},{"$f":"'BASE DE RESPUESTAS'!Y5","v":"Estudiante 18"},{"$f":"'BASE DE RESPUESTAS'!Z5","v":"Estudiante 19"},{"$f":"'BASE DE RESPUESTAS'!AA5","v":"Estudiante 20"},{"$f":"'BASE DE RESPUESTAS'!AB5","v":"Estudiante 21"},{"$f":"'BASE DE RESPUESTAS'!AC5","v":"Estudiante 22"},{"$f":"'BASE DE RESPUESTAS'!AD5","v":"Estudiante 23"},{"$f":"'BASE DE RESPUESTAS'!AE5","v":"Estudiante 24"},{"$f":"'BASE DE RESPUESTAS'!AF5","v":"Estudiante 25"},{"$f":"'BASE DE RESPUESTAS'!AG5","v":"Estudiante 26"},{"$f":"'BASE DE RESPUESTAS'!AH5","v":"Estudiante 27"},{"$f":"'BASE DE RESPUESTAS'!AI5","v":"Estudiante 28"},{"$f":"'BASE DE RESPUESTAS'!AJ5","v":"Estudiante 29"},{"$f":"'BASE DE RESPUESTAS'!AK5","v":"Estudiante 30"},{"$f":"'BASE DE RESPUESTAS'!AL5","v":"Estudiante 31"},{"$f":"'BASE DE RESPUESTAS'!AM5","v":"Estudiante 32"},{"$f":"'BASE DE RESPUESTAS'!AN5","v":"Estudiante 33"},{"$f":"'BASE DE RESPUESTAS'!AO5","v":"Estudiante 34"},{"$f":"'BASE DE RESPUESTAS'!AP5","v":"Estudiante 35"},{"$f":"'BASE DE RESPUESTAS'!AQ5","v":"Estudiante 36"},{"$f":"'BASE DE RESPUESTAS'!AR5","v":"Estudiante 37"},{"$f":"'BASE DE RESPUESTAS'!AS5","v":"Estudiante 38"},{"$f":"'BASE DE RESPUESTAS'!AT5","v":"Estudiante 39"},{"$f":"'BASE DE RESPUESTAS'!AU5","v":"Estudiante 40"},{"$f":"'BASE DE RESPUESTAS'!AV5","v":"Estudiante 41"},{"$f":"'BASE DE RESPUESTAS'!AW5","v":"Estudiante 42"},{"$f":"'BASE DE RESPUESTAS'!AX5","v":"Estudiante 43"},{"$f":"'BASE DE RESPUESTAS'!AY5","v":"Estudiante 44"},{"$f":"'BASE DE RESPUESTAS'!AZ5","v":"Estudiante 45"},{"$f":"'BASE DE RESPUESTAS'!BA5","v":"Estudiante 46"},{"$f":"'BASE DE RESPUESTAS'!BB5","v":"Estudiante 47"},{"$f":"'BASE DE RESPUESTAS'!BC5","v":"Estudiante 48"},{"$f":"'BASE DE RESPUESTAS'!BD5","v":"Estudiante 49"},{"$f":"'BASE DE RESPUESTAS'!BE5","v":"Estudiante 50"}]
[null,"FR","Dificultades para mantener la concentración","La o el estudiante interrumpe constantemente una actividad, lo que dificulta su rendimiento.",null,{"$f":"+IFERROR(AVERAGEIFS(H5:BE5,H5:BE5,\">=0\"),\"\")","v":""},null,{"$f":"+IFERROR((VLOOKUP('BASE DE RESPUESTAS'!H60,Back!$M$19:$N$20,2,0)),\"\")","v":""},{"$f":"+IFERROR((VLOOKUP('BASE DE RESPUESTAS'!I60,Back!$M$19:$N$20,2,0)),\"\")","v":""},{"$f":"+IFERROR((VLOOKUP('BASE DE RESPUESTAS'!J60,Back!$M$19:$N$20,2,0)),\"\")","v":""},{"$f":"+IFERROR((VLOOKUP('BASE DE RESPUESTAS'!K60,Back!$M$19:$N$20,2,0)),\"\")","v":""},{"$f":"+IFERROR((VLOOKUP('BASE DE RESPUESTAS'!L60,Back!$M$19:$N$20,2,0)),\"\")","v":""},{"$f":"+IFERROR((VLOOKUP('BASE DE RESPUESTAS'!M60,Back!$M$19:$N$20,2,0)),\"\")","v":""},{"$f":"+IFERROR((VLOOKUP('BASE DE RESPUESTAS'!N60,Back!$M$19:$N$20,2,0)),\"\")","v":""},{"$f":"+IFERROR((VLOOKUP('BASE DE RESPUESTAS'!O60,Back!$M$19:$N$20,2,0)),\"\")","v":""},{"$f":"+IFERROR((VLOOKUP('BASE DE RESPUESTAS'!P60,Back!$M$19:$N$20,2,0)),\"\")","v":""},{"$f":"+IFERROR((VLOOKUP('BASE DE RESPUESTAS'!Q60,Back!$M$19:$N$20,2,0)),\"\")","v":""},{"$f":"+IFERROR((VLOOKUP('BASE DE RESPUESTAS'!R60,Back!$M$19:$N$20,2,0)),\"\")","v":""},{"$f":"+IFERROR((VLOOKUP('BASE DE RESPUESTAS'!S60,Back!$M$19:$N$20,2,0)),\"\")","v":""},{"$f":"+IFERROR((VLOOKUP('BASE DE RESPUESTAS'!T60,Back!$M$19:$N$20,2,0)),\"\")","v":""},{"$f":"+IFERROR((VLOOKUP('BASE DE RESPUESTAS'!U60,Back!$M$19:$N$20,2,0)),\"\")","v":""},{"$f":"+IFERROR((VLOOKUP('BASE DE RESPUESTAS'!V60,Back!$M$19:$N$20,2,0)),\"\")","v":""},{"$f":"+IFERROR((VLOOKUP('BASE DE RESPUESTAS'!W60,Back!$M$19:$N$20,2,0)),\"\")","v":""},{"$f":"+IFERROR((VLOOKUP('BASE DE RESPUESTAS'!X60,Back!$M$19:$N$20,2,0)),\"\")","v":""},{"$f":"+IFERROR((VLOOKUP('BASE DE RESPUESTAS'!Y60,Back!$M$19:$N$20,2,0)),\"\")","v":""},{"$f":"+IFERROR((VLOOKUP('BASE DE RESPUESTAS'!Z60,Back!$M$19:$N$20,2,0)),\"\")","v":""},{"$f":"+IFERROR((VLOOKUP('BASE DE RESPUESTAS'!AA60,Back!$M$19:$N$20,2,0)),\"\")","v":""},{"$f":"+IFERROR((VLOOKUP('BASE DE RESPUESTAS'!AB60,Back!$M$19:$N$20,2,0)),\"\")","v":""},{"$f":"+IFERROR((VLOOKUP('BASE DE RESPUESTAS'!AC60,Back!$M$19:$N$20,2,0)),\"\")","v":""},{"$f":"+IFERROR((VLOOKUP('BASE DE RESPUESTAS'!AD60,Back!$M$19:$N$20,2,0)),\"\")","v":""},{"$f":"+IFERROR((VLOOKUP('BASE DE RESPUESTAS'!AE60,Back!$M$19:$N$20,2,0)),\"\")","v":""},{"$f":"+IFERROR((VLOOKUP('BASE DE RESPUESTAS'!AF60,Back!$M$19:$N$20,2,0)),\"\")","v":""},{"$f":"+IFERROR((VLOOKUP('BASE DE RESPUESTAS'!AG60,Back!$M$19:$N$20,2,0)),\"\")","v":""},{"$f":"+IFERROR((VLOOKUP('BASE DE RESPUESTAS'!AH60,Back!$M$19:$N$20,2,0)),\"\")","v":""},{"$f":"+IFERROR((VLOOKUP('BASE DE RESPUESTAS'!AI60,Back!$M$19:$N$20,2,0)),\"\")","v":""},{"$f":"+IFERROR((VLOOKUP('BASE DE RESPUESTAS'!AJ60,Back!$M$19:$N$20,2,0)),\"\")","v":""},{"$f":"+IFERROR((VLOOKUP('BASE DE RESPUESTAS'!AK60,Back!$M$19:$N$20,2,0)),\"\")","v":""},{"$f":"+IFERROR((VLOOKUP('BASE DE RESPUESTAS'!AL60,Back!$M$19:$N$20,2,0)),\"\")","v":""},{"$f":"+IFERROR((VLOOKUP('BASE DE RESPUESTAS'!AM60,Back!$M$19:$N$20,2,0)),\"\")","v":""},{"$f":"+IFERROR((VLOOKUP('BASE DE RESPUESTAS'!AN60,Back!$M$19:$N$20,2,0)),\"\")","v":""},{"$f":"+IFERROR((VLOOKUP('BASE DE RESPUESTAS'!AO60,Back!$M$19:$N$20,2,0)),\"\")","v":""},{"$f":"+IFERROR((VLOOKUP('BASE DE RESPUESTAS'!AP60,Back!$M$19:$N$20,2,0)),\"\")","v":""},{"$f":"+IFERROR((VLOOKUP('BASE DE RESPUESTAS'!AQ60,Back!$M$19:$N$20,2,0)),\"\")","v":""},{"$f":"+IFERROR((VLOOKUP('BASE DE RESPUESTAS'!AR60,Back!$M$19:$N$20,2,0)),\"\")","v":""},{"$f":"+IFERROR((VLOOKUP('BASE DE RESPUESTAS'!AS60,Back!$M$19:$N$20,2,0)),\"\")","v":""},{"$f":"+IFERROR((VLOOKUP('BASE DE RESPUESTAS'!AT60,Back!$M$19:$N$20,2,0)),\"\")","v":""},{"$f":"+IFERROR((VLOOKUP('BASE DE RESPUESTAS'!AU60,Back!$M$19:$N$20,2,0)),\"\")","v":""},{"$f":"+IFERROR((VLOOKUP('BASE DE RESPUESTAS'!AV60,Back!$M$19:$N$20,2,0)),\"\")","v":""},{"$f":"+IFERROR((VLOOKUP('BASE DE RESPUESTAS'!AW60,Back!$M$19:$N$20,2,0)),\"\")","v":""},{"$f":"+IFERROR((VLOOKUP('BASE DE RESPUESTAS'!AX60,Back!$M$19:$N$20,2,0)),\"\")","v":""},{"$f":"+IFERROR((VLOOKUP('BASE DE RESPUESTAS'!AY60,Back!$M$19:$N$20,2,0)),\"\")","v":""},{"$f":"+IFERROR((VLOOKUP('BASE DE RESPUESTAS'!AZ60,Back!$M$19:$N$20,2,0)),\"\")","v":""},{"$f":"+IFERROR((VLOOKUP('BASE DE RESPUESTAS'!BA60,Back!$M$19:$N$20,2,0)),\"\")","v":""},{"$f":"+IFERROR((VLOOKUP('BASE DE RESPUESTAS'!BB60,Back!$M$19:$N$20,2,0)),\"\")","v":""},{"$f":"+IFERROR((VLOOKUP('BASE DE RESPUESTAS'!BC60,Back!$M$19:$N$20,2,0)),\"\")","v":""},{"$f":"+IFERROR((VLOOKUP('BASE DE RESPUESTAS'!BD60,Back!$M$19:$N$20,2,0)),\"\")","v":""},{"$f":"+IFERROR((VLOOKUP('BASE DE RESPUESTAS'!BE60,Back!$M$19:$N$20,2,0)),\"\")","v":""}]
[null,null,null,"Presenta dificultad para culminar tareas ya empezadas.",null,"",null,{"$f":"+IFERROR((VLOOKUP('BASE DE RESPUESTAS'!H61,Back!$M$19:$N$20,2,0)),\"\")","v":""},{"$f":"+IFERROR((VLOOKUP('BASE DE RESPUESTAS'!I61,Back!$M$19:$N$20,2,0)),\"\")","v":""},{"$f":"+IFERROR((VLOOKUP('BASE DE RESPUESTAS'!J61,Back!$M$19:$N$20,2,0)),\"\")","v":""},{"$f":"+IFERROR((VLOOKUP('BASE DE RESPUESTAS'!K61,Back!$M$19:$N$20,2,0)),\"\")","v":""},{"$f":"+IFERROR((VLOOKUP('BASE DE RESPUESTAS'!L61,Back!$M$19:$N$20,2,0)),\"\")","v":""},{"$f":"+IFERROR((VLOOKUP('BASE DE RESPUESTAS'!M61,Back!$M$19:$N$20,2,0)),\"\")","v":""},{"$f":"+IFERROR((VLOOKUP('BASE DE RESPUESTAS'!N61,Back!$M$19:$N$20,2,0)),\"\")","v":""},{"$f":"+IFERROR((VLOOKUP('BASE DE RESPUESTAS'!O61,Back!$M$19:$N$20,2,0)),\"\")","v":""},{"$f":"+IFERROR((VLOOKUP('BASE DE RESPUESTAS'!P61,Back!$M$19:$N$20,2,0)),\"\")","v":""},{"$f":"+IFERROR((VLOOKUP('BASE DE RESPUESTAS'!Q61,Back!$M$19:$N$20,2,0)),\"\")","v":""},{"$f":"+IFERROR((VLOOKUP('BASE DE RESPUESTAS'!R61,Back!$M$19:$N$20,2,0)),\"\")","v":""},{"$f":"+IFERROR((VLOOKUP('BASE DE RESPUESTAS'!S61,Back!$M$19:$N$20,2,0)),\"\")","v":""},{"$f":"+IFERROR((VLOOKUP('BASE DE RESPUESTAS'!T61,Back!$M$19:$N$20,2,0)),\"\")","v":""},{"$f":"+IFERROR((VLOOKUP('BASE DE RESPUESTAS'!U61,Back!$M$19:$N$20,2,0)),\"\")","v":""},{"$f":"+IFERROR((VLOOKUP('BASE DE RESPUESTAS'!V61,Back!$M$19:$N$20,2,0)),\"\")","v":""},{"$f":"+IFERROR((VLOOKUP('BASE DE RESPUESTAS'!W61,Back!$M$19:$N$20,2,0)),\"\")","v":""},{"$f":"+IFERROR((VLOOKUP('BASE DE RESPUESTAS'!X61,Back!$M$19:$N$20,2,0)),\"\")","v":""},{"$f":"+IFERROR((VLOOKUP('BASE DE RESPUESTAS'!Y61,Back!$M$19:$N$20,2,0)),\"\")","v":""},{"$f":"+IFERROR((VLOOKUP('BASE DE RESPUESTAS'!Z61,Back!$M$19:$N$20,2,0)),\"\")","v":""},{"$f":"+IFERROR((VLOOKUP('BASE DE RESPUESTAS'!AA61,Back!$M$19:$N$20,2,0)),\"\")","v":""},{"$f":"+IFERROR((VLOOKUP('BASE DE RESPUESTAS'!AB61,Back!$M$19:$N$20,2,0)),\"\")","v":""},{"$f":"+IFERROR((VLOOKUP('BASE DE RESPUESTAS'!AC61,Back!$M$19:$N$20,2,0)),\"\")","v":""},{"$f":"+IFERROR((VLOOKUP('BASE DE RESPUESTAS'!AD61,Back!$M$19:$N$20,2,0)),\"\")","v":""},{"$f":"+IFERROR((VLOOKUP('BASE DE RESPUESTAS'!AE61,Back!$M$19:$N$20,2,0)),\"\")","v":""},{"$f":"+IFERROR((VLOOKUP('BASE DE RESPUESTAS'!AF61,Back!$M$19:$N$20,2,0)),\"\")","v":""},{"$f":"+IFERROR((VLOOKUP('BASE DE RESPUESTAS'!AG61,Back!$M$19:$N$20,2,0)),\"\")","v":""},{"$f":"+IFERROR((VLOOKUP('BASE DE RESPUESTAS'!AH61,Back!$M$19:$N$20,2,0)),\"\")","v":""},{"$f":"+IFERROR((VLOOKUP('BASE DE RESPUESTAS'!AI61,Back!$M$19:$N$20,2,0)),\"\")","v":""},{"$f":"+IFERROR((VLOOKUP('BASE DE RESPUESTAS'!AJ61,Back!$M$19:$N$20,2,0)),\"\")","v":""},{"$f":"+IFERROR((VLOOKUP('BASE DE RESPUESTAS'!AK61,Back!$M$19:$N$20,2,0)),\"\")","v":""},{"$f":"+IFERROR((VLOOKUP('BASE DE RESPUESTAS'!AL61,Back!$M$19:$N$20,2,0)),\"\")","v":""},{"$f":"+IFERROR((VLOOKUP('BASE DE RESPUESTAS'!AM61,Back!$M$19:$N$20,2,0)),\"\")","v":""},{"$f":"+IFERROR((VLOOKUP('BASE DE RESPUESTAS'!AN61,Back!$M$19:$N$20,2,0)),\"\")","v":""},{"$f":"+IFERROR((VLOOKUP('BASE DE RESPUESTAS'!AO61,Back!$M$19:$N$20,2,0)),\"\")","v":""},{"$f":"+IFERROR((VLOOKUP('BASE DE RESPUESTAS'!AP61,Back!$M$19:$N$20,2,0)),\"\")","v":""},{"$f":"+IFERROR((VLOOKUP('BASE DE RESPUESTAS'!AQ61,Back!$M$19:$N$20,2,0)),\"\")","v":""},{"$f":"+IFERROR((VLOOKUP('BASE DE RESPUESTAS'!AR61,Back!$M$19:$N$20,2,0)),\"\")","v":""},{"$f":"+IFERROR((VLOOKUP('BASE DE RESPUESTAS'!AS61,Back!$M$19:$N$20,2,0)),\"\")","v":""},{"$f":"+IFERROR((VLOOKUP('BASE DE RESPUESTAS'!AT61,Back!$M$19:$N$20,2,0)),\"\")","v":""},{"$f":"+IFERROR((VLOOKUP('BASE DE RESPUESTAS'!AU61,Back!$M$19:$N$20,2,0)),\"\")","v":""},{"$f":"+IFERROR((VLOOKUP('BASE DE RESPUESTAS'!AV61,Back!$M$19:$N$20,2,0)),\"\")","v":""},{"$f":"+IFERROR((VLOOKUP('BASE DE RESPUESTAS'!AW61,Back!$M$19:$N$20,2,0)),\"\")","v":""},{"$f":"+IFERROR((VLOOKUP('BASE DE RESPUESTAS'!AX61,Back!$M$19:$N$20,2,0)),\"\")","v":""},{"$f":"+IFERROR((VLOOKUP('BASE DE RESPUESTAS'!AY61,Back!$M$19:$N$20,2,0)),\"\")","v":""},{"$f":"+IFERROR((VLOOKUP('BASE DE RESPUESTAS'!AZ61,Back!$M$19:$N$20,2,0)),\"\")","v":""},{"$f":"+IFERROR((VLOOKUP('BASE DE RESPUESTAS'!BA61,Back!$M$19:$N$20,2,0)),\"\")","v":""},{"$f":"+IFERROR((VLOOKUP('BASE DE RESPUESTAS'!BB61,Back!$M$19:$N$20,2,0)),\"\")","v":""},{"$f":"+IFERROR((VLOOKUP('BASE DE RESPUESTAS'!BC61,Back!$M$19:$N$20,2,0)),\"\")","v":""},{"$f":"+IFERROR((VLOOKUP('BASE DE RESPUESTAS'!BD61,Back!$M$19:$N$20,2,0)),\"\")","v":""},{"$f":"+IFERROR((VLOOKUP('BASE DE RESPUESTAS'!BE61,Back!$M$19:$N$20,2,0)),\"\")","v":""}]
[null,"FR","Dificultades en el desarrollo social","La o el estudiante se retrae y no participa en las actividades grupales.",null,"",null,{"$f":"+IFERROR(AVERAGE(Espejo!H60:H61),\"\")","v":""},{"$f":"+IFERROR(AVERAGE(Espejo!I60:I61),\"\")","v":""},{"$f":"+IFERROR(AVERAGE(Espejo!J60:J61),\"\")","v":""},{"$f":"+IFERROR(AVERAGE(Espejo!K60:K61),\"\")","v":""},{"$f":"+IFERROR(AVERAGE(Espejo!L60:L61),\"\")","v":""},{"$f":"+IFERROR(AVERAGE(Espejo!M60:M61),\"\")","v":""},{"$f":"+IFERROR(AVERAGE(Espejo!N60:N61),\"\")","v":""},{"$f":"+IFERROR(AVERAGE(Espejo!O60:O61),\"\")","v":""},{"$f":"+IFERROR(AVERAGE(Espejo!P60:P61),\"\")","v":""},{"$f":"+IFERROR(AVERAGE(Espejo!Q60:Q61),\"\")","v":""},{"$f":"+IFERROR(AVERAGE(Espejo!R60:R61),\"\")","v":""},{"$f":"+IFERROR(AVERAGE(Espejo!S60:S61),\"\")","v":""},{"$f":"+IFERROR(AVERAGE(Espejo!T60:T61),\"\")","v":""},{"$f":"+IFERROR(AVERAGE(Espejo!U60:U61),\"\")","v":""},{"$f":"+IFERROR(AVERAGE(Espejo!V60:V61),\"\")","v":""},{"$f":"+IFERROR(AVERAGE(Espejo!W60:W61),\"\")","v":""},{"$f":"+IFERROR(AVERAGE(Espejo!X60:X61),\"\")","v":""},{"$f":"+IFERROR(AVERAGE(Espejo!Y60:Y61),\"\")","v":""},{"$f":"+IFERROR(AVERAGE(Espejo!Z60:Z61),\"\")","v":""},{"$f":"+IFERROR(AVERAGE(Espejo!AA60:AA61),\"\")","v":""},{"$f":"+IFERROR(AVERAGE(Espejo!AB60:AB61),\"\")","v":""},{"$f":"+IFERROR(AVERAGE(Espejo!AC60:AC61),\"\")","v":""},{"$f":"+IFERROR(AVERAGE(Espejo!AD60:AD61),\"\")","v":""},{"$f":"+IFERROR(AVERAGE(Espejo!AE60:AE61),\"\")","v":""},{"$f":"+IFERROR(AVERAGE(Espejo!AF60:AF61),\"\")","v":""},{"$f":"+IFERROR(AVERAGE(Espejo!AG60:AG61),\"\")","v":""},{"$f":"+IFERROR(AVERAGE(Espejo!AH60:AH61),\"\")","v":""},{"$f":"+IFERROR(AVERAGE(Espejo!AI60:AI61),\"\")","v":""},{"$f":"+IFERROR(AVERAGE(Espejo!AJ60:AJ61),\"\")","v":""},{"$f":"+IFERROR(AVERAGE(Espejo!AK60:AK61),\"\")","v":""},{"$f":"+IFERROR(AVERAGE(Espejo!AL60:AL61),\"\")","v":""},{"$f":"+IFERROR(AVERAGE(Espejo!AM60:AM61),\"\")","v":""},{"$f":"+IFERROR(AVERAGE(Espejo!AN60:AN61),\"\")","v":""},{"$f":"+IFERROR(AVERAGE(Espejo!AO60:AO61),\"\")","v":""},{"$f":"+IFERROR(AVERAGE(Espejo!AP60:AP61),\"\")","v":""},{"$f":"+IFERROR(AVERAGE(Espejo!AQ60:AQ61),\"\")","v":""},{"$f":"+IFERROR(AVERAGE(Espejo!AR60:AR61),\"\")","v":""},{"$f":"+IFERROR(AVERAGE(Espejo!AS60:AS61),\"\")","v":""},{"$f":"+IFERROR(AVERAGE(Espejo!AT60:AT61),\"\")","v":""},{"$f":"+IFERROR(AVERAGE(Espejo!AU60:AU61),\"\")","v":""},{"$f":"+IFERROR(AVERAGE(Espejo!AV60:AV61),\"\")","v":""},{"$f":"+IFERROR(AVERAGE(Espejo!AW60:AW61),\"\")","v":""},{"$f":"+IFERROR(AVERAGE(Espejo!AX60:AX61),\"\")","v":""},{"$f":"+IFERROR(AVERAGE(Espejo!AY60:AY61),\"\")","v":""},{"$f":"+IFERROR(AVERAGE(Espejo!AZ60:AZ61),\"\")","v":""},{"$f":"+IFERROR(AVERAGE(Espejo!BA60:BA61),\"\")","v":""},{"$f":"+IFERROR(AVERAGE(Espejo!BB60:BB61),\"\")","v":""},{"$f":"+IFERROR(AVERAGE(Espejo!BC60:BC61),\"\")","v":""},{"$f":"+IFERROR(AVERAGE(Espejo!BD60:BD61),\"\")","v":""},{"$f":"+IFERROR(AVERAGE(Espejo!BE60:BE61),\"\")","v":""}]
[null,"FR","Trabajo Infantil","La o el estudiante se ve obligada/o a trabajar, utilizando sus tiempos de estudio y exponiéndose a riesgos.",null,"",null,{"$f":"+IFERROR(AVERAGE(Espejo!H62:H64),\"\")","v":""},{"$f":"+IFERROR(AVERAGE(Espejo!I62:I64),\"\")","v":""},{"$f":"+IFERROR(AVERAGE(Espejo!J62:J64),\"\")","v":""},{"$f":"+IFERROR(AVERAGE(Espejo!K62:K64),\"\")","v":""},{"$f":"+IFERROR(AVERAGE(Espejo!L62:L64),\"\")","v":""},{"$f":"+IFERROR(AVERAGE(Espejo!M62:M64),\"\")","v":""},{"$f":"+IFERROR(AVERAGE(Espejo!N62:N64),\"\")","v":""},{"$f":"+IFERROR(AVERAGE(Espejo!O62:O64),\"\")","v":""},{"$f":"+IFERROR(AVERAGE(Espejo!P62:P64),\"\")","v":""},{"$f":"+IFERROR(AVERAGE(Espejo!Q62:Q64),\"\")","v":""},{"$f":"+IFERROR(AVERAGE(Espejo!R62:R64),\"\")","v":""},{"$f":"+IFERROR(AVERAGE(Espejo!S62:S64),\"\")","v":""},{"$f":"+IFERROR(AVERAGE(Espejo!T62:T64),\"\")","v":""},{"$f":"+IFERROR(AVERAGE(Espejo!U62:U64),\"\")","v":""},{"$f":"+IFERROR(AVERAGE(Espejo!V62:V64),\"\")","v":""},{"$f":"+IFERROR(AVERAGE(Espejo!W62:W64),\"\")","v":""},{"$f":"+IFERROR(AVERAGE(Espejo!X62:X64),\"\")","v":""},{"$f":"+IFERROR(AVERAGE(Espejo!Y62:Y64),\"\")","v":""},{"$f":"+IFERROR(AVERAGE(Espejo!Z62:Z64),\"\")","v":""},{"$f":"+IFERROR(AVERAGE(Espejo!AA62:AA64),\"\")","v":""},{"$f":"+IFERROR(AVERAGE(Espejo!AB62:AB64),\"\")","v":""},{"$f":"+IFERROR(AVERAGE(Espejo!AC62:AC64),\"\")","v":""},{"$f":"+IFERROR(AVERAGE(Espejo!AD62:AD64),\"\")","v":""},{"$f":"+IFERROR(AVERAGE(Espejo!AE62:AE64),\"\")","v":""},{"$f":"+IFERROR(AVERAGE(Espejo!AF62:AF64),\"\")","v":""},{"$f":"+IFERROR(AVERAGE(Espejo!AG62:AG64),\"\")","v":""},{"$f":"+IFERROR(AVERAGE(Espejo!AH62:AH64),\"\")","v":""},{"$f":"+IFERROR(AVERAGE(Espejo!AI62:AI64),\"\")","v":""},{"$f":"+IFERROR(AVERAGE(Espejo!AJ62:AJ64),\"\")","v":""},{"$f":"+IFERROR(AVERAGE(Espejo!AK62:AK64),\"\")","v":""},{"$f":"+IFERROR(AVERAGE(Espejo!AL62:AL64),\"\")","v":""},{"$f":"+IFERROR(AVERAGE(Espejo!AM62:AM64),\"\")","v":""},{"$f":"+IFERROR(AVERAGE(Espejo!AN62:AN64),\"\")","v":""},{"$f":"+IFERROR(AVERAGE(Espejo!AO62:AO64),\"\")","v":""},{"$f":"+IFERROR(AVERAGE(Espejo!AP62:AP64),\"\")","v":""},{"$f":"+IFERROR(AVERAGE(Espejo!AQ62:AQ64),\"\")","v":""},{"$f":"+IFERROR(AVERAGE(Espejo!AR62:AR64),\"\")","v":""},{"$f":"+IFERROR(AVERAGE(Espejo!AS62:AS64),\"\")","v":""},{"$f":"+IFERROR(AVERAGE(Espejo!AT62:AT64),\"\")","v":""},{"$f":"+IFERROR(AVERAGE(Espejo!AU62:AU64),\"\")","v":""},{"$f":"+IFERROR(AVERAGE(Espejo!AV62:AV64),\"\")","v":""},{"$f":"+IFERROR(AVERAGE(Espejo!AW62:AW64),\"\")","v":""},{"$f":"+IFERROR(AVERAGE(Espejo!AX62:AX64),\"\")","v":""},{"$f":"+IFERROR(AVERAGE(Espejo!AY62:AY64),\"\")","v":""},{"$f":"+IFERROR(AVERAGE(Espejo!AZ62:AZ64),\"\")","v":""},{"$f":"+IFERROR(AVERAGE(Espejo!BA62:BA64),\"\")","v":""},{"$f":"+IFERROR(AVERAGE(Espejo!BB62:BB64),\"\")","v":""},{"$f":"+IFERROR(AVERAGE(Espejo!BC62:BC64),\"\")","v":""},{"$f":"+IFERROR(AVERAGE(Espejo!BD62:BD64),\"\")","v":""},{"$f":"+IFERROR(AVERAGE(Espejo!BE62:BE64),\"\")","v":""}]
[null,"FR","Ausentismo Escolar","La o el estudiante falta con frecuencia a la escuela, sin justificación.",null,"",null,{"$f":"+IFERROR((VLOOKUP('BASE DE RESPUESTAS'!H67,Back!$M$19:$N$20,2,0)),\"\")","v":""},{"$f":"+IFERROR((VLOOKUP('BASE DE RESPUESTAS'!I67,Back!$M$19:$N$20,2,0)),\"\")","v":""},{"$f":"+IFERROR((VLOOKUP('BASE DE RESPUESTAS'!J67,Back!$M$19:$N$20,2,0)),\"\")","v":""},{"$f":"+IFERROR((VLOOKUP('BASE DE RESPUESTAS'!K67,Back!$M$19:$N$20,2,0)),\"\")","v":""},{"$f":"+IFERROR((VLOOKUP('BASE DE RESPUESTAS'!L67,Back!$M$19:$N$20,2,0)),\"\")","v":""},{"$f":"+IFERROR((VLOOKUP('BASE DE RESPUESTAS'!M67,Back!$M$19:$N$20,2,0)),\"\")","v":""},{"$f":"+IFERROR((VLOOKUP('BASE DE RESPUESTAS'!N67,Back!$M$19:$N$20,2,0)),\"\")","v":""},{"$f":"+IFERROR((VLOOKUP('BASE DE RESPUESTAS'!O67,Back!$M$19:$N$20,2,0)),\"\")","v":""},{"$f":"+IFERROR((VLOOKUP('BASE DE RESPUESTAS'!P67,Back!$M$19:$N$20,2,0)),\"\")","v":""},{"$f":"+IFERROR((VLOOKUP('BASE DE RESPUESTAS'!Q67,Back!$M$19:$N$20,2,0)),\"\")","v":""},{"$f":"+IFERROR((VLOOKUP('BASE DE RESPUESTAS'!R67,Back!$M$19:$N$20,2,0)),\"\")","v":""},{"$f":"+IFERROR((VLOOKUP('BASE DE RESPUESTAS'!S67,Back!$M$19:$N$20,2,0)),\"\")","v":""},{"$f":"+IFERROR((VLOOKUP('BASE DE RESPUESTAS'!T67,Back!$M$19:$N$20,2,0)),\"\")","v":""},{"$f":"+IFERROR((VLOOKUP('BASE DE RESPUESTAS'!U67,Back!$M$19:$N$20,2,0)),\"\")","v":""},{"$f":"+IFERROR((VLOOKUP('BASE DE RESPUESTAS'!V67,Back!$M$19:$N$20,2,0)),\"\")","v":""},{"$f":"+IFERROR((VLOOKUP('BASE DE RESPUESTAS'!W67,Back!$M$19:$N$20,2,0)),\"\")","v":""},{"$f":"+IFERROR((VLOOKUP('BASE DE RESPUESTAS'!X67,Back!$M$19:$N$20,2,0)),\"\")","v":""},{"$f":"+IFERROR((VLOOKUP('BASE DE RESPUESTAS'!Y67,Back!$M$19:$N$20,2,0)),\"\")","v":""},{"$f":"+IFERROR((VLOOKUP('BASE DE RESPUESTAS'!Z67,Back!$M$19:$N$20,2,0)),\"\")","v":""},{"$f":"+IFERROR((VLOOKUP('BASE DE RESPUESTAS'!AA67,Back!$M$19:$N$20,2,0)),\"\")","v":""},{"$f":"+IFERROR((VLOOKUP('BASE DE RESPUESTAS'!AB67,Back!$M$19:$N$20,2,0)),\"\")","v":""},{"$f":"+IFERROR((VLOOKUP('BASE DE RESPUESTAS'!AC67,Back!$M$19:$N$20,2,0)),\"\")","v":""},{"$f":"+IFERROR((VLOOKUP('BASE DE RESPUESTAS'!AD67,Back!$M$19:$N$20,2,0)),\"\")","v":""},{"$f":"+IFERROR((VLOOKUP('BASE DE RESPUESTAS'!AE67,Back!$M$19:$N$20,2,0)),\"\")","v":""},{"$f":"+IFERROR((VLOOKUP('BASE DE RESPUESTAS'!AF67,Back!$M$19:$N$20,2,0)),\"\")","v":""},{"$f":"+IFERROR((VLOOKUP('BASE DE RESPUESTAS'!AG67,Back!$M$19:$N$20,2,0)),\"\")","v":""},{"$f":"+IFERROR((VLOOKUP('BASE DE RESPUESTAS'!AH67,Back!$M$19:$N$20,2,0)),\"\")","v":""},{"$f":"+IFERROR((VLOOKUP('BASE DE RESPUESTAS'!AI67,Back!$M$19:$N$20,2,0)),\"\")","v":""},{"$f":"+IFERROR((VLOOKUP('BASE DE RESPUESTAS'!AJ67,Back!$M$19:$N$20,2,0)),\"\")","v":""},{"$f":"+IFERROR((VLOOKUP('BASE DE RESPUESTAS'!AK67,Back!$M$19:$N$20,2,0)),\"\")","v":""},{"$f":"+IFERROR((VLOOKUP('BASE DE RESPUESTAS'!AL67,Back!$M$19:$N$20,2,0)),\"\")","v":""},{"$f":"+IFERROR((VLOOKUP('BASE DE RESPUESTAS'!AM67,Back!$M$19:$N$20,2,0)),\"\")","v":""},{"$f":"+IFERROR((VLOOKUP('BASE DE RESPUESTAS'!AN67,Back!$M$19:$N$20,2,0)),\"\")","v":""},{"$f":"+IFERROR((VLOOKUP('BASE DE RESPUESTAS'!AO67,Back!$M$19:$N$20,2,0)),\"\")","v":""},{"$f":"+IFERROR((VLOOKUP('BASE DE RESPUESTAS'!AP67,Back!$M$19:$N$20,2,0)),\"\")","v":""},{"$f":"+IFERROR((VLOOKUP('BASE DE RESPUESTAS'!AQ67,Back!$M$19:$N$20,2,0)),\"\")","v":""},{"$f":"+IFERROR((VLOOKUP('BASE DE RESPUESTAS'!AR67,Back!$M$19:$N$20,2,0)),\"\")","v":""},{"$f":"+IFERROR((VLOOKUP('BASE DE RESPUESTAS'!AS67,Back!$M$19:$N$20,2,0)),\"\")","v":""},{"$f":"+IFERROR((VLOOKUP('BASE DE RESPUESTAS'!AT67,Back!$M$19:$N$20,2,0)),\"\")","v":""},{"$f":"+IFERROR((VLOOKUP('BASE DE RESPUESTAS'!AU67,Back!$M$19:$N$20,2,0)),\"\")","v":""},{"$f":"+IFERROR((VLOOKUP('BASE DE RESPUESTAS'!AV67,Back!$M$19:$N$20,2,0)),\"\")","v":""},{"$f":"+IFERROR((VLOOKUP('BASE DE RESPUESTAS'!AW67,Back!$M$19:$N$20,2,0)),\"\")","v":""},{"$f":"+IFERROR((VLOOKUP('BASE DE RESPUESTAS'!AX67,Back!$M$19:$N$20,2,0)),\"\")","v":""},{"$f":"+IFERROR((VLOOKUP('BASE DE RESPUESTAS'!AY67,Back!$M$19:$N$20,2,0)),\"\")","v":""},{"$f":"+IFERROR((VLOOKUP('BASE DE RESPUESTAS'!AZ67,Back!$M$19:$N$20,2,0)),\"\")","v":""},{"$f":"+IFERROR((VLOOKUP('BASE DE RESPUESTAS'!BA67,Back!$M$19:$N$20,2,0)),\"\")","v":""},{"$f":"+IFERROR((VLOOKUP('BASE DE RESPUESTAS'!BB67,Back!$M$19:$N$20,2,0)),\"\")","v":""},{"$f":"+IFERROR((VLOOKUP('BASE DE RESPUESTAS'!BC67,Back!$M$19:$N$20,2,0)),\"\")","v":""},{"$f":"+IFERROR((VLOOKUP('BASE DE RESPUESTAS'!BD67,Back!$M$19:$N$20,2,0)),\"\")","v":""},{"$f":"+IFERROR((VLOOKUP('BASE DE RESPUESTAS'!BE67,Back!$M$19:$N$20,2,0)),\"\")","v":""}]
[null,"FR","Riesgo de desprotección familiar","La o el estudiante muestra reiteradamente signos de violencia física en el cuerpo.",null,"",null,{"$f":"+IFERROR((VLOOKUP('BASE DE RESPUESTAS'!H68,Back!$M$19:$N$20,2,0)),\"\")","v":""},{"$f":"+IFERROR((VLOOKUP('BASE DE RESPUESTAS'!I68,Back!$M$19:$N$20,2,0)),\"\")","v":""},{"$f":"+IFERROR((VLOOKUP('BASE DE RESPUESTAS'!J68,Back!$M$19:$N$20,2,0)),\"\")","v":""},{"$f":"+IFERROR((VLOOKUP('BASE DE RESPUESTAS'!K68,Back!$M$19:$N$20,2,0)),\"\")","v":""},{"$f":"+IFERROR((VLOOKUP('BASE DE RESPUESTAS'!L68,Back!$M$19:$N$20,2,0)),\"\")","v":""},{"$f":"+IFERROR((VLOOKUP('BASE DE RESPUESTAS'!M68,Back!$M$19:$N$20,2,0)),\"\")","v":""},{"$f":"+IFERROR((VLOOKUP('BASE DE RESPUESTAS'!N68,Back!$M$19:$N$20,2,0)),\"\")","v":""},{"$f":"+IFERROR((VLOOKUP('BASE DE RESPUESTAS'!O68,Back!$M$19:$N$20,2,0)),\"\")","v":""},{"$f":"+IFERROR((VLOOKUP('BASE DE RESPUESTAS'!P68,Back!$M$19:$N$20,2,0)),\"\")","v":""},{"$f":"+IFERROR((VLOOKUP('BASE DE RESPUESTAS'!Q68,Back!$M$19:$N$20,2,0)),\"\")","v":""},{"$f":"+IFERROR((VLOOKUP('BASE DE RESPUESTAS'!R68,Back!$M$19:$N$20,2,0)),\"\")","v":""},{"$f":"+IFERROR((VLOOKUP('BASE DE RESPUESTAS'!S68,Back!$M$19:$N$20,2,0)),\"\")","v":""},{"$f":"+IFERROR((VLOOKUP('BASE DE RESPUESTAS'!T68,Back!$M$19:$N$20,2,0)),\"\")","v":""},{"$f":"+IFERROR((VLOOKUP('BASE DE RESPUESTAS'!U68,Back!$M$19:$N$20,2,0)),\"\")","v":""},{"$f":"+IFERROR((VLOOKUP('BASE DE RESPUESTAS'!V68,Back!$M$19:$N$20,2,0)),\"\")","v":""},{"$f":"+IFERROR((VLOOKUP('BASE DE RESPUESTAS'!W68,Back!$M$19:$N$20,2,0)),\"\")","v":""},{"$f":"+IFERROR((VLOOKUP('BASE DE RESPUESTAS'!X68,Back!$M$19:$N$20,2,0)),\"\")","v":""},{"$f":"+IFERROR((VLOOKUP('BASE DE RESPUESTAS'!Y68,Back!$M$19:$N$20,2,0)),\"\")","v":""},{"$f":"+IFERROR((VLOOKUP('BASE DE RESPUESTAS'!Z68,Back!$M$19:$N$20,2,0)),\"\")","v":""},{"$f":"+IFERROR((VLOOKUP('BASE DE RESPUESTAS'!AA68,Back!$M$19:$N$20,2,0)),\"\")","v":""},{"$f":"+IFERROR((VLOOKUP('BASE DE RESPUESTAS'!AB68,Back!$M$19:$N$20,2,0)),\"\")","v":""},{"$f":"+IFERROR((VLOOKUP('BASE DE RESPUESTAS'!AC68,Back!$M$19:$N$20,2,0)),\"\")","v":""},{"$f":"+IFERROR((VLOOKUP('BASE DE RESPUESTAS'!AD68,Back!$M$19:$N$20,2,0)),\"\")","v":""},{"$f":"+IFERROR((VLOOKUP('BASE DE RESPUESTAS'!AE68,Back!$M$19:$N$20,2,0)),\"\")","v":""},{"$f":"+IFERROR((VLOOKUP('BASE DE RESPUESTAS'!AF68,Back!$M$19:$N$20,2,0)),\"\")","v":""},{"$f":"+IFERROR((VLOOKUP('BASE DE RESPUESTAS'!AG68,Back!$M$19:$N$20,2,0)),\"\")","v":""},{"$f":"+IFERROR((VLOOKUP('BASE DE RESPUESTAS'!AH68,Back!$M$19:$N$20,2,0)),\"\")","v":""},{"$f":"+IFERROR((VLOOKUP('BASE DE RESPUESTAS'!AI68,Back!$M$19:$N$20,2,0)),\"\")","v":""},{"$f":"+IFERROR((VLOOKUP('BASE DE RESPUESTAS'!AJ68,Back!$M$19:$N$20,2,0)),\"\")","v":""},{"$f":"+IFERROR((VLOOKUP('BASE DE RESPUESTAS'!AK68,Back!$M$19:$N$20,2,0)),\"\")","v":""},{"$f":"+IFERROR((VLOOKUP('BASE DE RESPUESTAS'!AL68,Back!$M$19:$N$20,2,0)),\"\")","v":""},{"$f":"+IFERROR((VLOOKUP('BASE DE RESPUESTAS'!AM68,Back!$M$19:$N$20,2,0)),\"\")","v":""},{"$f":"+IFERROR((VLOOKUP('BASE DE RESPUESTAS'!AN68,Back!$M$19:$N$20,2,0)),\"\")","v":""},{"$f":"+IFERROR((VLOOKUP('BASE DE RESPUESTAS'!AO68,Back!$M$19:$N$20,2,0)),\"\")","v":""},{"$f":"+IFERROR((VLOOKUP('BASE DE RESPUESTAS'!AP68,Back!$M$19:$N$20,2,0)),\"\")","v":""},{"$f":"+IFERROR((VLOOKUP('BASE DE RESPUESTAS'!AQ68,Back!$M$19:$N$20,2,0)),\"\")","v":""},{"$f":"+IFERROR((VLOOKUP('BASE DE RESPUESTAS'!AR68,Back!$M$19:$N$20,2,0)),\"\")","v":""},{"$f":"+IFERROR((VLOOKUP('BASE DE RESPUESTAS'!AS68,Back!$M$19:$N$20,2,0)),\"\")","v":""},{"$f":"+IFERROR((VLOOKUP('BASE DE RESPUESTAS'!AT68,Back!$M$19:$N$20,2,0)),\"\")","v":""},{"$f":"+IFERROR((VLOOKUP('BASE DE RESPUESTAS'!AU68,Back!$M$19:$N$20,2,0)),\"\")","v":""},{"$f":"+IFERROR((VLOOKUP('BASE DE RESPUESTAS'!AV68,Back!$M$19:$N$20,2,0)),\"\")","v":""},{"$f":"+IFERROR((VLOOKUP('BASE DE RESPUESTAS'!AW68,Back!$M$19:$N$20,2,0)),\"\")","v":""},{"$f":"+IFERROR((VLOOKUP('BASE DE RESPUESTAS'!AX68,Back!$M$19:$N$20,2,0)),\"\")","v":""},{"$f":"+IFERROR((VLOOKUP('BASE DE RESPUESTAS'!AY68,Back!$M$19:$N$20,2,0)),\"\")","v":""},{"$f":"+IFERROR((VLOOKUP('BASE DE RESPUESTAS'!AZ68,Back!$M$19:$N$20,2,0)),\"\")","v":""},{"$f":"+IFERROR((VLOOKUP('BASE DE RESPUESTAS'!BA68,Back!$M$19:$N$20,2,0)),\"\")","v":""},{"$f":"+IFERROR((VLOOKUP('BASE DE RESPUESTAS'!BB68,Back!$M$19:$N$20,2,0)),\"\")","v":""},{"$f":"+IFERROR((VLOOKUP('BASE DE RESPUESTAS'!BC68,Back!$M$19:$N$20,2,0)),\"\")","v":""},{"$f":"+IFERROR((VLOOKUP('BASE DE RESPUESTAS'!BD68,Back!$M$19:$N$20,2,0)),\"\")","v":""},{"$f":"+IFERROR((VLOOKUP('BASE DE RESPUESTAS'!BE68,Back!$M$19:$N$20,2,0)),\"\")","v":""}]
[null,null,null,"La o el estudiante muestra efectos de negligencia.",null,"",null,{"$f":"+IFERROR(AVERAGE(Espejo!H67:H68),\"\")","v":""},{"$f":"+IFERROR(AVERAGE(Espejo!I67:I68),\"\")","v":""},{"$f":"+IFERROR(AVERAGE(Espejo!J67:J68),\"\")","v":""},{"$f":"+IFERROR(AVERAGE(Espejo!K67:K68),\"\")","v":""},{"$f":"+IFERROR(AVERAGE(Espejo!L67:L68),\"\")","v":""},{"$f":"+IFERROR(AVERAGE(Espejo!M67:M68),\"\")","v":""},{"$f":"+IFERROR(AVERAGE(Espejo!N67:N68),\"\")","v":""},{"$f":"+IFERROR(AVERAGE(Espejo!O67:O68),\"\")","v":""},{"$f":"+IFERROR(AVERAGE(Espejo!P67:P68),\"\")","v":""},{"$f":"+IFERROR(AVERAGE(Espejo!Q67:Q68),\"\")","v":""},{"$f":"+IFERROR(AVERAGE(Espejo!R67:R68),\"\")","v":""},{"$f":"+IFERROR(AVERAGE(Espejo!S67:S68),\"\")","v":""},{"$f":"+IFERROR(AVERAGE(Espejo!T67:T68),\"\")","v":""},{"$f":"+IFERROR(AVERAGE(Espejo!U67:U68),\"\")","v":""},{"$f":"+IFERROR(AVERAGE(Espejo!V67:V68),\"\")","v":""},{"$f":"+IFERROR(AVERAGE(Espejo!W67:W68),\"\")","v":""},{"$f":"+IFERROR(AVERAGE(Espejo!X67:X68),\"\")","v":""},{"$f":"+IFERROR(AVERAGE(Espejo!Y67:Y68),\"\")","v":""},{"$f":"+IFERROR(AVERAGE(Espejo!Z67:Z68),\"\")","v":""},{"$f":"+IFERROR(AVERAGE(Espejo!AA67:AA68),\"\")","v":""},{"$f":"+IFERROR(AVERAGE(Espejo!AB67:AB68),\"\")","v":""},{"$f":"+IFERROR(AVERAGE(Espejo!AC67:AC68),\"\")","v":""},{"$f":"+IFERROR(AVERAGE(Espejo!AD67:AD68),\"\")","v":""},{"$f":"+IFERROR(AVERAGE(Espejo!AE67:AE68),\"\")","v":""},{"$f":"+IFERROR(AVERAGE(Espejo!AF67:AF68),\"\")","v":""},{"$f":"+IFERROR(AVERAGE(Espejo!AG67:AG68),\"\")","v":""},{"$f":"+IFERROR(AVERAGE(Espejo!AH67:AH68),\"\")","v":""},{"$f":"+IFERROR(AVERAGE(Espejo!AI67:AI68),\"\")","v":""},{"$f":"+IFERROR(AVERAGE(Espejo!AJ67:AJ68),\"\")","v":""},{"$f":"+IFERROR(AVERAGE(Espejo!AK67:AK68),\"\")","v":""},{"$f":"+IFERROR(AVERAGE(Espejo!AL67:AL68),\"\")","v":""},{"$f":"+IFERROR(AVERAGE(Espejo!AM67:AM68),\"\")","v":""},{"$f":"+IFERROR(AVERAGE(Espejo!AN67:AN68),\"\")","v":""},{"$f":"+IFERROR(AVERAGE(Espejo!AO67:AO68),\"\")","v":""},{"$f":"+IFERROR(AVERAGE(Espejo!AP67:AP68),\"\")","v":""},{"$f":"+IFERROR(AVERAGE(Espejo!AQ67:AQ68),\"\")","v":""},{"$f":"+IFERROR(AVERAGE(Espejo!AR67:AR68),\"\")","v":""},{"$f":"+IFERROR(AVERAGE(Espejo!AS67:AS68),\"\")","v":""},{"$f":"+IFERROR(AVERAGE(Espejo!AT67:AT68),\"\")","v":""},{"$f":"+IFERROR(AVERAGE(Espejo!AU67:AU68),\"\")","v":""},{"$f":"+IFERROR(AVERAGE(Espejo!AV67:AV68),\"\")","v":""},{"$f":"+IFERROR(AVERAGE(Espejo!AW67:AW68),\"\")","v":""},{"$f":"+IFERROR(AVERAGE(Espejo!AX67:AX68),\"\")","v":""},{"$f":"+IFERROR(AVERAGE(Espejo!AY67:AY68),\"\")","v":""},{"$f":"+IFERROR(AVERAGE(Espejo!AZ67:AZ68),\"\")","v":""},{"$f":"+IFERROR(AVERAGE(Espejo!BA67:BA68),\"\")","v":""},{"$f":"+IFERROR(AVERAGE(Espejo!BB67:BB68),\"\")","v":""},{"$f":"+IFERROR(AVERAGE(Espejo!BC67:BC68),\"\")","v":""},{"$f":"+IFERROR(AVERAGE(Espejo!BD67:BD68),\"\")","v":""},{"$f":"+IFERROR(AVERAGE(Espejo!BE67:BE68),\"\")","v":""}]
[null,"FR","Violencia escolar","La o el estudiante hace distinciones discriminatorias entre varones y mujeres.",null,"",null,{"$f":"+IFERROR((VLOOKUP('BASE DE RESPUESTAS'!H71,Back!$M$19:$N$20,2,0)),\"\")","v":""},{"$f":"+IFERROR((VLOOKUP('BASE DE RESPUESTAS'!I71,Back!$M$19:$N$20,2,0)),\"\")","v":""},{"$f":"+IFERROR((VLOOKUP('BASE DE RESPUESTAS'!J71,Back!$M$19:$N$20,2,0)),\"\")","v":""},{"$f":"+IFERROR((VLOOKUP('BASE DE RESPUESTAS'!K71,Back!$M$19:$N$20,2,0)),\"\")","v":""},{"$f":"+IFERROR((VLOOKUP('BASE DE RESPUESTAS'!L71,Back!$M$19:$N$20,2,0)),\"\")","v":""},{"$f":"+IFERROR((VLOOKUP('BASE DE RESPUESTAS'!M71,Back!$M$19:$N$20,2,0)),\"\")","v":""},{"$f":"+IFERROR((VLOOKUP('BASE DE RESPUESTAS'!N71,Back!$M$19:$N$20,2,0)),\"\")","v":""},{"$f":"+IFERROR((VLOOKUP('BASE DE RESPUESTAS'!O71,Back!$M$19:$N$20,2,0)),\"\")","v":""},{"$f":"+IFERROR((VLOOKUP('BASE DE RESPUESTAS'!P71,Back!$M$19:$N$20,2,0)),\"\")","v":""},{"$f":"+IFERROR((VLOOKUP('BASE DE RESPUESTAS'!Q71,Back!$M$19:$N$20,2,0)),\"\")","v":""},{"$f":"+IFERROR((VLOOKUP('BASE DE RESPUESTAS'!R71,Back!$M$19:$N$20,2,0)),\"\")","v":""},{"$f":"+IFERROR((VLOOKUP('BASE DE RESPUESTAS'!S71,Back!$M$19:$N$20,2,0)),\"\")","v":""},{"$f":"+IFERROR((VLOOKUP('BASE DE RESPUESTAS'!T71,Back!$M$19:$N$20,2,0)),\"\")","v":""},{"$f":"+IFERROR((VLOOKUP('BASE DE RESPUESTAS'!U71,Back!$M$19:$N$20,2,0)),\"\")","v":""},{"$f":"+IFERROR((VLOOKUP('BASE DE RESPUESTAS'!V71,Back!$M$19:$N$20,2,0)),\"\")","v":""},{"$f":"+IFERROR((VLOOKUP('BASE DE RESPUESTAS'!W71,Back!$M$19:$N$20,2,0)),\"\")","v":""},{"$f":"+IFERROR((VLOOKUP('BASE DE RESPUESTAS'!X71,Back!$M$19:$N$20,2,0)),\"\")","v":""},{"$f":"+IFERROR((VLOOKUP('BASE DE RESPUESTAS'!Y71,Back!$M$19:$N$20,2,0)),\"\")","v":""},{"$f":"+IFERROR((VLOOKUP('BASE DE RESPUESTAS'!Z71,Back!$M$19:$N$20,2,0)),\"\")","v":""},{"$f":"+IFERROR((VLOOKUP('BASE DE RESPUESTAS'!AA71,Back!$M$19:$N$20,2,0)),\"\")","v":""},{"$f":"+IFERROR((VLOOKUP('BASE DE RESPUESTAS'!AB71,Back!$M$19:$N$20,2,0)),\"\")","v":""},{"$f":"+IFERROR((VLOOKUP('BASE DE RESPUESTAS'!AC71,Back!$M$19:$N$20,2,0)),\"\")","v":""},{"$f":"+IFERROR((VLOOKUP('BASE DE RESPUESTAS'!AD71,Back!$M$19:$N$20,2,0)),\"\")","v":""},{"$f":"+IFERROR((VLOOKUP('BASE DE RESPUESTAS'!AE71,Back!$M$19:$N$20,2,0)),\"\")","v":""},{"$f":"+IFERROR((VLOOKUP('BASE DE RESPUESTAS'!AF71,Back!$M$19:$N$20,2,0)),\"\")","v":""},{"$f":"+IFERROR((VLOOKUP('BASE DE RESPUESTAS'!AG71,Back!$M$19:$N$20,2,0)),\"\")","v":""},{"$f":"+IFERROR((VLOOKUP('BASE DE RESPUESTAS'!AH71,Back!$M$19:$N$20,2,0)),\"\")","v":""},{"$f":"+IFERROR((VLOOKUP('BASE DE RESPUESTAS'!AI71,Back!$M$19:$N$20,2,0)),\"\")","v":""},{"$f":"+IFERROR((VLOOKUP('BASE DE RESPUESTAS'!AJ71,Back!$M$19:$N$20,2,0)),\"\")","v":""},{"$f":"+IFERROR((VLOOKUP('BASE DE RESPUESTAS'!AK71,Back!$M$19:$N$20,2,0)),\"\")","v":""},{"$f":"+IFERROR((VLOOKUP('BASE DE RESPUESTAS'!AL71,Back!$M$19:$N$20,2,0)),\"\")","v":""},{"$f":"+IFERROR((VLOOKUP('BASE DE RESPUESTAS'!AM71,Back!$M$19:$N$20,2,0)),\"\")","v":""},{"$f":"+IFERROR((VLOOKUP('BASE DE RESPUESTAS'!AN71,Back!$M$19:$N$20,2,0)),\"\")","v":""},{"$f":"+IFERROR((VLOOKUP('BASE DE RESPUESTAS'!AO71,Back!$M$19:$N$20,2,0)),\"\")","v":""},{"$f":"+IFERROR((VLOOKUP('BASE DE RESPUESTAS'!AP71,Back!$M$19:$N$20,2,0)),\"\")","v":""},{"$f":"+IFERROR((VLOOKUP('BASE DE RESPUESTAS'!AQ71,Back!$M$19:$N$20,2,0)),\"\")","v":""},{"$f":"+IFERROR((VLOOKUP('BASE DE RESPUESTAS'!AR71,Back!$M$19:$N$20,2,0)),\"\")","v":""},{"$f":"+IFERROR((VLOOKUP('BASE DE RESPUESTAS'!AS71,Back!$M$19:$N$20,2,0)),\"\")","v":""},{"$f":"+IFERROR((VLOOKUP('BASE DE RESPUESTAS'!AT71,Back!$M$19:$N$20,2,0)),\"\")","v":""},{"$f":"+IFERROR((VLOOKUP('BASE DE RESPUESTAS'!AU71,Back!$M$19:$N$20,2,0)),\"\")","v":""},{"$f":"+IFERROR((VLOOKUP('BASE DE RESPUESTAS'!AV71,Back!$M$19:$N$20,2,0)),\"\")","v":""},{"$f":"+IFERROR((VLOOKUP('BASE DE RESPUESTAS'!AW71,Back!$M$19:$N$20,2,0)),\"\")","v":""},{"$f":"+IFERROR((VLOOKUP('BASE DE RESPUESTAS'!AX71,Back!$M$19:$N$20,2,0)),\"\")","v":""},{"$f":"+IFERROR((VLOOKUP('BASE DE RESPUESTAS'!AY71,Back!$M$19:$N$20,2,0)),\"\")","v":""},{"$f":"+IFERROR((VLOOKUP('BASE DE RESPUESTAS'!AZ71,Back!$M$19:$N$20,2,0)),\"\")","v":""},{"$f":"+IFERROR((VLOOKUP('BASE DE RESPUESTAS'!BA71,Back!$M$19:$N$20,2,0)),\"\")","v":""},{"$f":"+IFERROR((VLOOKUP('BASE DE RESPUESTAS'!BB71,Back!$M$19:$N$20,2,0)),\"\")","v":""},{"$f":"+IFERROR((VLOOKUP('BASE DE RESPUESTAS'!BC71,Back!$M$19:$N$20,2,0)),\"\")","v":""},{"$f":"+IFERROR((VLOOKUP('BASE DE RESPUESTAS'!BD71,Back!$M$19:$N$20,2,0)),\"\")","v":""},{"$f":"+IFERROR((VLOOKUP('BASE DE RESPUESTAS'!BE71,Back!$M$19:$N$20,2,0)),\"\")","v":""}]
[null,null,null,"La o el estudiante recibe gritos, amenazas o golpes por parte de sus compañeros/as.",null,"",null,{"$f":"+IFERROR((VLOOKUP('BASE DE RESPUESTAS'!H72,Back!$M$19:$N$20,2,0)),\"\")","v":""},{"$f":"+IFERROR((VLOOKUP('BASE DE RESPUESTAS'!I72,Back!$M$19:$N$20,2,0)),\"\")","v":""},{"$f":"+IFERROR((VLOOKUP('BASE DE RESPUESTAS'!J72,Back!$M$19:$N$20,2,0)),\"\")","v":""},{"$f":"+IFERROR((VLOOKUP('BASE DE RESPUESTAS'!K72,Back!$M$19:$N$20,2,0)),\"\")","v":""},{"$f":"+IFERROR((VLOOKUP('BASE DE RESPUESTAS'!L72,Back!$M$19:$N$20,2,0)),\"\")","v":""},{"$f":"+IFERROR((VLOOKUP('BASE DE RESPUESTAS'!M72,Back!$M$19:$N$20,2,0)),\"\")","v":""},{"$f":"+IFERROR((VLOOKUP('BASE DE RESPUESTAS'!N72,Back!$M$19:$N$20,2,0)),\"\")","v":""},{"$f":"+IFERROR((VLOOKUP('BASE DE RESPUESTAS'!O72,Back!$M$19:$N$20,2,0)),\"\")","v":""},{"$f":"+IFERROR((VLOOKUP('BASE DE RESPUESTAS'!P72,Back!$M$19:$N$20,2,0)),\"\")","v":""},{"$f":"+IFERROR((VLOOKUP('BASE DE RESPUESTAS'!Q72,Back!$M$19:$N$20,2,0)),\"\")","v":""},{"$f":"+IFERROR((VLOOKUP('BASE DE RESPUESTAS'!R72,Back!$M$19:$N$20,2,0)),\"\")","v":""},{"$f":"+IFERROR((VLOOKUP('BASE DE RESPUESTAS'!S72,Back!$M$19:$N$20,2,0)),\"\")","v":""},{"$f":"+IFERROR((VLOOKUP('BASE DE RESPUESTAS'!T72,Back!$M$19:$N$20,2,0)),\"\")","v":""},{"$f":"+IFERROR((VLOOKUP('BASE DE RESPUESTAS'!U72,Back!$M$19:$N$20,2,0)),\"\")","v":""},{"$f":"+IFERROR((VLOOKUP('BASE DE RESPUESTAS'!V72,Back!$M$19:$N$20,2,0)),\"\")","v":""},{"$f":"+IFERROR((VLOOKUP('BASE DE RESPUESTAS'!W72,Back!$M$19:$N$20,2,0)),\"\")","v":""},{"$f":"+IFERROR((VLOOKUP('BASE DE RESPUESTAS'!X72,Back!$M$19:$N$20,2,0)),\"\")","v":""},{"$f":"+IFERROR((VLOOKUP('BASE DE RESPUESTAS'!Y72,Back!$M$19:$N$20,2,0)),\"\")","v":""},{"$f":"+IFERROR((VLOOKUP('BASE DE RESPUESTAS'!Z72,Back!$M$19:$N$20,2,0)),\"\")","v":""},{"$f":"+IFERROR((VLOOKUP('BASE DE RESPUESTAS'!AA72,Back!$M$19:$N$20,2,0)),\"\")","v":""},{"$f":"+IFERROR((VLOOKUP('BASE DE RESPUESTAS'!AB72,Back!$M$19:$N$20,2,0)),\"\")","v":""},{"$f":"+IFERROR((VLOOKUP('BASE DE RESPUESTAS'!AC72,Back!$M$19:$N$20,2,0)),\"\")","v":""},{"$f":"+IFERROR((VLOOKUP('BASE DE RESPUESTAS'!AD72,Back!$M$19:$N$20,2,0)),\"\")","v":""},{"$f":"+IFERROR((VLOOKUP('BASE DE RESPUESTAS'!AE72,Back!$M$19:$N$20,2,0)),\"\")","v":""},{"$f":"+IFERROR((VLOOKUP('BASE DE RESPUESTAS'!AF72,Back!$M$19:$N$20,2,0)),\"\")","v":""},{"$f":"+IFERROR((VLOOKUP('BASE DE RESPUESTAS'!AG72,Back!$M$19:$N$20,2,0)),\"\")","v":""},{"$f":"+IFERROR((VLOOKUP('BASE DE RESPUESTAS'!AH72,Back!$M$19:$N$20,2,0)),\"\")","v":""},{"$f":"+IFERROR((VLOOKUP('BASE DE RESPUESTAS'!AI72,Back!$M$19:$N$20,2,0)),\"\")","v":""},{"$f":"+IFERROR((VLOOKUP('BASE DE RESPUESTAS'!AJ72,Back!$M$19:$N$20,2,0)),\"\")","v":""},{"$f":"+IFERROR((VLOOKUP('BASE DE RESPUESTAS'!AK72,Back!$M$19:$N$20,2,0)),\"\")","v":""},{"$f":"+IFERROR((VLOOKUP('BASE DE RESPUESTAS'!AL72,Back!$M$19:$N$20,2,0)),\"\")","v":""},{"$f":"+IFERROR((VLOOKUP('BASE DE RESPUESTAS'!AM72,Back!$M$19:$N$20,2,0)),\"\")","v":""},{"$f":"+IFERROR((VLOOKUP('BASE DE RESPUESTAS'!AN72,Back!$M$19:$N$20,2,0)),\"\")","v":""},{"$f":"+IFERROR((VLOOKUP('BASE DE RESPUESTAS'!AO72,Back!$M$19:$N$20,2,0)),\"\")","v":""},{"$f":"+IFERROR((VLOOKUP('BASE DE RESPUESTAS'!AP72,Back!$M$19:$N$20,2,0)),\"\")","v":""},{"$f":"+IFERROR((VLOOKUP('BASE DE RESPUESTAS'!AQ72,Back!$M$19:$N$20,2,0)),\"\")","v":""},{"$f":"+IFERROR((VLOOKUP('BASE DE RESPUESTAS'!AR72,Back!$M$19:$N$20,2,0)),\"\")","v":""},{"$f":"+IFERROR((VLOOKUP('BASE DE RESPUESTAS'!AS72,Back!$M$19:$N$20,2,0)),\"\")","v":""},{"$f":"+IFERROR((VLOOKUP('BASE DE RESPUESTAS'!AT72,Back!$M$19:$N$20,2,0)),\"\")","v":""},{"$f":"+IFERROR((VLOOKUP('BASE DE RESPUESTAS'!AU72,Back!$M$19:$N$20,2,0)),\"\")","v":""},{"$f":"+IFERROR((VLOOKUP('BASE DE RESPUESTAS'!AV72,Back!$M$19:$N$20,2,0)),\"\")","v":""},{"$f":"+IFERROR((VLOOKUP('BASE DE RESPUESTAS'!AW72,Back!$M$19:$N$20,2,0)),\"\")","v":""},{"$f":"+IFERROR((VLOOKUP('BASE DE RESPUESTAS'!AX72,Back!$M$19:$N$20,2,0)),\"\")","v":""},{"$f":"+IFERROR((VLOOKUP('BASE DE RESPUESTAS'!AY72,Back!$M$19:$N$20,2,0)),\"\")","v":""},{"$f":"+IFERROR((VLOOKUP('BASE DE RESPUESTAS'!AZ72,Back!$M$19:$N$20,2,0)),\"\")","v":""},{"$f":"+IFERROR((VLOOKUP('BASE DE RESPUESTAS'!BA72,Back!$M$19:$N$20,2,0)),\"\")","v":""},{"$f":"+IFERROR((VLOOKUP('BASE DE RESPUESTAS'!BB72,Back!$M$19:$N$20,2,0)),\"\")","v":""},{"$f":"+IFERROR((VLOOKUP('BASE DE RESPUESTAS'!BC72,Back!$M$19:$N$20,2,0)),\"\")","v":""},{"$f":"+IFERROR((VLOOKUP('BASE DE RESPUESTAS'!BD72,Back!$M$19:$N$20,2,0)),\"\")","v":""},{"$f":"+IFERROR((VLOOKUP('BASE DE RESPUESTAS'!BE72,Back!$M$19:$N$20,2,0)),\"\")","v":""}]
[null,null,null,"La o el estudiante se relaciona de manera agresiva física y/o verbal con sus compañeras/os.",null,"",null,{"$f":"+IFERROR((VLOOKUP('BASE DE RESPUESTAS'!H73,Back!$M$19:$N$20,2,0)),\"\")","v":""},{"$f":"+IFERROR((VLOOKUP('BASE DE RESPUESTAS'!I73,Back!$M$19:$N$20,2,0)),\"\")","v":""},{"$f":"+IFERROR((VLOOKUP('BASE DE RESPUESTAS'!J73,Back!$M$19:$N$20,2,0)),\"\")","v":""},{"$f":"+IFERROR((VLOOKUP('BASE DE RESPUESTAS'!K73,Back!$M$19:$N$20,2,0)),\"\")","v":""},{"$f":"+IFERROR((VLOOKUP('BASE DE RESPUESTAS'!L73,Back!$M$19:$N$20,2,0)),\"\")","v":""},{"$f":"+IFERROR((VLOOKUP('BASE DE RESPUESTAS'!M73,Back!$M$19:$N$20,2,0)),\"\")","v":""},{"$f":"+IFERROR((VLOOKUP('BASE DE RESPUESTAS'!N73,Back!$M$19:$N$20,2,0)),\"\")","v":""},{"$f":"+IFERROR((VLOOKUP('BASE DE RESPUESTAS'!O73,Back!$M$19:$N$20,2,0)),\"\")","v":""},{"$f":"+IFERROR((VLOOKUP('BASE DE RESPUESTAS'!P73,Back!$M$19:$N$20,2,0)),\"\")","v":""},{"$f":"+IFERROR((VLOOKUP('BASE DE RESPUESTAS'!Q73,Back!$M$19:$N$20,2,0)),\"\")","v":""},{"$f":"+IFERROR((VLOOKUP('BASE DE RESPUESTAS'!R73,Back!$M$19:$N$20,2,0)),\"\")","v":""},{"$f":"+IFERROR((VLOOKUP('BASE DE RESPUESTAS'!S73,Back!$M$19:$N$20,2,0)),\"\")","v":""},{"$f":"+IFERROR((VLOOKUP('BASE DE RESPUESTAS'!T73,Back!$M$19:$N$20,2,0)),\"\")","v":""},{"$f":"+IFERROR((VLOOKUP('BASE DE RESPUESTAS'!U73,Back!$M$19:$N$20,2,0)),\"\")","v":""},{"$f":"+IFERROR((VLOOKUP('BASE DE RESPUESTAS'!V73,Back!$M$19:$N$20,2,0)),\"\")","v":""},{"$f":"+IFERROR((VLOOKUP('BASE DE RESPUESTAS'!W73,Back!$M$19:$N$20,2,0)),\"\")","v":""},{"$f":"+IFERROR((VLOOKUP('BASE DE RESPUESTAS'!X73,Back!$M$19:$N$20,2,0)),\"\")","v":""},{"$f":"+IFERROR((VLOOKUP('BASE DE RESPUESTAS'!Y73,Back!$M$19:$N$20,2,0)),\"\")","v":""},{"$f":"+IFERROR((VLOOKUP('BASE DE RESPUESTAS'!Z73,Back!$M$19:$N$20,2,0)),\"\")","v":""},{"$f":"+IFERROR((VLOOKUP('BASE DE RESPUESTAS'!AA73,Back!$M$19:$N$20,2,0)),\"\")","v":""},{"$f":"+IFERROR((VLOOKUP('BASE DE RESPUESTAS'!AB73,Back!$M$19:$N$20,2,0)),\"\")","v":""},{"$f":"+IFERROR((VLOOKUP('BASE DE RESPUESTAS'!AC73,Back!$M$19:$N$20,2,0)),\"\")","v":""},{"$f":"+IFERROR((VLOOKUP('BASE DE RESPUESTAS'!AD73,Back!$M$19:$N$20,2,0)),\"\")","v":""},{"$f":"+IFERROR((VLOOKUP('BASE DE RESPUESTAS'!AE73,Back!$M$19:$N$20,2,0)),\"\")","v":""},{"$f":"+IFERROR((VLOOKUP('BASE DE RESPUESTAS'!AF73,Back!$M$19:$N$20,2,0)),\"\")","v":""},{"$f":"+IFERROR((VLOOKUP('BASE DE RESPUESTAS'!AG73,Back!$M$19:$N$20,2,0)),\"\")","v":""},{"$f":"+IFERROR((VLOOKUP('BASE DE RESPUESTAS'!AH73,Back!$M$19:$N$20,2,0)),\"\")","v":""},{"$f":"+IFERROR((VLOOKUP('BASE DE RESPUESTAS'!AI73,Back!$M$19:$N$20,2,0)),\"\")","v":""},{"$f":"+IFERROR((VLOOKUP('BASE DE RESPUESTAS'!AJ73,Back!$M$19:$N$20,2,0)),\"\")","v":""},{"$f":"+IFERROR((VLOOKUP('BASE DE RESPUESTAS'!AK73,Back!$M$19:$N$20,2,0)),\"\")","v":""},{"$f":"+IFERROR((VLOOKUP('BASE DE RESPUESTAS'!AL73,Back!$M$19:$N$20,2,0)),\"\")","v":""},{"$f":"+IFERROR((VLOOKUP('BASE DE RESPUESTAS'!AM73,Back!$M$19:$N$20,2,0)),\"\")","v":""},{"$f":"+IFERROR((VLOOKUP('BASE DE RESPUESTAS'!AN73,Back!$M$19:$N$20,2,0)),\"\")","v":""},{"$f":"+IFERROR((VLOOKUP('BASE DE RESPUESTAS'!AO73,Back!$M$19:$N$20,2,0)),\"\")","v":""},{"$f":"+IFERROR((VLOOKUP('BASE DE RESPUESTAS'!AP73,Back!$M$19:$N$20,2,0)),\"\")","v":""},{"$f":"+IFERROR((VLOOKUP('BASE DE RESPUESTAS'!AQ73,Back!$M$19:$N$20,2,0)),\"\")","v":""},{"$f":"+IFERROR((VLOOKUP('BASE DE RESPUESTAS'!AR73,Back!$M$19:$N$20,2,0)),\"\")","v":""},{"$f":"+IFERROR((VLOOKUP('BASE DE RESPUESTAS'!AS73,Back!$M$19:$N$20,2,0)),\"\")","v":""},{"$f":"+IFERROR((VLOOKUP('BASE DE RESPUESTAS'!AT73,Back!$M$19:$N$20,2,0)),\"\")","v":""},{"$f":"+IFERROR((VLOOKUP('BASE DE RESPUESTAS'!AU73,Back!$M$19:$N$20,2,0)),\"\")","v":""},{"$f":"+IFERROR((VLOOKUP('BASE DE RESPUESTAS'!AV73,Back!$M$19:$N$20,2,0)),\"\")","v":""},{"$f":"+IFERROR((VLOOKUP('BASE DE RESPUESTAS'!AW73,Back!$M$19:$N$20,2,0)),\"\")","v":""},{"$f":"+IFERROR((VLOOKUP('BASE DE RESPUESTAS'!AX73,Back!$M$19:$N$20,2,0)),\"\")","v":""},{"$f":"+IFERROR((VLOOKUP('BASE DE RESPUESTAS'!AY73,Back!$M$19:$N$20,2,0)),\"\")","v":""},{"$f":"+IFERROR((VLOOKUP('BASE DE RESPUESTAS'!AZ73,Back!$M$19:$N$20,2,0)),\"\")","v":""},{"$f":"+IFERROR((VLOOKUP('BASE DE RESPUESTAS'!BA73,Back!$M$19:$N$20,2,0)),\"\")","v":""},{"$f":"+IFERROR((VLOOKUP('BASE DE RESPUESTAS'!BB73,Back!$M$19:$N$20,2,0)),\"\")","v":""},{"$f":"+IFERROR((VLOOKUP('BASE DE RESPUESTAS'!BC73,Back!$M$19:$N$20,2,0)),\"\")","v":""},{"$f":"+IFERROR((VLOOKUP('BASE DE RESPUESTAS'!BD73,Back!$M$19:$N$20,2,0)),\"\")","v":""},{"$f":"+IFERROR((VLOOKUP('BASE DE RESPUESTAS'!BE73,Back!$M$19:$N$20,2,0)),\"\")","v":""}]
[]
[null,null,null,null,null,"Indicadores",null,{"$f":"+H4","v":"Estudiante 1"},"Estudiante 2","Estudiante 3","Estudiante 4","Estudiante 5","Estudiante 6","Estudiante 7","Estudiante 8","Estudiante 9","Estudiante 10","Estudiante 11","Estudiante 12","Estudiante 13","Estudiante 14","Estudiante 15","Estudiante 16","Estudiante 17","Estudiante 18","Estudiante 19","Estudiante 20","Estudiante 21","Estudiante 22","Estudiante 23","Estudiante 24","Estudiante 25","Estudiante 26","Estudiante 27","Estudiante 28","Estudiante 29","Estudiante 30","Estudiante 31","Estudiante 32","Estudiante 33","Estudiante 34","Estudiante 35","Estudiante 36","Estudiante 37","Estudiante 38","Estudiante 39","Estudiante 40","Estudiante 41","Estudiante 42","Estudiante 43","Estudiante 44","Estudiante 45","Estudiante 46","Estudiante 47","Estudiante 48","Estudiante 49","Estudiante 50"]
[null,null,null,null,null,"En Blanco",null,{"$f":"IFERROR((COUNTIFS(H5:H14,\"-\")),\"-\")","v":0},0,0,0,0,0,0,0,0,0,0,0,0,0,0,0,0,0,0,0,0,0,0,0,0,0,0,0,0,0,0,0,0,0,0,0,0,0,0,0,0,0,0,0,0,0,0,0,0,0]
[null,null,null,null,null,"Alto Riesgo",null,{"$f":"IFERROR(COUNTIFS(H5:H14,\">=0.75\",H5:H14,\"<1.01\"),\"-\")","v":0},0,0,0,0,0,0,0,0,0,0,0,0,0,0,0,0,0,0,0,0,0,0,0,0,0,0,0,0,0,0,0,0,0,0,0,0,0,0,0,0,0,0,0,0,0,0,0,0,0]
[null,null,null,null,null,"Riesgo Moderado",null,{"$f":"IFERROR(COUNTIFS(H5:H14,\">=0.26\",H5:H14,\"<=0.74\"),\"-\")","v":0},0,0,0,0,0,0,0,0,0,0,0,0,0,0,0,0,0,0,0,0,0,0,0,0,0,0,0,0,0,0,0,0,0,0,0,0,0,0,0,0,0,0,0,0,0,0,0,0,0]
[null,null,null,null,null,"Bajo Riesgo",null,{"$f":"IFERROR(COUNTIFS(H5:H14,\">=0\",H5:H14,\"<0.25\"),\"-\")","v":0},0,0,0,0,0,0,0,0,0,0,0,0,0,0,0,0,0,0,0,0,0,0,0,0,0,0,0,0,0,0,0,0,0,0,0,0,0,0,0,0,0,0,0,0,0,0,0,0,0]
[null,null,null,null,null,"TOTAL",null,{"$f":"+SUM(H17:H20)","v":0},0,0,0,0,0,0,0,0,0,0,0,0,0,0,0,0,0,0,0,0,0,0,0,0,0,0,0,0,0,0,0,0,0,0,0,0,0,0,0,0,0,0,0,0,0,0,0,0,0]

{"sheet":"Resumen de Escala FR","index":7,"n_rows":18,"n_cols":55,"rows_kept":18,"cut":false,"hidden":false,"merged":[]}
[]
[]
[]
[null,"Dimensión","Escala","Resultado Promedio del aula",null,{"$f":"+'BASE DE RESPUESTAS'!H5","v":"Estudiante 1"},{"$f":"+'BASE DE RESPUESTAS'!I5","v":"Estudiante 2"},{"$f":"+'BASE DE RESPUESTAS'!J5","v":"Estudiante 3"},{"$f":"+'BASE DE RESPUESTAS'!K5","v":"Estudiante 4"},{"$f":"+'BASE DE RESPUESTAS'!L5","v":"Estudiante 5"},{"$f":"+'BASE DE RESPUESTAS'!M5","v":"Estudiante 6"},{"$f":"+'BASE DE RESPUESTAS'!N5","v":"Estudiante 7"},{"$f":"+'BASE DE RESPUESTAS'!O5","v":"Estudiante 8"},{"$f":"+'BASE DE RESPUESTAS'!P5","v":"Estudiante 9"},{"$f":"+'BASE DE RESPUESTAS'!Q5","v":"Estudiante 10"},{"$f":"+'BASE DE RESPUESTAS'!R5","v":"Estudiante 11"},{"$f":"+'BASE DE RESPUESTAS'!S5","v":"Estudiante 12"},{"$f":"+'BASE DE RESPUESTAS'!T5","v":"Estudiante 13"},{"$f":"+'BASE DE RESPUESTAS'!U5","v":"Estudiante 14"},{"$f":"+'BASE DE RESPUESTAS'!V5","v":"Estudiante 15"},{"$f":"+'BASE DE RESPUESTAS'!W5","v":"Estudiante 16"},{"$f":"+'BASE DE RESPUESTAS'!X5","v":"Estudiante 17"},{"$f":"+'BASE DE RESPUESTAS'!Y5","v":"Estudiante 18"},{"$f":"+'BASE DE RESPUESTAS'!Z5","v":"Estudiante 19"},{"$f":"+'BASE DE RESPUESTAS'!AA5","v":"Estudiante 20"},{"$f":"+'BASE DE RESPUESTAS'!AB5","v":"Estudiante 21"},{"$f":"+'BASE DE RESPUESTAS'!AC5","v":"Estudiante 22"},{"$f":"+'BASE DE RESPUESTAS'!AD5","v":"Estudiante 23"},{"$f":"+'BASE DE RESPUESTAS'!AE5","v":"Estudiante 24"},{"$f":"+'BASE DE RESPUESTAS'!AF5","v":"Estudiante 25"},{"$f":"+'BASE DE RESPUESTAS'!AG5","v":"Estudiante 26"},{"$f":"+'BASE DE RESPUESTAS'!AH5","v":"Estudiante 27"},{"$f":"+'BASE DE RESPUESTAS'!AI5","v":"Estudiante 28"},{"$f":"+'BASE DE RESPUESTAS'!AJ5","v":"Estudiante 29"},{"$f":"+'BASE DE RESPUESTAS'!AK5","v":"Estudiante 30"},{"$f":"+'BASE DE RESPUESTAS'!AL5","v":"Estudiante 31"},{"$f":"+'BASE DE RESPUESTAS'!AM5","v":"Estudiante 32"},{"$f":"+'BASE DE RESPUESTAS'!AN5","v":"Estudiante 33"},{"$f":"+'BASE DE RESPUESTAS'!AO5","v":"Estudiante 34"},{"$f":"+'BASE DE RESPUESTAS'!AP5","v":"Estudiante 35"},{"$f":"+'BASE DE RESPUESTAS'!AQ5","v":"Estudiante 36"},{"$f":"+'BASE DE RESPUESTAS'!AR5","v":"Estudiante 37"},{"$f":"+'BASE DE RESPUESTAS'!AS5","v":"Estudiante 38"},{"$f":"+'BASE DE RESPUESTAS'!AT5","v":"Estudiante 39"},{"$f":"+'BASE DE RESPUESTAS'!AU5","v":"Estudiante 40"},{"$f":"+'BASE DE RESPUESTAS'!AV5","v":"Estudiante 41"},{"$f":"+'BASE DE RESPUESTAS'!AW5","v":"Estudiante 42"},{"$f":"+'BASE DE RESPUESTAS'!AX5","v":"Estudiante 43"},{"$f":"+'BASE DE RESPUESTAS'!AY5","v":"Estudiante 44"},{"$f":"+'BASE DE RESPUESTAS'!AZ5","v":"Estudiante 45"},{"$f":"+'BASE DE RESPUESTAS'!BA5","v":"Estudiante 46"},{"$f":"+'BASE DE RESPUESTAS'!BB5","v":"Estudiante 47"},{"$f":"+'BASE DE RESPUESTAS'!BC5","v":"Estudiante 48"},{"$f":"+'BASE DE RESPUESTAS'!BD5","v":"Estudiante 49"},{"$f":"+'BASE DE RESPUESTAS'!BE5","v":"Estudiante 50"}]
[]
[null,"FR","Dificultades para mantener la concentración",{"$f":"+IFERROR(AVERAGEIFS(F6:BC6,F6:BC6,\">=0\"),\"-\")","v":"-"},null,{"$f":"+IFERROR(AVERAGEIFS('Resumen de indicadores FR'!H5:H6,'Resumen de indicadores FR'!H5:H6,\">=0\"),\"-\")","v":"-"},{"$f":"+IFERROR(AVERAGEIFS('Resumen de indicadores FR'!I5:I6,'Resumen de indicadores FR'!I5:I6,\">=0\"),\"-\")","v":"-"},{"$f":"+IFERROR(AVERAGEIFS('Resumen de indicadores FR'!J5:J6,'Resumen de indicadores FR'!J5:J6,\">=0\"),\"-\")","v":"-"},{"$f":"+IFERROR(AVERAGEIFS('Resumen de indicadores FR'!K5:K6,'Resumen de indicadores FR'!K5:K6,\">=0\"),\"-\")","v":"-"},{"$f":"+IFERROR(AVERAGEIFS('Resumen de indicadores FR'!L5:L6,'Resumen de indicadores FR'!L5:L6,\">=0\"),\"-\")","v":"-"},{"$f":"+IFERROR(AVERAGEIFS('Resumen de indicadores FR'!M5:M6,'Resumen de indicadores FR'!M5:M6,\">=0\"),\"-\")","v":"-"},{"$f":"+IFERROR(AVERAGEIFS('Resumen de indicadores FR'!N5:N6,'Resumen de indicadores FR'!N5:N6,\">=0\"),\"-\")","v":"-"},{"$f":"+IFERROR(AVERAGEIFS('Resumen de indicadores FR'!O5:O6,'Resumen de indicadores FR'!O5:O6,\">=0\"),\"-\")","v":"-"},{"$f":"+IFERROR(AVERAGEIFS('Resumen de indicadores FR'!P5:P6,'Resumen de indicadores FR'!P5:P6,\">=0\"),\"-\")","v":"-"},{"$f":"+IFERROR(AVERAGEIFS('Resumen de indicadores FR'!Q5:Q6,'Resumen de indicadores FR'!Q5:Q6,\">=0\"),\"-\")","v":"-"},{"$f":"+IFERROR(AVERAGEIFS('Resumen de indicadores FR'!R5:R6,'Resumen de indicadores FR'!R5:R6,\">=0\"),\"-\")","v":"-"},{"$f":"+IFERROR(AVERAGEIFS('Resumen de indicadores FR'!S5:S6,'Resumen de indicadores FR'!S5:S6,\">=0\"),\"-\")","v":"-"},{"$f":"+IFERROR(AVERAGEIFS('Resumen de indicadores FR'!T5:T6,'Resumen de indicadores FR'!T5:T6,\">=0\"),\"-\")","v":"-"},{"$f":"+IFERROR(AVERAGEIFS('Resumen de indicadores FR'!U5:U6,'Resumen de indicadores FR'!U5:U6,\">=0\"),\"-\")","v":"-"},{"$f":"+IFERROR(AVERAGEIFS('Resumen de indicadores FR'!V5:V6,'Resumen de indicadores FR'!V5:V6,\">=0\"),\"-\")","v":"-"},{"$f":"+IFERROR(AVERAGEIFS('Resumen de indicadores FR'!W5:W6,'Resumen de indicadores FR'!W5:W6,\">=0\"),\"-\")","v":"-"},{"$f":"+IFERROR(AVERAGEIFS('Resumen de indicadores FR'!X5:X6,'Resumen de indicadores FR'!X5:X6,\">=0\"),\"-\")","v":"-"},{"$f":"+IFERROR(AVERAGEIFS('Resumen de indicadores FR'!Y5:Y6,'Resumen de indicadores FR'!Y5:Y6,\">=0\"),\"-\")","v":"-"},{"$f":"+IFERROR(AVERAGEIFS('Resumen de indicadores FR'!Z5:Z6,'Resumen de indicadores FR'!Z5:Z6,\">=0\"),\"-\")","v":"-"},{"$f":"+IFERROR(AVERAGEIFS('Resumen de indicadores FR'!AA5:AA6,'Resumen de indicadores FR'!AA5:AA6,\">=0\"),\"-\")","v":"-"},{"$f":"+IFERROR(AVERAGEIFS('Resumen de indicadores FR'!AB5:AB6,'Resumen de indicadores FR'!AB5:AB6,\">=0\"),\"-\")","v":"-"},{"$f":"+IFERROR(AVERAGEIFS('Resumen de indicadores FR'!AC5:AC6,'Resumen de indicadores FR'!AC5:AC6,\">=0\"),\"-\")","v":"-"},{"$f":"+IFERROR(AVERAGEIFS('Resumen de indicadores FR'!AD5:AD6,'Resumen de indicadores FR'!AD5:AD6,\">=0\"),\"-\")","v":"-"},{"$f":"+IFERROR(AVERAGEIFS('Resumen de indicadores FR'!AE5:AE6,'Resumen de indicadores FR'!AE5:AE6,\">=0\"),\"-\")","v":"-"},{"$f":"+IFERROR(AVERAGEIFS('Resumen de indicadores FR'!AF5:AF6,'Resumen de indicadores FR'!AF5:AF6,\">=0\"),\"-\")","v":"-"},{"$f":"+IFERROR(AVERAGEIFS('Resumen de indicadores FR'!AG5:AG6,'Resumen de indicadores FR'!AG5:AG6,\">=0\"),\"-\")","v":"-"},{"$f":"+IFERROR(AVERAGEIFS('Resumen de indicadores FR'!AH5:AH6,'Resumen de indicadores FR'!AH5:AH6,\">=0\"),\"-\")","v":"-"},{"$f":"+IFERROR(AVERAGEIFS('Resumen de indicadores FR'!AI5:AI6,'Resumen de indicadores FR'!AI5:AI6,\">=0\"),\"-\")","v":"-"},{"$f":"+IFERROR(AVERAGEIFS('Resumen de indicadores FR'!AJ5:AJ6,'Resumen de indicadores FR'!AJ5:AJ6,\">=0\"),\"-\")","v":"-"},{"$f":"+IFERROR(AVERAGEIFS('Resumen de indicadores FR'!AK5:AK6,'Resumen de indicadores FR'!AK5:AK6,\">=0\"),\"-\")","v":"-"},{"$f":"+IFERROR(AVERAGEIFS('Resumen de indicadores FR'!AL5:AL6,'Resumen de indicadores FR'!AL5:AL6,\">=0\"),\"-\")","v":"-"},{"$f":"+IFERROR(AVERAGEIFS('Resumen de indicadores FR'!AM5:AM6,'Resumen de indicadores FR'!AM5:AM6,\">=0\"),\"-\")","v":"-"},{"$f":"+IFERROR(AVERAGEIFS('Resumen de indicadores FR'!AN5:AN6,'Resumen de indicadores FR'!AN5:AN6,\">=0\"),\"-\")","v":"-"},{"$f":"+IFERROR(AVERAGEIFS('Resumen de indicadores FR'!AO5:AO6,'Resumen de indicadores FR'!AO5:AO6,\">=0\"),\"-\")","v":"-"},{"$f":"+IFERROR(AVERAGEIFS('Resumen de indicadores FR'!AP5:AP6,'Resumen de indicadores FR'!AP5:AP6,\">=0\"),\"-\")","v":"-"},{"$f":"+IFERROR(AVERAGEIFS('Resumen de indicadores FR'!AQ5:AQ6,'Resumen de indicadores FR'!AQ5:AQ6,\">=0\"),\"-\")","v":"-"},{"$f":"+IFERROR(AVERAGEIFS('Resumen de indicadores FR'!AR5:AR6,'Resumen de indicadores FR'!AR5:AR6,\">=0\"),\"-\")","v":"-"},{"$f":"+IFERROR(AVERAGEIFS('Resumen de indicadores FR'!AS5:AS6,'Resumen de indicadores FR'!AS5:AS6,\">=0\"),\"-\")","v":"-"},{"$f":"+IFERROR(AVERAGEIFS('Resumen de indicadores FR'!AT5:AT6,'Resumen de indicadores FR'!AT5:AT6,\">=0\"),\"-\")","v":"-"},{"$f":"+IFERROR(AVERAGEIFS('Resumen de indicadores FR'!AU5:AU6,'Resumen de indicadores FR'!AU5:AU6,\">=0\"),\"-\")","v":"-"},{"$f":"+IFERROR(AVERAGEIFS('Resumen de indicadores FR'!AV5:AV6,'Resumen de indicadores FR'!AV5:AV6,\">=0\"),\"-\")","v":"-"},{"$f":"+IFERROR(AVERAGEIFS('Resumen de indicadores FR'!AW5:AW6,'Resumen de indicadores FR'!AW5:AW6,\">=0\"),\"-\")","v":"-"},{"$f":"+IFERROR(AVERAGEIFS('Resumen de indicadores FR'!AX5:AX6,'Resumen de indicadores FR'!AX5:AX6,\">=0\"),\"-\")","v":"-"},{"$f":"+IFERROR(AVERAGEIFS('Resumen de indicadores FR'!AY5:AY6,'Resumen de indicadores FR'!AY5:AY6,\">=0\"),\"-\")","v":"-"},{"$f":"+IFERROR(AVERAGEIFS('Resumen de indicadores FR'!AZ5:AZ6,'Resumen de indicadores FR'!AZ5:AZ6,\">=0\"),\"-\")","v":"-"},{"$f":"+IFERROR(AVERAGEIFS('Resumen de indicadores FR'!BA5:BA6,'Resumen de indicadores FR'!BA5:BA6,\">=0\"),\"-\")","v":"-"},{"$f":"+IFERROR(AVERAGEIFS('Resumen de indicadores FR'!BB5:BB6,'Resumen de indicadores FR'!BB5:BB6,\">=0\"),\"-\")","v":"-"},{"$f":"+IFERROR(AVERAGEIFS('Resumen de indicadores FR'!BC5:BC6,'Resumen de indicadores FR'!BC5:BC6,\">=0\"),\"-\")","v":"-"},{"$f":"+IFERROR(AVERAGEIFS('Resumen de indicadores FR'!BD5:BD6,'Resumen de indicadores FR'!BD5:BD6,\">=0\"),\"-\")","v":"-"},{"$f":"+IFERROR(AVERAGEIFS('Resumen de indicadores FR'!BE5:BE6,'Resumen de indicadores FR'!BE5:BE6,\">=0\"),\"-\")","v":"-"}]
[null,"FR","Dificultades en el desarrollo social","-",null,{"$f":"+IFERROR(AVERAGEIFS('Resumen de indicadores FR'!H7,'Resumen de indicadores FR'!H7,\">=0\"),\"-\")","v":"-"},{"$f":"+IFERROR(AVERAGEIFS('Resumen de indicadores FR'!I7,'Resumen de indicadores FR'!I7,\">=0\"),\"-\")","v":"-"},{"$f":"+IFERROR(AVERAGEIFS('Resumen de indicadores FR'!J7,'Resumen de indicadores FR'!J7,\">=0\"),\"-\")","v":"-"},{"$f":"+IFERROR(AVERAGEIFS('Resumen de indicadores FR'!K7,'Resumen de indicadores FR'!K7,\">=0\"),\"-\")","v":"-"},{"$f":"+IFERROR(AVERAGEIFS('Resumen de indicadores FR'!L7,'Resumen de indicadores FR'!L7,\">=0\"),\"-\")","v":"-"},{"$f":"+IFERROR(AVERAGEIFS('Resumen de indicadores FR'!M7,'Resumen de indicadores FR'!M7,\">=0\"),\"-\")","v":"-"},{"$f":"+IFERROR(AVERAGEIFS('Resumen de indicadores FR'!N7,'Resumen de indicadores FR'!N7,\">=0\"),\"-\")","v":"-"},{"$f":"+IFERROR(AVERAGEIFS('Resumen de indicadores FR'!O7,'Resumen de indicadores FR'!O7,\">=0\"),\"-\")","v":"-"},{"$f":"+IFERROR(AVERAGEIFS('Resumen de indicadores FR'!P7,'Resumen de indicadores FR'!P7,\">=0\"),\"-\")","v":"-"},{"$f":"+IFERROR(AVERAGEIFS('Resumen de indicadores FR'!Q7,'Resumen de indicadores FR'!Q7,\">=0\"),\"-\")","v":"-"},{"$f":"+IFERROR(AVERAGEIFS('Resumen de indicadores FR'!R7,'Resumen de indicadores FR'!R7,\">=0\"),\"-\")","v":"-"},{"$f":"+IFERROR(AVERAGEIFS('Resumen de indicadores FR'!S7,'Resumen de indicadores FR'!S7,\">=0\"),\"-\")","v":"-"},{"$f":"+IFERROR(AVERAGEIFS('Resumen de indicadores FR'!T7,'Resumen de indicadores FR'!T7,\">=0\"),\"-\")","v":"-"},{"$f":"+IFERROR(AVERAGEIFS('Resumen de indicadores FR'!U7,'Resumen de indicadores FR'!U7,\">=0\"),\"-\")","v":"-"},{"$f":"+IFERROR(AVERAGEIFS('Resumen de indicadores FR'!V7,'Resumen de indicadores FR'!V7,\">=0\"),\"-\")","v":"-"},{"$f":"+IFERROR(AVERAGEIFS('Resumen de indicadores FR'!W7,'Resumen de indicadores FR'!W7,\">=0\"),\"-\")","v":"-"},{"$f":"+IFERROR(AVERAGEIFS('Resumen de indicadores FR'!X7,'Resumen de indicadores FR'!X7,\">=0\"),\"-\")","v":"-"},{"$f":"+IFERROR(AVERAGEIFS('Resumen de indicadores FR'!Y7,'Resumen de indicadores FR'!Y7,\">=0\"),\"-\")","v":"-"},{"$f":"+IFERROR(AVERAGEIFS('Resumen de indicadores FR'!Z7,'Resumen de indicadores FR'!Z7,\">=0\"),\"-\")","v":"-"},{"$f":"+IFERROR(AVERAGEIFS('Resumen de indicadores FR'!AA7,'Resumen de indicadores FR'!AA7,\">=0\"),\"-\")","v":"-"},{"$f":"+IFERROR(AVERAGEIFS('Resumen de indicadores FR'!AB7,'Resumen de indicadores FR'!AB7,\">=0\"),\"-\")","v":"-"},{"$f":"+IFERROR(AVERAGEIFS('Resumen de indicadores FR'!AC7,'Resumen de indicadores FR'!AC7,\">=0\"),\"-\")","v":"-"},{"$f":"+IFERROR(AVERAGEIFS('Resumen de indicadores FR'!AD7,'Resumen de indicadores FR'!AD7,\">=0\"),\"-\")","v":"-"},{"$f":"+IFERROR(AVERAGEIFS('Resumen de indicadores FR'!AE7,'Resumen de indicadores FR'!AE7,\">=0\"),\"-\")","v":"-"},{"$f":"+IFERROR(AVERAGEIFS('Resumen de indicadores FR'!AF7,'Resumen de indicadores FR'!AF7,\">=0\"),\"-\")","v":"-"},{"$f":"+IFERROR(AVERAGEIFS('Resumen de indicadores FR'!AG7,'Resumen de indicadores FR'!AG7,\">=0\"),\"-\")","v":"-"},{"$f":"+IFERROR(AVERAGEIFS('Resumen de indicadores FR'!AH7,'Resumen de indicadores FR'!AH7,\">=0\"),\"-\")","v":"-"},{"$f":"+IFERROR(AVERAGEIFS('Resumen de indicadores FR'!AI7,'Resumen de indicadores FR'!AI7,\">=0\"),\"-\")","v":"-"},{"$f":"+IFERROR(AVERAGEIFS('Resumen de indicadores FR'!AJ7,'Resumen de indicadores FR'!AJ7,\">=0\"),\"-\")","v":"-"},{"$f":"+IFERROR(AVERAGEIFS('Resumen de indicadores FR'!AK7,'Resumen de indicadores FR'!AK7,\">=0\"),\"-\")","v":"-"},{"$f":"+IFERROR(AVERAGEIFS('Resumen de indicadores FR'!AL7,'Resumen de indicadores FR'!AL7,\">=0\"),\"-\")","v":"-"},{"$f":"+IFERROR(AVERAGEIFS('Resumen de indicadores FR'!AM7,'Resumen de indicadores FR'!AM7,\">=0\"),\"-\")","v":"-"},{"$f":"+IFERROR(AVERAGEIFS('Resumen de indicadores FR'!AN7,'Resumen de indicadores FR'!AN7,\">=0\"),\"-\")","v":"-"},{"$f":"+IFERROR(AVERAGEIFS('Resumen de indicadores FR'!AO7,'Resumen de indicadores FR'!AO7,\">=0\"),\"-\")","v":"-"},{"$f":"+IFERROR(AVERAGEIFS('Resumen de indicadores FR'!AP7,'Resumen de indicadores FR'!AP7,\">=0\"),\"-\")","v":"-"},{"$f":"+IFERROR(AVERAGEIFS('Resumen de indicadores FR'!AQ7,'Resumen de indicadores FR'!AQ7,\">=0\"),\"-\")","v":"-"},{"$f":"+IFERROR(AVERAGEIFS('Resumen de indicadores FR'!AR7,'Resumen de indicadores FR'!AR7,\">=0\"),\"-\")","v":"-"},{"$f":"+IFERROR(AVERAGEIFS('Resumen de indicadores FR'!AS7,'Resumen de indicadores FR'!AS7,\">=0\"),\"-\")","v":"-"},{"$f":"+IFERROR(AVERAGEIFS('Resumen de indicadores FR'!AT7,'Resumen de indicadores FR'!AT7,\">=0\"),\"-\")","v":"-"},{"$f":"+IFERROR(AVERAGEIFS('Resumen de indicadores FR'!AU7,'Resumen de indicadores FR'!AU7,\">=0\"),\"-\")","v":"-"},{"$f":"+IFERROR(AVERAGEIFS('Resumen de indicadores FR'!AV7,'Resumen de indicadores FR'!AV7,\">=0\"),\"-\")","v":"-"},{"$f":"+IFERROR(AVERAGEIFS('Resumen de indicadores FR'!AW7,'Resumen de indicadores FR'!AW7,\">=0\"),\"-\")","v":"-"},{"$f":"+IFERROR(AVERAGEIFS('Resumen de indicadores FR'!AX7,'Resumen de indicadores FR'!AX7,\">=0\"),\"-\")","v":"-"},{"$f":"+IFERROR(AVERAGEIFS('Resumen de indicadores FR'!AY7,'Resumen de indicadores FR'!AY7,\">=0\"),\"-\")","v":"-"},{"$f":"+IFERROR(AVERAGEIFS('Resumen de indicadores FR'!AZ7,'Resumen de indicadores FR'!AZ7,\">=0\"),\"-\")","v":"-"},{"$f":"+IFERROR(AVERAGEIFS('Resumen de indicadores FR'!BA7,'Resumen de indicadores FR'!BA7,\">=0\"),\"-\")","v":"-"},{"$f":"+IFERROR(AVERAGEIFS('Resumen de indicadores FR'!BB7,'Resumen de indicadores FR'!BB7,\">=0\"),\"-\")","v":"-"},{"$f":"+IFERROR(AVERAGEIFS('Resumen de indicadores FR'!BC7,'Resumen de indicadores FR'!BC7,\">=0\"),\"-\")","v":"-"},{"$f":"+IFERROR(AVERAGEIFS('Resumen de indicadores FR'!BD7,'Resumen de indicadores FR'!BD7,\">=0\"),\"-\")","v":"-"},{"$f":"+IFERROR(AVERAGEIFS('Resumen de indicadores FR'!BE7,'Resumen de indicadores FR'!BE7,\">=0\"),\"-\")","v":"-"}]
[null,"FR","Trabajo Infantil","-",null,{"$f":"+IFERROR(AVERAGEIFS('Resumen de indicadores FR'!H8,'Resumen de indicadores FR'!H8,\">=0\"),\"-\")","v":"-"},{"$f":"+IFERROR(AVERAGEIFS('Resumen de indicadores FR'!I8,'Resumen de indicadores FR'!I8,\">=0\"),\"-\")","v":"-"},{"$f":"+IFERROR(AVERAGEIFS('Resumen de indicadores FR'!J8,'Resumen de indicadores FR'!J8,\">=0\"),\"-\")","v":"-"},{"$f":"+IFERROR(AVERAGEIFS('Resumen de indicadores FR'!K8,'Resumen de indicadores FR'!K8,\">=0\"),\"-\")","v":"-"},{"$f":"+IFERROR(AVERAGEIFS('Resumen de indicadores FR'!L8,'Resumen de indicadores FR'!L8,\">=0\"),\"-\")","v":"-"},{"$f":"+IFERROR(AVERAGEIFS('Resumen de indicadores FR'!M8,'Resumen de indicadores FR'!M8,\">=0\"),\"-\")","v":"-"},{"$f":"+IFERROR(AVERAGEIFS('Resumen de indicadores FR'!N8,'Resumen de indicadores FR'!N8,\">=0\"),\"-\")","v":"-"},{"$f":"+IFERROR(AVERAGEIFS('Resumen de indicadores FR'!O8,'Resumen de indicadores FR'!O8,\">=0\"),\"-\")","v":"-"},{"$f":"+IFERROR(AVERAGEIFS('Resumen de indicadores FR'!P8,'Resumen de indicadores FR'!P8,\">=0\"),\"-\")","v":"-"},{"$f":"+IFERROR(AVERAGEIFS('Resumen de indicadores FR'!Q8,'Resumen de indicadores FR'!Q8,\">=0\"),\"-\")","v":"-"},{"$f":"+IFERROR(AVERAGEIFS('Resumen de indicadores FR'!R8,'Resumen de indicadores FR'!R8,\">=0\"),\"-\")","v":"-"},{"$f":"+IFERROR(AVERAGEIFS('Resumen de indicadores FR'!S8,'Resumen de indicadores FR'!S8,\">=0\"),\"-\")","v":"-"},{"$f":"+IFERROR(AVERAGEIFS('Resumen de indicadores FR'!T8,'Resumen de indicadores FR'!T8,\">=0\"),\"-\")","v":"-"},{"$f":"+IFERROR(AVERAGEIFS('Resumen de indicadores FR'!U8,'Resumen de indicadores FR'!U8,\">=0\"),\"-\")","v":"-"},{"$f":"+IFERROR(AVERAGEIFS('Resumen de indicadores FR'!V8,'Resumen de indicadores FR'!V8,\">=0\"),\"-\")","v":"-"},{"$f":"+IFERROR(AVERAGEIFS('Resumen de indicadores FR'!W8,'Resumen de indicadores FR'!W8,\">=0\"),\"-\")","v":"-"},{"$f":"+IFERROR(AVERAGEIFS('Resumen de indicadores FR'!X8,'Resumen de indicadores FR'!X8,\">=0\"),\"-\")","v":"-"},{"$f":"+IFERROR(AVERAGEIFS('Resumen de indicadores FR'!Y8,'Resumen de indicadores FR'!Y8,\">=0\"),\"-\")","v":"-"},{"$f":"+IFERROR(AVERAGEIFS('Resumen de indicadores FR'!Z8,'Resumen de indicadores FR'!Z8,\">=0\"),\"-\")","v":"-"},{"$f":"+IFERROR(AVERAGEIFS('Resumen de indicadores FR'!AA8,'Resumen de indicadores FR'!AA8,\">=0\"),\"-\")","v":"-"},{"$f":"+IFERROR(AVERAGEIFS('Resumen de indicadores FR'!AB8,'Resumen de indicadores FR'!AB8,\">=0\"),\"-\")","v":"-"},{"$f":"+IFERROR(AVERAGEIFS('Resumen de indicadores FR'!AC8,'Resumen de indicadores FR'!AC8,\">=0\"),\"-\")","v":"-"},{"$f":"+IFERROR(AVERAGEIFS('Resumen de indicadores FR'!AD8,'Resumen de indicadores FR'!AD8,\">=0\"),\"-\")","v":"-"},{"$f":"+IFERROR(AVERAGEIFS('Resumen de indicadores FR'!AE8,'Resumen de indicadores FR'!AE8,\">=0\"),\"-\")","v":"-"},{"$f":"+IFERROR(AVERAGEIFS('Resumen de indicadores FR'!AF8,'Resumen de indicadores FR'!AF8,\">=0\"),\"-\")","v":"-"},{"$f":"+IFERROR(AVERAGEIFS('Resumen de indicadores FR'!AG8,'Resumen de indicadores FR'!AG8,\">=0\"),\"-\")","v":"-"},{"$f":"+IFERROR(AVERAGEIFS('Resumen de indicadores FR'!AH8,'Resumen de indicadores FR'!AH8,\">=0\"),\"-\")","v":"-"},{"$f":"+IFERROR(AVERAGEIFS('Resumen de indicadores FR'!AI8,'Resumen de indicadores FR'!AI8,\">=0\"),\"-\")","v":"-"},{"$f":"+IFERROR(AVERAGEIFS('Resumen de indicadores FR'!AJ8,'Resumen de indicadores FR'!AJ8,\">=0\"),\"-\")","v":"-"},{"$f":"+IFERROR(AVERAGEIFS('Resumen de indicadores FR'!AK8,'Resumen de indicadores FR'!AK8,\">=0\"),\"-\")","v":"-"},{"$f":"+IFERROR(AVERAGEIFS('Resumen de indicadores FR'!AL8,'Resumen de indicadores FR'!AL8,\">=0\"),\"-\")","v":"-"},{"$f":"+IFERROR(AVERAGEIFS('Resumen de indicadores FR'!AM8,'Resumen de indicadores FR'!AM8,\">=0\"),\"-\")","v":"-"},{"$f":"+IFERROR(AVERAGEIFS('Resumen de indicadores FR'!AN8,'Resumen de indicadores FR'!AN8,\">=0\"),\"-\")","v":"-"},{"$f":"+IFERROR(AVERAGEIFS('Resumen de indicadores FR'!AO8,'Resumen de indicadores FR'!AO8,\">=0\"),\"-\")","v":"-"},{"$f":"+IFERROR(AVERAGEIFS('Resumen de indicadores FR'!AP8,'Resumen de indicadores FR'!AP8,\">=0\"),\"-\")","v":"-"},{"$f":"+IFERROR(AVERAGEIFS('Resumen de indicadores FR'!AQ8,'Resumen de indicadores FR'!AQ8,\">=0\"),\"-\")","v":"-"},{"$f":"+IFERROR(AVERAGEIFS('Resumen de indicadores FR'!AR8,'Resumen de indicadores FR'!AR8,\">=0\"),\"-\")","v":"-"},{"$f":"+IFERROR(AVERAGEIFS('Resumen de indicadores FR'!AS8,'Resumen de indicadores FR'!AS8,\">=0\"),\"-\")","v":"-"},{"$f":"+IFERROR(AVERAGEIFS('Resumen de indicadores FR'!AT8,'Resumen de indicadores FR'!AT8,\">=0\"),\"-\")","v":"-"},{"$f":"+IFERROR(AVERAGEIFS('Resumen de indicadores FR'!AU8,'Resumen de indicadores FR'!AU8,\">=0\"),\"-\")","v":"-"},{"$f":"+IFERROR(AVERAGEIFS('Resumen de indicadores FR'!AV8,'Resumen de indicadores FR'!AV8,\">=0\"),\"-\")","v":"-"},{"$f":"+IFERROR(AVERAGEIFS('Resumen de indicadores FR'!AW8,'Resumen de indicadores FR'!AW8,\">=0\"),\"-\")","v":"-"},{"$f":"+IFERROR(AVERAGEIFS('Resumen de indicadores FR'!AX8,'Resumen de indicadores FR'!AX8,\">=0\"),\"-\")","v":"-"},{"$f":"+IFERROR(AVERAGEIFS('Resumen de indicadores FR'!AY8,'Resumen de indicadores FR'!AY8,\">=0\"),\"-\")","v":"-"},{"$f":"+IFERROR(AVERAGEIFS('Resumen de indicadores FR'!AZ8,'Resumen de indicadores FR'!AZ8,\">=0\"),\"-\")","v":"-"},{"$f":"+IFERROR(AVERAGEIFS('Resumen de indicadores FR'!BA8,'Resumen de indicadores FR'!BA8,\">=0\"),\"-\")","v":"-"},{"$f":"+IFERROR(AVERAGEIFS('Resumen de indicadores FR'!BB8,'Resumen de indicadores FR'!BB8,\">=0\"),\"-\")","v":"-"},{"$f":"+IFERROR(AVERAGEIFS('Resumen de indicadores FR'!BC8,'Resumen de indicadores FR'!BC8,\">=0\"),\"-\")","v":"-"},{"$f":"+IFERROR(AVERAGEIFS('Resumen de indicadores FR'!BD8,'Resumen de indicadores FR'!BD8,\">=0\"),\"-\")","v":"-"},{"$f":"+IFERROR(AVERAGEIFS('Resumen de indicadores FR'!BE8,'Resumen de indicadores FR'!BE8,\">=0\"),\"-\")","v":"-"}]
[null,"FR","Ausentismo Escolar","-",null,{"$f":"+IFERROR(AVERAGEIFS('Resumen de indicadores FR'!H9,'Resumen de indicadores FR'!H9,\">=0\"),\"-\")","v":"-"},{"$f":"+IFERROR(AVERAGEIFS('Resumen de indicadores FR'!I9,'Resumen de indicadores FR'!I9,\">=0\"),\"-\")","v":"-"},{"$f":"+IFERROR(AVERAGEIFS('Resumen de indicadores FR'!J9,'Resumen de indicadores FR'!J9,\">=0\"),\"-\")","v":"-"},{"$f":"+IFERROR(AVERAGEIFS('Resumen de indicadores FR'!K9,'Resumen de indicadores FR'!K9,\">=0\"),\"-\")","v":"-"},{"$f":"+IFERROR(AVERAGEIFS('Resumen de indicadores FR'!L9,'Resumen de indicadores FR'!L9,\">=0\"),\"-\")","v":"-"},{"$f":"+IFERROR(AVERAGEIFS('Resumen de indicadores FR'!M9,'Resumen de indicadores FR'!M9,\">=0\"),\"-\")","v":"-"},{"$f":"+IFERROR(AVERAGEIFS('Resumen de indicadores FR'!N9,'Resumen de indicadores FR'!N9,\">=0\"),\"-\")","v":"-"},{"$f":"+IFERROR(AVERAGEIFS('Resumen de indicadores FR'!O9,'Resumen de indicadores FR'!O9,\">=0\"),\"-\")","v":"-"},{"$f":"+IFERROR(AVERAGEIFS('Resumen de indicadores FR'!P9,'Resumen de indicadores FR'!P9,\">=0\"),\"-\")","v":"-"},{"$f":"+IFERROR(AVERAGEIFS('Resumen de indicadores FR'!Q9,'Resumen de indicadores FR'!Q9,\">=0\"),\"-\")","v":"-"},{"$f":"+IFERROR(AVERAGEIFS('Resumen de indicadores FR'!R9,'Resumen de indicadores FR'!R9,\">=0\"),\"-\")","v":"-"},{"$f":"+IFERROR(AVERAGEIFS('Resumen de indicadores FR'!S9,'Resumen de indicadores FR'!S9,\">=0\"),\"-\")","v":"-"},{"$f":"+IFERROR(AVERAGEIFS('Resumen de indicadores FR'!T9,'Resumen de indicadores FR'!T9,\">=0\"),\"-\")","v":"-"},{"$f":"+IFERROR(AVERAGEIFS('Resumen de indicadores FR'!U9,'Resumen de indicadores FR'!U9,\">=0\"),\"-\")","v":"-"},{"$f":"+IFERROR(AVERAGEIFS('Resumen de indicadores FR'!V9,'Resumen de indicadores FR'!V9,\">=0\"),\"-\")","v":"-"},{"$f":"+IFERROR(AVERAGEIFS('Resumen de indicadores FR'!W9,'Resumen de indicadores FR'!W9,\">=0\"),\"-\")","v":"-"},{"$f":"+IFERROR(AVERAGEIFS('Resumen de indicadores FR'!X9,'Resumen de indicadores FR'!X9,\">=0\"),\"-\")","v":"-"},{"$f":"+IFERROR(AVERAGEIFS('Resumen de indicadores FR'!Y9,'Resumen de indicadores FR'!Y9,\">=0\"),\"-\")","v":"-"},{"$f":"+IFERROR(AVERAGEIFS('Resumen de indicadores FR'!Z9,'Resumen de indicadores FR'!Z9,\">=0\"),\"-\")","v":"-"},{"$f":"+IFERROR(AVERAGEIFS('Resumen de indicadores FR'!AA9,'Resumen de indicadores FR'!AA9,\">=0\"),\"-\")","v":"-"},{"$f":"+IFERROR(AVERAGEIFS('Resumen de indicadores FR'!AB9,'Resumen de indicadores FR'!AB9,\">=0\"),\"-\")","v":"-"},{"$f":"+IFERROR(AVERAGEIFS('Resumen de indicadores FR'!AC9,'Resumen de indicadores FR'!AC9,\">=0\"),\"-\")","v":"-"},{"$f":"+IFERROR(AVERAGEIFS('Resumen de indicadores FR'!AD9,'Resumen de indicadores FR'!AD9,\">=0\"),\"-\")","v":"-"},{"$f":"+IFERROR(AVERAGEIFS('Resumen de indicadores FR'!AE9,'Resumen de indicadores FR'!AE9,\">=0\"),\"-\")","v":"-"},{"$f":"+IFERROR(AVERAGEIFS('Resumen de indicadores FR'!AF9,'Resumen de indicadores FR'!AF9,\">=0\"),\"-\")","v":"-"},{"$f":"+IFERROR(AVERAGEIFS('Resumen de indicadores FR'!AG9,'Resumen de indicadores FR'!AG9,\">=0\"),\"-\")","v":"-"},{"$f":"+IFERROR(AVERAGEIFS('Resumen de indicadores FR'!AH9,'Resumen de indicadores FR'!AH9,\">=0\"),\"-\")","v":"-"},{"$f":"+IFERROR(AVERAGEIFS('Resumen de indicadores FR'!AI9,'Resumen de indicadores FR'!AI9,\">=0\"),\"-\")","v":"-"},{"$f":"+IFERROR(AVERAGEIFS('Resumen de indicadores FR'!AJ9,'Resumen de indicadores FR'!AJ9,\">=0\"),\"-\")","v":"-"},{"$f":"+IFERROR(AVERAGEIFS('Resumen de indicadores FR'!AK9,'Resumen de indicadores FR'!AK9,\">=0\"),\"-\")","v":"-"},{"$f":"+IFERROR(AVERAGEIFS('Resumen de indicadores FR'!AL9,'Resumen de indicadores FR'!AL9,\">=0\"),\"-\")","v":"-"},{"$f":"+IFERROR(AVERAGEIFS('Resumen de indicadores FR'!AM9,'Resumen de indicadores FR'!AM9,\">=0\"),\"-\")","v":"-"},{"$f":"+IFERROR(AVERAGEIFS('Resumen de indicadores FR'!AN9,'Resumen de indicadores FR'!AN9,\">=0\"),\"-\")","v":"-"},{"$f":"+IFERROR(AVERAGEIFS('Resumen de indicadores FR'!AO9,'Resumen de indicadores FR'!AO9,\">=0\"),\"-\")","v":"-"},{"$f":"+IFERROR(AVERAGEIFS('Resumen de indicadores FR'!AP9,'Resumen de indicadores FR'!AP9,\">=0\"),\"-\")","v":"-"},{"$f":"+IFERROR(AVERAGEIFS('Resumen de indicadores FR'!AQ9,'Resumen de indicadores FR'!AQ9,\">=0\"),\"-\")","v":"-"},{"$f":"+IFERROR(AVERAGEIFS('Resumen de indicadores FR'!AR9,'Resumen de indicadores FR'!AR9,\">=0\"),\"-\")","v":"-"},{"$f":"+IFERROR(AVERAGEIFS('Resumen de indicadores FR'!AS9,'Resumen de indicadores FR'!AS9,\">=0\"),\"-\")","v":"-"},{"$f":"+IFERROR(AVERAGEIFS('Resumen de indicadores FR'!AT9,'Resumen de indicadores FR'!AT9,\">=0\"),\"-\")","v":"-"},{"$f":"+IFERROR(AVERAGEIFS('Resumen de indicadores FR'!AU9,'Resumen de indicadores FR'!AU9,\">=0\"),\"-\")","v":"-"},{"$f":"+IFERROR(AVERAGEIFS('Resumen de indicadores FR'!AV9,'Resumen de indicadores FR'!AV9,\">=0\"),\"-\")","v":"-"},{"$f":"+IFERROR(AVERAGEIFS('Resumen de indicadores FR'!AW9,'Resumen de indicadores FR'!AW9,\">=0\"),\"-\")","v":"-"},{"$f":"+IFERROR(AVERAGEIFS('Resumen de indicadores FR'!AX9,'Resumen de indicadores FR'!AX9,\">=0\"),\"-\")","v":"-"},{"$f":"+IFERROR(AVERAGEIFS('Resumen de indicadores FR'!AY9,'Resumen de indicadores FR'!AY9,\">=0\"),\"-\")","v":"-"},{"$f":"+IFERROR(AVERAGEIFS('Resumen de indicadores FR'!AZ9,'Resumen de indicadores FR'!AZ9,\">=0\"),\"-\")","v":"-"},{"$f":"+IFERROR(AVERAGEIFS('Resumen de indicadores FR'!BA9,'Resumen de indicadores FR'!BA9,\">=0\"),\"-\")","v":"-"},{"$f":"+IFERROR(AVERAGEIFS('Resumen de indicadores FR'!BB9,'Resumen de indicadores FR'!BB9,\">=0\"),\"-\")","v":"-"},{"$f":"+IFERROR(AVERAGEIFS('Resumen de indicadores FR'!BC9,'Resumen de indicadores FR'!BC9,\">=0\"),\"-\")","v":"-"},{"$f":"+IFERROR(AVERAGEIFS('Resumen de indicadores FR'!BD9,'Resumen de indicadores FR'!BD9,\">=0\"),\"-\")","v":"-"},{"$f":"+IFERROR(AVERAGEIFS('Resumen de indicadores FR'!BE9,'Resumen de indicadores FR'!BE9,\">=0\"),\"-\")","v":"-"}]
[null,"FR","Riesgo de desprotección familiar","-",null,{"$f":"+IFERROR(AVERAGEIFS('Resumen de indicadores FR'!H10:H11,'Resumen de indicadores FR'!H10:H11,\">=0\"),\"-\")","v":"-"},{"$f":"+IFERROR(AVERAGEIFS('Resumen de indicadores FR'!I10:I11,'Resumen de indicadores FR'!I10:I11,\">=0\"),\"-\")","v":"-"},{"$f":"+IFERROR(AVERAGEIFS('Resumen de indicadores FR'!J10:J11,'Resumen de indicadores FR'!J10:J11,\">=0\"),\"-\")","v":"-"},{"$f":"+IFERROR(AVERAGEIFS('Resumen de indicadores FR'!K10:K11,'Resumen de indicadores FR'!K10:K11,\">=0\"),\"-\")","v":"-"},{"$f":"+IFERROR(AVERAGEIFS('Resumen de indicadores FR'!L10:L11,'Resumen de indicadores FR'!L10:L11,\">=0\"),\"-\")","v":"-"},{"$f":"+IFERROR(AVERAGEIFS('Resumen de indicadores FR'!M10:M11,'Resumen de indicadores FR'!M10:M11,\">=0\"),\"-\")","v":"-"},{"$f":"+IFERROR(AVERAGEIFS('Resumen de indicadores FR'!N10:N11,'Resumen de indicadores FR'!N10:N11,\">=0\"),\"-\")","v":"-"},{"$f":"+IFERROR(AVERAGEIFS('Resumen de indicadores FR'!O10:O11,'Resumen de indicadores FR'!O10:O11,\">=0\"),\"-\")","v":"-"},{"$f":"+IFERROR(AVERAGEIFS('Resumen de indicadores FR'!P10:P11,'Resumen de indicadores FR'!P10:P11,\">=0\"),\"-\")","v":"-"},{"$f":"+IFERROR(AVERAGEIFS('Resumen de indicadores FR'!Q10:Q11,'Resumen de indicadores FR'!Q10:Q11,\">=0\"),\"-\")","v":"-"},{"$f":"+IFERROR(AVERAGEIFS('Resumen de indicadores FR'!R10:R11,'Resumen de indicadores FR'!R10:R11,\">=0\"),\"-\")","v":"-"},{"$f":"+IFERROR(AVERAGEIFS('Resumen de indicadores FR'!S10:S11,'Resumen de indicadores FR'!S10:S11,\">=0\"),\"-\")","v":"-"},{"$f":"+IFERROR(AVERAGEIFS('Resumen de indicadores FR'!T10:T11,'Resumen de indicadores FR'!T10:T11,\">=0\"),\"-\")","v":"-"},{"$f":"+IFERROR(AVERAGEIFS('Resumen de indicadores FR'!U10:U11,'Resumen de indicadores FR'!U10:U11,\">=0\"),\"-\")","v":"-"},{"$f":"+IFERROR(AVERAGEIFS('Resumen de indicadores FR'!V10:V11,'Resumen de indicadores FR'!V10:V11,\">=0\"),\"-\")","v":"-"},{"$f":"+IFERROR(AVERAGEIFS('Resumen de indicadores FR'!W10:W11,'Resumen de indicadores FR'!W10:W11,\">=0\"),\"-\")","v":"-"},{"$f":"+IFERROR(AVERAGEIFS('Resumen de indicadores FR'!X10:X11,'Resumen de indicadores FR'!X10:X11,\">=0\"),\"-\")","v":"-"},{"$f":"+IFERROR(AVERAGEIFS('Resumen de indicadores FR'!Y10:Y11,'Resumen de indicadores FR'!Y10:Y11,\">=0\"),\"-\")","v":"-"},{"$f":"+IFERROR(AVERAGEIFS('Resumen de indicadores FR'!Z10:Z11,'Resumen de indicadores FR'!Z10:Z11,\">=0\"),\"-\")","v":"-"},{"$f":"+IFERROR(AVERAGEIFS('Resumen de indicadores FR'!AA10:AA11,'Resumen de indicadores FR'!AA10:AA11,\">=0\"),\"-\")","v":"-"},{"$f":"+IFERROR(AVERAGEIFS('Resumen de indicadores FR'!AB10:AB11,'Resumen de indicadores FR'!AB10:AB11,\">=0\"),\"-\")","v":"-"},{"$f":"+IFERROR(AVERAGEIFS('Resumen de indicadores FR'!AC10:AC11,'Resumen de indicadores FR'!AC10:AC11,\">=0\"),\"-\")","v":"-"},{"$f":"+IFERROR(AVERAGEIFS('Resumen de indicadores FR'!AD10:AD11,'Resumen de indicadores FR'!AD10:AD11,\">=0\"),\"-\")","v":"-"},{"$f":"+IFERROR(AVERAGEIFS('Resumen de indicadores FR'!AE10:AE11,'Resumen de indicadores FR'!AE10:AE11,\">=0\"),\"-\")","v":"-"},{"$f":"+IFERROR(AVERAGEIFS('Resumen de indicadores FR'!AF10:AF11,'Resumen de indicadores FR'!AF10:AF11,\">=0\"),\"-\")","v":"-"},{"$f":"+IFERROR(AVERAGEIFS('Resumen de indicadores FR'!AG10:AG11,'Resumen de indicadores FR'!AG10:AG11,\">=0\"),\"-\")","v":"-"},{"$f":"+IFERROR(AVERAGEIFS('Resumen de indicadores FR'!AH10:AH11,'Resumen de indicadores FR'!AH10:AH11,\">=0\"),\"-\")","v":"-"},{"$f":"+IFERROR(AVERAGEIFS('Resumen de indicadores FR'!AI10:AI11,'Resumen de indicadores FR'!AI10:AI11,\">=0\"),\"-\")","v":"-"},{"$f":"+IFERROR(AVERAGEIFS('Resumen de indicadores FR'!AJ10:AJ11,'Resumen de indicadores FR'!AJ10:AJ11,\">=0\"),\"-\")","v":"-"},{"$f":"+IFERROR(AVERAGEIFS('Resumen de indicadores FR'!AK10:AK11,'Resumen de indicadores FR'!AK10:AK11,\">=0\"),\"-\")","v":"-"},{"$f":"+IFERROR(AVERAGEIFS('Resumen de indicadores FR'!AL10:AL11,'Resumen de indicadores FR'!AL10:AL11,\">=0\"),\"-\")","v":"-"},{"$f":"+IFERROR(AVERAGEIFS('Resumen de indicadores FR'!AM10:AM11,'Resumen de indicadores FR'!AM10:AM11,\">=0\"),\"-\")","v":"-"},{"$f":"+IFERROR(AVERAGEIFS('Resumen de indicadores FR'!AN10:AN11,'Resumen de indicadores FR'!AN10:AN11,\">=0\"),\"-\")","v":"-"},{"$f":"+IFERROR(AVERAGEIFS('Resumen de indicadores FR'!AO10:AO11,'Resumen de indicadores FR'!AO10:AO11,\">=0\"),\"-\")","v":"-"},{"$f":"+IFERROR(AVERAGEIFS('Resumen de indicadores FR'!AP10:AP11,'Resumen de indicadores FR'!AP10:AP11,\">=0\"),\"-\")","v":"-"},{"$f":"+IFERROR(AVERAGEIFS('Resumen de indicadores FR'!AQ10:AQ11,'Resumen de indicadores FR'!AQ10:AQ11,\">=0\"),\"-\")","v":"-"},{"$f":"+IFERROR(AVERAGEIFS('Resumen de indicadores FR'!AR10:AR11,'Resumen de indicadores FR'!AR10:AR11,\">=0\"),\"-\")","v":"-"},{"$f":"+IFERROR(AVERAGEIFS('Resumen de indicadores FR'!AS10:AS11,'Resumen de indicadores FR'!AS10:AS11,\">=0\"),\"-\")","v":"-"},{"$f":"+IFERROR(AVERAGEIFS('Resumen de indicadores FR'!AT10:AT11,'Resumen de indicadores FR'!AT10:AT11,\">=0\"),\"-\")","v":"-"},{"$f":"+IFERROR(AVERAGEIFS('Resumen de indicadores FR'!AU10:AU11,'Resumen de indicadores FR'!AU10:AU11,\">=0\"),\"-\")","v":"-"},{"$f":"+IFERROR(AVERAGEIFS('Resumen de indicadores FR'!AV10:AV11,'Resumen de indicadores FR'!AV10:AV11,\">=0\"),\"-\")","v":"-"},{"$f":"+IFERROR(AVERAGEIFS('Resumen de indicadores FR'!AW10:AW11,'Resumen de indicadores FR'!AW10:AW11,\">=0\"),\"-\")","v":"-"},{"$f":"+IFERROR(AVERAGEIFS('Resumen de indicadores FR'!AX10:AX11,'Resumen de indicadores FR'!AX10:AX11,\">=0\"),\"-\")","v":"-"},{"$f":"+IFERROR(AVERAGEIFS('Resumen de indicadores FR'!AY10:AY11,'Resumen de indicadores FR'!AY10:AY11,\">=0\"),\"-\")","v":"-"},{"$f":"+IFERROR(AVERAGEIFS('Resumen de indicadores FR'!AZ10:AZ11,'Resumen de indicadores FR'!AZ10:AZ11,\">=0\"),\"-\")","v":"-"},{"$f":"+IFERROR(AVERAGEIFS('Resumen de indicadores FR'!BA10:BA11,'Resumen de indicadores FR'!BA10:BA11,\">=0\"),\"-\")","v":"-"},{"$f":"+IFERROR(AVERAGEIFS('Resumen de indicadores FR'!BB10:BB11,'Resumen de indicadores FR'!BB10:BB11,\">=0\"),\"-\")","v":"-"},{"$f":"+IFERROR(AVERAGEIFS('Resumen de indicadores FR'!BC10:BC11,'Resumen de indicadores FR'!BC10:BC11,\">=0\"),\"-\")","v":"-"},{"$f":"+IFERROR(AVERAGEIFS('Resumen de indicadores FR'!BD10:BD11,'Resumen de indicadores FR'!BD10:BD11,\">=0\"),\"-\")","v":"-"},{"$f":"+IFERROR(AVERAGEIFS('Resumen de indicadores FR'!BE10:BE11,'Resumen de indicadores FR'!BE10:BE11,\">=0\"),\"-\")","v":"-"}]
[null,"FR","Violencia escolar","-",null,{"$f":"+IFERROR(AVERAGEIFS('Resumen de indicadores FR'!H12:H14,'Resumen de indicadores FR'!H12:H14,\">=0\"),\"-\")","v":"-"},{"$f":"+IFERROR(AVERAGEIFS('Resumen de indicadores FR'!I12:I14,'Resumen de indicadores FR'!I12:I14,\">=0\"),\"-\")","v":"-"},{"$f":"+IFERROR(AVERAGEIFS('Resumen de indicadores FR'!J12:J14,'Resumen de indicadores FR'!J12:J14,\">=0\"),\"-\")","v":"-"},{"$f":"+IFERROR(AVERAGEIFS('Resumen de indicadores FR'!K12:K14,'Resumen de indicadores FR'!K12:K14,\">=0\"),\"-\")","v":"-"},{"$f":"+IFERROR(AVERAGEIFS('Resumen de indicadores FR'!L12:L14,'Resumen de indicadores FR'!L12:L14,\">=0\"),\"-\")","v":"-"},{"$f":"+IFERROR(AVERAGEIFS('Resumen de indicadores FR'!M12:M14,'Resumen de indicadores FR'!M12:M14,\">=0\"),\"-\")","v":"-"},{"$f":"+IFERROR(AVERAGEIFS('Resumen de indicadores FR'!N12:N14,'Resumen de indicadores FR'!N12:N14,\">=0\"),\"-\")","v":"-"},{"$f":"+IFERROR(AVERAGEIFS('Resumen de indicadores FR'!O12:O14,'Resumen de indicadores FR'!O12:O14,\">=0\"),\"-\")","v":"-"},{"$f":"+IFERROR(AVERAGEIFS('Resumen de indicadores FR'!P12:P14,'Resumen de indicadores FR'!P12:P14,\">=0\"),\"-\")","v":"-"},{"$f":"+IFERROR(AVERAGEIFS('Resumen de indicadores FR'!Q12:Q14,'Resumen de indicadores FR'!Q12:Q14,\">=0\"),\"-\")","v":"-"},{"$f":"+IFERROR(AVERAGEIFS('Resumen de indicadores FR'!R12:R14,'Resumen de indicadores FR'!R12:R14,\">=0\"),\"-\")","v":"-"},{"$f":"+IFERROR(AVERAGEIFS('Resumen de indicadores FR'!S12:S14,'Resumen de indicadores FR'!S12:S14,\">=0\"),\"-\")","v":"-"},{"$f":"+IFERROR(AVERAGEIFS('Resumen de indicadores FR'!T12:T14,'Resumen de indicadores FR'!T12:T14,\">=0\"),\"-\")","v":"-"},{"$f":"+IFERROR(AVERAGEIFS('Resumen de indicadores FR'!U12:U14,'Resumen de indicadores FR'!U12:U14,\">=0\"),\"-\")","v":"-"},{"$f":"+IFERROR(AVERAGEIFS('Resumen de indicadores FR'!V12:V14,'Resumen de indicadores FR'!V12:V14,\">=0\"),\"-\")","v":"-"},{"$f":"+IFERROR(AVERAGEIFS('Resumen de indicadores FR'!W12:W14,'Resumen de indicadores FR'!W12:W14,\">=0\"),\"-\")","v":"-"},{"$f":"+IFERROR(AVERAGEIFS('Resumen de indicadores FR'!X12:X14,'Resumen de indicadores FR'!X12:X14,\">=0\"),\"-\")","v":"-"},{"$f":"+IFERROR(AVERAGEIFS('Resumen de indicadores FR'!Y12:Y14,'Resumen de indicadores FR'!Y12:Y14,\">=0\"),\"-\")","v":"-"},{"$f":"+IFERROR(AVERAGEIFS('Resumen de indicadores FR'!Z12:Z14,'Resumen de indicadores FR'!Z12:Z14,\">=0\"),\"-\")","v":"-"},{"$f":"+IFERROR(AVERAGEIFS('Resumen de indicadores FR'!AA12:AA14,'Resumen de indicadores FR'!AA12:AA14,\">=0\"),\"-\")","v":"-"},{"$f":"+IFERROR(AVERAGEIFS('Resumen de indicadores FR'!AB12:AB14,'Resumen de indicadores FR'!AB12:AB14,\">=0\"),\"-\")","v":"-"},{"$f":"+IFERROR(AVERAGEIFS('Resumen de indicadores FR'!AC12:AC14,'Resumen de indicadores FR'!AC12:AC14,\">=0\"),\"-\")","v":"-"},{"$f":"+IFERROR(AVERAGEIFS('Resumen de indicadores FR'!AD12:AD14,'Resumen de indicadores FR'!AD12:AD14,\">=0\"),\"-\")","v":"-"},{"$f":"+IFERROR(AVERAGEIFS('Resumen de indicadores FR'!AE12:AE14,'Resumen de indicadores FR'!AE12:AE14,\">=0\"),\"-\")","v":"-"},{"$f":"+IFERROR(AVERAGEIFS('Resumen de indicadores FR'!AF12:AF14,'Resumen de indicadores FR'!AF12:AF14,\">=0\"),\"-\")","v":"-"},{"$f":"+IFERROR(AVERAGEIFS('Resumen de indicadores FR'!AG12:AG14,'Resumen de indicadores FR'!AG12:AG14,\">=0\"),\"-\")","v":"-"},{"$f":"+IFERROR(AVERAGEIFS('Resumen de indicadores FR'!AH12:AH14,'Resumen de indicadores FR'!AH12:AH14,\">=0\"),\"-\")","v":"-"},{"$f":"+IFERROR(AVERAGEIFS('Resumen de indicadores FR'!AI12:AI14,'Resumen de indicadores FR'!AI12:AI14,\">=0\"),\"-\")","v":"-"},{"$f":"+IFERROR(AVERAGEIFS('Resumen de indicadores FR'!AJ12:AJ14,'Resumen de indicadores FR'!AJ12:AJ14,\">=0\"),\"-\")","v":"-"},{"$f":"+IFERROR(AVERAGEIFS('Resumen de indicadores FR'!AK12:AK14,'Resumen de indicadores FR'!AK12:AK14,\">=0\"),\"-\")","v":"-"},{"$f":"+IFERROR(AVERAGEIFS('Resumen de indicadores FR'!AL12:AL14,'Resumen de indicadores FR'!AL12:AL14,\">=0\"),\"-\")","v":"-"},{"$f":"+IFERROR(AVERAGEIFS('Resumen de indicadores FR'!AM12:AM14,'Resumen de indicadores FR'!AM12:AM14,\">=0\"),\"-\")","v":"-"},{"$f":"+IFERROR(AVERAGEIFS('Resumen de indicadores FR'!AN12:AN14,'Resumen de indicadores FR'!AN12:AN14,\">=0\"),\"-\")","v":"-"},{"$f":"+IFERROR(AVERAGEIFS('Resumen de indicadores FR'!AO12:AO14,'Resumen de indicadores FR'!AO12:AO14,\">=0\"),\"-\")","v":"-"},{"$f":"+IFERROR(AVERAGEIFS('Resumen de indicadores FR'!AP12:AP14,'Resumen de indicadores FR'!AP12:AP14,\">=0\"),\"-\")","v":"-"},{"$f":"+IFERROR(AVERAGEIFS('Resumen de indicadores FR'!AQ12:AQ14,'Resumen de indicadores FR'!AQ12:AQ14,\">=0\"),\"-\")","v":"-"},{"$f":"+IFERROR(AVERAGEIFS('Resumen de indicadores FR'!AR12:AR14,'Resumen de indicadores FR'!AR12:AR14,\">=0\"),\"-\")","v":"-"},{"$f":"+IFERROR(AVERAGEIFS('Resumen de indicadores FR'!AS12:AS14,'Resumen de indicadores FR'!AS12:AS14,\">=0\"),\"-\")","v":"-"},{"$f":"+IFERROR(AVERAGEIFS('Resumen de indicadores FR'!AT12:AT14,'Resumen de indicadores FR'!AT12:AT14,\">=0\"),\"-\")","v":"-"},{"$f":"+IFERROR(AVERAGEIFS('Resumen de indicadores FR'!AU12:AU14,'Resumen de indicadores FR'!AU12:AU14,\">=0\"),\"-\")","v":"-"},{"$f":"+IFERROR(AVERAGEIFS('Resumen de indicadores FR'!AV12:AV14,'Resumen de indicadores FR'!AV12:AV14,\">=0\"),\"-\")","v":"-"},{"$f":"+IFERROR(AVERAGEIFS('Resumen de indicadores FR'!AW12:AW14,'Resumen de indicadores FR'!AW12:AW14,\">=0\"),\"-\")","v":"-"},{"$f":"+IFERROR(AVERAGEIFS('Resumen de indicadores FR'!AX12:AX14,'Resumen de indicadores FR'!AX12:AX14,\">=0\"),\"-\")","v":"-"},{"$f":"+IFERROR(AVERAGEIFS('Resumen de indicadores FR'!AY12:AY14,'Resumen de indicadores FR'!AY12:AY14,\">=0\"),\"-\")","v":"-"},{"$f":"+IFERROR(AVERAGEIFS('Resumen de indicadores FR'!AZ12:AZ14,'Resumen de indicadores FR'!AZ12:AZ14,\">=0\"),\"-\")","v":"-"},{"$f":"+IFERROR(AVERAGEIFS('Resumen de indicadores FR'!BA12:BA14,'Resumen de indicadores FR'!BA12:BA14,\">=0\"),\"-\")","v":"-"},{"$f":"+IFERROR(AVERAGEIFS('Resumen de indicadores FR'!BB12:BB14,'Resumen de indicadores FR'!BB12:BB14,\">=0\"),\"-\")","v":"-"},{"$f":"+IFERROR(AVERAGEIFS('Resumen de indicadores FR'!BC12:BC14,'Resumen de indicadores FR'!BC12:BC14,\">=0\"),\"-\")","v":"-"},{"$f":"+IFERROR(AVERAGEIFS('Resumen de indicadores FR'!BD12:BD14,'Resumen de indicadores FR'!BD12:BD14,\">=0\"),\"-\")","v":"-"},{"$f":"+IFERROR(AVERAGEIFS('Resumen de indicadores FR'!BE12:BE14,'Resumen de indicadores FR'!BE12:BE14,\">=0\"),\"-\")","v":"-"}]
[]
[null,null,null,"Indicadores",null,{"$f":"+F4","v":"Estudiante 1"},"Estudiante 2","Estudiante 3","Estudiante 4","Estudiante 5","Estudiante 6","Estudiante 7","Estudiante 8","Estudiante 9","Estudiante 10","Estudiante 11","Estudiante 12","Estudiante 13","Estudiante 14","Estudiante 15","Estudiante 16","Estudiante 17","Estudiante 18","Estudiante 19","Estudiante 20","Estudiante 21","Estudiante 22","Estudiante 23","Estudiante 24","Estudiante 25","Estudiante 26","Estudiante 27","Estudiante 28","Estudiante 29","Estudiante 30","Estudiante 31","Estudiante 32","Estudiante 33","Estudiante 34","Estudiante 35","Estudiante 36","Estudiante 37","Estudiante 38","Estudiante 39","Estudiante 40","Estudiante 41","Estudiante 42","Estudiante 43","Estudiante 44","Estudiante 45","Estudiante 46","Estudiante 47","Estudiante 48","Estudiante 49","Estudiante 50"]
[null,null,null,"Promedio Escala",null,{"$f":"IFERROR(AVERAGEIFS(F6:F11,F6:F11,\">=0\"),\"-\")","v":"-"},"-","-","-","-","-","-","-","-","-","-","-","-","-","-","-","-","-","-","-","-","-","-","-","-","-","-","-","-","-","-","-","-","-","-","-","-","-","-","-","-","-","-","-","-","-","-","-","-","-"]
[null,null,null,"Alto Riesgo",null,{"$f":"IF(ISNUMBER(F14),COUNTIFS(F6:F11,\">=0.75\",F6:F11,\"<1.01\"),0)","v":0},0,0,0,0,0,0,0,0,0,0,0,0,0,0,0,0,0,0,0,0,0,0,0,0,0,0,0,0,0,0,0,0,0,0,0,0,0,0,0,0,0,0,0,0,0,0,0,0,0]
[null,null,null,"Riesgo Moderado",null,{"$f":"IF(ISNUMBER(F14),COUNTIFS(F6:F11,\">=0.26\",F6:F11,\"<=0.74\"),0)","v":0},0,0,0,0,0,0,0,0,0,0,0,0,0,0,0,0,0,0,0,0,0,0,0,0,0,0,0,0,0,0,0,0,0,0,0,0,0,0,0,0,0,0,0,0,0,0,0,0,0]
[null,null,null,"Bajo Riesgo",null,{"$f":"IF(ISNUMBER(F14),COUNTIFS(F6:F11,\">=0\",F6:F11,\"<=0.25\"),0)","v":0},0,0,0,0,0,0,0,0,0,0,0,0,0,0,0,0,0,0,0,0,0,0,0,0,0,0,0,0,0,0,0,0,0,0,0,0,0,0,0,0,0,0,0,0,0,0,0,0,0]
[null,null,null,"TOTAL",null,{"$f":"+SUM(F15:F17)","v":0},0,0,0,0,0,0,0,0,0,0,0,0,0,0,0,0,0,0,0,0,0,0,0,0,0,0,0,0,0,0,0,0,0,0,0,0,0,0,0,0,0,0,0,0,0,0,0,0,0]

{"sheet":"Resumen de Resultados","index":8,"n_rows":54,"n_cols":12,"rows_kept":54,"cut":false,"hidden":false,"merged":[[1,1,1,5],[1,7,1,11]]}
[]
[null,"Escala HSE",null,null,null,null,null,"Escala FR"]
[null,"Resultado General del Aula",{"$f":"+IFERROR(AVERAGE(C5:C54),\"-\")","v":"-"},{"$f":"+IFERROR(AVERAGEIFS(D5:D54,C5:C54,\">=0\"),\"-\")","v":"-"},{"$f":"+IFERROR(AVERAGEIFS(E5:E54,C5:C54,\">=0\"),\"-\")","v":"-"},{"$f":"+IFERROR(AVERAGEIFS(F5:F54,C5:C54,\">=0\"),\"-\")","v":"-"},null,"Resultado General del Aula",{"$f":"+IFERROR(AVERAGE(I5:I54),\"-\")","v":"-"},{"$f":"+IFERROR(AVERAGEIFS(J5:J54,I5:I54,\">=0\"),\"-\")","v":"-"},{"$f":"+IFERROR(AVERAGEIFS(K5:K54,I5:I54,\">=0\"),\"-\")","v":"-"},{"$f":"+IFERROR(AVERAGEIFS(L5:L54,I5:I54,\">=0\"),\"-\")","v":"-"}]
[null,"Estudiantes","Promedio Puntaje","En inicio","En Proceso","Satisfactorio",null,"Estudiantes","Promedio Puntaje","Bajo Riesgo","Riesgo Moderado","Alto Riesgo"]
[null,{"$f":"+'Resumen de indicadores HSE'!H$4","v":"Estudiante 1"},{"$f":"+HLOOKUP(B5,'Resumen de Escala HSE'!$D$20:$BC$24,2,0)","v":"-"},{"$f":"+HLOOKUP(B5,'Resumen de Escala HSE'!$D$20:$BC$24,3,0)","v":0},{"$f":"+HLOOKUP(B5,'Resumen de Escala HSE'!$D$20:$BC$24,4,0)","v":0},{"$f":"+HLOOKUP(B5,'Resumen de Escala HSE'!$D$20:$BC$24,5,0)","v":0},null,{"$f":"+'Resumen de indicadores FR'!H$4","v":"Estudiante 1"},{"$f":"+HLOOKUP(H5,'Resumen de Escala FR'!$F$13:$BC$17,2,0)","v":"-"},{"$f":"+HLOOKUP(H5,'Resumen de Escala FR'!$F$13:$BC$17,5,0)","v":0},{"$f":"+HLOOKUP(H5,'Resumen de Escala FR'!$F$13:$BC$17,4,0)","v":0},{"$f":"+HLOOKUP(H5,'Resumen de Escala FR'!$F$13:$BC$17,3,0)","v":0}]
[null,{"$f":"+'Resumen de indicadores HSE'!I$4","v":"Estudiante 2"},{"$f":"+HLOOKUP(B6,'Resumen de Escala HSE'!$D$20:$BC$24,2,0)","v":"-"},{"$f":"+HLOOKUP(B6,'Resumen de Escala HSE'!$D$20:$BC$24,3,0)","v":0},{"$f":"+HLOOKUP(B6,'Resumen de Escala HSE'!$D$20:$BC$24,4,0)","v":0},{"$f":"+HLOOKUP(B6,'Resumen de Escala HSE'!$D$20:$BC$24,5,0)","v":0},null,{"$f":"+'Resumen de indicadores FR'!I$4","v":"Estudiante 2"},{"$f":"+HLOOKUP(H6,'Resumen de Escala FR'!$F$13:$BC$17,2,0)","v":"-"},{"$f":"+HLOOKUP(H6,'Resumen de Escala FR'!$F$13:$BC$17,5,0)","v":0},{"$f":"+HLOOKUP(H6,'Resumen de Escala FR'!$F$13:$BC$17,4,0)","v":0},{"$f":"+HLOOKUP(H6,'Resumen de Escala FR'!$F$13:$BC$17,3,0)","v":0}]
[null,{"$f":"+'Resumen de indicadores HSE'!J$4","v":"Estudiante 3"},{"$f":"+HLOOKUP(B7,'Resumen de Escala HSE'!$D$20:$BC$24,2,0)","v":"-"},{"$f":"+HLOOKUP(B7,'Resumen de Escala HSE'!$D$20:$BC$24,3,0)","v":0},{"$f":"+HLOOKUP(B7,'Resumen de Escala HSE'!$D$20:$BC$24,4,0)","v":0},{"$f":"+HLOOKUP(B7,'Resumen de Escala HSE'!$D$20:$BC$24,5,0)","v":0},null,{"$f":"+'Resumen de indicadores FR'!J$4","v":"Estudiante 3"},{"$f":"+HLOOKUP(H7,'Resumen de Escala FR'!$F$13:$BC$17,2,0)","v":"-"},{"$f":"+HLOOKUP(H7,'Resumen de Escala FR'!$F$13:$BC$17,5,0)","v":0},{"$f":"+HLOOKUP(H7,'Resumen de Escala FR'!$F$13:$BC$17,4,0)","v":0},{"$f":"+HLOOKUP(H7,'Resumen de Escala FR'!$F$13:$BC$17,3,0)","v":0}]
[null,{"$f":"+'Resumen de indicadores HSE'!K$4","v":"Estudiante 4"},{"$f":"+HLOOKUP(B8,'Resumen de Escala HSE'!$D$20:$BC$24,2,0)","v":"-"},{"$f":"+HLOOKUP(B8,'Resumen de Escala HSE'!$D$20:$BC$24,3,0)","v":0},{"$f":"+HLOOKUP(B8,'Resumen de Escala HSE'!$D$20:$BC$24,4,0)","v":0},{"$f":"+HLOOKUP(B8,'Resumen de Escala HSE'!$D$20:$BC$24,5,0)","v":0},null,{"$f":"+'Resumen de indicadores FR'!K$4","v":"Estudiante 4"},{"$f":"+HLOOKUP(H8,'Resumen de Escala FR'!$F$13:$BC$17,2,0)","v":"-"},{"$f":"+HLOOKUP(H8,'Resumen de Escala FR'!$F$13:$BC$17,5,0)","v":0},{"$f":"+HLOOKUP(H8,'Resumen de Escala FR'!$F$13:$BC$17,4,0)","v":0},{"$f":"+HLOOKUP(H8,'Resumen de Escala FR'!$F$13:$BC$17,3,0)","v":0}]
[null,{"$f":"+'Resumen de indicadores HSE'!L$4","v":"Estudiante 5"},{"$f":"+HLOOKUP(B9,'Resumen de Escala HSE'!$D$20:$BC$24,2,0)","v":"-"},{"$f":"+HLOOKUP(B9,'Resumen de Escala HSE'!$D$20:$BC$24,3,0)","v":0},{"$f":"+HLOOKUP(B9,'Resumen de Escala HSE'!$D$20:$BC$24,4,0)","v":0},{"$f":"+HLOOKUP(B9,'Resumen de Escala HSE'!$D$20:$BC$24,5,0)","v":0},null,{"$f":"+'Resumen de indicadores FR'!L$4","v":"Estudiante 5"},{"$f":"+HLOOKUP(H9,'Resumen de Escala FR'!$F$13:$BC$17,2,0)","v":"-"},{"$f":"+HLOOKUP(H9,'Resumen de Escala FR'!$F$13:$BC$17,5,0)","v":0},{"$f":"+HLOOKUP(H9,'Resumen de Escala FR'!$F$13:$BC$17,4,0)","v":0},{"$f":"+HLOOKUP(H9,'Resumen de Escala FR'!$F$13:$BC$17,3,0)","v":0}]
[null,{"$f":"+'Resumen de indicadores HSE'!M$4","v":"Estudiante 6"},{"$f":"+HLOOKUP(B10,'Resumen de Escala HSE'!$D$20:$BC$24,2,0)","v":"-"},{"$f":"+HLOOKUP(B10,'Resumen de Escala HSE'!$D$20:$BC$24,3,0)","v":0},{"$f":"+HLOOKUP(B10,'Resumen de Escala HSE'!$D$20:$BC$24,4,0)","v":0},{"$f":"+HLOOKUP(B10,'Resumen de Escala HSE'!$D$20:$BC$24,5,0)","v":0},null,{"$f":"+'Resumen de indicadores FR'!M$4","v":"Estudiante 6"},{"$f":"+HLOOKUP(H10,'Resumen de Escala FR'!$F$13:$BC$17,2,0)","v":"-"},{"$f":"+HLOOKUP(H10,'Resumen de Escala FR'!$F$13:$BC$17,5,0)","v":0},{"$f":"+HLOOKUP(H10,'Resumen de Escala FR'!$F$13:$BC$17,4,0)","v":0},{"$f":"+HLOOKUP(H10,'Resumen de Escala FR'!$F$13:$BC$17,3,0)","v":0}]
[null,{"$f":"+'Resumen de indicadores HSE'!N$4","v":"Estudiante 7"},{"$f":"+HLOOKUP(B11,'Resumen de Escala HSE'!$D$20:$BC$24,2,0)","v":"-"},{"$f":"+HLOOKUP(B11,'Resumen de Escala HSE'!$D$20:$BC$24,3,0)","v":0},{"$f":"+HLOOKUP(B11,'Resumen de Escala HSE'!$D$20:$BC$24,4,0)","v":0},{"$f":"+HLOOKUP(B11,'Resumen de Escala HSE'!$D$20:$BC$24,5,0)","v":0},null,{"$f":"+'Resumen de indicadores FR'!N$4","v":"Estudiante 7"},{"$f":"+HLOOKUP(H11,'Resumen de Escala FR'!$F$13:$BC$17,2,0)","v":"-"},{"$f":"+HLOOKUP(H11,'Resumen de Escala FR'!$F$13:$BC$17,5,0)","v":0},{"$f":"+HLOOKUP(H11,'Resumen de Escala FR'!$F$13:$BC$17,4,0)","v":0},{"$f":"+HLOOKUP(H11,'Resumen de Escala FR'!$F$13:$BC$17,3,0)","v":0}]
[null,{"$f":"+'Resumen de indicadores HSE'!O$4","v":"Estudiante 8"},{"$f":"+HLOOKUP(B12,'Resumen de Escala HSE'!$D$20:$BC$24,2,0)","v":"-"},{"$f":"+HLOOKUP(B12,'Resumen de Escala HSE'!$D$20:$BC$24,3,0)","v":0},{"$f":"+HLOOKUP(B12,'Resumen de Escala HSE'!$D$20:$BC$24,4,0)","v":0},{"$f":"+HLOOKUP(B12,'Resumen de Escala HSE'!$D$20:$BC$24,5,0)","v":0},null,{"$f":"+'Resumen de indicadores FR'!O$4","v":"Estudiante 8"},{"$f":"+HLOOKUP(H12,'Resumen de Escala FR'!$F$13:$BC$17,2,0)","v":"-"},{"$f":"+HLOOKUP(H12,'Resumen de Escala FR'!$F$13:$BC$17,5,0)","v":0},{"$f":"+HLOOKUP(H12,'Resumen de Escala FR'!$F$13:$BC$17,4,0)","v":0},{"$f":"+HLOOKUP(H12,'Resumen de Escala FR'!$F$13:$BC$17,3,0)","v":0}]
[null,{"$f":"+'Resumen de indicadores HSE'!P$4","v":"Estudiante 9"},{"$f":"+HLOOKUP(B13,'Resumen de Escala HSE'!$D$20:$BC$24,2,0)","v":"-"},{"$f":"+HLOOKUP(B13,'Resumen de Escala HSE'!$D$20:$BC$24,3,0)","v":0},{"$f":"+HLOOKUP(B13,'Resumen de Escala HSE'!$D$20:$BC$24,4,0)","v":0},{"$f":"+HLOOKUP(B13,'Resumen de Escala HSE'!$D$20:$BC$24,5,0)","v":0},null,{"$f":"+'Resumen de indicadores FR'!P$4","v":"Estudiante 9"},{"$f":"+HLOOKUP(H13,'Resumen de Escala FR'!$F$13:$BC$17,2,0)","v":"-"},{"$f":"+HLOOKUP(H13,'Resumen de Escala FR'!$F$13:$BC$17,5,0)","v":0},{"$f":"+HLOOKUP(H13,'Resumen de Escala FR'!$F$13:$BC$17,4,0)","v":0},{"$f":"+HLOOKUP(H13,'Resumen de Escala FR'!$F$13:$BC$17,3,0)","v":0}]
[null,{"$f":"+'Resumen de indicadores HSE'!Q$4","v":"Estudiante 10"},{"$f":"+HLOOKUP(B14,'Resumen de Escala HSE'!$D$20:$BC$24,2,0)","v":"-"},{"$f":"+HLOOKUP(B14,'Resumen de Escala HSE'!$D$20:$BC$24,3,0)","v":0},{"$f":"+HLOOKUP(B14,'Resumen de Escala HSE'!$D$20:$BC$24,4,0)","v":0},{"$f":"+HLOOKUP(B14,'Resumen de Escala HSE'!$D$20:$BC$24,5,0)","v":0},null,{"$f":"+'Resumen de indicadores FR'!Q$4","v":"Estudiante 10"},{"$f":"+HLOOKUP(H14,'Resumen de Escala FR'!$F$13:$BC$17,2,0)","v":"-"},{"$f":"+HLOOKUP(H14,'Resumen de Escala FR'!$F$13:$BC$17,5,0)","v":0},{"$f":"+HLOOKUP(H14,'Resumen de Escala FR'!$F$13:$BC$17,4,0)","v":0},{"$f":"+HLOOKUP(H14,'Resumen de Escala FR'!$F$13:$BC$17,3,0)","v":0}]
[null,{"$f":"+'Resumen de indicadores HSE'!R$4","v":"Estudiante 11"},{"$f":"+HLOOKUP(B15,'Resumen de Escala HSE'!$D$20:$BC$24,2,0)","v":"-"},{"$f":"+HLOOKUP(B15,'Resumen de Escala HSE'!$D$20:$BC$24,3,0)","v":0},{"$f":"+HLOOKUP(B15,'Resumen de Escala HSE'!$D$20:$BC$24,4,0)","v":0},{"$f":"+HLOOKUP(B15,'Resumen de Escala HSE'!$D$20:$BC$24,5,0)","v":0},null,{"$f":"+'Resumen de indicadores FR'!R$4","v":"Estudiante 11"},{"$f":"+HLOOKUP(H15,'Resumen de Escala FR'!$F$13:$BC$17,2,0)","v":"-"},{"$f":"+HLOOKUP(H15,'Resumen de Escala FR'!$F$13:$BC$17,5,0)","v":0},{"$f":"+HLOOKUP(H15,'Resumen de Escala FR'!$F$13:$BC$17,4,0)","v":0},{"$f":"+HLOOKUP(H15,'Resumen de Escala FR'!$F$13:$BC$17,3,0)","v":0}]
[null,{"$f":"+'Resumen de indicadores HSE'!S$4","v":"Estudiante 12"},{"$f":"+HLOOKUP(B16,'Resumen de Escala HSE'!$D$20:$BC$24,2,0)","v":"-"},{"$f":"+HLOOKUP(B16,'Resumen de Escala HSE'!$D$20:$BC$24,3,0)","v":0},{"$f":"+HLOOKUP(B16,'Resumen de Escala HSE'!$D$20:$BC$24,4,0)","v":0},{"$f":"+HLOOKUP(B16,'Resumen de Escala HSE'!$D$20:$BC$24,5,0)","v":0},null,{"$f":"+'Resumen de indicadores FR'!S$4","v":"Estudiante 12"},{"$f":"+HLOOKUP(H16,'Resumen de Escala FR'!$F$13:$BC$17,2,0)","v":"-"},{"$f":"+HLOOKUP(H16,'Resumen de Escala FR'!$F$13:$BC$17,5,0)","v":0},{"$f":"+HLOOKUP(H16,'Resumen de Escala FR'!$F$13:$BC$17,4,0)","v":0},{"$f":"+HLOOKUP(H16,'Resumen de Escala FR'!$F$13:$BC$17,3,0)","v":0}]
[null,{"$f":"+'Resumen de indicadores HSE'!T$4","v":"Estudiante 13"},{"$f":"+HLOOKUP(B17,'Resumen de Escala HSE'!$D$20:$BC$24,2,0)","v":"-"},{"$f":"+HLOOKUP(B17,'Resumen de Escala HSE'!$D$20:$BC$24,3,0)","v":0},{"$f":"+HLOOKUP(B17,'Resumen de Escala HSE'!$D$20:$BC$24,4,0)","v":0},{"$f":"+HLOOKUP(B17,'Resumen de Escala HSE'!$D$20:$BC$24,5,0)","v":0},null,{"$f":"+'Resumen de indicadores FR'!T$4","v":"Estudiante 13"},{"$f":"+HLOOKUP(H17,'Resumen de Escala FR'!$F$13:$BC$17,2,0)","v":"-"},{"$f":"+HLOOKUP(H17,'Resumen de Escala FR'!$F$13:$BC$17,5,0)","v":0},{"$f":"+HLOOKUP(H17,'Resumen de Escala FR'!$F$13:$BC$17,4,0)","v":0},{"$f":"+HLOOKUP(H17,'Resumen de Escala FR'!$F$13:$BC$17,3,0)","v":0}]
[null,{"$f":"+'Resumen de indicadores HSE'!U$4","v":"Estudiante 14"},{"$f":"+HLOOKUP(B18,'Resumen de Escala HSE'!$D$20:$BC$24,2,0)","v":"-"},{"$f":"+HLOOKUP(B18,'Resumen de Escala HSE'!$D$20:$BC$24,3,0)","v":0},{"$f":"+HLOOKUP(B18,'Resumen de Escala HSE'!$D$20:$BC$24,4,0)","v":0},{"$f":"+HLOOKUP(B18,'Resumen de Escala HSE'!$D$20:$BC$24,5,0)","v":0},null,{"$f":"+'Resumen de indicadores FR'!U$4","v":"Estudiante 14"},{"$f":"+HLOOKUP(H18,'Resumen de Escala FR'!$F$13:$BC$17,2,0)","v":"-"},{"$f":"+HLOOKUP(H18,'Resumen de Escala FR'!$F$13:$BC$17,5,0)","v":0},{"$f":"+HLOOKUP(H18,'Resumen de Escala FR'!$F$13:$BC$17,4,0)","v":0},{"$f":"+HLOOKUP(H18,'Resumen de Escala FR'!$F$13:$BC$17,3,0)","v":0}]
[null,{"$f":"+'Resumen de indicadores HSE'!V$4","v":"Estudiante 15"},{"$f":"+HLOOKUP(B19,'Resumen de Escala HSE'!$D$20:$BC$24,2,0)","v":"-"},{"$f":"+HLOOKUP(B19,'Resumen de Escala HSE'!$D$20:$BC$24,3,0)","v":0},{"$f":"+HLOOKUP(B19,'Resumen de Escala HSE'!$D$20:$BC$24,4,0)","v":0},{"$f":"+HLOOKUP(B19,'Resumen de Escala HSE'!$D$20:$BC$24,5,0)","v":0},null,{"$f":"+'Resumen de indicadores FR'!V$4","v":"Estudiante 15"},{"$f":"+HLOOKUP(H19,'Resumen de Escala FR'!$F$13:$BC$17,2,0)","v":"-"},{"$f":"+HLOOKUP(H19,'Resumen de Escala FR'!$F$13:$BC$17,5,0)","v":0},{"$f":"+HLOOKUP(H19,'Resumen de Escala FR'!$F$13:$BC$17,4,0)","v":0},{"$f":"+HLOOKUP(H19,'Resumen de Escala FR'!$F$13:$BC$17,3,0)","v":0}]
[null,{"$f":"+'Resumen de indicadores HSE'!W$4","v":"Estudiante 16"},{"$f":"+HLOOKUP(B20,'Resumen de Escala HSE'!$D$20:$BC$24,2,0)","v":"-"},{"$f":"+HLOOKUP(B20,'Resumen de Escala HSE'!$D$20:$BC$24,3,0)","v":0},{"$f":"+HLOOKUP(B20,'Resumen de Escala HSE'!$D$20:$BC$24,4,0)","v":0},{"$f":"+HLOOKUP(B20,'Resumen de Escala HSE'!$D$20:$BC$24,5,0)","v":0},null,{"$f":"+'Resumen de indicadores FR'!W$4","v":"Estudiante 16"},{"$f":"+HLOOKUP(H20,'Resumen de Escala FR'!$F$13:$BC$17,2,0)","v":"-"},{"$f":"+HLOOKUP(H20,'Resumen de Escala FR'!$F$13:$BC$17,5,0)","v":0},{"$f":"+HLOOKUP(H20,'Resumen de Escala FR'!$F$13:$BC$17,4,0)","v":0},{"$f":"+HLOOKUP(H20,'Resumen de Escala FR'!$F$13:$BC$17,3,0)","v":0}]
[null,{"$f":"+'Resumen de indicadores HSE'!X$4","v":"Estudiante 17"},{"$f":"+HLOOKUP(B21,'Resumen de Escala HSE'!$D$20:$BC$24,2,0)","v":"-"},{"$f":"+HLOOKUP(B21,'Resumen de Escala HSE'!$D$20:$BC$24,3,0)","v":0},{"$f":"+HLOOKUP(B21,'Resumen de Escala HSE'!$D$20:$BC$24,4,0)","v":0},{"$f":"+HLOOKUP(B21,'Resumen de Escala HSE'!$D$20:$BC$24,5,0)","v":0},null,{"$f":"+'Resumen de indicadores FR'!X$4","v":"Estudiante 17"},{"$f":"+HLOOKUP(H21,'Resumen de Escala FR'!$F$13:$BC$17,2,0)","v":"-"},{"$f":"+HLOOKUP(H21,'Resumen de Escala FR'!$F$13:$BC$17,5,0)","v":0},{"$f":"+HLOOKUP(H21,'Resumen de Escala FR'!$F$13:$BC$17,4,0)","v":0},{"$f":"+HLOOKUP(H21,'Resumen de Escala FR'!$F$13:$BC$17,3,0)","v":0}]
[null,{"$f":"+'Resumen de indicadores HSE'!Y$4","v":"Estudiante 18"},{"$f":"+HLOOKUP(B22,'Resumen de Escala HSE'!$D$20:$BC$24,2,0)","v":"-"},{"$f":"+HLOOKUP(B22,'Resumen de Escala HSE'!$D$20:$BC$24,3,0)","v":0},{"$f":"+HLOOKUP(B22,'Resumen de Escala HSE'!$D$20:$BC$24,4,0)","v":0},{"$f":"+HLOOKUP(B22,'Resumen de Escala HSE'!$D$20:$BC$24,5,0)","v":0},null,{"$f":"+'Resumen de indicadores FR'!Y$4","v":"Estudiante 18"},{"$f":"+HLOOKUP(H22,'Resumen de Escala FR'!$F$13:$BC$17,2,0)","v":"-"},{"$f":"+HLOOKUP(H22,'Resumen de Escala FR'!$F$13:$BC$17,5,0)","v":0},{"$f":"+HLOOKUP(H22,'Resumen de Escala FR'!$F$13:$BC$17,4,0)","v":0},{"$f":"+HLOOKUP(H22,'Resumen de Escala FR'!$F$13:$BC$17,3,0)","v":0}]
[null,{"$f":"+'Resumen de indicadores HSE'!Z$4","v":"Estudiante 19"},{"$f":"+HLOOKUP(B23,'Resumen de Escala HSE'!$D$20:$BC$24,2,0)","v":"-"},{"$f":"+HLOOKUP(B23,'Resumen de Escala HSE'!$D$20:$BC$24,3,0)","v":0},{"$f":"+HLOOKUP(B23,'Resumen de Escala HSE'!$D$20:$BC$24,4,0)","v":0},{"$f":"+HLOOKUP(B23,'Resumen de Escala HSE'!$D$20:$BC$24,5,0)","v":0},null,{"$f":"+'Resumen de indicadores FR'!Z$4","v":"Estudiante 19"},{"$f":"+HLOOKUP(H23,'Resumen de Escala FR'!$F$13:$BC$17,2,0)","v":"-"},{"$f":"+HLOOKUP(H23,'Resumen de Escala FR'!$F$13:$BC$17,5,0)","v":0},{"$f":"+HLOOKUP(H23,'Resumen de Escala FR'!$F$13:$BC$17,4,0)","v":0},{"$f":"+HLOOKUP(H23,'Resumen de Escala FR'!$F$13:$BC$17,3,0)","v":0}]
[null,{"$f":"+'Resumen de indicadores HSE'!AA$4","v":"Estudiante 20"},{"$f":"+HLOOKUP(B24,'Resumen de Escala HSE'!$D$20:$BC$24,2,0)","v":"-"},{"$f":"+HLOOKUP(B24,'Resumen de Escala HSE'!$D$20:$BC$24,3,0)","v":0},{"$f":"+HLOOKUP(B24,'Resumen de Escala HSE'!$D$20:$BC$24,4,0)","v":0},{"$f":"+HLOOKUP(B24,'Resumen de Escala HSE'!$D$20:$BC$24,5,0)","v":0},null,{"$f":"+'Resumen de indicadores FR'!AA$4","v":"Estudiante 20"},{"$f":"+HLOOKUP(H24,'Resumen de Escala FR'!$F$13:$BC$17,2,0)","v":"-"},{"$f":"+HLOOKUP(H24,'Resumen de Escala FR'!$F$13:$BC$17,5,0)","v":0},{"$f":"+HLOOKUP(H24,'Resumen de Escala FR'!$F$13:$BC$17,4,0)","v":0},{"$f":"+HLOOKUP(H24,'Resumen de Escala FR'!$F$13:$BC$17,3,0)","v":0}]
[null,{"$f":"+'Resumen de indicadores HSE'!AB$4","v":"Estudiante 21"},{"$f":"+HLOOKUP(B25,'Resumen de Escala HSE'!$D$20:$BC$24,2,0)","v":"-"},{"$f":"+HLOOKUP(B25,'Resumen de Escala HSE'!$D$20:$BC$24,3,0)","v":0},{"$f":"+HLOOKUP(B25,'Resumen de Escala HSE'!$D$20:$BC$24,4,0)","v":0},{"$f":"+HLOOKUP(B25,'Resumen de Escala HSE'!$D$20:$BC$24,5,0)","v":0},null,{"$f":"+'Resumen de indicadores FR'!AB$4","v":"Estudiante 21"},{"$f":"+HLOOKUP(H25,'Resumen de Escala FR'!$F$13:$BC$17,2,0)","v":"-"},{"$f":"+HLOOKUP(H25,'Resumen de Escala FR'!$F$13:$BC$17,5,0)","v":0},{"$f":"+HLOOKUP(H25,'Resumen de Escala FR'!$F$13:$BC$17,4,0)","v":0},{"$f":"+HLOOKUP(H25,'Resumen de Escala FR'!$F$13:$BC$17,3,0)","v":0}]
[null,{"$f":"+'Resumen de indicadores HSE'!AC$4","v":"Estudiante 22"},{"$f":"+HLOOKUP(B26,'Resumen de Escala HSE'!$D$20:$BC$24,2,0)","v":"-"},{"$f":"+HLOOKUP(B26,'Resumen de Escala HSE'!$D$20:$BC$24,3,0)","v":0},{"$f":"+HLOOKUP(B26,'Resumen de Escala HSE'!$D$20:$BC$24,4,0)","v":0},{"$f":"+HLOOKUP(B26,'Resumen de Escala HSE'!$D$20:$BC$24,5,0)","v":0},null,{"$f":"+'Resumen de indicadores FR'!AC$4","v":"Estudiante 22"},{"$f":"+HLOOKUP(H26,'Resumen de Escala FR'!$F$13:$BC$17,2,0)","v":"-"},{"$f":"+HLOOKUP(H26,'Resumen de Escala FR'!$F$13:$BC$17,5,0)","v":0},{"$f":"+HLOOKUP(H26,'Resumen de Escala FR'!$F$13:$BC$17,4,0)","v":0},{"$f":"+HLOOKUP(H26,'Resumen de Escala FR'!$F$13:$BC$17,3,0)","v":0}]
[null,{"$f":"+'Resumen de indicadores HSE'!AD$4","v":"Estudiante 23"},{"$f":"+HLOOKUP(B27,'Resumen de Escala HSE'!$D$20:$BC$24,2,0)","v":"-"},{"$f":"+HLOOKUP(B27,'Resumen de Escala HSE'!$D$20:$BC$24,3,0)","v":0},{"$f":"+HLOOKUP(B27,'Resumen de Escala HSE'!$D$20:$BC$24,4,0)","v":0},{"$f":"+HLOOKUP(B27,'Resumen de Escala HSE'!$D$20:$BC$24,5,0)","v":0},null,{"$f":"+'Resumen de indicadores FR'!AD$4","v":"Estudiante 23"},{"$f":"+HLOOKUP(H27,'Resumen de Escala FR'!$F$13:$BC$17,2,0)","v":"-"},{"$f":"+HLOOKUP(H27,'Resumen de Escala FR'!$F$13:$BC$17,5,0)","v":0},{"$f":"+HLOOKUP(H27,'Resumen de Escala FR'!$F$13:$BC$17,4,0)","v":0},{"$f":"+HLOOKUP(H27,'Resumen de Escala FR'!$F$13:$BC$17,3,0)","v":0}]
[null,{"$f":"+'Resumen de indicadores HSE'!AE$4","v":"Estudiante 24"},{"$f":"+HLOOKUP(B28,'Resumen de Escala HSE'!$D$20:$BC$24,2,0)","v":"-"},{"$f":"+HLOOKUP(B28,'Resumen de Escala HSE'!$D$20:$BC$24,3,0)","v":0},{"$f":"+HLOOKUP(B28,'Resumen de Escala HSE'!$D$20:$BC$24,4,0)","v":0},{"$f":"+HLOOKUP(B28,'Resumen de Escala HSE'!$D$20:$BC$24,5,0)","v":0},null,{"$f":"+'Resumen de indicadores FR'!AE$4","v":"Estudiante 24"},{"$f":"+HLOOKUP(H28,'Resumen de Escala FR'!$F$13:$BC$17,2,0)","v":"-"},{"$f":"+HLOOKUP(H28,'Resumen de Escala FR'!$F$13:$BC$17,5,0)","v":0},{"$f":"+HLOOKUP(H28,'Resumen de Escala FR'!$F$13:$BC$17,4,0)","v":0},{"$f":"+HLOOKUP(H28,'Resumen de Escala FR'!$F$13:$BC$17,3,0)","v":0}]
[null,{"$f":"+'Resumen de indicadores HSE'!AF$4","v":"Estudiante 25"},{"$f":"+HLOOKUP(B29,'Resumen de Escala HSE'!$D$20:$BC$24,2,0)","v":"-"},{"$f":"+HLOOKUP(B29,'Resumen de Escala HSE'!$D$20:$BC$24,3,0)","v":0},{"$f":"+HLOOKUP(B29,'Resumen de Escala HSE'!$D$20:$BC$24,4,0)","v":0},{"$f":"+HLOOKUP(B29,'Resumen de Escala HSE'!$D$20:$BC$24,5,0)","v":0},null,{"$f":"+'Resumen de indicadores FR'!AF$4","v":"Estudiante 25"},{"$f":"+HLOOKUP(H29,'Resumen de Escala FR'!$F$13:$BC$17,2,0)","v":"-"},{"$f":"+HLOOKUP(H29,'Resumen de Escala FR'!$F$13:$BC$17,5,0)","v":0},{"$f":"+HLOOKUP(H29,'Resumen de Escala FR'!$F$13:$BC$17,4,0)","v":0},{"$f":"+HLOOKUP(H29,'Resumen de Escala FR'!$F$13:$BC$17,3,0)","v":0}]
[null,{"$f":"+'Resumen de indicadores HSE'!AG$4","v":"Estudiante 26"},{"$f":"+HLOOKUP(B30,'Resumen de Escala HSE'!$D$20:$BC$24,2,0)","v":"-"},{"$f":"+HLOOKUP(B30,'Resumen de Escala HSE'!$D$20:$BC$24,3,0)","v":0},{"$f":"+HLOOKUP(B30,'Resumen de Escala HSE'!$D$20:$BC$24,4,0)","v":0},{"$f":"+HLOOKUP(B30,'Resumen de Escala HSE'!$D$20:$BC$24,5,0)","v":0},null,{"$f":"+'Resumen de indicadores FR'!AG$4","v":"Estudiante 26"},{"$f":"+HLOOKUP(H30,'Resumen de Escala FR'!$F$13:$BC$17,2,0)","v":"-"},{"$f":"+HLOOKUP(H30,'Resumen de Escala FR'!$F$13:$BC$17,5,0)","v":0},{"$f":"+HLOOKUP(H30,'Resumen de Escala FR'!$F$13:$BC$17,4,0)","v":0},{"$f":"+HLOOKUP(H30,'Resumen de Escala FR'!$F$13:$BC$17,3,0)","v":0}]
[null,{"$f":"+'Resumen de indicadores HSE'!AH$4","v":"Estudiante 27"},{"$f":"+HLOOKUP(B31,'Resumen de Escala HSE'!$D$20:$BC$24,2,0)","v":"-"},{"$f":"+HLOOKUP(B31,'Resumen de Escala HSE'!$D$20:$BC$24,3,0)","v":0},{"$f":"+HLOOKUP(B31,'Resumen de Escala HSE'!$D$20:$BC$24,4,0)","v":0},{"$f":"+HLOOKUP(B31,'Resumen de Escala HSE'!$D$20:$BC$24,5,0)","v":0},null,{"$f":"+'Resumen de indicadores FR'!AH$4","v":"Estudiante 27"},{"$f":"+HLOOKUP(H31,'Resumen de Escala FR'!$F$13:$BC$17,2,0)","v":"-"},{"$f":"+HLOOKUP(H31,'Resumen de Escala FR'!$F$13:$BC$17,5,0)","v":0},{"$f":"+HLOOKUP(H31,'Resumen de Escala FR'!$F$13:$BC$17,4,0)","v":0},{"$f":"+HLOOKUP(H31,'Resumen de Escala FR'!$F$13:$BC$17,3,0)","v":0}]
[null,{"$f":"+'Resumen de indicadores HSE'!AI$4","v":"Estudiante 28"},{"$f":"+HLOOKUP(B32,'Resumen de Escala HSE'!$D$20:$BC$24,2,0)","v":"-"},{"$f":"+HLOOKUP(B32,'Resumen de Escala HSE'!$D$20:$BC$24,3,0)","v":0},{"$f":"+HLOOKUP(B32,'Resumen de Escala HSE'!$D$20:$BC$24,4,0)","v":0},{"$f":"+HLOOKUP(B32,'Resumen de Escala HSE'!$D$20:$BC$24,5,0)","v":0},null,{"$f":"+'Resumen de indicadores FR'!AI$4","v":"Estudiante 28"},{"$f":"+HLOOKUP(H32,'Resumen de Escala FR'!$F$13:$BC$17,2,0)","v":"-"},{"$f":"+HLOOKUP(H32,'Resumen de Escala FR'!$F$13:$BC$17,5,0)","v":0},{"$f":"+HLOOKUP(H32,'Resumen de Escala FR'!$F$13:$BC$17,4,0)","v":0},{"$f":"+HLOOKUP(H32,'Resumen de Escala FR'!$F$13:$BC$17,3,0)","v":0}]
[null,{"$f":"+'Resumen de indicadores HSE'!AJ$4","v":"Estudiante 29"},{"$f":"+HLOOKUP(B33,'Resumen de Escala HSE'!$D$20:$BC$24,2,0)","v":"-"},{"$f":"+HLOOKUP(B33,'Resumen de Escala HSE'!$D$20:$BC$24,3,0)","v":0},{"$f":"+HLOOKUP(B33,'Resumen de Escala HSE'!$D$20:$BC$24,4,0)","v":0},{"$f":"+HLOOKUP(B33,'Resumen de Escala HSE'!$D$20:$BC$24,5,0)","v":0},null,{"$f":"+'Resumen de indicadores FR'!AJ$4","v":"Estudiante 29"},{"$f":"+HLOOKUP(H33,'Resumen de Escala FR'!$F$13:$BC$17,2,0)","v":"-"},{"$f":"+HLOOKUP(H33,'Resumen de Escala FR'!$F$13:$BC$17,5,0)","v":0},{"$f":"+HLOOKUP(H33,'Resumen de Escala FR'!$F$13:$BC$17,4,0)","v":0},{"$f":"+HLOOKUP(H33,'Resumen de Escala FR'!$F$13:$BC$17,3,0)","v":0}]
[null,{"$f":"+'Resumen de indicadores HSE'!AK$4","v":"Estudiante 30"},{"$f":"+HLOOKUP(B34,'Resumen de Escala HSE'!$D$20:$BC$24,2,0)","v":"-"},{"$f":"+HLOOKUP(B34,'Resumen de Escala HSE'!$D$20:$BC$24,3,0)","v":0},{"$f":"+HLOOKUP(B34,'Resumen de Escala HSE'!$D$20:$BC$24,4,0)","v":0},{"$f":"+HLOOKUP(B34,'Resumen de Escala HSE'!$D$20:$BC$24,5,0)","v":0},null,{"$f":"+'Resumen de indicadores FR'!AK$4","v":"Estudiante 30"},{"$f":"+HLOOKUP(H34,'Resumen de Escala FR'!$F$13:$BC$17,2,0)","v":"-"},{"$f":"+HLOOKUP(H34,'Resumen de Escala FR'!$F$13:$BC$17,5,0)","v":0},{"$f":"+HLOOKUP(H34,'Resumen de Escala FR'!$F$13:$BC$17,4,0)","v":0},{"$f":"+HLOOKUP(H34,'Resumen de Escala FR'!$F$13:$BC$17,3,0)","v":0}]
[null,{"$f":"+'Resumen de indicadores HSE'!AL$4","v":"Estudiante 31"},{"$f":"+HLOOKUP(B35,'Resumen de Escala HSE'!$D$20:$BC$24,2,0)","v":"-"},{"$f":"+HLOOKUP(B35,'Resumen de Escala HSE'!$D$20:$BC$24,3,0)","v":0},{"$f":"+HLOOKUP(B35,'Resumen de Escala HSE'!$D$20:$BC$24,4,0)","v":0},{"$f":"+HLOOKUP(B35,'Resumen de Escala HSE'!$D$20:$BC$24,5,0)","v":0},null,{"$f":"+'Resumen de indicadores FR'!AL$4","v":"Estudiante 31"},{"$f":"+HLOOKUP(H35,'Resumen de Escala FR'!$F$13:$BC$17,2,0)","v":"-"},{"$f":"+HLOOKUP(H35,'Resumen de Escala FR'!$F$13:$BC$17,5,0)","v":0},{"$f":"+HLOOKUP(H35,'Resumen de Escala FR'!$F$13:$BC$17,4,0)","v":0},{"$f":"+HLOOKUP(H35,'Resumen de Escala FR'!$F$13:$BC$17,3,0)","v":0}]
[null,{"$f":"+'Resumen de indicadores HSE'!AM$4","v":"Estudiante 32"},{"$f":"+HLOOKUP(B36,'Resumen de Escala HSE'!$D$20:$BC$24,2,0)","v":"-"},{"$f":"+HLOOKUP(B36,'Resumen de Escala HSE'!$D$20:$BC$24,3,0)","v":0},{"$f":"+HLOOKUP(B36,'Resumen de Escala HSE'!$D$20:$BC$24,4,0)","v":0},{"$f":"+HLOOKUP(B36,'Resumen de Escala HSE'!$D$20:$BC$24,5,0)","v":0},null,{"$f":"+'Resumen de indicadores FR'!AM$4","v":"Estudiante 32"},{"$f":"+HLOOKUP(H36,'Resumen de Escala FR'!$F$13:$BC$17,2,0)","v":"-"},{"$f":"+HLOOKUP(H36,'Resumen de Escala FR'!$F$13:$BC$17,5,0)","v":0},{"$f":"+HLOOKUP(H36,'Resumen de Escala FR'!$F$13:$BC$17,4,0)","v":0},{"$f":"+HLOOKUP(H36,'Resumen de Escala FR'!$F$13:$BC$17,3,0)","v":0}]
[null,{"$f":"+'Resumen de indicadores HSE'!AN$4","v":"Estudiante 33"},{"$f":"+HLOOKUP(B37,'Resumen de Escala HSE'!$D$20:$BC$24,2,0)","v":"-"},{"$f":"+HLOOKUP(B37,'Resumen de Escala HSE'!$D$20:$BC$24,3,0)","v":0},{"$f":"+HLOOKUP(B37,'Resumen de Escala HSE'!$D$20:$BC$24,4,0)","v":0},{"$f":"+HLOOKUP(B37,'Resumen de Escala HSE'!$D$20:$BC$24,5,0)","v":0},null,{"$f":"+'Resumen de indicadores FR'!AN$4","v":"Estudiante 33"},{"$f":"+HLOOKUP(H37,'Resumen de Escala FR'!$F$13:$BC$17,2,0)","v":"-"},{"$f":"+HLOOKUP(H37,'Resumen de Escala FR'!$F$13:$BC$17,5,0)","v":0},{"$f":"+HLOOKUP(H37,'Resumen de Escala FR'!$F$13:$BC$17,4,0)","v":0},{"$f":"+HLOOKUP(H37,'Resumen de Escala FR'!$F$13:$BC$17,3,0)","v":0}]
[null,{"$f":"+'Resumen de indicadores HSE'!AO$4","v":"Estudiante 34"},{"$f":"+HLOOKUP(B38,'Resumen de Escala HSE'!$D$20:$BC$24,2,0)","v":"-"},{"$f":"+HLOOKUP(B38,'Resumen de Escala HSE'!$D$20:$BC$24,3,0)","v":0},{"$f":"+HLOOKUP(B38,'Resumen de Escala HSE'!$D$20:$BC$24,4,0)","v":0},{"$f":"+HLOOKUP(B38,'Resumen de Escala HSE'!$D$20:$BC$24,5,0)","v":0},null,{"$f":"+'Resumen de indicadores FR'!AO$4","v":"Estudiante 34"},{"$f":"+HLOOKUP(H38,'Resumen de Escala FR'!$F$13:$BC$17,2,0)","v":"-"},{"$f":"+HLOOKUP(H38,'Resumen de Escala FR'!$F$13:$BC$17,5,0)","v":0},{"$f":"+HLOOKUP(H38,'Resumen de Escala FR'!$F$13:$BC$17,4,0)","v":0},{"$f":"+HLOOKUP(H38,'Resumen de Escala FR'!$F$13:$BC$17,3,0)","v":0}]
[null,{"$f":"+'Resumen de indicadores HSE'!AP$4","v":"Estudiante 35"},{"$f":"+HLOOKUP(B39,'Resumen de Escala HSE'!$D$20:$BC$24,2,0)","v":"-"},{"$f":"+HLOOKUP(B39,'Resumen de Escala HSE'!$D$20:$BC$24,3,0)","v":0},{"$f":"+HLOOKUP(B39,'Resumen de Escala HSE'!$D$20:$BC$24,4,0)","v":0},{"$f":"+HLOOKUP(B39,'Resumen de Escala HSE'!$D$20:$BC$24,5,0)","v":0},null,{"$f":"+'Resumen de indicadores FR'!AP$4","v":"Estudiante 35"},{"$f":"+HLOOKUP(H39,'Resumen de Escala FR'!$F$13:$BC$17,2,0)","v":"-"},{"$f":"+HLOOKUP(H39,'Resumen de Escala FR'!$F$13:$BC$17,5,0)","v":0},{"$f":"+HLOOKUP(H39,'Resumen de Escala FR'!$F$13:$BC$17,4,0)","v":0},{"$f":"+HLOOKUP(H39,'Resumen de Escala FR'!$F$13:$BC$17,3,0)","v":0}]
[null,{"$f":"+'Resumen de indicadores HSE'!AQ$4","v":"Estudiante 36"},{"$f":"+HLOOKUP(B40,'Resumen de Escala HSE'!$D$20:$BC$24,2,0)","v":"-"},{"$f":"+HLOOKUP(B40,'Resumen de Escala HSE'!$D$20:$BC$24,3,0)","v":0},{"$f":"+HLOOKUP(B40,'Resumen de Escala HSE'!$D$20:$BC$24,4,0)","v":0},{"$f":"+HLOOKUP(B40,'Resumen de Escala HSE'!$D$20:$BC$24,5,0)","v":0},null,{"$f":"+'Resumen de indicadores FR'!AQ$4","v":"Estudiante 36"},{"$f":"+HLOOKUP(H40,'Resumen de Escala FR'!$F$13:$BC$17,2,0)","v":"-"},{"$f":"+HLOOKUP(H40,'Resumen de Escala FR'!$F$13:$BC$17,5,0)","v":0},{"$f":"+HLOOKUP(H40,'Resumen de Escala FR'!$F$13:$BC$17,4,0)","v":0},{"$f":"+HLOOKUP(H40,'Resumen de Escala FR'!$F$13:$BC$17,3,0)","v":0}]
[null,{"$f":"+'Resumen de indicadores HSE'!AR$4","v":"Estudiante 37"},{"$f":"+HLOOKUP(B41,'Resumen de Escala HSE'!$D$20:$BC$24,2,0)","v":"-"},{"$f":"+HLOOKUP(B41,'Resumen de Escala HSE'!$D$20:$BC$24,3,0)","v":0},{"$f":"+HLOOKUP(B41,'Resumen de Escala HSE'!$D$20:$BC$24,4,0)","v":0},{"$f":"+HLOOKUP(B41,'Resumen de Escala HSE'!$D$20:$BC$24,5,0)","v":0},null,{"$f":"+'Resumen de indicadores FR'!AR$4","v":"Estudiante 37"},{"$f":"+HLOOKUP(H41,'Resumen de Escala FR'!$F$13:$BC$17,2,0)","v":"-"},{"$f":"+HLOOKUP(H41,'Resumen de Escala FR'!$F$13:$BC$17,5,0)","v":0},{"$f":"+HLOOKUP(H41,'Resumen de Escala FR'!$F$13:$BC$17,4,0)","v":0},{"$f":"+HLOOKUP(H41,'Resumen de Escala FR'!$F$13:$BC$17,3,0)","v":0}]
[null,{"$f":"+'Resumen de indicadores HSE'!AS$4","v":"Estudiante 38"},{"$f":"+HLOOKUP(B42,'Resumen de Escala HSE'!$D$20:$BC$24,2,0)","v":"-"},{"$f":"+HLOOKUP(B42,'Resumen de Escala HSE'!$D$20:$BC$24,3,0)","v":0},{"$f":"+HLOOKUP(B42,'Resumen de Escala HSE'!$D$20:$BC$24,4,0)","v":0},{"$f":"+HLOOKUP(B42,'Resumen de Escala HSE'!$D$20:$BC$24,5,0)","v":0},null,{"$f":"+'Resumen de indicadores FR'!AS$4","v":"Estudiante 38"},{"$f":"+HLOOKUP(H42,'Resumen de Escala FR'!$F$13:$BC$17,2,0)","v":"-"},{"$f":"+HLOOKUP(H42,'Resumen de Escala FR'!$F$13:$BC$17,5,0)","v":0},{"$f":"+HLOOKUP(H42,'Resumen de Escala FR'!$F$13:$BC$17,4,0)","v":0},{"$f":"+HLOOKUP(H42,'Resumen de Escala FR'!$F$13:$BC$17,3,0)","v":0}]
[null,{"$f":"+'Resumen de indicadores HSE'!AT$4","v":"Estudiante 39"},{"$f":"+HLOOKUP(B43,'Resumen de Escala HSE'!$D$20:$BC$24,2,0)","v":"-"},{"$f":"+HLOOKUP(B43,'Resumen de Escala HSE'!$D$20:$BC$24,3,0)","v":0},{"$f":"+HLOOKUP(B43,'Resumen de Escala HSE'!$D$20:$BC$24,4,0)","v":0},{"$f":"+HLOOKUP(B43,'Resumen de Escala HSE'!$D$20:$BC$24,5,0)","v":0},null,{"$f":"+'Resumen de indicadores FR'!AT$4","v":"Estudiante 39"},{"$f":"+HLOOKUP(H43,'Resumen de Escala FR'!$F$13:$BC$17,2,0)","v":"-"},{"$f":"+HLOOKUP(H43,'Resumen de Escala FR'!$F$13:$BC$17,5,0)","v":0},{"$f":"+HLOOKUP(H43,'Resumen de Escala FR'!$F$13:$BC$17,4,0)","v":0},{"$f":"+HLOOKUP(H43,'Resumen de Escala FR'!$F$13:$BC$17,3,0)","v":0}]
[null,{"$f":"+'Resumen de indicadores HSE'!AU$4","v":"Estudiante 40"},{"$f":"+HLOOKUP(B44,'Resumen de Escala HSE'!$D$20:$BC$24,2,0)","v":"-"},{"$f":"+HLOOKUP(B44,'Resumen de Escala HSE'!$D$20:$BC$24,3,0)","v":0},{"$f":"+HLOOKUP(B44,'Resumen de Escala HSE'!$D$20:$BC$24,4,0)","v":0},{"$f":"+HLOOKUP(B44,'Resumen de Escala HSE'!$D$20:$BC$24,5,0)","v":0},null,{"$f":"+'Resumen de indicadores FR'!AU$4","v":"Estudiante 40"},{"$f":"+HLOOKUP(H44,'Resumen de Escala FR'!$F$13:$BC$17,2,0)","v":"-"},{"$f":"+HLOOKUP(H44,'Resumen de Escala FR'!$F$13:$BC$17,5,0)","v":0},{"$f":"+HLOOKUP(H44,'Resumen de Escala FR'!$F$13:$BC$17,4,0)","v":0},{"$f":"+HLOOKUP(H44,'Resumen de Escala FR'!$F$13:$BC$17,3,0)","v":0}]
[null,{"$f":"+'Resumen de indicadores HSE'!AV$4","v":"Estudiante 41"},{"$f":"+HLOOKUP(B45,'Resumen de Escala HSE'!$D$20:$BC$24,2,0)","v":"-"},{"$f":"+HLOOKUP(B45,'Resumen de Escala HSE'!$D$20:$BC$24,3,0)","v":0},{"$f":"+HLOOKUP(B45,'Resumen de Escala HSE'!$D$20:$BC$24,4,0)","v":0},{"$f":"+HLOOKUP(B45,'Resumen de Escala HSE'!$D$20:$BC$24,5,0)","v":0},null,{"$f":"+'Resumen de indicadores FR'!AV$4","v":"Estudiante 41"},{"$f":"+HLOOKUP(H45,'Resumen de Escala FR'!$F$13:$BC$17,2,0)","v":"-"},{"$f":"+HLOOKUP(H45,'Resumen de Escala FR'!$F$13:$BC$17,5,0)","v":0},{"$f":"+HLOOKUP(H45,'Resumen de Escala FR'!$F$13:$BC$17,4,0)","v":0},{"$f":"+HLOOKUP(H45,'Resumen de Escala FR'!$F$13:$BC$17,3,0)","v":0}]
[null,{"$f":"+'Resumen de indicadores HSE'!AW$4","v":"Estudiante 42"},{"$f":"+HLOOKUP(B46,'Resumen de Escala HSE'!$D$20:$BC$24,2,0)","v":"-"},{"$f":"+HLOOKUP(B46,'Resumen de Escala HSE'!$D$20:$BC$24,3,0)","v":0},{"$f":"+HLOOKUP(B46,'Resumen de Escala HSE'!$D$20:$BC$24,4,0)","v":0},{"$f":"+HLOOKUP(B46,'Resumen de Escala HSE'!$D$20:$BC$24,5,0)","v":0},null,{"$f":"+'Resumen de indicadores FR'!AW$4","v":"Estudiante 42"},{"$f":"+HLOOKUP(H46,'Resumen de Escala FR'!$F$13:$BC$17,2,0)","v":"-"},{"$f":"+HLOOKUP(H46,'Resumen de Escala FR'!$F$13:$BC$17,5,0)","v":0},{"$f":"+HLOOKUP(H46,'Resumen de Escala FR'!$F$13:$BC$17,4,0)","v":0},{"$f":"+HLOOKUP(H46,'Resumen de Escala FR'!$F$13:$BC$17,3,0)","v":0}]
[null,{"$f":"+'Resumen de indicadores HSE'!AX$4","v":"Estudiante 43"},{"$f":"+HLOOKUP(B47,'Resumen de Escala HSE'!$D$20:$BC$24,2,0)","v":"-"},{"$f":"+HLOOKUP(B47,'Resumen de Escala HSE'!$D$20:$BC$24,3,0)","v":0},{"$f":"+HLOOKUP(B47,'Resumen de Escala HSE'!$D$20:$BC$24,4,0)","v":0},{"$f":"+HLOOKUP(B47,'Resumen de Escala HSE'!$D$20:$BC$24,5,0)","v":0},null,{"$f":"+'Resumen de indicadores FR'!AX$4","v":"Estudiante 43"},{"$f":"+HLOOKUP(H47,'Resumen de Escala FR'!$F$13:$BC$17,2,0)","v":"-"},{"$f":"+HLOOKUP(H47,'Resumen de Escala FR'!$F$13:$BC$17,5,0)","v":0},{"$f":"+HLOOKUP(H47,'Resumen de Escala FR'!$F$13:$BC$17,4,0)","v":0},{"$f":"+HLOOKUP(H47,'Resumen de Escala FR'!$F$13:$BC$17,3,0)","v":0}]
[null,{"$f":"+'Resumen de indicadores HSE'!AY$4","v":"Estudiante 44"},{"$f":"+HLOOKUP(B48,'Resumen de Escala HSE'!$D$20:$BC$24,2,0)","v":"-"},{"$f":"+HLOOKUP(B48,'Resumen de Escala HSE'!$D$20:$BC$24,3,0)","v":0},{"$f":"+HLOOKUP(B48,'Resumen de Escala HSE'!$D$20:$BC$24,4,0)","v":0},{"$f":"+HLOOKUP(B48,'Resumen de Escala HSE'!$D$20:$BC$24,5,0)","v":0},null,{"$f":"+'Resumen de indicadores FR'!AY$4","v":"Estudiante 44"},{"$f":"+HLOOKUP(H48,'Resumen de Escala FR'!$F$13:$BC$17,2,0)","v":"-"},{"$f":"+HLOOKUP(H48,'Resumen de Escala FR'!$F$13:$BC$17,5,0)","v":0},{"$f":"+HLOOKUP(H48,'Resumen de Escala FR'!$F$13:$BC$17,4,0)","v":0},{"$f":"+HLOOKUP(H48,'Resumen de Escala FR'!$F$13:$BC$17,3,0)","v":0}]
[null,{"$f":"+'Resumen de indicadores HSE'!AZ$4","v":"Estudiante 45"},{"$f":"+HLOOKUP(B49,'Resumen de Escala HSE'!$D$20:$BC$24,2,0)","v":"-"},{"$f":"+HLOOKUP(B49,'Resumen de Escala HSE'!$D$20:$BC$24,3,0)","v":0},{"$f":"+HLOOKUP(B49,'Resumen de Escala HSE'!$D$20:$BC$24,4,0)","v":0},{"$f":"+HLOOKUP(B49,'Resumen de Escala HSE'!$D$20:$BC$24,5,0)","v":0},null,{"$f":"+'Resumen de indicadores FR'!AZ$4","v":"Estudiante 45"},{"$f":"+HLOOKUP(H49,'Resumen de Escala FR'!$F$13:$BC$17,2,0)","v":"-"},{"$f":"+HLOOKUP(H49,'Resumen de Escala FR'!$F$13:$BC$17,5,0)","v":0},{"$f":"+HLOOKUP(H49,'Resumen de Escala FR'!$F$13:$BC$17,4,0)","v":0},{"$f":"+HLOOKUP(H49,'Resumen de Escala FR'!$F$13:$BC$17,3,0)","v":0}]
[null,{"$f":"+'Resumen de indicadores HSE'!BA$4","v":"Estudiante 46"},{"$f":"+HLOOKUP(B50,'Resumen de Escala HSE'!$D$20:$BC$24,2,0)","v":"-"},{"$f":"+HLOOKUP(B50,'Resumen de Escala HSE'!$D$20:$BC$24,3,0)","v":0},{"$f":"+HLOOKUP(B50,'Resumen de Escala HSE'!$D$20:$BC$24,4,0)","v":0},{"$f":"+HLOOKUP(B50,'Resumen de Escala HSE'!$D$20:$BC$24,5,0)","v":0},null,{"$f":"+'Resumen de indicadores FR'!BA$4","v":"Estudiante 46"},{"$f":"+HLOOKUP(H50,'Resumen de Escala FR'!$F$13:$BC$17,2,0)","v":"-"},{"$f":"+HLOOKUP(H50,'Resumen de Escala FR'!$F$13:$BC$17,5,0)","v":0},{"$f":"+HLOOKUP(H50,'Resumen de Escala FR'!$F$13:$BC$17,4,0)","v":0},{"$f":"+HLOOKUP(H50,'Resumen de Escala FR'!$F$13:$BC$17,3,0)","v":0}]
[null,{"$f":"+'Resumen de indicadores HSE'!BB$4","v":"Estudiante 47"},{"$f":"+HLOOKUP(B51,'Resumen de Escala HSE'!$D$20:$BC$24,2,0)","v":"-"},{"$f":"+HLOOKUP(B51,'Resumen de Escala HSE'!$D$20:$BC$24,3,0)","v":0},{"$f":"+HLOOKUP(B51,'Resumen de Escala HSE'!$D$20:$BC$24,4,0)","v":0},{"$f":"+HLOOKUP(B51,'Resumen de Escala HSE'!$D$20:$BC$24,5,0)","v":0},null,{"$f":"+'Resumen de indicadores FR'!BB$4","v":"Estudiante 47"},{"$f":"+HLOOKUP(H51,'Resumen de Escala FR'!$F$13:$BC$17,2,0)","v":"-"},{"$f":"+HLOOKUP(H51,'Resumen de Escala FR'!$F$13:$BC$17,5,0)","v":0},{"$f":"+HLOOKUP(H51,'Resumen de Escala FR'!$F$13:$BC$17,4,0)","v":0},{"$f":"+HLOOKUP(H51,'Resumen de Escala FR'!$F$13:$BC$17,3,0)","v":0}]
[null,{"$f":"+'Resumen de indicadores HSE'!BC$4","v":"Estudiante 48"},{"$f":"+HLOOKUP(B52,'Resumen de Escala HSE'!$D$20:$BC$24,2,0)","v":"-"},{"$f":"+HLOOKUP(B52,'Resumen de Escala HSE'!$D$20:$BC$24,3,0)","v":0},{"$f":"+HLOOKUP(B52,'Resumen de Escala HSE'!$D$20:$BC$24,4,0)","v":0},{"$f":"+HLOOKUP(B52,'Resumen de Escala HSE'!$D$20:$BC$24,5,0)","v":0},null,{"$f":"+'Resumen de indicadores FR'!BC$4","v":"Estudiante 48"},{"$f":"+HLOOKUP(H52,'Resumen de Escala FR'!$F$13:$BC$17,2,0)","v":"-"},{"$f":"+HLOOKUP(H52,'Resumen de Escala FR'!$F$13:$BC$17,5,0)","v":0},{"$f":"+HLOOKUP(H52,'Resumen de Escala FR'!$F$13:$BC$17,4,0)","v":0},{"$f":"+HLOOKUP(H52,'Resumen de Escala FR'!$F$13:$BC$17,3,0)","v":0}]
[null,{"$f":"+'Resumen de indicadores HSE'!BD$4","v":"Estudiante 49"},{"$f":"+HLOOKUP(B53,'Resumen de Escala HSE'!$D$20:$BC$24,2,0)","v":"-"},{"$f":"+HLOOKUP(B53,'Resumen de Escala HSE'!$D$20:$BC$24,3,0)","v":0},{"$f":"+HLOOKUP(B53,'Resumen de Escala HSE'!$D$20:$BC$24,4,0)","v":0},{"$f":"+HLOOKUP(B53,'Resumen de Escala HSE'!$D$20:$BC$24,5,0)","v":0},null,{"$f":"+'Resumen de indicadores FR'!BD$4","v":"Estudiante 49"},{"$f":"+HLOOKUP(H53,'Resumen de Escala FR'!$F$13:$BC$17,2,0)","v":"-"},{"$f":"+HLOOKUP(H53,'Resumen de Escala FR'!$F$13:$BC$17,5,0)","v":0},{"$f":"+HLOOKUP(H53,'Resumen de Escala FR'!$F$13:$BC$17,4,0)","v":0},{"$f":"+HLOOKUP(H53,'Resumen de Escala FR'!$F$13:$BC$17,3,0)","v":0}]
[null,{"$f":"+'Resumen de indicadores HSE'!BE$4","v":"Estudiante 50"},{"$f":"+HLOOKUP(B54,'Resumen de Escala HSE'!$D$20:$BC$24,2,0)","v":"-"},{"$f":"+HLOOKUP(B54,'Resumen de Escala HSE'!$D$20:$BC$24,3,0)","v":0},{"$f":"+HLOOKUP(B54,'Resumen de Escala HSE'!$D$20:$BC$24,4,0)","v":0},{"$f":"+HLOOKUP(B54,'Resumen de Escala HSE'!$D$20:$BC$24,5,0)","v":0},null,{"$f":"+'Resumen de indicadores FR'!BE$4","v":"Estudiante 50"},{"$f":"+HLOOKUP(H54,'Resumen de Escala FR'!$F$13:$BC$17,2,0)","v":"-"},{"$f":"+HLOOKUP(H54,'Resumen de Escala FR'!$F$13:$BC$17,5,0)","v":0},{"$f":"+HLOOKUP(H54,'Resumen de Escala FR'!$F$13:$BC$17,4,0)","v":0},{"$f":"+HLOOKUP(H54,'Resumen de Escala FR'!$F$13:$BC$17,3,0)","v":0}]

{"sheet":"LEYENDA","index":9,"n_rows":26,"n_cols":10,"rows_kept":26,"cut":false,"hidden":false,"merged":[[1,1,1,3],[8,1,8,3],[15,8,15,9],[21,8,21,9]]}
[]
[null,"HABILIDADES SOCIOEMOCIONALES"]
[null,"Color","Escala - Estado","Interpretación"]
[null,"En inicio","“EN INICIO”\n[0 - 0.25]","La o el estudiante presenta mayores dificultades en el desarrollo de sus HSE."]
[null,"En Proceso","“EN PROCESO”\n[0.26 - 0.74]","La o el estudiante presenta ligeras dificultades en el desarrollo de sus HSE."]
[null,"Satisfactorio","“SATISFACTORIO”\n[0.75 - 1]","La o el estudiante no presenta dificultades en el desarrollo de sus HSE."]
[]
[]
[null,"FACTORES DE RIESGO"]
[null,"Color","Escala - Estado","Interpretación"]
[null,"Alto Riesgo","“ALTO RIESGO”\n[0.75 - 1]","La o el estudiante requiere mayor acompañamiento  y contrastar la información con otras fuentes para prevenir conductas y/o situaciones de riesgo."]
[null,"Riesgo Moderado","“RIESGO MODERADO”\n[0.26 - 0.74]","La o el estudiante requiere acciones de acompañamiento para prevenir conductas y/o situaciones de riesgo."]
[null,"Bajo Riesgo","“BAJO RIESGO”\n[0 - 0.25]","La o el estudiante cuenta con factores protectores."]
[]
[]
[null,null,null,null,null,null,null,null,"Leyenda"]
[null,null,null,null,null,null,null,null,"Color","Escala - Estado"]
[null,null,null,null,null,null,null,null,"ROJO","Alto Riesgo"]
[null,null,null,null,null,null,null,null,"AMARILLO","Riesgo Moderado"]
[null,null,null,null,null,null,null,null,"VERDE","Bajo Riesgo"]
[]
[null,null,null,null,null,null,null,null,"Leyenda"]
[null,null,null,null,null,null,null,null,"Color","Escala - Estado"]
[null,null,null,null,null,null,null,null,"ROJO","En Inicio"]
[null,null,null,null,null,null,null,null,"AMARILLO","En Proceso"]
[null,null,null,null,null,null,null,null,"VERDE","Satisfactorio"]