{"text_format":"1","workbook":"xlsx","n_sheets":14,"sheets":["Índice","Back","4A","Espejo","BASE DE RESPUESTAS","Resumen de indicadores HSE","Resumen de Escala HSE","Resumen de indicadores FR","Resumen de Escala FR","Resumen de Resultados","LEYENDA","Sección","Colegio","Hoja1"],"not_rendered":{"charts":0,"images":2,"macros":1,"external_links":0,"defined_names":5,"comments":0,"pivot_tables":0},"unopened":[],"bounds":{"document_bytes":16777216,"sheet_cells":100000,"rows_first":2000,"rows_last":500,"rows_between":2000,"halvings":0,"cell_chars":16384,"cell_head_chars":4096},"cells_cut":0,"cells_raw":0,"read":"whole","date_system":"1900"}

{"sheet":"Índice","index":0,"n_rows":11,"n_cols":3,"rows_kept":11,"cut":false,"hidden":false,"merged":[]}
[]
[]
[null,"Nombre de la IE"]
[]
[null,"Nivel","PRIMARIA"]
[]
[null,"Ciclo","III"]
[]
[null,"Grado",1.0]
[]
[null,"Sección"]

{"sheet":"Back","index":1,"n_rows":46,"n_cols":16,"rows_kept":46,"cut":false,"hidden":true,"merged":[[1,14,1,15],[16,7,19,7],[16,8,17,8],[18,8,19,8]]}
[null,null,null,null,{"$f":"+'BASE DE RESPUESTAS'!#REF!","v":"#ERROR!"}]
[null,null,"Primaria","1°",null,"A) No me pasa",1.0,1.75,"MENOR A ESO ROJO",null,null,null,"LEYENDA",null,"Leyenda"]
[null,null,"Secundaria","2°",{"$f":"+IF($E$1=1,\"\",IF($E$1=2,\"III\",\"VI\"))","v":"#ERROR!"},"B) Me pasa poco",2.0,3.25,"IGUAL Y MENOR AMARILLO",null,null,null,"ROJO","CRÍTICO","Colores","Resultados"]
[null,null,null,"3°",{"$f":"+IF($E$1=1,\"\",IF($E$1=2,\"IV\",\"VII\"))","v":"#ERROR!"},"C) Me pasa regularmente",3.0,3.25,"MAYOR IGUAL",null,null,null,"AMARILLO","MODERADO","Rojo","Crítico"]
[null,null,null,"4°",{"$f":"+IF($E$1=1,\"\",IF($E$1=2,\"V\",\"\"))","v":"#ERROR!"},"D) Me pasa mucho",4.0,null,null,null,null,null,"VERDE","IDEAL","Amarillo","Moderado"]
[null,null,null,"5°",null,"E) No respondió",0.0,null,null,null,null,null,null,null,"Verde","Ideal"]
[null,null,null,"6°"]
[]
[]
[]
[]
[null,null,null,null,null,null,null,"Primaria: III - V"]
[null,"Escribe/Dibuja/Describe por lo menos 2 cualidades.","Escribe/dibuja/describe solo 1 o ninguna cualidad.",null,null,null,null,"Secundaria: VI - VII"]
[null,"Escribe/Dibuja/Describe por lo menos 2 cualidades.","Escribe/dibuja/describe solo 1 o ninguna cualidad."]
[null,"Escribe/Dibuja/Describe por lo menos 2 características suyas con cognotación positiva (puede incluir características físicas).\n\nEjemplo Válido:\nSoy el más creativo de la clase\nEjemplo que no corresponde:\nSoy el más irresponsable de mi clase.","Escribe/dibuja/describe solo 1 o ninguna característica."]
[null,"Sí","No",null,null,null,null,"Indicador","Pregunta","Respuestas","Valores",null,"Respuesta Esperada",1.0]
[null,"Describe o dibuja por los menos dos tareas o actividades.","No describe o dibuja ninguna actividad o tarea o describe solo 1.",null,null,null,null,1.1,1.0,"Escribe/Dibuja/Describe por lo menos 2 cualidades.",1.0,null,"Respuesta No Esperada",0.0]
[null,"Sí","No",null,null,null,null,null,null,"Escribe/dibuja/describe solo 1 o ninguna cualidad.",0.0,null,"Se dejó en blanco","-"]
[null,"Sí","No",null,null,null,null,null,2.0,"Escribe/Dibuja/Describe por lo menos 2 cualidades.",1.0,null,"Sí",1.0]
[null,"Escribe o dibuja 2 o más emociones.","Escribe o dibuja una o ninguna emoción.",null,null,null,null,null,null,"Escribe/dibuja/describe solo 1 o ninguna cualidad.",0.0,null,"No",0.0]
[null,"Debe describir/dibujar a una persona triste o molesta o similar cuanto mínimo.","Describe a una persona feliz o alegra."]
[null,"Debe describir/dibujar por lo menos 2 emociones que experimentó durante ese momento.","Describe solo una emoción o ninguna."]
[null,"a) Frutas, agua, huevo, yogurt, pan\n","b) Hamburguesa, caramelos, gaseosa "]
[null,"a) Sedentaria: que hace solo o con más personas. (Imágenes: niño “Voy a quedarme escuchando la radio todo el día”)","b) Físicas: alguna actividad física con más personas."]
[null,"a) Llevar su mano al pecho y sentir su corazón.","b) Parar de inmediato y sentarse. "]
[null,"Para el caso de los hombres por lo menos 1 y para el caso de las mujeres por lo menos 2.","No señala nada o señale una parte que no es íntima."]
[null,"a) Sí","b) No"]
[null,"a) Gritarle a todos sus compañeros de equipo e irse. ","b) Entender que todos pueden fallar y quedarse con su equipo a seguir jugando. "]
[null,"a) Queda triste y muy avergonzado por el accidente por eso no va a clase.","b) Se disculpa, la ayuda y va tranquilo a clase."]
[null,"a) Está muy avergonzada y llora porque se burlan de ella.","b) Entiende la situación y usa su cartulina azul."]
[null,"a) Sí","b) No"]
[null,"a) Retrasa la cena y su papá se molesta por no cumplir con sus tareas. ","b) No pasa nada, sus padres van a lavar las verduras por él. "]
[null,"a) La decisión de jugar en lugar de hacer sus deberes. Que no priorizó sus tareas.","b) Su papá no quiso lavar las verduras. "]
[null,"a) Escenario 1:\n• Juan: Ayer estuve jugando Free Fire con mi hermano y estaba ganando cuando…\n• Pedro: A mí también me gusta jugar Free Fire, aunque prefiero Minecraft porque es más chévere y puedes ir construyendo tu propia casa\n• Juan: Claro, a mí también me gusta Mine…\n• Pedro: El otro día construí una casa de dos pisos, con terraza y un patio grande\n• Juan: ¡Genial! Yo también hice un …\n• Pedro: También hice una fortaleza de color gris, inmensa, etc.","b) Escenario 2:\n• Juan: Ayer estuve jugando Free Fire con mi hermano y por fin le estaba ganando, cuando mi mamá nos llamó para comer y no pudimos terminar el juego.\n• Pedro: Asu, qué mala suerte. Seguro la próxima si le ganas.\n• Juan: Sí, he estado mejorando. ¿A ti también te gusta ese juego?\n• Pedro: Sí, pero me gusta más Minecraft. El otro día construí una casa de dos pisos, con terraza y un patio grande\n• Juan: ¡Genial! Yo también lo he jugado. Hice una fortaleza inmensa.\n"]
[null,"a) Decir: Perdona, me gustaría terminar de contar lo que estaba diciendo.","b) Decir: ¡No es justo! ¿No puedo hablar yo?\n","c) Interrumpir al niño empezando a hablar otra vez.","d) No decir nada y dejar que el otro niño continuara hablando.","e) Decir: ¡Cállate! ¡Estaba hablando yo!"]
[null,"a) Se pelean para elegir el que hará el personaje","b) Le piden a la profesora que elija quién hará el personaje ","c) Llegar a un acuerdo que puede ser “Bruno hace el personaje ahora y Gonzalo hace el personaje después”."]
[null,"a) Escenario 1: Roberto es un chico extranjero que apenas se está integrando al grupo (Imagen donde unos niños rechazan al niño extranjero.)","b) Escenario 2: Carlos es un chico extranjero que apenas se está integrando al grupo. (Imagen donde unos niños buscan incluir al niño extranjero.)"]
[null,"a) Escucho con atención para entenderlo","b) Escucho con atención para refutar su idea porque está mal","c) Miento diciendo que estoy de acuerdo para terminar la discusión lo más pronto posible."]
[null,"a) Presto atención para saber cómo se siente mi compañero y por qué se siente así.","b) Presto atención, pero pocas veces entiendo por qué está molesto.","c) Solo quiero ganar en la discusión.","d) No presto atención a sus emociones porque no es mi problema."]
[null,"a) Escucho con atención para entender su punto de vista.","b) Intento convencerlo de que está equivocado porque solo mi idea puede ser correcta.","c) Digo: Estoy de acuerdo (cuando en verdad no estoy de acuerdo, pero así evito discutir).","\nd) No le vuelvo a hablar porque no piensa igual que yo."]
[null,"a) Yo sugiero mi juego favorito y los convenzo para jugarlo.","b) Cada uno sugiere un juego y establecemos turnos para jugar cada juego.","c) Me molesto porque no quieren jugar el juego que yo quiero."]
[null,"a) Digo: Tranquilo, ya va a llegar la hora del almuerzo.","b) Le invito de mi lonchera y nos divertimos conversando.","c) Escondo mi comida para que no me pida."]
[null,"a) Converso con él porque siento que aprendo cosas nuevas de donde viene.","b) Junto con mis compañeros me burlo de él y sus costumbres o lenguaje.","c) No le hablo porque es diferente"]
[null,"a) Le digo a la profesora que cambie a Carlitos de grupo porque no lo entiendo cuando habla.","b) Le presento a Carlitos al resto de mis compañeros para que también lo conozcan.","c) Me molesto porque Carlitos no me cae bien porque no es peruano."]
[null,"a) Juntarse con sus compañeros y compañeras para arreglar el espacio.","b) No debe hacer nada, no tiene la responsabilidad de lo que pase en el parque."]
[null,"a) Botar la basura e intentar hablar con su compañero.","b) No hacer nada porque no es su basura."]

{"sheet":"4A","index":2,"n_rows":190,"n_cols":19,"rows_kept":190,"cut":false,"hidden":true,"merged":[[10,1,13,1],[14,1,15,1],[16,1,18,1],[19,1,26,1],[20,2,21,2],[27,1,30,1],[27,2,29,2],[31,1,33,1],[34,1,35,1],[36,1,38,1],[39,1,41,1],[42,1,43,1],[44,1,46,1],[47,1,48,1],[49,1,52,1],[53,1,55,1],[56,1,57,1],[58,1,59,1],[61,1,62,1],[63,1,66,1],[67,1,69,1],[94,1,96,1],[110,3,111,3],[117,3,119,3],[170,3,171,3],[70,1,73,1],[74,1,77,1],[78,1,82,1],[80,2,81,2],[83,1,86,1],[87,1,89,1],[90,1,92,1]]}
[null,null,null,null,"MEJOR 2, UNO PARA PRIMARIA Y OTRO PARA SECUNDARIA"]
[null,null,"FR es a la inversa"]
[null,null,null,null,"Nombre del Colegio"]
[null,null,null,null,"Nivel","Opciones","Primaria","Secundaria"]
[null,null,null,null,"Grado","Opciones",1.0,2.0,3.0,4.0,5.0,6.0]
[null,null,null,null,"Sección"]
[]
[]
[null,null,null,"Max 50","Jorge Pérez","Ricardo Miranda","Jorge Pérez","Arturo Ayala","Ricardo Miranda","Jorge Pérez","Arturo Ayala","Ricardo Miranda","Ricardo Miranda","Ricardo Miranda"]
["Dimensión","Escala","Indicador","Preguntas"]
["HSE","Autoconcepto","1.1.","Sé reconocer con facilidad mis fortalezas en mi vida personal (por ejemplo, soy creativo, soy perseverante, soy bueno en música, entre otros).",4.0,2.0,3.0,1.0,2.0,3.0,4.0,1.0,2.0,3.0,null,null,null,1.0]
["HSE",null,"1.2.","Sé reconocer con facilidad mis fortalezas en la vida comunitaria (ejemplo: me relaciono bien con el resto, trabajo en equipo, me preocupo por el resto, entre otros).",2.0,4.0,2.0,3.0,1.0,2.0,3.0,4.0,1.0,2.0,null,null,null,2.0]
["HSE",null,"1.3.","Sé reconocer con facilidad mis limitaciones/debilidades (por ejemplo, me cuesta aprender matemáticas, no soy muy bueno para los deportes, entre otros).",3.0,2.0,3.0,1.0,2.0,3.0,4.0,1.0,2.0,3.0,null,null,null,3.0]
["HSE",null,"1.4.","Trabajo por superar mis limitaciones.",4.0,4.0,2.0,3.0,1.0,2.0,3.0,4.0,1.0,2.0,null,null,null,4.0]
["HSE","Autoestima","2.1.","Me reconozco a mí mismo como único y tengo mucho de qué sentirme orgulloso.",4.0,4.0,2.0,3.0,1.0,2.0,3.0,4.0,1.0,2.0,null,null,null,{"$f":"+PERCENTILE(R11:R14,0.25)","v":1.75},"MENOR A ESO ROJO"]
["HSE",null,"2.2.","Soy capaz de describirme o hablar de mí mismo sin temor o vergüenza.",4.0,2.0,3.0,1.0,2.0,3.0,4.0,1.0,2.0,3.0,null,null,null,{"$f":"+PERCENTILE(R11:R14,0.75)","v":3.25},"IGUAL Y MENOR AMARILLO"]
["HSE","Conciencia Emocional","3.1.","Estoy en la capacidad de nombrar y diferencias mis emociones.",4.0,2.0,3.0,1.0,2.0,3.0,4.0,1.0,2.0,3.0]
["HSE",null,"3.2.","Soy capaz de explicar/reconocer las causas y consecuencias de mis emociones y las de los demás.",2.0,4.0,2.0,3.0,1.0,2.0,3.0,4.0,1.0,2.0]
["HSE",null,"3.3.","Comprendo cómo mis emociones afectan mi comportamiento.",1.0,4.0,2.0,3.0,1.0,2.0,3.0,4.0,1.0,2.0]
["HSE","Autocuidado","4.1.","Realizo actividades físicas porque quiero una vida saludable.",4.0,2.0,3.0,1.0,2.0,3.0,4.0,1.0,2.0,3.0]
["HSE",null,"4.2.","Conozco mi estado nutricional",4.0,2.0,3.0,1.0,2.0,3.0,4.0,1.0,2.0,3.0]
["HSE",null,null,"Me alimento teniendo en cuenta los beneficios y proporción correcta de mis alimentos.",4.0,2.0,3.0,1.0,2.0,3.0,4.0,1.0,2.0,3.0]
["HSE",null,"4.3.","Cuido de mi salud mental.",2.0,4.0,2.0,3.0,1.0,2.0,3.0,4.0,1.0,2.0]
["HSE",null,"4.4.","Realizo prácticas de higiene personal constantemente (me lavo constantemente las manos, uso ropa limpia constantemente, me lavo los dientes cada vez que es necesario, etc).",3.0,2.0,3.0,1.0,2.0,3.0,4.0,1.0,2.0,3.0]
["HSE",null,"4.5.","Realizo prácticas en pro del cuidado de mi ambiente.",4.0,4.0,2.0,3.0,1.0,2.0,3.0,4.0,1.0,2.0]
["HSE",null,"4.6.","Me cuido de las lesiones y accidentes.",4.0,4.0,2.0,3.0,1.0,2.0,3.0,4.0,1.0,2.0]
["HSE",null,"4.7.","Vivo mi sexualidad de manera segura y responsable.",4.0,2.0,3.0,1.0,2.0,3.0,4.0,1.0,2.0,3.0]
["HSE","Regulación Emocional","5.1.","Puedo calmarme cuando estoy emocionado(a) o enojado(a).",4.0,2.0,3.0,1.0,2.0,3.0,4.0,1.0,2.0,3.0]
["HSE",null,null,"Si algo no sale como lo planeaba, hago algo diferente para lograr mi objetivo.",2.0,4.0,2.0,3.0,1.0,2.0,3.0,4.0,1.0,2.0]
["HSE",null,null,"Cuando estoy discutiendo con alguien, puedo hablar tranquilamente sin perder el control.",1.0,4.0,2.0,3.0,1.0,2.0,3.0,4.0,1.0,2.0]
["HSE",null,"5.2.","Aplico estrategias para gestionar mis emociones e impulsos para alcanzar un objetivo.",4.0,2.0,3.0,1.0,2.0,3.0,4.0,1.0,2.0,3.0]
["HSE","Creatividad","6.1.","Observo siempre los problemas desde más de una perspectiva.",4.0,2.0,3.0,1.0,2.0,3.0,4.0,1.0,2.0,3.0]
["HSE",null,"6.2.","Elaboro un plan original y detallado para resolver un problema.",4.0,2.0,3.0,1.0,2.0,3.0,4.0,1.0,2.0,3.0]
["HSE",null,"6.3.","Tomo la iniciativa para generar proyectos nuevos.",4.0,2.0,3.0,1.0,2.0,3.0,4.0,1.0,2.0,3.0]
["HSE","Toma de decisiones responsables","7.1.","Tomo en cuenta diversas fuentes de información para decidir qué hacer.",4.0,2.0,3.0,1.0,2.0,3.0,4.0,1.0,2.0,3.0]
["HSE",null,"7.2.","Tomo decisiones en función de las situaciones que afectan el bienestar de mi vida, el de mi familia y comunidad.",2.0,4.0,2.0,3.0,1.0,2.0,3.0,4.0,1.0,2.0]
["HSE","Comunicación Asertiva","8.1.","Escucho de manera activa cuando alguien me está hablando.",3.0,2.0,3.0,1.0,2.0,3.0,4.0,1.0,2.0,3.0]
["HSE",null,"8.2.","Comunico de forma directa y clara aquellas situaciones que me incomodan, sin herir a la otra persona.",4.0,4.0,2.0,3.0,1.0,2.0,3.0,4.0,1.0,2.0]
["HSE",null,"8.3.","Si no estoy de acuerdo con un(a) amigo(a), se lo digo.",4.0,4.0,2.0,3.0,1.0,2.0,3.0,4.0,1.0,2.0]
["HSE","Trabajo en Equipo","9.1.","Organizo con mi equipo las tareas que cada uno debe cumplir para que podamos alcanzar nuestro objetivo en común.",4.0,2.0,3.0,1.0,2.0,3.0,4.0,1.0,2.0,3.0]
["HSE",null,"9.2.","Reconozco y valoro las diferentes características de mis compañeros.",4.0,2.0,3.0,1.0,2.0,3.0,4.0,1.0,2.0,3.0]
["HSE",null,"9.3.","Expreso acciones de mejora para los integrantes de mi equipo, sin dañar sus sentimientos.",2.0,4.0,2.0,3.0,1.0,2.0,3.0,4.0,1.0,2.0]
["HSE","Empatía","10.1.","Comprendo las necesidades y puntos de vista de otras personas al momento de tomar una decisión.",1.0,4.0,2.0,3.0,1.0,2.0,3.0,4.0,1.0,2.0]
["HSE",null,"10.2.","Relaciono las emociones que siente una persona con la situación que está viviendo.",4.0,2.0,3.0,1.0,2.0,3.0,4.0,1.0,2.0,3.0]
["HSE","Resolución de Conflictos","11.1.","Resuelvo junto a mis compañeros y compañeras los problemas que se presentan en el aula y en la institución educativa, teniendo en cuenta los recursos disponibles.",4.0,2.0,3.0,1.0,2.0,3.0,4.0,1.0,2.0,3.0]
["HSE",null,"11.2.","Busco una solución satisfactoria que beneficie a las partes involucradas.",4.0,2.0,3.0,1.0,2.0,3.0,4.0,1.0,2.0,3.0]
["HSE",null,"11.3.","Tengo la capacidad de mediar conflictos entre mis compañeros.",2.0,4.0,2.0,3.0,1.0,2.0,3.0,4.0,1.0,2.0]
["HSE","Conciencia Social","12.1.","Delibero sobre temas de interés de la comunidad formulando soluciones en base a sus causas y consecuencias, analizando argumentos contrarios a los propios y argumentando su postura basándome en fuentes y en otras opiniones.",3.0,2.0,3.0,1.0,2.0,3.0,4.0,1.0,2.0,3.0]
["HSE",null,"12.2.","Busco el bien común en mis decisiones, tomando en cuenta las diferentes perspectivas de las personas, el contexto social y cultural en el que me encuentro.",4.0,4.0,2.0,3.0,1.0,2.0,3.0,4.0,1.0,2.0]
["HSE","Comportamiento Social","13.1.","Propongo, planifico y ejecuto acciones de manera cooperativa, dirigidas a promover el bien común, la defensa de derechos y el cumplimiento de mis deberes como miembro de una comunidad.",4.0,4.0,2.0,3.0,1.0,2.0,3.0,4.0,1.0,2.0]
["HSE",null,"13.2.","Demuestro iniciativa propia para desarrollar actividades que tengan una consecuencia positiva en mi comunidad.",4.0,2.0,3.0,1.0,2.0,3.0,4.0,1.0,2.0,3.0]
["HSE",null,"13.3.","Convivo reconociendo las diferencias y valorando la diversidad.",4.0,2.0,3.0,1.0,2.0,3.0,4.0,1.0,2.0,3.0]
["HSE",null,"13.4.","Convivo reconociendo la importancia de un enfoque de igualdad de género.",2.0,4.0,2.0,3.0,1.0,2.0,3.0,4.0,1.0,2.0]
["FR","Baja Autoestima","1.1.","Me siento infeliz, triste y frustrado porque no soy querido y no me siente bien conmigo mismo.",1.0,4.0,2.0,3.0,1.0,2.0,3.0,4.0,1.0,2.0]
["FR",null,"1.2.","Me dejo influir con facilidad, especialmente para no manifestar o recibir rechazo.",4.0,2.0,3.0,1.0,2.0,3.0,4.0,1.0,2.0,3.0]
["FR",null,"1.3.","Tengo pensamientos negativos, especialmente contra mí mismo.",4.0,2.0,3.0,1.0,2.0,3.0,4.0,1.0,2.0,3.0]
["FR","Consumo de alcohol y drogas","2.1.","Mi papá y/o mamá o apoderados consumen alcohol o drogas en frente de mí.",4.0,2.0,3.0,1.0,2.0,3.0,4.0,1.0,2.0,3.0]
["FR",null,"2.2.","Mi papá y/o mamá o apoderados llegan al hogar bajo los efectos del consumo de alcohol u otras drogas.",4.0,2.0,3.0,1.0,2.0,3.0,4.0,1.0,2.0,3.0]
["FR","Inicio de Trabajo Infantil","3.1.","Me duermo en el salón o estoy permanentemente cansado.",2.0,3.0,4.0,1.0,2.0,3.0,3.0,4.0,1.0,2.0]
["FR",null,"3.2.","Me veo obligado(a) a trabajar en la calle o realizar tareas domésticas en vez de jugar y/o estudiar.",1.0,2.0,3.0,4.0,1.0,2.0,2.0,3.0,4.0,1.0]
["FR","Ausentismo Escolar","4.1.","Falto a la escuela sin justificación por lo menos una vez a la semana.",2.0,3.0,4.0,1.0,2.0,3.0,3.0,4.0,1.0,2.0]
["FR","Embarazo Adolescente","5.1.","Mis padres son excesivamente jóvenes y les cuesta ejercer sus responsabilidades para conmigo.",1.0,2.0,3.0,4.0,1.0,2.0,2.0,3.0,4.0,1.0]
["FR",null,"5.2.","En mi familia, la mayoría ha tenido embarazo adolescente (padres, hermanos/as, parientes cercanos).",1.0,2.0,3.0,4.0,1.0,2.0,2.0,3.0,4.0,1.0]
["FR","Abuso físico y/o psicológico","6.1.","Mi papá y/o mamá o apoderados me golpean.",2.0,3.0,4.0,1.0,2.0,3.0,3.0,4.0,1.0,2.0]
["FR",null,"6.2.","Mi papá y/o mamá o apoderados me castigan, humillan y/o hacen sentir culpables.",2.0,3.0,4.0,1.0,2.0,3.0,3.0,4.0,1.0,2.0]
["FR",null,"6.3.","Mi papá y/o mamá o apoderados me gritan, insultan o riñen por cualquier cosa.",1.0,2.0,3.0,4.0,1.0,2.0,2.0,3.0,4.0,1.0]
["FR",null,"6.4.","Mis padres o apoderados pelean o discuten constantemente conmigo.",1.0,2.0,3.0,4.0,1.0,2.0,2.0,3.0,4.0,1.0]
["FR","Pleitos entre padres","7.1.","Mis padres o apoderados están desunidos y no se comprenden.",2.0,3.0,4.0,1.0,2.0,3.0,3.0,4.0,1.0,2.0]
["FR",null,"7.2.","Mis padres o apoderados se pelean y gritan entre sí.",2.0,3.0,4.0,1.0,2.0,3.0,3.0,4.0,1.0,2.0]
["FR",null,"7.3.","Mis padres o apoderados se reclaman o exigen cosas delante de mí.",2.0,3.0,4.0,1.0,2.0,3.0,3.0,4.0,1.0,2.0]
["FR","Bajo nivel de compromiso en la escuela","8.1.","No me esfuerzo por aprender.",1.0,2.0,3.0,4.0,1.0,2.0,2.0,3.0,4.0,1.0]
["FR",null,"8.2.","No participo en actividades académicas.",2.0,3.0,4.0,1.0,2.0,3.0,3.0,4.0,1.0,2.0]
["FR",null,"8.3.","Presento un comportamiento inadecuado en clase.",1.0,2.0,3.0,4.0,1.0,2.0,2.0,3.0,4.0,1.0]
["FR",null,"8.4.","No tengo una buena relación con los docentes.",1.0,2.0,3.0,4.0,1.0,2.0,2.0,3.0,4.0,1.0]
["FR","Estereotipos sexistas","9.1.","Estoy de acuerdo con la siguiente proposición: “Los hombres resuelven sus conflictos normalmente utilizando la fuerza física”.",2.0,3.0,4.0,1.0,2.0,3.0,3.0,4.0,1.0,2.0]
["FR",null,"9.2.","Estoy de acuerdo con la siguiente proposición: “Las mujeres pueden abrazarse o besarse con sus amigas para demostrar su cariño, pero los hombres no”.",2.0,3.0,4.0,1.0,2.0,3.0,3.0,4.0,1.0,2.0]
["FR",null,"9.3.","Estoy de acuerdo con la siguiente proposición: “El atractivo masculino (de los niños y hombres) está en un cuerpo fuerte, robusto y vigoroso”.",1.0,2.0,3.0,4.0,1.0,2.0,2.0,3.0,4.0,1.0]
["FR",null,"9.4.","Estoy de acuerdo con la siguiente proposición: “El atractivo femenino está en un cuerpo delicado frágil y ligero”.",1.0,2.0,3.0,4.0,1.0,2.0,2.0,3.0,4.0,1.0]
["FR","Bullying (víctima)",10.1,"Últimamente he presentado un descenso en mi rendimiento escolar.",2.0,3.0,4.0,1.0,2.0,3.0,3.0,4.0,1.0,2.0]
["FR",null,10.2,"Presento síntomas depresivos o de ansiedad: irritabilidad, insomnio, pesadillas, falta de apetito, problemas gastrointestinales, ahogos, mareos, dolor de cabeza, inquietud, nerviosismo, pesimismo, etc.",2.0,3.0,4.0,1.0,2.0,3.0,3.0,4.0,1.0,2.0]
["FR",null,"10.3.","Alguna vez he faltado al colegio por miedo a que alguien me haga daño.",2.0,3.0,4.0,1.0,2.0,3.0,3.0,4.0,1.0,2.0]
["FR",null,null,"Al menos un estudiante se burló de mí por algún medio electrónico (correo electrónico, Facebook, mensaje de texto, Twitter, etc.).",2.0,3.0,4.0,1.0,2.0,3.0,3.0,4.0,1.0,2.0]
["FR",null,"10.4.","Tengo actitudes de apatía (no tengo ganas de hacer nada).",3.0,3.0,3.0,4.0,1.0,2.0,2.0,3.0,4.0,1.0]
["FR","Bullying (acosador)",11.1,"Manifiesto agresividad verbal y/o física.",3.0,3.0,3.0,4.0,1.0,2.0,2.0,3.0,4.0,1.0]
["FR",null,"11.2.","Realizo miradas y gestos violentos o de rechazo en el aula.",4.0,4.0,4.0,1.0,2.0,3.0,3.0,4.0,1.0,2.0]
["FR",null,"11.3.","Genero abuso de poder y coacción en el aula.",4.0,4.0,4.0,1.0,2.0,3.0,3.0,4.0,1.0,2.0]
["FR",null,"11.4.","Me burlé de otro estudiante por algún medio electrónico (correo electrónico, Facebook, mensaje de texto, Twitter, etc.).",3.0,3.0,3.0,4.0,1.0,2.0,2.0,3.0,4.0,1.0]
["FR","Situación Económica Precaria o Inestable",12.1,"Mis padres o apoderados están sin trabajo o con empleos eventuales.",3.0,3.0,3.0,4.0,1.0,2.0,2.0,3.0,4.0,1.0]
["FR",null,"12.2.","Mis padres o apoderados cambian de trabajo constantemente.",4.0,4.0,4.0,1.0,2.0,3.0,3.0,4.0,1.0,2.0]
["FR",null,12.3,"Mis padres o apoderados tienen problemas para comprar los víveres y cubrir gastos del hogar.",4.0,4.0,4.0,1.0,2.0,3.0,3.0,4.0,1.0,2.0]
["FR","Malas influencias","13.1.","Me encuentro frecuentemente en cercanía y/o compañía de personas en delincuencia y/o pandillas y/o drogadicción.",4.0,4.0,4.0,1.0,2.0,3.0,3.0,4.0,1.0,2.0]
["FR",null,"13.2.","Me encuentro frecuentemente en compañía de adultos que no pertenecen al núcleo familiar.",3.0,3.0,3.0,4.0,1.0,2.0,2.0,3.0,4.0,1.0]
["FR",null,"13.3.","Me cuesta soportar la presión del grupo y termino haciendo lo que me piden.",4.0,4.0,4.0,1.0,2.0,3.0,3.0,4.0,1.0,2.0]
["FR","Falta de afecto y/o muestras de cariño","14.1.","Mis padres o apoderados no me demuestran afecto.",3.0,3.0,3.0,4.0,1.0,2.0,2.0,3.0,4.0,1.0]
["FR","Duelo","15.1.","Presento tristeza profunda, dolor y pensamientos constantes acerca de la pérdida de seres queridos.",3.0,3.0,3.0,4.0,1.0,2.0,2.0,3.0,4.0,1.0]
["FR",null,"15.2.","Presento atención extrema a los recuerdos del ser querido que he perdido.",4.0,4.0,4.0,1.0,2.0,3.0,3.0,4.0,1.0,2.0]
["FR",null,"15.3.","Presenta falta de concentración en cuestiones que no sean la muerte del ser querido.",4.0,4.0,4.0,1.0,2.0,3.0,3.0,4.0,1.0,2.0]
[]
[null,null,null,"RESULTADOS"]
[null,null,"Sección",null,"Estudiante"]
[null,null,3.25,"1.1.",3.36]
[null,null,null,"1.2."]
[null,null,null,"1.3."]
[null,null,null,"1.4."]
[null,null,null,"2.1."]
[null,null,null,"2.2."]
[null,null,null,"3.1."]
[null,null,null,"3.2."]
[null,null,null,"3.3."]
[null,null,null,"4.1."]
[null,null,null,"4.2."]
[]
[null,null,null,"4.3."]
[null,null,null,"4.4."]
[null,null,null,"4.5."]
[null,null,null,"4.6."]
[null,null,null,"4.7."]
[null,null,null,"5.1."]
[]
[]
[null,null,null,"5.2."]
[null,null,null,"6.1."]
[null,null,null,"6.2."]
[null,null,null,"6.3."]
[null,null,null,"7.1."]
[null,null,null,"7.2."]
[null,null,null,"8.1."]
[null,null,null,"8.2."]
[null,null,null,"8.3."]
[null,null,null,"9.1."]
[null,null,null,"9.2."]
[null,null,null,"9.3."]
[null,null,null,"10.1."]
[null,null,null,"10.2."]
[null,null,null,"11.1."]
[null,null,null,"11.2."]
[null,null,null,"11.3."]
[null,null,null,"12.1."]
[null,null,null,"12.2."]
[null,null,null,"13.1."]
[null,null,null,"13.2."]
[null,null,null,"13.3."]
[null,null,null,"13.4."]
[null,null,null,"1.1."]
[null,null,null,"1.2."]
[null,null,null,"1.3."]
[null,null,null,"2.1."]
[null,null,null,"2.2."]
[null,null,null,"3.1."]
[null,null,null,"3.2."]
[null,null,null,"4.1."]
[null,null,null,"5.1."]
[null,null,null,"5.2."]
[null,null,null,"6.1."]
[null,null,null,"6.2."]
[null,null,null,"6.3."]
[null,null,null,"6.4."]
[null,null,null,"7.1."]
[null,null,null,"7.2."]
[null,null,null,"7.3."]
[null,null,null,"8.1."]
[null,null,null,"8.2."]
[null,null,null,"8.3."]
[null,null,null,"8.4."]
[null,null,null,"9.1."]
[null,null,null,"9.2."]
[null,null,null,"9.3."]
[null,null,null,"9.4."]
[null,null,null,10.1]
[null,null,null,10.2]
[null,null,null,"10.3."]
[]
[null,null,null,"10.4."]
[null,null,null,11.1]
[null,null,null,"11.2."]
[null,null,null,"11.3."]
[null,null,null,"11.4."]
[null,null,null,12.1]
[null,null,null,"12.2."]
[null,null,null,12.3]
[null,null,null,"13.1."]
[null,null,null,"13.2."]
[null,null,null,"13.3."]
[null,null,null,"14.1."]
[null,null,null,"15.1."]
[null,null,null,"15.2."]
[null,null,null,"15.3."]
[]
[]
[null,null,null,"Escala"]

{"sheet":"Espejo","index":3,"n_rows":58,"n_cols":57,"rows_kept":58,"cut":false,"hidden":true,"merged":[[4,21,5,21],[4,22,5,22],[4,23,5,23],[4,24,5,24],[4,25,5,25],[4,26,5,26],[4,27,5,27],[4,28,5,28],[4,29,5,29],[4,30,5,30],[4,31,5,31],[4,32,5,32],[4,33,5,33],[4,34,5,34],[4,49,5,49],[4,50,5,50],[4,51,5,51],[4,52,5,52],[4,53,5,53],[4,54,5,54],[4,55,5,55],[4,56,5,56],[3,1,3,5],[3,7,3,56],[4,1,5,1],[4,2,5,2],[4,3,5,3],[4,4,5,4],[4,5,5,5],[4,35,5,35],[4,36,5,36],[4,37,5,37],[4,38,5,38],[4,39,5,39],[4,40,5,40],[4,41,5,41],[4,42,5,42],[4,43,5,43],[4,44,5,44],[4,45,5,45],[4,46,5,46],[4,47,5,47],[4,48,5,48],[4,9,5,9],[4,10,5,10],[4,11,5,11],[4,12,5,12],[4,13,5,13],[4,14,5,14],[4,15,5,15],[4,16,5,16],[4,17,5,17],[4,18,5,18],[4,19,5,19],[4,20,5,20],[4,7,5,7],[4,8,5,8],[6,1,9,1],[6,2,9,2],[6,3,8,3],[10,2,14,2],[11,3,14,3],[39,1,40,1],[39,2,40,2],[41,1,43,1],[41,2,43,2],[41,3,42,3],[44,2,45,2],[44,3,45,3],[44,1,45,1],[46,1,47,1],[46,2,47,2],[48,1,49,1],[48,2,49,2],[48,3,49,3],[50,1,51,1],[10,1,14,1],[15,1,18,1],[15,2,18,2],[15,3,16,3],[17,3,18,3],[19,2,21,2],[19,3,20,3],[19,1,21,1],[23,1,24,1],[23,2,24,2],[23,3,24,3],[23,4,24,4],[23,5,24,5],[25,1,26,1],[31,3,32,3],[33,3,34,3],[35,3,36,3],[25,2,26,2],[25,3,26,3],[27,1,28,1],[27,2,28,2],[27,3,28,3],[29,2,30,2],[29,3,30,3],[29,1,30,1],[31,1,34,1],[31,2,34,2],[35,1,36,1],[35,2,36,2],[37,1,38,1],[37,2,38,2],[50,2,51,2],[50,3,51,3],[53,1,54,1],[53,2,54,2],[53,3,54,3],[55,1,57,1],[55,2,57,2]]}
[]
[]
[]
[null,"INFORMACIÓN BÁSICA",null,null,null,null,null,"ESTUDIANTES"]
[null,"Dimensión","Escala","Indicador","Número","Preguntas",null,"ANDRÉ ARANA","RAFAEL MIRANDA","MALU LOPEZ","Estudiante 4","Estudiante 5","Estudiante 6","Estudiante 7","Estudiante 8","Estudiante 9","Estudiante 10","Estudiante 11","Estudiante 12","Estudiante 13","Estudiante 14","Estudiante 15","Estudiante 16","Estudiante 17","Estudiante 18","Estudiante 19","Estudiante 20","Estudiante 21","Estudiante 22","Estudiante 23","Estudiante 24","Estudiante 25","Estudiante 26","Estudiante 27","Estudiante 28","Estudiante 29","Estudiante 30","Estudiante 31","Estudiante 32","Estudiante 33","Estudiante 34","Estudiante 35","Estudiante 36","Estudiante 37","Estudiante 38","Estudiante 39","Estudiante 40","Estudiante 41","Estudiante 42","Estudiante 43","Estudiante 44","Estudiante 45","Estudiante 46","Estudiante 47","Estudiante 48","Estudiante 49","Estudiante 50"]
[]
[null,"HSE","Autoconcepto","El o la estudiante reconoce las características que más le gustan de sí misma/o.",1.0,"Marca con color rojo las partes de tu cuerpo que más te gustan.",null,{"$f":"+VLOOKUP('BASE DE RESPUESTAS'!H7,Back!$M$16:$N$20,2,0)","v":"#N/A"},{"$f":"+VLOOKUP('BASE DE RESPUESTAS'!I7,Back!$M$16:$N$20,2,0)","v":"#N/A"},{"$f":"+VLOOKUP('BASE DE RESPUESTAS'!J7,Back!$M$16:$N$20,2,0)","v":"#N/A"},{"$f":"+VLOOKUP('BASE DE RESPUESTAS'!K7,Back!$M$16:$N$20,2,0)","v":"#N/A"},{"$f":"+VLOOKUP('BASE DE RESPUESTAS'!L7,Back!$M$16:$N$20,2,0)","v":"#N/A"},{"$f":"+VLOOKUP('BASE DE RESPUESTAS'!M7,Back!$M$16:$N$20,2,0)","v":"#N/A"},{"$f":"+VLOOKUP('BASE DE RESPUESTAS'!N7,Back!$M$16:$N$20,2,0)","v":"#N/A"},{"$f":"+VLOOKUP('BASE DE RESPUESTAS'!O7,Back!$M$16:$N$20,2,0)","v":"#N/A"},{"$f":"+VLOOKUP('BASE DE RESPUESTAS'!P7,Back!$M$16:$N$20,2,0)","v":"#N/A"},{"$f":"+VLOOKUP('BASE DE RESPUESTAS'!Q7,Back!$M$16:$N$20,2,0)","v":"#N/A"},{"$f":"+VLOOKUP('BASE DE RESPUESTAS'!R7,Back!$M$16:$N$20,2,0)","v":"#N/A"},{"$f":"+VLOOKUP('BASE DE RESPUESTAS'!S7,Back!$M$16:$N$20,2,0)","v":"#N/A"},{"$f":"+VLOOKUP('BASE DE RESPUESTAS'!T7,Back!$M$16:$N$20,2,0)","v":"#N/A"},{"$f":"+VLOOKUP('BASE DE RESPUESTAS'!U7,Back!$M$16:$N$20,2,0)","v":"#N/A"},{"$f":"+VLOOKUP('BASE DE RESPUESTAS'!V7,Back!$M$16:$N$20,2,0)","v":"#N/A"},{"$f":"+VLOOKUP('BASE DE RESPUESTAS'!W7,Back!$M$16:$N$20,2,0)","v":"#N/A"},{"$f":"+VLOOKUP('BASE DE RESPUESTAS'!X7,Back!$M$16:$N$20,2,0)","v":"#N/A"},{"$f":"+VLOOKUP('BASE DE RESPUESTAS'!Y7,Back!$M$16:$N$20,2,0)","v":"#N/A"},{"$f":"+VLOOKUP('BASE DE RESPUESTAS'!Z7,Back!$M$16:$N$20,2,0)","v":"#N/A"},{"$f":"+VLOOKUP('BASE DE RESPUESTAS'!AA7,Back!$M$16:$N$20,2,0)","v":"#N/A"},{"$f":"+VLOOKUP('BASE DE RESPUESTAS'!AB7,Back!$M$16:$N$20,2,0)","v":"#N/A"},{"$f":"+VLOOKUP('BASE DE RESPUESTAS'!AC7,Back!$M$16:$N$20,2,0)","v":"#N/A"},{"$f":"+VLOOKUP('BASE DE RESPUESTAS'!AD7,Back!$M$16:$N$20,2,0)","v":"#N/A"},{"$f":"+VLOOKUP('BASE DE RESPUESTAS'!AE7,Back!$M$16:$N$20,2,0)","v":"#N/A"},{"$f":"+VLOOKUP('BASE DE RESPUESTAS'!AF7,Back!$M$16:$N$20,2,0)","v":"#N/A"},{"$f":"+VLOOKUP('BASE DE RESPUESTAS'!AG7,Back!$M$16:$N$20,2,0)","v":"#N/A"},{"$f":"+VLOOKUP('BASE DE RESPUESTAS'!AH7,Back!$M$16:$N$20,2,0)","v":"#N/A"},{"$f":"+VLOOKUP('BASE DE RESPUESTAS'!AI7,Back!$M$16:$N$20,2,0)","v":"#N/A"},{"$f":"+VLOOKUP('BASE DE RESPUESTAS'!AJ7,Back!$M$16:$N$20,2,0)","v":"#N/A"},{"$f":"+VLOOKUP('BASE DE RESPUESTAS'!AK7,Back!$M$16:$N$20,2,0)","v":"#N/A"},{"$f":"+VLOOKUP('BASE DE RESPUESTAS'!AL7,Back!$M$16:$N$20,2,0)","v":"#N/A"},{"$f":"+VLOOKUP('BASE DE RESPUESTAS'!AM7,Back!$M$16:$N$20,2,0)","v":"#N/A"},{"$f":"+VLOOKUP('BASE DE RESPUESTAS'!AN7,Back!$M$16:$N$20,2,0)","v":"#N/A"},{"$f":"+VLOOKUP('BASE DE RESPUESTAS'!AO7,Back!$M$16:$N$20,2,0)","v":"#N/A"},{"$f":"+VLOOKUP('BASE DE RESPUESTAS'!AP7,Back!$M$16:$N$20,2,0)","v":"#N/A"},{"$f":"+VLOOKUP('BASE DE RESPUESTAS'!AQ7,Back!$M$16:$N$20,2,0)","v":"#N/A"},{"$f":"+VLOOKUP('BASE DE RESPUESTAS'!AR7,Back!$M$16:$N$20,2,0)","v":"#N/A"},{"$f":"+VLOOKUP('BASE DE RESPUESTAS'!AS7,Back!$M$16:$N$20,2,0)","v":"#N/A"},{"$f":"+VLOOKUP('BASE DE RESPUESTAS'!AT7,Back!$M$16:$N$20,2,0)","v":"#N/A"},{"$f":"+VLOOKUP('BASE DE RESPUESTAS'!AU7,Back!$M$16:$N$20,2,0)","v":"#N/A"},{"$f":"+VLOOKUP('BASE DE RESPUESTAS'!AV7,Back!$M$16:$N$20,2,0)","v":"#N/A"},{"$f":"+VLOOKUP('BASE DE RESPUESTAS'!AW7,Back!$M$16:$N$20,2,0)","v":"#N/A"},{"$f":"+VLOOKUP('BASE DE RESPUESTAS'!AX7,Back!$M$16:$N$20,2,0)","v":"#N/A"},{"$f":"+VLOOKUP('BASE DE RESPUESTAS'!AY7,Back!$M$16:$N$20,2,0)","v":"#N/A"},{"$f":"+VLOOKUP('BASE DE RESPUESTAS'!AZ7,Back!$M$16:$N$20,2,0)","v":"#N/A"},{"$f":"+VLOOKUP('BASE DE RESPUESTAS'!BA7,Back!$M$16:$N$20,2,0)","v":"#N/A"},{"$f":"+VLOOKUP('BASE DE RESPUESTAS'!BB7,Back!$M$16:$N$20,2,0)","v":"#N/A"},{"$f":"+VLOOKUP('BASE DE RESPUESTAS'!BC7,Back!$M$16:$N$20,2,0)","v":"#N/A"},{"$f":"+VLOOKUP('BASE DE RESPUESTAS'!BD7,Back!$M$16:$N$20,2,0)","v":"#N/A"},{"$f":"+VLOOKUP('BASE DE RESPUESTAS'!BE7,Back!$M$16:$N$20,2,0)","v":"#N/A"}]
[null,null,null,null,3.0,"Dibuja lo que mejor sabes hacer.",null,{"$f":"+VLOOKUP('BASE DE RESPUESTAS'!H8,Back!$M$16:$N$20,2,0)","v":"#N/A"},{"$f":"+VLOOKUP('BASE DE RESPUESTAS'!I8,Back!$M$16:$N$20,2,0)","v":"#N/A"},{"$f":"+VLOOKUP('BASE DE RESPUESTAS'!J8,Back!$M$16:$N$20,2,0)","v":"#N/A"},{"$f":"+VLOOKUP('BASE DE RESPUESTAS'!K8,Back!$M$16:$N$20,2,0)","v":"#N/A"},{"$f":"+VLOOKUP('BASE DE RESPUESTAS'!L8,Back!$M$16:$N$20,2,0)","v":"#N/A"},{"$f":"+VLOOKUP('BASE DE RESPUESTAS'!M8,Back!$M$16:$N$20,2,0)","v":"#N/A"},{"$f":"+VLOOKUP('BASE DE RESPUESTAS'!N8,Back!$M$16:$N$20,2,0)","v":"#N/A"},{"$f":"+VLOOKUP('BASE DE RESPUESTAS'!O8,Back!$M$16:$N$20,2,0)","v":"#N/A"},{"$f":"+VLOOKUP('BASE DE RESPUESTAS'!P8,Back!$M$16:$N$20,2,0)","v":"#N/A"},{"$f":"+VLOOKUP('BASE DE RESPUESTAS'!Q8,Back!$M$16:$N$20,2,0)","v":"#N/A"},{"$f":"+VLOOKUP('BASE DE RESPUESTAS'!R8,Back!$M$16:$N$20,2,0)","v":"#N/A"},{"$f":"+VLOOKUP('BASE DE RESPUESTAS'!S8,Back!$M$16:$N$20,2,0)","v":"#N/A"},{"$f":"+VLOOKUP('BASE DE RESPUESTAS'!T8,Back!$M$16:$N$20,2,0)","v":"#N/A"},{"$f":"+VLOOKUP('BASE DE RESPUESTAS'!U8,Back!$M$16:$N$20,2,0)","v":"#N/A"},{"$f":"+VLOOKUP('BASE DE RESPUESTAS'!V8,Back!$M$16:$N$20,2,0)","v":"#N/A"},{"$f":"+VLOOKUP('BASE DE RESPUESTAS'!W8,Back!$M$16:$N$20,2,0)","v":"#N/A"},{"$f":"+VLOOKUP('BASE DE RESPUESTAS'!X8,Back!$M$16:$N$20,2,0)","v":"#N/A"},{"$f":"+VLOOKUP('BASE DE RESPUESTAS'!Y8,Back!$M$16:$N$20,2,0)","v":"#N/A"},{"$f":"+VLOOKUP('BASE DE RESPUESTAS'!Z8,Back!$M$16:$N$20,2,0)","v":"#N/A"},{"$f":"+VLOOKUP('BASE DE RESPUESTAS'!AA8,Back!$M$16:$N$20,2,0)","v":"#N/A"},{"$f":"+VLOOKUP('BASE DE RESPUESTAS'!AB8,Back!$M$16:$N$20,2,0)","v":"#N/A"},{"$f":"+VLOOKUP('BASE DE RESPUESTAS'!AC8,Back!$M$16:$N$20,2,0)","v":"#N/A"},{"$f":"+VLOOKUP('BASE DE RESPUESTAS'!AD8,Back!$M$16:$N$20,2,0)","v":"#N/A"},{"$f":"+VLOOKUP('BASE DE RESPUESTAS'!AE8,Back!$M$16:$N$20,2,0)","v":"#N/A"},{"$f":"+VLOOKUP('BASE DE RESPUESTAS'!AF8,Back!$M$16:$N$20,2,0)","v":"#N/A"},{"$f":"+VLOOKUP('BASE DE RESPUESTAS'!AG8,Back!$M$16:$N$20,2,0)","v":"#N/A"},{"$f":"+VLOOKUP('BASE DE RESPUESTAS'!AH8,Back!$M$16:$N$20,2,0)","v":"#N/A"},{"$f":"+VLOOKUP('BASE DE RESPUESTAS'!AI8,Back!$M$16:$N$20,2,0)","v":"#N/A"},{"$f":"+VLOOKUP('BASE DE RESPUESTAS'!AJ8,Back!$M$16:$N$20,2,0)","v":"#N/A"},{"$f":"+VLOOKUP('BASE DE RESPUESTAS'!AK8,Back!$M$16:$N$20,2,0)","v":"#N/A"},{"$f":"+VLOOKUP('BASE DE RESPUESTAS'!AL8,Back!$M$16:$N$20,2,0)","v":"#N/A"},{"$f":"+VLOOKUP('BASE DE RESPUESTAS'!AM8,Back!$M$16:$N$20,2,0)","v":"#N/A"},{"$f":"+VLOOKUP('BASE DE RESPUESTAS'!AN8,Back!$M$16:$N$20,2,0)","v":"#N/A"},{"$f":"+VLOOKUP('BASE DE RESPUESTAS'!AO8,Back!$M$16:$N$20,2,0)","v":"#N/A"},{"$f":"+VLOOKUP('BASE DE RESPUESTAS'!AP8,Back!$M$16:$N$20,2,0)","v":"#N/A"},{"$f":"+VLOOKUP('BASE DE RESPUESTAS'!AQ8,Back!$M$16:$N$20,2,0)","v":"#N/A"},{"$f":"+VLOOKUP('BASE DE RESPUESTAS'!AR8,Back!$M$16:$N$20,2,0)","v":"#N/A"},{"$f":"+VLOOKUP('BASE DE RESPUESTAS'!AS8,Back!$M$16:$N$20,2,0)","v":"#N/A"},{"$f":"+VLOOKUP('BASE DE RESPUESTAS'!AT8,Back!$M$16:$N$20,2,0)","v":"#N/A"},{"$f":"+VLOOKUP('BASE DE RESPUESTAS'!AU8,Back!$M$16:$N$20,2,0)","v":"#N/A"},{"$f":"+VLOOKUP('BASE DE RESPUESTAS'!AV8,Back!$M$16:$N$20,2,0)","v":"#N/A"},{"$f":"+VLOOKUP('BASE DE RESPUESTAS'!AW8,Back!$M$16:$N$20,2,0)","v":"#N/A"},{"$f":"+VLOOKUP('BASE DE RESPUESTAS'!AX8,Back!$M$16:$N$20,2,0)","v":"#N/A"},{"$f":"+VLOOKUP('BASE DE RESPUESTAS'!AY8,Back!$M$16:$N$20,2,0)","v":"#N/A"},{"$f":"+VLOOKUP('BASE DE RESPUESTAS'!AZ8,Back!$M$16:$N$20,2,0)","v":"#N/A"},{"$f":"+VLOOKUP('BASE DE RESPUESTAS'!BA8,Back!$M$16:$N$20,2,0)","v":"#N/A"},{"$f":"+VLOOKUP('BASE DE RESPUESTAS'!BB8,Back!$M$16:$N$20,2,0)","v":"#N/A"},{"$f":"+VLOOKUP('BASE DE RESPUESTAS'!BC8,Back!$M$16:$N$20,2,0)","v":"#N/A"},{"$f":"+VLOOKUP('BASE DE RESPUESTAS'!BD8,Back!$M$16:$N$20,2,0)","v":"#N/A"},{"$f":"+VLOOKUP('BASE DE RESPUESTAS'!BE8,Back!$M$16:$N$20,2,0)","v":"#N/A"}]
[null,null,null,null,4.0,"Dibuja lo que más te gusta.",null,{"$f":"+VLOOKUP('BASE DE RESPUESTAS'!H9,Back!$M$16:$N$20,2,0)","v":"#N/A"},{"$f":"+VLOOKUP('BASE DE RESPUESTAS'!I9,Back!$M$16:$N$20,2,0)","v":"#N/A"},{"$f":"+VLOOKUP('BASE DE RESPUESTAS'!J9,Back!$M$16:$N$20,2,0)","v":"#N/A"},{"$f":"+VLOOKUP('BASE DE RESPUESTAS'!K9,Back!$M$16:$N$20,2,0)","v":"#N/A"},{"$f":"+VLOOKUP('BASE DE RESPUESTAS'!L9,Back!$M$16:$N$20,2,0)","v":"#N/A"},{"$f":"+VLOOKUP('BASE DE RESPUESTAS'!M9,Back!$M$16:$N$20,2,0)","v":"#N/A"},{"$f":"+VLOOKUP('BASE DE RESPUESTAS'!N9,Back!$M$16:$N$20,2,0)","v":"#N/A"},{"$f":"+VLOOKUP('BASE DE RESPUESTAS'!O9,Back!$M$16:$N$20,2,0)","v":"#N/A"},{"$f":"+VLOOKUP('BASE DE RESPUESTAS'!P9,Back!$M$16:$N$20,2,0)","v":"#N/A"},{"$f":"+VLOOKUP('BASE DE RESPUESTAS'!Q9,Back!$M$16:$N$20,2,0)","v":"#N/A"},{"$f":"+VLOOKUP('BASE DE RESPUESTAS'!R9,Back!$M$16:$N$20,2,0)","v":"#N/A"},{"$f":"+VLOOKUP('BASE DE RESPUESTAS'!S9,Back!$M$16:$N$20,2,0)","v":"#N/A"},{"$f":"+VLOOKUP('BASE DE RESPUESTAS'!T9,Back!$M$16:$N$20,2,0)","v":"#N/A"},{"$f":"+VLOOKUP('BASE DE RESPUESTAS'!U9,Back!$M$16:$N$20,2,0)","v":"#N/A"},{"$f":"+VLOOKUP('BASE DE RESPUESTAS'!V9,Back!$M$16:$N$20,2,0)","v":"#N/A"},{"$f":"+VLOOKUP('BASE DE RESPUESTAS'!W9,Back!$M$16:$N$20,2,0)","v":"#N/A"},{"$f":"+VLOOKUP('BASE DE RESPUESTAS'!X9,Back!$M$16:$N$20,2,0)","v":"#N/A"},{"$f":"+VLOOKUP('BASE DE RESPUESTAS'!Y9,Back!$M$16:$N$20,2,0)","v":"#N/A"},{"$f":"+VLOOKUP('BASE DE RESPUESTAS'!Z9,Back!$M$16:$N$20,2,0)","v":"#N/A"},{"$f":"+VLOOKUP('BASE DE RESPUESTAS'!AA9,Back!$M$16:$N$20,2,0)","v":"#N/A"},{"$f":"+VLOOKUP('BASE DE RESPUESTAS'!AB9,Back!$M$16:$N$20,2,0)","v":"#N/A"},{"$f":"+VLOOKUP('BASE DE RESPUESTAS'!AC9,Back!$M$16:$N$20,2,0)","v":"#N/A"},{"$f":"+VLOOKUP('BASE DE RESPUESTAS'!AD9,Back!$M$16:$N$20,2,0)","v":"#N/A"},{"$f":"+VLOOKUP('BASE DE RESPUESTAS'!AE9,Back!$M$16:$N$20,2,0)","v":"#N/A"},{"$f":"+VLOOKUP('BASE DE RESPUESTAS'!AF9,Back!$M$16:$N$20,2,0)","v":"#N/A"},{"$f":"+VLOOKUP('BASE DE RESPUESTAS'!AG9,Back!$M$16:$N$20,2,0)","v":"#N/A"},{"$f":"+VLOOKUP('BASE DE RESPUESTAS'!AH9,Back!$M$16:$N$20,2,0)","v":"#N/A"},{"$f":"+VLOOKUP('BASE DE RESPUESTAS'!AI9,Back!$M$16:$N$20,2,0)","v":"#N/A"},{"$f":"+VLOOKUP('BASE DE RESPUESTAS'!AJ9,Back!$M$16:$N$20,2,0)","v":"#N/A"},{"$f":"+VLOOKUP('BASE DE RESPUESTAS'!AK9,Back!$M$16:$N$20,2,0)","v":"#N/A"},{"$f":"+VLOOKUP('BASE DE RESPUESTAS'!AL9,Back!$M$16:$N$20,2,0)","v":"#N/A"},{"$f":"+VLOOKUP('BASE DE RESPUESTAS'!AM9,Back!$M$16:$N$20,2,0)","v":"#N/A"},{"$f":"+VLOOKUP('BASE DE RESPUESTAS'!AN9,Back!$M$16:$N$20,2,0)","v":"#N/A"},{"$f":"+VLOOKUP('BASE DE RESPUESTAS'!AO9,Back!$M$16:$N$20,2,0)","v":"#N/A"},{"$f":"+VLOOKUP('BASE DE RESPUESTAS'!AP9,Back!$M$16:$N$20,2,0)","v":"#N/A"},{"$f":"+VLOOKUP('BASE DE RESPUESTAS'!AQ9,Back!$M$16:$N$20,2,0)","v":"#N/A"},{"$f":"+VLOOKUP('BASE DE RESPUESTAS'!AR9,Back!$M$16:$N$20,2,0)","v":"#N/A"},{"$f":"+VLOOKUP('BASE DE RESPUESTAS'!AS9,Back!$M$16:$N$20,2,0)","v":"#N/A"},{"$f":"+VLOOKUP('BASE DE RESPUESTAS'!AT9,Back!$M$16:$N$20,2,0)","v":"#N/A"},{"$f":"+VLOOKUP('BASE DE RESPUESTAS'!AU9,Back!$M$16:$N$20,2,0)","v":"#N/A"},{"$f":"+VLOOKUP('BASE DE RESPUESTAS'!AV9,Back!$M$16:$N$20,2,0)","v":"#N/A"},{"$f":"+VLOOKUP('BASE DE RESPUESTAS'!AW9,Back!$M$16:$N$20,2,0)","v":"#N/A"},{"$f":"+VLOOKUP('BASE DE RESPUESTAS'!AX9,Back!$M$16:$N$20,2,0)","v":"#N/A"},{"$f":"+VLOOKUP('BASE DE RESPUESTAS'!AY9,Back!$M$16:$N$20,2,0)","v":"#N/A"},{"$f":"+VLOOKUP('BASE DE RESPUESTAS'!AZ9,Back!$M$16:$N$20,2,0)","v":"#N/A"},{"$f":"+VLOOKUP('BASE DE RESPUESTAS'!BA9,Back!$M$16:$N$20,2,0)","v":"#N/A"},{"$f":"+VLOOKUP('BASE DE RESPUESTAS'!BB9,Back!$M$16:$N$20,2,0)","v":"#N/A"},{"$f":"+VLOOKUP('BASE DE RESPUESTAS'!BC9,Back!$M$16:$N$20,2,0)","v":"#N/A"},{"$f":"+VLOOKUP('BASE DE RESPUESTAS'!BD9,Back!$M$16:$N$20,2,0)","v":"#N/A"},{"$f":"+VLOOKUP('BASE DE RESPUESTAS'!BE9,Back!$M$16:$N$20,2,0)","v":"#N/A"}]
[null,null,null,"El o la estudiante reconoce las características que menos le gustan de sí misma/o.",2.0,"Marca con color azul las partes de tu cuerpo que no te gustan.",null,{"$f":"+VLOOKUP('BASE DE RESPUESTAS'!H10,Back!$M$16:$N$20,2,0)","v":"#N/A"},{"$f":"+VLOOKUP('BASE DE RESPUESTAS'!I10,Back!$M$16:$N$20,2,0)","v":"#N/A"},{"$f":"+VLOOKUP('BASE DE RESPUESTAS'!J10,Back!$M$16:$N$20,2,0)","v":"#N/A"},{"$f":"+VLOOKUP('BASE DE RESPUESTAS'!K10,Back!$M$16:$N$20,2,0)","v":"#N/A"},{"$f":"+VLOOKUP('BASE DE RESPUESTAS'!L10,Back!$M$16:$N$20,2,0)","v":"#N/A"},{"$f":"+VLOOKUP('BASE DE RESPUESTAS'!M10,Back!$M$16:$N$20,2,0)","v":"#N/A"},{"$f":"+VLOOKUP('BASE DE RESPUESTAS'!N10,Back!$M$16:$N$20,2,0)","v":"#N/A"},{"$f":"+VLOOKUP('BASE DE RESPUESTAS'!O10,Back!$M$16:$N$20,2,0)","v":"#N/A"},{"$f":"+VLOOKUP('BASE DE RESPUESTAS'!P10,Back!$M$16:$N$20,2,0)","v":"#N/A"},{"$f":"+VLOOKUP('BASE DE RESPUESTAS'!Q10,Back!$M$16:$N$20,2,0)","v":"#N/A"},{"$f":"+VLOOKUP('BASE DE RESPUESTAS'!R10,Back!$M$16:$N$20,2,0)","v":"#N/A"},{"$f":"+VLOOKUP('BASE DE RESPUESTAS'!S10,Back!$M$16:$N$20,2,0)","v":"#N/A"},{"$f":"+VLOOKUP('BASE DE RESPUESTAS'!T10,Back!$M$16:$N$20,2,0)","v":"#N/A"},{"$f":"+VLOOKUP('BASE DE RESPUESTAS'!U10,Back!$M$16:$N$20,2,0)","v":"#N/A"},{"$f":"+VLOOKUP('BASE DE RESPUESTAS'!V10,Back!$M$16:$N$20,2,0)","v":"#N/A"},{"$f":"+VLOOKUP('BASE DE RESPUESTAS'!W10,Back!$M$16:$N$20,2,0)","v":"#N/A"},{"$f":"+VLOOKUP('BASE DE RESPUESTAS'!X10,Back!$M$16:$N$20,2,0)","v":"#N/A"},{"$f":"+VLOOKUP('BASE DE RESPUESTAS'!Y10,Back!$M$16:$N$20,2,0)","v":"#N/A"},{"$f":"+VLOOKUP('BASE DE RESPUESTAS'!Z10,Back!$M$16:$N$20,2,0)","v":"#N/A"},{"$f":"+VLOOKUP('BASE DE RESPUESTAS'!AA10,Back!$M$16:$N$20,2,0)","v":"#N/A"},{"$f":"+VLOOKUP('BASE DE RESPUESTAS'!AB10,Back!$M$16:$N$20,2,0)","v":"#N/A"},{"$f":"+VLOOKUP('BASE DE RESPUESTAS'!AC10,Back!$M$16:$N$20,2,0)","v":"#N/A"},{"$f":"+VLOOKUP('BASE DE RESPUESTAS'!AD10,Back!$M$16:$N$20,2,0)","v":"#N/A"},{"$f":"+VLOOKUP('BASE DE RESPUESTAS'!AE10,Back!$M$16:$N$20,2,0)","v":"#N/A"},{"$f":"+VLOOKUP('BASE DE RESPUESTAS'!AF10,Back!$M$16:$N$20,2,0)","v":"#N/A"},{"$f":"+VLOOKUP('BASE DE RESPUESTAS'!AG10,Back!$M$16:$N$20,2,0)","v":"#N/A"},{"$f":"+VLOOKUP('BASE DE RESPUESTAS'!AH10,Back!$M$16:$N$20,2,0)","v":"#N/A"},{"$f":"+VLOOKUP('BASE DE RESPUESTAS'!AI10,Back!$M$16:$N$20,2,0)","v":"#N/A"},{"$f":"+VLOOKUP('BASE DE RESPUESTAS'!AJ10,Back!$M$16:$N$20,2,0)","v":"#N/A"},{"$f":"+VLOOKUP('BASE DE RESPUESTAS'!AK10,Back!$M$16:$N$20,2,0)","v":"#N/A"},{"$f":"+VLOOKUP('BASE DE RESPUESTAS'!AL10,Back!$M$16:$N$20,2,0)","v":"#N/A"},{"$f":"+VLOOKUP('BASE DE RESPUESTAS'!AM10,Back!$M$16:$N$20,2,0)","v":"#N/A"},{"$f":"+VLOOKUP('BASE DE RESPUESTAS'!AN10,Back!$M$16:$N$20,2,0)","v":"#N/A"},{"$f":"+VLOOKUP('BASE DE RESPUESTAS'!AO10,Back!$M$16:$N$20,2,0)","v":"#N/A"},{"$f":"+VLOOKUP('BASE DE RESPUESTAS'!AP10,Back!$M$16:$N$20,2,0)","v":"#N/A"},{"$f":"+VLOOKUP('BASE DE RESPUESTAS'!AQ10,Back!$M$16:$N$20,2,0)","v":"#N/A"},{"$f":"+VLOOKUP('BASE DE RESPUESTAS'!AR10,Back!$M$16:$N$20,2,0)","v":"#N/A"},{"$f":"+VLOOKUP('BASE DE RESPUESTAS'!AS10,Back!$M$16:$N$20,2,0)","v":"#N/A"},{"$f":"+VLOOKUP('BASE DE RESPUESTAS'!AT10,Back!$M$16:$N$20,2,0)","v":"#N/A"},{"$f":"+VLOOKUP('BASE DE RESPUESTAS'!AU10,Back!$M$16:$N$20,2,0)","v":"#N/A"},{"$f":"+VLOOKUP('BASE DE RESPUESTAS'!AV10,Back!$M$16:$N$20,2,0)","v":"#N/A"},{"$f":"+VLOOKUP('BASE DE RESPUESTAS'!AW10,Back!$M$16:$N$20,2,0)","v":"#N/A"},{"$f":"+VLOOKUP('BASE DE RESPUESTAS'!AX10,Back!$M$16:$N$20,2,0)","v":"#N/A"},{"$f":"+VLOOKUP('BASE DE RESPUESTAS'!AY10,Back!$M$16:$N$20,2,0)","v":"#N/A"},{"$f":"+VLOOKUP('BASE DE RESPUESTAS'!AZ10,Back!$M$16:$N$20,2,0)","v":"#N/A"},{"$f":"+VLOOKUP('BASE DE RESPUESTAS'!BA10,Back!$M$16:$N$20,2,0)","v":"#N/A"},{"$f":"+VLOOKUP('BASE DE RESPUESTAS'!BB10,Back!$M$16:$N$20,2,0)","v":"#N/A"},{"$f":"+VLOOKUP('BASE DE RESPUESTAS'!BC10,Back!$M$16:$N$20,2,0)","v":"#N/A"},{"$f":"+VLOOKUP('BASE DE RESPUESTAS'!BD10,Back!$M$16:$N$20,2,0)","v":"#N/A"},{"$f":"+VLOOKUP('BASE DE RESPUESTAS'!BE10,Back!$M$16:$N$20,2,0)","v":"#N/A"}]
[null,"HSE","Autoestima","El o la estudiante se reconoce a sí mismo(a) como valioso(a) a partir de sus características.",5.0,"¿Te gusta cómo eres?",null,{"$f":"+VLOOKUP('BASE DE RESPUESTAS'!H11,Back!$M$16:$N$20,2,0)","v":"#N/A"},{"$f":"+VLOOKUP('BASE DE RESPUESTAS'!I11,Back!$M$16:$N$20,2,0)","v":"#N/A"},{"$f":"+VLOOKUP('BASE DE RESPUESTAS'!J11,Back!$M$16:$N$20,2,0)","v":"#N/A"},{"$f":"+VLOOKUP('BASE DE RESPUESTAS'!K11,Back!$M$16:$N$20,2,0)","v":"#N/A"},{"$f":"+VLOOKUP('BASE DE RESPUESTAS'!L11,Back!$M$16:$N$20,2,0)","v":"#N/A"},{"$f":"+VLOOKUP('BASE DE RESPUESTAS'!M11,Back!$M$16:$N$20,2,0)","v":"#N/A"},{"$f":"+VLOOKUP('BASE DE RESPUESTAS'!N11,Back!$M$16:$N$20,2,0)","v":"#N/A"},{"$f":"+VLOOKUP('BASE DE RESPUESTAS'!O11,Back!$M$16:$N$20,2,0)","v":"#N/A"},{"$f":"+VLOOKUP('BASE DE RESPUESTAS'!P11,Back!$M$16:$N$20,2,0)","v":"#N/A"},{"$f":"+VLOOKUP('BASE DE RESPUESTAS'!Q11,Back!$M$16:$N$20,2,0)","v":"#N/A"},{"$f":"+VLOOKUP('BASE DE RESPUESTAS'!R11,Back!$M$16:$N$20,2,0)","v":"#N/A"},{"$f":"+VLOOKUP('BASE DE RESPUESTAS'!S11,Back!$M$16:$N$20,2,0)","v":"#N/A"},{"$f":"+VLOOKUP('BASE DE RESPUESTAS'!T11,Back!$M$16:$N$20,2,0)","v":"#N/A"},{"$f":"+VLOOKUP('BASE DE RESPUESTAS'!U11,Back!$M$16:$N$20,2,0)","v":"#N/A"},{"$f":"+VLOOKUP('BASE DE RESPUESTAS'!V11,Back!$M$16:$N$20,2,0)","v":"#N/A"},{"$f":"+VLOOKUP('BASE DE RESPUESTAS'!W11,Back!$M$16:$N$20,2,0)","v":"#N/A"},{"$f":"+VLOOKUP('BASE DE RESPUESTAS'!X11,Back!$M$16:$N$20,2,0)","v":"#N/A"},{"$f":"+VLOOKUP('BASE DE RESPUESTAS'!Y11,Back!$M$16:$N$20,2,0)","v":"#N/A"},{"$f":"+VLOOKUP('BASE DE RESPUESTAS'!Z11,Back!$M$16:$N$20,2,0)","v":"#N/A"},{"$f":"+VLOOKUP('BASE DE RESPUESTAS'!AA11,Back!$M$16:$N$20,2,0)","v":"#N/A"},{"$f":"+VLOOKUP('BASE DE RESPUESTAS'!AB11,Back!$M$16:$N$20,2,0)","v":"#N/A"},{"$f":"+VLOOKUP('BASE DE RESPUESTAS'!AC11,Back!$M$16:$N$20,2,0)","v":"#N/A"},{"$f":"+VLOOKUP('BASE DE RESPUESTAS'!AD11,Back!$M$16:$N$20,2,0)","v":"#N/A"},{"$f":"+VLOOKUP('BASE DE RESPUESTAS'!AE11,Back!$M$16:$N$20,2,0)","v":"#N/A"},{"$f":"+VLOOKUP('BASE DE RESPUESTAS'!AF11,Back!$M$16:$N$20,2,0)","v":"#N/A"},{"$f":"+VLOOKUP('BASE DE RESPUESTAS'!AG11,Back!$M$16:$N$20,2,0)","v":"#N/A"},{"$f":"+VLOOKUP('BASE DE RESPUESTAS'!AH11,Back!$M$16:$N$20,2,0)","v":"#N/A"},{"$f":"+VLOOKUP('BASE DE RESPUESTAS'!AI11,Back!$M$16:$N$20,2,0)","v":"#N/A"},{"$f":"+VLOOKUP('BASE DE RESPUESTAS'!AJ11,Back!$M$16:$N$20,2,0)","v":"#N/A"},{"$f":"+VLOOKUP('BASE DE RESPUESTAS'!AK11,Back!$M$16:$N$20,2,0)","v":"#N/A"},{"$f":"+VLOOKUP('BASE DE RESPUESTAS'!AL11,Back!$M$16:$N$20,2,0)","v":"#N/A"},{"$f":"+VLOOKUP('BASE DE RESPUESTAS'!AM11,Back!$M$16:$N$20,2,0)","v":"#N/A"},{"$f":"+VLOOKUP('BASE DE RESPUESTAS'!AN11,Back!$M$16:$N$20,2,0)","v":"#N/A"},{"$f":"+VLOOKUP('BASE DE RESPUESTAS'!AO11,Back!$M$16:$N$20,2,0)","v":"#N/A"},{"$f":"+VLOOKUP('BASE DE RESPUESTAS'!AP11,Back!$M$16:$N$20,2,0)","v":"#N/A"},{"$f":"+VLOOKUP('BASE DE RESPUESTAS'!AQ11,Back!$M$16:$N$20,2,0)","v":"#N/A"},{"$f":"+VLOOKUP('BASE DE RESPUESTAS'!AR11,Back!$M$16:$N$20,2,0)","v":"#N/A"},{"$f":"+VLOOKUP('BASE DE RESPUESTAS'!AS11,Back!$M$16:$N$20,2,0)","v":"#N/A"},{"$f":"+VLOOKUP('BASE DE RESPUESTAS'!AT11,Back!$M$16:$N$20,2,0)","v":"#N/A"},{"$f":"+VLOOKUP('BASE DE RESPUESTAS'!AU11,Back!$M$16:$N$20,2,0)","v":"#N/A"},{"$f":"+VLOOKUP('BASE DE RESPUESTAS'!AV11,Back!$M$16:$N$20,2,0)","v":"#N/A"},{"$f":"+VLOOKUP('BASE DE RESPUESTAS'!AW11,Back!$M$16:$N$20,2,0)","v":"#N/A"},{"$f":"+VLOOKUP('BASE DE RESPUESTAS'!AX11,Back!$M$16:$N$20,2,0)","v":"#N/A"},{"$f":"+VLOOKUP('BASE DE RESPUESTAS'!AY11,Back!$M$16:$N$20,2,0)","v":"#N/A"},{"$f":"+VLOOKUP('BASE DE RESPUESTAS'!AZ11,Back!$M$16:$N$20,2,0)","v":"#N/A"},{"$f":"+VLOOKUP('BASE DE RESPUESTAS'!BA11,Back!$M$16:$N$20,2,0)","v":"#N/A"},{"$f":"+VLOOKUP('BASE DE RESPUESTAS'!BB11,Back!$M$16:$N$20,2,0)","v":"#N/A"},{"$f":"+VLOOKUP('BASE DE RESPUESTAS'!BC11,Back!$M$16:$N$20,2,0)","v":"#N/A"},{"$f":"+VLOOKUP('BASE DE RESPUESTAS'!BD11,Back!$M$16:$N$20,2,0)","v":"#N/A"},{"$f":"+VLOOKUP('BASE DE RESPUESTAS'!BE11,Back!$M$16:$N$20,2,0)","v":"#N/A"}]
[null,null,null,"El o la estudiante se da cuenta que es capaz de realizar tareas y aceptar retos.",6.0,"Yo solita/o puedo: Lavarme los dientes.",null,{"$f":"+VLOOKUP('BASE DE RESPUESTAS'!H12,Back!$M$16:$N$20,2,0)","v":"#N/A"},{"$f":"+VLOOKUP('BASE DE RESPUESTAS'!I12,Back!$M$16:$N$20,2,0)","v":"#N/A"},{"$f":"+VLOOKUP('BASE DE RESPUESTAS'!J12,Back!$M$16:$N$20,2,0)","v":"#N/A"},{"$f":"+VLOOKUP('BASE DE RESPUESTAS'!K12,Back!$M$16:$N$20,2,0)","v":"#N/A"},{"$f":"+VLOOKUP('BASE DE RESPUESTAS'!L12,Back!$M$16:$N$20,2,0)","v":"#N/A"},{"$f":"+VLOOKUP('BASE DE RESPUESTAS'!M12,Back!$M$16:$N$20,2,0)","v":"#N/A"},{"$f":"+VLOOKUP('BASE DE RESPUESTAS'!N12,Back!$M$16:$N$20,2,0)","v":"#N/A"},{"$f":"+VLOOKUP('BASE DE RESPUESTAS'!O12,Back!$M$16:$N$20,2,0)","v":"#N/A"},{"$f":"+VLOOKUP('BASE DE RESPUESTAS'!P12,Back!$M$16:$N$20,2,0)","v":"#N/A"},{"$f":"+VLOOKUP('BASE DE RESPUESTAS'!Q12,Back!$M$16:$N$20,2,0)","v":"#N/A"},{"$f":"+VLOOKUP('BASE DE RESPUESTAS'!R12,Back!$M$16:$N$20,2,0)","v":"#N/A"},{"$f":"+VLOOKUP('BASE DE RESPUESTAS'!S12,Back!$M$16:$N$20,2,0)","v":"#N/A"},{"$f":"+VLOOKUP('BASE DE RESPUESTAS'!T12,Back!$M$16:$N$20,2,0)","v":"#N/A"},{"$f":"+VLOOKUP('BASE DE RESPUESTAS'!U12,Back!$M$16:$N$20,2,0)","v":"#N/A"},{"$f":"+VLOOKUP('BASE DE RESPUESTAS'!V12,Back!$M$16:$N$20,2,0)","v":"#N/A"},{"$f":"+VLOOKUP('BASE DE RESPUESTAS'!W12,Back!$M$16:$N$20,2,0)","v":"#N/A"},{"$f":"+VLOOKUP('BASE DE RESPUESTAS'!X12,Back!$M$16:$N$20,2,0)","v":"#N/A"},{"$f":"+VLOOKUP('BASE DE RESPUESTAS'!Y12,Back!$M$16:$N$20,2,0)","v":"#N/A"},{"$f":"+VLOOKUP('BASE DE RESPUESTAS'!Z12,Back!$M$16:$N$20,2,0)","v":"#N/A"},{"$f":"+VLOOKUP('BASE DE RESPUESTAS'!AA12,Back!$M$16:$N$20,2,0)","v":"#N/A"},{"$f":"+VLOOKUP('BASE DE RESPUESTAS'!AB12,Back!$M$16:$N$20,2,0)","v":"#N/A"},{"$f":"+VLOOKUP('BASE DE RESPUESTAS'!AC12,Back!$M$16:$N$20,2,0)","v":"#N/A"},{"$f":"+VLOOKUP('BASE DE RESPUESTAS'!AD12,Back!$M$16:$N$20,2,0)","v":"#N/A"},{"$f":"+VLOOKUP('BASE DE RESPUESTAS'!AE12,Back!$M$16:$N$20,2,0)","v":"#N/A"},{"$f":"+VLOOKUP('BASE DE RESPUESTAS'!AF12,Back!$M$16:$N$20,2,0)","v":"#N/A"},{"$f":"+VLOOKUP('BASE DE RESPUESTAS'!AG12,Back!$M$16:$N$20,2,0)","v":"#N/A"},{"$f":"+VLOOKUP('BASE DE RESPUESTAS'!AH12,Back!$M$16:$N$20,2,0)","v":"#N/A"},{"$f":"+VLOOKUP('BASE DE RESPUESTAS'!AI12,Back!$M$16:$N$20,2,0)","v":"#N/A"},{"$f":"+VLOOKUP('BASE DE RESPUESTAS'!AJ12,Back!$M$16:$N$20,2,0)","v":"#N/A"},{"$f":"+VLOOKUP('BASE DE RESPUESTAS'!AK12,Back!$M$16:$N$20,2,0)","v":"#N/A"},{"$f":"+VLOOKUP('BASE DE RESPUESTAS'!AL12,Back!$M$16:$N$20,2,0)","v":"#N/A"},{"$f":"+VLOOKUP('BASE DE RESPUESTAS'!AM12,Back!$M$16:$N$20,2,0)","v":"#N/A"},{"$f":"+VLOOKUP('BASE DE RESPUESTAS'!AN12,Back!$M$16:$N$20,2,0)","v":"#N/A"},{"$f":"+VLOOKUP('BASE DE RESPUESTAS'!AO12,Back!$M$16:$N$20,2,0)","v":"#N/A"},{"$f":"+VLOOKUP('BASE DE RESPUESTAS'!AP12,Back!$M$16:$N$20,2,0)","v":"#N/A"},{"$f":"+VLOOKUP('BASE DE RESPUESTAS'!AQ12,Back!$M$16:$N$20,2,0)","v":"#N/A"},{"$f":"+VLOOKUP('BASE DE RESPUESTAS'!AR12,Back!$M$16:$N$20,2,0)","v":"#N/A"},{"$f":"+VLOOKUP('BASE DE RESPUESTAS'!AS12,Back!$M$16:$N$20,2,0)","v":"#N/A"},{"$f":"+VLOOKUP('BASE DE RESPUESTAS'!AT12,Back!$M$16:$N$20,2,0)","v":"#N/A"},{"$f":"+VLOOKUP('BASE DE RESPUESTAS'!AU12,Back!$M$16:$N$20,2,0)","v":"#N/A"},{"$f":"+VLOOKUP('BASE DE RESPUESTAS'!AV12,Back!$M$16:$N$20,2,0)","v":"#N/A"},{"$f":"+VLOOKUP('BASE DE RESPUESTAS'!AW12,Back!$M$16:$N$20,2,0)","v":"#N/A"},{"$f":"+VLOOKUP('BASE DE RESPUESTAS'!AX12,Back!$M$16:$N$20,2,0)","v":"#N/A"},{"$f":"+VLOOKUP('BASE DE RESPUESTAS'!AY12,Back!$M$16:$N$20,2,0)","v":"#N/A"},{"$f":"+VLOOKUP('BASE DE RESPUESTAS'!AZ12,Back!$M$16:$N$20,2,0)","v":"#N/A"},{"$f":"+VLOOKUP('BASE DE RESPUESTAS'!BA12,Back!$M$16:$N$20,2,0)","v":"#N/A"},{"$f":"+VLOOKUP('BASE DE RESPUESTAS'!BB12,Back!$M$16:$N$20,2,0)","v":"#N/A"},{"$f":"+VLOOKUP('BASE DE RESPUESTAS'!BC12,Back!$M$16:$N$20,2,0)","v":"#N/A"},{"$f":"+VLOOKUP('BASE DE RESPUESTAS'!BD12,Back!$M$16:$N$20,2,0)","v":"#N/A"},{"$f":"+VLOOKUP('BASE DE RESPUESTAS'!BE12,Back!$M$16:$N$20,2,0)","v":"#N/A"}]
[null,null,null,null,7.0,"Yo solita/o puedo: Vestirme yo sola/o.",null,{"$f":"+VLOOKUP('BASE DE RESPUESTAS'!H13,Back!$M$16:$N$20,2,0)","v":"#N/A"},{"$f":"+VLOOKUP('BASE DE RESPUESTAS'!I13,Back!$M$16:$N$20,2,0)","v":"#N/A"},{"$f":"+VLOOKUP('BASE DE RESPUESTAS'!J13,Back!$M$16:$N$20,2,0)","v":"#N/A"},{"$f":"+VLOOKUP('BASE DE RESPUESTAS'!K13,Back!$M$16:$N$20,2,0)","v":"#N/A"},{"$f":"+VLOOKUP('BASE DE RESPUESTAS'!L13,Back!$M$16:$N$20,2,0)","v":"#N/A"},{"$f":"+VLOOKUP('BASE DE RESPUESTAS'!M13,Back!$M$16:$N$20,2,0)","v":"#N/A"},{"$f":"+VLOOKUP('BASE DE RESPUESTAS'!N13,Back!$M$16:$N$20,2,0)","v":"#N/A"},{"$f":"+VLOOKUP('BASE DE RESPUESTAS'!O13,Back!$M$16:$N$20,2,0)","v":"#N/A"},{"$f":"+VLOOKUP('BASE DE RESPUESTAS'!P13,Back!$M$16:$N$20,2,0)","v":"#N/A"},{"$f":"+VLOOKUP('BASE DE RESPUESTAS'!Q13,Back!$M$16:$N$20,2,0)","v":"#N/A"},{"$f":"+VLOOKUP('BASE DE RESPUESTAS'!R13,Back!$M$16:$N$20,2,0)","v":"#N/A"},{"$f":"+VLOOKUP('BASE DE RESPUESTAS'!S13,Back!$M$16:$N$20,2,0)","v":"#N/A"},{"$f":"+VLOOKUP('BASE DE RESPUESTAS'!T13,Back!$M$16:$N$20,2,0)","v":"#N/A"},{"$f":"+VLOOKUP('BASE DE RESPUESTAS'!U13,Back!$M$16:$N$20,2,0)","v":"#N/A"},{"$f":"+VLOOKUP('BASE DE RESPUESTAS'!V13,Back!$M$16:$N$20,2,0)","v":"#N/A"},{"$f":"+VLOOKUP('BASE DE RESPUESTAS'!W13,Back!$M$16:$N$20,2,0)","v":"#N/A"},{"$f":"+VLOOKUP('BASE DE RESPUESTAS'!X13,Back!$M$16:$N$20,2,0)","v":"#N/A"},{"$f":"+VLOOKUP('BASE DE RESPUESTAS'!Y13,Back!$M$16:$N$20,2,0)","v":"#N/A"},{"$f":"+VLOOKUP('BASE DE RESPUESTAS'!Z13,Back!$M$16:$N$20,2,0)","v":"#N/A"},{"$f":"+VLOOKUP('BASE DE RESPUESTAS'!AA13,Back!$M$16:$N$20,2,0)","v":"#N/A"},{"$f":"+VLOOKUP('BASE DE RESPUESTAS'!AB13,Back!$M$16:$N$20,2,0)","v":"#N/A"},{"$f":"+VLOOKUP('BASE DE RESPUESTAS'!AC13,Back!$M$16:$N$20,2,0)","v":"#N/A"},{"$f":"+VLOOKUP('BASE DE RESPUESTAS'!AD13,Back!$M$16:$N$20,2,0)","v":"#N/A"},{"$f":"+VLOOKUP('BASE DE RESPUESTAS'!AE13,Back!$M$16:$N$20,2,0)","v":"#N/A"},{"$f":"+VLOOKUP('BASE DE RESPUESTAS'!AF13,Back!$M$16:$N$20,2,0)","v":"#N/A"},{"$f":"+VLOOKUP('BASE DE RESPUESTAS'!AG13,Back!$M$16:$N$20,2,0)","v":"#N/A"},{"$f":"+VLOOKUP('BASE DE RESPUESTAS'!AH13,Back!$M$16:$N$20,2,0)","v":"#N/A"},{"$f":"+VLOOKUP('BASE DE RESPUESTAS'!AI13,Back!$M$16:$N$20,2,0)","v":"#N/A"},{"$f":"+VLOOKUP('BASE DE RESPUESTAS'!AJ13,Back!$M$16:$N$20,2,0)","v":"#N/A"},{"$f":"+VLOOKUP('BASE DE RESPUESTAS'!AK13,Back!$M$16:$N$20,2,0)","v":"#N/A"},{"$f":"+VLOOKUP('BASE DE RESPUESTAS'!AL13,Back!$M$16:$N$20,2,0)","v":"#N/A"},{"$f":"+VLOOKUP('BASE DE RESPUESTAS'!AM13,Back!$M$16:$N$20,2,0)","v":"#N/A"},{"$f":"+VLOOKUP('BASE DE RESPUESTAS'!AN13,Back!$M$16:$N$20,2,0)","v":"#N/A"},{"$f":"+VLOOKUP('BASE DE RESPUESTAS'!AO13,Back!$M$16:$N$20,2,0)","v":"#N/A"},{"$f":"+VLOOKUP('BASE DE RESPUESTAS'!AP13,Back!$M$16:$N$20,2,0)","v":"#N/A"},{"$f":"+VLOOKUP('BASE DE RESPUESTAS'!AQ13,Back!$M$16:$N$20,2,0)","v":"#N/A"},{"$f":"+VLOOKUP('BASE DE RESPUESTAS'!AR13,Back!$M$16:$N$20,2,0)","v":"#N/A"},{"$f":"+VLOOKUP('BASE DE RESPUESTAS'!AS13,Back!$M$16:$N$20,2,0)","v":"#N/A"},{"$f":"+VLOOKUP('BASE DE RESPUESTAS'!AT13,Back!$M$16:$N$20,2,0)","v":"#N/A"},{"$f":"+VLOOKUP('BASE DE RESPUESTAS'!AU13,Back!$M$16:$N$20,2,0)","v":"#N/A"},{"$f":"+VLOOKUP('BASE DE RESPUESTAS'!AV13,Back!$M$16:$N$20,2,0)","v":"#N/A"},{"$f":"+VLOOKUP('BASE DE RESPUESTAS'!AW13,Back!$M$16:$N$20,2,0)","v":"#N/A"},{"$f":"+VLOOKUP('BASE DE RESPUESTAS'!AX13,Back!$M$16:$N$20,2,0)","v":"#N/A"},{"$f":"+VLOOKUP('BASE DE RESPUESTAS'!AY13,Back!$M$16:$N$20,2,0)","v":"#N/A"},{"$f":"+VLOOKUP('BASE DE RESPUESTAS'!AZ13,Back!$M$16:$N$20,2,0)","v":"#N/A"},{"$f":"+VLOOKUP('BASE DE RESPUESTAS'!BA13,Back!$M$16:$N$20,2,0)","v":"#N/A"},{"$f":"+VLOOKUP('BASE DE RESPUESTAS'!BB13,Back!$M$16:$N$20,2,0)","v":"#N/A"},{"$f":"+VLOOKUP('BASE DE RESPUESTAS'!BC13,Back!$M$16:$N$20,2,0)","v":"#N/A"},{"$f":"+VLOOKUP('BASE DE RESPUESTAS'!BD13,Back!$M$16:$N$20,2,0)","v":"#N/A"},{"$f":"+VLOOKUP('BASE DE RESPUESTAS'!BE13,Back!$M$16:$N$20,2,0)","v":"#N/A"}]
[null,null,null,null,8.0,"Yo solita/o puedo: Peinar mi cabello.",null,{"$f":"+VLOOKUP('BASE DE RESPUESTAS'!H14,Back!$M$16:$N$20,2,0)","v":"#N/A"},{"$f":"+VLOOKUP('BASE DE RESPUESTAS'!I14,Back!$M$16:$N$20,2,0)","v":"#N/A"},{"$f":"+VLOOKUP('BASE DE RESPUESTAS'!J14,Back!$M$16:$N$20,2,0)","v":"#N/A"},{"$f":"+VLOOKUP('BASE DE RESPUESTAS'!K14,Back!$M$16:$N$20,2,0)","v":"#N/A"},{"$f":"+VLOOKUP('BASE DE RESPUESTAS'!L14,Back!$M$16:$N$20,2,0)","v":"#N/A"},{"$f":"+VLOOKUP('BASE DE RESPUESTAS'!M14,Back!$M$16:$N$20,2,0)","v":"#N/A"},{"$f":"+VLOOKUP('BASE DE RESPUESTAS'!N14,Back!$M$16:$N$20,2,0)","v":"#N/A"},{"$f":"+VLOOKUP('BASE DE RESPUESTAS'!O14,Back!$M$16:$N$20,2,0)","v":"#N/A"},{"$f":"+VLOOKUP('BASE DE RESPUESTAS'!P14,Back!$M$16:$N$20,2,0)","v":"#N/A"},{"$f":"+VLOOKUP('BASE DE RESPUESTAS'!Q14,Back!$M$16:$N$20,2,0)","v":"#N/A"},{"$f":"+VLOOKUP('BASE DE RESPUESTAS'!R14,Back!$M$16:$N$20,2,0)","v":"#N/A"},{"$f":"+VLOOKUP('BASE DE RESPUESTAS'!S14,Back!$M$16:$N$20,2,0)","v":"#N/A"},{"$f":"+VLOOKUP('BASE DE RESPUESTAS'!T14,Back!$M$16:$N$20,2,0)","v":"#N/A"},{"$f":"+VLOOKUP('BASE DE RESPUESTAS'!U14,Back!$M$16:$N$20,2,0)","v":"#N/A"},{"$f":"+VLOOKUP('BASE DE RESPUESTAS'!V14,Back!$M$16:$N$20,2,0)","v":"#N/A"},{"$f":"+VLOOKUP('BASE DE RESPUESTAS'!W14,Back!$M$16:$N$20,2,0)","v":"#N/A"},{"$f":"+VLOOKUP('BASE DE RESPUESTAS'!X14,Back!$M$16:$N$20,2,0)","v":"#N/A"},{"$f":"+VLOOKUP('BASE DE RESPUESTAS'!Y14,Back!$M$16:$N$20,2,0)","v":"#N/A"},{"$f":"+VLOOKUP('BASE DE RESPUESTAS'!Z14,Back!$M$16:$N$20,2,0)","v":"#N/A"},{"$f":"+VLOOKUP('BASE DE RESPUESTAS'!AA14,Back!$M$16:$N$20,2,0)","v":"#N/A"},{"$f":"+VLOOKUP('BASE DE RESPUESTAS'!AB14,Back!$M$16:$N$20,2,0)","v":"#N/A"},{"$f":"+VLOOKUP('BASE DE RESPUESTAS'!AC14,Back!$M$16:$N$20,2,0)","v":"#N/A"},{"$f":"+VLOOKUP('BASE DE RESPUESTAS'!AD14,Back!$M$16:$N$20,2,0)","v":"#N/A"},{"$f":"+VLOOKUP('BASE DE RESPUESTAS'!AE14,Back!$M$16:$N$20,2,0)","v":"#N/A"},{"$f":"+VLOOKUP('BASE DE RESPUESTAS'!AF14,Back!$M$16:$N$20,2,0)","v":"#N/A"},{"$f":"+VLOOKUP('BASE DE RESPUESTAS'!AG14,Back!$M$16:$N$20,2,0)","v":"#N/A"},{"$f":"+VLOOKUP('BASE DE RESPUESTAS'!AH14,Back!$M$16:$N$20,2,0)","v":"#N/A"},{"$f":"+VLOOKUP('BASE DE RESPUESTAS'!AI14,Back!$M$16:$N$20,2,0)","v":"#N/A"},{"$f":"+VLOOKUP('BASE DE RESPUESTAS'!AJ14,Back!$M$16:$N$20,2,0)","v":"#N/A"},{"$f":"+VLOOKUP('BASE DE RESPUESTAS'!AK14,Back!$M$16:$N$20,2,0)","v":"#N/A"},{"$f":"+VLOOKUP('BASE DE RESPUESTAS'!AL14,Back!$M$16:$N$20,2,0)","v":"#N/A"},{"$f":"+VLOOKUP('BASE DE RESPUESTAS'!AM14,Back!$M$16:$N$20,2,0)","v":"#N/A"},{"$f":"+VLOOKUP('BASE DE RESPUESTAS'!AN14,Back!$M$16:$N$20,2,0)","v":"#N/A"},{"$f":"+VLOOKUP('BASE DE RESPUESTAS'!AO14,Back!$M$16:$N$20,2,0)","v":"#N/A"},{"$f":"+VLOOKUP('BASE DE RESPUESTAS'!AP14,Back!$M$16:$N$20,2,0)","v":"#N/A"},{"$f":"+VLOOKUP('BASE DE RESPUESTAS'!AQ14,Back!$M$16:$N$20,2,0)","v":"#N/A"},{"$f":"+VLOOKUP('BASE DE RESPUESTAS'!AR14,Back!$M$16:$N$20,2,0)","v":"#N/A"},{"$f":"+VLOOKUP('BASE DE RESPUESTAS'!AS14,Back!$M$16:$N$20,2,0)","v":"#N/A"},{"$f":"+VLOOKUP('BASE DE RESPUESTAS'!AT14,Back!$M$16:$N$20,2,0)","v":"#N/A"},{"$f":"+VLOOKUP('BASE DE RESPUESTAS'!AU14,Back!$M$16:$N$20,2,0)","v":"#N/A"},{"$f":"+VLOOKUP('BASE DE RESPUESTAS'!AV14,Back!$M$16:$N$20,2,0)","v":"#N/A"},{"$f":"+VLOOKUP('BASE DE RESPUESTAS'!AW14,Back!$M$16:$N$20,2,0)","v":"#N/A"},{"$f":"+VLOOKUP('BASE DE RESPUESTAS'!AX14,Back!$M$16:$N$20,2,0)","v":"#N/A"},{"$f":"+VLOOKUP('BASE DE RESPUESTAS'!AY14,Back!$M$16:$N$20,2,0)","v":"#N/A"},{"$f":"+VLOOKUP('BASE DE RESPUESTAS'!AZ14,Back!$M$16:$N$20,2,0)","v":"#N/A"},{"$f":"+VLOOKUP('BASE DE RESPUESTAS'!BA14,Back!$M$16:$N$20,2,0)","v":"#N/A"},{"$f":"+VLOOKUP('BASE DE RESPUESTAS'!BB14,Back!$M$16:$N$20,2,0)","v":"#N/A"},{"$f":"+VLOOKUP('BASE DE RESPUESTAS'!BC14,Back!$M$16:$N$20,2,0)","v":"#N/A"},{"$f":"+VLOOKUP('BASE DE RESPUESTAS'!BD14,Back!$M$16:$N$20,2,0)","v":"#N/A"},{"$f":"+VLOOKUP('BASE DE RESPUESTAS'!BE14,Back!$M$16:$N$20,2,0)","v":"#N/A"}]
[null,null,null,null,9.0,"Yo solita/o puedo: Ordenar mis juguetes",null,{"$f":"+VLOOKUP('BASE DE RESPUESTAS'!H15,Back!$M$16:$N$20,2,0)","v":"#N/A"},{"$f":"+VLOOKUP('BASE DE RESPUESTAS'!I15,Back!$M$16:$N$20,2,0)","v":"#N/A"},{"$f":"+VLOOKUP('BASE DE RESPUESTAS'!J15,Back!$M$16:$N$20,2,0)","v":"#N/A"},{"$f":"+VLOOKUP('BASE DE RESPUESTAS'!K15,Back!$M$16:$N$20,2,0)","v":"#N/A"},{"$f":"+VLOOKUP('BASE DE RESPUESTAS'!L15,Back!$M$16:$N$20,2,0)","v":"#N/A"},{"$f":"+VLOOKUP('BASE DE RESPUESTAS'!M15,Back!$M$16:$N$20,2,0)","v":"#N/A"},{"$f":"+VLOOKUP('BASE DE RESPUESTAS'!N15,Back!$M$16:$N$20,2,0)","v":"#N/A"},{"$f":"+VLOOKUP('BASE DE RESPUESTAS'!O15,Back!$M$16:$N$20,2,0)","v":"#N/A"},{"$f":"+VLOOKUP('BASE DE RESPUESTAS'!P15,Back!$M$16:$N$20,2,0)","v":"#N/A"},{"$f":"+VLOOKUP('BASE DE RESPUESTAS'!Q15,Back!$M$16:$N$20,2,0)","v":"#N/A"},{"$f":"+VLOOKUP('BASE DE RESPUESTAS'!R15,Back!$M$16:$N$20,2,0)","v":"#N/A"},{"$f":"+VLOOKUP('BASE DE RESPUESTAS'!S15,Back!$M$16:$N$20,2,0)","v":"#N/A"},{"$f":"+VLOOKUP('BASE DE RESPUESTAS'!T15,Back!$M$16:$N$20,2,0)","v":"#N/A"},{"$f":"+VLOOKUP('BASE DE RESPUESTAS'!U15,Back!$M$16:$N$20,2,0)","v":"#N/A"},{"$f":"+VLOOKUP('BASE DE RESPUESTAS'!V15,Back!$M$16:$N$20,2,0)","v":"#N/A"},{"$f":"+VLOOKUP('BASE DE RESPUESTAS'!W15,Back!$M$16:$N$20,2,0)","v":"#N/A"},{"$f":"+VLOOKUP('BASE DE RESPUESTAS'!X15,Back!$M$16:$N$20,2,0)","v":"#N/A"},{"$f":"+VLOOKUP('BASE DE RESPUESTAS'!Y15,Back!$M$16:$N$20,2,0)","v":"#N/A"},{"$f":"+VLOOKUP('BASE DE RESPUESTAS'!Z15,Back!$M$16:$N$20,2,0)","v":"#N/A"},{"$f":"+VLOOKUP('BASE DE RESPUESTAS'!AA15,Back!$M$16:$N$20,2,0)","v":"#N/A"},{"$f":"+VLOOKUP('BASE DE RESPUESTAS'!AB15,Back!$M$16:$N$20,2,0)","v":"#N/A"},{"$f":"+VLOOKUP('BASE DE RESPUESTAS'!AC15,Back!$M$16:$N$20,2,0)","v":"#N/A"},{"$f":"+VLOOKUP('BASE DE RESPUESTAS'!AD15,Back!$M$16:$N$20,2,0)","v":"#N/A"},{"$f":"+VLOOKUP('BASE DE RESPUESTAS'!AE15,Back!$M$16:$N$20,2,0)","v":"#N/A"},{"$f":"+VLOOKUP('BASE DE RESPUESTAS'!AF15,Back!$M$16:$N$20,2,0)","v":"#N/A"},{"$f":"+VLOOKUP('BASE DE RESPUESTAS'!AG15,Back!$M$16:$N$20,2,0)","v":"#N/A"},{"$f":"+VLOOKUP('BASE DE RESPUESTAS'!AH15,Back!$M$16:$N$20,2,0)","v":"#N/A"},{"$f":"+VLOOKUP('BASE DE RESPUESTAS'!AI15,Back!$M$16:$N$20,2,0)","v":"#N/A"},{"$f":"+VLOOKUP('BASE DE RESPUESTAS'!AJ15,Back!$M$16:$N$20,2,0)","v":"#N/A"},{"$f":"+VLOOKUP('BASE DE RESPUESTAS'!AK15,Back!$M$16:$N$20,2,0)","v":"#N/A"},{"$f":"+VLOOKUP('BASE DE RESPUESTAS'!AL15,Back!$M$16:$N$20,2,0)","v":"#N/A"},{"$f":"+VLOOKUP('BASE DE RESPUESTAS'!AM15,Back!$M$16:$N$20,2,0)","v":"#N/A"},{"$f":"+VLOOKUP('BASE DE RESPUESTAS'!AN15,Back!$M$16:$N$20,2,0)","v":"#N/A"},{"$f":"+VLOOKUP('BASE DE RESPUESTAS'!AO15,Back!$M$16:$N$20,2,0)","v":"#N/A"},{"$f":"+VLOOKUP('BASE DE RESPUESTAS'!AP15,Back!$M$16:$N$20,2,0)","v":"#N/A"},{"$f":"+VLOOKUP('BASE DE RESPUESTAS'!AQ15,Back!$M$16:$N$20,2,0)","v":"#N/A"},{"$f":"+VLOOKUP('BASE DE RESPUESTAS'!AR15,Back!$M$16:$N$20,2,0)","v":"#N/A"},{"$f":"+VLOOKUP('BASE DE RESPUESTAS'!AS15,Back!$M$16:$N$20,2,0)","v":"#N/A"},{"$f":"+VLOOKUP('BASE DE RESPUESTAS'!AT15,Back!$M$16:$N$20,2,0)","v":"#N/A"},{"$f":"+VLOOKUP('BASE DE RESPUESTAS'!AU15,Back!$M$16:$N$20,2,0)","v":"#N/A"},{"$f":"+VLOOKUP('BASE DE RESPUESTAS'!AV15,Back!$M$16:$N$20,2,0)","v":"#N/A"},{"$f":"+VLOOKUP('BASE DE RESPUESTAS'!AW15,Back!$M$16:$N$20,2,0)","v":"#N/A"},{"$f":"+VLOOKUP('BASE DE RESPUESTAS'!AX15,Back!$M$16:$N$20,2,0)","v":"#N/A"},{"$f":"+VLOOKUP('BASE DE RESPUESTAS'!AY15,Back!$M$16:$N$20,2,0)","v":"#N/A"},{"$f":"+VLOOKUP('BASE DE RESPUESTAS'!AZ15,Back!$M$16:$N$20,2,0)","v":"#N/A"},{"$f":"+VLOOKUP('BASE DE RESPUESTAS'!BA15,Back!$M$16:$N$20,2,0)","v":"#N/A"},{"$f":"+VLOOKUP('BASE DE RESPUESTAS'!BB15,Back!$M$16:$N$20,2,0)","v":"#N/A"},{"$f":"+VLOOKUP('BASE DE RESPUESTAS'!BC15,Back!$M$16:$N$20,2,0)","v":"#N/A"},{"$f":"+VLOOKUP('BASE DE RESPUESTAS'!BD15,Back!$M$16:$N$20,2,0)","v":"#N/A"},{"$f":"+VLOOKUP('BASE DE RESPUESTAS'!BE15,Back!$M$16:$N$20,2,0)","v":"#N/A"}]
[null,"HSE","Conciencia emocional","El o la estudiante reconoce sus emociones.",10.0,"¿Cómo te sentirías si te dan un regalo?",null,{"$f":"+VLOOKUP('BASE DE RESPUESTAS'!H16,Back!$M$16:$N$20,2,0)","v":"#N/A"},{"$f":"+VLOOKUP('BASE DE RESPUESTAS'!I16,Back!$M$16:$N$20,2,0)","v":"#N/A"},{"$f":"+VLOOKUP('BASE DE RESPUESTAS'!J16,Back!$M$16:$N$20,2,0)","v":"#N/A"},{"$f":"+VLOOKUP('BASE DE RESPUESTAS'!K16,Back!$M$16:$N$20,2,0)","v":"#N/A"},{"$f":"+VLOOKUP('BASE DE RESPUESTAS'!L16,Back!$M$16:$N$20,2,0)","v":"#N/A"},{"$f":"+VLOOKUP('BASE DE RESPUESTAS'!M16,Back!$M$16:$N$20,2,0)","v":"#N/A"},{"$f":"+VLOOKUP('BASE DE RESPUESTAS'!N16,Back!$M$16:$N$20,2,0)","v":"#N/A"},{"$f":"+VLOOKUP('BASE DE RESPUESTAS'!O16,Back!$M$16:$N$20,2,0)","v":"#N/A"},{"$f":"+VLOOKUP('BASE DE RESPUESTAS'!P16,Back!$M$16:$N$20,2,0)","v":"#N/A"},{"$f":"+VLOOKUP('BASE DE RESPUESTAS'!Q16,Back!$M$16:$N$20,2,0)","v":"#N/A"},{"$f":"+VLOOKUP('BASE DE RESPUESTAS'!R16,Back!$M$16:$N$20,2,0)","v":"#N/A"},{"$f":"+VLOOKUP('BASE DE RESPUESTAS'!S16,Back!$M$16:$N$20,2,0)","v":"#N/A"},{"$f":"+VLOOKUP('BASE DE RESPUESTAS'!T16,Back!$M$16:$N$20,2,0)","v":"#N/A"},{"$f":"+VLOOKUP('BASE DE RESPUESTAS'!U16,Back!$M$16:$N$20,2,0)","v":"#N/A"},{"$f":"+VLOOKUP('BASE DE RESPUESTAS'!V16,Back!$M$16:$N$20,2,0)","v":"#N/A"},{"$f":"+VLOOKUP('BASE DE RESPUESTAS'!W16,Back!$M$16:$N$20,2,0)","v":"#N/A"},{"$f":"+VLOOKUP('BASE DE RESPUESTAS'!X16,Back!$M$16:$N$20,2,0)","v":"#N/A"},{"$f":"+VLOOKUP('BASE DE RESPUESTAS'!Y16,Back!$M$16:$N$20,2,0)","v":"#N/A"},{"$f":"+VLOOKUP('BASE DE RESPUESTAS'!Z16,Back!$M$16:$N$20,2,0)","v":"#N/A"},{"$f":"+VLOOKUP('BASE DE RESPUESTAS'!AA16,Back!$M$16:$N$20,2,0)","v":"#N/A"},{"$f":"+VLOOKUP('BASE DE RESPUESTAS'!AB16,Back!$M$16:$N$20,2,0)","v":"#N/A"},{"$f":"+VLOOKUP('BASE DE RESPUESTAS'!AC16,Back!$M$16:$N$20,2,0)","v":"#N/A"},{"$f":"+VLOOKUP('BASE DE RESPUESTAS'!AD16,Back!$M$16:$N$20,2,0)","v":"#N/A"},{"$f":"+VLOOKUP('BASE DE RESPUESTAS'!AE16,Back!$M$16:$N$20,2,0)","v":"#N/A"},{"$f":"+VLOOKUP('BASE DE RESPUESTAS'!AF16,Back!$M$16:$N$20,2,0)","v":"#N/A"},{"$f":"+VLOOKUP('BASE DE RESPUESTAS'!AG16,Back!$M$16:$N$20,2,0)","v":"#N/A"},{"$f":"+VLOOKUP('BASE DE RESPUESTAS'!AH16,Back!$M$16:$N$20,2,0)","v":"#N/A"},{"$f":"+VLOOKUP('BASE DE RESPUESTAS'!AI16,Back!$M$16:$N$20,2,0)","v":"#N/A"},{"$f":"+VLOOKUP('BASE DE RESPUESTAS'!AJ16,Back!$M$16:$N$20,2,0)","v":"#N/A"},{"$f":"+VLOOKUP('BASE DE RESPUESTAS'!AK16,Back!$M$16:$N$20,2,0)","v":"#N/A"},{"$f":"+VLOOKUP('BASE DE RESPUESTAS'!AL16,Back!$M$16:$N$20,2,0)","v":"#N/A"},{"$f":"+VLOOKUP('BASE DE RESPUESTAS'!AM16,Back!$M$16:$N$20,2,0)","v":"#N/A"},{"$f":"+VLOOKUP('BASE DE RESPUESTAS'!AN16,Back!$M$16:$N$20,2,0)","v":"#N/A"},{"$f":"+VLOOKUP('BASE DE RESPUESTAS'!AO16,Back!$M$16:$N$20,2,0)","v":"#N/A"},{"$f":"+VLOOKUP('BASE DE RESPUESTAS'!AP16,Back!$M$16:$N$20,2,0)","v":"#N/A"},{"$f":"+VLOOKUP('BASE DE RESPUESTAS'!AQ16,Back!$M$16:$N$20,2,0)","v":"#N/A"},{"$f":"+VLOOKUP('BASE DE RESPUESTAS'!AR16,Back!$M$16:$N$20,2,0)","v":"#N/A"},{"$f":"+VLOOKUP('BASE DE RESPUESTAS'!AS16,Back!$M$16:$N$20,2,0)","v":"#N/A"},{"$f":"+VLOOKUP('BASE DE RESPUESTAS'!AT16,Back!$M$16:$N$20,2,0)","v":"#N/A"},{"$f":"+VLOOKUP('BASE DE RESPUESTAS'!AU16,Back!$M$16:$N$20,2,0)","v":"#N/A"},{"$f":"+VLOOKUP('BASE DE RESPUESTAS'!AV16,Back!$M$16:$N$20,2,0)","v":"#N/A"},{"$f":"+VLOOKUP('BASE DE RESPUESTAS'!AW16,Back!$M$16:$N$20,2,0)","v":"#N/A"},{"$f":"+VLOOKUP('BASE DE RESPUESTAS'!AX16,Back!$M$16:$N$20,2,0)","v":"#N/A"},{"$f":"+VLOOKUP('BASE DE RESPUESTAS'!AY16,Back!$M$16:$N$20,2,0)","v":"#N/A"},{"$f":"+VLOOKUP('BASE DE RESPUESTAS'!AZ16,Back!$M$16:$N$20,2,0)","v":"#N/A"},{"$f":"+VLOOKUP('BASE DE RESPUESTAS'!BA16,Back!$M$16:$N$20,2,0)","v":"#N/A"},{"$f":"+VLOOKUP('BASE DE RESPUESTAS'!BB16,Back!$M$16:$N$20,2,0)","v":"#N/A"},{"$f":"+VLOOKUP('BASE DE RESPUESTAS'!BC16,Back!$M$16:$N$20,2,0)","v":"#N/A"},{"$f":"+VLOOKUP('BASE DE RESPUESTAS'!BD16,Back!$M$16:$N$20,2,0)","v":"#N/A"},{"$f":"+VLOOKUP('BASE DE RESPUESTAS'!BE16,Back!$M$16:$N$20,2,0)","v":"#N/A"}]
[null,null,null,null,11.0,"¿Cómo te sentirías si estas corriendo y te caes?",null,{"$f":"+VLOOKUP('BASE DE RESPUESTAS'!H17,Back!$M$16:$N$20,2,0)","v":"#N/A"},{"$f":"+VLOOKUP('BASE DE RESPUESTAS'!I17,Back!$M$16:$N$20,2,0)","v":"#N/A"},{"$f":"+VLOOKUP('BASE DE RESPUESTAS'!J17,Back!$M$16:$N$20,2,0)","v":"#N/A"},{"$f":"+VLOOKUP('BASE DE RESPUESTAS'!K17,Back!$M$16:$N$20,2,0)","v":"#N/A"},{"$f":"+VLOOKUP('BASE DE RESPUESTAS'!L17,Back!$M$16:$N$20,2,0)","v":"#N/A"},{"$f":"+VLOOKUP('BASE DE RESPUESTAS'!M17,Back!$M$16:$N$20,2,0)","v":"#N/A"},{"$f":"+VLOOKUP('BASE DE RESPUESTAS'!N17,Back!$M$16:$N$20,2,0)","v":"#N/A"},{"$f":"+VLOOKUP('BASE DE RESPUESTAS'!O17,Back!$M$16:$N$20,2,0)","v":"#N/A"},{"$f":"+VLOOKUP('BASE DE RESPUESTAS'!P17,Back!$M$16:$N$20,2,0)","v":"#N/A"},{"$f":"+VLOOKUP('BASE DE RESPUESTAS'!Q17,Back!$M$16:$N$20,2,0)","v":"#N/A"},{"$f":"+VLOOKUP('BASE DE RESPUESTAS'!R17,Back!$M$16:$N$20,2,0)","v":"#N/A"},{"$f":"+VLOOKUP('BASE DE RESPUESTAS'!S17,Back!$M$16:$N$20,2,0)","v":"#N/A"},{"$f":"+VLOOKUP('BASE DE RESPUESTAS'!T17,Back!$M$16:$N$20,2,0)","v":"#N/A"},{"$f":"+VLOOKUP('BASE DE RESPUESTAS'!U17,Back!$M$16:$N$20,2,0)","v":"#N/A"},{"$f":"+VLOOKUP('BASE DE RESPUESTAS'!V17,Back!$M$16:$N$20,2,0)","v":"#N/A"},{"$f":"+VLOOKUP('BASE DE RESPUESTAS'!W17,Back!$M$16:$N$20,2,0)","v":"#N/A"},{"$f":"+VLOOKUP('BASE DE RESPUESTAS'!X17,Back!$M$16:$N$20,2,0)","v":"#N/A"},{"$f":"+VLOOKUP('BASE DE RESPUESTAS'!Y17,Back!$M$16:$N$20,2,0)","v":"#N/A"},{"$f":"+VLOOKUP('BASE DE RESPUESTAS'!Z17,Back!$M$16:$N$20,2,0)","v":"#N/A"},{"$f":"+VLOOKUP('BASE DE RESPUESTAS'!AA17,Back!$M$16:$N$20,2,0)","v":"#N/A"},{"$f":"+VLOOKUP('BASE DE RESPUESTAS'!AB17,Back!$M$16:$N$20,2,0)","v":"#N/A"},{"$f":"+VLOOKUP('BASE DE RESPUESTAS'!AC17,Back!$M$16:$N$20,2,0)","v":"#N/A"},{"$f":"+VLOOKUP('BASE DE RESPUESTAS'!AD17,Back!$M$16:$N$20,2,0)","v":"#N/A"},{"$f":"+VLOOKUP('BASE DE RESPUESTAS'!AE17,Back!$M$16:$N$20,2,0)","v":"#N/A"},{"$f":"+VLOOKUP('BASE DE RESPUESTAS'!AF17,Back!$M$16:$N$20,2,0)","v":"#N/A"},{"$f":"+VLOOKUP('BASE DE RESPUESTAS'!AG17,Back!$M$16:$N$20,2,0)","v":"#N/A"},{"$f":"+VLOOKUP('BASE DE RESPUESTAS'!AH17,Back!$M$16:$N$20,2,0)","v":"#N/A"},{"$f":"+VLOOKUP('BASE DE RESPUESTAS'!AI17,Back!$M$16:$N$20,2,0)","v":"#N/A"},{"$f":"+VLOOKUP('BASE DE RESPUESTAS'!AJ17,Back!$M$16:$N$20,2,0)","v":"#N/A"},{"$f":"+VLOOKUP('BASE DE RESPUESTAS'!AK17,Back!$M$16:$N$20,2,0)","v":"#N/A"},{"$f":"+VLOOKUP('BASE DE RESPUESTAS'!AL17,Back!$M$16:$N$20,2,0)","v":"#N/A"},{"$f":"+VLOOKUP('BASE DE RESPUESTAS'!AM17,Back!$M$16:$N$20,2,0)","v":"#N/A"},{"$f":"+VLOOKUP('BASE DE RESPUESTAS'!AN17,Back!$M$16:$N$20,2,0)","v":"#N/A"},{"$f":"+VLOOKUP('BASE DE RESPUESTAS'!AO17,Back!$M$16:$N$20,2,0)","v":"#N/A"},{"$f":"+VLOOKUP('BASE DE RESPUESTAS'!AP17,Back!$M$16:$N$20,2,0)","v":"#N/A"},{"$f":"+VLOOKUP('BASE DE RESPUESTAS'!AQ17,Back!$M$16:$N$20,2,0)","v":"#N/A"},{"$f":"+VLOOKUP('BASE DE RESPUESTAS'!AR17,Back!$M$16:$N$20,2,0)","v":"#N/A"},{"$f":"+VLOOKUP('BASE DE RESPUESTAS'!AS17,Back!$M$16:$N$20,2,0)","v":"#N/A"},{"$f":"+VLOOKUP('BASE DE RESPUESTAS'!AT17,Back!$M$16:$N$20,2,0)","v":"#N/A"},{"$f":"+VLOOKUP('BASE DE RESPUESTAS'!AU17,Back!$M$16:$N$20,2,0)","v":"#N/A"},{"$f":"+VLOOKUP('BASE DE RESPUESTAS'!AV17,Back!$M$16:$N$20,2,0)","v":"#N/A"},{"$f":"+VLOOKUP('BASE DE RESPUESTAS'!AW17,Back!$M$16:$N$20,2,0)","v":"#N/A"},{"$f":"+VLOOKUP('BASE DE RESPUESTAS'!AX17,Back!$M$16:$N$20,2,0)","v":"#N/A"},{"$f":"+VLOOKUP('BASE DE RESPUESTAS'!AY17,Back!$M$16:$N$20,2,0)","v":"#N/A"},{"$f":"+VLOOKUP('BASE DE RESPUESTAS'!AZ17,Back!$M$16:$N$20,2,0)","v":"#N/A"},{"$f":"+VLOOKUP('BASE DE RESPUESTAS'!BA17,Back!$M$16:$N$20,2,0)","v":"#N/A"},{"$f":"+VLOOKUP('BASE DE RESPUESTAS'!BB17,Back!$M$16:$N$20,2,0)","v":"#N/A"},{"$f":"+VLOOKUP('BASE DE RESPUESTAS'!BC17,Back!$M$16:$N$20,2,0)","v":"#N/A"},{"$f":"+VLOOKUP('BASE DE RESPUESTAS'!BD17,Back!$M$16:$N$20,2,0)","v":"#N/A"},{"$f":"+VLOOKUP('BASE DE RESPUESTAS'!BE17,Back!$M$16:$N$20,2,0)","v":"#N/A"}]
[null,null,null,"El o la estudiante reconoce las emociones de sus compañeros.",12.0,"¿Cómo se sentiría tu amigo o amiga si no le dejan jugar?",null,{"$f":"+VLOOKUP('BASE DE RESPUESTAS'!H18,Back!$M$16:$N$20,2,0)","v":"#N/A"},{"$f":"+VLOOKUP('BASE DE RESPUESTAS'!I18,Back!$M$16:$N$20,2,0)","v":"#N/A"},{"$f":"+VLOOKUP('BASE DE RESPUESTAS'!J18,Back!$M$16:$N$20,2,0)","v":"#N/A"},{"$f":"+VLOOKUP('BASE DE RESPUESTAS'!K18,Back!$M$16:$N$20,2,0)","v":"#N/A"},{"$f":"+VLOOKUP('BASE DE RESPUESTAS'!L18,Back!$M$16:$N$20,2,0)","v":"#N/A"},{"$f":"+VLOOKUP('BASE DE RESPUESTAS'!M18,Back!$M$16:$N$20,2,0)","v":"#N/A"},{"$f":"+VLOOKUP('BASE DE RESPUESTAS'!N18,Back!$M$16:$N$20,2,0)","v":"#N/A"},{"$f":"+VLOOKUP('BASE DE RESPUESTAS'!O18,Back!$M$16:$N$20,2,0)","v":"#N/A"},{"$f":"+VLOOKUP('BASE DE RESPUESTAS'!P18,Back!$M$16:$N$20,2,0)","v":"#N/A"},{"$f":"+VLOOKUP('BASE DE RESPUESTAS'!Q18,Back!$M$16:$N$20,2,0)","v":"#N/A"},{"$f":"+VLOOKUP('BASE DE RESPUESTAS'!R18,Back!$M$16:$N$20,2,0)","v":"#N/A"},{"$f":"+VLOOKUP('BASE DE RESPUESTAS'!S18,Back!$M$16:$N$20,2,0)","v":"#N/A"},{"$f":"+VLOOKUP('BASE DE RESPUESTAS'!T18,Back!$M$16:$N$20,2,0)","v":"#N/A"},{"$f":"+VLOOKUP('BASE DE RESPUESTAS'!U18,Back!$M$16:$N$20,2,0)","v":"#N/A"},{"$f":"+VLOOKUP('BASE DE RESPUESTAS'!V18,Back!$M$16:$N$20,2,0)","v":"#N/A"},{"$f":"+VLOOKUP('BASE DE RESPUESTAS'!W18,Back!$M$16:$N$20,2,0)","v":"#N/A"},{"$f":"+VLOOKUP('BASE DE RESPUESTAS'!X18,Back!$M$16:$N$20,2,0)","v":"#N/A"},{"$f":"+VLOOKUP('BASE DE RESPUESTAS'!Y18,Back!$M$16:$N$20,2,0)","v":"#N/A"},{"$f":"+VLOOKUP('BASE DE RESPUESTAS'!Z18,Back!$M$16:$N$20,2,0)","v":"#N/A"},{"$f":"+VLOOKUP('BASE DE RESPUESTAS'!AA18,Back!$M$16:$N$20,2,0)","v":"#N/A"},{"$f":"+VLOOKUP('BASE DE RESPUESTAS'!AB18,Back!$M$16:$N$20,2,0)","v":"#N/A"},{"$f":"+VLOOKUP('BASE DE RESPUESTAS'!AC18,Back!$M$16:$N$20,2,0)","v":"#N/A"},{"$f":"+VLOOKUP('BASE DE RESPUESTAS'!AD18,Back!$M$16:$N$20,2,0)","v":"#N/A"},{"$f":"+VLOOKUP('BASE DE RESPUESTAS'!AE18,Back!$M$16:$N$20,2,0)","v":"#N/A"},{"$f":"+VLOOKUP('BASE DE RESPUESTAS'!AF18,Back!$M$16:$N$20,2,0)","v":"#N/A"},{"$f":"+VLOOKUP('BASE DE RESPUESTAS'!AG18,Back!$M$16:$N$20,2,0)","v":"#N/A"},{"$f":"+VLOOKUP('BASE DE RESPUESTAS'!AH18,Back!$M$16:$N$20,2,0)","v":"#N/A"},{"$f":"+VLOOKUP('BASE DE RESPUESTAS'!AI18,Back!$M$16:$N$20,2,0)","v":"#N/A"},{"$f":"+VLOOKUP('BASE DE RESPUESTAS'!AJ18,Back!$M$16:$N$20,2,0)","v":"#N/A"},{"$f":"+VLOOKUP('BASE DE RESPUESTAS'!AK18,Back!$M$16:$N$20,2,0)","v":"#N/A"},{"$f":"+VLOOKUP('BASE DE RESPUESTAS'!AL18,Back!$M$16:$N$20,2,0)","v":"#N/A"},{"$f":"+VLOOKUP('BASE DE RESPUESTAS'!AM18,Back!$M$16:$N$20,2,0)","v":"#N/A"},{"$f":"+VLOOKUP('BASE DE RESPUESTAS'!AN18,Back!$M$16:$N$20,2,0)","v":"#N/A"},{"$f":"+VLOOKUP('BASE DE RESPUESTAS'!AO18,Back!$M$16:$N$20,2,0)","v":"#N/A"},{"$f":"+VLOOKUP('BASE DE RESPUESTAS'!AP18,Back!$M$16:$N$20,2,0)","v":"#N/A"},{"$f":"+VLOOKUP('BASE DE RESPUESTAS'!AQ18,Back!$M$16:$N$20,2,0)","v":"#N/A"},{"$f":"+VLOOKUP('BASE DE RESPUESTAS'!AR18,Back!$M$16:$N$20,2,0)","v":"#N/A"},{"$f":"+VLOOKUP('BASE DE RESPUESTAS'!AS18,Back!$M$16:$N$20,2,0)","v":"#N/A"},{"$f":"+VLOOKUP('BASE DE RESPUESTAS'!AT18,Back!$M$16:$N$20,2,0)","v":"#N/A"},{"$f":"+VLOOKUP('BASE DE RESPUESTAS'!AU18,Back!$M$16:$N$20,2,0)","v":"#N/A"},{"$f":"+VLOOKUP('BASE DE RESPUESTAS'!AV18,Back!$M$16:$N$20,2,0)","v":"#N/A"},{"$f":"+VLOOKUP('BASE DE RESPUESTAS'!AW18,Back!$M$16:$N$20,2,0)","v":"#N/A"},{"$f":"+VLOOKUP('BASE DE RESPUESTAS'!AX18,Back!$M$16:$N$20,2,0)","v":"#N/A"},{"$f":"+VLOOKUP('BASE DE RESPUESTAS'!AY18,Back!$M$16:$N$20,2,0)","v":"#N/A"},{"$f":"+VLOOKUP('BASE DE RESPUESTAS'!AZ18,Back!$M$16:$N$20,2,0)","v":"#N/A"},{"$f":"+VLOOKUP('BASE DE RESPUESTAS'!BA18,Back!$M$16:$N$20,2,0)","v":"#N/A"},{"$f":"+VLOOKUP('BASE DE RESPUESTAS'!BB18,Back!$M$16:$N$20,2,0)","v":"#N/A"},{"$f":"+VLOOKUP('BASE DE RESPUESTAS'!BC18,Back!$M$16:$N$20,2,0)","v":"#N/A"},{"$f":"+VLOOKUP('BASE DE RESPUESTAS'!BD18,Back!$M$16:$N$20,2,0)","v":"#N/A"},{"$f":"+VLOOKUP('BASE DE RESPUESTAS'!BE18,Back!$M$16:$N$20,2,0)","v":"#N/A"}]
[null,null,null,null,13.0,"¿Cómo se sentiría tu amigo o amiga si la invitan a jugar?",null,{"$f":"+VLOOKUP('BASE DE RESPUESTAS'!H19,Back!$M$16:$N$20,2,0)","v":"#N/A"},{"$f":"+VLOOKUP('BASE DE RESPUESTAS'!I19,Back!$M$16:$N$20,2,0)","v":"#N/A"},{"$f":"+VLOOKUP('BASE DE RESPUESTAS'!J19,Back!$M$16:$N$20,2,0)","v":"#N/A"},{"$f":"+VLOOKUP('BASE DE RESPUESTAS'!K19,Back!$M$16:$N$20,2,0)","v":"#N/A"},{"$f":"+VLOOKUP('BASE DE RESPUESTAS'!L19,Back!$M$16:$N$20,2,0)","v":"#N/A"},{"$f":"+VLOOKUP('BASE DE RESPUESTAS'!M19,Back!$M$16:$N$20,2,0)","v":"#N/A"},{"$f":"+VLOOKUP('BASE DE RESPUESTAS'!N19,Back!$M$16:$N$20,2,0)","v":"#N/A"},{"$f":"+VLOOKUP('BASE DE RESPUESTAS'!O19,Back!$M$16:$N$20,2,0)","v":"#N/A"},{"$f":"+VLOOKUP('BASE DE RESPUESTAS'!P19,Back!$M$16:$N$20,2,0)","v":"#N/A"},{"$f":"+VLOOKUP('BASE DE RESPUESTAS'!Q19,Back!$M$16:$N$20,2,0)","v":"#N/A"},{"$f":"+VLOOKUP('BASE DE RESPUESTAS'!R19,Back!$M$16:$N$20,2,0)","v":"#N/A"},{"$f":"+VLOOKUP('BASE DE RESPUESTAS'!S19,Back!$M$16:$N$20,2,0)","v":"#N/A"},{"$f":"+VLOOKUP('BASE DE RESPUESTAS'!T19,Back!$M$16:$N$20,2,0)","v":"#N/A"},{"$f":"+VLOOKUP('BASE DE RESPUESTAS'!U19,Back!$M$16:$N$20,2,0)","v":"#N/A"},{"$f":"+VLOOKUP('BASE DE RESPUESTAS'!V19,Back!$M$16:$N$20,2,0)","v":"#N/A"},{"$f":"+VLOOKUP('BASE DE RESPUESTAS'!W19,Back!$M$16:$N$20,2,0)","v":"#N/A"},{"$f":"+VLOOKUP('BASE DE RESPUESTAS'!X19,Back!$M$16:$N$20,2,0)","v":"#N/A"},{"$f":"+VLOOKUP('BASE DE RESPUESTAS'!Y19,Back!$M$16:$N$20,2,0)","v":"#N/A"},{"$f":"+VLOOKUP('BASE DE RESPUESTAS'!Z19,Back!$M$16:$N$20,2,0)","v":"#N/A"},{"$f":"+VLOOKUP('BASE DE RESPUESTAS'!AA19,Back!$M$16:$N$20,2,0)","v":"#N/A"},{"$f":"+VLOOKUP('BASE DE RESPUESTAS'!AB19,Back!$M$16:$N$20,2,0)","v":"#N/A"},{"$f":"+VLOOKUP('BASE DE RESPUESTAS'!AC19,Back!$M$16:$N$20,2,0)","v":"#N/A"},{"$f":"+VLOOKUP('BASE DE RESPUESTAS'!AD19,Back!$M$16:$N$20,2,0)","v":"#N/A"},{"$f":"+VLOOKUP('BASE DE RESPUESTAS'!AE19,Back!$M$16:$N$20,2,0)","v":"#N/A"},{"$f":"+VLOOKUP('BASE DE RESPUESTAS'!AF19,Back!$M$16:$N$20,2,0)","v":"#N/A"},{"$f":"+VLOOKUP('BASE DE RESPUESTAS'!AG19,Back!$M$16:$N$20,2,0)","v":"#N/A"},{"$f":"+VLOOKUP('BASE DE RESPUESTAS'!AH19,Back!$M$16:$N$20,2,0)","v":"#N/A"},{"$f":"+VLOOKUP('BASE DE RESPUESTAS'!AI19,Back!$M$16:$N$20,2,0)","v":"#N/A"},{"$f":"+VLOOKUP('BASE DE RESPUESTAS'!AJ19,Back!$M$16:$N$20,2,0)","v":"#N/A"},{"$f":"+VLOOKUP('BASE DE RESPUESTAS'!AK19,Back!$M$16:$N$20,2,0)","v":"#N/A"},{"$f":"+VLOOKUP('BASE DE RESPUESTAS'!AL19,Back!$M$16:$N$20,2,0)","v":"#N/A"},{"$f":"+VLOOKUP('BASE DE RESPUESTAS'!AM19,Back!$M$16:$N$20,2,0)","v":"#N/A"},{"$f":"+VLOOKUP('BASE DE RESPUESTAS'!AN19,Back!$M$16:$N$20,2,0)","v":"#N/A"},{"$f":"+VLOOKUP('BASE DE RESPUESTAS'!AO19,Back!$M$16:$N$20,2,0)","v":"#N/A"},{"$f":"+VLOOKUP('BASE DE RESPUESTAS'!AP19,Back!$M$16:$N$20,2,0)","v":"#N/A"},{"$f":"+VLOOKUP('BASE DE RESPUESTAS'!AQ19,Back!$M$16:$N$20,2,0)","v":"#N/A"},{"$f":"+VLOOKUP('BASE DE RESPUESTAS'!AR19,Back!$M$16:$N$20,2,0)","v":"#N/A"},{"$f":"+VLOOKUP('BASE DE RESPUESTAS'!AS19,Back!$M$16:$N$20,2,0)","v":"#N/A"},{"$f":"+VLOOKUP('BASE DE RESPUESTAS'!AT19,Back!$M$16:$N$20,2,0)","v":"#N/A"},{"$f":"+VLOOKUP('BASE DE RESPUESTAS'!AU19,Back!$M$16:$N$20,2,0)","v":"#N/A"},{"$f":"+VLOOKUP('BASE DE RESPUESTAS'!AV19,Back!$M$16:$N$20,2,0)","v":"#N/A"},{"$f":"+VLOOKUP('BASE DE RESPUESTAS'!AW19,Back!$M$16:$N$20,2,0)","v":"#N/A"},{"$f":"+VLOOKUP('BASE DE RESPUESTAS'!AX19,Back!$M$16:$N$20,2,0)","v":"#N/A"},{"$f":"+VLOOKUP('BASE DE RESPUESTAS'!AY19,Back!$M$16:$N$20,2,0)","v":"#N/A"},{"$f":"+VLOOKUP('BASE DE RESPUESTAS'!AZ19,Back!$M$16:$N$20,2,0)","v":"#N/A"},{"$f":"+VLOOKUP('BASE DE RESPUESTAS'!BA19,Back!$M$16:$N$20,2,0)","v":"#N/A"},{"$f":"+VLOOKUP('BASE DE RESPUESTAS'!BB19,Back!$M$16:$N$20,2,0)","v":"#N/A"},{"$f":"+VLOOKUP('BASE DE RESPUESTAS'!BC19,Back!$M$16:$N$20,2,0)","v":"#N/A"},{"$f":"+VLOOKUP('BASE DE RESPUESTAS'!BD19,Back!$M$16:$N$20,2,0)","v":"#N/A"},{"$f":"+VLOOKUP('BASE DE RESPUESTAS'!BE19,Back!$M$16:$N$20,2,0)","v":"#N/A"}]
[null,"HSE","Autocuidado","El o la estudiante reconoce situaciones que afectan su bienestar.",14.0,"¿Te puede hacer daño jugar con una pelota?",null,{"$f":"+VLOOKUP('BASE DE RESPUESTAS'!H20,Back!$M$16:$N$20,2,0)","v":"#N/A"},{"$f":"+VLOOKUP('BASE DE RESPUESTAS'!I20,Back!$M$16:$N$20,2,0)","v":"#N/A"},{"$f":"+VLOOKUP('BASE DE RESPUESTAS'!J20,Back!$M$16:$N$20,2,0)","v":"#N/A"},{"$f":"+VLOOKUP('BASE DE RESPUESTAS'!K20,Back!$M$16:$N$20,2,0)","v":"#N/A"},{"$f":"+VLOOKUP('BASE DE RESPUESTAS'!L20,Back!$M$16:$N$20,2,0)","v":"#N/A"},{"$f":"+VLOOKUP('BASE DE RESPUESTAS'!M20,Back!$M$16:$N$20,2,0)","v":"#N/A"},{"$f":"+VLOOKUP('BASE DE RESPUESTAS'!N20,Back!$M$16:$N$20,2,0)","v":"#N/A"},{"$f":"+VLOOKUP('BASE DE RESPUESTAS'!O20,Back!$M$16:$N$20,2,0)","v":"#N/A"},{"$f":"+VLOOKUP('BASE DE RESPUESTAS'!P20,Back!$M$16:$N$20,2,0)","v":"#N/A"},{"$f":"+VLOOKUP('BASE DE RESPUESTAS'!Q20,Back!$M$16:$N$20,2,0)","v":"#N/A"},{"$f":"+VLOOKUP('BASE DE RESPUESTAS'!R20,Back!$M$16:$N$20,2,0)","v":"#N/A"},{"$f":"+VLOOKUP('BASE DE RESPUESTAS'!S20,Back!$M$16:$N$20,2,0)","v":"#N/A"},{"$f":"+VLOOKUP('BASE DE RESPUESTAS'!T20,Back!$M$16:$N$20,2,0)","v":"#N/A"},{"$f":"+VLOOKUP('BASE DE RESPUESTAS'!U20,Back!$M$16:$N$20,2,0)","v":"#N/A"},{"$f":"+VLOOKUP('BASE DE RESPUESTAS'!V20,Back!$M$16:$N$20,2,0)","v":"#N/A"},{"$f":"+VLOOKUP('BASE DE RESPUESTAS'!W20,Back!$M$16:$N$20,2,0)","v":"#N/A"},{"$f":"+VLOOKUP('BASE DE RESPUESTAS'!X20,Back!$M$16:$N$20,2,0)","v":"#N/A"},{"$f":"+VLOOKUP('BASE DE RESPUESTAS'!Y20,Back!$M$16:$N$20,2,0)","v":"#N/A"},{"$f":"+VLOOKUP('BASE DE RESPUESTAS'!Z20,Back!$M$16:$N$20,2,0)","v":"#N/A"},{"$f":"+VLOOKUP('BASE DE RESPUESTAS'!AA20,Back!$M$16:$N$20,2,0)","v":"#N/A"},{"$f":"+VLOOKUP('BASE DE RESPUESTAS'!AB20,Back!$M$16:$N$20,2,0)","v":"#N/A"},{"$f":"+VLOOKUP('BASE DE RESPUESTAS'!AC20,Back!$M$16:$N$20,2,0)","v":"#N/A"},{"$f":"+VLOOKUP('BASE DE RESPUESTAS'!AD20,Back!$M$16:$N$20,2,0)","v":"#N/A"},{"$f":"+VLOOKUP('BASE DE RESPUESTAS'!AE20,Back!$M$16:$N$20,2,0)","v":"#N/A"},{"$f":"+VLOOKUP('BASE DE RESPUESTAS'!AF20,Back!$M$16:$N$20,2,0)","v":"#N/A"},{"$f":"+VLOOKUP('BASE DE RESPUESTAS'!AG20,Back!$M$16:$N$20,2,0)","v":"#N/A"},{"$f":"+VLOOKUP('BASE DE RESPUESTAS'!AH20,Back!$M$16:$N$20,2,0)","v":"#N/A"},{"$f":"+VLOOKUP('BASE DE RESPUESTAS'!AI20,Back!$M$16:$N$20,2,0)","v":"#N/A"},{"$f":"+VLOOKUP('BASE DE RESPUESTAS'!AJ20,Back!$M$16:$N$20,2,0)","v":"#N/A"},{"$f":"+VLOOKUP('BASE DE RESPUESTAS'!AK20,Back!$M$16:$N$20,2,0)","v":"#N/A"},{"$f":"+VLOOKUP('BASE DE RESPUESTAS'!AL20,Back!$M$16:$N$20,2,0)","v":"#N/A"},{"$f":"+VLOOKUP('BASE DE RESPUESTAS'!AM20,Back!$M$16:$N$20,2,0)","v":"#N/A"},{"$f":"+VLOOKUP('BASE DE RESPUESTAS'!AN20,Back!$M$16:$N$20,2,0)","v":"#N/A"},{"$f":"+VLOOKUP('BASE DE RESPUESTAS'!AO20,Back!$M$16:$N$20,2,0)","v":"#N/A"},{"$f":"+VLOOKUP('BASE DE RESPUESTAS'!AP20,Back!$M$16:$N$20,2,0)","v":"#N/A"},{"$f":"+VLOOKUP('BASE DE RESPUESTAS'!AQ20,Back!$M$16:$N$20,2,0)","v":"#N/A"},{"$f":"+VLOOKUP('BASE DE RESPUESTAS'!AR20,Back!$M$16:$N$20,2,0)","v":"#N/A"},{"$f":"+VLOOKUP('BASE DE RESPUESTAS'!AS20,Back!$M$16:$N$20,2,0)","v":"#N/A"},{"$f":"+VLOOKUP('BASE DE RESPUESTAS'!AT20,Back!$M$16:$N$20,2,0)","v":"#N/A"},{"$f":"+VLOOKUP('BASE DE RESPUESTAS'!AU20,Back!$M$16:$N$20,2,0)","v":"#N/A"},{"$f":"+VLOOKUP('BASE DE RESPUESTAS'!AV20,Back!$M$16:$N$20,2,0)","v":"#N/A"},{"$f":"+VLOOKUP('BASE DE RESPUESTAS'!AW20,Back!$M$16:$N$20,2,0)","v":"#N/A"},{"$f":"+VLOOKUP('BASE DE RESPUESTAS'!AX20,Back!$M$16:$N$20,2,0)","v":"#N/A"},{"$f":"+VLOOKUP('BASE DE RESPUESTAS'!AY20,Back!$M$16:$N$20,2,0)","v":"#N/A"},{"$f":"+VLOOKUP('BASE DE RESPUESTAS'!AZ20,Back!$M$16:$N$20,2,0)","v":"#N/A"},{"$f":"+VLOOKUP('BASE DE RESPUESTAS'!BA20,Back!$M$16:$N$20,2,0)","v":"#N/A"},{"$f":"+VLOOKUP('BASE DE RESPUESTAS'!BB20,Back!$M$16:$N$20,2,0)","v":"#N/A"},{"$f":"+VLOOKUP('BASE DE RESPUESTAS'!BC20,Back!$M$16:$N$20,2,0)","v":"#N/A"},{"$f":"+VLOOKUP('BASE DE RESPUESTAS'!BD20,Back!$M$16:$N$20,2,0)","v":"#N/A"},{"$f":"+VLOOKUP('BASE DE RESPUESTAS'!BE20,Back!$M$16:$N$20,2,0)","v":"#N/A"}]
[null,null,null,null,15.0,"¿Te puede hacer daño jugar con una tijera?",null,{"$f":"+VLOOKUP('BASE DE RESPUESTAS'!H21,Back!$M$16:$N$20,2,0)","v":"#N/A"},{"$f":"+VLOOKUP('BASE DE RESPUESTAS'!I21,Back!$M$16:$N$20,2,0)","v":"#N/A"},{"$f":"+VLOOKUP('BASE DE RESPUESTAS'!J21,Back!$M$16:$N$20,2,0)","v":"#N/A"},{"$f":"+VLOOKUP('BASE DE RESPUESTAS'!K21,Back!$M$16:$N$20,2,0)","v":"#N/A"},{"$f":"+VLOOKUP('BASE DE RESPUESTAS'!L21,Back!$M$16:$N$20,2,0)","v":"#N/A"},{"$f":"+VLOOKUP('BASE DE RESPUESTAS'!M21,Back!$M$16:$N$20,2,0)","v":"#N/A"},{"$f":"+VLOOKUP('BASE DE RESPUESTAS'!N21,Back!$M$16:$N$20,2,0)","v":"#N/A"},{"$f":"+VLOOKUP('BASE DE RESPUESTAS'!O21,Back!$M$16:$N$20,2,0)","v":"#N/A"},{"$f":"+VLOOKUP('BASE DE RESPUESTAS'!P21,Back!$M$16:$N$20,2,0)","v":"#N/A"},{"$f":"+VLOOKUP('BASE DE RESPUESTAS'!Q21,Back!$M$16:$N$20,2,0)","v":"#N/A"},{"$f":"+VLOOKUP('BASE DE RESPUESTAS'!R21,Back!$M$16:$N$20,2,0)","v":"#N/A"},{"$f":"+VLOOKUP('BASE DE RESPUESTAS'!S21,Back!$M$16:$N$20,2,0)","v":"#N/A"},{"$f":"+VLOOKUP('BASE DE RESPUESTAS'!T21,Back!$M$16:$N$20,2,0)","v":"#N/A"},{"$f":"+VLOOKUP('BASE DE RESPUESTAS'!U21,Back!$M$16:$N$20,2,0)","v":"#N/A"},{"$f":"+VLOOKUP('BASE DE RESPUESTAS'!V21,Back!$M$16:$N$20,2,0)","v":"#N/A"},{"$f":"+VLOOKUP('BASE DE RESPUESTAS'!W21,Back!$M$16:$N$20,2,0)","v":"#N/A"},{"$f":"+VLOOKUP('BASE DE RESPUESTAS'!X21,Back!$M$16:$N$20,2,0)","v":"#N/A"},{"$f":"+VLOOKUP('BASE DE RESPUESTAS'!Y21,Back!$M$16:$N$20,2,0)","v":"#N/A"},{"$f":"+VLOOKUP('BASE DE RESPUESTAS'!Z21,Back!$M$16:$N$20,2,0)","v":"#N/A"},{"$f":"+VLOOKUP('BASE DE RESPUESTAS'!AA21,Back!$M$16:$N$20,2,0)","v":"#N/A"},{"$f":"+VLOOKUP('BASE DE RESPUESTAS'!AB21,Back!$M$16:$N$20,2,0)","v":"#N/A"},{"$f":"+VLOOKUP('BASE DE RESPUESTAS'!AC21,Back!$M$16:$N$20,2,0)","v":"#N/A"},{"$f":"+VLOOKUP('BASE DE RESPUESTAS'!AD21,Back!$M$16:$N$20,2,0)","v":"#N/A"},{"$f":"+VLOOKUP('BASE DE RESPUESTAS'!AE21,Back!$M$16:$N$20,2,0)","v":"#N/A"},{"$f":"+VLOOKUP('BASE DE RESPUESTAS'!AF21,Back!$M$16:$N$20,2,0)","v":"#N/A"},{"$f":"+VLOOKUP('BASE DE RESPUESTAS'!AG21,Back!$M$16:$N$20,2,0)","v":"#N/A"},{"$f":"+VLOOKUP('BASE DE RESPUESTAS'!AH21,Back!$M$16:$N$20,2,0)","v":"#N/A"},{"$f":"+VLOOKUP('BASE DE RESPUESTAS'!AI21,Back!$M$16:$N$20,2,0)","v":"#N/A"},{"$f":"+VLOOKUP('BASE DE RESPUESTAS'!AJ21,Back!$M$16:$N$20,2,0)","v":"#N/A"},{"$f":"+VLOOKUP('BASE DE RESPUESTAS'!AK21,Back!$M$16:$N$20,2,0)","v":"#N/A"},{"$f":"+VLOOKUP('BASE DE RESPUESTAS'!AL21,Back!$M$16:$N$20,2,0)","v":"#N/A"},{"$f":"+VLOOKUP('BASE DE RESPUESTAS'!AM21,Back!$M$16:$N$20,2,0)","v":"#N/A"},{"$f":"+VLOOKUP('BASE DE RESPUESTAS'!AN21,Back!$M$16:$N$20,2,0)","v":"#N/A"},{"$f":"+VLOOKUP('BASE DE RESPUESTAS'!AO21,Back!$M$16:$N$20,2,0)","v":"#N/A"},{"$f":"+VLOOKUP('BASE DE RESPUESTAS'!AP21,Back!$M$16:$N$20,2,0)","v":"#N/A"},{"$f":"+VLOOKUP('BASE DE RESPUESTAS'!AQ21,Back!$M$16:$N$20,2,0)","v":"#N/A"},{"$f":"+VLOOKUP('BASE DE RESPUESTAS'!AR21,Back!$M$16:$N$20,2,0)","v":"#N/A"},{"$f":"+VLOOKUP('BASE DE RESPUESTAS'!AS21,Back!$M$16:$N$20,2,0)","v":"#N/A"},{"$f":"+VLOOKUP('BASE DE RESPUESTAS'!AT21,Back!$M$16:$N$20,2,0)","v":"#N/A"},{"$f":"+VLOOKUP('BASE DE RESPUESTAS'!AU21,Back!$M$16:$N$20,2,0)","v":"#N/A"},{"$f":"+VLOOKUP('BASE DE RESPUESTAS'!AV21,Back!$M$16:$N$20,2,0)","v":"#N/A"},{"$f":"+VLOOKUP('BASE DE RESPUESTAS'!AW21,Back!$M$16:$N$20,2,0)","v":"#N/A"},{"$f":"+VLOOKUP('BASE DE RESPUESTAS'!AX21,Back!$M$16:$N$20,2,0)","v":"#N/A"},{"$f":"+VLOOKUP('BASE DE RESPUESTAS'!AY21,Back!$M$16:$N$20,2,0)","v":"#N/A"},{"$f":"+VLOOKUP('BASE DE RESPUESTAS'!AZ21,Back!$M$16:$N$20,2,0)","v":"#N/A"},{"$f":"+VLOOKUP('BASE DE RESPUESTAS'!BA21,Back!$M$16:$N$20,2,0)","v":"#N/A"},{"$f":"+VLOOKUP('BASE DE RESPUESTAS'!BB21,Back!$M$16:$N$20,2,0)","v":"#N/A"},{"$f":"+VLOOKUP('BASE DE RESPUESTAS'!BC21,Back!$M$16:$N$20,2,0)","v":"#N/A"},{"$f":"+VLOOKUP('BASE DE RESPUESTAS'!BD21,Back!$M$16:$N$20,2,0)","v":"#N/A"},{"$f":"+VLOOKUP('BASE DE RESPUESTAS'!BE21,Back!$M$16:$N$20,2,0)","v":"#N/A"}]
[null,null,null,"El o la estudiante reconoce situaciones de riesgo y busca ayuda.",16.0,"Pinta tu respuesta ¿Qué harías si estás solo/a y te encuentras en peligro",null,{"$f":"+VLOOKUP('BASE DE RESPUESTAS'!H22,Back!$M$16:$N$20,2,0)","v":"#N/A"},{"$f":"+VLOOKUP('BASE DE RESPUESTAS'!I22,Back!$M$16:$N$20,2,0)","v":"#N/A"},{"$f":"+VLOOKUP('BASE DE RESPUESTAS'!J22,Back!$M$16:$N$20,2,0)","v":"#N/A"},{"$f":"+VLOOKUP('BASE DE RESPUESTAS'!K22,Back!$M$16:$N$20,2,0)","v":"#N/A"},{"$f":"+VLOOKUP('BASE DE RESPUESTAS'!L22,Back!$M$16:$N$20,2,0)","v":"#N/A"},{"$f":"+VLOOKUP('BASE DE RESPUESTAS'!M22,Back!$M$16:$N$20,2,0)","v":"#N/A"},{"$f":"+VLOOKUP('BASE DE RESPUESTAS'!N22,Back!$M$16:$N$20,2,0)","v":"#N/A"},{"$f":"+VLOOKUP('BASE DE RESPUESTAS'!O22,Back!$M$16:$N$20,2,0)","v":"#N/A"},{"$f":"+VLOOKUP('BASE DE RESPUESTAS'!P22,Back!$M$16:$N$20,2,0)","v":"#N/A"},{"$f":"+VLOOKUP('BASE DE RESPUESTAS'!Q22,Back!$M$16:$N$20,2,0)","v":"#N/A"},{"$f":"+VLOOKUP('BASE DE RESPUESTAS'!R22,Back!$M$16:$N$20,2,0)","v":"#N/A"},{"$f":"+VLOOKUP('BASE DE RESPUESTAS'!S22,Back!$M$16:$N$20,2,0)","v":"#N/A"},{"$f":"+VLOOKUP('BASE DE RESPUESTAS'!T22,Back!$M$16:$N$20,2,0)","v":"#N/A"},{"$f":"+VLOOKUP('BASE DE RESPUESTAS'!U22,Back!$M$16:$N$20,2,0)","v":"#N/A"},{"$f":"+VLOOKUP('BASE DE RESPUESTAS'!V22,Back!$M$16:$N$20,2,0)","v":"#N/A"},{"$f":"+VLOOKUP('BASE DE RESPUESTAS'!W22,Back!$M$16:$N$20,2,0)","v":"#N/A"},{"$f":"+VLOOKUP('BASE DE RESPUESTAS'!X22,Back!$M$16:$N$20,2,0)","v":"#N/A"},{"$f":"+VLOOKUP('BASE DE RESPUESTAS'!Y22,Back!$M$16:$N$20,2,0)","v":"#N/A"},{"$f":"+VLOOKUP('BASE DE RESPUESTAS'!Z22,Back!$M$16:$N$20,2,0)","v":"#N/A"},{"$f":"+VLOOKUP('BASE DE RESPUESTAS'!AA22,Back!$M$16:$N$20,2,0)","v":"#N/A"},{"$f":"+VLOOKUP('BASE DE RESPUESTAS'!AB22,Back!$M$16:$N$20,2,0)","v":"#N/A"},{"$f":"+VLOOKUP('BASE DE RESPUESTAS'!AC22,Back!$M$16:$N$20,2,0)","v":"#N/A"},{"$f":"+VLOOKUP('BASE DE RESPUESTAS'!AD22,Back!$M$16:$N$20,2,0)","v":"#N/A"},{"$f":"+VLOOKUP('BASE DE RESPUESTAS'!AE22,Back!$M$16:$N$20,2,0)","v":"#N/A"},{"$f":"+VLOOKUP('BASE DE RESPUESTAS'!AF22,Back!$M$16:$N$20,2,0)","v":"#N/A"},{"$f":"+VLOOKUP('BASE DE RESPUESTAS'!AG22,Back!$M$16:$N$20,2,0)","v":"#N/A"},{"$f":"+VLOOKUP('BASE DE RESPUESTAS'!AH22,Back!$M$16:$N$20,2,0)","v":"#N/A"},{"$f":"+VLOOKUP('BASE DE RESPUESTAS'!AI22,Back!$M$16:$N$20,2,0)","v":"#N/A"},{"$f":"+VLOOKUP('BASE DE RESPUESTAS'!AJ22,Back!$M$16:$N$20,2,0)","v":"#N/A"},{"$f":"+VLOOKUP('BASE DE RESPUESTAS'!AK22,Back!$M$16:$N$20,2,0)","v":"#N/A"},{"$f":"+VLOOKUP('BASE DE RESPUESTAS'!AL22,Back!$M$16:$N$20,2,0)","v":"#N/A"},{"$f":"+VLOOKUP('BASE DE RESPUESTAS'!AM22,Back!$M$16:$N$20,2,0)","v":"#N/A"},{"$f":"+VLOOKUP('BASE DE RESPUESTAS'!AN22,Back!$M$16:$N$20,2,0)","v":"#N/A"},{"$f":"+VLOOKUP('BASE DE RESPUESTAS'!AO22,Back!$M$16:$N$20,2,0)","v":"#N/A"},{"$f":"+VLOOKUP('BASE DE RESPUESTAS'!AP22,Back!$M$16:$N$20,2,0)","v":"#N/A"},{"$f":"+VLOOKUP('BASE DE RESPUESTAS'!AQ22,Back!$M$16:$N$20,2,0)","v":"#N/A"},{"$f":"+VLOOKUP('BASE DE RESPUESTAS'!AR22,Back!$M$16:$N$20,2,0)","v":"#N/A"},{"$f":"+VLOOKUP('BASE DE RESPUESTAS'!AS22,Back!$M$16:$N$20,2,0)","v":"#N/A"},{"$f":"+VLOOKUP('BASE DE RESPUESTAS'!AT22,Back!$M$16:$N$20,2,0)","v":"#N/A"},{"$f":"+VLOOKUP('BASE DE RESPUESTAS'!AU22,Back!$M$16:$N$20,2,0)","v":"#N/A"},{"$f":"+VLOOKUP('BASE DE RESPUESTAS'!AV22,Back!$M$16:$N$20,2,0)","v":"#N/A"},{"$f":"+VLOOKUP('BASE DE RESPUESTAS'!AW22,Back!$M$16:$N$20,2,0)","v":"#N/A"},{"$f":"+VLOOKUP('BASE DE RESPUESTAS'!AX22,Back!$M$16:$N$20,2,0)","v":"#N/A"},{"$f":"+VLOOKUP('BASE DE RESPUESTAS'!AY22,Back!$M$16:$N$20,2,0)","v":"#N/A"},{"$f":"+VLOOKUP('BASE DE RESPUESTAS'!AZ22,Back!$M$16:$N$20,2,0)","v":"#N/A"},{"$f":"+VLOOKUP('BASE DE RESPUESTAS'!BA22,Back!$M$16:$N$20,2,0)","v":"#N/A"},{"$f":"+VLOOKUP('BASE DE RESPUESTAS'!BB22,Back!$M$16:$N$20,2,0)","v":"#N/A"},{"$f":"+VLOOKUP('BASE DE RESPUESTAS'!BC22,Back!$M$16:$N$20,2,0)","v":"#N/A"},{"$f":"+VLOOKUP('BASE DE RESPUESTAS'!BD22,Back!$M$16:$N$20,2,0)","v":"#N/A"},{"$f":"+VLOOKUP('BASE DE RESPUESTAS'!BE22,Back!$M$16:$N$20,2,0)","v":"#N/A"}]
[]
[null,"Dimensión","Escala","Indicador","Número","Preguntas"]
[null,null,null,null,null,null,null,"Responder Si/No","Responder Si/No","Responder Si/No","Responder Si/No","Responder Si/No","Responder Si/No","Responder Si/No","Responder Si/No","Responder Si/No","Responder Si/No","Responder Si/No","Responder Si/No","Responder Si/No","Responder Si/No","Responder Si/No","Responder Si/No","Responder Si/No","Responder Si/No","Responder Si/No","Responder Si/No","Responder Si/No","Responder Si/No","Responder Si/No","Responder Si/No","Responder Si/No","Responder Si/No","Responder Si/No","Responder Si/No","Responder Si/No","Responder Si/No","Responder Si/No","Responder Si/No","Responder Si/No","Responder Si/No","Responder Si/No","Responder Si/No","Responder Si/No","Responder Si/No","Responder Si/No","Responder Si/No","Responder Si/No","Responder Si/No","Responder Si/No","Responder Si/No","Responder Si/No","Responder Si/No","Responder Si/No","Responder Si/No","Responder Si/No","Responder Si/No"]
[null,"HSE","Regulación emocional","La o el estudiante regula sus emociones con apoyo de un adulto",17.0,"Expresa su enojo sin hacerse daño ni hacer daño a otros.",null,{"$f":"+VLOOKUP('BASE DE RESPUESTAS'!H26,Back!$M$16:$N$20,2,0)","v":"#N/A"},{"$f":"+VLOOKUP('BASE DE RESPUESTAS'!I26,Back!$M$16:$N$20,2,0)","v":"#N/A"},{"$f":"+VLOOKUP('BASE DE RESPUESTAS'!J26,Back!$M$16:$N$20,2,0)","v":"#N/A"},{"$f":"+VLOOKUP('BASE DE RESPUESTAS'!K26,Back!$M$16:$N$20,2,0)","v":"#N/A"},{"$f":"+VLOOKUP('BASE DE RESPUESTAS'!L26,Back!$M$16:$N$20,2,0)","v":"#N/A"},{"$f":"+VLOOKUP('BASE DE RESPUESTAS'!M26,Back!$M$16:$N$20,2,0)","v":"#N/A"},{"$f":"+VLOOKUP('BASE DE RESPUESTAS'!N26,Back!$M$16:$N$20,2,0)","v":"#N/A"},{"$f":"+VLOOKUP('BASE DE RESPUESTAS'!O26,Back!$M$16:$N$20,2,0)","v":"#N/A"},{"$f":"+VLOOKUP('BASE DE RESPUESTAS'!P26,Back!$M$16:$N$20,2,0)","v":"#N/A"},{"$f":"+VLOOKUP('BASE DE RESPUESTAS'!Q26,Back!$M$16:$N$20,2,0)","v":"#N/A"},{"$f":"+VLOOKUP('BASE DE RESPUESTAS'!R26,Back!$M$16:$N$20,2,0)","v":"#N/A"},{"$f":"+VLOOKUP('BASE DE RESPUESTAS'!S26,Back!$M$16:$N$20,2,0)","v":"#N/A"},{"$f":"+VLOOKUP('BASE DE RESPUESTAS'!T26,Back!$M$16:$N$20,2,0)","v":"#N/A"},{"$f":"+VLOOKUP('BASE DE RESPUESTAS'!U26,Back!$M$16:$N$20,2,0)","v":"#N/A"},{"$f":"+VLOOKUP('BASE DE RESPUESTAS'!V26,Back!$M$16:$N$20,2,0)","v":"#N/A"},{"$f":"+VLOOKUP('BASE DE RESPUESTAS'!W26,Back!$M$16:$N$20,2,0)","v":"#N/A"},{"$f":"+VLOOKUP('BASE DE RESPUESTAS'!X26,Back!$M$16:$N$20,2,0)","v":"#N/A"},{"$f":"+VLOOKUP('BASE DE RESPUESTAS'!Y26,Back!$M$16:$N$20,2,0)","v":"#N/A"},{"$f":"+VLOOKUP('BASE DE RESPUESTAS'!Z26,Back!$M$16:$N$20,2,0)","v":"#N/A"},{"$f":"+VLOOKUP('BASE DE RESPUESTAS'!AA26,Back!$M$16:$N$20,2,0)","v":"#N/A"},{"$f":"+VLOOKUP('BASE DE RESPUESTAS'!AB26,Back!$M$16:$N$20,2,0)","v":"#N/A"},{"$f":"+VLOOKUP('BASE DE RESPUESTAS'!AC26,Back!$M$16:$N$20,2,0)","v":"#N/A"},{"$f":"+VLOOKUP('BASE DE RESPUESTAS'!AD26,Back!$M$16:$N$20,2,0)","v":"#N/A"},{"$f":"+VLOOKUP('BASE DE RESPUESTAS'!AE26,Back!$M$16:$N$20,2,0)","v":"#N/A"},{"$f":"+VLOOKUP('BASE DE RESPUESTAS'!AF26,Back!$M$16:$N$20,2,0)","v":"#N/A"},{"$f":"+VLOOKUP('BASE DE RESPUESTAS'!AG26,Back!$M$16:$N$20,2,0)","v":"#N/A"},{"$f":"+VLOOKUP('BASE DE RESPUESTAS'!AH26,Back!$M$16:$N$20,2,0)","v":"#N/A"},{"$f":"+VLOOKUP('BASE DE RESPUESTAS'!AI26,Back!$M$16:$N$20,2,0)","v":"#N/A"},{"$f":"+VLOOKUP('BASE DE RESPUESTAS'!AJ26,Back!$M$16:$N$20,2,0)","v":"#N/A"},{"$f":"+VLOOKUP('BASE DE RESPUESTAS'!AK26,Back!$M$16:$N$20,2,0)","v":"#N/A"},{"$f":"+VLOOKUP('BASE DE RESPUESTAS'!AL26,Back!$M$16:$N$20,2,0)","v":"#N/A"},{"$f":"+VLOOKUP('BASE DE RESPUESTAS'!AM26,Back!$M$16:$N$20,2,0)","v":"#N/A"},{"$f":"+VLOOKUP('BASE DE RESPUESTAS'!AN26,Back!$M$16:$N$20,2,0)","v":"#N/A"},{"$f":"+VLOOKUP('BASE DE RESPUESTAS'!AO26,Back!$M$16:$N$20,2,0)","v":"#N/A"},{"$f":"+VLOOKUP('BASE DE RESPUESTAS'!AP26,Back!$M$16:$N$20,2,0)","v":"#N/A"},{"$f":"+VLOOKUP('BASE DE RESPUESTAS'!AQ26,Back!$M$16:$N$20,2,0)","v":"#N/A"},{"$f":"+VLOOKUP('BASE DE RESPUESTAS'!AR26,Back!$M$16:$N$20,2,0)","v":"#N/A"},{"$f":"+VLOOKUP('BASE DE RESPUESTAS'!AS26,Back!$M$16:$N$20,2,0)","v":"#N/A"},{"$f":"+VLOOKUP('BASE DE RESPUESTAS'!AT26,Back!$M$16:$N$20,2,0)","v":"#N/A"},{"$f":"+VLOOKUP('BASE DE RESPUESTAS'!AU26,Back!$M$16:$N$20,2,0)","v":"#N/A"},{"$f":"+VLOOKUP('BASE DE RESPUESTAS'!AV26,Back!$M$16:$N$20,2,0)","v":"#N/A"},{"$f":"+VLOOKUP('BASE DE RESPUESTAS'!AW26,Back!$M$16:$N$20,2,0)","v":"#N/A"},{"$f":"+VLOOKUP('BASE DE RESPUESTAS'!AX26,Back!$M$16:$N$20,2,0)","v":"#N/A"},{"$f":"+VLOOKUP('BASE DE RESPUESTAS'!AY26,Back!$M$16:$N$20,2,0)","v":"#N/A"},{"$f":"+VLOOKUP('BASE DE RESPUESTAS'!AZ26,Back!$M$16:$N$20,2,0)","v":"#N/A"},{"$f":"+VLOOKUP('BASE DE RESPUESTAS'!BA26,Back!$M$16:$N$20,2,0)","v":"#N/A"},{"$f":"+VLOOKUP('BASE DE RESPUESTAS'!BB26,Back!$M$16:$N$20,2,0)","v":"#N/A"},{"$f":"+VLOOKUP('BASE DE RESPUESTAS'!BC26,Back!$M$16:$N$20,2,0)","v":"#N/A"},{"$f":"+VLOOKUP('BASE DE RESPUESTAS'!BD26,Back!$M$16:$N$20,2,0)","v":"#N/A"},{"$f":"+VLOOKUP('BASE DE RESPUESTAS'!BE26,Back!$M$16:$N$20,2,0)","v":"#N/A"}]
[null,null,null,null,18.0,"Es capaz de comunicar cómo se siente ante diferentes situaciones y pedir ayuda si lo necesita.",null,{"$f":"+VLOOKUP('BASE DE RESPUESTAS'!H27,Back!$M$16:$N$20,2,0)","v":"#N/A"},{"$f":"+VLOOKUP('BASE DE RESPUESTAS'!I27,Back!$M$16:$N$20,2,0)","v":"#N/A"},{"$f":"+VLOOKUP('BASE DE RESPUESTAS'!J27,Back!$M$16:$N$20,2,0)","v":"#N/A"},{"$f":"+VLOOKUP('BASE DE RESPUESTAS'!K27,Back!$M$16:$N$20,2,0)","v":"#N/A"},{"$f":"+VLOOKUP('BASE DE RESPUESTAS'!L27,Back!$M$16:$N$20,2,0)","v":"#N/A"},{"$f":"+VLOOKUP('BASE DE RESPUESTAS'!M27,Back!$M$16:$N$20,2,0)","v":"#N/A"},{"$f":"+VLOOKUP('BASE DE RESPUESTAS'!N27,Back!$M$16:$N$20,2,0)","v":"#N/A"},{"$f":"+VLOOKUP('BASE DE RESPUESTAS'!O27,Back!$M$16:$N$20,2,0)","v":"#N/A"},{"$f":"+VLOOKUP('BASE DE RESPUESTAS'!P27,Back!$M$16:$N$20,2,0)","v":"#N/A"},{"$f":"+VLOOKUP('BASE DE RESPUESTAS'!Q27,Back!$M$16:$N$20,2,0)","v":"#N/A"},{"$f":"+VLOOKUP('BASE DE RESPUESTAS'!R27,Back!$M$16:$N$20,2,0)","v":"#N/A"},{"$f":"+VLOOKUP('BASE DE RESPUESTAS'!S27,Back!$M$16:$N$20,2,0)","v":"#N/A"},{"$f":"+VLOOKUP('BASE DE RESPUESTAS'!T27,Back!$M$16:$N$20,2,0)","v":"#N/A"},{"$f":"+VLOOKUP('BASE DE RESPUESTAS'!U27,Back!$M$16:$N$20,2,0)","v":"#N/A"},{"$f":"+VLOOKUP('BASE DE RESPUESTAS'!V27,Back!$M$16:$N$20,2,0)","v":"#N/A"},{"$f":"+VLOOKUP('BASE DE RESPUESTAS'!W27,Back!$M$16:$N$20,2,0)","v":"#N/A"},{"$f":"+VLOOKUP('BASE DE RESPUESTAS'!X27,Back!$M$16:$N$20,2,0)","v":"#N/A"},{"$f":"+VLOOKUP('BASE DE RESPUESTAS'!Y27,Back!$M$16:$N$20,2,0)","v":"#N/A"},{"$f":"+VLOOKUP('BASE DE RESPUESTAS'!Z27,Back!$M$16:$N$20,2,0)","v":"#N/A"},{"$f":"+VLOOKUP('BASE DE RESPUESTAS'!AA27,Back!$M$16:$N$20,2,0)","v":"#N/A"},{"$f":"+VLOOKUP('BASE DE RESPUESTAS'!AB27,Back!$M$16:$N$20,2,0)","v":"#N/A"},{"$f":"+VLOOKUP('BASE DE RESPUESTAS'!AC27,Back!$M$16:$N$20,2,0)","v":"#N/A"},{"$f":"+VLOOKUP('BASE DE RESPUESTAS'!AD27,Back!$M$16:$N$20,2,0)","v":"#N/A"},{"$f":"+VLOOKUP('BASE DE RESPUESTAS'!AE27,Back!$M$16:$N$20,2,0)","v":"#N/A"},{"$f":"+VLOOKUP('BASE DE RESPUESTAS'!AF27,Back!$M$16:$N$20,2,0)","v":"#N/A"},{"$f":"+VLOOKUP('BASE DE RESPUESTAS'!AG27,Back!$M$16:$N$20,2,0)","v":"#N/A"},{"$f":"+VLOOKUP('BASE DE RESPUESTAS'!AH27,Back!$M$16:$N$20,2,0)","v":"#N/A"},{"$f":"+VLOOKUP('BASE DE RESPUESTAS'!AI27,Back!$M$16:$N$20,2,0)","v":"#N/A"},{"$f":"+VLOOKUP('BASE DE RESPUESTAS'!AJ27,Back!$M$16:$N$20,2,0)","v":"#N/A"},{"$f":"+VLOOKUP('BASE DE RESPUESTAS'!AK27,Back!$M$16:$N$20,2,0)","v":"#N/A"},{"$f":"+VLOOKUP('BASE DE RESPUESTAS'!AL27,Back!$M$16:$N$20,2,0)","v":"#N/A"},{"$f":"+VLOOKUP('BASE DE RESPUESTAS'!AM27,Back!$M$16:$N$20,2,0)","v":"#N/A"},{"$f":"+VLOOKUP('BASE DE RESPUESTAS'!AN27,Back!$M$16:$N$20,2,0)","v":"#N/A"},{"$f":"+VLOOKUP('BASE DE RESPUESTAS'!AO27,Back!$M$16:$N$20,2,0)","v":"#N/A"},{"$f":"+VLOOKUP('BASE DE RESPUESTAS'!AP27,Back!$M$16:$N$20,2,0)","v":"#N/A"},{"$f":"+VLOOKUP('BASE DE RESPUESTAS'!AQ27,Back!$M$16:$N$20,2,0)","v":"#N/A"},{"$f":"+VLOOKUP('BASE DE RESPUESTAS'!AR27,Back!$M$16:$N$20,2,0)","v":"#N/A"},{"$f":"+VLOOKUP('BASE DE RESPUESTAS'!AS27,Back!$M$16:$N$20,2,0)","v":"#N/A"},{"$f":"+VLOOKUP('BASE DE RESPUESTAS'!AT27,Back!$M$16:$N$20,2,0)","v":"#N/A"},{"$f":"+VLOOKUP('BASE DE RESPUESTAS'!AU27,Back!$M$16:$N$20,2,0)","v":"#N/A"},{"$f":"+VLOOKUP('BASE DE RESPUESTAS'!AV27,Back!$M$16:$N$20,2,0)","v":"#N/A"},{"$f":"+VLOOKUP('BASE DE RESPUESTAS'!AW27,Back!$M$16:$N$20,2,0)","v":"#N/A"},{"$f":"+VLOOKUP('BASE DE RESPUESTAS'!AX27,Back!$M$16:$N$20,2,0)","v":"#N/A"},{"$f":"+VLOOKUP('BASE DE RESPUESTAS'!AY27,Back!$M$16:$N$20,2,0)","v":"#N/A"},{"$f":"+VLOOKUP('BASE DE RESPUESTAS'!AZ27,Back!$M$16:$N$20,2,0)","v":"#N/A"},{"$f":"+VLOOKUP('BASE DE RESPUESTAS'!BA27,Back!$M$16:$N$20,2,0)","v":"#N/A"},{"$f":"+VLOOKUP('BASE DE RESPUESTAS'!BB27,Back!$M$16:$N$20,2,0)","v":"#N/A"},{"$f":"+VLOOKUP('BASE DE RESPUESTAS'!BC27,Back!$M$16:$N$20,2,0)","v":"#N/A"},{"$f":"+VLOOKUP('BASE DE RESPUESTAS'!BD27,Back!$M$16:$N$20,2,0)","v":"#N/A"},{"$f":"+VLOOKUP('BASE DE RESPUESTAS'!BE27,Back!$M$16:$N$20,2,0)","v":"#N/A"}]
[null,"HSE","Creatividad"," La o el estudiante propone distintas formas para resolver un problema o una tarea.\n",19.0,"Propone ideas nuevas y útiles para resolver problemas cotidianos.",null,{"$f":"+VLOOKUP('BASE DE RESPUESTAS'!H28,Back!$M$16:$N$20,2,0)","v":"#N/A"},{"$f":"+VLOOKUP('BASE DE RESPUESTAS'!I28,Back!$M$16:$N$20,2,0)","v":"#N/A"},{"$f":"+VLOOKUP('BASE DE RESPUESTAS'!J28,Back!$M$16:$N$20,2,0)","v":"#N/A"},{"$f":"+VLOOKUP('BASE DE RESPUESTAS'!K28,Back!$M$16:$N$20,2,0)","v":"#N/A"},{"$f":"+VLOOKUP('BASE DE RESPUESTAS'!L28,Back!$M$16:$N$20,2,0)","v":"#N/A"},{"$f":"+VLOOKUP('BASE DE RESPUESTAS'!M28,Back!$M$16:$N$20,2,0)","v":"#N/A"},{"$f":"+VLOOKUP('BASE DE RESPUESTAS'!N28,Back!$M$16:$N$20,2,0)","v":"#N/A"},{"$f":"+VLOOKUP('BASE DE RESPUESTAS'!O28,Back!$M$16:$N$20,2,0)","v":"#N/A"},{"$f":"+VLOOKUP('BASE DE RESPUESTAS'!P28,Back!$M$16:$N$20,2,0)","v":"#N/A"},{"$f":"+VLOOKUP('BASE DE RESPUESTAS'!Q28,Back!$M$16:$N$20,2,0)","v":"#N/A"},{"$f":"+VLOOKUP('BASE DE RESPUESTAS'!R28,Back!$M$16:$N$20,2,0)","v":"#N/A"},{"$f":"+VLOOKUP('BASE DE RESPUESTAS'!S28,Back!$M$16:$N$20,2,0)","v":"#N/A"},{"$f":"+VLOOKUP('BASE DE RESPUESTAS'!T28,Back!$M$16:$N$20,2,0)","v":"#N/A"},{"$f":"+VLOOKUP('BASE DE RESPUESTAS'!U28,Back!$M$16:$N$20,2,0)","v":"#N/A"},{"$f":"+VLOOKUP('BASE DE RESPUESTAS'!V28,Back!$M$16:$N$20,2,0)","v":"#N/A"},{"$f":"+VLOOKUP('BASE DE RESPUESTAS'!W28,Back!$M$16:$N$20,2,0)","v":"#N/A"},{"$f":"+VLOOKUP('BASE DE RESPUESTAS'!X28,Back!$M$16:$N$20,2,0)","v":"#N/A"},{"$f":"+VLOOKUP('BASE DE RESPUESTAS'!Y28,Back!$M$16:$N$20,2,0)","v":"#N/A"},{"$f":"+VLOOKUP('BASE DE RESPUESTAS'!Z28,Back!$M$16:$N$20,2,0)","v":"#N/A"},{"$f":"+VLOOKUP('BASE DE RESPUESTAS'!AA28,Back!$M$16:$N$20,2,0)","v":"#N/A"},{"$f":"+VLOOKUP('BASE DE RESPUESTAS'!AB28,Back!$M$16:$N$20,2,0)","v":"#N/A"},{"$f":"+VLOOKUP('BASE DE RESPUESTAS'!AC28,Back!$M$16:$N$20,2,0)","v":"#N/A"},{"$f":"+VLOOKUP('BASE DE RESPUESTAS'!AD28,Back!$M$16:$N$20,2,0)","v":"#N/A"},{"$f":"+VLOOKUP('BASE DE RESPUESTAS'!AE28,Back!$M$16:$N$20,2,0)","v":"#N/A"},{"$f":"+VLOOKUP('BASE DE RESPUESTAS'!AF28,Back!$M$16:$N$20,2,0)","v":"#N/A"},{"$f":"+VLOOKUP('BASE DE RESPUESTAS'!AG28,Back!$M$16:$N$20,2,0)","v":"#N/A"},{"$f":"+VLOOKUP('BASE DE RESPUESTAS'!AH28,Back!$M$16:$N$20,2,0)","v":"#N/A"},{"$f":"+VLOOKUP('BASE DE RESPUESTAS'!AI28,Back!$M$16:$N$20,2,0)","v":"#N/A"},{"$f":"+VLOOKUP('BASE DE RESPUESTAS'!AJ28,Back!$M$16:$N$20,2,0)","v":"#N/A"},{"$f":"+VLOOKUP('BASE DE RESPUESTAS'!AK28,Back!$M$16:$N$20,2,0)","v":"#N/A"},{"$f":"+VLOOKUP('BASE DE RESPUESTAS'!AL28,Back!$M$16:$N$20,2,0)","v":"#N/A"},{"$f":"+VLOOKUP('BASE DE RESPUESTAS'!AM28,Back!$M$16:$N$20,2,0)","v":"#N/A"},{"$f":"+VLOOKUP('BASE DE RESPUESTAS'!AN28,Back!$M$16:$N$20,2,0)","v":"#N/A"},{"$f":"+VLOOKUP('BASE DE RESPUESTAS'!AO28,Back!$M$16:$N$20,2,0)","v":"#N/A"},{"$f":"+VLOOKUP('BASE DE RESPUESTAS'!AP28,Back!$M$16:$N$20,2,0)","v":"#N/A"},{"$f":"+VLOOKUP('BASE DE RESPUESTAS'!AQ28,Back!$M$16:$N$20,2,0)","v":"#N/A"},{"$f":"+VLOOKUP('BASE DE RESPUESTAS'!AR28,Back!$M$16:$N$20,2,0)","v":"#N/A"},{"$f":"+VLOOKUP('BASE DE RESPUESTAS'!AS28,Back!$M$16:$N$20,2,0)","v":"#N/A"},{"$f":"+VLOOKUP('BASE DE RESPUESTAS'!AT28,Back!$M$16:$N$20,2,0)","v":"#N/A"},{"$f":"+VLOOKUP('BASE DE RESPUESTAS'!AU28,Back!$M$16:$N$20,2,0)","v":"#N/A"},{"$f":"+VLOOKUP('BASE DE RESPUESTAS'!AV28,Back!$M$16:$N$20,2,0)","v":"#N/A"},{"$f":"+VLOOKUP('BASE DE RESPUESTAS'!AW28,Back!$M$16:$N$20,2,0)","v":"#N/A"},{"$f":"+VLOOKUP('BASE DE RESPUESTAS'!AX28,Back!$M$16:$N$20,2,0)","v":"#N/A"},{"$f":"+VLOOKUP('BASE DE RESPUESTAS'!AY28,Back!$M$16:$N$20,2,0)","v":"#N/A"},{"$f":"+VLOOKUP('BASE DE RESPUESTAS'!AZ28,Back!$M$16:$N$20,2,0)","v":"#N/A"},{"$f":"+VLOOKUP('BASE DE RESPUESTAS'!BA28,Back!$M$16:$N$20,2,0)","v":"#N/A"},{"$f":"+VLOOKUP('BASE DE RESPUESTAS'!BB28,Back!$M$16:$N$20,2,0)","v":"#N/A"},{"$f":"+VLOOKUP('BASE DE RESPUESTAS'!BC28,Back!$M$16:$N$20,2,0)","v":"#N/A"},{"$f":"+VLOOKUP('BASE DE RESPUESTAS'!BD28,Back!$M$16:$N$20,2,0)","v":"#N/A"},{"$f":"+VLOOKUP('BASE DE RESPUESTAS'!BE28,Back!$M$16:$N$20,2,0)","v":"#N/A"}]
[null,null,null,null,20.0,"Sugiere o sorprende con distintas formas de expresión.",null,{"$f":"+VLOOKUP('BASE DE RESPUESTAS'!H29,Back!$M$16:$N$20,2,0)","v":"#N/A"},{"$f":"+VLOOKUP('BASE DE RESPUESTAS'!I29,Back!$M$16:$N$20,2,0)","v":"#N/A"},{"$f":"+VLOOKUP('BASE DE RESPUESTAS'!J29,Back!$M$16:$N$20,2,0)","v":"#N/A"},{"$f":"+VLOOKUP('BASE DE RESPUESTAS'!K29,Back!$M$16:$N$20,2,0)","v":"#N/A"},{"$f":"+VLOOKUP('BASE DE RESPUESTAS'!L29,Back!$M$16:$N$20,2,0)","v":"#N/A"},{"$f":"+VLOOKUP('BASE DE RESPUESTAS'!M29,Back!$M$16:$N$20,2,0)","v":"#N/A"},{"$f":"+VLOOKUP('BASE DE RESPUESTAS'!N29,Back!$M$16:$N$20,2,0)","v":"#N/A"},{"$f":"+VLOOKUP('BASE DE RESPUESTAS'!O29,Back!$M$16:$N$20,2,0)","v":"#N/A"},{"$f":"+VLOOKUP('BASE DE RESPUESTAS'!P29,Back!$M$16:$N$20,2,0)","v":"#N/A"},{"$f":"+VLOOKUP('BASE DE RESPUESTAS'!Q29,Back!$M$16:$N$20,2,0)","v":"#N/A"},{"$f":"+VLOOKUP('BASE DE RESPUESTAS'!R29,Back!$M$16:$N$20,2,0)","v":"#N/A"},{"$f":"+VLOOKUP('BASE DE RESPUESTAS'!S29,Back!$M$16:$N$20,2,0)","v":"#N/A"},{"$f":"+VLOOKUP('BASE DE RESPUESTAS'!T29,Back!$M$16:$N$20,2,0)","v":"#N/A"},{"$f":"+VLOOKUP('BASE DE RESPUESTAS'!U29,Back!$M$16:$N$20,2,0)","v":"#N/A"},{"$f":"+VLOOKUP('BASE DE RESPUESTAS'!V29,Back!$M$16:$N$20,2,0)","v":"#N/A"},{"$f":"+VLOOKUP('BASE DE RESPUESTAS'!W29,Back!$M$16:$N$20,2,0)","v":"#N/A"},{"$f":"+VLOOKUP('BASE DE RESPUESTAS'!X29,Back!$M$16:$N$20,2,0)","v":"#N/A"},{"$f":"+VLOOKUP('BASE DE RESPUESTAS'!Y29,Back!$M$16:$N$20,2,0)","v":"#N/A"},{"$f":"+VLOOKUP('BASE DE RESPUESTAS'!Z29,Back!$M$16:$N$20,2,0)","v":"#N/A"},{"$f":"+VLOOKUP('BASE DE RESPUESTAS'!AA29,Back!$M$16:$N$20,2,0)","v":"#N/A"},{"$f":"+VLOOKUP('BASE DE RESPUESTAS'!AB29,Back!$M$16:$N$20,2,0)","v":"#N/A"},{"$f":"+VLOOKUP('BASE DE RESPUESTAS'!AC29,Back!$M$16:$N$20,2,0)","v":"#N/A"},{"$f":"+VLOOKUP('BASE DE RESPUESTAS'!AD29,Back!$M$16:$N$20,2,0)","v":"#N/A"},{"$f":"+VLOOKUP('BASE DE RESPUESTAS'!AE29,Back!$M$16:$N$20,2,0)","v":"#N/A"},{"$f":"+VLOOKUP('BASE DE RESPUESTAS'!AF29,Back!$M$16:$N$20,2,0)","v":"#N/A"},{"$f":"+VLOOKUP('BASE DE RESPUESTAS'!AG29,Back!$M$16:$N$20,2,0)","v":"#N/A"},{"$f":"+VLOOKUP('BASE DE RESPUESTAS'!AH29,Back!$M$16:$N$20,2,0)","v":"#N/A"},{"$f":"+VLOOKUP('BASE DE RESPUESTAS'!AI29,Back!$M$16:$N$20,2,0)","v":"#N/A"},{"$f":"+VLOOKUP('BASE DE RESPUESTAS'!AJ29,Back!$M$16:$N$20,2,0)","v":"#N/A"},{"$f":"+VLOOKUP('BASE DE RESPUESTAS'!AK29,Back!$M$16:$N$20,2,0)","v":"#N/A"},{"$f":"+VLOOKUP('BASE DE RESPUESTAS'!AL29,Back!$M$16:$N$20,2,0)","v":"#N/A"},{"$f":"+VLOOKUP('BASE DE RESPUESTAS'!AM29,Back!$M$16:$N$20,2,0)","v":"#N/A"},{"$f":"+VLOOKUP('BASE DE RESPUESTAS'!AN29,Back!$M$16:$N$20,2,0)","v":"#N/A"},{"$f":"+VLOOKUP('BASE DE RESPUESTAS'!AO29,Back!$M$16:$N$20,2,0)","v":"#N/A"},{"$f":"+VLOOKUP('BASE DE RESPUESTAS'!AP29,Back!$M$16:$N$20,2,0)","v":"#N/A"},{"$f":"+VLOOKUP('BASE DE RESPUESTAS'!AQ29,Back!$M$16:$N$20,2,0)","v":"#N/A"},{"$f":"+VLOOKUP('BASE DE RESPUESTAS'!AR29,Back!$M$16:$N$20,2,0)","v":"#N/A"},{"$f":"+VLOOKUP('BASE DE RESPUESTAS'!AS29,Back!$M$16:$N$20,2,0)","v":"#N/A"},{"$f":"+VLOOKUP('BASE DE RESPUESTAS'!AT29,Back!$M$16:$N$20,2,0)","v":"#N/A"},{"$f":"+VLOOKUP('BASE DE RESPUESTAS'!AU29,Back!$M$16:$N$20,2,0)","v":"#N/A"},{"$f":"+VLOOKUP('BASE DE RESPUESTAS'!AV29,Back!$M$16:$N$20,2,0)","v":"#N/A"},{"$f":"+VLOOKUP('BASE DE RESPUESTAS'!AW29,Back!$M$16:$N$20,2,0)","v":"#N/A"},{"$f":"+VLOOKUP('BASE DE RESPUESTAS'!AX29,Back!$M$16:$N$20,2,0)","v":"#N/A"},{"$f":"+VLOOKUP('BASE DE RESPUESTAS'!AY29,Back!$M$16:$N$20,2,0)","v":"#N/A"},{"$f":"+VLOOKUP('BASE DE RESPUESTAS'!AZ29,Back!$M$16:$N$20,2,0)","v":"#N/A"},{"$f":"+VLOOKUP('BASE DE RESPUESTAS'!BA29,Back!$M$16:$N$20,2,0)","v":"#N/A"},{"$f":"+VLOOKUP('BASE DE RESPUESTAS'!BB29,Back!$M$16:$N$20,2,0)","v":"#N/A"},{"$f":"+VLOOKUP('BASE DE RESPUESTAS'!BC29,Back!$M$16:$N$20,2,0)","v":"#N/A"},{"$f":"+VLOOKUP('BASE DE RESPUESTAS'!BD29,Back!$M$16:$N$20,2,0)","v":"#N/A"},{"$f":"+VLOOKUP('BASE DE RESPUESTAS'!BE29,Back!$M$16:$N$20,2,0)","v":"#N/A"}]
[null,"HSE","Toma de decisiones responsables","La o el estudiante es consciente que sus decisiones tienen consecuencias (causa-efecto).",21.0,"Entre dos o más acciones elige aquella que lo beneficia o benefician a otros.",null,{"$f":"+VLOOKUP('BASE DE RESPUESTAS'!H30,Back!$M$16:$N$20,2,0)","v":"#N/A"},{"$f":"+VLOOKUP('BASE DE RESPUESTAS'!I30,Back!$M$16:$N$20,2,0)","v":"#N/A"},{"$f":"+VLOOKUP('BASE DE RESPUESTAS'!J30,Back!$M$16:$N$20,2,0)","v":"#N/A"},{"$f":"+VLOOKUP('BASE DE RESPUESTAS'!K30,Back!$M$16:$N$20,2,0)","v":"#N/A"},{"$f":"+VLOOKUP('BASE DE RESPUESTAS'!L30,Back!$M$16:$N$20,2,0)","v":"#N/A"},{"$f":"+VLOOKUP('BASE DE RESPUESTAS'!M30,Back!$M$16:$N$20,2,0)","v":"#N/A"},{"$f":"+VLOOKUP('BASE DE RESPUESTAS'!N30,Back!$M$16:$N$20,2,0)","v":"#N/A"},{"$f":"+VLOOKUP('BASE DE RESPUESTAS'!O30,Back!$M$16:$N$20,2,0)","v":"#N/A"},{"$f":"+VLOOKUP('BASE DE RESPUESTAS'!P30,Back!$M$16:$N$20,2,0)","v":"#N/A"},{"$f":"+VLOOKUP('BASE DE RESPUESTAS'!Q30,Back!$M$16:$N$20,2,0)","v":"#N/A"},{"$f":"+VLOOKUP('BASE DE RESPUESTAS'!R30,Back!$M$16:$N$20,2,0)","v":"#N/A"},{"$f":"+VLOOKUP('BASE DE RESPUESTAS'!S30,Back!$M$16:$N$20,2,0)","v":"#N/A"},{"$f":"+VLOOKUP('BASE DE RESPUESTAS'!T30,Back!$M$16:$N$20,2,0)","v":"#N/A"},{"$f":"+VLOOKUP('BASE DE RESPUESTAS'!U30,Back!$M$16:$N$20,2,0)","v":"#N/A"},{"$f":"+VLOOKUP('BASE DE RESPUESTAS'!V30,Back!$M$16:$N$20,2,0)","v":"#N/A"},{"$f":"+VLOOKUP('BASE DE RESPUESTAS'!W30,Back!$M$16:$N$20,2,0)","v":"#N/A"},{"$f":"+VLOOKUP('BASE DE RESPUESTAS'!X30,Back!$M$16:$N$20,2,0)","v":"#N/A"},{"$f":"+VLOOKUP('BASE DE RESPUESTAS'!Y30,Back!$M$16:$N$20,2,0)","v":"#N/A"},{"$f":"+VLOOKUP('BASE DE RESPUESTAS'!Z30,Back!$M$16:$N$20,2,0)","v":"#N/A"},{"$f":"+VLOOKUP('BASE DE RESPUESTAS'!AA30,Back!$M$16:$N$20,2,0)","v":"#N/A"},{"$f":"+VLOOKUP('BASE DE RESPUESTAS'!AB30,Back!$M$16:$N$20,2,0)","v":"#N/A"},{"$f":"+VLOOKUP('BASE DE RESPUESTAS'!AC30,Back!$M$16:$N$20,2,0)","v":"#N/A"},{"$f":"+VLOOKUP('BASE DE RESPUESTAS'!AD30,Back!$M$16:$N$20,2,0)","v":"#N/A"},{"$f":"+VLOOKUP('BASE DE RESPUESTAS'!AE30,Back!$M$16:$N$20,2,0)","v":"#N/A"},{"$f":"+VLOOKUP('BASE DE RESPUESTAS'!AF30,Back!$M$16:$N$20,2,0)","v":"#N/A"},{"$f":"+VLOOKUP('BASE DE RESPUESTAS'!AG30,Back!$M$16:$N$20,2,0)","v":"#N/A"},{"$f":"+VLOOKUP('BASE DE RESPUESTAS'!AH30,Back!$M$16:$N$20,2,0)","v":"#N/A"},{"$f":"+VLOOKUP('BASE DE RESPUESTAS'!AI30,Back!$M$16:$N$20,2,0)","v":"#N/A"},{"$f":"+VLOOKUP('BASE DE RESPUESTAS'!AJ30,Back!$M$16:$N$20,2,0)","v":"#N/A"},{"$f":"+VLOOKUP('BASE DE RESPUESTAS'!AK30,Back!$M$16:$N$20,2,0)","v":"#N/A"},{"$f":"+VLOOKUP('BASE DE RESPUESTAS'!AL30,Back!$M$16:$N$20,2,0)","v":"#N/A"},{"$f":"+VLOOKUP('BASE DE RESPUESTAS'!AM30,Back!$M$16:$N$20,2,0)","v":"#N/A"},{"$f":"+VLOOKUP('BASE DE RESPUESTAS'!AN30,Back!$M$16:$N$20,2,0)","v":"#N/A"},{"$f":"+VLOOKUP('BASE DE RESPUESTAS'!AO30,Back!$M$16:$N$20,2,0)","v":"#N/A"},{"$f":"+VLOOKUP('BASE DE RESPUESTAS'!AP30,Back!$M$16:$N$20,2,0)","v":"#N/A"},{"$f":"+VLOOKUP('BASE DE RESPUESTAS'!AQ30,Back!$M$16:$N$20,2,0)","v":"#N/A"},{"$f":"+VLOOKUP('BASE DE RESPUESTAS'!AR30,Back!$M$16:$N$20,2,0)","v":"#N/A"},{"$f":"+VLOOKUP('BASE DE RESPUESTAS'!AS30,Back!$M$16:$N$20,2,0)","v":"#N/A"},{"$f":"+VLOOKUP('BASE DE RESPUESTAS'!AT30,Back!$M$16:$N$20,2,0)","v":"#N/A"},{"$f":"+VLOOKUP('BASE DE RESPUESTAS'!AU30,Back!$M$16:$N$20,2,0)","v":"#N/A"},{"$f":"+VLOOKUP('BASE DE RESPUESTAS'!AV30,Back!$M$16:$N$20,2,0)","v":"#N/A"},{"$f":"+VLOOKUP('BASE DE RESPUESTAS'!AW30,Back!$M$16:$N$20,2,0)","v":"#N/A"},{"$f":"+VLOOKUP('BASE DE RESPUESTAS'!AX30,Back!$M$16:$N$20,2,0)","v":"#N/A"},{"$f":"+VLOOKUP('BASE DE RESPUESTAS'!AY30,Back!$M$16:$N$20,2,0)","v":"#N/A"},{"$f":"+VLOOKUP('BASE DE RESPUESTAS'!AZ30,Back!$M$16:$N$20,2,0)","v":"#N/A"},{"$f":"+VLOOKUP('BASE DE RESPUESTAS'!BA30,Back!$M$16:$N$20,2,0)","v":"#N/A"},{"$f":"+VLOOKUP('BASE DE RESPUESTAS'!BB30,Back!$M$16:$N$20,2,0)","v":"#N/A"},{"$f":"+VLOOKUP('BASE DE RESPUESTAS'!BC30,Back!$M$16:$N$20,2,0)","v":"#N/A"},{"$f":"+VLOOKUP('BASE DE RESPUESTAS'!BD30,Back!$M$16:$N$20,2,0)","v":"#N/A"},{"$f":"+VLOOKUP('BASE DE RESPUESTAS'!BE30,Back!$M$16:$N$20,2,0)","v":"#N/A"}]
[null,null,null,null,22.0,"Explica las consecuencias que puede traer actuar de tal o cual forma.",null,{"$f":"+VLOOKUP('BASE DE RESPUESTAS'!H31,Back!$M$16:$N$20,2,0)","v":"#N/A"},{"$f":"+VLOOKUP('BASE DE RESPUESTAS'!I31,Back!$M$16:$N$20,2,0)","v":"#N/A"},{"$f":"+VLOOKUP('BASE DE RESPUESTAS'!J31,Back!$M$16:$N$20,2,0)","v":"#N/A"},{"$f":"+VLOOKUP('BASE DE RESPUESTAS'!K31,Back!$M$16:$N$20,2,0)","v":"#N/A"},{"$f":"+VLOOKUP('BASE DE RESPUESTAS'!L31,Back!$M$16:$N$20,2,0)","v":"#N/A"},{"$f":"+VLOOKUP('BASE DE RESPUESTAS'!M31,Back!$M$16:$N$20,2,0)","v":"#N/A"},{"$f":"+VLOOKUP('BASE DE RESPUESTAS'!N31,Back!$M$16:$N$20,2,0)","v":"#N/A"},{"$f":"+VLOOKUP('BASE DE RESPUESTAS'!O31,Back!$M$16:$N$20,2,0)","v":"#N/A"},{"$f":"+VLOOKUP('BASE DE RESPUESTAS'!P31,Back!$M$16:$N$20,2,0)","v":"#N/A"},{"$f":"+VLOOKUP('BASE DE RESPUESTAS'!Q31,Back!$M$16:$N$20,2,0)","v":"#N/A"},{"$f":"+VLOOKUP('BASE DE RESPUESTAS'!R31,Back!$M$16:$N$20,2,0)","v":"#N/A"},{"$f":"+VLOOKUP('BASE DE RESPUESTAS'!S31,Back!$M$16:$N$20,2,0)","v":"#N/A"},{"$f":"+VLOOKUP('BASE DE RESPUESTAS'!T31,Back!$M$16:$N$20,2,0)","v":"#N/A"},{"$f":"+VLOOKUP('BASE DE RESPUESTAS'!U31,Back!$M$16:$N$20,2,0)","v":"#N/A"},{"$f":"+VLOOKUP('BASE DE RESPUESTAS'!V31,Back!$M$16:$N$20,2,0)","v":"#N/A"},{"$f":"+VLOOKUP('BASE DE RESPUESTAS'!W31,Back!$M$16:$N$20,2,0)","v":"#N/A"},{"$f":"+VLOOKUP('BASE DE RESPUESTAS'!X31,Back!$M$16:$N$20,2,0)","v":"#N/A"},{"$f":"+VLOOKUP('BASE DE RESPUESTAS'!Y31,Back!$M$16:$N$20,2,0)","v":"#N/A"},{"$f":"+VLOOKUP('BASE DE RESPUESTAS'!Z31,Back!$M$16:$N$20,2,0)","v":"#N/A"},{"$f":"+VLOOKUP('BASE DE RESPUESTAS'!AA31,Back!$M$16:$N$20,2,0)","v":"#N/A"},{"$f":"+VLOOKUP('BASE DE RESPUESTAS'!AB31,Back!$M$16:$N$20,2,0)","v":"#N/A"},{"$f":"+VLOOKUP('BASE DE RESPUESTAS'!AC31,Back!$M$16:$N$20,2,0)","v":"#N/A"},{"$f":"+VLOOKUP('BASE DE RESPUESTAS'!AD31,Back!$M$16:$N$20,2,0)","v":"#N/A"},{"$f":"+VLOOKUP('BASE DE RESPUESTAS'!AE31,Back!$M$16:$N$20,2,0)","v":"#N/A"},{"$f":"+VLOOKUP('BASE DE RESPUESTAS'!AF31,Back!$M$16:$N$20,2,0)","v":"#N/A"},{"$f":"+VLOOKUP('BASE DE RESPUESTAS'!AG31,Back!$M$16:$N$20,2,0)","v":"#N/A"},{"$f":"+VLOOKUP('BASE DE RESPUESTAS'!AH31,Back!$M$16:$N$20,2,0)","v":"#N/A"},{"$f":"+VLOOKUP('BASE DE RESPUESTAS'!AI31,Back!$M$16:$N$20,2,0)","v":"#N/A"},{"$f":"+VLOOKUP('BASE DE RESPUESTAS'!AJ31,Back!$M$16:$N$20,2,0)","v":"#N/A"},{"$f":"+VLOOKUP('BASE DE RESPUESTAS'!AK31,Back!$M$16:$N$20,2,0)","v":"#N/A"},{"$f":"+VLOOKUP('BASE DE RESPUESTAS'!AL31,Back!$M$16:$N$20,2,0)","v":"#N/A"},{"$f":"+VLOOKUP('BASE DE RESPUESTAS'!AM31,Back!$M$16:$N$20,2,0)","v":"#N/A"},{"$f":"+VLOOKUP('BASE DE RESPUESTAS'!AN31,Back!$M$16:$N$20,2,0)","v":"#N/A"},{"$f":"+VLOOKUP('BASE DE RESPUESTAS'!AO31,Back!$M$16:$N$20,2,0)","v":"#N/A"},{"$f":"+VLOOKUP('BASE DE RESPUESTAS'!AP31,Back!$M$16:$N$20,2,0)","v":"#N/A"},{"$f":"+VLOOKUP('BASE DE RESPUESTAS'!AQ31,Back!$M$16:$N$20,2,0)","v":"#N/A"},{"$f":"+VLOOKUP('BASE DE RESPUESTAS'!AR31,Back!$M$16:$N$20,2,0)","v":"#N/A"},{"$f":"+VLOOKUP('BASE DE RESPUESTAS'!AS31,Back!$M$16:$N$20,2,0)","v":"#N/A"},{"$f":"+VLOOKUP('BASE DE RESPUESTAS'!AT31,Back!$M$16:$N$20,2,0)","v":"#N/A"},{"$f":"+VLOOKUP('BASE DE RESPUESTAS'!AU31,Back!$M$16:$N$20,2,0)","v":"#N/A"},{"$f":"+VLOOKUP('BASE DE RESPUESTAS'!AV31,Back!$M$16:$N$20,2,0)","v":"#N/A"},{"$f":"+VLOOKUP('BASE DE RESPUESTAS'!AW31,Back!$M$16:$N$20,2,0)","v":"#N/A"},{"$f":"+VLOOKUP('BASE DE RESPUESTAS'!AX31,Back!$M$16:$N$20,2,0)","v":"#N/A"},{"$f":"+VLOOKUP('BASE DE RESPUESTAS'!AY31,Back!$M$16:$N$20,2,0)","v":"#N/A"},{"$f":"+VLOOKUP('BASE DE RESPUESTAS'!AZ31,Back!$M$16:$N$20,2,0)","v":"#N/A"},{"$f":"+VLOOKUP('BASE DE RESPUESTAS'!BA31,Back!$M$16:$N$20,2,0)","v":"#N/A"},{"$f":"+VLOOKUP('BASE DE RESPUESTAS'!BB31,Back!$M$16:$N$20,2,0)","v":"#N/A"},{"$f":"+VLOOKUP('BASE DE RESPUESTAS'!BC31,Back!$M$16:$N$20,2,0)","v":"#N/A"},{"$f":"+VLOOKUP('BASE DE RESPUESTAS'!BD31,Back!$M$16:$N$20,2,0)","v":"#N/A"},{"$f":"+VLOOKUP('BASE DE RESPUESTAS'!BE31,Back!$M$16:$N$20,2,0)","v":"#N/A"}]
[null,"HSE","Comunicación asertiva","La o el estudiante practica la escucha activa.",23.0,"Presta atención a la persona que le habla",null,{"$f":"+VLOOKUP('BASE DE RESPUESTAS'!H32,Back!$M$16:$N$20,2,0)","v":"#N/A"},{"$f":"+VLOOKUP('BASE DE RESPUESTAS'!I32,Back!$M$16:$N$20,2,0)","v":"#N/A"},{"$f":"+VLOOKUP('BASE DE RESPUESTAS'!J32,Back!$M$16:$N$20,2,0)","v":"#N/A"},{"$f":"+VLOOKUP('BASE DE RESPUESTAS'!K32,Back!$M$16:$N$20,2,0)","v":"#N/A"},{"$f":"+VLOOKUP('BASE DE RESPUESTAS'!L32,Back!$M$16:$N$20,2,0)","v":"#N/A"},{"$f":"+VLOOKUP('BASE DE RESPUESTAS'!M32,Back!$M$16:$N$20,2,0)","v":"#N/A"},{"$f":"+VLOOKUP('BASE DE RESPUESTAS'!N32,Back!$M$16:$N$20,2,0)","v":"#N/A"},{"$f":"+VLOOKUP('BASE DE RESPUESTAS'!O32,Back!$M$16:$N$20,2,0)","v":"#N/A"},{"$f":"+VLOOKUP('BASE DE RESPUESTAS'!P32,Back!$M$16:$N$20,2,0)","v":"#N/A"},{"$f":"+VLOOKUP('BASE DE RESPUESTAS'!Q32,Back!$M$16:$N$20,2,0)","v":"#N/A"},{"$f":"+VLOOKUP('BASE DE RESPUESTAS'!R32,Back!$M$16:$N$20,2,0)","v":"#N/A"},{"$f":"+VLOOKUP('BASE DE RESPUESTAS'!S32,Back!$M$16:$N$20,2,0)","v":"#N/A"},{"$f":"+VLOOKUP('BASE DE RESPUESTAS'!T32,Back!$M$16:$N$20,2,0)","v":"#N/A"},{"$f":"+VLOOKUP('BASE DE RESPUESTAS'!U32,Back!$M$16:$N$20,2,0)","v":"#N/A"},{"$f":"+VLOOKUP('BASE DE RESPUESTAS'!V32,Back!$M$16:$N$20,2,0)","v":"#N/A"},{"$f":"+VLOOKUP('BASE DE RESPUESTAS'!W32,Back!$M$16:$N$20,2,0)","v":"#N/A"},{"$f":"+VLOOKUP('BASE DE RESPUESTAS'!X32,Back!$M$16:$N$20,2,0)","v":"#N/A"},{"$f":"+VLOOKUP('BASE DE RESPUESTAS'!Y32,Back!$M$16:$N$20,2,0)","v":"#N/A"},{"$f":"+VLOOKUP('BASE DE RESPUESTAS'!Z32,Back!$M$16:$N$20,2,0)","v":"#N/A"},{"$f":"+VLOOKUP('BASE DE RESPUESTAS'!AA32,Back!$M$16:$N$20,2,0)","v":"#N/A"},{"$f":"+VLOOKUP('BASE DE RESPUESTAS'!AB32,Back!$M$16:$N$20,2,0)","v":"#N/A"},{"$f":"+VLOOKUP('BASE DE RESPUESTAS'!AC32,Back!$M$16:$N$20,2,0)","v":"#N/A"},{"$f":"+VLOOKUP('BASE DE RESPUESTAS'!AD32,Back!$M$16:$N$20,2,0)","v":"#N/A"},{"$f":"+VLOOKUP('BASE DE RESPUESTAS'!AE32,Back!$M$16:$N$20,2,0)","v":"#N/A"},{"$f":"+VLOOKUP('BASE DE RESPUESTAS'!AF32,Back!$M$16:$N$20,2,0)","v":"#N/A"},{"$f":"+VLOOKUP('BASE DE RESPUESTAS'!AG32,Back!$M$16:$N$20,2,0)","v":"#N/A"},{"$f":"+VLOOKUP('BASE DE RESPUESTAS'!AH32,Back!$M$16:$N$20,2,0)","v":"#N/A"},{"$f":"+VLOOKUP('BASE DE RESPUESTAS'!AI32,Back!$M$16:$N$20,2,0)","v":"#N/A"},{"$f":"+VLOOKUP('BASE DE RESPUESTAS'!AJ32,Back!$M$16:$N$20,2,0)","v":"#N/A"},{"$f":"+VLOOKUP('BASE DE RESPUESTAS'!AK32,Back!$M$16:$N$20,2,0)","v":"#N/A"},{"$f":"+VLOOKUP('BASE DE RESPUESTAS'!AL32,Back!$M$16:$N$20,2,0)","v":"#N/A"},{"$f":"+VLOOKUP('BASE DE RESPUESTAS'!AM32,Back!$M$16:$N$20,2,0)","v":"#N/A"},{"$f":"+VLOOKUP('BASE DE RESPUESTAS'!AN32,Back!$M$16:$N$20,2,0)","v":"#N/A"},{"$f":"+VLOOKUP('BASE DE RESPUESTAS'!AO32,Back!$M$16:$N$20,2,0)","v":"#N/A"},{"$f":"+VLOOKUP('BASE DE RESPUESTAS'!AP32,Back!$M$16:$N$20,2,0)","v":"#N/A"},{"$f":"+VLOOKUP('BASE DE RESPUESTAS'!AQ32,Back!$M$16:$N$20,2,0)","v":"#N/A"},{"$f":"+VLOOKUP('BASE DE RESPUESTAS'!AR32,Back!$M$16:$N$20,2,0)","v":"#N/A"},{"$f":"+VLOOKUP('BASE DE RESPUESTAS'!AS32,Back!$M$16:$N$20,2,0)","v":"#N/A"},{"$f":"+VLOOKUP('BASE DE RESPUESTAS'!AT32,Back!$M$16:$N$20,2,0)","v":"#N/A"},{"$f":"+VLOOKUP('BASE DE RESPUESTAS'!AU32,Back!$M$16:$N$20,2,0)","v":"#N/A"},{"$f":"+VLOOKUP('BASE DE RESPUESTAS'!AV32,Back!$M$16:$N$20,2,0)","v":"#N/A"},{"$f":"+VLOOKUP('BASE DE RESPUESTAS'!AW32,Back!$M$16:$N$20,2,0)","v":"#N/A"},{"$f":"+VLOOKUP('BASE DE RESPUESTAS'!AX32,Back!$M$16:$N$20,2,0)","v":"#N/A"},{"$f":"+VLOOKUP('BASE DE RESPUESTAS'!AY32,Back!$M$16:$N$20,2,0)","v":"#N/A"},{"$f":"+VLOOKUP('BASE DE RESPUESTAS'!AZ32,Back!$M$16:$N$20,2,0)","v":"#N/A"},{"$f":"+VLOOKUP('BASE DE RESPUESTAS'!BA32,Back!$M$16:$N$20,2,0)","v":"#N/A"},{"$f":"+VLOOKUP('BASE DE RESPUESTAS'!BB32,Back!$M$16:$N$20,2,0)","v":"#N/A"},{"$f":"+VLOOKUP('BASE DE RESPUESTAS'!BC32,Back!$M$16:$N$20,2,0)","v":"#N/A"},{"$f":"+VLOOKUP('BASE DE RESPUESTAS'!BD32,Back!$M$16:$N$20,2,0)","v":"#N/A"},{"$f":"+VLOOKUP('BASE DE RESPUESTAS'!BE32,Back!$M$16:$N$20,2,0)","v":"#N/A"}]
[null,null,null,null,24.0,"Responde o dialoga siguiendo la conversación.\n",null,{"$f":"+VLOOKUP('BASE DE RESPUESTAS'!H33,Back!$M$16:$N$20,2,0)","v":"#N/A"},{"$f":"+VLOOKUP('BASE DE RESPUESTAS'!I33,Back!$M$16:$N$20,2,0)","v":"#N/A"},{"$f":"+VLOOKUP('BASE DE RESPUESTAS'!J33,Back!$M$16:$N$20,2,0)","v":"#N/A"},{"$f":"+VLOOKUP('BASE DE RESPUESTAS'!K33,Back!$M$16:$N$20,2,0)","v":"#N/A"},{"$f":"+VLOOKUP('BASE DE RESPUESTAS'!L33,Back!$M$16:$N$20,2,0)","v":"#N/A"},{"$f":"+VLOOKUP('BASE DE RESPUESTAS'!M33,Back!$M$16:$N$20,2,0)","v":"#N/A"},{"$f":"+VLOOKUP('BASE DE RESPUESTAS'!N33,Back!$M$16:$N$20,2,0)","v":"#N/A"},{"$f":"+VLOOKUP('BASE DE RESPUESTAS'!O33,Back!$M$16:$N$20,2,0)","v":"#N/A"},{"$f":"+VLOOKUP('BASE DE RESPUESTAS'!P33,Back!$M$16:$N$20,2,0)","v":"#N/A"},{"$f":"+VLOOKUP('BASE DE RESPUESTAS'!Q33,Back!$M$16:$N$20,2,0)","v":"#N/A"},{"$f":"+VLOOKUP('BASE DE RESPUESTAS'!R33,Back!$M$16:$N$20,2,0)","v":"#N/A"},{"$f":"+VLOOKUP('BASE DE RESPUESTAS'!S33,Back!$M$16:$N$20,2,0)","v":"#N/A"},{"$f":"+VLOOKUP('BASE DE RESPUESTAS'!T33,Back!$M$16:$N$20,2,0)","v":"#N/A"},{"$f":"+VLOOKUP('BASE DE RESPUESTAS'!U33,Back!$M$16:$N$20,2,0)","v":"#N/A"},{"$f":"+VLOOKUP('BASE DE RESPUESTAS'!V33,Back!$M$16:$N$20,2,0)","v":"#N/A"},{"$f":"+VLOOKUP('BASE DE RESPUESTAS'!W33,Back!$M$16:$N$20,2,0)","v":"#N/A"},{"$f":"+VLOOKUP('BASE DE RESPUESTAS'!X33,Back!$M$16:$N$20,2,0)","v":"#N/A"},{"$f":"+VLOOKUP('BASE DE RESPUESTAS'!Y33,Back!$M$16:$N$20,2,0)","v":"#N/A"},{"$f":"+VLOOKUP('BASE DE RESPUESTAS'!Z33,Back!$M$16:$N$20,2,0)","v":"#N/A"},{"$f":"+VLOOKUP('BASE DE RESPUESTAS'!AA33,Back!$M$16:$N$20,2,0)","v":"#N/A"},{"$f":"+VLOOKUP('BASE DE RESPUESTAS'!AB33,Back!$M$16:$N$20,2,0)","v":"#N/A"},{"$f":"+VLOOKUP('BASE DE RESPUESTAS'!AC33,Back!$M$16:$N$20,2,0)","v":"#N/A"},{"$f":"+VLOOKUP('BASE DE RESPUESTAS'!AD33,Back!$M$16:$N$20,2,0)","v":"#N/A"},{"$f":"+VLOOKUP('BASE DE RESPUESTAS'!AE33,Back!$M$16:$N$20,2,0)","v":"#N/A"},{"$f":"+VLOOKUP('BASE DE RESPUESTAS'!AF33,Back!$M$16:$N$20,2,0)","v":"#N/A"},{"$f":"+VLOOKUP('BASE DE RESPUESTAS'!AG33,Back!$M$16:$N$20,2,0)","v":"#N/A"},{"$f":"+VLOOKUP('BASE DE RESPUESTAS'!AH33,Back!$M$16:$N$20,2,0)","v":"#N/A"},{"$f":"+VLOOKUP('BASE DE RESPUESTAS'!AI33,Back!$M$16:$N$20,2,0)","v":"#N/A"},{"$f":"+VLOOKUP('BASE DE RESPUESTAS'!AJ33,Back!$M$16:$N$20,2,0)","v":"#N/A"},{"$f":"+VLOOKUP('BASE DE RESPUESTAS'!AK33,Back!$M$16:$N$20,2,0)","v":"#N/A"},{"$f":"+VLOOKUP('BASE DE RESPUESTAS'!AL33,Back!$M$16:$N$20,2,0)","v":"#N/A"},{"$f":"+VLOOKUP('BASE DE RESPUESTAS'!AM33,Back!$M$16:$N$20,2,0)","v":"#N/A"},{"$f":"+VLOOKUP('BASE DE RESPUESTAS'!AN33,Back!$M$16:$N$20,2,0)","v":"#N/A"},{"$f":"+VLOOKUP('BASE DE RESPUESTAS'!AO33,Back!$M$16:$N$20,2,0)","v":"#N/A"},{"$f":"+VLOOKUP('BASE DE RESPUESTAS'!AP33,Back!$M$16:$N$20,2,0)","v":"#N/A"},{"$f":"+VLOOKUP('BASE DE RESPUESTAS'!AQ33,Back!$M$16:$N$20,2,0)","v":"#N/A"},{"$f":"+VLOOKUP('BASE DE RESPUESTAS'!AR33,Back!$M$16:$N$20,2,0)","v":"#N/A"},{"$f":"+VLOOKUP('BASE DE RESPUESTAS'!AS33,Back!$M$16:$N$20,2,0)","v":"#N/A"},{"$f":"+VLOOKUP('BASE DE RESPUESTAS'!AT33,Back!$M$16:$N$20,2,0)","v":"#N/A"},{"$f":"+VLOOKUP('BASE DE RESPUESTAS'!AU33,Back!$M$16:$N$20,2,0)","v":"#N/A"},{"$f":"+VLOOKUP('BASE DE RESPUESTAS'!AV33,Back!$M$16:$N$20,2,0)","v":"#N/A"},{"$f":"+VLOOKUP('BASE DE RESPUESTAS'!AW33,Back!$M$16:$N$20,2,0)","v":"#N/A"},{"$f":"+VLOOKUP('BASE DE RESPUESTAS'!AX33,Back!$M$16:$N$20,2,0)","v":"#N/A"},{"$f":"+VLOOKUP('BASE DE RESPUESTAS'!AY33,Back!$M$16:$N$20,2,0)","v":"#N/A"},{"$f":"+VLOOKUP('BASE DE RESPUESTAS'!AZ33,Back!$M$16:$N$20,2,0)","v":"#N/A"},{"$f":"+VLOOKUP('BASE DE RESPUESTAS'!BA33,Back!$M$16:$N$20,2,0)","v":"#N/A"},{"$f":"+VLOOKUP('BASE DE RESPUESTAS'!BB33,Back!$M$16:$N$20,2,0)","v":"#N/A"},{"$f":"+VLOOKUP('BASE DE RESPUESTAS'!BC33,Back!$M$16:$N$20,2,0)","v":"#N/A"},{"$f":"+VLOOKUP('BASE DE RESPUESTAS'!BD33,Back!$M$16:$N$20,2,0)","v":"#N/A"},{"$f":"+VLOOKUP('BASE DE RESPUESTAS'!BE33,Back!$M$16:$N$20,2,0)","v":"#N/A"}]
[null,null,null," La o el estudiante comparte sus opiniones con respeto.\n",25.0,"Expresa con amabilidad lo que piensa y siente.",null,{"$f":"+VLOOKUP('BASE DE RESPUESTAS'!H34,Back!$M$16:$N$20,2,0)","v":"#N/A"},{"$f":"+VLOOKUP('BASE DE RESPUESTAS'!I34,Back!$M$16:$N$20,2,0)","v":"#N/A"},{"$f":"+VLOOKUP('BASE DE RESPUESTAS'!J34,Back!$M$16:$N$20,2,0)","v":"#N/A"},{"$f":"+VLOOKUP('BASE DE RESPUESTAS'!K34,Back!$M$16:$N$20,2,0)","v":"#N/A"},{"$f":"+VLOOKUP('BASE DE RESPUESTAS'!L34,Back!$M$16:$N$20,2,0)","v":"#N/A"},{"$f":"+VLOOKUP('BASE DE RESPUESTAS'!M34,Back!$M$16:$N$20,2,0)","v":"#N/A"},{"$f":"+VLOOKUP('BASE DE RESPUESTAS'!N34,Back!$M$16:$N$20,2,0)","v":"#N/A"},{"$f":"+VLOOKUP('BASE DE RESPUESTAS'!O34,Back!$M$16:$N$20,2,0)","v":"#N/A"},{"$f":"+VLOOKUP('BASE DE RESPUESTAS'!P34,Back!$M$16:$N$20,2,0)","v":"#N/A"},{"$f":"+VLOOKUP('BASE DE RESPUESTAS'!Q34,Back!$M$16:$N$20,2,0)","v":"#N/A"},{"$f":"+VLOOKUP('BASE DE RESPUESTAS'!R34,Back!$M$16:$N$20,2,0)","v":"#N/A"},{"$f":"+VLOOKUP('BASE DE RESPUESTAS'!S34,Back!$M$16:$N$20,2,0)","v":"#N/A"},{"$f":"+VLOOKUP('BASE DE RESPUESTAS'!T34,Back!$M$16:$N$20,2,0)","v":"#N/A"},{"$f":"+VLOOKUP('BASE DE RESPUESTAS'!U34,Back!$M$16:$N$20,2,0)","v":"#N/A"},{"$f":"+VLOOKUP('BASE DE RESPUESTAS'!V34,Back!$M$16:$N$20,2,0)","v":"#N/A"},{"$f":"+VLOOKUP('BASE DE RESPUESTAS'!W34,Back!$M$16:$N$20,2,0)","v":"#N/A"},{"$f":"+VLOOKUP('BASE DE RESPUESTAS'!X34,Back!$M$16:$N$20,2,0)","v":"#N/A"},{"$f":"+VLOOKUP('BASE DE RESPUESTAS'!Y34,Back!$M$16:$N$20,2,0)","v":"#N/A"},{"$f":"+VLOOKUP('BASE DE RESPUESTAS'!Z34,Back!$M$16:$N$20,2,0)","v":"#N/A"},{"$f":"+VLOOKUP('BASE DE RESPUESTAS'!AA34,Back!$M$16:$N$20,2,0)","v":"#N/A"},{"$f":"+VLOOKUP('BASE DE RESPUESTAS'!AB34,Back!$M$16:$N$20,2,0)","v":"#N/A"},{"$f":"+VLOOKUP('BASE DE RESPUESTAS'!AC34,Back!$M$16:$N$20,2,0)","v":"#N/A"},{"$f":"+VLOOKUP('BASE DE RESPUESTAS'!AD34,Back!$M$16:$N$20,2,0)","v":"#N/A"},{"$f":"+VLOOKUP('BASE DE RESPUESTAS'!AE34,Back!$M$16:$N$20,2,0)","v":"#N/A"},{"$f":"+VLOOKUP('BASE DE RESPUESTAS'!AF34,Back!$M$16:$N$20,2,0)","v":"#N/A"},{"$f":"+VLOOKUP('BASE DE RESPUESTAS'!AG34,Back!$M$16:$N$20,2,0)","v":"#N/A"},{"$f":"+VLOOKUP('BASE DE RESPUESTAS'!AH34,Back!$M$16:$N$20,2,0)","v":"#N/A"},{"$f":"+VLOOKUP('BASE DE RESPUESTAS'!AI34,Back!$M$16:$N$20,2,0)","v":"#N/A"},{"$f":"+VLOOKUP('BASE DE RESPUESTAS'!AJ34,Back!$M$16:$N$20,2,0)","v":"#N/A"},{"$f":"+VLOOKUP('BASE DE RESPUESTAS'!AK34,Back!$M$16:$N$20,2,0)","v":"#N/A"},{"$f":"+VLOOKUP('BASE DE RESPUESTAS'!AL34,Back!$M$16:$N$20,2,0)","v":"#N/A"},{"$f":"+VLOOKUP('BASE DE RESPUESTAS'!AM34,Back!$M$16:$N$20,2,0)","v":"#N/A"},{"$f":"+VLOOKUP('BASE DE RESPUESTAS'!AN34,Back!$M$16:$N$20,2,0)","v":"#N/A"},{"$f":"+VLOOKUP('BASE DE RESPUESTAS'!AO34,Back!$M$16:$N$20,2,0)","v":"#N/A"},{"$f":"+VLOOKUP('BASE DE RESPUESTAS'!AP34,Back!$M$16:$N$20,2,0)","v":"#N/A"},{"$f":"+VLOOKUP('BASE DE RESPUESTAS'!AQ34,Back!$M$16:$N$20,2,0)","v":"#N/A"},{"$f":"+VLOOKUP('BASE DE RESPUESTAS'!AR34,Back!$M$16:$N$20,2,0)","v":"#N/A"},{"$f":"+VLOOKUP('BASE DE RESPUESTAS'!AS34,Back!$M$16:$N$20,2,0)","v":"#N/A"},{"$f":"+VLOOKUP('BASE DE RESPUESTAS'!AT34,Back!$M$16:$N$20,2,0)","v":"#N/A"},{"$f":"+VLOOKUP('BASE DE RESPUESTAS'!AU34,Back!$M$16:$N$20,2,0)","v":"#N/A"},{"$f":"+VLOOKUP('BASE DE RESPUESTAS'!AV34,Back!$M$16:$N$20,2,0)","v":"#N/A"},{"$f":"+VLOOKUP('BASE DE RESPUESTAS'!AW34,Back!$M$16:$N$20,2,0)","v":"#N/A"},{"$f":"+VLOOKUP('BASE DE RESPUESTAS'!AX34,Back!$M$16:$N$20,2,0)","v":"#N/A"},{"$f":"+VLOOKUP('BASE DE RESPUESTAS'!AY34,Back!$M$16:$N$20,2,0)","v":"#N/A"},{"$f":"+VLOOKUP('BASE DE RESPUESTAS'!AZ34,Back!$M$16:$N$20,2,0)","v":"#N/A"},{"$f":"+VLOOKUP('BASE DE RESPUESTAS'!BA34,Back!$M$16:$N$20,2,0)","v":"#N/A"},{"$f":"+VLOOKUP('BASE DE RESPUESTAS'!BB34,Back!$M$16:$N$20,2,0)","v":"#N/A"},{"$f":"+VLOOKUP('BASE DE RESPUESTAS'!BC34,Back!$M$16:$N$20,2,0)","v":"#N/A"},{"$f":"+VLOOKUP('BASE DE RESPUESTAS'!BD34,Back!$M$16:$N$20,2,0)","v":"#N/A"},{"$f":"+VLOOKUP('BASE DE RESPUESTAS'!BE34,Back!$M$16:$N$20,2,0)","v":"#N/A"}]
[null,null,null,null,26.0,"Considera que sus ideas son válidas y que es importante que sus compañeros las escuchen.",null,{"$f":"+VLOOKUP('BASE DE RESPUESTAS'!H35,Back!$M$16:$N$20,2,0)","v":"#N/A"},{"$f":"+VLOOKUP('BASE DE RESPUESTAS'!I35,Back!$M$16:$N$20,2,0)","v":"#N/A"},{"$f":"+VLOOKUP('BASE DE RESPUESTAS'!J35,Back!$M$16:$N$20,2,0)","v":"#N/A"},{"$f":"+VLOOKUP('BASE DE RESPUESTAS'!K35,Back!$M$16:$N$20,2,0)","v":"#N/A"},{"$f":"+VLOOKUP('BASE DE RESPUESTAS'!L35,Back!$M$16:$N$20,2,0)","v":"#N/A"},{"$f":"+VLOOKUP('BASE DE RESPUESTAS'!M35,Back!$M$16:$N$20,2,0)","v":"#N/A"},{"$f":"+VLOOKUP('BASE DE RESPUESTAS'!N35,Back!$M$16:$N$20,2,0)","v":"#N/A"},{"$f":"+VLOOKUP('BASE DE RESPUESTAS'!O35,Back!$M$16:$N$20,2,0)","v":"#N/A"},{"$f":"+VLOOKUP('BASE DE RESPUESTAS'!P35,Back!$M$16:$N$20,2,0)","v":"#N/A"},{"$f":"+VLOOKUP('BASE DE RESPUESTAS'!Q35,Back!$M$16:$N$20,2,0)","v":"#N/A"},{"$f":"+VLOOKUP('BASE DE RESPUESTAS'!R35,Back!$M$16:$N$20,2,0)","v":"#N/A"},{"$f":"+VLOOKUP('BASE DE RESPUESTAS'!S35,Back!$M$16:$N$20,2,0)","v":"#N/A"},{"$f":"+VLOOKUP('BASE DE RESPUESTAS'!T35,Back!$M$16:$N$20,2,0)","v":"#N/A"},{"$f":"+VLOOKUP('BASE DE RESPUESTAS'!U35,Back!$M$16:$N$20,2,0)","v":"#N/A"},{"$f":"+VLOOKUP('BASE DE RESPUESTAS'!V35,Back!$M$16:$N$20,2,0)","v":"#N/A"},{"$f":"+VLOOKUP('BASE DE RESPUESTAS'!W35,Back!$M$16:$N$20,2,0)","v":"#N/A"},{"$f":"+VLOOKUP('BASE DE RESPUESTAS'!X35,Back!$M$16:$N$20,2,0)","v":"#N/A"},{"$f":"+VLOOKUP('BASE DE RESPUESTAS'!Y35,Back!$M$16:$N$20,2,0)","v":"#N/A"},{"$f":"+VLOOKUP('BASE DE RESPUESTAS'!Z35,Back!$M$16:$N$20,2,0)","v":"#N/A"},{"$f":"+VLOOKUP('BASE DE RESPUESTAS'!AA35,Back!$M$16:$N$20,2,0)","v":"#N/A"},{"$f":"+VLOOKUP('BASE DE RESPUESTAS'!AB35,Back!$M$16:$N$20,2,0)","v":"#N/A"},{"$f":"+VLOOKUP('BASE DE RESPUESTAS'!AC35,Back!$M$16:$N$20,2,0)","v":"#N/A"},{"$f":"+VLOOKUP('BASE DE RESPUESTAS'!AD35,Back!$M$16:$N$20,2,0)","v":"#N/A"},{"$f":"+VLOOKUP('BASE DE RESPUESTAS'!AE35,Back!$M$16:$N$20,2,0)","v":"#N/A"},{"$f":"+VLOOKUP('BASE DE RESPUESTAS'!AF35,Back!$M$16:$N$20,2,0)","v":"#N/A"},{"$f":"+VLOOKUP('BASE DE RESPUESTAS'!AG35,Back!$M$16:$N$20,2,0)","v":"#N/A"},{"$f":"+VLOOKUP('BASE DE RESPUESTAS'!AH35,Back!$M$16:$N$20,2,0)","v":"#N/A"},{"$f":"+VLOOKUP('BASE DE RESPUESTAS'!AI35,Back!$M$16:$N$20,2,0)","v":"#N/A"},{"$f":"+VLOOKUP('BASE DE RESPUESTAS'!AJ35,Back!$M$16:$N$20,2,0)","v":"#N/A"},{"$f":"+VLOOKUP('BASE DE RESPUESTAS'!AK35,Back!$M$16:$N$20,2,0)","v":"#N/A"},{"$f":"+VLOOKUP('BASE DE RESPUESTAS'!AL35,Back!$M$16:$N$20,2,0)","v":"#N/A"},{"$f":"+VLOOKUP('BASE DE RESPUESTAS'!AM35,Back!$M$16:$N$20,2,0)","v":"#N/A"},{"$f":"+VLOOKUP('BASE DE RESPUESTAS'!AN35,Back!$M$16:$N$20,2,0)","v":"#N/A"},{"$f":"+VLOOKUP('BASE DE RESPUESTAS'!AO35,Back!$M$16:$N$20,2,0)","v":"#N/A"},{"$f":"+VLOOKUP('BASE DE RESPUESTAS'!AP35,Back!$M$16:$N$20,2,0)","v":"#N/A"},{"$f":"+VLOOKUP('BASE DE RESPUESTAS'!AQ35,Back!$M$16:$N$20,2,0)","v":"#N/A"},{"$f":"+VLOOKUP('BASE DE RESPUESTAS'!AR35,Back!$M$16:$N$20,2,0)","v":"#N/A"},{"$f":"+VLOOKUP('BASE DE RESPUESTAS'!AS35,Back!$M$16:$N$20,2,0)","v":"#N/A"},{"$f":"+VLOOKUP('BASE DE RESPUESTAS'!AT35,Back!$M$16:$N$20,2,0)","v":"#N/A"},{"$f":"+VLOOKUP('BASE DE RESPUESTAS'!AU35,Back!$M$16:$N$20,2,0)","v":"#N/A"},{"$f":"+VLOOKUP('BASE DE RESPUESTAS'!AV35,Back!$M$16:$N$20,2,0)","v":"#N/A"},{"$f":"+VLOOKUP('BASE DE RESPUESTAS'!AW35,Back!$M$16:$N$20,2,0)","v":"#N/A"},{"$f":"+VLOOKUP('BASE DE RESPUESTAS'!AX35,Back!$M$16:$N$20,2,0)","v":"#N/A"},{"$f":"+VLOOKUP('BASE DE RESPUESTAS'!AY35,Back!$M$16:$N$20,2,0)","v":"#N/A"},{"$f":"+VLOOKUP('BASE DE RESPUESTAS'!AZ35,Back!$M$16:$N$20,2,0)","v":"#N/A"},{"$f":"+VLOOKUP('BASE DE RESPUESTAS'!BA35,Back!$M$16:$N$20,2,0)","v":"#N/A"},{"$f":"+VLOOKUP('BASE DE RESPUESTAS'!BB35,Back!$M$16:$N$20,2,0)","v":"#N/A"},{"$f":"+VLOOKUP('BASE DE RESPUESTAS'!BC35,Back!$M$16:$N$20,2,0)","v":"#N/A"},{"$f":"+VLOOKUP('BASE DE RESPUESTAS'!BD35,Back!$M$16:$N$20,2,0)","v":"#N/A"},{"$f":"+VLOOKUP('BASE DE RESPUESTAS'!BE35,Back!$M$16:$N$20,2,0)","v":"#N/A"}]
[null,"HSE","Trabajo en equipo","La o el estudiante trabaja colaborativamente con sus compañeros.",27.0,"Da su opinión y realiza las tareas acordadas en el equipo.",null,{"$f":"+VLOOKUP('BASE DE RESPUESTAS'!H36,Back!$M$16:$N$20,2,0)","v":"#N/A"},{"$f":"+VLOOKUP('BASE DE RESPUESTAS'!I36,Back!$M$16:$N$20,2,0)","v":"#N/A"},{"$f":"+VLOOKUP('BASE DE RESPUESTAS'!J36,Back!$M$16:$N$20,2,0)","v":"#N/A"},{"$f":"+VLOOKUP('BASE DE RESPUESTAS'!K36,Back!$M$16:$N$20,2,0)","v":"#N/A"},{"$f":"+VLOOKUP('BASE DE RESPUESTAS'!L36,Back!$M$16:$N$20,2,0)","v":"#N/A"},{"$f":"+VLOOKUP('BASE DE RESPUESTAS'!M36,Back!$M$16:$N$20,2,0)","v":"#N/A"},{"$f":"+VLOOKUP('BASE DE RESPUESTAS'!N36,Back!$M$16:$N$20,2,0)","v":"#N/A"},{"$f":"+VLOOKUP('BASE DE RESPUESTAS'!O36,Back!$M$16:$N$20,2,0)","v":"#N/A"},{"$f":"+VLOOKUP('BASE DE RESPUESTAS'!P36,Back!$M$16:$N$20,2,0)","v":"#N/A"},{"$f":"+VLOOKUP('BASE DE RESPUESTAS'!Q36,Back!$M$16:$N$20,2,0)","v":"#N/A"},{"$f":"+VLOOKUP('BASE DE RESPUESTAS'!R36,Back!$M$16:$N$20,2,0)","v":"#N/A"},{"$f":"+VLOOKUP('BASE DE RESPUESTAS'!S36,Back!$M$16:$N$20,2,0)","v":"#N/A"},{"$f":"+VLOOKUP('BASE DE RESPUESTAS'!T36,Back!$M$16:$N$20,2,0)","v":"#N/A"},{"$f":"+VLOOKUP('BASE DE RESPUESTAS'!U36,Back!$M$16:$N$20,2,0)","v":"#N/A"},{"$f":"+VLOOKUP('BASE DE RESPUESTAS'!V36,Back!$M$16:$N$20,2,0)","v":"#N/A"},{"$f":"+VLOOKUP('BASE DE RESPUESTAS'!W36,Back!$M$16:$N$20,2,0)","v":"#N/A"},{"$f":"+VLOOKUP('BASE DE RESPUESTAS'!X36,Back!$M$16:$N$20,2,0)","v":"#N/A"},{"$f":"+VLOOKUP('BASE DE RESPUESTAS'!Y36,Back!$M$16:$N$20,2,0)","v":"#N/A"},{"$f":"+VLOOKUP('BASE DE RESPUESTAS'!Z36,Back!$M$16:$N$20,2,0)","v":"#N/A"},{"$f":"+VLOOKUP('BASE DE RESPUESTAS'!AA36,Back!$M$16:$N$20,2,0)","v":"#N/A"},{"$f":"+VLOOKUP('BASE DE RESPUESTAS'!AB36,Back!$M$16:$N$20,2,0)","v":"#N/A"},{"$f":"+VLOOKUP('BASE DE RESPUESTAS'!AC36,Back!$M$16:$N$20,2,0)","v":"#N/A"},{"$f":"+VLOOKUP('BASE DE RESPUESTAS'!AD36,Back!$M$16:$N$20,2,0)","v":"#N/A"},{"$f":"+VLOOKUP('BASE DE RESPUESTAS'!AE36,Back!$M$16:$N$20,2,0)","v":"#N/A"},{"$f":"+VLOOKUP('BASE DE RESPUESTAS'!AF36,Back!$M$16:$N$20,2,0)","v":"#N/A"},{"$f":"+VLOOKUP('BASE DE RESPUESTAS'!AG36,Back!$M$16:$N$20,2,0)","v":"#N/A"},{"$f":"+VLOOKUP('BASE DE RESPUESTAS'!AH36,Back!$M$16:$N$20,2,0)","v":"#N/A"},{"$f":"+VLOOKUP('BASE DE RESPUESTAS'!AI36,Back!$M$16:$N$20,2,0)","v":"#N/A"},{"$f":"+VLOOKUP('BASE DE RESPUESTAS'!AJ36,Back!$M$16:$N$20,2,0)","v":"#N/A"},{"$f":"+VLOOKUP('BASE DE RESPUESTAS'!AK36,Back!$M$16:$N$20,2,0)","v":"#N/A"},{"$f":"+VLOOKUP('BASE DE RESPUESTAS'!AL36,Back!$M$16:$N$20,2,0)","v":"#N/A"},{"$f":"+VLOOKUP('BASE DE RESPUESTAS'!AM36,Back!$M$16:$N$20,2,0)","v":"#N/A"},{"$f":"+VLOOKUP('BASE DE RESPUESTAS'!AN36,Back!$M$16:$N$20,2,0)","v":"#N/A"},{"$f":"+VLOOKUP('BASE DE RESPUESTAS'!AO36,Back!$M$16:$N$20,2,0)","v":"#N/A"},{"$f":"+VLOOKUP('BASE DE RESPUESTAS'!AP36,Back!$M$16:$N$20,2,0)","v":"#N/A"},{"$f":"+VLOOKUP('BASE DE RESPUESTAS'!AQ36,Back!$M$16:$N$20,2,0)","v":"#N/A"},{"$f":"+VLOOKUP('BASE DE RESPUESTAS'!AR36,Back!$M$16:$N$20,2,0)","v":"#N/A"},{"$f":"+VLOOKUP('BASE DE RESPUESTAS'!AS36,Back!$M$16:$N$20,2,0)","v":"#N/A"},{"$f":"+VLOOKUP('BASE DE RESPUESTAS'!AT36,Back!$M$16:$N$20,2,0)","v":"#N/A"},{"$f":"+VLOOKUP('BASE DE RESPUESTAS'!AU36,Back!$M$16:$N$20,2,0)","v":"#N/A"},{"$f":"+VLOOKUP('BASE DE RESPUESTAS'!AV36,Back!$M$16:$N$20,2,0)","v":"#N/A"},{"$f":"+VLOOKUP('BASE DE RESPUESTAS'!AW36,Back!$M$16:$N$20,2,0)","v":"#N/A"},{"$f":"+VLOOKUP('BASE DE RESPUESTAS'!AX36,Back!$M$16:$N$20,2,0)","v":"#N/A"},{"$f":"+VLOOKUP('BASE DE RESPUESTAS'!AY36,Back!$M$16:$N$20,2,0)","v":"#N/A"},{"$f":"+VLOOKUP('BASE DE RESPUESTAS'!AZ36,Back!$M$16:$N$20,2,0)","v":"#N/A"},{"$f":"+VLOOKUP('BASE DE RESPUESTAS'!BA36,Back!$M$16:$N$20,2,0)","v":"#N/A"},{"$f":"+VLOOKUP('BASE DE RESPUESTAS'!BB36,Back!$M$16:$N$20,2,0)","v":"#N/A"},{"$f":"+VLOOKUP('BASE DE RESPUESTAS'!BC36,Back!$M$16:$N$20,2,0)","v":"#N/A"},{"$f":"+VLOOKUP('BASE DE RESPUESTAS'!BD36,Back!$M$16:$N$20,2,0)","v":"#N/A"},{"$f":"+VLOOKUP('BASE DE RESPUESTAS'!BE36,Back!$M$16:$N$20,2,0)","v":"#N/A"}]
[null,null,null,null,28.0,"Participa en el intercambio de ideas para llegar a acuerdos comunes.",null,{"$f":"+VLOOKUP('BASE DE RESPUESTAS'!H37,Back!$M$16:$N$20,2,0)","v":"#N/A"},{"$f":"+VLOOKUP('BASE DE RESPUESTAS'!I37,Back!$M$16:$N$20,2,0)","v":"#N/A"},{"$f":"+VLOOKUP('BASE DE RESPUESTAS'!J37,Back!$M$16:$N$20,2,0)","v":"#N/A"},{"$f":"+VLOOKUP('BASE DE RESPUESTAS'!K37,Back!$M$16:$N$20,2,0)","v":"#N/A"},{"$f":"+VLOOKUP('BASE DE RESPUESTAS'!L37,Back!$M$16:$N$20,2,0)","v":"#N/A"},{"$f":"+VLOOKUP('BASE DE RESPUESTAS'!M37,Back!$M$16:$N$20,2,0)","v":"#N/A"},{"$f":"+VLOOKUP('BASE DE RESPUESTAS'!N37,Back!$M$16:$N$20,2,0)","v":"#N/A"},{"$f":"+VLOOKUP('BASE DE RESPUESTAS'!O37,Back!$M$16:$N$20,2,0)","v":"#N/A"},{"$f":"+VLOOKUP('BASE DE RESPUESTAS'!P37,Back!$M$16:$N$20,2,0)","v":"#N/A"},{"$f":"+VLOOKUP('BASE DE RESPUESTAS'!Q37,Back!$M$16:$N$20,2,0)","v":"#N/A"},{"$f":"+VLOOKUP('BASE DE RESPUESTAS'!R37,Back!$M$16:$N$20,2,0)","v":"#N/A"},{"$f":"+VLOOKUP('BASE DE RESPUESTAS'!S37,Back!$M$16:$N$20,2,0)","v":"#N/A"},{"$f":"+VLOOKUP('BASE DE RESPUESTAS'!T37,Back!$M$16:$N$20,2,0)","v":"#N/A"},{"$f":"+VLOOKUP('BASE DE RESPUESTAS'!U37,Back!$M$16:$N$20,2,0)","v":"#N/A"},{"$f":"+VLOOKUP('BASE DE RESPUESTAS'!V37,Back!$M$16:$N$20,2,0)","v":"#N/A"},{"$f":"+VLOOKUP('BASE DE RESPUESTAS'!W37,Back!$M$16:$N$20,2,0)","v":"#N/A"},{"$f":"+VLOOKUP('BASE DE RESPUESTAS'!X37,Back!$M$16:$N$20,2,0)","v":"#N/A"},{"$f":"+VLOOKUP('BASE DE RESPUESTAS'!Y37,Back!$M$16:$N$20,2,0)","v":"#N/A"},{"$f":"+VLOOKUP('BASE DE RESPUESTAS'!Z37,Back!$M$16:$N$20,2,0)","v":"#N/A"},{"$f":"+VLOOKUP('BASE DE RESPUESTAS'!AA37,Back!$M$16:$N$20,2,0)","v":"#N/A"},{"$f":"+VLOOKUP('BASE DE RESPUESTAS'!AB37,Back!$M$16:$N$20,2,0)","v":"#N/A"},{"$f":"+VLOOKUP('BASE DE RESPUESTAS'!AC37,Back!$M$16:$N$20,2,0)","v":"#N/A"},{"$f":"+VLOOKUP('BASE DE RESPUESTAS'!AD37,Back!$M$16:$N$20,2,0)","v":"#N/A"},{"$f":"+VLOOKUP('BASE DE RESPUESTAS'!AE37,Back!$M$16:$N$20,2,0)","v":"#N/A"},{"$f":"+VLOOKUP('BASE DE RESPUESTAS'!AF37,Back!$M$16:$N$20,2,0)","v":"#N/A"},{"$f":"+VLOOKUP('BASE DE RESPUESTAS'!AG37,Back!$M$16:$N$20,2,0)","v":"#N/A"},{"$f":"+VLOOKUP('BASE DE RESPUESTAS'!AH37,Back!$M$16:$N$20,2,0)","v":"#N/A"},{"$f":"+VLOOKUP('BASE DE RESPUESTAS'!AI37,Back!$M$16:$N$20,2,0)","v":"#N/A"},{"$f":"+VLOOKUP('BASE DE RESPUESTAS'!AJ37,Back!$M$16:$N$20,2,0)","v":"#N/A"},{"$f":"+VLOOKUP('BASE DE RESPUESTAS'!AK37,Back!$M$16:$N$20,2,0)","v":"#N/A"},{"$f":"+VLOOKUP('BASE DE RESPUESTAS'!AL37,Back!$M$16:$N$20,2,0)","v":"#N/A"},{"$f":"+VLOOKUP('BASE DE RESPUESTAS'!AM37,Back!$M$16:$N$20,2,0)","v":"#N/A"},{"$f":"+VLOOKUP('BASE DE RESPUESTAS'!AN37,Back!$M$16:$N$20,2,0)","v":"#N/A"},{"$f":"+VLOOKUP('BASE DE RESPUESTAS'!AO37,Back!$M$16:$N$20,2,0)","v":"#N/A"},{"$f":"+VLOOKUP('BASE DE RESPUESTAS'!AP37,Back!$M$16:$N$20,2,0)","v":"#N/A"},{"$f":"+VLOOKUP('BASE DE RESPUESTAS'!AQ37,Back!$M$16:$N$20,2,0)","v":"#N/A"},{"$f":"+VLOOKUP('BASE DE RESPUESTAS'!AR37,Back!$M$16:$N$20,2,0)","v":"#N/A"},{"$f":"+VLOOKUP('BASE DE RESPUESTAS'!AS37,Back!$M$16:$N$20,2,0)","v":"#N/A"},{"$f":"+VLOOKUP('BASE DE RESPUESTAS'!AT37,Back!$M$16:$N$20,2,0)","v":"#N/A"},{"$f":"+VLOOKUP('BASE DE RESPUESTAS'!AU37,Back!$M$16:$N$20,2,0)","v":"#N/A"},{"$f":"+VLOOKUP('BASE DE RESPUESTAS'!AV37,Back!$M$16:$N$20,2,0)","v":"#N/A"},{"$f":"+VLOOKUP('BASE DE RESPUESTAS'!AW37,Back!$M$16:$N$20,2,0)","v":"#N/A"},{"$f":"+VLOOKUP('BASE DE RESPUESTAS'!AX37,Back!$M$16:$N$20,2,0)","v":"#N/A"},{"$f":"+VLOOKUP('BASE DE RESPUESTAS'!AY37,Back!$M$16:$N$20,2,0)","v":"#N/A"},{"$f":"+VLOOKUP('BASE DE RESPUESTAS'!AZ37,Back!$M$16:$N$20,2,0)","v":"#N/A"},{"$f":"+VLOOKUP('BASE DE RESPUESTAS'!BA37,Back!$M$16:$N$20,2,0)","v":"#N/A"},{"$f":"+VLOOKUP('BASE DE RESPUESTAS'!BB37,Back!$M$16:$N$20,2,0)","v":"#N/A"},{"$f":"+VLOOKUP('BASE DE RESPUESTAS'!BC37,Back!$M$16:$N$20,2,0)","v":"#N/A"},{"$f":"+VLOOKUP('BASE DE RESPUESTAS'!BD37,Back!$M$16:$N$20,2,0)","v":"#N/A"},{"$f":"+VLOOKUP('BASE DE RESPUESTAS'!BE37,Back!$M$16:$N$20,2,0)","v":"#N/A"}]
[null,"HSE","Empatía","La o el estudiante reconoce las emociones que sus compañeros experimentan para fortalecer sus vínculos afectivos.",29.0,"Es capaz de darse cuenta de cómo se sienten otras personas.",null,{"$f":"+VLOOKUP('BASE DE RESPUESTAS'!H38,Back!$M$16:$N$20,2,0)","v":"#N/A"},{"$f":"+VLOOKUP('BASE DE RESPUESTAS'!I38,Back!$M$16:$N$20,2,0)","v":"#N/A"},{"$f":"+VLOOKUP('BASE DE RESPUESTAS'!J38,Back!$M$16:$N$20,2,0)","v":"#N/A"},{"$f":"+VLOOKUP('BASE DE RESPUESTAS'!K38,Back!$M$16:$N$20,2,0)","v":"#N/A"},{"$f":"+VLOOKUP('BASE DE RESPUESTAS'!L38,Back!$M$16:$N$20,2,0)","v":"#N/A"},{"$f":"+VLOOKUP('BASE DE RESPUESTAS'!M38,Back!$M$16:$N$20,2,0)","v":"#N/A"},{"$f":"+VLOOKUP('BASE DE RESPUESTAS'!N38,Back!$M$16:$N$20,2,0)","v":"#N/A"},{"$f":"+VLOOKUP('BASE DE RESPUESTAS'!O38,Back!$M$16:$N$20,2,0)","v":"#N/A"},{"$f":"+VLOOKUP('BASE DE RESPUESTAS'!P38,Back!$M$16:$N$20,2,0)","v":"#N/A"},{"$f":"+VLOOKUP('BASE DE RESPUESTAS'!Q38,Back!$M$16:$N$20,2,0)","v":"#N/A"},{"$f":"+VLOOKUP('BASE DE RESPUESTAS'!R38,Back!$M$16:$N$20,2,0)","v":"#N/A"},{"$f":"+VLOOKUP('BASE DE RESPUESTAS'!S38,Back!$M$16:$N$20,2,0)","v":"#N/A"},{"$f":"+VLOOKUP('BASE DE RESPUESTAS'!T38,Back!$M$16:$N$20,2,0)","v":"#N/A"},{"$f":"+VLOOKUP('BASE DE RESPUESTAS'!U38,Back!$M$16:$N$20,2,0)","v":"#N/A"},{"$f":"+VLOOKUP('BASE DE RESPUESTAS'!V38,Back!$M$16:$N$20,2,0)","v":"#N/A"},{"$f":"+VLOOKUP('BASE DE RESPUESTAS'!W38,Back!$M$16:$N$20,2,0)","v":"#N/A"},{"$f":"+VLOOKUP('BASE DE RESPUESTAS'!X38,Back!$M$16:$N$20,2,0)","v":"#N/A"},{"$f":"+VLOOKUP('BASE DE RESPUESTAS'!Y38,Back!$M$16:$N$20,2,0)","v":"#N/A"},{"$f":"+VLOOKUP('BASE DE RESPUESTAS'!Z38,Back!$M$16:$N$20,2,0)","v":"#N/A"},{"$f":"+VLOOKUP('BASE DE RESPUESTAS'!AA38,Back!$M$16:$N$20,2,0)","v":"#N/A"},{"$f":"+VLOOKUP('BASE DE RESPUESTAS'!AB38,Back!$M$16:$N$20,2,0)","v":"#N/A"},{"$f":"+VLOOKUP('BASE DE RESPUESTAS'!AC38,Back!$M$16:$N$20,2,0)","v":"#N/A"},{"$f":"+VLOOKUP('BASE DE RESPUESTAS'!AD38,Back!$M$16:$N$20,2,0)","v":"#N/A"},{"$f":"+VLOOKUP('BASE DE RESPUESTAS'!AE38,Back!$M$16:$N$20,2,0)","v":"#N/A"},{"$f":"+VLOOKUP('BASE DE RESPUESTAS'!AF38,Back!$M$16:$N$20,2,0)","v":"#N/A"},{"$f":"+VLOOKUP('BASE DE RESPUESTAS'!AG38,Back!$M$16:$N$20,2,0)","v":"#N/A"},{"$f":"+VLOOKUP('BASE DE RESPUESTAS'!AH38,Back!$M$16:$N$20,2,0)","v":"#N/A"},{"$f":"+VLOOKUP('BASE DE RESPUESTAS'!AI38,Back!$M$16:$N$20,2,0)","v":"#N/A"},{"$f":"+VLOOKUP('BASE DE RESPUESTAS'!AJ38,Back!$M$16:$N$20,2,0)","v":"#N/A"},{"$f":"+VLOOKUP('BASE DE RESPUESTAS'!AK38,Back!$M$16:$N$20,2,0)","v":"#N/A"},{"$f":"+VLOOKUP('BASE DE RESPUESTAS'!AL38,Back!$M$16:$N$20,2,0)","v":"#N/A"},{"$f":"+VLOOKUP('BASE DE RESPUESTAS'!AM38,Back!$M$16:$N$20,2,0)","v":"#N/A"},{"$f":"+VLOOKUP('BASE DE RESPUESTAS'!AN38,Back!$M$16:$N$20,2,0)","v":"#N/A"},{"$f":"+VLOOKUP('BASE DE RESPUESTAS'!AO38,Back!$M$16:$N$20,2,0)","v":"#N/A"},{"$f":"+VLOOKUP('BASE DE RESPUESTAS'!AP38,Back!$M$16:$N$20,2,0)","v":"#N/A"},{"$f":"+VLOOKUP('BASE DE RESPUESTAS'!AQ38,Back!$M$16:$N$20,2,0)","v":"#N/A"},{"$f":"+VLOOKUP('BASE DE RESPUESTAS'!AR38,Back!$M$16:$N$20,2,0)","v":"#N/A"},{"$f":"+VLOOKUP('BASE DE RESPUESTAS'!AS38,Back!$M$16:$N$20,2,0)","v":"#N/A"},{"$f":"+VLOOKUP('BASE DE RESPUESTAS'!AT38,Back!$M$16:$N$20,2,0)","v":"#N/A"},{"$f":"+VLOOKUP('BASE DE RESPUESTAS'!AU38,Back!$M$16:$N$20,2,0)","v":"#N/A"},{"$f":"+VLOOKUP('BASE DE RESPUESTAS'!AV38,Back!$M$16:$N$20,2,0)","v":"#N/A"},{"$f":"+VLOOKUP('BASE DE RESPUESTAS'!AW38,Back!$M$16:$N$20,2,0)","v":"#N/A"},{"$f":"+VLOOKUP('BASE DE RESPUESTAS'!AX38,Back!$M$16:$N$20,2,0)","v":"#N/A"},{"$f":"+VLOOKUP('BASE DE RESPUESTAS'!AY38,Back!$M$16:$N$20,2,0)","v":"#N/A"},{"$f":"+VLOOKUP('BASE DE RESPUESTAS'!AZ38,Back!$M$16:$N$20,2,0)","v":"#N/A"},{"$f":"+VLOOKUP('BASE DE RESPUESTAS'!BA38,Back!$M$16:$N$20,2,0)","v":"#N/A"},{"$f":"+VLOOKUP('BASE DE RESPUESTAS'!BB38,Back!$M$16:$N$20,2,0)","v":"#N/A"},{"$f":"+VLOOKUP('BASE DE RESPUESTAS'!BC38,Back!$M$16:$N$20,2,0)","v":"#N/A"},{"$f":"+VLOOKUP('BASE DE RESPUESTAS'!BD38,Back!$M$16:$N$20,2,0)","v":"#N/A"},{"$f":"+VLOOKUP('BASE DE RESPUESTAS'!BE38,Back!$M$16:$N$20,2,0)","v":"#N/A"}]
[null,null,null,"La o el estudiante comprende los puntos de vista de sus compañeros ante un desacuerdo.",30.0,"Propone acciones u ofrece ayuda cuando un compañero o compañera lo necesita.\n\n",null,{"$f":"+VLOOKUP('BASE DE RESPUESTAS'!H39,Back!$M$16:$N$20,2,0)","v":"#N/A"},{"$f":"+VLOOKUP('BASE DE RESPUESTAS'!I39,Back!$M$16:$N$20,2,0)","v":"#N/A"},{"$f":"+VLOOKUP('BASE DE RESPUESTAS'!J39,Back!$M$16:$N$20,2,0)","v":"#N/A"},{"$f":"+VLOOKUP('BASE DE RESPUESTAS'!K39,Back!$M$16:$N$20,2,0)","v":"#N/A"},{"$f":"+VLOOKUP('BASE DE RESPUESTAS'!L39,Back!$M$16:$N$20,2,0)","v":"#N/A"},{"$f":"+VLOOKUP('BASE DE RESPUESTAS'!M39,Back!$M$16:$N$20,2,0)","v":"#N/A"},{"$f":"+VLOOKUP('BASE DE RESPUESTAS'!N39,Back!$M$16:$N$20,2,0)","v":"#N/A"},{"$f":"+VLOOKUP('BASE DE RESPUESTAS'!O39,Back!$M$16:$N$20,2,0)","v":"#N/A"},{"$f":"+VLOOKUP('BASE DE RESPUESTAS'!P39,Back!$M$16:$N$20,2,0)","v":"#N/A"},{"$f":"+VLOOKUP('BASE DE RESPUESTAS'!Q39,Back!$M$16:$N$20,2,0)","v":"#N/A"},{"$f":"+VLOOKUP('BASE DE RESPUESTAS'!R39,Back!$M$16:$N$20,2,0)","v":"#N/A"},{"$f":"+VLOOKUP('BASE DE RESPUESTAS'!S39,Back!$M$16:$N$20,2,0)","v":"#N/A"},{"$f":"+VLOOKUP('BASE DE RESPUESTAS'!T39,Back!$M$16:$N$20,2,0)","v":"#N/A"},{"$f":"+VLOOKUP('BASE DE RESPUESTAS'!U39,Back!$M$16:$N$20,2,0)","v":"#N/A"},{"$f":"+VLOOKUP('BASE DE RESPUESTAS'!V39,Back!$M$16:$N$20,2,0)","v":"#N/A"},{"$f":"+VLOOKUP('BASE DE RESPUESTAS'!W39,Back!$M$16:$N$20,2,0)","v":"#N/A"},{"$f":"+VLOOKUP('BASE DE RESPUESTAS'!X39,Back!$M$16:$N$20,2,0)","v":"#N/A"},{"$f":"+VLOOKUP('BASE DE RESPUESTAS'!Y39,Back!$M$16:$N$20,2,0)","v":"#N/A"},{"$f":"+VLOOKUP('BASE DE RESPUESTAS'!Z39,Back!$M$16:$N$20,2,0)","v":"#N/A"},{"$f":"+VLOOKUP('BASE DE RESPUESTAS'!AA39,Back!$M$16:$N$20,2,0)","v":"#N/A"},{"$f":"+VLOOKUP('BASE DE RESPUESTAS'!AB39,Back!$M$16:$N$20,2,0)","v":"#N/A"},{"$f":"+VLOOKUP('BASE DE RESPUESTAS'!AC39,Back!$M$16:$N$20,2,0)","v":"#N/A"},{"$f":"+VLOOKUP('BASE DE RESPUESTAS'!AD39,Back!$M$16:$N$20,2,0)","v":"#N/A"},{"$f":"+VLOOKUP('BASE DE RESPUESTAS'!AE39,Back!$M$16:$N$20,2,0)","v":"#N/A"},{"$f":"+VLOOKUP('BASE DE RESPUESTAS'!AF39,Back!$M$16:$N$20,2,0)","v":"#N/A"},{"$f":"+VLOOKUP('BASE DE RESPUESTAS'!AG39,Back!$M$16:$N$20,2,0)","v":"#N/A"},{"$f":"+VLOOKUP('BASE DE RESPUESTAS'!AH39,Back!$M$16:$N$20,2,0)","v":"#N/A"},{"$f":"+VLOOKUP('BASE DE RESPUESTAS'!AI39,Back!$M$16:$N$20,2,0)","v":"#N/A"},{"$f":"+VLOOKUP('BASE DE RESPUESTAS'!AJ39,Back!$M$16:$N$20,2,0)","v":"#N/A"},{"$f":"+VLOOKUP('BASE DE RESPUESTAS'!AK39,Back!$M$16:$N$20,2,0)","v":"#N/A"},{"$f":"+VLOOKUP('BASE DE RESPUESTAS'!AL39,Back!$M$16:$N$20,2,0)","v":"#N/A"},{"$f":"+VLOOKUP('BASE DE RESPUESTAS'!AM39,Back!$M$16:$N$20,2,0)","v":"#N/A"},{"$f":"+VLOOKUP('BASE DE RESPUESTAS'!AN39,Back!$M$16:$N$20,2,0)","v":"#N/A"},{"$f":"+VLOOKUP('BASE DE RESPUESTAS'!AO39,Back!$M$16:$N$20,2,0)","v":"#N/A"},{"$f":"+VLOOKUP('BASE DE RESPUESTAS'!AP39,Back!$M$16:$N$20,2,0)","v":"#N/A"},{"$f":"+VLOOKUP('BASE DE RESPUESTAS'!AQ39,Back!$M$16:$N$20,2,0)","v":"#N/A"},{"$f":"+VLOOKUP('BASE DE RESPUESTAS'!AR39,Back!$M$16:$N$20,2,0)","v":"#N/A"},{"$f":"+VLOOKUP('BASE DE RESPUESTAS'!AS39,Back!$M$16:$N$20,2,0)","v":"#N/A"},{"$f":"+VLOOKUP('BASE DE RESPUESTAS'!AT39,Back!$M$16:$N$20,2,0)","v":"#N/A"},{"$f":"+VLOOKUP('BASE DE RESPUESTAS'!AU39,Back!$M$16:$N$20,2,0)","v":"#N/A"},{"$f":"+VLOOKUP('BASE DE RESPUESTAS'!AV39,Back!$M$16:$N$20,2,0)","v":"#N/A"},{"$f":"+VLOOKUP('BASE DE RESPUESTAS'!AW39,Back!$M$16:$N$20,2,0)","v":"#N/A"},{"$f":"+VLOOKUP('BASE DE RESPUESTAS'!AX39,Back!$M$16:$N$20,2,0)","v":"#N/A"},{"$f":"+VLOOKUP('BASE DE RESPUESTAS'!AY39,Back!$M$16:$N$20,2,0)","v":"#N/A"},{"$f":"+VLOOKUP('BASE DE RESPUESTAS'!AZ39,Back!$M$16:$N$20,2,0)","v":"#N/A"},{"$f":"+VLOOKUP('BASE DE RESPUESTAS'!BA39,Back!$M$16:$N$20,2,0)","v":"#N/A"},{"$f":"+VLOOKUP('BASE DE RESPUESTAS'!BB39,Back!$M$16:$N$20,2,0)","v":"#N/A"},{"$f":"+VLOOKUP('BASE DE RESPUESTAS'!BC39,Back!$M$16:$N$20,2,0)","v":"#N/A"},{"$f":"+VLOOKUP('BASE DE RESPUESTAS'!BD39,Back!$M$16:$N$20,2,0)","v":"#N/A"},{"$f":"+VLOOKUP('BASE DE RESPUESTAS'!BE39,Back!$M$16:$N$20,2,0)","v":"#N/A"}]
[null,"HSE","Resolución de conflictos","La o el estudiante reconoce que existen distintos puntos de vista e intenta integrarlos en la solución.",31.0,"Toma en cuenta la opinión de sus compañeras o compañeros en lugar de imponerse ante una situación de conflicto.",null,{"$f":"+VLOOKUP('BASE DE RESPUESTAS'!H40,Back!$M$16:$N$20,2,0)","v":"#N/A"},{"$f":"+VLOOKUP('BASE DE RESPUESTAS'!I40,Back!$M$16:$N$20,2,0)","v":"#N/A"},{"$f":"+VLOOKUP('BASE DE RESPUESTAS'!J40,Back!$M$16:$N$20,2,0)","v":"#N/A"},{"$f":"+VLOOKUP('BASE DE RESPUESTAS'!K40,Back!$M$16:$N$20,2,0)","v":"#N/A"},{"$f":"+VLOOKUP('BASE DE RESPUESTAS'!L40,Back!$M$16:$N$20,2,0)","v":"#N/A"},{"$f":"+VLOOKUP('BASE DE RESPUESTAS'!M40,Back!$M$16:$N$20,2,0)","v":"#N/A"},{"$f":"+VLOOKUP('BASE DE RESPUESTAS'!N40,Back!$M$16:$N$20,2,0)","v":"#N/A"},{"$f":"+VLOOKUP('BASE DE RESPUESTAS'!O40,Back!$M$16:$N$20,2,0)","v":"#N/A"},{"$f":"+VLOOKUP('BASE DE RESPUESTAS'!P40,Back!$M$16:$N$20,2,0)","v":"#N/A"},{"$f":"+VLOOKUP('BASE DE RESPUESTAS'!Q40,Back!$M$16:$N$20,2,0)","v":"#N/A"},{"$f":"+VLOOKUP('BASE DE RESPUESTAS'!R40,Back!$M$16:$N$20,2,0)","v":"#N/A"},{"$f":"+VLOOKUP('BASE DE RESPUESTAS'!S40,Back!$M$16:$N$20,2,0)","v":"#N/A"},{"$f":"+VLOOKUP('BASE DE RESPUESTAS'!T40,Back!$M$16:$N$20,2,0)","v":"#N/A"},{"$f":"+VLOOKUP('BASE DE RESPUESTAS'!U40,Back!$M$16:$N$20,2,0)","v":"#N/A"},{"$f":"+VLOOKUP('BASE DE RESPUESTAS'!V40,Back!$M$16:$N$20,2,0)","v":"#N/A"},{"$f":"+VLOOKUP('BASE DE RESPUESTAS'!W40,Back!$M$16:$N$20,2,0)","v":"#N/A"},{"$f":"+VLOOKUP('BASE DE RESPUESTAS'!X40,Back!$M$16:$N$20,2,0)","v":"#N/A"},{"$f":"+VLOOKUP('BASE DE RESPUESTAS'!Y40,Back!$M$16:$N$20,2,0)","v":"#N/A"},{"$f":"+VLOOKUP('BASE DE RESPUESTAS'!Z40,Back!$M$16:$N$20,2,0)","v":"#N/A"},{"$f":"+VLOOKUP('BASE DE RESPUESTAS'!AA40,Back!$M$16:$N$20,2,0)","v":"#N/A"},{"$f":"+VLOOKUP('BASE DE RESPUESTAS'!AB40,Back!$M$16:$N$20,2,0)","v":"#N/A"},{"$f":"+VLOOKUP('BASE DE RESPUESTAS'!AC40,Back!$M$16:$N$20,2,0)","v":"#N/A"},{"$f":"+VLOOKUP('BASE DE RESPUESTAS'!AD40,Back!$M$16:$N$20,2,0)","v":"#N/A"},{"$f":"+VLOOKUP('BASE DE RESPUESTAS'!AE40,Back!$M$16:$N$20,2,0)","v":"#N/A"},{"$f":"+VLOOKUP('BASE DE RESPUESTAS'!AF40,Back!$M$16:$N$20,2,0)","v":"#N/A"},{"$f":"+VLOOKUP('BASE DE RESPUESTAS'!AG40,Back!$M$16:$N$20,2,0)","v":"#N/A"},{"$f":"+VLOOKUP('BASE DE RESPUESTAS'!AH40,Back!$M$16:$N$20,2,0)","v":"#N/A"},{"$f":"+VLOOKUP('BASE DE RESPUESTAS'!AI40,Back!$M$16:$N$20,2,0)","v":"#N/A"},{"$f":"+VLOOKUP('BASE DE RESPUESTAS'!AJ40,Back!$M$16:$N$20,2,0)","v":"#N/A"},{"$f":"+VLOOKUP('BASE DE RESPUESTAS'!AK40,Back!$M$16:$N$20,2,0)","v":"#N/A"},{"$f":"+VLOOKUP('BASE DE RESPUESTAS'!AL40,Back!$M$16:$N$20,2,0)","v":"#N/A"},{"$f":"+VLOOKUP('BASE DE RESPUESTAS'!AM40,Back!$M$16:$N$20,2,0)","v":"#N/A"},{"$f":"+VLOOKUP('BASE DE RESPUESTAS'!AN40,Back!$M$16:$N$20,2,0)","v":"#N/A"},{"$f":"+VLOOKUP('BASE DE RESPUESTAS'!AO40,Back!$M$16:$N$20,2,0)","v":"#N/A"},{"$f":"+VLOOKUP('BASE DE RESPUESTAS'!AP40,Back!$M$16:$N$20,2,0)","v":"#N/A"},{"$f":"+VLOOKUP('BASE DE RESPUESTAS'!AQ40,Back!$M$16:$N$20,2,0)","v":"#N/A"},{"$f":"+VLOOKUP('BASE DE RESPUESTAS'!AR40,Back!$M$16:$N$20,2,0)","v":"#N/A"},{"$f":"+VLOOKUP('BASE DE RESPUESTAS'!AS40,Back!$M$16:$N$20,2,0)","v":"#N/A"},{"$f":"+VLOOKUP('BASE DE RESPUESTAS'!AT40,Back!$M$16:$N$20,2,0)","v":"#N/A"},{"$f":"+VLOOKUP('BASE DE RESPUESTAS'!AU40,Back!$M$16:$N$20,2,0)","v":"#N/A"},{"$f":"+VLOOKUP('BASE DE RESPUESTAS'!AV40,Back!$M$16:$N$20,2,0)","v":"#N/A"},{"$f":"+VLOOKUP('BASE DE RESPUESTAS'!AW40,Back!$M$16:$N$20,2,0)","v":"#N/A"},{"$f":"+VLOOKUP('BASE DE RESPUESTAS'!AX40,Back!$M$16:$N$20,2,0)","v":"#N/A"},{"$f":"+VLOOKUP('BASE DE RESPUESTAS'!AY40,Back!$M$16:$N$20,2,0)","v":"#N/A"},{"$f":"+VLOOKUP('BASE DE RESPUESTAS'!AZ40,Back!$M$16:$N$20,2,0)","v":"#N/A"},{"$f":"+VLOOKUP('BASE DE RESPUESTAS'!BA40,Back!$M$16:$N$20,2,0)","v":"#N/A"},{"$f":"+VLOOKUP('BASE DE RESPUESTAS'!BB40,Back!$M$16:$N$20,2,0)","v":"#N/A"},{"$f":"+VLOOKUP('BASE DE RESPUESTAS'!BC40,Back!$M$16:$N$20,2,0)","v":"#N/A"},{"$f":"+VLOOKUP('BASE DE RESPUESTAS'!BD40,Back!$M$16:$N$20,2,0)","v":"#N/A"},{"$f":"+VLOOKUP('BASE DE RESPUESTAS'!BE40,Back!$M$16:$N$20,2,0)","v":"#N/A"}]
[null,null,null,"La o el estudiante reconoce que las personas somos diversas y que todas merecen buen trato.",32.0,"Participa activamente en la búsqueda de soluciones.",null,{"$f":"+VLOOKUP('BASE DE RESPUESTAS'!H41,Back!$M$16:$N$20,2,0)","v":"#N/A"},{"$f":"+VLOOKUP('BASE DE RESPUESTAS'!I41,Back!$M$16:$N$20,2,0)","v":"#N/A"},{"$f":"+VLOOKUP('BASE DE RESPUESTAS'!J41,Back!$M$16:$N$20,2,0)","v":"#N/A"},{"$f":"+VLOOKUP('BASE DE RESPUESTAS'!K41,Back!$M$16:$N$20,2,0)","v":"#N/A"},{"$f":"+VLOOKUP('BASE DE RESPUESTAS'!L41,Back!$M$16:$N$20,2,0)","v":"#N/A"},{"$f":"+VLOOKUP('BASE DE RESPUESTAS'!M41,Back!$M$16:$N$20,2,0)","v":"#N/A"},{"$f":"+VLOOKUP('BASE DE RESPUESTAS'!N41,Back!$M$16:$N$20,2,0)","v":"#N/A"},{"$f":"+VLOOKUP('BASE DE RESPUESTAS'!O41,Back!$M$16:$N$20,2,0)","v":"#N/A"},{"$f":"+VLOOKUP('BASE DE RESPUESTAS'!P41,Back!$M$16:$N$20,2,0)","v":"#N/A"},{"$f":"+VLOOKUP('BASE DE RESPUESTAS'!Q41,Back!$M$16:$N$20,2,0)","v":"#N/A"},{"$f":"+VLOOKUP('BASE DE RESPUESTAS'!R41,Back!$M$16:$N$20,2,0)","v":"#N/A"},{"$f":"+VLOOKUP('BASE DE RESPUESTAS'!S41,Back!$M$16:$N$20,2,0)","v":"#N/A"},{"$f":"+VLOOKUP('BASE DE RESPUESTAS'!T41,Back!$M$16:$N$20,2,0)","v":"#N/A"},{"$f":"+VLOOKUP('BASE DE RESPUESTAS'!U41,Back!$M$16:$N$20,2,0)","v":"#N/A"},{"$f":"+VLOOKUP('BASE DE RESPUESTAS'!V41,Back!$M$16:$N$20,2,0)","v":"#N/A"},{"$f":"+VLOOKUP('BASE DE RESPUESTAS'!W41,Back!$M$16:$N$20,2,0)","v":"#N/A"},{"$f":"+VLOOKUP('BASE DE RESPUESTAS'!X41,Back!$M$16:$N$20,2,0)","v":"#N/A"},{"$f":"+VLOOKUP('BASE DE RESPUESTAS'!Y41,Back!$M$16:$N$20,2,0)","v":"#N/A"},{"$f":"+VLOOKUP('BASE DE RESPUESTAS'!Z41,Back!$M$16:$N$20,2,0)","v":"#N/A"},{"$f":"+VLOOKUP('BASE DE RESPUESTAS'!AA41,Back!$M$16:$N$20,2,0)","v":"#N/A"},{"$f":"+VLOOKUP('BASE DE RESPUESTAS'!AB41,Back!$M$16:$N$20,2,0)","v":"#N/A"},{"$f":"+VLOOKUP('BASE DE RESPUESTAS'!AC41,Back!$M$16:$N$20,2,0)","v":"#N/A"},{"$f":"+VLOOKUP('BASE DE RESPUESTAS'!AD41,Back!$M$16:$N$20,2,0)","v":"#N/A"},{"$f":"+VLOOKUP('BASE DE RESPUESTAS'!AE41,Back!$M$16:$N$20,2,0)","v":"#N/A"},{"$f":"+VLOOKUP('BASE DE RESPUESTAS'!AF41,Back!$M$16:$N$20,2,0)","v":"#N/A"},{"$f":"+VLOOKUP('BASE DE RESPUESTAS'!AG41,Back!$M$16:$N$20,2,0)","v":"#N/A"},{"$f":"+VLOOKUP('BASE DE RESPUESTAS'!AH41,Back!$M$16:$N$20,2,0)","v":"#N/A"},{"$f":"+VLOOKUP('BASE DE RESPUESTAS'!AI41,Back!$M$16:$N$20,2,0)","v":"#N/A"},{"$f":"+VLOOKUP('BASE DE RESPUESTAS'!AJ41,Back!$M$16:$N$20,2,0)","v":"#N/A"},{"$f":"+VLOOKUP('BASE DE RESPUESTAS'!AK41,Back!$M$16:$N$20,2,0)","v":"#N/A"},{"$f":"+VLOOKUP('BASE DE RESPUESTAS'!AL41,Back!$M$16:$N$20,2,0)","v":"#N/A"},{"$f":"+VLOOKUP('BASE DE RESPUESTAS'!AM41,Back!$M$16:$N$20,2,0)","v":"#N/A"},{"$f":"+VLOOKUP('BASE DE RESPUESTAS'!AN41,Back!$M$16:$N$20,2,0)","v":"#N/A"},{"$f":"+VLOOKUP('BASE DE RESPUESTAS'!AO41,Back!$M$16:$N$20,2,0)","v":"#N/A"},{"$f":"+VLOOKUP('BASE DE RESPUESTAS'!AP41,Back!$M$16:$N$20,2,0)","v":"#N/A"},{"$f":"+VLOOKUP('BASE DE RESPUESTAS'!AQ41,Back!$M$16:$N$20,2,0)","v":"#N/A"},{"$f":"+VLOOKUP('BASE DE RESPUESTAS'!AR41,Back!$M$16:$N$20,2,0)","v":"#N/A"},{"$f":"+VLOOKUP('BASE DE RESPUESTAS'!AS41,Back!$M$16:$N$20,2,0)","v":"#N/A"},{"$f":"+VLOOKUP('BASE DE RESPUESTAS'!AT41,Back!$M$16:$N$20,2,0)","v":"#N/A"},{"$f":"+VLOOKUP('BASE DE RESPUESTAS'!AU41,Back!$M$16:$N$20,2,0)","v":"#N/A"},{"$f":"+VLOOKUP('BASE DE RESPUESTAS'!AV41,Back!$M$16:$N$20,2,0)","v":"#N/A"},{"$f":"+VLOOKUP('BASE DE RESPUESTAS'!AW41,Back!$M$16:$N$20,2,0)","v":"#N/A"},{"$f":"+VLOOKUP('BASE DE RESPUESTAS'!AX41,Back!$M$16:$N$20,2,0)","v":"#N/A"},{"$f":"+VLOOKUP('BASE DE RESPUESTAS'!AY41,Back!$M$16:$N$20,2,0)","v":"#N/A"},{"$f":"+VLOOKUP('BASE DE RESPUESTAS'!AZ41,Back!$M$16:$N$20,2,0)","v":"#N/A"},{"$f":"+VLOOKUP('BASE DE RESPUESTAS'!BA41,Back!$M$16:$N$20,2,0)","v":"#N/A"},{"$f":"+VLOOKUP('BASE DE RESPUESTAS'!BB41,Back!$M$16:$N$20,2,0)","v":"#N/A"},{"$f":"+VLOOKUP('BASE DE RESPUESTAS'!BC41,Back!$M$16:$N$20,2,0)","v":"#N/A"},{"$f":"+VLOOKUP('BASE DE RESPUESTAS'!BD41,Back!$M$16:$N$20,2,0)","v":"#N/A"},{"$f":"+VLOOKUP('BASE DE RESPUESTAS'!BE41,Back!$M$16:$N$20,2,0)","v":"#N/A"}]
[null,"HSE","Conciencia social","La o el estudiante reconoce que las personas somos diversas y que todas merecen buen trato.",33.0,"Reconoce situaciones que afecten el bienestar propio o el de sus compañeros y es capaz de pedir ayuda a un adulto.",null,{"$f":"+VLOOKUP('BASE DE RESPUESTAS'!H42,Back!$M$16:$N$20,2,0)","v":"#N/A"},{"$f":"+VLOOKUP('BASE DE RESPUESTAS'!I42,Back!$M$16:$N$20,2,0)","v":"#N/A"},{"$f":"+VLOOKUP('BASE DE RESPUESTAS'!J42,Back!$M$16:$N$20,2,0)","v":"#N/A"},{"$f":"+VLOOKUP('BASE DE RESPUESTAS'!K42,Back!$M$16:$N$20,2,0)","v":"#N/A"},{"$f":"+VLOOKUP('BASE DE RESPUESTAS'!L42,Back!$M$16:$N$20,2,0)","v":"#N/A"},{"$f":"+VLOOKUP('BASE DE RESPUESTAS'!M42,Back!$M$16:$N$20,2,0)","v":"#N/A"},{"$f":"+VLOOKUP('BASE DE RESPUESTAS'!N42,Back!$M$16:$N$20,2,0)","v":"#N/A"},{"$f":"+VLOOKUP('BASE DE RESPUESTAS'!O42,Back!$M$16:$N$20,2,0)","v":"#N/A"},{"$f":"+VLOOKUP('BASE DE RESPUESTAS'!P42,Back!$M$16:$N$20,2,0)","v":"#N/A"},{"$f":"+VLOOKUP('BASE DE RESPUESTAS'!Q42,Back!$M$16:$N$20,2,0)","v":"#N/A"},{"$f":"+VLOOKUP('BASE DE RESPUESTAS'!R42,Back!$M$16:$N$20,2,0)","v":"#N/A"},{"$f":"+VLOOKUP('BASE DE RESPUESTAS'!S42,Back!$M$16:$N$20,2,0)","v":"#N/A"},{"$f":"+VLOOKUP('BASE DE RESPUESTAS'!T42,Back!$M$16:$N$20,2,0)","v":"#N/A"},{"$f":"+VLOOKUP('BASE DE RESPUESTAS'!U42,Back!$M$16:$N$20,2,0)","v":"#N/A"},{"$f":"+VLOOKUP('BASE DE RESPUESTAS'!V42,Back!$M$16:$N$20,2,0)","v":"#N/A"},{"$f":"+VLOOKUP('BASE DE RESPUESTAS'!W42,Back!$M$16:$N$20,2,0)","v":"#N/A"},{"$f":"+VLOOKUP('BASE DE RESPUESTAS'!X42,Back!$M$16:$N$20,2,0)","v":"#N/A"},{"$f":"+VLOOKUP('BASE DE RESPUESTAS'!Y42,Back!$M$16:$N$20,2,0)","v":"#N/A"},{"$f":"+VLOOKUP('BASE DE RESPUESTAS'!Z42,Back!$M$16:$N$20,2,0)","v":"#N/A"},{"$f":"+VLOOKUP('BASE DE RESPUESTAS'!AA42,Back!$M$16:$N$20,2,0)","v":"#N/A"},{"$f":"+VLOOKUP('BASE DE RESPUESTAS'!AB42,Back!$M$16:$N$20,2,0)","v":"#N/A"},{"$f":"+VLOOKUP('BASE DE RESPUESTAS'!AC42,Back!$M$16:$N$20,2,0)","v":"#N/A"},{"$f":"+VLOOKUP('BASE DE RESPUESTAS'!AD42,Back!$M$16:$N$20,2,0)","v":"#N/A"},{"$f":"+VLOOKUP('BASE DE RESPUESTAS'!AE42,Back!$M$16:$N$20,2,0)","v":"#N/A"},{"$f":"+VLOOKUP('BASE DE RESPUESTAS'!AF42,Back!$M$16:$N$20,2,0)","v":"#N/A"},{"$f":"+VLOOKUP('BASE DE RESPUESTAS'!AG42,Back!$M$16:$N$20,2,0)","v":"#N/A"},{"$f":"+VLOOKUP('BASE DE RESPUESTAS'!AH42,Back!$M$16:$N$20,2,0)","v":"#N/A"},{"$f":"+VLOOKUP('BASE DE RESPUESTAS'!AI42,Back!$M$16:$N$20,2,0)","v":"#N/A"},{"$f":"+VLOOKUP('BASE DE RESPUESTAS'!AJ42,Back!$M$16:$N$20,2,0)","v":"#N/A"},{"$f":"+VLOOKUP('BASE DE RESPUESTAS'!AK42,Back!$M$16:$N$20,2,0)","v":"#N/A"},{"$f":"+VLOOKUP('BASE DE RESPUESTAS'!AL42,Back!$M$16:$N$20,2,0)","v":"#N/A"},{"$f":"+VLOOKUP('BASE DE RESPUESTAS'!AM42,Back!$M$16:$N$20,2,0)","v":"#N/A"},{"$f":"+VLOOKUP('BASE DE RESPUESTAS'!AN42,Back!$M$16:$N$20,2,0)","v":"#N/A"},{"$f":"+VLOOKUP('BASE DE RESPUESTAS'!AO42,Back!$M$16:$N$20,2,0)","v":"#N/A"},{"$f":"+VLOOKUP('BASE DE RESPUESTAS'!AP42,Back!$M$16:$N$20,2,0)","v":"#N/A"},{"$f":"+VLOOKUP('BASE DE RESPUESTAS'!AQ42,Back!$M$16:$N$20,2,0)","v":"#N/A"},{"$f":"+VLOOKUP('BASE DE RESPUESTAS'!AR42,Back!$M$16:$N$20,2,0)","v":"#N/A"},{"$f":"+VLOOKUP('BASE DE RESPUESTAS'!AS42,Back!$M$16:$N$20,2,0)","v":"#N/A"},{"$f":"+VLOOKUP('BASE DE RESPUESTAS'!AT42,Back!$M$16:$N$20,2,0)","v":"#N/A"},{"$f":"+VLOOKUP('BASE DE RESPUESTAS'!AU42,Back!$M$16:$N$20,2,0)","v":"#N/A"},{"$f":"+VLOOKUP('BASE DE RESPUESTAS'!AV42,Back!$M$16:$N$20,2,0)","v":"#N/A"},{"$f":"+VLOOKUP('BASE DE RESPUESTAS'!AW42,Back!$M$16:$N$20,2,0)","v":"#N/A"},{"$f":"+VLOOKUP('BASE DE RESPUESTAS'!AX42,Back!$M$16:$N$20,2,0)","v":"#N/A"},{"$f":"+VLOOKUP('BASE DE RESPUESTAS'!AY42,Back!$M$16:$N$20,2,0)","v":"#N/A"},{"$f":"+VLOOKUP('BASE DE RESPUESTAS'!AZ42,Back!$M$16:$N$20,2,0)","v":"#N/A"},{"$f":"+VLOOKUP('BASE DE RESPUESTAS'!BA42,Back!$M$16:$N$20,2,0)","v":"#N/A"},{"$f":"+VLOOKUP('BASE DE RESPUESTAS'!BB42,Back!$M$16:$N$20,2,0)","v":"#N/A"},{"$f":"+VLOOKUP('BASE DE RESPUESTAS'!BC42,Back!$M$16:$N$20,2,0)","v":"#N/A"},{"$f":"+VLOOKUP('BASE DE RESPUESTAS'!BD42,Back!$M$16:$N$20,2,0)","v":"#N/A"},{"$f":"+VLOOKUP('BASE DE RESPUESTAS'!BE42,Back!$M$16:$N$20,2,0)","v":"#N/A"}]
[null,null,null,null,34.0,"Se dirige a los demás por su nombre y no por apodos.",null,{"$f":"+VLOOKUP('BASE DE RESPUESTAS'!H43,Back!$M$16:$N$20,2,0)","v":"#N/A"},{"$f":"+VLOOKUP('BASE DE RESPUESTAS'!I43,Back!$M$16:$N$20,2,0)","v":"#N/A"},{"$f":"+VLOOKUP('BASE DE RESPUESTAS'!J43,Back!$M$16:$N$20,2,0)","v":"#N/A"},{"$f":"+VLOOKUP('BASE DE RESPUESTAS'!K43,Back!$M$16:$N$20,2,0)","v":"#N/A"},{"$f":"+VLOOKUP('BASE DE RESPUESTAS'!L43,Back!$M$16:$N$20,2,0)","v":"#N/A"},{"$f":"+VLOOKUP('BASE DE RESPUESTAS'!M43,Back!$M$16:$N$20,2,0)","v":"#N/A"},{"$f":"+VLOOKUP('BASE DE RESPUESTAS'!N43,Back!$M$16:$N$20,2,0)","v":"#N/A"},{"$f":"+VLOOKUP('BASE DE RESPUESTAS'!O43,Back!$M$16:$N$20,2,0)","v":"#N/A"},{"$f":"+VLOOKUP('BASE DE RESPUESTAS'!P43,Back!$M$16:$N$20,2,0)","v":"#N/A"},{"$f":"+VLOOKUP('BASE DE RESPUESTAS'!Q43,Back!$M$16:$N$20,2,0)","v":"#N/A"},{"$f":"+VLOOKUP('BASE DE RESPUESTAS'!R43,Back!$M$16:$N$20,2,0)","v":"#N/A"},{"$f":"+VLOOKUP('BASE DE RESPUESTAS'!S43,Back!$M$16:$N$20,2,0)","v":"#N/A"},{"$f":"+VLOOKUP('BASE DE RESPUESTAS'!T43,Back!$M$16:$N$20,2,0)","v":"#N/A"},{"$f":"+VLOOKUP('BASE DE RESPUESTAS'!U43,Back!$M$16:$N$20,2,0)","v":"#N/A"},{"$f":"+VLOOKUP('BASE DE RESPUESTAS'!V43,Back!$M$16:$N$20,2,0)","v":"#N/A"},{"$f":"+VLOOKUP('BASE DE RESPUESTAS'!W43,Back!$M$16:$N$20,2,0)","v":"#N/A"},{"$f":"+VLOOKUP('BASE DE RESPUESTAS'!X43,Back!$M$16:$N$20,2,0)","v":"#N/A"},{"$f":"+VLOOKUP('BASE DE RESPUESTAS'!Y43,Back!$M$16:$N$20,2,0)","v":"#N/A"},{"$f":"+VLOOKUP('BASE DE RESPUESTAS'!Z43,Back!$M$16:$N$20,2,0)","v":"#N/A"},{"$f":"+VLOOKUP('BASE DE RESPUESTAS'!AA43,Back!$M$16:$N$20,2,0)","v":"#N/A"},{"$f":"+VLOOKUP('BASE DE RESPUESTAS'!AB43,Back!$M$16:$N$20,2,0)","v":"#N/A"},{"$f":"+VLOOKUP('BASE DE RESPUESTAS'!AC43,Back!$M$16:$N$20,2,0)","v":"#N/A"},{"$f":"+VLOOKUP('BASE DE RESPUESTAS'!AD43,Back!$M$16:$N$20,2,0)","v":"#N/A"},{"$f":"+VLOOKUP('BASE DE RESPUESTAS'!AE43,Back!$M$16:$N$20,2,0)","v":"#N/A"},{"$f":"+VLOOKUP('BASE DE RESPUESTAS'!AF43,Back!$M$16:$N$20,2,0)","v":"#N/A"},{"$f":"+VLOOKUP('BASE DE RESPUESTAS'!AG43,Back!$M$16:$N$20,2,0)","v":"#N/A"},{"$f":"+VLOOKUP('BASE DE RESPUESTAS'!AH43,Back!$M$16:$N$20,2,0)","v":"#N/A"},{"$f":"+VLOOKUP('BASE DE RESPUESTAS'!AI43,Back!$M$16:$N$20,2,0)","v":"#N/A"},{"$f":"+VLOOKUP('BASE DE RESPUESTAS'!AJ43,Back!$M$16:$N$20,2,0)","v":"#N/A"},{"$f":"+VLOOKUP('BASE DE RESPUESTAS'!AK43,Back!$M$16:$N$20,2,0)","v":"#N/A"},{"$f":"+VLOOKUP('BASE DE RESPUESTAS'!AL43,Back!$M$16:$N$20,2,0)","v":"#N/A"},{"$f":"+VLOOKUP('BASE DE RESPUESTAS'!AM43,Back!$M$16:$N$20,2,0)","v":"#N/A"},{"$f":"+VLOOKUP('BASE DE RESPUESTAS'!AN43,Back!$M$16:$N$20,2,0)","v":"#N/A"},{"$f":"+VLOOKUP('BASE DE RESPUESTAS'!AO43,Back!$M$16:$N$20,2,0)","v":"#N/A"},{"$f":"+VLOOKUP('BASE DE RESPUESTAS'!AP43,Back!$M$16:$N$20,2,0)","v":"#N/A"},{"$f":"+VLOOKUP('BASE DE RESPUESTAS'!AQ43,Back!$M$16:$N$20,2,0)","v":"#N/A"},{"$f":"+VLOOKUP('BASE DE RESPUESTAS'!AR43,Back!$M$16:$N$20,2,0)","v":"#N/A"},{"$f":"+VLOOKUP('BASE DE RESPUESTAS'!AS43,Back!$M$16:$N$20,2,0)","v":"#N/A"},{"$f":"+VLOOKUP('BASE DE RESPUESTAS'!AT43,Back!$M$16:$N$20,2,0)","v":"#N/A"},{"$f":"+VLOOKUP('BASE DE RESPUESTAS'!AU43,Back!$M$16:$N$20,2,0)","v":"#N/A"},{"$f":"+VLOOKUP('BASE DE RESPUESTAS'!AV43,Back!$M$16:$N$20,2,0)","v":"#N/A"},{"$f":"+VLOOKUP('BASE DE RESPUESTAS'!AW43,Back!$M$16:$N$20,2,0)","v":"#N/A"},{"$f":"+VLOOKUP('BASE DE RESPUESTAS'!AX43,Back!$M$16:$N$20,2,0)","v":"#N/A"},{"$f":"+VLOOKUP('BASE DE RESPUESTAS'!AY43,Back!$M$16:$N$20,2,0)","v":"#N/A"},{"$f":"+VLOOKUP('BASE DE RESPUESTAS'!AZ43,Back!$M$16:$N$20,2,0)","v":"#N/A"},{"$f":"+VLOOKUP('BASE DE RESPUESTAS'!BA43,Back!$M$16:$N$20,2,0)","v":"#N/A"},{"$f":"+VLOOKUP('BASE DE RESPUESTAS'!BB43,Back!$M$16:$N$20,2,0)","v":"#N/A"},{"$f":"+VLOOKUP('BASE DE RESPUESTAS'!BC43,Back!$M$16:$N$20,2,0)","v":"#N/A"},{"$f":"+VLOOKUP('BASE DE RESPUESTAS'!BD43,Back!$M$16:$N$20,2,0)","v":"#N/A"},{"$f":"+VLOOKUP('BASE DE RESPUESTAS'!BE43,Back!$M$16:$N$20,2,0)","v":"#N/A"}]
[null,null,null,"La o el estudiante establece relaciones igualitarias con sus compañeros.\n",35.0,"Participa y deja participar a otros sin distinción para jugar o hacer las mismas actividades, dependiendo de sus gustos y preferencias.",null,{"$f":"+VLOOKUP('BASE DE RESPUESTAS'!H44,Back!$M$16:$N$20,2,0)","v":"#N/A"},{"$f":"+VLOOKUP('BASE DE RESPUESTAS'!I44,Back!$M$16:$N$20,2,0)","v":"#N/A"},{"$f":"+VLOOKUP('BASE DE RESPUESTAS'!J44,Back!$M$16:$N$20,2,0)","v":"#N/A"},{"$f":"+VLOOKUP('BASE DE RESPUESTAS'!K44,Back!$M$16:$N$20,2,0)","v":"#N/A"},{"$f":"+VLOOKUP('BASE DE RESPUESTAS'!L44,Back!$M$16:$N$20,2,0)","v":"#N/A"},{"$f":"+VLOOKUP('BASE DE RESPUESTAS'!M44,Back!$M$16:$N$20,2,0)","v":"#N/A"},{"$f":"+VLOOKUP('BASE DE RESPUESTAS'!N44,Back!$M$16:$N$20,2,0)","v":"#N/A"},{"$f":"+VLOOKUP('BASE DE RESPUESTAS'!O44,Back!$M$16:$N$20,2,0)","v":"#N/A"},{"$f":"+VLOOKUP('BASE DE RESPUESTAS'!P44,Back!$M$16:$N$20,2,0)","v":"#N/A"},{"$f":"+VLOOKUP('BASE DE RESPUESTAS'!Q44,Back!$M$16:$N$20,2,0)","v":"#N/A"},{"$f":"+VLOOKUP('BASE DE RESPUESTAS'!R44,Back!$M$16:$N$20,2,0)","v":"#N/A"},{"$f":"+VLOOKUP('BASE DE RESPUESTAS'!S44,Back!$M$16:$N$20,2,0)","v":"#N/A"},{"$f":"+VLOOKUP('BASE DE RESPUESTAS'!T44,Back!$M$16:$N$20,2,0)","v":"#N/A"},{"$f":"+VLOOKUP('BASE DE RESPUESTAS'!U44,Back!$M$16:$N$20,2,0)","v":"#N/A"},{"$f":"+VLOOKUP('BASE DE RESPUESTAS'!V44,Back!$M$16:$N$20,2,0)","v":"#N/A"},{"$f":"+VLOOKUP('BASE DE RESPUESTAS'!W44,Back!$M$16:$N$20,2,0)","v":"#N/A"},{"$f":"+VLOOKUP('BASE DE RESPUESTAS'!X44,Back!$M$16:$N$20,2,0)","v":"#N/A"},{"$f":"+VLOOKUP('BASE DE RESPUESTAS'!Y44,Back!$M$16:$N$20,2,0)","v":"#N/A"},{"$f":"+VLOOKUP('BASE DE RESPUESTAS'!Z44,Back!$M$16:$N$20,2,0)","v":"#N/A"},{"$f":"+VLOOKUP('BASE DE RESPUESTAS'!AA44,Back!$M$16:$N$20,2,0)","v":"#N/A"},{"$f":"+VLOOKUP('BASE DE RESPUESTAS'!AB44,Back!$M$16:$N$20,2,0)","v":"#N/A"},{"$f":"+VLOOKUP('BASE DE RESPUESTAS'!AC44,Back!$M$16:$N$20,2,0)","v":"#N/A"},{"$f":"+VLOOKUP('BASE DE RESPUESTAS'!AD44,Back!$M$16:$N$20,2,0)","v":"#N/A"},{"$f":"+VLOOKUP('BASE DE RESPUESTAS'!AE44,Back!$M$16:$N$20,2,0)","v":"#N/A"},{"$f":"+VLOOKUP('BASE DE RESPUESTAS'!AF44,Back!$M$16:$N$20,2,0)","v":"#N/A"},{"$f":"+VLOOKUP('BASE DE RESPUESTAS'!AG44,Back!$M$16:$N$20,2,0)","v":"#N/A"},{"$f":"+VLOOKUP('BASE DE RESPUESTAS'!AH44,Back!$M$16:$N$20,2,0)","v":"#N/A"},{"$f":"+VLOOKUP('BASE DE RESPUESTAS'!AI44,Back!$M$16:$N$20,2,0)","v":"#N/A"},{"$f":"+VLOOKUP('BASE DE RESPUESTAS'!AJ44,Back!$M$16:$N$20,2,0)","v":"#N/A"},{"$f":"+VLOOKUP('BASE DE RESPUESTAS'!AK44,Back!$M$16:$N$20,2,0)","v":"#N/A"},{"$f":"+VLOOKUP('BASE DE RESPUESTAS'!AL44,Back!$M$16:$N$20,2,0)","v":"#N/A"},{"$f":"+VLOOKUP('BASE DE RESPUESTAS'!AM44,Back!$M$16:$N$20,2,0)","v":"#N/A"},{"$f":"+VLOOKUP('BASE DE RESPUESTAS'!AN44,Back!$M$16:$N$20,2,0)","v":"#N/A"},{"$f":"+VLOOKUP('BASE DE RESPUESTAS'!AO44,Back!$M$16:$N$20,2,0)","v":"#N/A"},{"$f":"+VLOOKUP('BASE DE RESPUESTAS'!AP44,Back!$M$16:$N$20,2,0)","v":"#N/A"},{"$f":"+VLOOKUP('BASE DE RESPUESTAS'!AQ44,Back!$M$16:$N$20,2,0)","v":"#N/A"},{"$f":"+VLOOKUP('BASE DE RESPUESTAS'!AR44,Back!$M$16:$N$20,2,0)","v":"#N/A"},{"$f":"+VLOOKUP('BASE DE RESPUESTAS'!AS44,Back!$M$16:$N$20,2,0)","v":"#N/A"},{"$f":"+VLOOKUP('BASE DE RESPUESTAS'!AT44,Back!$M$16:$N$20,2,0)","v":"#N/A"},{"$f":"+VLOOKUP('BASE DE RESPUESTAS'!AU44,Back!$M$16:$N$20,2,0)","v":"#N/A"},{"$f":"+VLOOKUP('BASE DE RESPUESTAS'!AV44,Back!$M$16:$N$20,2,0)","v":"#N/A"},{"$f":"+VLOOKUP('BASE DE RESPUESTAS'!AW44,Back!$M$16:$N$20,2,0)","v":"#N/A"},{"$f":"+VLOOKUP('BASE DE RESPUESTAS'!AX44,Back!$M$16:$N$20,2,0)","v":"#N/A"},{"$f":"+VLOOKUP('BASE DE RESPUESTAS'!AY44,Back!$M$16:$N$20,2,0)","v":"#N/A"},{"$f":"+VLOOKUP('BASE DE RESPUESTAS'!AZ44,Back!$M$16:$N$20,2,0)","v":"#N/A"},{"$f":"+VLOOKUP('BASE DE RESPUESTAS'!BA44,Back!$M$16:$N$20,2,0)","v":"#N/A"},{"$f":"+VLOOKUP('BASE DE RESPUESTAS'!BB44,Back!$M$16:$N$20,2,0)","v":"#N/A"},{"$f":"+VLOOKUP('BASE DE RESPUESTAS'!BC44,Back!$M$16:$N$20,2,0)","v":"#N/A"},{"$f":"+VLOOKUP('BASE DE RESPUESTAS'!BD44,Back!$M$16:$N$20,2,0)","v":"#N/A"},{"$f":"+VLOOKUP('BASE DE RESPUESTAS'!BE44,Back!$M$16:$N$20,2,0)","v":"#N/A"}]
[null,"HSE","Comportamiento prosocial","La o el estudiante realiza acciones de bien común en el aula, por motivación propia.",36.0,"Ayuda a mantener limpio y ordenado los espacios y materiales que comparte con sus compañeros.",null,{"$f":"+VLOOKUP('BASE DE RESPUESTAS'!H45,Back!$M$16:$N$20,2,0)","v":"#N/A"},{"$f":"+VLOOKUP('BASE DE RESPUESTAS'!I45,Back!$M$16:$N$20,2,0)","v":"#N/A"},{"$f":"+VLOOKUP('BASE DE RESPUESTAS'!J45,Back!$M$16:$N$20,2,0)","v":"#N/A"},{"$f":"+VLOOKUP('BASE DE RESPUESTAS'!K45,Back!$M$16:$N$20,2,0)","v":"#N/A"},{"$f":"+VLOOKUP('BASE DE RESPUESTAS'!L45,Back!$M$16:$N$20,2,0)","v":"#N/A"},{"$f":"+VLOOKUP('BASE DE RESPUESTAS'!M45,Back!$M$16:$N$20,2,0)","v":"#N/A"},{"$f":"+VLOOKUP('BASE DE RESPUESTAS'!N45,Back!$M$16:$N$20,2,0)","v":"#N/A"},{"$f":"+VLOOKUP('BASE DE RESPUESTAS'!O45,Back!$M$16:$N$20,2,0)","v":"#N/A"},{"$f":"+VLOOKUP('BASE DE RESPUESTAS'!P45,Back!$M$16:$N$20,2,0)","v":"#N/A"},{"$f":"+VLOOKUP('BASE DE RESPUESTAS'!Q45,Back!$M$16:$N$20,2,0)","v":"#N/A"},{"$f":"+VLOOKUP('BASE DE RESPUESTAS'!R45,Back!$M$16:$N$20,2,0)","v":"#N/A"},{"$f":"+VLOOKUP('BASE DE RESPUESTAS'!S45,Back!$M$16:$N$20,2,0)","v":"#N/A"},{"$f":"+VLOOKUP('BASE DE RESPUESTAS'!T45,Back!$M$16:$N$20,2,0)","v":"#N/A"},{"$f":"+VLOOKUP('BASE DE RESPUESTAS'!U45,Back!$M$16:$N$20,2,0)","v":"#N/A"},{"$f":"+VLOOKUP('BASE DE RESPUESTAS'!V45,Back!$M$16:$N$20,2,0)","v":"#N/A"},{"$f":"+VLOOKUP('BASE DE RESPUESTAS'!W45,Back!$M$16:$N$20,2,0)","v":"#N/A"},{"$f":"+VLOOKUP('BASE DE RESPUESTAS'!X45,Back!$M$16:$N$20,2,0)","v":"#N/A"},{"$f":"+VLOOKUP('BASE DE RESPUESTAS'!Y45,Back!$M$16:$N$20,2,0)","v":"#N/A"},{"$f":"+VLOOKUP('BASE DE RESPUESTAS'!Z45,Back!$M$16:$N$20,2,0)","v":"#N/A"},{"$f":"+VLOOKUP('BASE DE RESPUESTAS'!AA45,Back!$M$16:$N$20,2,0)","v":"#N/A"},{"$f":"+VLOOKUP('BASE DE RESPUESTAS'!AB45,Back!$M$16:$N$20,2,0)","v":"#N/A"},{"$f":"+VLOOKUP('BASE DE RESPUESTAS'!AC45,Back!$M$16:$N$20,2,0)","v":"#N/A"},{"$f":"+VLOOKUP('BASE DE RESPUESTAS'!AD45,Back!$M$16:$N$20,2,0)","v":"#N/A"},{"$f":"+VLOOKUP('BASE DE RESPUESTAS'!AE45,Back!$M$16:$N$20,2,0)","v":"#N/A"},{"$f":"+VLOOKUP('BASE DE RESPUESTAS'!AF45,Back!$M$16:$N$20,2,0)","v":"#N/A"},{"$f":"+VLOOKUP('BASE DE RESPUESTAS'!AG45,Back!$M$16:$N$20,2,0)","v":"#N/A"},{"$f":"+VLOOKUP('BASE DE RESPUESTAS'!AH45,Back!$M$16:$N$20,2,0)","v":"#N/A"},{"$f":"+VLOOKUP('BASE DE RESPUESTAS'!AI45,Back!$M$16:$N$20,2,0)","v":"#N/A"},{"$f":"+VLOOKUP('BASE DE RESPUESTAS'!AJ45,Back!$M$16:$N$20,2,0)","v":"#N/A"},{"$f":"+VLOOKUP('BASE DE RESPUESTAS'!AK45,Back!$M$16:$N$20,2,0)","v":"#N/A"},{"$f":"+VLOOKUP('BASE DE RESPUESTAS'!AL45,Back!$M$16:$N$20,2,0)","v":"#N/A"},{"$f":"+VLOOKUP('BASE DE RESPUESTAS'!AM45,Back!$M$16:$N$20,2,0)","v":"#N/A"},{"$f":"+VLOOKUP('BASE DE RESPUESTAS'!AN45,Back!$M$16:$N$20,2,0)","v":"#N/A"},{"$f":"+VLOOKUP('BASE DE RESPUESTAS'!AO45,Back!$M$16:$N$20,2,0)","v":"#N/A"},{"$f":"+VLOOKUP('BASE DE RESPUESTAS'!AP45,Back!$M$16:$N$20,2,0)","v":"#N/A"},{"$f":"+VLOOKUP('BASE DE RESPUESTAS'!AQ45,Back!$M$16:$N$20,2,0)","v":"#N/A"},{"$f":"+VLOOKUP('BASE DE RESPUESTAS'!AR45,Back!$M$16:$N$20,2,0)","v":"#N/A"},{"$f":"+VLOOKUP('BASE DE RESPUESTAS'!AS45,Back!$M$16:$N$20,2,0)","v":"#N/A"},{"$f":"+VLOOKUP('BASE DE RESPUESTAS'!AT45,Back!$M$16:$N$20,2,0)","v":"#N/A"},{"$f":"+VLOOKUP('BASE DE RESPUESTAS'!AU45,Back!$M$16:$N$20,2,0)","v":"#N/A"},{"$f":"+VLOOKUP('BASE DE RESPUESTAS'!AV45,Back!$M$16:$N$20,2,0)","v":"#N/A"},{"$f":"+VLOOKUP('BASE DE RESPUESTAS'!AW45,Back!$M$16:$N$20,2,0)","v":"#N/A"},{"$f":"+VLOOKUP('BASE DE RESPUESTAS'!AX45,Back!$M$16:$N$20,2,0)","v":"#N/A"},{"$f":"+VLOOKUP('BASE DE RESPUESTAS'!AY45,Back!$M$16:$N$20,2,0)","v":"#N/A"},{"$f":"+VLOOKUP('BASE DE RESPUESTAS'!AZ45,Back!$M$16:$N$20,2,0)","v":"#N/A"},{"$f":"+VLOOKUP('BASE DE RESPUESTAS'!BA45,Back!$M$16:$N$20,2,0)","v":"#N/A"},{"$f":"+VLOOKUP('BASE DE RESPUESTAS'!BB45,Back!$M$16:$N$20,2,0)","v":"#N/A"},{"$f":"+VLOOKUP('BASE DE RESPUESTAS'!BC45,Back!$M$16:$N$20,2,0)","v":"#N/A"},{"$f":"+VLOOKUP('BASE DE RESPUESTAS'!BD45,Back!$M$16:$N$20,2,0)","v":"#N/A"},{"$f":"+VLOOKUP('BASE DE RESPUESTAS'!BE45,Back!$M$16:$N$20,2,0)","v":"#N/A"}]
[null,null,null,null,37.0,"Mantiene hábitos de autocuidado (aseo personal, alimentación, etc.) para su propio bienestar y el de los demás.",null,{"$f":"+VLOOKUP('BASE DE RESPUESTAS'!H46,Back!$M$16:$N$20,2,0)","v":"#N/A"},{"$f":"+VLOOKUP('BASE DE RESPUESTAS'!I46,Back!$M$16:$N$20,2,0)","v":"#N/A"},{"$f":"+VLOOKUP('BASE DE RESPUESTAS'!J46,Back!$M$16:$N$20,2,0)","v":"#N/A"},{"$f":"+VLOOKUP('BASE DE RESPUESTAS'!K46,Back!$M$16:$N$20,2,0)","v":"#N/A"},{"$f":"+VLOOKUP('BASE DE RESPUESTAS'!L46,Back!$M$16:$N$20,2,0)","v":"#N/A"},{"$f":"+VLOOKUP('BASE DE RESPUESTAS'!M46,Back!$M$16:$N$20,2,0)","v":"#N/A"},{"$f":"+VLOOKUP('BASE DE RESPUESTAS'!N46,Back!$M$16:$N$20,2,0)","v":"#N/A"},{"$f":"+VLOOKUP('BASE DE RESPUESTAS'!O46,Back!$M$16:$N$20,2,0)","v":"#N/A"},{"$f":"+VLOOKUP('BASE DE RESPUESTAS'!P46,Back!$M$16:$N$20,2,0)","v":"#N/A"},{"$f":"+VLOOKUP('BASE DE RESPUESTAS'!Q46,Back!$M$16:$N$20,2,0)","v":"#N/A"},{"$f":"+VLOOKUP('BASE DE RESPUESTAS'!R46,Back!$M$16:$N$20,2,0)","v":"#N/A"},{"$f":"+VLOOKUP('BASE DE RESPUESTAS'!S46,Back!$M$16:$N$20,2,0)","v":"#N/A"},{"$f":"+VLOOKUP('BASE DE RESPUESTAS'!T46,Back!$M$16:$N$20,2,0)","v":"#N/A"},{"$f":"+VLOOKUP('BASE DE RESPUESTAS'!U46,Back!$M$16:$N$20,2,0)","v":"#N/A"},{"$f":"+VLOOKUP('BASE DE RESPUESTAS'!V46,Back!$M$16:$N$20,2,0)","v":"#N/A"},{"$f":"+VLOOKUP('BASE DE RESPUESTAS'!W46,Back!$M$16:$N$20,2,0)","v":"#N/A"},{"$f":"+VLOOKUP('BASE DE RESPUESTAS'!X46,Back!$M$16:$N$20,2,0)","v":"#N/A"},{"$f":"+VLOOKUP('BASE DE RESPUESTAS'!Y46,Back!$M$16:$N$20,2,0)","v":"#N/A"},{"$f":"+VLOOKUP('BASE DE RESPUESTAS'!Z46,Back!$M$16:$N$20,2,0)","v":"#N/A"},{"$f":"+VLOOKUP('BASE DE RESPUESTAS'!AA46,Back!$M$16:$N$20,2,0)","v":"#N/A"},{"$f":"+VLOOKUP('BASE DE RESPUESTAS'!AB46,Back!$M$16:$N$20,2,0)","v":"#N/A"},{"$f":"+VLOOKUP('BASE DE RESPUESTAS'!AC46,Back!$M$16:$N$20,2,0)","v":"#N/A"},{"$f":"+VLOOKUP('BASE DE RESPUESTAS'!AD46,Back!$M$16:$N$20,2,0)","v":"#N/A"},{"$f":"+VLOOKUP('BASE DE RESPUESTAS'!AE46,Back!$M$16:$N$20,2,0)","v":"#N/A"},{"$f":"+VLOOKUP('BASE DE RESPUESTAS'!AF46,Back!$M$16:$N$20,2,0)","v":"#N/A"},{"$f":"+VLOOKUP('BASE DE RESPUESTAS'!AG46,Back!$M$16:$N$20,2,0)","v":"#N/A"},{"$f":"+VLOOKUP('BASE DE RESPUESTAS'!AH46,Back!$M$16:$N$20,2,0)","v":"#N/A"},{"$f":"+VLOOKUP('BASE DE RESPUESTAS'!AI46,Back!$M$16:$N$20,2,0)","v":"#N/A"},{"$f":"+VLOOKUP('BASE DE RESPUESTAS'!AJ46,Back!$M$16:$N$20,2,0)","v":"#N/A"},{"$f":"+VLOOKUP('BASE DE RESPUESTAS'!AK46,Back!$M$16:$N$20,2,0)","v":"#N/A"},{"$f":"+VLOOKUP('BASE DE RESPUESTAS'!AL46,Back!$M$16:$N$20,2,0)","v":"#N/A"},{"$f":"+VLOOKUP('BASE DE RESPUESTAS'!AM46,Back!$M$16:$N$20,2,0)","v":"#N/A"},{"$f":"+VLOOKUP('BASE DE RESPUESTAS'!AN46,Back!$M$16:$N$20,2,0)","v":"#N/A"},{"$f":"+VLOOKUP('BASE DE RESPUESTAS'!AO46,Back!$M$16:$N$20,2,0)","v":"#N/A"},{"$f":"+VLOOKUP('BASE DE RESPUESTAS'!AP46,Back!$M$16:$N$20,2,0)","v":"#N/A"},{"$f":"+VLOOKUP('BASE DE RESPUESTAS'!AQ46,Back!$M$16:$N$20,2,0)","v":"#N/A"},{"$f":"+VLOOKUP('BASE DE RESPUESTAS'!AR46,Back!$M$16:$N$20,2,0)","v":"#N/A"},{"$f":"+VLOOKUP('BASE DE RESPUESTAS'!AS46,Back!$M$16:$N$20,2,0)","v":"#N/A"},{"$f":"+VLOOKUP('BASE DE RESPUESTAS'!AT46,Back!$M$16:$N$20,2,0)","v":"#N/A"},{"$f":"+VLOOKUP('BASE DE RESPUESTAS'!AU46,Back!$M$16:$N$20,2,0)","v":"#N/A"},{"$f":"+VLOOKUP('BASE DE RESPUESTAS'!AV46,Back!$M$16:$N$20,2,0)","v":"#N/A"},{"$f":"+VLOOKUP('BASE DE RESPUESTAS'!AW46,Back!$M$16:$N$20,2,0)","v":"#N/A"},{"$f":"+VLOOKUP('BASE DE RESPUESTAS'!AX46,Back!$M$16:$N$20,2,0)","v":"#N/A"},{"$f":"+VLOOKUP('BASE DE RESPUESTAS'!AY46,Back!$M$16:$N$20,2,0)","v":"#N/A"},{"$f":"+VLOOKUP('BASE DE RESPUESTAS'!AZ46,Back!$M$16:$N$20,2,0)","v":"#N/A"},{"$f":"+VLOOKUP('BASE DE RESPUESTAS'!BA46,Back!$M$16:$N$20,2,0)","v":"#N/A"},{"$f":"+VLOOKUP('BASE DE RESPUESTAS'!BB46,Back!$M$16:$N$20,2,0)","v":"#N/A"},{"$f":"+VLOOKUP('BASE DE RESPUESTAS'!BC46,Back!$M$16:$N$20,2,0)","v":"#N/A"},{"$f":"+VLOOKUP('BASE DE RESPUESTAS'!BD46,Back!$M$16:$N$20,2,0)","v":"#N/A"},{"$f":"+VLOOKUP('BASE DE RESPUESTAS'!BE46,Back!$M$16:$N$20,2,0)","v":"#N/A"}]
[null,"FR","Dificultades para mantener la concentración","El o la estudiante interrumpe constantemente una actividad.",38.0,"Interrumpe constantemente (moviéndose, hablando, etc.) el desarrollo de una actividad en el aula.",null,{"$f":"+VLOOKUP('BASE DE RESPUESTAS'!H47,Back!$M$16:$N$20,2,0)","v":"#N/A"},{"$f":"+VLOOKUP('BASE DE RESPUESTAS'!I47,Back!$M$16:$N$20,2,0)","v":"#N/A"},{"$f":"+VLOOKUP('BASE DE RESPUESTAS'!J47,Back!$M$16:$N$20,2,0)","v":"#N/A"},{"$f":"+VLOOKUP('BASE DE RESPUESTAS'!K47,Back!$M$16:$N$20,2,0)","v":"#N/A"},{"$f":"+VLOOKUP('BASE DE RESPUESTAS'!L47,Back!$M$16:$N$20,2,0)","v":"#N/A"},{"$f":"+VLOOKUP('BASE DE RESPUESTAS'!M47,Back!$M$16:$N$20,2,0)","v":"#N/A"},{"$f":"+VLOOKUP('BASE DE RESPUESTAS'!N47,Back!$M$16:$N$20,2,0)","v":"#N/A"},{"$f":"+VLOOKUP('BASE DE RESPUESTAS'!O47,Back!$M$16:$N$20,2,0)","v":"#N/A"},{"$f":"+VLOOKUP('BASE DE RESPUESTAS'!P47,Back!$M$16:$N$20,2,0)","v":"#N/A"},{"$f":"+VLOOKUP('BASE DE RESPUESTAS'!Q47,Back!$M$16:$N$20,2,0)","v":"#N/A"},{"$f":"+VLOOKUP('BASE DE RESPUESTAS'!R47,Back!$M$16:$N$20,2,0)","v":"#N/A"},{"$f":"+VLOOKUP('BASE DE RESPUESTAS'!S47,Back!$M$16:$N$20,2,0)","v":"#N/A"},{"$f":"+VLOOKUP('BASE DE RESPUESTAS'!T47,Back!$M$16:$N$20,2,0)","v":"#N/A"},{"$f":"+VLOOKUP('BASE DE RESPUESTAS'!U47,Back!$M$16:$N$20,2,0)","v":"#N/A"},{"$f":"+VLOOKUP('BASE DE RESPUESTAS'!V47,Back!$M$16:$N$20,2,0)","v":"#N/A"},{"$f":"+VLOOKUP('BASE DE RESPUESTAS'!W47,Back!$M$16:$N$20,2,0)","v":"#N/A"},{"$f":"+VLOOKUP('BASE DE RESPUESTAS'!X47,Back!$M$16:$N$20,2,0)","v":"#N/A"},{"$f":"+VLOOKUP('BASE DE RESPUESTAS'!Y47,Back!$M$16:$N$20,2,0)","v":"#N/A"},{"$f":"+VLOOKUP('BASE DE RESPUESTAS'!Z47,Back!$M$16:$N$20,2,0)","v":"#N/A"},{"$f":"+VLOOKUP('BASE DE RESPUESTAS'!AA47,Back!$M$16:$N$20,2,0)","v":"#N/A"},{"$f":"+VLOOKUP('BASE DE RESPUESTAS'!AB47,Back!$M$16:$N$20,2,0)","v":"#N/A"},{"$f":"+VLOOKUP('BASE DE RESPUESTAS'!AC47,Back!$M$16:$N$20,2,0)","v":"#N/A"},{"$f":"+VLOOKUP('BASE DE RESPUESTAS'!AD47,Back!$M$16:$N$20,2,0)","v":"#N/A"},{"$f":"+VLOOKUP('BASE DE RESPUESTAS'!AE47,Back!$M$16:$N$20,2,0)","v":"#N/A"},{"$f":"+VLOOKUP('BASE DE RESPUESTAS'!AF47,Back!$M$16:$N$20,2,0)","v":"#N/A"},{"$f":"+VLOOKUP('BASE DE RESPUESTAS'!AG47,Back!$M$16:$N$20,2,0)","v":"#N/A"},{"$f":"+VLOOKUP('BASE DE RESPUESTAS'!AH47,Back!$M$16:$N$20,2,0)","v":"#N/A"},{"$f":"+VLOOKUP('BASE DE RESPUESTAS'!AI47,Back!$M$16:$N$20,2,0)","v":"#N/A"},{"$f":"+VLOOKUP('BASE DE RESPUESTAS'!AJ47,Back!$M$16:$N$20,2,0)","v":"#N/A"},{"$f":"+VLOOKUP('BASE DE RESPUESTAS'!AK47,Back!$M$16:$N$20,2,0)","v":"#N/A"},{"$f":"+VLOOKUP('BASE DE RESPUESTAS'!AL47,Back!$M$16:$N$20,2,0)","v":"#N/A"},{"$f":"+VLOOKUP('BASE DE RESPUESTAS'!AM47,Back!$M$16:$N$20,2,0)","v":"#N/A"},{"$f":"+VLOOKUP('BASE DE RESPUESTAS'!AN47,Back!$M$16:$N$20,2,0)","v":"#N/A"},{"$f":"+VLOOKUP('BASE DE RESPUESTAS'!AO47,Back!$M$16:$N$20,2,0)","v":"#N/A"},{"$f":"+VLOOKUP('BASE DE RESPUESTAS'!AP47,Back!$M$16:$N$20,2,0)","v":"#N/A"},{"$f":"+VLOOKUP('BASE DE RESPUESTAS'!AQ47,Back!$M$16:$N$20,2,0)","v":"#N/A"},{"$f":"+VLOOKUP('BASE DE RESPUESTAS'!AR47,Back!$M$16:$N$20,2,0)","v":"#N/A"},{"$f":"+VLOOKUP('BASE DE RESPUESTAS'!AS47,Back!$M$16:$N$20,2,0)","v":"#N/A"},{"$f":"+VLOOKUP('BASE DE RESPUESTAS'!AT47,Back!$M$16:$N$20,2,0)","v":"#N/A"},{"$f":"+VLOOKUP('BASE DE RESPUESTAS'!AU47,Back!$M$16:$N$20,2,0)","v":"#N/A"},{"$f":"+VLOOKUP('BASE DE RESPUESTAS'!AV47,Back!$M$16:$N$20,2,0)","v":"#N/A"},{"$f":"+VLOOKUP('BASE DE RESPUESTAS'!AW47,Back!$M$16:$N$20,2,0)","v":"#N/A"},{"$f":"+VLOOKUP('BASE DE RESPUESTAS'!AX47,Back!$M$16:$N$20,2,0)","v":"#N/A"},{"$f":"+VLOOKUP('BASE DE RESPUESTAS'!AY47,Back!$M$16:$N$20,2,0)","v":"#N/A"},{"$f":"+VLOOKUP('BASE DE RESPUESTAS'!AZ47,Back!$M$16:$N$20,2,0)","v":"#N/A"},{"$f":"+VLOOKUP('BASE DE RESPUESTAS'!BA47,Back!$M$16:$N$20,2,0)","v":"#N/A"},{"$f":"+VLOOKUP('BASE DE RESPUESTAS'!BB47,Back!$M$16:$N$20,2,0)","v":"#N/A"},{"$f":"+VLOOKUP('BASE DE RESPUESTAS'!BC47,Back!$M$16:$N$20,2,0)","v":"#N/A"},{"$f":"+VLOOKUP('BASE DE RESPUESTAS'!BD47,Back!$M$16:$N$20,2,0)","v":"#N/A"},{"$f":"+VLOOKUP('BASE DE RESPUESTAS'!BE47,Back!$M$16:$N$20,2,0)","v":"#N/A"}]
[null,null,null,"El o la estudiante le cuesta seguir las actividades o rutinas.",39.0,"Presenta dificultad para acabar tareas ya empezadas.",null,{"$f":"+VLOOKUP('BASE DE RESPUESTAS'!H48,Back!$M$16:$N$20,2,0)","v":"#N/A"},{"$f":"+VLOOKUP('BASE DE RESPUESTAS'!I48,Back!$M$16:$N$20,2,0)","v":"#N/A"},{"$f":"+VLOOKUP('BASE DE RESPUESTAS'!J48,Back!$M$16:$N$20,2,0)","v":"#N/A"},{"$f":"+VLOOKUP('BASE DE RESPUESTAS'!K48,Back!$M$16:$N$20,2,0)","v":"#N/A"},{"$f":"+VLOOKUP('BASE DE RESPUESTAS'!L48,Back!$M$16:$N$20,2,0)","v":"#N/A"},{"$f":"+VLOOKUP('BASE DE RESPUESTAS'!M48,Back!$M$16:$N$20,2,0)","v":"#N/A"},{"$f":"+VLOOKUP('BASE DE RESPUESTAS'!N48,Back!$M$16:$N$20,2,0)","v":"#N/A"},{"$f":"+VLOOKUP('BASE DE RESPUESTAS'!O48,Back!$M$16:$N$20,2,0)","v":"#N/A"},{"$f":"+VLOOKUP('BASE DE RESPUESTAS'!P48,Back!$M$16:$N$20,2,0)","v":"#N/A"},{"$f":"+VLOOKUP('BASE DE RESPUESTAS'!Q48,Back!$M$16:$N$20,2,0)","v":"#N/A"},{"$f":"+VLOOKUP('BASE DE RESPUESTAS'!R48,Back!$M$16:$N$20,2,0)","v":"#N/A"},{"$f":"+VLOOKUP('BASE DE RESPUESTAS'!S48,Back!$M$16:$N$20,2,0)","v":"#N/A"},{"$f":"+VLOOKUP('BASE DE RESPUESTAS'!T48,Back!$M$16:$N$20,2,0)","v":"#N/A"},{"$f":"+VLOOKUP('BASE DE RESPUESTAS'!U48,Back!$M$16:$N$20,2,0)","v":"#N/A"},{"$f":"+VLOOKUP('BASE DE RESPUESTAS'!V48,Back!$M$16:$N$20,2,0)","v":"#N/A"},{"$f":"+VLOOKUP('BASE DE RESPUESTAS'!W48,Back!$M$16:$N$20,2,0)","v":"#N/A"},{"$f":"+VLOOKUP('BASE DE RESPUESTAS'!X48,Back!$M$16:$N$20,2,0)","v":"#N/A"},{"$f":"+VLOOKUP('BASE DE RESPUESTAS'!Y48,Back!$M$16:$N$20,2,0)","v":"#N/A"},{"$f":"+VLOOKUP('BASE DE RESPUESTAS'!Z48,Back!$M$16:$N$20,2,0)","v":"#N/A"},{"$f":"+VLOOKUP('BASE DE RESPUESTAS'!AA48,Back!$M$16:$N$20,2,0)","v":"#N/A"},{"$f":"+VLOOKUP('BASE DE RESPUESTAS'!AB48,Back!$M$16:$N$20,2,0)","v":"#N/A"},{"$f":"+VLOOKUP('BASE DE RESPUESTAS'!AC48,Back!$M$16:$N$20,2,0)","v":"#N/A"},{"$f":"+VLOOKUP('BASE DE RESPUESTAS'!AD48,Back!$M$16:$N$20,2,0)","v":"#N/A"},{"$f":"+VLOOKUP('BASE DE RESPUESTAS'!AE48,Back!$M$16:$N$20,2,0)","v":"#N/A"},{"$f":"+VLOOKUP('BASE DE RESPUESTAS'!AF48,Back!$M$16:$N$20,2,0)","v":"#N/A"},{"$f":"+VLOOKUP('BASE DE RESPUESTAS'!AG48,Back!$M$16:$N$20,2,0)","v":"#N/A"},{"$f":"+VLOOKUP('BASE DE RESPUESTAS'!AH48,Back!$M$16:$N$20,2,0)","v":"#N/A"},{"$f":"+VLOOKUP('BASE DE RESPUESTAS'!AI48,Back!$M$16:$N$20,2,0)","v":"#N/A"},{"$f":"+VLOOKUP('BASE DE RESPUESTAS'!AJ48,Back!$M$16:$N$20,2,0)","v":"#N/A"},{"$f":"+VLOOKUP('BASE DE RESPUESTAS'!AK48,Back!$M$16:$N$20,2,0)","v":"#N/A"},{"$f":"+VLOOKUP('BASE DE RESPUESTAS'!AL48,Back!$M$16:$N$20,2,0)","v":"#N/A"},{"$f":"+VLOOKUP('BASE DE RESPUESTAS'!AM48,Back!$M$16:$N$20,2,0)","v":"#N/A"},{"$f":"+VLOOKUP('BASE DE RESPUESTAS'!AN48,Back!$M$16:$N$20,2,0)","v":"#N/A"},{"$f":"+VLOOKUP('BASE DE RESPUESTAS'!AO48,Back!$M$16:$N$20,2,0)","v":"#N/A"},{"$f":"+VLOOKUP('BASE DE RESPUESTAS'!AP48,Back!$M$16:$N$20,2,0)","v":"#N/A"},{"$f":"+VLOOKUP('BASE DE RESPUESTAS'!AQ48,Back!$M$16:$N$20,2,0)","v":"#N/A"},{"$f":"+VLOOKUP('BASE DE RESPUESTAS'!AR48,Back!$M$16:$N$20,2,0)","v":"#N/A"},{"$f":"+VLOOKUP('BASE DE RESPUESTAS'!AS48,Back!$M$16:$N$20,2,0)","v":"#N/A"},{"$f":"+VLOOKUP('BASE DE RESPUESTAS'!AT48,Back!$M$16:$N$20,2,0)","v":"#N/A"},{"$f":"+VLOOKUP('BASE DE RESPUESTAS'!AU48,Back!$M$16:$N$20,2,0)","v":"#N/A"},{"$f":"+VLOOKUP('BASE DE RESPUESTAS'!AV48,Back!$M$16:$N$20,2,0)","v":"#N/A"},{"$f":"+VLOOKUP('BASE DE RESPUESTAS'!AW48,Back!$M$16:$N$20,2,0)","v":"#N/A"},{"$f":"+VLOOKUP('BASE DE RESPUESTAS'!AX48,Back!$M$16:$N$20,2,0)","v":"#N/A"},{"$f":"+VLOOKUP('BASE DE RESPUESTAS'!AY48,Back!$M$16:$N$20,2,0)","v":"#N/A"},{"$f":"+VLOOKUP('BASE DE RESPUESTAS'!AZ48,Back!$M$16:$N$20,2,0)","v":"#N/A"},{"$f":"+VLOOKUP('BASE DE RESPUESTAS'!BA48,Back!$M$16:$N$20,2,0)","v":"#N/A"},{"$f":"+VLOOKUP('BASE DE RESPUESTAS'!BB48,Back!$M$16:$N$20,2,0)","v":"#N/A"},{"$f":"+VLOOKUP('BASE DE RESPUESTAS'!BC48,Back!$M$16:$N$20,2,0)","v":"#N/A"},{"$f":"+VLOOKUP('BASE DE RESPUESTAS'!BD48,Back!$M$16:$N$20,2,0)","v":"#N/A"},{"$f":"+VLOOKUP('BASE DE RESPUESTAS'!BE48,Back!$M$16:$N$20,2,0)","v":"#N/A"}]
[null,"FR","Dificultades en el desarrollo social","La o el estudiante se retrae y no participa de actividades grupales",40.0,"Durante el recreo, se aísla, o no participa de los juegos con sus compañeras y compañeros",null,{"$f":"+VLOOKUP('BASE DE RESPUESTAS'!H49,Back!$M$16:$N$20,2,0)","v":"#N/A"},{"$f":"+VLOOKUP('BASE DE RESPUESTAS'!I49,Back!$M$16:$N$20,2,0)","v":"#N/A"},{"$f":"+VLOOKUP('BASE DE RESPUESTAS'!J49,Back!$M$16:$N$20,2,0)","v":"#N/A"},{"$f":"+VLOOKUP('BASE DE RESPUESTAS'!K49,Back!$M$16:$N$20,2,0)","v":"#N/A"},{"$f":"+VLOOKUP('BASE DE RESPUESTAS'!L49,Back!$M$16:$N$20,2,0)","v":"#N/A"},{"$f":"+VLOOKUP('BASE DE RESPUESTAS'!M49,Back!$M$16:$N$20,2,0)","v":"#N/A"},{"$f":"+VLOOKUP('BASE DE RESPUESTAS'!N49,Back!$M$16:$N$20,2,0)","v":"#N/A"},{"$f":"+VLOOKUP('BASE DE RESPUESTAS'!O49,Back!$M$16:$N$20,2,0)","v":"#N/A"},{"$f":"+VLOOKUP('BASE DE RESPUESTAS'!P49,Back!$M$16:$N$20,2,0)","v":"#N/A"},{"$f":"+VLOOKUP('BASE DE RESPUESTAS'!Q49,Back!$M$16:$N$20,2,0)","v":"#N/A"},{"$f":"+VLOOKUP('BASE DE RESPUESTAS'!R49,Back!$M$16:$N$20,2,0)","v":"#N/A"},{"$f":"+VLOOKUP('BASE DE RESPUESTAS'!S49,Back!$M$16:$N$20,2,0)","v":"#N/A"},{"$f":"+VLOOKUP('BASE DE RESPUESTAS'!T49,Back!$M$16:$N$20,2,0)","v":"#N/A"},{"$f":"+VLOOKUP('BASE DE RESPUESTAS'!U49,Back!$M$16:$N$20,2,0)","v":"#N/A"},{"$f":"+VLOOKUP('BASE DE RESPUESTAS'!V49,Back!$M$16:$N$20,2,0)","v":"#N/A"},{"$f":"+VLOOKUP('BASE DE RESPUESTAS'!W49,Back!$M$16:$N$20,2,0)","v":"#N/A"},{"$f":"+VLOOKUP('BASE DE RESPUESTAS'!X49,Back!$M$16:$N$20,2,0)","v":"#N/A"},{"$f":"+VLOOKUP('BASE DE RESPUESTAS'!Y49,Back!$M$16:$N$20,2,0)","v":"#N/A"},{"$f":"+VLOOKUP('BASE DE RESPUESTAS'!Z49,Back!$M$16:$N$20,2,0)","v":"#N/A"},{"$f":"+VLOOKUP('BASE DE RESPUESTAS'!AA49,Back!$M$16:$N$20,2,0)","v":"#N/A"},{"$f":"+VLOOKUP('BASE DE RESPUESTAS'!AB49,Back!$M$16:$N$20,2,0)","v":"#N/A"},{"$f":"+VLOOKUP('BASE DE RESPUESTAS'!AC49,Back!$M$16:$N$20,2,0)","v":"#N/A"},{"$f":"+VLOOKUP('BASE DE RESPUESTAS'!AD49,Back!$M$16:$N$20,2,0)","v":"#N/A"},{"$f":"+VLOOKUP('BASE DE RESPUESTAS'!AE49,Back!$M$16:$N$20,2,0)","v":"#N/A"},{"$f":"+VLOOKUP('BASE DE RESPUESTAS'!AF49,Back!$M$16:$N$20,2,0)","v":"#N/A"},{"$f":"+VLOOKUP('BASE DE RESPUESTAS'!AG49,Back!$M$16:$N$20,2,0)","v":"#N/A"},{"$f":"+VLOOKUP('BASE DE RESPUESTAS'!AH49,Back!$M$16:$N$20,2,0)","v":"#N/A"},{"$f":"+VLOOKUP('BASE DE RESPUESTAS'!AI49,Back!$M$16:$N$20,2,0)","v":"#N/A"},{"$f":"+VLOOKUP('BASE DE RESPUESTAS'!AJ49,Back!$M$16:$N$20,2,0)","v":"#N/A"},{"$f":"+VLOOKUP('BASE DE RESPUESTAS'!AK49,Back!$M$16:$N$20,2,0)","v":"#N/A"},{"$f":"+VLOOKUP('BASE DE RESPUESTAS'!AL49,Back!$M$16:$N$20,2,0)","v":"#N/A"},{"$f":"+VLOOKUP('BASE DE RESPUESTAS'!AM49,Back!$M$16:$N$20,2,0)","v":"#N/A"},{"$f":"+VLOOKUP('BASE DE RESPUESTAS'!AN49,Back!$M$16:$N$20,2,0)","v":"#N/A"},{"$f":"+VLOOKUP('BASE DE RESPUESTAS'!AO49,Back!$M$16:$N$20,2,0)","v":"#N/A"},{"$f":"+VLOOKUP('BASE DE RESPUESTAS'!AP49,Back!$M$16:$N$20,2,0)","v":"#N/A"},{"$f":"+VLOOKUP('BASE DE RESPUESTAS'!AQ49,Back!$M$16:$N$20,2,0)","v":"#N/A"},{"$f":"+VLOOKUP('BASE DE RESPUESTAS'!AR49,Back!$M$16:$N$20,2,0)","v":"#N/A"},{"$f":"+VLOOKUP('BASE DE RESPUESTAS'!AS49,Back!$M$16:$N$20,2,0)","v":"#N/A"},{"$f":"+VLOOKUP('BASE DE RESPUESTAS'!AT49,Back!$M$16:$N$20,2,0)","v":"#N/A"},{"$f":"+VLOOKUP('BASE DE RESPUESTAS'!AU49,Back!$M$16:$N$20,2,0)","v":"#N/A"},{"$f":"+VLOOKUP('BASE DE RESPUESTAS'!AV49,Back!$M$16:$N$20,2,0)","v":"#N/A"},{"$f":"+VLOOKUP('BASE DE RESPUESTAS'!AW49,Back!$M$16:$N$20,2,0)","v":"#N/A"},{"$f":"+VLOOKUP('BASE DE RESPUESTAS'!AX49,Back!$M$16:$N$20,2,0)","v":"#N/A"},{"$f":"+VLOOKUP('BASE DE RESPUESTAS'!AY49,Back!$M$16:$N$20,2,0)","v":"#N/A"},{"$f":"+VLOOKUP('BASE DE RESPUESTAS'!AZ49,Back!$M$16:$N$20,2,0)","v":"#N/A"},{"$f":"+VLOOKUP('BASE DE RESPUESTAS'!BA49,Back!$M$16:$N$20,2,0)","v":"#N/A"},{"$f":"+VLOOKUP('BASE DE RESPUESTAS'!BB49,Back!$M$16:$N$20,2,0)","v":"#N/A"},{"$f":"+VLOOKUP('BASE DE RESPUESTAS'!BC49,Back!$M$16:$N$20,2,0)","v":"#N/A"},{"$f":"+VLOOKUP('BASE DE RESPUESTAS'!BD49,Back!$M$16:$N$20,2,0)","v":"#N/A"},{"$f":"+VLOOKUP('BASE DE RESPUESTAS'!BE49,Back!$M$16:$N$20,2,0)","v":"#N/A"}]
[null,null,null,null,41.0,"No tiene iniciativa para participar en las actividades grupales. ",null,{"$f":"+VLOOKUP('BASE DE RESPUESTAS'!H50,Back!$M$16:$N$20,2,0)","v":"#N/A"},{"$f":"+VLOOKUP('BASE DE RESPUESTAS'!I50,Back!$M$16:$N$20,2,0)","v":"#N/A"},{"$f":"+VLOOKUP('BASE DE RESPUESTAS'!J50,Back!$M$16:$N$20,2,0)","v":"#N/A"},{"$f":"+VLOOKUP('BASE DE RESPUESTAS'!K50,Back!$M$16:$N$20,2,0)","v":"#N/A"},{"$f":"+VLOOKUP('BASE DE RESPUESTAS'!L50,Back!$M$16:$N$20,2,0)","v":"#N/A"},{"$f":"+VLOOKUP('BASE DE RESPUESTAS'!M50,Back!$M$16:$N$20,2,0)","v":"#N/A"},{"$f":"+VLOOKUP('BASE DE RESPUESTAS'!N50,Back!$M$16:$N$20,2,0)","v":"#N/A"},{"$f":"+VLOOKUP('BASE DE RESPUESTAS'!O50,Back!$M$16:$N$20,2,0)","v":"#N/A"},{"$f":"+VLOOKUP('BASE DE RESPUESTAS'!P50,Back!$M$16:$N$20,2,0)","v":"#N/A"},{"$f":"+VLOOKUP('BASE DE RESPUESTAS'!Q50,Back!$M$16:$N$20,2,0)","v":"#N/A"},{"$f":"+VLOOKUP('BASE DE RESPUESTAS'!R50,Back!$M$16:$N$20,2,0)","v":"#N/A"},{"$f":"+VLOOKUP('BASE DE RESPUESTAS'!S50,Back!$M$16:$N$20,2,0)","v":"#N/A"},{"$f":"+VLOOKUP('BASE DE RESPUESTAS'!T50,Back!$M$16:$N$20,2,0)","v":"#N/A"},{"$f":"+VLOOKUP('BASE DE RESPUESTAS'!U50,Back!$M$16:$N$20,2,0)","v":"#N/A"},{"$f":"+VLOOKUP('BASE DE RESPUESTAS'!V50,Back!$M$16:$N$20,2,0)","v":"#N/A"},{"$f":"+VLOOKUP('BASE DE RESPUESTAS'!W50,Back!$M$16:$N$20,2,0)","v":"#N/A"},{"$f":"+VLOOKUP('BASE DE RESPUESTAS'!X50,Back!$M$16:$N$20,2,0)","v":"#N/A"},{"$f":"+VLOOKUP('BASE DE RESPUESTAS'!Y50,Back!$M$16:$N$20,2,0)","v":"#N/A"},{"$f":"+VLOOKUP('BASE DE RESPUESTAS'!Z50,Back!$M$16:$N$20,2,0)","v":"#N/A"},{"$f":"+VLOOKUP('BASE DE RESPUESTAS'!AA50,Back!$M$16:$N$20,2,0)","v":"#N/A"},{"$f":"+VLOOKUP('BASE DE RESPUESTAS'!AB50,Back!$M$16:$N$20,2,0)","v":"#N/A"},{"$f":"+VLOOKUP('BASE DE RESPUESTAS'!AC50,Back!$M$16:$N$20,2,0)","v":"#N/A"},{"$f":"+VLOOKUP('BASE DE RESPUESTAS'!AD50,Back!$M$16:$N$20,2,0)","v":"#N/A"},{"$f":"+VLOOKUP('BASE DE RESPUESTAS'!AE50,Back!$M$16:$N$20,2,0)","v":"#N/A"},{"$f":"+VLOOKUP('BASE DE RESPUESTAS'!AF50,Back!$M$16:$N$20,2,0)","v":"#N/A"},{"$f":"+VLOOKUP('BASE DE RESPUESTAS'!AG50,Back!$M$16:$N$20,2,0)","v":"#N/A"},{"$f":"+VLOOKUP('BASE DE RESPUESTAS'!AH50,Back!$M$16:$N$20,2,0)","v":"#N/A"},{"$f":"+VLOOKUP('BASE DE RESPUESTAS'!AI50,Back!$M$16:$N$20,2,0)","v":"#N/A"},{"$f":"+VLOOKUP('BASE DE RESPUESTAS'!AJ50,Back!$M$16:$N$20,2,0)","v":"#N/A"},{"$f":"+VLOOKUP('BASE DE RESPUESTAS'!AK50,Back!$M$16:$N$20,2,0)","v":"#N/A"},{"$f":"+VLOOKUP('BASE DE RESPUESTAS'!AL50,Back!$M$16:$N$20,2,0)","v":"#N/A"},{"$f":"+VLOOKUP('BASE DE RESPUESTAS'!AM50,Back!$M$16:$N$20,2,0)","v":"#N/A"},{"$f":"+VLOOKUP('BASE DE RESPUESTAS'!AN50,Back!$M$16:$N$20,2,0)","v":"#N/A"},{"$f":"+VLOOKUP('BASE DE RESPUESTAS'!AO50,Back!$M$16:$N$20,2,0)","v":"#N/A"},{"$f":"+VLOOKUP('BASE DE RESPUESTAS'!AP50,Back!$M$16:$N$20,2,0)","v":"#N/A"},{"$f":"+VLOOKUP('BASE DE RESPUESTAS'!AQ50,Back!$M$16:$N$20,2,0)","v":"#N/A"},{"$f":"+VLOOKUP('BASE DE RESPUESTAS'!AR50,Back!$M$16:$N$20,2,0)","v":"#N/A"},{"$f":"+VLOOKUP('BASE DE RESPUESTAS'!AS50,Back!$M$16:$N$20,2,0)","v":"#N/A"},{"$f":"+VLOOKUP('BASE DE RESPUESTAS'!AT50,Back!$M$16:$N$20,2,0)","v":"#N/A"},{"$f":"+VLOOKUP('BASE DE RESPUESTAS'!AU50,Back!$M$16:$N$20,2,0)","v":"#N/A"},{"$f":"+VLOOKUP('BASE DE RESPUESTAS'!AV50,Back!$M$16:$N$20,2,0)","v":"#N/A"},{"$f":"+VLOOKUP('BASE DE RESPUESTAS'!AW50,Back!$M$16:$N$20,2,0)","v":"#N/A"},{"$f":"+VLOOKUP('BASE DE RESPUESTAS'!AX50,Back!$M$16:$N$20,2,0)","v":"#N/A"},{"$f":"+VLOOKUP('BASE DE RESPUESTAS'!AY50,Back!$M$16:$N$20,2,0)","v":"#N/A"},{"$f":"+VLOOKUP('BASE DE RESPUESTAS'!AZ50,Back!$M$16:$N$20,2,0)","v":"#N/A"},{"$f":"+VLOOKUP('BASE DE RESPUESTAS'!BA50,Back!$M$16:$N$20,2,0)","v":"#N/A"},{"$f":"+VLOOKUP('BASE DE RESPUESTAS'!BB50,Back!$M$16:$N$20,2,0)","v":"#N/A"},{"$f":"+VLOOKUP('BASE DE RESPUESTAS'!BC50,Back!$M$16:$N$20,2,0)","v":"#N/A"},{"$f":"+VLOOKUP('BASE DE RESPUESTAS'!BD50,Back!$M$16:$N$20,2,0)","v":"#N/A"},{"$f":"+VLOOKUP('BASE DE RESPUESTAS'!BE50,Back!$M$16:$N$20,2,0)","v":"#N/A"}]
[null,"FR","Trabajo Infantil","El o la estudiante se ve en la necesidad de involucrarse en actividades laborales o de cuidado.",42.0,"Se encarga de tareas del hogar o de cuidado que no van acordes con su edad.",null,{"$f":"+VLOOKUP('BASE DE RESPUESTAS'!H51,Back!$M$16:$N$20,2,0)","v":"#N/A"},{"$f":"+VLOOKUP('BASE DE RESPUESTAS'!I51,Back!$M$16:$N$20,2,0)","v":"#N/A"},{"$f":"+VLOOKUP('BASE DE RESPUESTAS'!J51,Back!$M$16:$N$20,2,0)","v":"#N/A"},{"$f":"+VLOOKUP('BASE DE RESPUESTAS'!K51,Back!$M$16:$N$20,2,0)","v":"#N/A"},{"$f":"+VLOOKUP('BASE DE RESPUESTAS'!L51,Back!$M$16:$N$20,2,0)","v":"#N/A"},{"$f":"+VLOOKUP('BASE DE RESPUESTAS'!M51,Back!$M$16:$N$20,2,0)","v":"#N/A"},{"$f":"+VLOOKUP('BASE DE RESPUESTAS'!N51,Back!$M$16:$N$20,2,0)","v":"#N/A"},{"$f":"+VLOOKUP('BASE DE RESPUESTAS'!O51,Back!$M$16:$N$20,2,0)","v":"#N/A"},{"$f":"+VLOOKUP('BASE DE RESPUESTAS'!P51,Back!$M$16:$N$20,2,0)","v":"#N/A"},{"$f":"+VLOOKUP('BASE DE RESPUESTAS'!Q51,Back!$M$16:$N$20,2,0)","v":"#N/A"},{"$f":"+VLOOKUP('BASE DE RESPUESTAS'!R51,Back!$M$16:$N$20,2,0)","v":"#N/A"},{"$f":"+VLOOKUP('BASE DE RESPUESTAS'!S51,Back!$M$16:$N$20,2,0)","v":"#N/A"},{"$f":"+VLOOKUP('BASE DE RESPUESTAS'!T51,Back!$M$16:$N$20,2,0)","v":"#N/A"},{"$f":"+VLOOKUP('BASE DE RESPUESTAS'!U51,Back!$M$16:$N$20,2,0)","v":"#N/A"},{"$f":"+VLOOKUP('BASE DE RESPUESTAS'!V51,Back!$M$16:$N$20,2,0)","v":"#N/A"},{"$f":"+VLOOKUP('BASE DE RESPUESTAS'!W51,Back!$M$16:$N$20,2,0)","v":"#N/A"},{"$f":"+VLOOKUP('BASE DE RESPUESTAS'!X51,Back!$M$16:$N$20,2,0)","v":"#N/A"},{"$f":"+VLOOKUP('BASE DE RESPUESTAS'!Y51,Back!$M$16:$N$20,2,0)","v":"#N/A"},{"$f":"+VLOOKUP('BASE DE RESPUESTAS'!Z51,Back!$M$16:$N$20,2,0)","v":"#N/A"},{"$f":"+VLOOKUP('BASE DE RESPUESTAS'!AA51,Back!$M$16:$N$20,2,0)","v":"#N/A"},{"$f":"+VLOOKUP('BASE DE RESPUESTAS'!AB51,Back!$M$16:$N$20,2,0)","v":"#N/A"},{"$f":"+VLOOKUP('BASE DE RESPUESTAS'!AC51,Back!$M$16:$N$20,2,0)","v":"#N/A"},{"$f":"+VLOOKUP('BASE DE RESPUESTAS'!AD51,Back!$M$16:$N$20,2,0)","v":"#N/A"},{"$f":"+VLOOKUP('BASE DE RESPUESTAS'!AE51,Back!$M$16:$N$20,2,0)","v":"#N/A"},{"$f":"+VLOOKUP('BASE DE RESPUESTAS'!AF51,Back!$M$16:$N$20,2,0)","v":"#N/A"},{"$f":"+VLOOKUP('BASE DE RESPUESTAS'!AG51,Back!$M$16:$N$20,2,0)","v":"#N/A"},{"$f":"+VLOOKUP('BASE DE RESPUESTAS'!AH51,Back!$M$16:$N$20,2,0)","v":"#N/A"},{"$f":"+VLOOKUP('BASE DE RESPUESTAS'!AI51,Back!$M$16:$N$20,2,0)","v":"#N/A"},{"$f":"+VLOOKUP('BASE DE RESPUESTAS'!AJ51,Back!$M$16:$N$20,2,0)","v":"#N/A"},{"$f":"+VLOOKUP('BASE DE RESPUESTAS'!AK51,Back!$M$16:$N$20,2,0)","v":"#N/A"},{"$f":"+VLOOKUP('BASE DE RESPUESTAS'!AL51,Back!$M$16:$N$20,2,0)","v":"#N/A"},{"$f":"+VLOOKUP('BASE DE RESPUESTAS'!AM51,Back!$M$16:$N$20,2,0)","v":"#N/A"},{"$f":"+VLOOKUP('BASE DE RESPUESTAS'!AN51,Back!$M$16:$N$20,2,0)","v":"#N/A"},{"$f":"+VLOOKUP('BASE DE RESPUESTAS'!AO51,Back!$M$16:$N$20,2,0)","v":"#N/A"},{"$f":"+VLOOKUP('BASE DE RESPUESTAS'!AP51,Back!$M$16:$N$20,2,0)","v":"#N/A"},{"$f":"+VLOOKUP('BASE DE RESPUESTAS'!AQ51,Back!$M$16:$N$20,2,0)","v":"#N/A"},{"$f":"+VLOOKUP('BASE DE RESPUESTAS'!AR51,Back!$M$16:$N$20,2,0)","v":"#N/A"},{"$f":"+VLOOKUP('BASE DE RESPUESTAS'!AS51,Back!$M$16:$N$20,2,0)","v":"#N/A"},{"$f":"+VLOOKUP('BASE DE RESPUESTAS'!AT51,Back!$M$16:$N$20,2,0)","v":"#N/A"},{"$f":"+VLOOKUP('BASE DE RESPUESTAS'!AU51,Back!$M$16:$N$20,2,0)","v":"#N/A"},{"$f":"+VLOOKUP('BASE DE RESPUESTAS'!AV51,Back!$M$16:$N$20,2,0)","v":"#N/A"},{"$f":"+VLOOKUP('BASE DE RESPUESTAS'!AW51,Back!$M$16:$N$20,2,0)","v":"#N/A"},{"$f":"+VLOOKUP('BASE DE RESPUESTAS'!AX51,Back!$M$16:$N$20,2,0)","v":"#N/A"},{"$f":"+VLOOKUP('BASE DE RESPUESTAS'!AY51,Back!$M$16:$N$20,2,0)","v":"#N/A"},{"$f":"+VLOOKUP('BASE DE RESPUESTAS'!AZ51,Back!$M$16:$N$20,2,0)","v":"#N/A"},{"$f":"+VLOOKUP('BASE DE RESPUESTAS'!BA51,Back!$M$16:$N$20,2,0)","v":"#N/A"},{"$f":"+VLOOKUP('BASE DE RESPUESTAS'!BB51,Back!$M$16:$N$20,2,0)","v":"#N/A"},{"$f":"+VLOOKUP('BASE DE RESPUESTAS'!BC51,Back!$M$16:$N$20,2,0)","v":"#N/A"},{"$f":"+VLOOKUP('BASE DE RESPUESTAS'!BD51,Back!$M$16:$N$20,2,0)","v":"#N/A"},{"$f":"+VLOOKUP('BASE DE RESPUESTAS'!BE51,Back!$M$16:$N$20,2,0)","v":"#N/A"}]
[null,null,null,null,43.0,"Realiza tareas fuera del hogar como vender caramelos, exponiéndose a riesgos.",null,{"$f":"+VLOOKUP('BASE DE RESPUESTAS'!H52,Back!$M$16:$N$20,2,0)","v":"#N/A"},{"$f":"+VLOOKUP('BASE DE RESPUESTAS'!I52,Back!$M$16:$N$20,2,0)","v":"#N/A"},{"$f":"+VLOOKUP('BASE DE RESPUESTAS'!J52,Back!$M$16:$N$20,2,0)","v":"#N/A"},{"$f":"+VLOOKUP('BASE DE RESPUESTAS'!K52,Back!$M$16:$N$20,2,0)","v":"#N/A"},{"$f":"+VLOOKUP('BASE DE RESPUESTAS'!L52,Back!$M$16:$N$20,2,0)","v":"#N/A"},{"$f":"+VLOOKUP('BASE DE RESPUESTAS'!M52,Back!$M$16:$N$20,2,0)","v":"#N/A"},{"$f":"+VLOOKUP('BASE DE RESPUESTAS'!N52,Back!$M$16:$N$20,2,0)","v":"#N/A"},{"$f":"+VLOOKUP('BASE DE RESPUESTAS'!O52,Back!$M$16:$N$20,2,0)","v":"#N/A"},{"$f":"+VLOOKUP('BASE DE RESPUESTAS'!P52,Back!$M$16:$N$20,2,0)","v":"#N/A"},{"$f":"+VLOOKUP('BASE DE RESPUESTAS'!Q52,Back!$M$16:$N$20,2,0)","v":"#N/A"},{"$f":"+VLOOKUP('BASE DE RESPUESTAS'!R52,Back!$M$16:$N$20,2,0)","v":"#N/A"},{"$f":"+VLOOKUP('BASE DE RESPUESTAS'!S52,Back!$M$16:$N$20,2,0)","v":"#N/A"},{"$f":"+VLOOKUP('BASE DE RESPUESTAS'!T52,Back!$M$16:$N$20,2,0)","v":"#N/A"},{"$f":"+VLOOKUP('BASE DE RESPUESTAS'!U52,Back!$M$16:$N$20,2,0)","v":"#N/A"},{"$f":"+VLOOKUP('BASE DE RESPUESTAS'!V52,Back!$M$16:$N$20,2,0)","v":"#N/A"},{"$f":"+VLOOKUP('BASE DE RESPUESTAS'!W52,Back!$M$16:$N$20,2,0)","v":"#N/A"},{"$f":"+VLOOKUP('BASE DE RESPUESTAS'!X52,Back!$M$16:$N$20,2,0)","v":"#N/A"},{"$f":"+VLOOKUP('BASE DE RESPUESTAS'!Y52,Back!$M$16:$N$20,2,0)","v":"#N/A"},{"$f":"+VLOOKUP('BASE DE RESPUESTAS'!Z52,Back!$M$16:$N$20,2,0)","v":"#N/A"},{"$f":"+VLOOKUP('BASE DE RESPUESTAS'!AA52,Back!$M$16:$N$20,2,0)","v":"#N/A"},{"$f":"+VLOOKUP('BASE DE RESPUESTAS'!AB52,Back!$M$16:$N$20,2,0)","v":"#N/A"},{"$f":"+VLOOKUP('BASE DE RESPUESTAS'!AC52,Back!$M$16:$N$20,2,0)","v":"#N/A"},{"$f":"+VLOOKUP('BASE DE RESPUESTAS'!AD52,Back!$M$16:$N$20,2,0)","v":"#N/A"},{"$f":"+VLOOKUP('BASE DE RESPUESTAS'!AE52,Back!$M$16:$N$20,2,0)","v":"#N/A"},{"$f":"+VLOOKUP('BASE DE RESPUESTAS'!AF52,Back!$M$16:$N$20,2,0)","v":"#N/A"},{"$f":"+VLOOKUP('BASE DE RESPUESTAS'!AG52,Back!$M$16:$N$20,2,0)","v":"#N/A"},{"$f":"+VLOOKUP('BASE DE RESPUESTAS'!AH52,Back!$M$16:$N$20,2,0)","v":"#N/A"},{"$f":"+VLOOKUP('BASE DE RESPUESTAS'!AI52,Back!$M$16:$N$20,2,0)","v":"#N/A"},{"$f":"+VLOOKUP('BASE DE RESPUESTAS'!AJ52,Back!$M$16:$N$20,2,0)","v":"#N/A"},{"$f":"+VLOOKUP('BASE DE RESPUESTAS'!AK52,Back!$M$16:$N$20,2,0)","v":"#N/A"},{"$f":"+VLOOKUP('BASE DE RESPUESTAS'!AL52,Back!$M$16:$N$20,2,0)","v":"#N/A"},{"$f":"+VLOOKUP('BASE DE RESPUESTAS'!AM52,Back!$M$16:$N$20,2,0)","v":"#N/A"},{"$f":"+VLOOKUP('BASE DE RESPUESTAS'!AN52,Back!$M$16:$N$20,2,0)","v":"#N/A"},{"$f":"+VLOOKUP('BASE DE RESPUESTAS'!AO52,Back!$M$16:$N$20,2,0)","v":"#N/A"},{"$f":"+VLOOKUP('BASE DE RESPUESTAS'!AP52,Back!$M$16:$N$20,2,0)","v":"#N/A"},{"$f":"+VLOOKUP('BASE DE RESPUESTAS'!AQ52,Back!$M$16:$N$20,2,0)","v":"#N/A"},{"$f":"+VLOOKUP('BASE DE RESPUESTAS'!AR52,Back!$M$16:$N$20,2,0)","v":"#N/A"},{"$f":"+VLOOKUP('BASE DE RESPUESTAS'!AS52,Back!$M$16:$N$20,2,0)","v":"#N/A"},{"$f":"+VLOOKUP('BASE DE RESPUESTAS'!AT52,Back!$M$16:$N$20,2,0)","v":"#N/A"},{"$f":"+VLOOKUP('BASE DE RESPUESTAS'!AU52,Back!$M$16:$N$20,2,0)","v":"#N/A"},{"$f":"+VLOOKUP('BASE DE RESPUESTAS'!AV52,Back!$M$16:$N$20,2,0)","v":"#N/A"},{"$f":"+VLOOKUP('BASE DE RESPUESTAS'!AW52,Back!$M$16:$N$20,2,0)","v":"#N/A"},{"$f":"+VLOOKUP('BASE DE RESPUESTAS'!AX52,Back!$M$16:$N$20,2,0)","v":"#N/A"},{"$f":"+VLOOKUP('BASE DE RESPUESTAS'!AY52,Back!$M$16:$N$20,2,0)","v":"#N/A"},{"$f":"+VLOOKUP('BASE DE RESPUESTAS'!AZ52,Back!$M$16:$N$20,2,0)","v":"#N/A"},{"$f":"+VLOOKUP('BASE DE RESPUESTAS'!BA52,Back!$M$16:$N$20,2,0)","v":"#N/A"},{"$f":"+VLOOKUP('BASE DE RESPUESTAS'!BB52,Back!$M$16:$N$20,2,0)","v":"#N/A"},{"$f":"+VLOOKUP('BASE DE RESPUESTAS'!BC52,Back!$M$16:$N$20,2,0)","v":"#N/A"},{"$f":"+VLOOKUP('BASE DE RESPUESTAS'!BD52,Back!$M$16:$N$20,2,0)","v":"#N/A"},{"$f":"+VLOOKUP('BASE DE RESPUESTAS'!BE52,Back!$M$16:$N$20,2,0)","v":"#N/A"}]
[null,"FR","Ausentismo Escolar","El o la estudiante falta recurrentemente a la escuela sin justificación.",44.0,"Falta al menos una vez a la semana a la escuela sin justificación.",null,{"$f":"+VLOOKUP('BASE DE RESPUESTAS'!H53,Back!$M$16:$N$20,2,0)","v":"#N/A"},{"$f":"+VLOOKUP('BASE DE RESPUESTAS'!I53,Back!$M$16:$N$20,2,0)","v":"#N/A"},{"$f":"+VLOOKUP('BASE DE RESPUESTAS'!J53,Back!$M$16:$N$20,2,0)","v":"#N/A"},{"$f":"+VLOOKUP('BASE DE RESPUESTAS'!K53,Back!$M$16:$N$20,2,0)","v":"#N/A"},{"$f":"+VLOOKUP('BASE DE RESPUESTAS'!L53,Back!$M$16:$N$20,2,0)","v":"#N/A"},{"$f":"+VLOOKUP('BASE DE RESPUESTAS'!M53,Back!$M$16:$N$20,2,0)","v":"#N/A"},{"$f":"+VLOOKUP('BASE DE RESPUESTAS'!N53,Back!$M$16:$N$20,2,0)","v":"#N/A"},{"$f":"+VLOOKUP('BASE DE RESPUESTAS'!O53,Back!$M$16:$N$20,2,0)","v":"#N/A"},{"$f":"+VLOOKUP('BASE DE RESPUESTAS'!P53,Back!$M$16:$N$20,2,0)","v":"#N/A"},{"$f":"+VLOOKUP('BASE DE RESPUESTAS'!Q53,Back!$M$16:$N$20,2,0)","v":"#N/A"},{"$f":"+VLOOKUP('BASE DE RESPUESTAS'!R53,Back!$M$16:$N$20,2,0)","v":"#N/A"},{"$f":"+VLOOKUP('BASE DE RESPUESTAS'!S53,Back!$M$16:$N$20,2,0)","v":"#N/A"},{"$f":"+VLOOKUP('BASE DE RESPUESTAS'!T53,Back!$M$16:$N$20,2,0)","v":"#N/A"},{"$f":"+VLOOKUP('BASE DE RESPUESTAS'!U53,Back!$M$16:$N$20,2,0)","v":"#N/A"},{"$f":"+VLOOKUP('BASE DE RESPUESTAS'!V53,Back!$M$16:$N$20,2,0)","v":"#N/A"},{"$f":"+VLOOKUP('BASE DE RESPUESTAS'!W53,Back!$M$16:$N$20,2,0)","v":"#N/A"},{"$f":"+VLOOKUP('BASE DE RESPUESTAS'!X53,Back!$M$16:$N$20,2,0)","v":"#N/A"},{"$f":"+VLOOKUP('BASE DE RESPUESTAS'!Y53,Back!$M$16:$N$20,2,0)","v":"#N/A"},{"$f":"+VLOOKUP('BASE DE RESPUESTAS'!Z53,Back!$M$16:$N$20,2,0)","v":"#N/A"},{"$f":"+VLOOKUP('BASE DE RESPUESTAS'!AA53,Back!$M$16:$N$20,2,0)","v":"#N/A"},{"$f":"+VLOOKUP('BASE DE RESPUESTAS'!AB53,Back!$M$16:$N$20,2,0)","v":"#N/A"},{"$f":"+VLOOKUP('BASE DE RESPUESTAS'!AC53,Back!$M$16:$N$20,2,0)","v":"#N/A"},{"$f":"+VLOOKUP('BASE DE RESPUESTAS'!AD53,Back!$M$16:$N$20,2,0)","v":"#N/A"},{"$f":"+VLOOKUP('BASE DE RESPUESTAS'!AE53,Back!$M$16:$N$20,2,0)","v":"#N/A"},{"$f":"+VLOOKUP('BASE DE RESPUESTAS'!AF53,Back!$M$16:$N$20,2,0)","v":"#N/A"},{"$f":"+VLOOKUP('BASE DE RESPUESTAS'!AG53,Back!$M$16:$N$20,2,0)","v":"#N/A"},{"$f":"+VLOOKUP('BASE DE RESPUESTAS'!AH53,Back!$M$16:$N$20,2,0)","v":"#N/A"},{"$f":"+VLOOKUP('BASE DE RESPUESTAS'!AI53,Back!$M$16:$N$20,2,0)","v":"#N/A"},{"$f":"+VLOOKUP('BASE DE RESPUESTAS'!AJ53,Back!$M$16:$N$20,2,0)","v":"#N/A"},{"$f":"+VLOOKUP('BASE DE RESPUESTAS'!AK53,Back!$M$16:$N$20,2,0)","v":"#N/A"},{"$f":"+VLOOKUP('BASE DE RESPUESTAS'!AL53,Back!$M$16:$N$20,2,0)","v":"#N/A"},{"$f":"+VLOOKUP('BASE DE RESPUESTAS'!AM53,Back!$M$16:$N$20,2,0)","v":"#N/A"},{"$f":"+VLOOKUP('BASE DE RESPUESTAS'!AN53,Back!$M$16:$N$20,2,0)","v":"#N/A"},{"$f":"+VLOOKUP('BASE DE RESPUESTAS'!AO53,Back!$M$16:$N$20,2,0)","v":"#N/A"},{"$f":"+VLOOKUP('BASE DE RESPUESTAS'!AP53,Back!$M$16:$N$20,2,0)","v":"#N/A"},{"$f":"+VLOOKUP('BASE DE RESPUESTAS'!AQ53,Back!$M$16:$N$20,2,0)","v":"#N/A"},{"$f":"+VLOOKUP('BASE DE RESPUESTAS'!AR53,Back!$M$16:$N$20,2,0)","v":"#N/A"},{"$f":"+VLOOKUP('BASE DE RESPUESTAS'!AS53,Back!$M$16:$N$20,2,0)","v":"#N/A"},{"$f":"+VLOOKUP('BASE DE RESPUESTAS'!AT53,Back!$M$16:$N$20,2,0)","v":"#N/A"},{"$f":"+VLOOKUP('BASE DE RESPUESTAS'!AU53,Back!$M$16:$N$20,2,0)","v":"#N/A"},{"$f":"+VLOOKUP('BASE DE RESPUESTAS'!AV53,Back!$M$16:$N$20,2,0)","v":"#N/A"},{"$f":"+VLOOKUP('BASE DE RESPUESTAS'!AW53,Back!$M$16:$N$20,2,0)","v":"#N/A"},{"$f":"+VLOOKUP('BASE DE RESPUESTAS'!AX53,Back!$M$16:$N$20,2,0)","v":"#N/A"},{"$f":"+VLOOKUP('BASE DE RESPUESTAS'!AY53,Back!$M$16:$N$20,2,0)","v":"#N/A"},{"$f":"+VLOOKUP('BASE DE RESPUESTAS'!AZ53,Back!$M$16:$N$20,2,0)","v":"#N/A"},{"$f":"+VLOOKUP('BASE DE RESPUESTAS'!BA53,Back!$M$16:$N$20,2,0)","v":"#N/A"},{"$f":"+VLOOKUP('BASE DE RESPUESTAS'!BB53,Back!$M$16:$N$20,2,0)","v":"#N/A"},{"$f":"+VLOOKUP('BASE DE RESPUESTAS'!BC53,Back!$M$16:$N$20,2,0)","v":"#N/A"},{"$f":"+VLOOKUP('BASE DE RESPUESTAS'!BD53,Back!$M$16:$N$20,2,0)","v":"#N/A"},{"$f":"+VLOOKUP('BASE DE RESPUESTAS'!BE53,Back!$M$16:$N$20,2,0)","v":"#N/A"}]
[null,"FR","Riesgo de desprotección familiar","El o la estudiante presenta señales de descuido y desprotección familiar.",45.0,"Asiste a clases desaseado o con indicios de falta de higiene reiteradamente.",null,{"$f":"+VLOOKUP('BASE DE RESPUESTAS'!H54,Back!$M$16:$N$20,2,0)","v":"#N/A"},{"$f":"+VLOOKUP('BASE DE RESPUESTAS'!I54,Back!$M$16:$N$20,2,0)","v":"#N/A"},{"$f":"+VLOOKUP('BASE DE RESPUESTAS'!J54,Back!$M$16:$N$20,2,0)","v":"#N/A"},{"$f":"+VLOOKUP('BASE DE RESPUESTAS'!K54,Back!$M$16:$N$20,2,0)","v":"#N/A"},{"$f":"+VLOOKUP('BASE DE RESPUESTAS'!L54,Back!$M$16:$N$20,2,0)","v":"#N/A"},{"$f":"+VLOOKUP('BASE DE RESPUESTAS'!M54,Back!$M$16:$N$20,2,0)","v":"#N/A"},{"$f":"+VLOOKUP('BASE DE RESPUESTAS'!N54,Back!$M$16:$N$20,2,0)","v":"#N/A"},{"$f":"+VLOOKUP('BASE DE RESPUESTAS'!O54,Back!$M$16:$N$20,2,0)","v":"#N/A"},{"$f":"+VLOOKUP('BASE DE RESPUESTAS'!P54,Back!$M$16:$N$20,2,0)","v":"#N/A"},{"$f":"+VLOOKUP('BASE DE RESPUESTAS'!Q54,Back!$M$16:$N$20,2,0)","v":"#N/A"},{"$f":"+VLOOKUP('BASE DE RESPUESTAS'!R54,Back!$M$16:$N$20,2,0)","v":"#N/A"},{"$f":"+VLOOKUP('BASE DE RESPUESTAS'!S54,Back!$M$16:$N$20,2,0)","v":"#N/A"},{"$f":"+VLOOKUP('BASE DE RESPUESTAS'!T54,Back!$M$16:$N$20,2,0)","v":"#N/A"},{"$f":"+VLOOKUP('BASE DE RESPUESTAS'!U54,Back!$M$16:$N$20,2,0)","v":"#N/A"},{"$f":"+VLOOKUP('BASE DE RESPUESTAS'!V54,Back!$M$16:$N$20,2,0)","v":"#N/A"},{"$f":"+VLOOKUP('BASE DE RESPUESTAS'!W54,Back!$M$16:$N$20,2,0)","v":"#N/A"},{"$f":"+VLOOKUP('BASE DE RESPUESTAS'!X54,Back!$M$16:$N$20,2,0)","v":"#N/A"},{"$f":"+VLOOKUP('BASE DE RESPUESTAS'!Y54,Back!$M$16:$N$20,2,0)","v":"#N/A"},{"$f":"+VLOOKUP('BASE DE RESPUESTAS'!Z54,Back!$M$16:$N$20,2,0)","v":"#N/A"},{"$f":"+VLOOKUP('BASE DE RESPUESTAS'!AA54,Back!$M$16:$N$20,2,0)","v":"#N/A"},{"$f":"+VLOOKUP('BASE DE RESPUESTAS'!AB54,Back!$M$16:$N$20,2,0)","v":"#N/A"},{"$f":"+VLOOKUP('BASE DE RESPUESTAS'!AC54,Back!$M$16:$N$20,2,0)","v":"#N/A"},{"$f":"+VLOOKUP('BASE DE RESPUESTAS'!AD54,Back!$M$16:$N$20,2,0)","v":"#N/A"},{"$f":"+VLOOKUP('BASE DE RESPUESTAS'!AE54,Back!$M$16:$N$20,2,0)","v":"#N/A"},{"$f":"+VLOOKUP('BASE DE RESPUESTAS'!AF54,Back!$M$16:$N$20,2,0)","v":"#N/A"},{"$f":"+VLOOKUP('BASE DE RESPUESTAS'!AG54,Back!$M$16:$N$20,2,0)","v":"#N/A"},{"$f":"+VLOOKUP('BASE DE RESPUESTAS'!AH54,Back!$M$16:$N$20,2,0)","v":"#N/A"},{"$f":"+VLOOKUP('BASE DE RESPUESTAS'!AI54,Back!$M$16:$N$20,2,0)","v":"#N/A"},{"$f":"+VLOOKUP('BASE DE RESPUESTAS'!AJ54,Back!$M$16:$N$20,2,0)","v":"#N/A"},{"$f":"+VLOOKUP('BASE DE RESPUESTAS'!AK54,Back!$M$16:$N$20,2,0)","v":"#N/A"},{"$f":"+VLOOKUP('BASE DE RESPUESTAS'!AL54,Back!$M$16:$N$20,2,0)","v":"#N/A"},{"$f":"+VLOOKUP('BASE DE RESPUESTAS'!AM54,Back!$M$16:$N$20,2,0)","v":"#N/A"},{"$f":"+VLOOKUP('BASE DE RESPUESTAS'!AN54,Back!$M$16:$N$20,2,0)","v":"#N/A"},{"$f":"+VLOOKUP('BASE DE RESPUESTAS'!AO54,Back!$M$16:$N$20,2,0)","v":"#N/A"},{"$f":"+VLOOKUP('BASE DE RESPUESTAS'!AP54,Back!$M$16:$N$20,2,0)","v":"#N/A"},{"$f":"+VLOOKUP('BASE DE RESPUESTAS'!AQ54,Back!$M$16:$N$20,2,0)","v":"#N/A"},{"$f":"+VLOOKUP('BASE DE RESPUESTAS'!AR54,Back!$M$16:$N$20,2,0)","v":"#N/A"},{"$f":"+VLOOKUP('BASE DE RESPUESTAS'!AS54,Back!$M$16:$N$20,2,0)","v":"#N/A"},{"$f":"+VLOOKUP('BASE DE RESPUESTAS'!AT54,Back!$M$16:$N$20,2,0)","v":"#N/A"},{"$f":"+VLOOKUP('BASE DE RESPUESTAS'!AU54,Back!$M$16:$N$20,2,0)","v":"#N/A"},{"$f":"+VLOOKUP('BASE DE RESPUESTAS'!AV54,Back!$M$16:$N$20,2,0)","v":"#N/A"},{"$f":"+VLOOKUP('BASE DE RESPUESTAS'!AW54,Back!$M$16:$N$20,2,0)","v":"#N/A"},{"$f":"+VLOOKUP('BASE DE RESPUESTAS'!AX54,Back!$M$16:$N$20,2,0)","v":"#N/A"},{"$f":"+VLOOKUP('BASE DE RESPUESTAS'!AY54,Back!$M$16:$N$20,2,0)","v":"#N/A"},{"$f":"+VLOOKUP('BASE DE RESPUESTAS'!AZ54,Back!$M$16:$N$20,2,0)","v":"#N/A"},{"$f":"+VLOOKUP('BASE DE RESPUESTAS'!BA54,Back!$M$16:$N$20,2,0)","v":"#N/A"},{"$f":"+VLOOKUP('BASE DE RESPUESTAS'!BB54,Back!$M$16:$N$20,2,0)","v":"#N/A"},{"$f":"+VLOOKUP('BASE DE RESPUESTAS'!BC54,Back!$M$16:$N$20,2,0)","v":"#N/A"},{"$f":"+VLOOKUP('BASE DE RESPUESTAS'!BD54,Back!$M$16:$N$20,2,0)","v":"#N/A"},{"$f":"+VLOOKUP('BASE DE RESPUESTAS'!BE54,Back!$M$16:$N$20,2,0)","v":"#N/A"}]
[null,null,null,null,46.0,"La familia no acude a la escuela ni se comunica, no hace seguimiento del proceso educativo del estudiante.",null,{"$f":"+VLOOKUP('BASE DE RESPUESTAS'!H55,Back!$M$16:$N$20,2,0)","v":"#N/A"},{"$f":"+VLOOKUP('BASE DE RESPUESTAS'!I55,Back!$M$16:$N$20,2,0)","v":"#N/A"},{"$f":"+VLOOKUP('BASE DE RESPUESTAS'!J55,Back!$M$16:$N$20,2,0)","v":"#N/A"},{"$f":"+VLOOKUP('BASE DE RESPUESTAS'!K55,Back!$M$16:$N$20,2,0)","v":"#N/A"},{"$f":"+VLOOKUP('BASE DE RESPUESTAS'!L55,Back!$M$16:$N$20,2,0)","v":"#N/A"},{"$f":"+VLOOKUP('BASE DE RESPUESTAS'!M55,Back!$M$16:$N$20,2,0)","v":"#N/A"},{"$f":"+VLOOKUP('BASE DE RESPUESTAS'!N55,Back!$M$16:$N$20,2,0)","v":"#N/A"},{"$f":"+VLOOKUP('BASE DE RESPUESTAS'!O55,Back!$M$16:$N$20,2,0)","v":"#N/A"},{"$f":"+VLOOKUP('BASE DE RESPUESTAS'!P55,Back!$M$16:$N$20,2,0)","v":"#N/A"},{"$f":"+VLOOKUP('BASE DE RESPUESTAS'!Q55,Back!$M$16:$N$20,2,0)","v":"#N/A"},{"$f":"+VLOOKUP('BASE DE RESPUESTAS'!R55,Back!$M$16:$N$20,2,0)","v":"#N/A"},{"$f":"+VLOOKUP('BASE DE RESPUESTAS'!S55,Back!$M$16:$N$20,2,0)","v":"#N/A"},{"$f":"+VLOOKUP('BASE DE RESPUESTAS'!T55,Back!$M$16:$N$20,2,0)","v":"#N/A"},{"$f":"+VLOOKUP('BASE DE RESPUESTAS'!U55,Back!$M$16:$N$20,2,0)","v":"#N/A"},{"$f":"+VLOOKUP('BASE DE RESPUESTAS'!V55,Back!$M$16:$N$20,2,0)","v":"#N/A"},{"$f":"+VLOOKUP('BASE DE RESPUESTAS'!W55,Back!$M$16:$N$20,2,0)","v":"#N/A"},{"$f":"+VLOOKUP('BASE DE RESPUESTAS'!X55,Back!$M$16:$N$20,2,0)","v":"#N/A"},{"$f":"+VLOOKUP('BASE DE RESPUESTAS'!Y55,Back!$M$16:$N$20,2,0)","v":"#N/A"},{"$f":"+VLOOKUP('BASE DE RESPUESTAS'!Z55,Back!$M$16:$N$20,2,0)","v":"#N/A"},{"$f":"+VLOOKUP('BASE DE RESPUESTAS'!AA55,Back!$M$16:$N$20,2,0)","v":"#N/A"},{"$f":"+VLOOKUP('BASE DE RESPUESTAS'!AB55,Back!$M$16:$N$20,2,0)","v":"#N/A"},{"$f":"+VLOOKUP('BASE DE RESPUESTAS'!AC55,Back!$M$16:$N$20,2,0)","v":"#N/A"},{"$f":"+VLOOKUP('BASE DE RESPUESTAS'!AD55,Back!$M$16:$N$20,2,0)","v":"#N/A"},{"$f":"+VLOOKUP('BASE DE RESPUESTAS'!AE55,Back!$M$16:$N$20,2,0)","v":"#N/A"},{"$f":"+VLOOKUP('BASE DE RESPUESTAS'!AF55,Back!$M$16:$N$20,2,0)","v":"#N/A"},{"$f":"+VLOOKUP('BASE DE RESPUESTAS'!AG55,Back!$M$16:$N$20,2,0)","v":"#N/A"},{"$f":"+VLOOKUP('BASE DE RESPUESTAS'!AH55,Back!$M$16:$N$20,2,0)","v":"#N/A"},{"$f":"+VLOOKUP('BASE DE RESPUESTAS'!AI55,Back!$M$16:$N$20,2,0)","v":"#N/A"},{"$f":"+VLOOKUP('BASE DE RESPUESTAS'!AJ55,Back!$M$16:$N$20,2,0)","v":"#N/A"},{"$f":"+VLOOKUP('BASE DE RESPUESTAS'!AK55,Back!$M$16:$N$20,2,0)","v":"#N/A"},{"$f":"+VLOOKUP('BASE DE RESPUESTAS'!AL55,Back!$M$16:$N$20,2,0)","v":"#N/A"},{"$f":"+VLOOKUP('BASE DE RESPUESTAS'!AM55,Back!$M$16:$N$20,2,0)","v":"#N/A"},{"$f":"+VLOOKUP('BASE DE RESPUESTAS'!AN55,Back!$M$16:$N$20,2,0)","v":"#N/A"},{"$f":"+VLOOKUP('BASE DE RESPUESTAS'!AO55,Back!$M$16:$N$20,2,0)","v":"#N/A"},{"$f":"+VLOOKUP('BASE DE RESPUESTAS'!AP55,Back!$M$16:$N$20,2,0)","v":"#N/A"},{"$f":"+VLOOKUP('BASE DE RESPUESTAS'!AQ55,Back!$M$16:$N$20,2,0)","v":"#N/A"},{"$f":"+VLOOKUP('BASE DE RESPUESTAS'!AR55,Back!$M$16:$N$20,2,0)","v":"#N/A"},{"$f":"+VLOOKUP('BASE DE RESPUESTAS'!AS55,Back!$M$16:$N$20,2,0)","v":"#N/A"},{"$f":"+VLOOKUP('BASE DE RESPUESTAS'!AT55,Back!$M$16:$N$20,2,0)","v":"#N/A"},{"$f":"+VLOOKUP('BASE DE RESPUESTAS'!AU55,Back!$M$16:$N$20,2,0)","v":"#N/A"},{"$f":"+VLOOKUP('BASE DE RESPUESTAS'!AV55,Back!$M$16:$N$20,2,0)","v":"#N/A"},{"$f":"+VLOOKUP('BASE DE RESPUESTAS'!AW55,Back!$M$16:$N$20,2,0)","v":"#N/A"},{"$f":"+VLOOKUP('BASE DE RESPUESTAS'!AX55,Back!$M$16:$N$20,2,0)","v":"#N/A"},{"$f":"+VLOOKUP('BASE DE RESPUESTAS'!AY55,Back!$M$16:$N$20,2,0)","v":"#N/A"},{"$f":"+VLOOKUP('BASE DE RESPUESTAS'!AZ55,Back!$M$16:$N$20,2,0)","v":"#N/A"},{"$f":"+VLOOKUP('BASE DE RESPUESTAS'!BA55,Back!$M$16:$N$20,2,0)","v":"#N/A"},{"$f":"+VLOOKUP('BASE DE RESPUESTAS'!BB55,Back!$M$16:$N$20,2,0)","v":"#N/A"},{"$f":"+VLOOKUP('BASE DE RESPUESTAS'!BC55,Back!$M$16:$N$20,2,0)","v":"#N/A"},{"$f":"+VLOOKUP('BASE DE RESPUESTAS'!BD55,Back!$M$16:$N$20,2,0)","v":"#N/A"},{"$f":"+VLOOKUP('BASE DE RESPUESTAS'!BE55,Back!$M$16:$N$20,2,0)","v":"#N/A"}]
[null,"FR","Violencia escolar","La o el estudiante hace distinciones discriminatorias entre varones y mujeres.",47.0,"Excluye a compañeras/os de alguna actividad, argumentando que no pueden participan porque son mujeres o porque son hombres",null,{"$f":"+VLOOKUP('BASE DE RESPUESTAS'!H56,Back!$M$16:$N$20,2,0)","v":"#N/A"},{"$f":"+VLOOKUP('BASE DE RESPUESTAS'!I56,Back!$M$16:$N$20,2,0)","v":"#N/A"},{"$f":"+VLOOKUP('BASE DE RESPUESTAS'!J56,Back!$M$16:$N$20,2,0)","v":"#N/A"},{"$f":"+VLOOKUP('BASE DE RESPUESTAS'!K56,Back!$M$16:$N$20,2,0)","v":"#N/A"},{"$f":"+VLOOKUP('BASE DE RESPUESTAS'!L56,Back!$M$16:$N$20,2,0)","v":"#N/A"},{"$f":"+VLOOKUP('BASE DE RESPUESTAS'!M56,Back!$M$16:$N$20,2,0)","v":"#N/A"},{"$f":"+VLOOKUP('BASE DE RESPUESTAS'!N56,Back!$M$16:$N$20,2,0)","v":"#N/A"},{"$f":"+VLOOKUP('BASE DE RESPUESTAS'!O56,Back!$M$16:$N$20,2,0)","v":"#N/A"},{"$f":"+VLOOKUP('BASE DE RESPUESTAS'!P56,Back!$M$16:$N$20,2,0)","v":"#N/A"},{"$f":"+VLOOKUP('BASE DE RESPUESTAS'!Q56,Back!$M$16:$N$20,2,0)","v":"#N/A"},{"$f":"+VLOOKUP('BASE DE RESPUESTAS'!R56,Back!$M$16:$N$20,2,0)","v":"#N/A"},{"$f":"+VLOOKUP('BASE DE RESPUESTAS'!S56,Back!$M$16:$N$20,2,0)","v":"#N/A"},{"$f":"+VLOOKUP('BASE DE RESPUESTAS'!T56,Back!$M$16:$N$20,2,0)","v":"#N/A"},{"$f":"+VLOOKUP('BASE DE RESPUESTAS'!U56,Back!$M$16:$N$20,2,0)","v":"#N/A"},{"$f":"+VLOOKUP('BASE DE RESPUESTAS'!V56,Back!$M$16:$N$20,2,0)","v":"#N/A"},{"$f":"+VLOOKUP('BASE DE RESPUESTAS'!W56,Back!$M$16:$N$20,2,0)","v":"#N/A"},{"$f":"+VLOOKUP('BASE DE RESPUESTAS'!X56,Back!$M$16:$N$20,2,0)","v":"#N/A"},{"$f":"+VLOOKUP('BASE DE RESPUESTAS'!Y56,Back!$M$16:$N$20,2,0)","v":"#N/A"},{"$f":"+VLOOKUP('BASE DE RESPUESTAS'!Z56,Back!$M$16:$N$20,2,0)","v":"#N/A"},{"$f":"+VLOOKUP('BASE DE RESPUESTAS'!AA56,Back!$M$16:$N$20,2,0)","v":"#N/A"},{"$f":"+VLOOKUP('BASE DE RESPUESTAS'!AB56,Back!$M$16:$N$20,2,0)","v":"#N/A"},{"$f":"+VLOOKUP('BASE DE RESPUESTAS'!AC56,Back!$M$16:$N$20,2,0)","v":"#N/A"},{"$f":"+VLOOKUP('BASE DE RESPUESTAS'!AD56,Back!$M$16:$N$20,2,0)","v":"#N/A"},{"$f":"+VLOOKUP('BASE DE RESPUESTAS'!AE56,Back!$M$16:$N$20,2,0)","v":"#N/A"},{"$f":"+VLOOKUP('BASE DE RESPUESTAS'!AF56,Back!$M$16:$N$20,2,0)","v":"#N/A"},{"$f":"+VLOOKUP('BASE DE RESPUESTAS'!AG56,Back!$M$16:$N$20,2,0)","v":"#N/A"},{"$f":"+VLOOKUP('BASE DE RESPUESTAS'!AH56,Back!$M$16:$N$20,2,0)","v":"#N/A"},{"$f":"+VLOOKUP('BASE DE RESPUESTAS'!AI56,Back!$M$16:$N$20,2,0)","v":"#N/A"},{"$f":"+VLOOKUP('BASE DE RESPUESTAS'!AJ56,Back!$M$16:$N$20,2,0)","v":"#N/A"},{"$f":"+VLOOKUP('BASE DE RESPUESTAS'!AK56,Back!$M$16:$N$20,2,0)","v":"#N/A"},{"$f":"+VLOOKUP('BASE DE RESPUESTAS'!AL56,Back!$M$16:$N$20,2,0)","v":"#N/A"},{"$f":"+VLOOKUP('BASE DE RESPUESTAS'!AM56,Back!$M$16:$N$20,2,0)","v":"#N/A"},{"$f":"+VLOOKUP('BASE DE RESPUESTAS'!AN56,Back!$M$16:$N$20,2,0)","v":"#N/A"},{"$f":"+VLOOKUP('BASE DE RESPUESTAS'!AO56,Back!$M$16:$N$20,2,0)","v":"#N/A"},{"$f":"+VLOOKUP('BASE DE RESPUESTAS'!AP56,Back!$M$16:$N$20,2,0)","v":"#N/A"},{"$f":"+VLOOKUP('BASE DE RESPUESTAS'!AQ56,Back!$M$16:$N$20,2,0)","v":"#N/A"},{"$f":"+VLOOKUP('BASE DE RESPUESTAS'!AR56,Back!$M$16:$N$20,2,0)","v":"#N/A"},{"$f":"+VLOOKUP('BASE DE RESPUESTAS'!AS56,Back!$M$16:$N$20,2,0)","v":"#N/A"},{"$f":"+VLOOKUP('BASE DE RESPUESTAS'!AT56,Back!$M$16:$N$20,2,0)","v":"#N/A"},{"$f":"+VLOOKUP('BASE DE RESPUESTAS'!AU56,Back!$M$16:$N$20,2,0)","v":"#N/A"},{"$f":"+VLOOKUP('BASE DE RESPUESTAS'!AV56,Back!$M$16:$N$20,2,0)","v":"#N/A"},{"$f":"+VLOOKUP('BASE DE RESPUESTAS'!AW56,Back!$M$16:$N$20,2,0)","v":"#N/A"},{"$f":"+VLOOKUP('BASE DE RESPUESTAS'!AX56,Back!$M$16:$N$20,2,0)","v":"#N/A"},{"$f":"+VLOOKUP('BASE DE RESPUESTAS'!AY56,Back!$M$16:$N$20,2,0)","v":"#N/A"},{"$f":"+VLOOKUP('BASE DE RESPUESTAS'!AZ56,Back!$M$16:$N$20,2,0)","v":"#N/A"},{"$f":"+VLOOKUP('BASE DE RESPUESTAS'!BA56,Back!$M$16:$N$20,2,0)","v":"#N/A"},{"$f":"+VLOOKUP('BASE DE RESPUESTAS'!BB56,Back!$M$16:$N$20,2,0)","v":"#N/A"},{"$f":"+VLOOKUP('BASE DE RESPUESTAS'!BC56,Back!$M$16:$N$20,2,0)","v":"#N/A"},{"$f":"+VLOOKUP('BASE DE RESPUESTAS'!BD56,Back!$M$16:$N$20,2,0)","v":"#N/A"},{"$f":"+VLOOKUP('BASE DE RESPUESTAS'!BE56,Back!$M$16:$N$20,2,0)","v":"#N/A"}]
[null,null,null,"La o el estudiante recibe gritos, amenazas o golpes por parte de sus compañeras/os.",48.0,"La o el estudiante recibe gritos, amenazas o golpes por parte de sus compañeras/os o lo excluyen constantemente.",null,{"$f":"+VLOOKUP('BASE DE RESPUESTAS'!H57,Back!$M$16:$N$20,2,0)","v":"#N/A"},{"$f":"+VLOOKUP('BASE DE RESPUESTAS'!I57,Back!$M$16:$N$20,2,0)","v":"#N/A"},{"$f":"+VLOOKUP('BASE DE RESPUESTAS'!J57,Back!$M$16:$N$20,2,0)","v":"#N/A"},{"$f":"+VLOOKUP('BASE DE RESPUESTAS'!K57,Back!$M$16:$N$20,2,0)","v":"#N/A"},{"$f":"+VLOOKUP('BASE DE RESPUESTAS'!L57,Back!$M$16:$N$20,2,0)","v":"#N/A"},{"$f":"+VLOOKUP('BASE DE RESPUESTAS'!M57,Back!$M$16:$N$20,2,0)","v":"#N/A"},{"$f":"+VLOOKUP('BASE DE RESPUESTAS'!N57,Back!$M$16:$N$20,2,0)","v":"#N/A"},{"$f":"+VLOOKUP('BASE DE RESPUESTAS'!O57,Back!$M$16:$N$20,2,0)","v":"#N/A"},{"$f":"+VLOOKUP('BASE DE RESPUESTAS'!P57,Back!$M$16:$N$20,2,0)","v":"#N/A"},{"$f":"+VLOOKUP('BASE DE RESPUESTAS'!Q57,Back!$M$16:$N$20,2,0)","v":"#N/A"},{"$f":"+VLOOKUP('BASE DE RESPUESTAS'!R57,Back!$M$16:$N$20,2,0)","v":"#N/A"},{"$f":"+VLOOKUP('BASE DE RESPUESTAS'!S57,Back!$M$16:$N$20,2,0)","v":"#N/A"},{"$f":"+VLOOKUP('BASE DE RESPUESTAS'!T57,Back!$M$16:$N$20,2,0)","v":"#N/A"},{"$f":"+VLOOKUP('BASE DE RESPUESTAS'!U57,Back!$M$16:$N$20,2,0)","v":"#N/A"},{"$f":"+VLOOKUP('BASE DE RESPUESTAS'!V57,Back!$M$16:$N$20,2,0)","v":"#N/A"},{"$f":"+VLOOKUP('BASE DE RESPUESTAS'!W57,Back!$M$16:$N$20,2,0)","v":"#N/A"},{"$f":"+VLOOKUP('BASE DE RESPUESTAS'!X57,Back!$M$16:$N$20,2,0)","v":"#N/A"},{"$f":"+VLOOKUP('BASE DE RESPUESTAS'!Y57,Back!$M$16:$N$20,2,0)","v":"#N/A"},{"$f":"+VLOOKUP('BASE DE RESPUESTAS'!Z57,Back!$M$16:$N$20,2,0)","v":"#N/A"},{"$f":"+VLOOKUP('BASE DE RESPUESTAS'!AA57,Back!$M$16:$N$20,2,0)","v":"#N/A"},{"$f":"+VLOOKUP('BASE DE RESPUESTAS'!AB57,Back!$M$16:$N$20,2,0)","v":"#N/A"},{"$f":"+VLOOKUP('BASE DE RESPUESTAS'!AC57,Back!$M$16:$N$20,2,0)","v":"#N/A"},{"$f":"+VLOOKUP('BASE DE RESPUESTAS'!AD57,Back!$M$16:$N$20,2,0)","v":"#N/A"},{"$f":"+VLOOKUP('BASE DE RESPUESTAS'!AE57,Back!$M$16:$N$20,2,0)","v":"#N/A"},{"$f":"+VLOOKUP('BASE DE RESPUESTAS'!AF57,Back!$M$16:$N$20,2,0)","v":"#N/A"},{"$f":"+VLOOKUP('BASE DE RESPUESTAS'!AG57,Back!$M$16:$N$20,2,0)","v":"#N/A"},{"$f":"+VLOOKUP('BASE DE RESPUESTAS'!AH57,Back!$M$16:$N$20,2,0)","v":"#N/A"},{"$f":"+VLOOKUP('BASE DE RESPUESTAS'!AI57,Back!$M$16:$N$20,2,0)","v":"#N/A"},{"$f":"+VLOOKUP('BASE DE RESPUESTAS'!AJ57,Back!$M$16:$N$20,2,0)","v":"#N/A"},{"$f":"+VLOOKUP('BASE DE RESPUESTAS'!AK57,Back!$M$16:$N$20,2,0)","v":"#N/A"},{"$f":"+VLOOKUP('BASE DE RESPUESTAS'!AL57,Back!$M$16:$N$20,2,0)","v":"#N/A"},{"$f":"+VLOOKUP('BASE DE RESPUESTAS'!AM57,Back!$M$16:$N$20,2,0)","v":"#N/A"},{"$f":"+VLOOKUP('BASE DE RESPUESTAS'!AN57,Back!$M$16:$N$20,2,0)","v":"#N/A"},{"$f":"+VLOOKUP('BASE DE RESPUESTAS'!AO57,Back!$M$16:$N$20,2,0)","v":"#N/A"},{"$f":"+VLOOKUP('BASE DE RESPUESTAS'!AP57,Back!$M$16:$N$20,2,0)","v":"#N/A"},{"$f":"+VLOOKUP('BASE DE RESPUESTAS'!AQ57,Back!$M$16:$N$20,2,0)","v":"#N/A"},{"$f":"+VLOOKUP('BASE DE RESPUESTAS'!AR57,Back!$M$16:$N$20,2,0)","v":"#N/A"},{"$f":"+VLOOKUP('BASE DE RESPUESTAS'!AS57,Back!$M$16:$N$20,2,0)","v":"#N/A"},{"$f":"+VLOOKUP('BASE DE RESPUESTAS'!AT57,Back!$M$16:$N$20,2,0)","v":"#N/A"},{"$f":"+VLOOKUP('BASE DE RESPUESTAS'!AU57,Back!$M$16:$N$20,2,0)","v":"#N/A"},{"$f":"+VLOOKUP('BASE DE RESPUESTAS'!AV57,Back!$M$16:$N$20,2,0)","v":"#N/A"},{"$f":"+VLOOKUP('BASE DE RESPUESTAS'!AW57,Back!$M$16:$N$20,2,0)","v":"#N/A"},{"$f":"+VLOOKUP('BASE DE RESPUESTAS'!AX57,Back!$M$16:$N$20,2,0)","v":"#N/A"},{"$f":"+VLOOKUP('BASE DE RESPUESTAS'!AY57,Back!$M$16:$N$20,2,0)","v":"#N/A"},{"$f":"+VLOOKUP('BASE DE RESPUESTAS'!AZ57,Back!$M$16:$N$20,2,0)","v":"#N/A"},{"$f":"+VLOOKUP('BASE DE RESPUESTAS'!BA57,Back!$M$16:$N$20,2,0)","v":"#N/A"},{"$f":"+VLOOKUP('BASE DE RESPUESTAS'!BB57,Back!$M$16:$N$20,2,0)","v":"#N/A"},{"$f":"+VLOOKUP('BASE DE RESPUESTAS'!BC57,Back!$M$16:$N$20,2,0)","v":"#N/A"},{"$f":"+VLOOKUP('BASE DE RESPUESTAS'!BD57,Back!$M$16:$N$20,2,0)","v":"#N/A"},{"$f":"+VLOOKUP('BASE DE RESPUESTAS'!BE57,Back!$M$16:$N$20,2,0)","v":"#N/A"}]
[null,null,null,"La o el estudiante se relaciona de manera agresiva física y/o verbal con sus compañeras/os.",49.0,"La o el estudiante grita, amenaza o golpea a sus compañeras/os para imponerse.",null,{"$f":"+VLOOKUP('BASE DE RESPUESTAS'!H58,Back!$M$16:$N$20,2,0)","v":"#N/A"},{"$f":"+VLOOKUP('BASE DE RESPUESTAS'!I58,Back!$M$16:$N$20,2,0)","v":"#N/A"},{"$f":"+VLOOKUP('BASE DE RESPUESTAS'!J58,Back!$M$16:$N$20,2,0)","v":"#N/A"},{"$f":"+VLOOKUP('BASE DE RESPUESTAS'!K58,Back!$M$16:$N$20,2,0)","v":"#N/A"},{"$f":"+VLOOKUP('BASE DE RESPUESTAS'!L58,Back!$M$16:$N$20,2,0)","v":"#N/A"},{"$f":"+VLOOKUP('BASE DE RESPUESTAS'!M58,Back!$M$16:$N$20,2,0)","v":"#N/A"},{"$f":"+VLOOKUP('BASE DE RESPUESTAS'!N58,Back!$M$16:$N$20,2,0)","v":"#N/A"},{"$f":"+VLOOKUP('BASE DE RESPUESTAS'!O58,Back!$M$16:$N$20,2,0)","v":"#N/A"},{"$f":"+VLOOKUP('BASE DE RESPUESTAS'!P58,Back!$M$16:$N$20,2,0)","v":"#N/A"},{"$f":"+VLOOKUP('BASE DE RESPUESTAS'!Q58,Back!$M$16:$N$20,2,0)","v":"#N/A"},{"$f":"+VLOOKUP('BASE DE RESPUESTAS'!R58,Back!$M$16:$N$20,2,0)","v":"#N/A"},{"$f":"+VLOOKUP('BASE DE RESPUESTAS'!S58,Back!$M$16:$N$20,2,0)","v":"#N/A"},{"$f":"+VLOOKUP('BASE DE RESPUESTAS'!T58,Back!$M$16:$N$20,2,0)","v":"#N/A"},{"$f":"+VLOOKUP('BASE DE RESPUESTAS'!U58,Back!$M$16:$N$20,2,0)","v":"#N/A"},{"$f":"+VLOOKUP('BASE DE RESPUESTAS'!V58,Back!$M$16:$N$20,2,0)","v":"#N/A"},{"$f":"+VLOOKUP('BASE DE RESPUESTAS'!W58,Back!$M$16:$N$20,2,0)","v":"#N/A"},{"$f":"+VLOOKUP('BASE DE RESPUESTAS'!X58,Back!$M$16:$N$20,2,0)","v":"#N/A"},{"$f":"+VLOOKUP('BASE DE RESPUESTAS'!Y58,Back!$M$16:$N$20,2,0)","v":"#N/A"},{"$f":"+VLOOKUP('BASE DE RESPUESTAS'!Z58,Back!$M$16:$N$20,2,0)","v":"#N/A"},{"$f":"+VLOOKUP('BASE DE RESPUESTAS'!AA58,Back!$M$16:$N$20,2,0)","v":"#N/A"},{"$f":"+VLOOKUP('BASE DE RESPUESTAS'!AB58,Back!$M$16:$N$20,2,0)","v":"#N/A"},{"$f":"+VLOOKUP('BASE DE RESPUESTAS'!AC58,Back!$M$16:$N$20,2,0)","v":"#N/A"},{"$f":"+VLOOKUP('BASE DE RESPUESTAS'!AD58,Back!$M$16:$N$20,2,0)","v":"#N/A"},{"$f":"+VLOOKUP('BASE DE RESPUESTAS'!AE58,Back!$M$16:$N$20,2,0)","v":"#N/A"},{"$f":"+VLOOKUP('BASE DE RESPUESTAS'!AF58,Back!$M$16:$N$20,2,0)","v":"#N/A"},{"$f":"+VLOOKUP('BASE DE RESPUESTAS'!AG58,Back!$M$16:$N$20,2,0)","v":"#N/A"},{"$f":"+VLOOKUP('BASE DE RESPUESTAS'!AH58,Back!$M$16:$N$20,2,0)","v":"#N/A"},{"$f":"+VLOOKUP('BASE DE RESPUESTAS'!AI58,Back!$M$16:$N$20,2,0)","v":"#N/A"},{"$f":"+VLOOKUP('BASE DE RESPUESTAS'!AJ58,Back!$M$16:$N$20,2,0)","v":"#N/A"},{"$f":"+VLOOKUP('BASE DE RESPUESTAS'!AK58,Back!$M$16:$N$20,2,0)","v":"#N/A"},{"$f":"+VLOOKUP('BASE DE RESPUESTAS'!AL58,Back!$M$16:$N$20,2,0)","v":"#N/A"},{"$f":"+VLOOKUP('BASE DE RESPUESTAS'!AM58,Back!$M$16:$N$20,2,0)","v":"#N/A"},{"$f":"+VLOOKUP('BASE DE RESPUESTAS'!AN58,Back!$M$16:$N$20,2,0)","v":"#N/A"},{"$f":"+VLOOKUP('BASE DE RESPUESTAS'!AO58,Back!$M$16:$N$20,2,0)","v":"#N/A"},{"$f":"+VLOOKUP('BASE DE RESPUESTAS'!AP58,Back!$M$16:$N$20,2,0)","v":"#N/A"},{"$f":"+VLOOKUP('BASE DE RESPUESTAS'!AQ58,Back!$M$16:$N$20,2,0)","v":"#N/A"},{"$f":"+VLOOKUP('BASE DE RESPUESTAS'!AR58,Back!$M$16:$N$20,2,0)","v":"#N/A"},{"$f":"+VLOOKUP('BASE DE RESPUESTAS'!AS58,Back!$M$16:$N$20,2,0)","v":"#N/A"},{"$f":"+VLOOKUP('BASE DE RESPUESTAS'!AT58,Back!$M$16:$N$20,2,0)","v":"#N/A"},{"$f":"+VLOOKUP('BASE DE RESPUESTAS'!AU58,Back!$M$16:$N$20,2,0)","v":"#N/A"},{"$f":"+VLOOKUP('BASE DE RESPUESTAS'!AV58,Back!$M$16:$N$20,2,0)","v":"#N/A"},{"$f":"+VLOOKUP('BASE DE RESPUESTAS'!AW58,Back!$M$16:$N$20,2,0)","v":"#N/A"},{"$f":"+VLOOKUP('BASE DE RESPUESTAS'!AX58,Back!$M$16:$N$20,2,0)","v":"#N/A"},{"$f":"+VLOOKUP('BASE DE RESPUESTAS'!AY58,Back!$M$16:$N$20,2,0)","v":"#N/A"},{"$f":"+VLOOKUP('BASE DE RESPUESTAS'!AZ58,Back!$M$16:$N$20,2,0)","v":"#N/A"},{"$f":"+VLOOKUP('BASE DE RESPUESTAS'!BA58,Back!$M$16:$N$20,2,0)","v":"#N/A"},{"$f":"+VLOOKUP('BASE DE RESPUESTAS'!BB58,Back!$M$16:$N$20,2,0)","v":"#N/A"},{"$f":"+VLOOKUP('BASE DE RESPUESTAS'!BC58,Back!$M$16:$N$20,2,0)","v":"#N/A"},{"$f":"+VLOOKUP('BASE DE RESPUESTAS'!BD58,Back!$M$16:$N$20,2,0)","v":"#N/A"},{"$f":"+VLOOKUP('BASE DE RESPUESTAS'!BE58,Back!$M$16:$N$20,2,0)","v":"#N/A"}]

{"sheet":"BASE DE RESPUESTAS","index":4,"n_rows":58,"n_cols":57,"rows_kept":58,"cut":false,"hidden":false,"merged":[[4,21,5,21],[4,22,5,22],[4,23,5,23],[4,24,5,24],[4,25,5,25],[4,26,5,26],[4,27,5,27],[4,28,5,28],[4,29,5,29],[4,30,5,30],[4,31,5,31],[4,32,5,32],[4,33,5,33],[4,34,5,34],[4,49,5,49],[4,50,5,50],[4,51,5,51],[4,52,5,52],[4,53,5,53],[4,54,5,54],[4,55,5,55],[4,56,5,56],[3,1,3,5],[3,7,3,56],[4,1,5,1],[4,2,5,2],[4,3,5,3],[4,4,5,4],[4,5,5,5],[4,35,5,35],[4,36,5,36],[4,37,5,37],[4,38,5,38],[4,39,5,39],[4,40,5,40],[4,41,5,41],[4,42,5,42],[4,43,5,43],[4,44,5,44],[4,45,5,45],[4,46,5,46],[4,47,5,47],[4,48,5,48],[4,9,5,9],[4,10,5,10],[4,11,5,11],[4,12,5,12],[4,13,5,13],[4,14,5,14],[4,15,5,15],[4,16,5,16],[4,17,5,17],[4,18,5,18],[4,19,5,19],[4,20,5,20],[4,7,5,7],[4,8,5,8],[6,1,9,1],[6,2,9,2],[6,3,8,3],[10,2,14,2],[11,3,14,3],[39,1,40,1],[39,2,40,2],[41,1,43,1],[41,2,43,2],[41,3,42,3],[44,2,45,2],[44,3,45,3],[44,1,45,1],[46,1,47,1],[46,2,47,2],[48,1,49,1],[48,2,49,2],[48,3,49,3],[50,1,51,1],[10,1,14,1],[15,1,18,1],[15,2,18,2],[15,3,16,3],[17,3,18,3],[19,2,21,2],[19,3,20,3],[19,1,21,1],[23,1,24,1],[23,2,24,2],[23,3,24,3],[23,4,24,4],[23,5,24,5],[25,1,26,1],[31,3,32,3],[33,3,34,3],[35,3,36,3],[25,2,26,2],[25,3,26,3],[27,1,28,1],[27,2,28,2],[27,3,28,3],[29,2,30,2],[29,3,30,3],[29,1,30,1],[31,1,34,1],[31,2,34,2],[35,1,36,1],[35,2,36,2],[37,1,38,1],[37,2,38,2],[50,2,51,2],[50,3,51,3],[53,1,54,1],[53,2,54,2],[53,3,54,3],[55,1,57,1],[55,2,57,2]]}
[]
[null,null,null,null,null,null,null,{"$f":"IF(COUNTA(H7:H58)>=50,\"Respuestas Completas\",\"Falta Completar\")","v":"Falta Completar"},"Falta Completar","Falta Completar","Falta Completar","Falta Completar","Falta Completar","Falta Completar","Falta Completar","Falta Completar","Falta Completar","Falta Completar","Falta Completar","Falta Completar","Falta Completar","Falta Completar","Falta Completar","Falta Completar","Falta Completar","Falta Completar","Falta Completar","Falta Completar","Falta Completar","Falta Completar","Falta Completar","Falta Completar","Falta Completar","Falta Completar","Falta Completar","Falta Completar","Falta Completar","Falta Completar","Falta Completar","Falta Completar","Falta Completar","Falta Completar","Falta Completar","Falta Completar","Falta Completar","Falta Completar","Falta Completar","Falta Completar","Falta Completar","Falta Completar","Falta Completar","Falta Completar","Falta Completar","Falta Completar","Falta Completar","Falta Completar","Falta Completar"]
[]
[null,"INFORMACIÓN BÁSICA",null,null,null,null,null,"ESTUDIANTES"]
[null,"Dimensión","Escala","Indicador","Número","Preguntas",null,"Estudiante 1","Estudiante 2","Estudiante 3","Estudiante 4","Estudiante 5","Estudiante 6","Estudiante 7","Estudiante 8","Estudiante 9","Estudiante 10","Estudiante 11","Estudiante 12","Estudiante 13","Estudiante 14","Estudiante 15","Estudiante 16","Estudiante 17","Estudiante 18","Estudiante 19","Estudiante 20","Estudiante 21","Estudiante 22","Estudiante 23","Estudiante 24","Estudiante 25","Estudiante 26","Estudiante 27","Estudiante 28","Estudiante 29","Estudiante 30","Estudiante 31","Estudiante 32","Estudiante 33","Estudiante 34","Estudiante 35","Estudiante 36","Estudiante 37","Estudiante 38","Estudiante 39","Estudiante 40","Estudiante 41","Estudiante 42","Estudiante 43","Estudiante 44","Estudiante 45","Estudiante 46","Estudiante 47","Estudiante 48","Estudiante 49","Estudiante 50"]
[]
[null,"HSE","Autoconcepto","El o la estudiante reconoce las características que más le gustan de sí misma/o.",1.0,"Marca con color rojo las partes de tu cuerpo que más te gustan."]
[null,null,null,null,3.0,"Dibuja lo que mejor sabes hacer."]
[null,null,null,null,4.0,"Dibuja lo que más te gusta."]
[null,null,null,"El o la estudiante reconoce las características que menos le gustan de sí misma/o.",2.0,"Marca con color azul las partes de tu cuerpo que no te gustan."]
[null,"HSE","Autoestima","El o la estudiante se reconoce a sí mismo(a) como valioso(a) a partir de sus características.",5.0,"¿Te gusta cómo eres?"]
[null,null,null,"El o la estudiante se da cuenta que es capaz de realizar tareas y aceptar retos.",6.0,"Yo solita/o puedo: Lavarme los dientes."]
[null,null,null,null,7.0,"Yo solita/o puedo: Vestirme yo sola/o."]
[null,null,null,null,8.0,"Yo solita/o puedo: Peinar mi cabello."]
[null,null,null,null,9.0,"Yo solita/o puedo: Ordenar mis juguetes"]
[null,"HSE","Conciencia emocional","El o la estudiante reconoce sus emociones.",10.0,"¿Cómo te sentirías si te dan un regalo?"]
[null,null,null,null,11.0,"¿Cómo te sentirías si estas corriendo y te caes?"]
[null,null,null,"El o la estudiante reconoce las emociones de sus compañeros.",12.0,"¿Cómo se sentiría tu amigo o amiga si no le dejan jugar?"]
[null,null,null,null,13.0,"¿Cómo se sentiría tu amigo o amiga si la invitan a jugar?"]
[null,"HSE","Autocuidado","El o la estudiante reconoce situaciones que afectan su bienestar.",14.0,"¿Te puede hacer daño jugar con una pelota?"]
[null,null,null,null,15.0,"¿Te puede hacer daño jugar con una tijera?"]
[null,null,null,"El o la estudiante reconoce situaciones de riesgo y busca ayuda.",16.0,"Pinta tu respuesta ¿Qué harías si estás solo/a y te encuentras en peligro"]
[]
[null,"Dimensión","Escala","Indicador","Número","Preguntas"]
[null,null,null,null,null,null,null,"Responder Si/No","Responder Si/No","Responder Si/No","Responder Si/No","Responder Si/No","Responder Si/No","Responder Si/No","Responder Si/No","Responder Si/No","Responder Si/No","Responder Si/No","Responder Si/No","Responder Si/No","Responder Si/No","Responder Si/No","Responder Si/No","Responder Si/No","Responder Si/No","Responder Si/No","Responder Si/No","Responder Si/No","Responder Si/No","Responder Si/No","Responder Si/No","Responder Si/No","Responder Si/No","Responder Si/No","Responder Si/No","Responder Si/No","Responder Si/No","Responder Si/No","Responder Si/No","Responder Si/No","Responder Si/No","Responder Si/No","Responder Si/No","Responder Si/No","Responder Si/No","Responder Si/No","Responder Si/No","Responder Si/No","Responder Si/No","Responder Si/No","Responder Si/No","Responder Si/No","Responder Si/No","Responder Si/No","Responder Si/No","Responder Si/No","Responder Si/No"]
[null,"HSE","Regulación emocional","La o el estudiante regula sus emociones con apoyo de un adulto",17.0,"Expresa su enojo sin hacerse daño ni hacer daño a otros."]
[null,null,null,null,18.0,"Es capaz de comunicar cómo se siente ante diferentes situaciones y pedir ayuda si lo necesita."]
[null,"HSE","Creatividad"," La o el estudiante propone distintas formas para resolver un problema o una tarea.",19.0,"Propone ideas nuevas y útiles para resolver problemas cotidianos."]
[null,null,null,null,20.0,"Sugiere o sorprende con distintas formas de expresión."]
[null,"HSE","Toma de decisiones responsables","La o el estudiante es consciente que sus decisiones tienen consecuencias (causa-efecto).",21.0,"Entre dos o más acciones elige aquella que lo beneficia o benefician a otros."]
[null,null,null,null,22.0,"Explica las consecuencias que puede traer actuar de tal o cual forma."]
[null,"HSE","Comunicación asertiva","La o el estudiante practica la escucha activa.",23.0,"Presta atención a la persona que le habla"]
[null,null,null,null,24.0,"Responde o dialoga siguiendo la conversación.\n"]
[null,null,null," La o el estudiante comparte sus opiniones con respeto.\n",25.0,"Expresa con amabilidad lo que piensa y siente."]
[null,null,null,null,26.0,"Considera que sus ideas son válidas y que es importante que sus compañeros las escuchen."]
[null,"HSE","Trabajo en equipo","La o el estudiante trabaja colaborativamente con sus compañeros.",27.0,"Da su opinión y realiza las tareas acordadas en el equipo."]
[null,null,null,null,28.0,"Participa en el intercambio de ideas para llegar a acuerdos comunes."]
[null,"HSE","Empatía","La o el estudiante reconoce las emociones que sus compañeros experimentan para fortalecer sus vínculos afectivos.",29.0,"Es capaz de darse cuenta de cómo se sienten otras personas."]
[null,null,null,"La o el estudiante comprende los puntos de vista de sus compañeros ante un desacuerdo.",30.0,"Propone acciones u ofrece ayuda cuando un compañero o compañera lo necesita.\n\n"]
[null,"HSE","Resolución de conflictos","La o el estudiante reconoce que existen distintos puntos de vista e intenta integrarlos en la solución.",31.0,"Toma en cuenta la opinión de sus compañeras o compañeros en lugar de imponerse ante una situación de conflicto."]
[null,null,null,"La o el estudiante reconoce que las personas somos diversas y que todas merecen buen trato.",32.0,"Participa activamente en la búsqueda de soluciones."]
[null,"HSE","Conciencia social","La o el estudiante reconoce que las personas somos diversas y que todas merecen buen trato.",33.0,"Reconoce situaciones que afecten el bienestar propio o el de sus compañeros y es capaz de pedir ayuda a un adulto."]
[null,null,null,null,34.0,"Se dirige a los demás por su nombre y no por apodos."]
[null,null,null,"La o el estudiante establece relaciones igualitarias con sus compañeros.\n",35.0,"Participa y deja participar a otros sin distinción para jugar o hacer las mismas actividades, dependiendo de sus gustos y preferencias."]
[null,"HSE","Comportamiento prosocial","La o el estudiante realiza acciones de bien común en el aula, por motivación propia.",36.0,"Ayuda a mantener limpio y ordenado los espacios y materiales que comparte con sus compañeros."]
[null,null,null,null,37.0,"Mantiene hábitos de autocuidado (aseo personal, alimentación, etc.) para su propio bienestar y el de los demás."]
[null,"FR","Dificultades para mantener la concentración","El o la estudiante interrumpe constantemente una actividad.",38.0,"Interrumpe constantemente (moviéndose, hablando, etc.) el desarrollo de una actividad en el aula."]
[null,null,null,"El o la estudiante le cuesta seguir las actividades o rutinas.",39.0,"Presenta dificultad para acabar tareas ya empezadas."]
[null,"FR","Dificultades en el desarrollo social","La o el estudiante se retrae y no participa de actividades grupales",40.0,"Durante el recreo, se aísla, o no participa de los juegos con sus compañeras y compañeros"]
[null,null,null,null,41.0,"No tiene iniciativa para participar en las actividades grupales. "]
[null,"FR","Trabajo Infantil","El o la estudiante se ve en la necesidad de involucrarse en actividades laborales o de cuidado.",42.0,"Se encarga de tareas del hogar o de cuidado que no van acordes con su edad."]
[null,null,null,null,43.0,"Realiza tareas fuera del hogar como vender caramelos, exponiéndose a riesgos."]
[null,"FR","Ausentismo Escolar","El o la estudiante falta recurrentemente a la escuela sin justificación.",44.0,"Falta al menos una vez a la semana a la escuela sin justificación."]
[null,"FR","Riesgo de desprotección familiar","El o la estudiante presenta señales de descuido y desprotección familiar.",45.0,"Asiste a clases desaseado o con indicios de falta de higiene reiteradamente."]
[null,null,null,null,46.0,"La familia no acude a la escuela ni se comunica, no hace seguimiento del proceso educativo del estudiante."]
[null,"FR","Violencia escolar","La o el estudiante hace distinciones discriminatorias entre varones y mujeres.",47.0,"Excluye a compañeras/os de alguna actividad, argumentando que no pueden participan porque son mujeres o porque son hombres"]
[null,null,null,"La o el estudiante recibe gritos, amenazas o golpes por parte de sus compañeras/os.",48.0,"La o el estudiante recibe gritos, amenazas o golpes por parte de sus compañeras/os o lo excluyen constantemente."]
[null,null,null,"La o el estudiante se relaciona de manera agresiva física y/o verbal con sus compañeras/os.",49.0,"La o el estudiante grita, amenaza o golpea a sus compañeras/os para imponerse."]

{"sheet":"Resumen de indicadores HSE","index":5,"n_rows":32,"n_cols":57,"rows_kept":32,"cut":false,"hidden":false,"merged":[[7,3,7,4],[8,3,8,4],[8,2,9,2],[10,2,11,2],[15,2,16,2],[18,2,19,2],[20,2,21,2],[22,2,23,2],[3,3,3,4],[4,2,5,2],[4,3,4,4],[5,3,5,4],[6,2,7,2],[6,3,6,4],[9,3,9,4],[17,3,17,4],[18,3,18,4],[19,3,19,4],[20,3,20,4],[21,3,21,4],[22,3,22,4],[23,3,23,4],[24,3,24,4],[10,3,10,4],[11,3,11,4],[12,3,12,4],[13,3,13,4],[14,3,14,4],[15,3,15,4],[16,3,16,4]]}
[]
[]
[]
[null,"Dimensión","Escala","Indicadores",null,"Puntaje Promedio del aula, por indicador",null,{"$f":"+'BASE DE RESPUESTAS'!H5","v":"Estudiante 1"},{"$f":"+'BASE DE RESPUESTAS'!I5","v":"Estudiante 2"},{"$f":"+'BASE DE RESPUESTAS'!J5","v":"Estudiante 3"},{"$f":"+'BASE DE RESPUESTAS'!K5","v":"Estudiante 4"},{"$f":"+'BASE DE RESPUESTAS'!L5","v":"Estudiante 5"},{"$f":"+'BASE DE RESPUESTAS'!M5","v":"Estudiante 6"},{"$f":"+'BASE DE RESPUESTAS'!N5","v":"Estudiante 7"},{"$f":"+'BASE DE RESPUESTAS'!O5","v":"Estudiante 8"},{"$f":"+'BASE DE RESPUESTAS'!P5","v":"Estudiante 9"},{"$f":"+'BASE DE RESPUESTAS'!Q5","v":"Estudiante 10"},{"$f":"+'BASE DE RESPUESTAS'!R5","v":"Estudiante 11"},{"$f":"+'BASE DE RESPUESTAS'!S5","v":"Estudiante 12"},{"$f":"+'BASE DE RESPUESTAS'!T5","v":"Estudiante 13"},{"$f":"+'BASE DE RESPUESTAS'!U5","v":"Estudiante 14"},{"$f":"+'BASE DE RESPUESTAS'!V5","v":"Estudiante 15"},{"$f":"+'BASE DE RESPUESTAS'!W5","v":"Estudiante 16"},{"$f":"+'BASE DE RESPUESTAS'!X5","v":"Estudiante 17"},{"$f":"+'BASE DE RESPUESTAS'!Y5","v":"Estudiante 18"},{"$f":"+'BASE DE RESPUESTAS'!Z5","v":"Estudiante 19"},{"$f":"+'BASE DE RESPUESTAS'!AA5","v":"Estudiante 20"},{"$f":"+'BASE DE RESPUESTAS'!AB5","v":"Estudiante 21"},{"$f":"+'BASE DE RESPUESTAS'!AC5","v":"Estudiante 22"},{"$f":"+'BASE DE RESPUESTAS'!AD5","v":"Estudiante 23"},{"$f":"+'BASE DE RESPUESTAS'!AE5","v":"Estudiante 24"},{"$f":"+'BASE DE RESPUESTAS'!AF5","v":"Estudiante 25"},{"$f":"+'BASE DE RESPUESTAS'!AG5","v":"Estudiante 26"},{"$f":"+'BASE DE RESPUESTAS'!AH5","v":"Estudiante 27"},{"$f":"+'BASE DE RESPUESTAS'!AI5","v":"Estudiante 28"},{"$f":"+'BASE DE RESPUESTAS'!AJ5","v":"Estudiante 29"},{"$f":"+'BASE DE RESPUESTAS'!AK5","v":"Estudiante 30"},{"$f":"+'BASE DE RESPUESTAS'!AL5","v":"Estudiante 31"},{"$f":"+'BASE DE RESPUESTAS'!AM5","v":"Estudiante 32"},{"$f":"+'BASE DE RESPUESTAS'!AN5","v":"Estudiante 33"},{"$f":"+'BASE DE RESPUESTAS'!AO5","v":"Estudiante 34"},{"$f":"+'BASE DE RESPUESTAS'!AP5","v":"Estudiante 35"},{"$f":"+'BASE DE RESPUESTAS'!AQ5","v":"Estudiante 36"},{"$f":"+'BASE DE RESPUESTAS'!AR5","v":"Estudiante 37"},{"$f":"+'BASE DE RESPUESTAS'!AS5","v":"Estudiante 38"},{"$f":"+'BASE DE RESPUESTAS'!AT5","v":"Estudiante 39"},{"$f":"+'BASE DE RESPUESTAS'!AU5","v":"Estudiante 40"},{"$f":"+'BASE DE RESPUESTAS'!AV5","v":"Estudiante 41"},{"$f":"+'BASE DE RESPUESTAS'!AW5","v":"Estudiante 42"},{"$f":"+'BASE DE RESPUESTAS'!AX5","v":"Estudiante 43"},{"$f":"+'BASE DE RESPUESTAS'!AY5","v":"Estudiante 44"},{"$f":"+'BASE DE RESPUESTAS'!AZ5","v":"Estudiante 45"},{"$f":"+'BASE DE RESPUESTAS'!BA5","v":"Estudiante 46"},{"$f":"+'BASE DE RESPUESTAS'!BB5","v":"Estudiante 47"},{"$f":"+'BASE DE RESPUESTAS'!BC5","v":"Estudiante 48"},{"$f":"+'BASE DE RESPUESTAS'!BD5","v":"Estudiante 49"},{"$f":"+'BASE DE RESPUESTAS'!BE5","v":"Estudiante 50"}]
[null,"HSE","Autoconcepto","El o la estudiante reconoce las características que más le gustan de sí misma/o.",null,{"$f":"+IFERROR(AVERAGEIFS(H5:BE5,H5:BE5,\">=0\"),\"\")","v":""},null,{"$f":"+IFERROR(AVERAGE(Espejo!H7:H9),\"\")","v":""},{"$f":"+IFERROR(AVERAGE(Espejo!I7:I9),\"\")","v":""},{"$f":"+IFERROR(AVERAGE(Espejo!J7:J9),\"\")","v":""},{"$f":"+IFERROR(AVERAGE(Espejo!K7:K9),\"\")","v":""},{"$f":"+IFERROR(AVERAGE(Espejo!L7:L9),\"\")","v":""},{"$f":"+IFERROR(AVERAGE(Espejo!M7:M9),\"\")","v":""},{"$f":"+IFERROR(AVERAGE(Espejo!N7:N9),\"\")","v":""},{"$f":"+IFERROR(AVERAGE(Espejo!O7:O9),\"\")","v":""},{"$f":"+IFERROR(AVERAGE(Espejo!P7:P9),\"\")","v":""},{"$f":"+IFERROR(AVERAGE(Espejo!Q7:Q9),\"\")","v":""},{"$f":"+IFERROR(AVERAGE(Espejo!R7:R9),\"\")","v":""},{"$f":"+IFERROR(AVERAGE(Espejo!S7:S9),\"\")","v":""},{"$f":"+IFERROR(AVERAGE(Espejo!T7:T9),\"\")","v":""},{"$f":"+IFERROR(AVERAGE(Espejo!U7:U9),\"\")","v":""},{"$f":"+IFERROR(AVERAGE(Espejo!V7:V9),\"\")","v":""},{"$f":"+IFERROR(AVERAGE(Espejo!W7:W9),\"\")","v":""},{"$f":"+IFERROR(AVERAGE(Espejo!X7:X9),\"\")","v":""},{"$f":"+IFERROR(AVERAGE(Espejo!Y7:Y9),\"\")","v":""},{"$f":"+IFERROR(AVERAGE(Espejo!Z7:Z9),\"\")","v":""},{"$f":"+IFERROR(AVERAGE(Espejo!AA7:AA9),\"\")","v":""},{"$f":"+IFERROR(AVERAGE(Espejo!AB7:AB9),\"\")","v":""},{"$f":"+IFERROR(AVERAGE(Espejo!AC7:AC9),\"\")","v":""},{"$f":"+IFERROR(AVERAGE(Espejo!AD7:AD9),\"\")","v":""},{"$f":"+IFERROR(AVERAGE(Espejo!AE7:AE9),\"\")","v":""},{"$f":"+IFERROR(AVERAGE(Espejo!AF7:AF9),\"\")","v":""},{"$f":"+IFERROR(AVERAGE(Espejo!AG7:AG9),\"\")","v":""},{"$f":"+IFERROR(AVERAGE(Espejo!AH7:AH9),\"\")","v":""},{"$f":"+IFERROR(AVERAGE(Espejo!AI7:AI9),\"\")","v":""},{"$f":"+IFERROR(AVERAGE(Espejo!AJ7:AJ9),\"\")","v":""},{"$f":"+IFERROR(AVERAGE(Espejo!AK7:AK9),\"\")","v":""},{"$f":"+IFERROR(AVERAGE(Espejo!AL7:AL9),\"\")","v":""},{"$f":"+IFERROR(AVERAGE(Espejo!AM7:AM9),\"\")","v":""},{"$f":"+IFERROR(AVERAGE(Espejo!AN7:AN9),\"\")","v":""},{"$f":"+IFERROR(AVERAGE(Espejo!AO7:AO9),\"\")","v":""},{"$f":"+IFERROR(AVERAGE(Espejo!AP7:AP9),\"\")","v":""},{"$f":"+IFERROR(AVERAGE(Espejo!AQ7:AQ9),\"\")","v":""},{"$f":"+IFERROR(AVERAGE(Espejo!AR7:AR9),\"\")","v":""},{"$f":"+IFERROR(AVERAGE(Espejo!AS7:AS9),\"\")","v":""},{"$f":"+IFERROR(AVERAGE(Espejo!AT7:AT9),\"\")","v":""},{"$f":"+IFERROR(AVERAGE(Espejo!AU7:AU9),\"\")","v":""},{"$f":"+IFERROR(AVERAGE(Espejo!AV7:AV9),\"\")","v":""},{"$f":"+IFERROR(AVERAGE(Espejo!AW7:AW9),\"\")","v":""},{"$f":"+IFERROR(AVERAGE(Espejo!AX7:AX9),\"\")","v":""},{"$f":"+IFERROR(AVERAGE(Espejo!AY7:AY9),\"\")","v":""},{"$f":"+IFERROR(AVERAGE(Espejo!AZ7:AZ9),\"\")","v":""},{"$f":"+IFERROR(AVERAGE(Espejo!BA7:BA9),\"\")","v":""},{"$f":"+IFERROR(AVERAGE(Espejo!BB7:BB9),\"\")","v":""},{"$f":"+IFERROR(AVERAGE(Espejo!BC7:BC9),\"\")","v":""},{"$f":"+IFERROR(AVERAGE(Espejo!BD7:BD9),\"\")","v":""},{"$f":"+IFERROR(AVERAGE(Espejo!BE7:BE9),\"\")","v":""}]
[null,"HSE",null,"El o la estudiante reconoce las características que menos le gustan de sí misma/o.",null,"",null,{"$f":"+IFERROR((VLOOKUP('BASE DE RESPUESTAS'!H10,Back!$M$16:$N$20,2,0)),\"\")","v":""},{"$f":"+IFERROR((VLOOKUP('BASE DE RESPUESTAS'!I10,Back!$M$16:$N$20,2,0)),\"\")","v":""},{"$f":"+IFERROR((VLOOKUP('BASE DE RESPUESTAS'!J10,Back!$M$16:$N$20,2,0)),\"\")","v":""},{"$f":"+IFERROR((VLOOKUP('BASE DE RESPUESTAS'!K10,Back!$M$16:$N$20,2,0)),\"\")","v":""},{"$f":"+IFERROR((VLOOKUP('BASE DE RESPUESTAS'!L10,Back!$M$16:$N$20,2,0)),\"\")","v":""},{"$f":"+IFERROR((VLOOKUP('BASE DE RESPUESTAS'!M10,Back!$M$16:$N$20,2,0)),\"\")","v":""},{"$f":"+IFERROR((VLOOKUP('BASE DE RESPUESTAS'!N10,Back!$M$16:$N$20,2,0)),\"\")","v":""},{"$f":"+IFERROR((VLOOKUP('BASE DE RESPUESTAS'!O10,Back!$M$16:$N$20,2,0)),\"\")","v":""},{"$f":"+IFERROR((VLOOKUP('BASE DE RESPUESTAS'!P10,Back!$M$16:$N$20,2,0)),\"\")","v":""},{"$f":"+IFERROR((VLOOKUP('BASE DE RESPUESTAS'!Q10,Back!$M$16:$N$20,2,0)),\"\")","v":""},{"$f":"+IFERROR((VLOOKUP('BASE DE RESPUESTAS'!R10,Back!$M$16:$N$20,2,0)),\"\")","v":""},{"$f":"+IFERROR((VLOOKUP('BASE DE RESPUESTAS'!S10,Back!$M$16:$N$20,2,0)),\"\")","v":""},{"$f":"+IFERROR((VLOOKUP('BASE DE RESPUESTAS'!T10,Back!$M$16:$N$20,2,0)),\"\")","v":""},{"$f":"+IFERROR((VLOOKUP('BASE DE RESPUESTAS'!U10,Back!$M$16:$N$20,2,0)),\"\")","v":""},{"$f":"+IFERROR((VLOOKUP('BASE DE RESPUESTAS'!V10,Back!$M$16:$N$20,2,0)),\"\")","v":""},{"$f":"+IFERROR((VLOOKUP('BASE DE RESPUESTAS'!W10,Back!$M$16:$N$20,2,0)),\"\")","v":""},{"$f":"+IFERROR((VLOOKUP('BASE DE RESPUESTAS'!X10,Back!$M$16:$N$20,2,0)),\"\")","v":""},{"$f":"+IFERROR((VLOOKUP('BASE DE RESPUESTAS'!Y10,Back!$M$16:$N$20,2,0)),\"\")","v":""},{"$f":"+IFERROR((VLOOKUP('BASE DE RESPUESTAS'!Z10,Back!$M$16:$N$20,2,0)),\"\")","v":""},{"$f":"+IFERROR((VLOOKUP('BASE DE RESPUESTAS'!AA10,Back!$M$16:$N$20,2,0)),\"\")","v":""},{"$f":"+IFERROR((VLOOKUP('BASE DE RESPUESTAS'!AB10,Back!$M$16:$N$20,2,0)),\"\")","v":""},{"$f":"+IFERROR((VLOOKUP('BASE DE RESPUESTAS'!AC10,Back!$M$16:$N$20,2,0)),\"\")","v":""},{"$f":"+IFERROR((VLOOKUP('BASE DE RESPUESTAS'!AD10,Back!$M$16:$N$20,2,0)),\"\")","v":""},{"$f":"+IFERROR((VLOOKUP('BASE DE RESPUESTAS'!AE10,Back!$M$16:$N$20,2,0)),\"\")","v":""},{"$f":"+IFERROR((VLOOKUP('BASE DE RESPUESTAS'!AF10,Back!$M$16:$N$20,2,0)),\"\")","v":""},{"$f":"+IFERROR((VLOOKUP('BASE DE RESPUESTAS'!AG10,Back!$M$16:$N$20,2,0)),\"\")","v":""},{"$f":"+IFERROR((VLOOKUP('BASE DE RESPUESTAS'!AH10,Back!$M$16:$N$20,2,0)),\"\")","v":""},{"$f":"+IFERROR((VLOOKUP('BASE DE RESPUESTAS'!AI10,Back!$M$16:$N$20,2,0)),\"\")","v":""},{"$f":"+IFERROR((VLOOKUP('BASE DE RESPUESTAS'!AJ10,Back!$M$16:$N$20,2,0)),\"\")","v":""},{"$f":"+IFERROR((VLOOKUP('BASE DE RESPUESTAS'!AK10,Back!$M$16:$N$20,2,0)),\"\")","v":""},{"$f":"+IFERROR((VLOOKUP('BASE DE RESPUESTAS'!AL10,Back!$M$16:$N$20,2,0)),\"\")","v":""},{"$f":"+IFERROR((VLOOKUP('BASE DE RESPUESTAS'!AM10,Back!$M$16:$N$20,2,0)),\"\")","v":""},{"$f":"+IFERROR((VLOOKUP('BASE DE RESPUESTAS'!AN10,Back!$M$16:$N$20,2,0)),\"\")","v":""},{"$f":"+IFERROR((VLOOKUP('BASE DE RESPUESTAS'!AO10,Back!$M$16:$N$20,2,0)),\"\")","v":""},{"$f":"+IFERROR((VLOOKUP('BASE DE RESPUESTAS'!AP10,Back!$M$16:$N$20,2,0)),\"\")","v":""},{"$f":"+IFERROR((VLOOKUP('BASE DE RESPUESTAS'!AQ10,Back!$M$16:$N$20,2,0)),\"\")","v":""},{"$f":"+IFERROR((VLOOKUP('BASE DE RESPUESTAS'!AR10,Back!$M$16:$N$20,2,0)),\"\")","v":""},{"$f":"+IFERROR((VLOOKUP('BASE DE RESPUESTAS'!AS10,Back!$M$16:$N$20,2,0)),\"\")","v":""},{"$f":"+IFERROR((VLOOKUP('BASE DE RESPUESTAS'!AT10,Back!$M$16:$N$20,2,0)),\"\")","v":""},{"$f":"+IFERROR((VLOOKUP('BASE DE RESPUESTAS'!AU10,Back!$M$16:$N$20,2,0)),\"\")","v":""},{"$f":"+IFERROR((VLOOKUP('BASE DE RESPUESTAS'!AV10,Back!$M$16:$N$20,2,0)),\"\")","v":""},{"$f":"+IFERROR((VLOOKUP('BASE DE RESPUESTAS'!AW10,Back!$M$16:$N$20,2,0)),\"\")","v":""},{"$f":"+IFERROR((VLOOKUP('BASE DE RESPUESTAS'!AX10,Back!$M$16:$N$20,2,0)),\"\")","v":""},{"$f":"+IFERROR((VLOOKUP('BASE DE RESPUESTAS'!AY10,Back!$M$16:$N$20,2,0)),\"\")","v":""},{"$f":"+IFERROR((VLOOKUP('BASE DE RESPUESTAS'!AZ10,Back!$M$16:$N$20,2,0)),\"\")","v":""},{"$f":"+IFERROR((VLOOKUP('BASE DE RESPUESTAS'!BA10,Back!$M$16:$N$20,2,0)),\"\")","v":""},{"$f":"+IFERROR((VLOOKUP('BASE DE RESPUESTAS'!BB10,Back!$M$16:$N$20,2,0)),\"\")","v":""},{"$f":"+IFERROR((VLOOKUP('BASE DE RESPUESTAS'!BC10,Back!$M$16:$N$20,2,0)),\"\")","v":""},{"$f":"+IFERROR((VLOOKUP('BASE DE RESPUESTAS'!BD10,Back!$M$16:$N$20,2,0)),\"\")","v":""},{"$f":"+IFERROR((VLOOKUP('BASE DE RESPUESTAS'!BE10,Back!$M$16:$N$20,2,0)),\"\")","v":""}]
[null,"HSE","Autoestima","El o la estudiante se reconoce a sí mismo(a) como valioso(a) a partir de sus características.",null,"",null,{"$f":"+IFERROR((VLOOKUP('BASE DE RESPUESTAS'!H11,Back!$M$16:$N$20,2,0)),\"\")","v":""},{"$f":"+IFERROR((VLOOKUP('BASE DE RESPUESTAS'!I11,Back!$M$16:$N$20,2,0)),\"\")","v":""},{"$f":"+IFERROR((VLOOKUP('BASE DE RESPUESTAS'!J11,Back!$M$16:$N$20,2,0)),\"\")","v":""},{"$f":"+IFERROR((VLOOKUP('BASE DE RESPUESTAS'!K11,Back!$M$16:$N$20,2,0)),\"\")","v":""},{"$f":"+IFERROR((VLOOKUP('BASE DE RESPUESTAS'!L11,Back!$M$16:$N$20,2,0)),\"\")","v":""},{"$f":"+IFERROR((VLOOKUP('BASE DE RESPUESTAS'!M11,Back!$M$16:$N$20,2,0)),\"\")","v":""},{"$f":"+IFERROR((VLOOKUP('BASE DE RESPUESTAS'!N11,Back!$M$16:$N$20,2,0)),\"\")","v":""},{"$f":"+IFERROR((VLOOKUP('BASE DE RESPUESTAS'!O11,Back!$M$16:$N$20,2,0)),\"\")","v":""},{"$f":"+IFERROR((VLOOKUP('BASE DE RESPUESTAS'!P11,Back!$M$16:$N$20,2,0)),\"\")","v":""},{"$f":"+IFERROR((VLOOKUP('BASE DE RESPUESTAS'!Q11,Back!$M$16:$N$20,2,0)),\"\")","v":""},{"$f":"+IFERROR((VLOOKUP('BASE DE RESPUESTAS'!R11,Back!$M$16:$N$20,2,0)),\"\")","v":""},{"$f":"+IFERROR((VLOOKUP('BASE DE RESPUESTAS'!S11,Back!$M$16:$N$20,2,0)),\"\")","v":""},{"$f":"+IFERROR((VLOOKUP('BASE DE RESPUESTAS'!T11,Back!$M$16:$N$20,2,0)),\"\")","v":""},{"$f":"+IFERROR((VLOOKUP('BASE DE RESPUESTAS'!U11,Back!$M$16:$N$20,2,0)),\"\")","v":""},{"$f":"+IFERROR((VLOOKUP('BASE DE RESPUESTAS'!V11,Back!$M$16:$N$20,2,0)),\"\")","v":""},{"$f":"+IFERROR((VLOOKUP('BASE DE RESPUESTAS'!W11,Back!$M$16:$N$20,2,0)),\"\")","v":""},{"$f":"+IFERROR((VLOOKUP('BASE DE RESPUESTAS'!X11,Back!$M$16:$N$20,2,0)),\"\")","v":""},{"$f":"+IFERROR((VLOOKUP('BASE DE RESPUESTAS'!Y11,Back!$M$16:$N$20,2,0)),\"\")","v":""},{"$f":"+IFERROR((VLOOKUP('BASE DE RESPUESTAS'!Z11,Back!$M$16:$N$20,2,0)),\"\")","v":""},{"$f":"+IFERROR((VLOOKUP('BASE DE RESPUESTAS'!AA11,Back!$M$16:$N$20,2,0)),\"\")","v":""},{"$f":"+IFERROR((VLOOKUP('BASE DE RESPUESTAS'!AB11,Back!$M$16:$N$20,2,0)),\"\")","v":""},{"$f":"+IFERROR((VLOOKUP('BASE DE RESPUESTAS'!AC11,Back!$M$16:$N$20,2,0)),\"\")","v":""},{"$f":"+IFERROR((VLOOKUP('BASE DE RESPUESTAS'!AD11,Back!$M$16:$N$20,2,0)),\"\")","v":""},{"$f":"+IFERROR((VLOOKUP('BASE DE RESPUESTAS'!AE11,Back!$M$16:$N$20,2,0)),\"\")","v":""},{"$f":"+IFERROR((VLOOKUP('BASE DE RESPUESTAS'!AF11,Back!$M$16:$N$20,2,0)),\"\")","v":""},{"$f":"+IFERROR((VLOOKUP('BASE DE RESPUESTAS'!AG11,Back!$M$16:$N$20,2,0)),\"\")","v":""},{"$f":"+IFERROR((VLOOKUP('BASE DE RESPUESTAS'!AH11,Back!$M$16:$N$20,2,0)),\"\")","v":""},{"$f":"+IFERROR((VLOOKUP('BASE DE RESPUESTAS'!AI11,Back!$M$16:$N$20,2,0)),\"\")","v":""},{"$f":"+IFERROR((VLOOKUP('BASE DE RESPUESTAS'!AJ11,Back!$M$16:$N$20,2,0)),\"\")","v":""},{"$f":"+IFERROR((VLOOKUP('BASE DE RESPUESTAS'!AK11,Back!$M$16:$N$20,2,0)),\"\")","v":""},{"$f":"+IFERROR((VLOOKUP('BASE DE RESPUESTAS'!AL11,Back!$M$16:$N$20,2,0)),\"\")","v":""},{"$f":"+IFERROR((VLOOKUP('BASE DE RESPUESTAS'!AM11,Back!$M$16:$N$20,2,0)),\"\")","v":""},{"$f":"+IFERROR((VLOOKUP('BASE DE RESPUESTAS'!AN11,Back!$M$16:$N$20,2,0)),\"\")","v":""},{"$f":"+IFERROR((VLOOKUP('BASE DE RESPUESTAS'!AO11,Back!$M$16:$N$20,2,0)),\"\")","v":""},{"$f":"+IFERROR((VLOOKUP('BASE DE RESPUESTAS'!AP11,Back!$M$16:$N$20,2,0)),\"\")","v":""},{"$f":"+IFERROR((VLOOKUP('BASE DE RESPUESTAS'!AQ11,Back!$M$16:$N$20,2,0)),\"\")","v":""},{"$f":"+IFERROR((VLOOKUP('BASE DE RESPUESTAS'!AR11,Back!$M$16:$N$20,2,0)),\"\")","v":""},{"$f":"+IFERROR((VLOOKUP('BASE DE RESPUESTAS'!AS11,Back!$M$16:$N$20,2,0)),\"\")","v":""},{"$f":"+IFERROR((VLOOKUP('BASE DE RESPUESTAS'!AT11,Back!$M$16:$N$20,2,0)),\"\")","v":""},{"$f":"+IFERROR((VLOOKUP('BASE DE RESPUESTAS'!AU11,Back!$M$16:$N$20,2,0)),\"\")","v":""},{"$f":"+IFERROR((VLOOKUP('BASE DE RESPUESTAS'!AV11,Back!$M$16:$N$20,2,0)),\"\")","v":""},{"$f":"+IFERROR((VLOOKUP('BASE DE RESPUESTAS'!AW11,Back!$M$16:$N$20,2,0)),\"\")","v":""},{"$f":"+IFERROR((VLOOKUP('BASE DE RESPUESTAS'!AX11,Back!$M$16:$N$20,2,0)),\"\")","v":""},{"$f":"+IFERROR((VLOOKUP('BASE DE RESPUESTAS'!AY11,Back!$M$16:$N$20,2,0)),\"\")","v":""},{"$f":"+IFERROR((VLOOKUP('BASE DE RESPUESTAS'!AZ11,Back!$M$16:$N$20,2,0)),\"\")","v":""},{"$f":"+IFERROR((VLOOKUP('BASE DE RESPUESTAS'!BA11,Back!$M$16:$N$20,2,0)),\"\")","v":""},{"$f":"+IFERROR((VLOOKUP('BASE DE RESPUESTAS'!BB11,Back!$M$16:$N$20,2,0)),\"\")","v":""},{"$f":"+IFERROR((VLOOKUP('BASE DE RESPUESTAS'!BC11,Back!$M$16:$N$20,2,0)),\"\")","v":""},{"$f":"+IFERROR((VLOOKUP('BASE DE RESPUESTAS'!BD11,Back!$M$16:$N$20,2,0)),\"\")","v":""},{"$f":"+IFERROR((VLOOKUP('BASE DE RESPUESTAS'!BE11,Back!$M$16:$N$20,2,0)),\"\")","v":""}]
[null,"HSE",null,"El o la estudiante se da cuenta que es capaz de realizar tareas y aceptar retos.",null,"",null,{"$f":"+IFERROR(AVERAGE(Espejo!H12:H15),\"\")","v":""},{"$f":"+IFERROR(AVERAGE(Espejo!I12:I15),\"\")","v":""},{"$f":"+IFERROR(AVERAGE(Espejo!J12:J15),\"\")","v":""},{"$f":"+IFERROR(AVERAGE(Espejo!K12:K15),\"\")","v":""},{"$f":"+IFERROR(AVERAGE(Espejo!L12:L15),\"\")","v":""},{"$f":"+IFERROR(AVERAGE(Espejo!M12:M15),\"\")","v":""},{"$f":"+IFERROR(AVERAGE(Espejo!N12:N15),\"\")","v":""},{"$f":"+IFERROR(AVERAGE(Espejo!O12:O15),\"\")","v":""},{"$f":"+IFERROR(AVERAGE(Espejo!P12:P15),\"\")","v":""},{"$f":"+IFERROR(AVERAGE(Espejo!Q12:Q15),\"\")","v":""},{"$f":"+IFERROR(AVERAGE(Espejo!R12:R15),\"\")","v":""},{"$f":"+IFERROR(AVERAGE(Espejo!S12:S15),\"\")","v":""},{"$f":"+IFERROR(AVERAGE(Espejo!T12:T15),\"\")","v":""},{"$f":"+IFERROR(AVERAGE(Espejo!U12:U15),\"\")","v":""},{"$f":"+IFERROR(AVERAGE(Espejo!V12:V15),\"\")","v":""},{"$f":"+IFERROR(AVERAGE(Espejo!W12:W15),\"\")","v":""},{"$f":"+IFERROR(AVERAGE(Espejo!X12:X15),\"\")","v":""},{"$f":"+IFERROR(AVERAGE(Espejo!Y12:Y15),\"\")","v":""},{"$f":"+IFERROR(AVERAGE(Espejo!Z12:Z15),\"\")","v":""},{"$f":"+IFERROR(AVERAGE(Espejo!AA12:AA15),\"\")","v":""},{"$f":"+IFERROR(AVERAGE(Espejo!AB12:AB15),\"\")","v":""},{"$f":"+IFERROR(AVERAGE(Espejo!AC12:AC15),\"\")","v":""},{"$f":"+IFERROR(AVERAGE(Espejo!AD12:AD15),\"\")","v":""},{"$f":"+IFERROR(AVERAGE(Espejo!AE12:AE15),\"\")","v":""},{"$f":"+IFERROR(AVERAGE(Espejo!AF12:AF15),\"\")","v":""},{"$f":"+IFERROR(AVERAGE(Espejo!AG12:AG15),\"\")","v":""},{"$f":"+IFERROR(AVERAGE(Espejo!AH12:AH15),\"\")","v":""},{"$f":"+IFERROR(AVERAGE(Espejo!AI12:AI15),\"\")","v":""},{"$f":"+IFERROR(AVERAGE(Espejo!AJ12:AJ15),\"\")","v":""},{"$f":"+IFERROR(AVERAGE(Espejo!AK12:AK15),\"\")","v":""},{"$f":"+IFERROR(AVERAGE(Espejo!AL12:AL15),\"\")","v":""},{"$f":"+IFERROR(AVERAGE(Espejo!AM12:AM15),\"\")","v":""},{"$f":"+IFERROR(AVERAGE(Espejo!AN12:AN15),\"\")","v":""},{"$f":"+IFERROR(AVERAGE(Espejo!AO12:AO15),\"\")","v":""},{"$f":"+IFERROR(AVERAGE(Espejo!AP12:AP15),\"\")","v":""},{"$f":"+IFERROR(AVERAGE(Espejo!AQ12:AQ15),\"\")","v":""},{"$f":"+IFERROR(AVERAGE(Espejo!AR12:AR15),\"\")","v":""},{"$f":"+IFERROR(AVERAGE(Espejo!AS12:AS15),\"\")","v":""},{"$f":"+IFERROR(AVERAGE(Espejo!AT12:AT15),\"\")","v":""},{"$f":"+IFERROR(AVERAGE(Espejo!AU12:AU15),\"\")","v":""},{"$f":"+IFERROR(AVERAGE(Espejo!AV12:AV15),\"\")","v":""},{"$f":"+IFERROR(AVERAGE(Espejo!AW12:AW15),\"\")","v":""},{"$f":"+IFERROR(AVERAGE(Espejo!AX12:AX15),\"\")","v":""},{"$f":"+IFERROR(AVERAGE(Espejo!AY12:AY15),\"\")","v":""},{"$f":"+IFERROR(AVERAGE(Espejo!AZ12:AZ15),\"\")","v":""},{"$f":"+IFERROR(AVERAGE(Espejo!BA12:BA15),\"\")","v":""},{"$f":"+IFERROR(AVERAGE(Espejo!BB12:BB15),\"\")","v":""},{"$f":"+IFERROR(AVERAGE(Espejo!BC12:BC15),\"\")","v":""},{"$f":"+IFERROR(AVERAGE(Espejo!BD12:BD15),\"\")","v":""},{"$f":"+IFERROR(AVERAGE(Espejo!BE12:BE15),\"\")","v":""}]
[null,"HSE","Conciencia Emocional","El o la estudiante reconoce sus emociones.",null,"",null,{"$f":"+IFERROR(AVERAGE(Espejo!H16:H17),\"\")","v":""},{"$f":"+IFERROR(AVERAGE(Espejo!I16:I17),\"\")","v":""},{"$f":"+IFERROR(AVERAGE(Espejo!J16:J17),\"\")","v":""},{"$f":"+IFERROR(AVERAGE(Espejo!K16:K17),\"\")","v":""},{"$f":"+IFERROR(AVERAGE(Espejo!L16:L17),\"\")","v":""},{"$f":"+IFERROR(AVERAGE(Espejo!M16:M17),\"\")","v":""},{"$f":"+IFERROR(AVERAGE(Espejo!N16:N17),\"\")","v":""},{"$f":"+IFERROR(AVERAGE(Espejo!O16:O17),\"\")","v":""},{"$f":"+IFERROR(AVERAGE(Espejo!P16:P17),\"\")","v":""},{"$f":"+IFERROR(AVERAGE(Espejo!Q16:Q17),\"\")","v":""},{"$f":"+IFERROR(AVERAGE(Espejo!R16:R17),\"\")","v":""},{"$f":"+IFERROR(AVERAGE(Espejo!S16:S17),\"\")","v":""},{"$f":"+IFERROR(AVERAGE(Espejo!T16:T17),\"\")","v":""},{"$f":"+IFERROR(AVERAGE(Espejo!U16:U17),\"\")","v":""},{"$f":"+IFERROR(AVERAGE(Espejo!V16:V17),\"\")","v":""},{"$f":"+IFERROR(AVERAGE(Espejo!W16:W17),\"\")","v":""},{"$f":"+IFERROR(AVERAGE(Espejo!X16:X17),\"\")","v":""},{"$f":"+IFERROR(AVERAGE(Espejo!Y16:Y17),\"\")","v":""},{"$f":"+IFERROR(AVERAGE(Espejo!Z16:Z17),\"\")","v":""},{"$f":"+IFERROR(AVERAGE(Espejo!AA16:AA17),\"\")","v":""},{"$f":"+IFERROR(AVERAGE(Espejo!AB16:AB17),\"\")","v":""},{"$f":"+IFERROR(AVERAGE(Espejo!AC16:AC17),\"\")","v":""},{"$f":"+IFERROR(AVERAGE(Espejo!AD16:AD17),\"\")","v":""},{"$f":"+IFERROR(AVERAGE(Espejo!AE16:AE17),\"\")","v":""},{"$f":"+IFERROR(AVERAGE(Espejo!AF16:AF17),\"\")","v":""},{"$f":"+IFERROR(AVERAGE(Espejo!AG16:AG17),\"\")","v":""},{"$f":"+IFERROR(AVERAGE(Espejo!AH16:AH17),\"\")","v":""},{"$f":"+IFERROR(AVERAGE(Espejo!AI16:AI17),\"\")","v":""},{"$f":"+IFERROR(AVERAGE(Espejo!AJ16:AJ17),\"\")","v":""},{"$f":"+IFERROR(AVERAGE(Espejo!AK16:AK17),\"\")","v":""},{"$f":"+IFERROR(AVERAGE(Espejo!AL16:AL17),\"\")","v":""},{"$f":"+IFERROR(AVERAGE(Espejo!AM16:AM17),\"\")","v":""},{"$f":"+IFERROR(AVERAGE(Espejo!AN16:AN17),\"\")","v":""},{"$f":"+IFERROR(AVERAGE(Espejo!AO16:AO17),\"\")","v":""},{"$f":"+IFERROR(AVERAGE(Espejo!AP16:AP17),\"\")","v":""},{"$f":"+IFERROR(AVERAGE(Espejo!AQ16:AQ17),\"\")","v":""},{"$f":"+IFERROR(AVERAGE(Espejo!AR16:AR17),\"\")","v":""},{"$f":"+IFERROR(AVERAGE(Espejo!AS16:AS17),\"\")","v":""},{"$f":"+IFERROR(AVERAGE(Espejo!AT16:AT17),\"\")","v":""},{"$f":"+IFERROR(AVERAGE(Espejo!AU16:AU17),\"\")","v":""},{"$f":"+IFERROR(AVERAGE(Espejo!AV16:AV17),\"\")","v":""},{"$f":"+IFERROR(AVERAGE(Espejo!AW16:AW17),\"\")","v":""},{"$f":"+IFERROR(AVERAGE(Espejo!AX16:AX17),\"\")","v":""},{"$f":"+IFERROR(AVERAGE(Espejo!AY16:AY17),\"\")","v":""},{"$f":"+IFERROR(AVERAGE(Espejo!AZ16:AZ17),\"\")","v":""},{"$f":"+IFERROR(AVERAGE(Espejo!BA16:BA17),\"\")","v":""},{"$f":"+IFERROR(AVERAGE(Espejo!BB16:BB17),\"\")","v":""},{"$f":"+IFERROR(AVERAGE(Espejo!BC16:BC17),\"\")","v":""},{"$f":"+IFERROR(AVERAGE(Espejo!BD16:BD17),\"\")","v":""},{"$f":"+IFERROR(AVERAGE(Espejo!BE16:BE17),\"\")","v":""}]
[null,"HSE",null,"El o la estudiante reconoce las emociones de sus compañeros.",null,"",null,{"$f":"+IFERROR(AVERAGE(Espejo!H18:H19),\"\")","v":""},{"$f":"+IFERROR(AVERAGE(Espejo!I18:I19),\"\")","v":""},{"$f":"+IFERROR(AVERAGE(Espejo!J18:J19),\"\")","v":""},{"$f":"+IFERROR(AVERAGE(Espejo!K18:K19),\"\")","v":""},{"$f":"+IFERROR(AVERAGE(Espejo!L18:L19),\"\")","v":""},{"$f":"+IFERROR(AVERAGE(Espejo!M18:M19),\"\")","v":""},{"$f":"+IFERROR(AVERAGE(Espejo!N18:N19),\"\")","v":""},{"$f":"+IFERROR(AVERAGE(Espejo!O18:O19),\"\")","v":""},{"$f":"+IFERROR(AVERAGE(Espejo!P18:P19),\"\")","v":""},{"$f":"+IFERROR(AVERAGE(Espejo!Q18:Q19),\"\")","v":""},{"$f":"+IFERROR(AVERAGE(Espejo!R18:R19),\"\")","v":""},{"$f":"+IFERROR(AVERAGE(Espejo!S18:S19),\"\")","v":""},{"$f":"+IFERROR(AVERAGE(Espejo!T18:T19),\"\")","v":""},{"$f":"+IFERROR(AVERAGE(Espejo!U18:U19),\"\")","v":""},{"$f":"+IFERROR(AVERAGE(Espejo!V18:V19),\"\")","v":""},{"$f":"+IFERROR(AVERAGE(Espejo!W18:W19),\"\")","v":""},{"$f":"+IFERROR(AVERAGE(Espejo!X18:X19),\"\")","v":""},{"$f":"+IFERROR(AVERAGE(Espejo!Y18:Y19),\"\")","v":""},{"$f":"+IFERROR(AVERAGE(Espejo!Z18:Z19),\"\")","v":""},{"$f":"+IFERROR(AVERAGE(Espejo!AA18:AA19),\"\")","v":""},{"$f":"+IFERROR(AVERAGE(Espejo!AB18:AB19),\"\")","v":""},{"$f":"+IFERROR(AVERAGE(Espejo!AC18:AC19),\"\")","v":""},{"$f":"+IFERROR(AVERAGE(Espejo!AD18:AD19),\"\")","v":""},{"$f":"+IFERROR(AVERAGE(Espejo!AE18:AE19),\"\")","v":""},{"$f":"+IFERROR(AVERAGE(Espejo!AF18:AF19),\"\")","v":""},{"$f":"+IFERROR(AVERAGE(Espejo!AG18:AG19),\"\")","v":""},{"$f":"+IFERROR(AVERAGE(Espejo!AH18:AH19),\"\")","v":""},{"$f":"+IFERROR(AVERAGE(Espejo!AI18:AI19),\"\")","v":""},{"$f":"+IFERROR(AVERAGE(Espejo!AJ18:AJ19),\"\")","v":""},{"$f":"+IFERROR(AVERAGE(Espejo!AK18:AK19),\"\")","v":""},{"$f":"+IFERROR(AVERAGE(Espejo!AL18:AL19),\"\")","v":""},{"$f":"+IFERROR(AVERAGE(Espejo!AM18:AM19),\"\")","v":""},{"$f":"+IFERROR(AVERAGE(Espejo!AN18:AN19),\"\")","v":""},{"$f":"+IFERROR(AVERAGE(Espejo!AO18:AO19),\"\")","v":""},{"$f":"+IFERROR(AVERAGE(Espejo!AP18:AP19),\"\")","v":""},{"$f":"+IFERROR(AVERAGE(Espejo!AQ18:AQ19),\"\")","v":""},{"$f":"+IFERROR(AVERAGE(Espejo!AR18:AR19),\"\")","v":""},{"$f":"+IFERROR(AVERAGE(Espejo!AS18:AS19),\"\")","v":""},{"$f":"+IFERROR(AVERAGE(Espejo!AT18:AT19),\"\")","v":""},{"$f":"+IFERROR(AVERAGE(Espejo!AU18:AU19),\"\")","v":""},{"$f":"+IFERROR(AVERAGE(Espejo!AV18:AV19),\"\")","v":""},{"$f":"+IFERROR(AVERAGE(Espejo!AW18:AW19),\"\")","v":""},{"$f":"+IFERROR(AVERAGE(Espejo!AX18:AX19),\"\")","v":""},{"$f":"+IFERROR(AVERAGE(Espejo!AY18:AY19),\"\")","v":""},{"$f":"+IFERROR(AVERAGE(Espejo!AZ18:AZ19),\"\")","v":""},{"$f":"+IFERROR(AVERAGE(Espejo!BA18:BA19),\"\")","v":""},{"$f":"+IFERROR(AVERAGE(Espejo!BB18:BB19),\"\")","v":""},{"$f":"+IFERROR(AVERAGE(Espejo!BC18:BC19),\"\")","v":""},{"$f":"+IFERROR(AVERAGE(Espejo!BD18:BD19),\"\")","v":""},{"$f":"+IFERROR(AVERAGE(Espejo!BE18:BE19),\"\")","v":""}]
[null,"HSE","Autocuidado","El o la estudiante reconoce situaciones que afectan su bienestar.",null,"",null,{"$f":"+IFERROR(AVERAGE(Espejo!H20:H21),\"\")","v":""},{"$f":"+IFERROR(AVERAGE(Espejo!I20:I21),\"\")","v":""},{"$f":"+IFERROR(AVERAGE(Espejo!J20:J21),\"\")","v":""},{"$f":"+IFERROR(AVERAGE(Espejo!K20:K21),\"\")","v":""},{"$f":"+IFERROR(AVERAGE(Espejo!L20:L21),\"\")","v":""},{"$f":"+IFERROR(AVERAGE(Espejo!M20:M21),\"\")","v":""},{"$f":"+IFERROR(AVERAGE(Espejo!N20:N21),\"\")","v":""},{"$f":"+IFERROR(AVERAGE(Espejo!O20:O21),\"\")","v":""},{"$f":"+IFERROR(AVERAGE(Espejo!P20:P21),\"\")","v":""},{"$f":"+IFERROR(AVERAGE(Espejo!Q20:Q21),\"\")","v":""},{"$f":"+IFERROR(AVERAGE(Espejo!R20:R21),\"\")","v":""},{"$f":"+IFERROR(AVERAGE(Espejo!S20:S21),\"\")","v":""},{"$f":"+IFERROR(AVERAGE(Espejo!T20:T21),\"\")","v":""},{"$f":"+IFERROR(AVERAGE(Espejo!U20:U21),\"\")","v":""},{"$f":"+IFERROR(AVERAGE(Espejo!V20:V21),\"\")","v":""},{"$f":"+IFERROR(AVERAGE(Espejo!W20:W21),\"\")","v":""},{"$f":"+IFERROR(AVERAGE(Espejo!X20:X21),\"\")","v":""},{"$f":"+IFERROR(AVERAGE(Espejo!Y20:Y21),\"\")","v":""},{"$f":"+IFERROR(AVERAGE(Espejo!Z20:Z21),\"\")","v":""},{"$f":"+IFERROR(AVERAGE(Espejo!AA20:AA21),\"\")","v":""},{"$f":"+IFERROR(AVERAGE(Espejo!AB20:AB21),\"\")","v":""},{"$f":"+IFERROR(AVERAGE(Espejo!AC20:AC21),\"\")","v":""},{"$f":"+IFERROR(AVERAGE(Espejo!AD20:AD21),\"\")","v":""},{"$f":"+IFERROR(AVERAGE(Espejo!AE20:AE21),\"\")","v":""},{"$f":"+IFERROR(AVERAGE(Espejo!AF20:AF21),\"\")","v":""},{"$f":"+IFERROR(AVERAGE(Espejo!AG20:AG21),\"\")","v":""},{"$f":"+IFERROR(AVERAGE(Espejo!AH20:AH21),\"\")","v":""},{"$f":"+IFERROR(AVERAGE(Espejo!AI20:AI21),\"\")","v":""},{"$f":"+IFERROR(AVERAGE(Espejo!AJ20:AJ21),\"\")","v":""},{"$f":"+IFERROR(AVERAGE(Espejo!AK20:AK21),\"\")","v":""},{"$f":"+IFERROR(AVERAGE(Espejo!AL20:AL21),\"\")","v":""},{"$f":"+IFERROR(AVERAGE(Espejo!AM20:AM21),\"\")","v":""},{"$f":"+IFERROR(AVERAGE(Espejo!AN20:AN21),\"\")","v":""},{"$f":"+IFERROR(AVERAGE(Espejo!AO20:AO21),\"\")","v":""},{"$f":"+IFERROR(AVERAGE(Espejo!AP20:AP21),\"\")","v":""},{"$f":"+IFERROR(AVERAGE(Espejo!AQ20:AQ21),\"\")","v":""},{"$f":"+IFERROR(AVERAGE(Espejo!AR20:AR21),\"\")","v":""},{"$f":"+IFERROR(AVERAGE(Espejo!AS20:AS21),\"\")","v":""},{"$f":"+IFERROR(AVERAGE(Espejo!AT20:AT21),\"\")","v":""},{"$f":"+IFERROR(AVERAGE(Espejo!AU20:AU21),\"\")","v":""},{"$f":"+IFERROR(AVERAGE(Espejo!AV20:AV21),\"\")","v":""},{"$f":"+IFERROR(AVERAGE(Espejo!AW20:AW21),\"\")","v":""},{"$f":"+IFERROR(AVERAGE(Espejo!AX20:AX21),\"\")","v":""},{"$f":"+IFERROR(AVERAGE(Espejo!AY20:AY21),\"\")","v":""},{"$f":"+IFERROR(AVERAGE(Espejo!AZ20:AZ21),\"\")","v":""},{"$f":"+IFERROR(AVERAGE(Espejo!BA20:BA21),\"\")","v":""},{"$f":"+IFERROR(AVERAGE(Espejo!BB20:BB21),\"\")","v":""},{"$f":"+IFERROR(AVERAGE(Espejo!BC20:BC21),\"\")","v":""},{"$f":"+IFERROR(AVERAGE(Espejo!BD20:BD21),\"\")","v":""},{"$f":"+IFERROR(AVERAGE(Espejo!BE20:BE21),\"\")","v":""}]
[null,"HSE",null,"El o la estudiante reconoce situaciones de riesgo y busca ayuda.",null,"",null,{"$f":"+IFERROR((VLOOKUP('BASE DE RESPUESTAS'!H22,Back!$M$16:$N$20,2,0)),\"\")","v":""},{"$f":"+IFERROR((VLOOKUP('BASE DE RESPUESTAS'!I22,Back!$M$16:$N$20,2,0)),\"\")","v":""},{"$f":"+IFERROR((VLOOKUP('BASE DE RESPUESTAS'!J22,Back!$M$16:$N$20,2,0)),\"\")","v":""},{"$f":"+IFERROR((VLOOKUP('BASE DE RESPUESTAS'!K22,Back!$M$16:$N$20,2,0)),\"\")","v":""},{"$f":"+IFERROR((VLOOKUP('BASE DE RESPUESTAS'!L22,Back!$M$16:$N$20,2,0)),\"\")","v":""},{"$f":"+IFERROR((VLOOKUP('BASE DE RESPUESTAS'!M22,Back!$M$16:$N$20,2,0)),\"\")","v":""},{"$f":"+IFERROR((VLOOKUP('BASE DE RESPUESTAS'!N22,Back!$M$16:$N$20,2,0)),\"\")","v":""},{"$f":"+IFERROR((VLOOKUP('BASE DE RESPUESTAS'!O22,Back!$M$16:$N$20,2,0)),\"\")","v":""},{"$f":"+IFERROR((VLOOKUP('BASE DE RESPUESTAS'!P22,Back!$M$16:$N$20,2,0)),\"\")","v":""},{"$f":"+IFERROR((VLOOKUP('BASE DE RESPUESTAS'!Q22,Back!$M$16:$N$20,2,0)),\"\")","v":""},{"$f":"+IFERROR((VLOOKUP('BASE DE RESPUESTAS'!R22,Back!$M$16:$N$20,2,0)),\"\")","v":""},{"$f":"+IFERROR((VLOOKUP('BASE DE RESPUESTAS'!S22,Back!$M$16:$N$20,2,0)),\"\")","v":""},{"$f":"+IFERROR((VLOOKUP('BASE DE RESPUESTAS'!T22,Back!$M$16:$N$20,2,0)),\"\")","v":""},{"$f":"+IFERROR((VLOOKUP('BASE DE RESPUESTAS'!U22,Back!$M$16:$N$20,2,0)),\"\")","v":""},{"$f":"+IFERROR((VLOOKUP('BASE DE RESPUESTAS'!V22,Back!$M$16:$N$20,2,0)),\"\")","v":""},{"$f":"+IFERROR((VLOOKUP('BASE DE RESPUESTAS'!W22,Back!$M$16:$N$20,2,0)),\"\")","v":""},{"$f":"+IFERROR((VLOOKUP('BASE DE RESPUESTAS'!X22,Back!$M$16:$N$20,2,0)),\"\")","v":""},{"$f":"+IFERROR((VLOOKUP('BASE DE RESPUESTAS'!Y22,Back!$M$16:$N$20,2,0)),\"\")","v":""},{"$f":"+IFERROR((VLOOKUP('BASE DE RESPUESTAS'!Z22,Back!$M$16:$N$20,2,0)),\"\")","v":""},{"$f":"+IFERROR((VLOOKUP('BASE DE RESPUESTAS'!AA22,Back!$M$16:$N$20,2,0)),\"\")","v":""},{"$f":"+IFERROR((VLOOKUP('BASE DE RESPUESTAS'!AB22,Back!$M$16:$N$20,2,0)),\"\")","v":""},{"$f":"+IFERROR((VLOOKUP('BASE DE RESPUESTAS'!AC22,Back!$M$16:$N$20,2,0)),\"\")","v":""},{"$f":"+IFERROR((VLOOKUP('BASE DE RESPUESTAS'!AD22,Back!$M$16:$N$20,2,0)),\"\")","v":""},{"$f":"+IFERROR((VLOOKUP('BASE DE RESPUESTAS'!AE22,Back!$M$16:$N$20,2,0)),\"\")","v":""},{"$f":"+IFERROR((VLOOKUP('BASE DE RESPUESTAS'!AF22,Back!$M$16:$N$20,2,0)),\"\")","v":""},{"$f":"+IFERROR((VLOOKUP('BASE DE RESPUESTAS'!AG22,Back!$M$16:$N$20,2,0)),\"\")","v":""},{"$f":"+IFERROR((VLOOKUP('BASE DE RESPUESTAS'!AH22,Back!$M$16:$N$20,2,0)),\"\")","v":""},{"$f":"+IFERROR((VLOOKUP('BASE DE RESPUESTAS'!AI22,Back!$M$16:$N$20,2,0)),\"\")","v":""},{"$f":"+IFERROR((VLOOKUP('BASE DE RESPUESTAS'!AJ22,Back!$M$16:$N$20,2,0)),\"\")","v":""},{"$f":"+IFERROR((VLOOKUP('BASE DE RESPUESTAS'!AK22,Back!$M$16:$N$20,2,0)),\"\")","v":""},{"$f":"+IFERROR((VLOOKUP('BASE DE RESPUESTAS'!AL22,Back!$M$16:$N$20,2,0)),\"\")","v":""},{"$f":"+IFERROR((VLOOKUP('BASE DE RESPUESTAS'!AM22,Back!$M$16:$N$20,2,0)),\"\")","v":""},{"$f":"+IFERROR((VLOOKUP('BASE DE RESPUESTAS'!AN22,Back!$M$16:$N$20,2,0)),\"\")","v":""},{"$f":"+IFERROR((VLOOKUP('BASE DE RESPUESTAS'!AO22,Back!$M$16:$N$20,2,0)),\"\")","v":""},{"$f":"+IFERROR((VLOOKUP('BASE DE RESPUESTAS'!AP22,Back!$M$16:$N$20,2,0)),\"\")","v":""},{"$f":"+IFERROR((VLOOKUP('BASE DE RESPUESTAS'!AQ22,Back!$M$16:$N$20,2,0)),\"\")","v":""},{"$f":"+IFERROR((VLOOKUP('BASE DE RESPUESTAS'!AR22,Back!$M$16:$N$20,2,0)),\"\")","v":""},{"$f":"+IFERROR((VLOOKUP('BASE DE RESPUESTAS'!AS22,Back!$M$16:$N$20,2,0)),\"\")","v":""},{"$f":"+IFERROR((VLOOKUP('BASE DE RESPUESTAS'!AT22,Back!$M$16:$N$20,2,0)),\"\")","v":""},{"$f":"+IFERROR((VLOOKUP('BASE DE RESPUESTAS'!AU22,Back!$M$16:$N$20,2,0)),\"\")","v":""},{"$f":"+IFERROR((VLOOKUP('BASE DE RESPUESTAS'!AV22,Back!$M$16:$N$20,2,0)),\"\")","v":""},{"$f":"+IFERROR((VLOOKUP('BASE DE RESPUESTAS'!AW22,Back!$M$16:$N$20,2,0)),\"\")","v":""},{"$f":"+IFERROR((VLOOKUP('BASE DE RESPUESTAS'!AX22,Back!$M$16:$N$20,2,0)),\"\")","v":""},{"$f":"+IFERROR((VLOOKUP('BASE DE RESPUESTAS'!AY22,Back!$M$16:$N$20,2,0)),\"\")","v":""},{"$f":"+IFERROR((VLOOKUP('BASE DE RESPUESTAS'!AZ22,Back!$M$16:$N$20,2,0)),\"\")","v":""},{"$f":"+IFERROR((VLOOKUP('BASE DE RESPUESTAS'!BA22,Back!$M$16:$N$20,2,0)),\"\")","v":""},{"$f":"+IFERROR((VLOOKUP('BASE DE RESPUESTAS'!BB22,Back!$M$16:$N$20,2,0)),\"\")","v":""},{"$f":"+IFERROR((VLOOKUP('BASE DE RESPUESTAS'!BC22,Back!$M$16:$N$20,2,0)),\"\")","v":""},{"$f":"+IFERROR((VLOOKUP('BASE DE RESPUESTAS'!BD22,Back!$M$16:$N$20,2,0)),\"\")","v":""},{"$f":"+IFERROR((VLOOKUP('BASE DE RESPUESTAS'!BE22,Back!$M$16:$N$20,2,0)),\"\")","v":""}]
[null,"HSE","Regulación Emocional","La o el estudiante regula sus emociones con apoyo de un adulto",null,"",null,{"$f":"+IFERROR(AVERAGE(Espejo!H26:H27),\"\")","v":""},{"$f":"+IFERROR(AVERAGE(Espejo!I26:I27),\"\")","v":""},{"$f":"+IFERROR(AVERAGE(Espejo!J26:J27),\"\")","v":""},{"$f":"+IFERROR(AVERAGE(Espejo!K26:K27),\"\")","v":""},{"$f":"+IFERROR(AVERAGE(Espejo!L26:L27),\"\")","v":""},{"$f":"+IFERROR(AVERAGE(Espejo!M26:M27),\"\")","v":""},{"$f":"+IFERROR(AVERAGE(Espejo!N26:N27),\"\")","v":""},{"$f":"+IFERROR(AVERAGE(Espejo!O26:O27),\"\")","v":""},{"$f":"+IFERROR(AVERAGE(Espejo!P26:P27),\"\")","v":""},{"$f":"+IFERROR(AVERAGE(Espejo!Q26:Q27),\"\")","v":""},{"$f":"+IFERROR(AVERAGE(Espejo!R26:R27),\"\")","v":""},{"$f":"+IFERROR(AVERAGE(Espejo!S26:S27),\"\")","v":""},{"$f":"+IFERROR(AVERAGE(Espejo!T26:T27),\"\")","v":""},{"$f":"+IFERROR(AVERAGE(Espejo!U26:U27),\"\")","v":""},{"$f":"+IFERROR(AVERAGE(Espejo!V26:V27),\"\")","v":""},{"$f":"+IFERROR(AVERAGE(Espejo!W26:W27),\"\")","v":""},{"$f":"+IFERROR(AVERAGE(Espejo!X26:X27),\"\")","v":""},{"$f":"+IFERROR(AVERAGE(Espejo!Y26:Y27),\"\")","v":""},{"$f":"+IFERROR(AVERAGE(Espejo!Z26:Z27),\"\")","v":""},{"$f":"+IFERROR(AVERAGE(Espejo!AA26:AA27),\"\")","v":""},{"$f":"+IFERROR(AVERAGE(Espejo!AB26:AB27),\"\")","v":""},{"$f":"+IFERROR(AVERAGE(Espejo!AC26:AC27),\"\")","v":""},{"$f":"+IFERROR(AVERAGE(Espejo!AD26:AD27),\"\")","v":""},{"$f":"+IFERROR(AVERAGE(Espejo!AE26:AE27),\"\")","v":""},{"$f":"+IFERROR(AVERAGE(Espejo!AF26:AF27),\"\")","v":""},{"$f":"+IFERROR(AVERAGE(Espejo!AG26:AG27),\"\")","v":""},{"$f":"+IFERROR(AVERAGE(Espejo!AH26:AH27),\"\")","v":""},{"$f":"+IFERROR(AVERAGE(Espejo!AI26:AI27),\"\")","v":""},{"$f":"+IFERROR(AVERAGE(Espejo!AJ26:AJ27),\"\")","v":""},{"$f":"+IFERROR(AVERAGE(Espejo!AK26:AK27),\"\")","v":""},{"$f":"+IFERROR(AVERAGE(Espejo!AL26:AL27),\"\")","v":""},{"$f":"+IFERROR(AVERAGE(Espejo!AM26:AM27),\"\")","v":""},{"$f":"+IFERROR(AVERAGE(Espejo!AN26:AN27),\"\")","v":""},{"$f":"+IFERROR(AVERAGE(Espejo!AO26:AO27),\"\")","v":""},{"$f":"+IFERROR(AVERAGE(Espejo!AP26:AP27),\"\")","v":""},{"$f":"+IFERROR(AVERAGE(Espejo!AQ26:AQ27),\"\")","v":""},{"$f":"+IFERROR(AVERAGE(Espejo!AR26:AR27),\"\")","v":""},{"$f":"+IFERROR(AVERAGE(Espejo!AS26:AS27),\"\")","v":""},{"$f":"+IFERROR(AVERAGE(Espejo!AT26:AT27),\"\")","v":""},{"$f":"+IFERROR(AVERAGE(Espejo!AU26:AU27),\"\")","v":""},{"$f":"+IFERROR(AVERAGE(Espejo!AV26:AV27),\"\")","v":""},{"$f":"+IFERROR(AVERAGE(Espejo!AW26:AW27),\"\")","v":""},{"$f":"+IFERROR(AVERAGE(Espejo!AX26:AX27),\"\")","v":""},{"$f":"+IFERROR(AVERAGE(Espejo!AY26:AY27),\"\")","v":""},{"$f":"+IFERROR(AVERAGE(Espejo!AZ26:AZ27),\"\")","v":""},{"$f":"+IFERROR(AVERAGE(Espejo!BA26:BA27),\"\")","v":""},{"$f":"+IFERROR(AVERAGE(Espejo!BB26:BB27),\"\")","v":""},{"$f":"+IFERROR(AVERAGE(Espejo!BC26:BC27),\"\")","v":""},{"$f":"+IFERROR(AVERAGE(Espejo!BD26:BD27),\"\")","v":""},{"$f":"+IFERROR(AVERAGE(Espejo!BE26:BE27),\"\")","v":""}]
[null,"HSE","Creatividad"," La o el estudiante propone distintas formas para resolver un problema o una tarea.",null,"",null,{"$f":"+IFERROR(AVERAGE(Espejo!H28:H29),\"\")","v":""},{"$f":"+IFERROR(AVERAGE(Espejo!I28:I29),\"\")","v":""},{"$f":"+IFERROR(AVERAGE(Espejo!J28:J29),\"\")","v":""},{"$f":"+IFERROR(AVERAGE(Espejo!K28:K29),\"\")","v":""},{"$f":"+IFERROR(AVERAGE(Espejo!L28:L29),\"\")","v":""},{"$f":"+IFERROR(AVERAGE(Espejo!M28:M29),\"\")","v":""},{"$f":"+IFERROR(AVERAGE(Espejo!N28:N29),\"\")","v":""},{"$f":"+IFERROR(AVERAGE(Espejo!O28:O29),\"\")","v":""},{"$f":"+IFERROR(AVERAGE(Espejo!P28:P29),\"\")","v":""},{"$f":"+IFERROR(AVERAGE(Espejo!Q28:Q29),\"\")","v":""},{"$f":"+IFERROR(AVERAGE(Espejo!R28:R29),\"\")","v":""},{"$f":"+IFERROR(AVERAGE(Espejo!S28:S29),\"\")","v":""},{"$f":"+IFERROR(AVERAGE(Espejo!T28:T29),\"\")","v":""},{"$f":"+IFERROR(AVERAGE(Espejo!U28:U29),\"\")","v":""},{"$f":"+IFERROR(AVERAGE(Espejo!V28:V29),\"\")","v":""},{"$f":"+IFERROR(AVERAGE(Espejo!W28:W29),\"\")","v":""},{"$f":"+IFERROR(AVERAGE(Espejo!X28:X29),\"\")","v":""},{"$f":"+IFERROR(AVERAGE(Espejo!Y28:Y29),\"\")","v":""},{"$f":"+IFERROR(AVERAGE(Espejo!Z28:Z29),\"\")","v":""},{"$f":"+IFERROR(AVERAGE(Espejo!AA28:AA29),\"\")","v":""},{"$f":"+IFERROR(AVERAGE(Espejo!AB28:AB29),\"\")","v":""},{"$f":"+IFERROR(AVERAGE(Espejo!AC28:AC29),\"\")","v":""},{"$f":"+IFERROR(AVERAGE(Espejo!AD28:AD29),\"\")","v":""},{"$f":"+IFERROR(AVERAGE(Espejo!AE28:AE29),\"\")","v":""},{"$f":"+IFERROR(AVERAGE(Espejo!AF28:AF29),\"\")","v":""},{"$f":"+IFERROR(AVERAGE(Espejo!AG28:AG29),\"\")","v":""},{"$f":"+IFERROR(AVERAGE(Espejo!AH28:AH29),\"\")","v":""},{"$f":"+IFERROR(AVERAGE(Espejo!AI28:AI29),\"\")","v":""},{"$f":"+IFERROR(AVERAGE(Espejo!AJ28:AJ29),\"\")","v":""},{"$f":"+IFERROR(AVERAGE(Espejo!AK28:AK29),\"\")","v":""},{"$f":"+IFERROR(AVERAGE(Espejo!AL28:AL29),\"\")","v":""},{"$f":"+IFERROR(AVERAGE(Espejo!AM28:AM29),\"\")","v":""},{"$f":"+IFERROR(AVERAGE(Espejo!AN28:AN29),\"\")","v":""},{"$f":"+IFERROR(AVERAGE(Espejo!AO28:AO29),\"\")","v":""},{"$f":"+IFERROR(AVERAGE(Espejo!AP28:AP29),\"\")","v":""},{"$f":"+IFERROR(AVERAGE(Espejo!AQ28:AQ29),\"\")","v":""},{"$f":"+IFERROR(AVERAGE(Espejo!AR28:AR29),\"\")","v":""},{"$f":"+IFERROR(AVERAGE(Espejo!AS28:AS29),\"\")","v":""},{"$f":"+IFERROR(AVERAGE(Espejo!AT28:AT29),\"\")","v":""},{"$f":"+IFERROR(AVERAGE(Espejo!AU28:AU29),\"\")","v":""},{"$f":"+IFERROR(AVERAGE(Espejo!AV28:AV29),\"\")","v":""},{"$f":"+IFERROR(AVERAGE(Espejo!AW28:AW29),\"\")","v":""},{"$f":"+IFERROR(AVERAGE(Espejo!AX28:AX29),\"\")","v":""},{"$f":"+IFERROR(AVERAGE(Espejo!AY28:AY29),\"\")","v":""},{"$f":"+IFERROR(AVERAGE(Espejo!AZ28:AZ29),\"\")","v":""},{"$f":"+IFERROR(AVERAGE(Espejo!BA28:BA29),\"\")","v":""},{"$f":"+IFERROR(AVERAGE(Espejo!BB28:BB29),\"\")","v":""},{"$f":"+IFERROR(AVERAGE(Espejo!BC28:BC29),\"\")","v":""},{"$f":"+IFERROR(AVERAGE(Espejo!BD28:BD29),\"\")","v":""},{"$f":"+IFERROR(AVERAGE(Espejo!BE28:BE29),\"\")","v":""}]
[null,"HSE","Toma de decisiones responsables","La o el estudiante es consciente que sus decisiones tienen consecuencias (causa-efecto).",null,"",null,{"$f":"+IFERROR(AVERAGE(Espejo!H30:H31),\"\")","v":""},{"$f":"+IFERROR(AVERAGE(Espejo!I30:I31),\"\")","v":""},{"$f":"+IFERROR(AVERAGE(Espejo!J30:J31),\"\")","v":""},{"$f":"+IFERROR(AVERAGE(Espejo!K30:K31),\"\")","v":""},{"$f":"+IFERROR(AVERAGE(Espejo!L30:L31),\"\")","v":""},{"$f":"+IFERROR(AVERAGE(Espejo!M30:M31),\"\")","v":""},{"$f":"+IFERROR(AVERAGE(Espejo!N30:N31),\"\")","v":""},{"$f":"+IFERROR(AVERAGE(Espejo!O30:O31),\"\")","v":""},{"$f":"+IFERROR(AVERAGE(Espejo!P30:P31),\"\")","v":""},{"$f":"+IFERROR(AVERAGE(Espejo!Q30:Q31),\"\")","v":""},{"$f":"+IFERROR(AVERAGE(Espejo!R30:R31),\"\")","v":""},{"$f":"+IFERROR(AVERAGE(Espejo!S30:S31),\"\")","v":""},{"$f":"+IFERROR(AVERAGE(Espejo!T30:T31),\"\")","v":""},{"$f":"+IFERROR(AVERAGE(Espejo!U30:U31),\"\")","v":""},{"$f":"+IFERROR(AVERAGE(Espejo!V30:V31),\"\")","v":""},{"$f":"+IFERROR(AVERAGE(Espejo!W30:W31),\"\")","v":""},{"$f":"+IFERROR(AVERAGE(Espejo!X30:X31),\"\")","v":""},{"$f":"+IFERROR(AVERAGE(Espejo!Y30:Y31),\"\")","v":""},{"$f":"+IFERROR(AVERAGE(Espejo!Z30:Z31),\"\")","v":""},{"$f":"+IFERROR(AVERAGE(Espejo!AA30:AA31),\"\")","v":""},{"$f":"+IFERROR(AVERAGE(Espejo!AB30:AB31),\"\")","v":""},{"$f":"+IFERROR(AVERAGE(Espejo!AC30:AC31),\"\")","v":""},{"$f":"+IFERROR(AVERAGE(Espejo!AD30:AD31),\"\")","v":""},{"$f":"+IFERROR(AVERAGE(Espejo!AE30:AE31),\"\")","v":""},{"$f":"+IFERROR(AVERAGE(Espejo!AF30:AF31),\"\")","v":""},{"$f":"+IFERROR(AVERAGE(Espejo!AG30:AG31),\"\")","v":""},{"$f":"+IFERROR(AVERAGE(Espejo!AH30:AH31),\"\")","v":""},{"$f":"+IFERROR(AVERAGE(Espejo!AI30:AI31),\"\")","v":""},{"$f":"+IFERROR(AVERAGE(Espejo!AJ30:AJ31),\"\")","v":""},{"$f":"+IFERROR(AVERAGE(Espejo!AK30:AK31),\"\")","v":""},{"$f":"+IFERROR(AVERAGE(Espejo!AL30:AL31),\"\")","v":""},{"$f":"+IFERROR(AVERAGE(Espejo!AM30:AM31),\"\")","v":""},{"$f":"+IFERROR(AVERAGE(Espejo!AN30:AN31),\"\")","v":""},{"$f":"+IFERROR(AVERAGE(Espejo!AO30:AO31),\"\")","v":""},{"$f":"+IFERROR(AVERAGE(Espejo!AP30:AP31),\"\")","v":""},{"$f":"+IFERROR(AVERAGE(Espejo!AQ30:AQ31),\"\")","v":""},{"$f":"+IFERROR(AVERAGE(Espejo!AR30:AR31),\"\")","v":""},{"$f":"+IFERROR(AVERAGE(Espejo!AS30:AS31),\"\")","v":""},{"$f":"+IFERROR(AVERAGE(Espejo!AT30:AT31),\"\")","v":""},{"$f":"+IFERROR(AVERAGE(Espejo!AU30:AU31),\"\")","v":""},{"$f":"+IFERROR(AVERAGE(Espejo!AV30:AV31),\"\")","v":""},{"$f":"+IFERROR(AVERAGE(Espejo!AW30:AW31),\"\")","v":""},{"$f":"+IFERROR(AVERAGE(Espejo!AX30:AX31),\"\")","v":""},{"$f":"+IFERROR(AVERAGE(Espejo!AY30:AY31),\"\")","v":""},{"$f":"+IFERROR(AVERAGE(Espejo!AZ30:AZ31),\"\")","v":""},{"$f":"+IFERROR(AVERAGE(Espejo!BA30:BA31),\"\")","v":""},{"$f":"+IFERROR(AVERAGE(Espejo!BB30:BB31),\"\")","v":""},{"$f":"+IFERROR(AVERAGE(Espejo!BC30:BC31),\"\")","v":""},{"$f":"+IFERROR(AVERAGE(Espejo!BD30:BD31),\"\")","v":""},{"$f":"+IFERROR(AVERAGE(Espejo!BE30:BE31),\"\")","v":""}]
[null,"HSE","Comunicación Asertiva","La o el estudiante practica la escucha activa.",null,"",null,{"$f":"+IFERROR(AVERAGE(Espejo!H32:H33),\"\")","v":""},{"$f":"+IFERROR(AVERAGE(Espejo!I32:I33),\"\")","v":""},{"$f":"+IFERROR(AVERAGE(Espejo!J32:J33),\"\")","v":""},{"$f":"+IFERROR(AVERAGE(Espejo!K32:K33),\"\")","v":""},{"$f":"+IFERROR(AVERAGE(Espejo!L32:L33),\"\")","v":""},{"$f":"+IFERROR(AVERAGE(Espejo!M32:M33),\"\")","v":""},{"$f":"+IFERROR(AVERAGE(Espejo!N32:N33),\"\")","v":""},{"$f":"+IFERROR(AVERAGE(Espejo!O32:O33),\"\")","v":""},{"$f":"+IFERROR(AVERAGE(Espejo!P32:P33),\"\")","v":""},{"$f":"+IFERROR(AVERAGE(Espejo!Q32:Q33),\"\")","v":""},{"$f":"+IFERROR(AVERAGE(Espejo!R32:R33),\"\")","v":""},{"$f":"+IFERROR(AVERAGE(Espejo!S32:S33),\"\")","v":""},{"$f":"+IFERROR(AVERAGE(Espejo!T32:T33),\"\")","v":""},{"$f":"+IFERROR(AVERAGE(Espejo!U32:U33),\"\")","v":""},{"$f":"+IFERROR(AVERAGE(Espejo!V32:V33),\"\")","v":""},{"$f":"+IFERROR(AVERAGE(Espejo!W32:W33),\"\")","v":""},{"$f":"+IFERROR(AVERAGE(Espejo!X32:X33),\"\")","v":""},{"$f":"+IFERROR(AVERAGE(Espejo!Y32:Y33),\"\")","v":""},{"$f":"+IFERROR(AVERAGE(Espejo!Z32:Z33),\"\")","v":""},{"$f":"+IFERROR(AVERAGE(Espejo!AA32:AA33),\"\")","v":""},{"$f":"+IFERROR(AVERAGE(Espejo!AB32:AB33),\"\")","v":""},{"$f":"+IFERROR(AVERAGE(Espejo!AC32:AC33),\"\")","v":""},{"$f":"+IFERROR(AVERAGE(Espejo!AD32:AD33),\"\")","v":""},{"$f":"+IFERROR(AVERAGE(Espejo!AE32:AE33),\"\")","v":""},{"$f":"+IFERROR(AVERAGE(Espejo!AF32:AF33),\"\")","v":""},{"$f":"+IFERROR(AVERAGE(Espejo!AG32:AG33),\"\")","v":""},{"$f":"+IFERROR(AVERAGE(Espejo!AH32:AH33),\"\")","v":""},{"$f":"+IFERROR(AVERAGE(Espejo!AI32:AI33),\"\")","v":""},{"$f":"+IFERROR(AVERAGE(Espejo!AJ32:AJ33),\"\")","v":""},{"$f":"+IFERROR(AVERAGE(Espejo!AK32:AK33),\"\")","v":""},{"$f":"+IFERROR(AVERAGE(Espejo!AL32:AL33),\"\")","v":""},{"$f":"+IFERROR(AVERAGE(Espejo!AM32:AM33),\"\")","v":""},{"$f":"+IFERROR(AVERAGE(Espejo!AN32:AN33),\"\")","v":""},{"$f":"+IFERROR(AVERAGE(Espejo!AO32:AO33),\"\")","v":""},{"$f":"+IFERROR(AVERAGE(Espejo!AP32:AP33),\"\")","v":""},{"$f":"+IFERROR(AVERAGE(Espejo!AQ32:AQ33),\"\")","v":""},{"$f":"+IFERROR(AVERAGE(Espejo!AR32:AR33),\"\")","v":""},{"$f":"+IFERROR(AVERAGE(Espejo!AS32:AS33),\"\")","v":""},{"$f":"+IFERROR(AVERAGE(Espejo!AT32:AT33),\"\")","v":""},{"$f":"+IFERROR(AVERAGE(Espejo!AU32:AU33),\"\")","v":""},{"$f":"+IFERROR(AVERAGE(Espejo!AV32:AV33),\"\")","v":""},{"$f":"+IFERROR(AVERAGE(Espejo!AW32:AW33),\"\")","v":""},{"$f":"+IFERROR(AVERAGE(Espejo!AX32:AX33),\"\")","v":""},{"$f":"+IFERROR(AVERAGE(Espejo!AY32:AY33),\"\")","v":""},{"$f":"+IFERROR(AVERAGE(Espejo!AZ32:AZ33),\"\")","v":""},{"$f":"+IFERROR(AVERAGE(Espejo!BA32:BA33),\"\")","v":""},{"$f":"+IFERROR(AVERAGE(Espejo!BB32:BB33),\"\")","v":""},{"$f":"+IFERROR(AVERAGE(Espejo!BC32:BC33),\"\")","v":""},{"$f":"+IFERROR(AVERAGE(Espejo!BD32:BD33),\"\")","v":""},{"$f":"+IFERROR(AVERAGE(Espejo!BE32:BE33),\"\")","v":""}]
[null,"HSE",null," La o el estudiante comparte sus opiniones con respeto.",null,"",null,{"$f":"+IFERROR(AVERAGE(Espejo!H34:H35),\"\")","v":""},{"$f":"+IFERROR(AVERAGE(Espejo!I34:I35),\"\")","v":""},{"$f":"+IFERROR(AVERAGE(Espejo!J34:J35),\"\")","v":""},{"$f":"+IFERROR(AVERAGE(Espejo!K34:K35),\"\")","v":""},{"$f":"+IFERROR(AVERAGE(Espejo!L34:L35),\"\")","v":""},{"$f":"+IFERROR(AVERAGE(Espejo!M34:M35),\"\")","v":""},{"$f":"+IFERROR(AVERAGE(Espejo!N34:N35),\"\")","v":""},{"$f":"+IFERROR(AVERAGE(Espejo!O34:O35),\"\")","v":""},{"$f":"+IFERROR(AVERAGE(Espejo!P34:P35),\"\")","v":""},{"$f":"+IFERROR(AVERAGE(Espejo!Q34:Q35),\"\")","v":""},{"$f":"+IFERROR(AVERAGE(Espejo!R34:R35),\"\")","v":""},{"$f":"+IFERROR(AVERAGE(Espejo!S34:S35),\"\")","v":""},{"$f":"+IFERROR(AVERAGE(Espejo!T34:T35),\"\")","v":""},{"$f":"+IFERROR(AVERAGE(Espejo!U34:U35),\"\")","v":""},{"$f":"+IFERROR(AVERAGE(Espejo!V34:V35),\"\")","v":""},{"$f":"+IFERROR(AVERAGE(Espejo!W34:W35),\"\")","v":""},{"$f":"+IFERROR(AVERAGE(Espejo!X34:X35),\"\")","v":""},{"$f":"+IFERROR(AVERAGE(Espejo!Y34:Y35),\"\")","v":""},{"$f":"+IFERROR(AVERAGE(Espejo!Z34:Z35),\"\")","v":""},{"$f":"+IFERROR(AVERAGE(Espejo!AA34:AA35),\"\")","v":""},{"$f":"+IFERROR(AVERAGE(Espejo!AB34:AB35),\"\")","v":""},{"$f":"+IFERROR(AVERAGE(Espejo!AC34:AC35),\"\")","v":""},{"$f":"+IFERROR(AVERAGE(Espejo!AD34:AD35),\"\")","v":""},{"$f":"+IFERROR(AVERAGE(Espejo!AE34:AE35),\"\")","v":""},{"$f":"+IFERROR(AVERAGE(Espejo!AF34:AF35),\"\")","v":""},{"$f":"+IFERROR(AVERAGE(Espejo!AG34:AG35),\"\")","v":""},{"$f":"+IFERROR(AVERAGE(Espejo!AH34:AH35),\"\")","v":""},{"$f":"+IFERROR(AVERAGE(Espejo!AI34:AI35),\"\")","v":""},{"$f":"+IFERROR(AVERAGE(Espejo!AJ34:AJ35),\"\")","v":""},{"$f":"+IFERROR(AVERAGE(Espejo!AK34:AK35),\"\")","v":""},{"$f":"+IFERROR(AVERAGE(Espejo!AL34:AL35),\"\")","v":""},{"$f":"+IFERROR(AVERAGE(Espejo!AM34:AM35),\"\")","v":""},{"$f":"+IFERROR(AVERAGE(Espejo!AN34:AN35),\"\")","v":""},{"$f":"+IFERROR(AVERAGE(Espejo!AO34:AO35),\"\")","v":""},{"$f":"+IFERROR(AVERAGE(Espejo!AP34:AP35),\"\")","v":""},{"$f":"+IFERROR(AVERAGE(Espejo!AQ34:AQ35),\"\")","v":""},{"$f":"+IFERROR(AVERAGE(Espejo!AR34:AR35),\"\")","v":""},{"$f":"+IFERROR(AVERAGE(Espejo!AS34:AS35),\"\")","v":""},{"$f":"+IFERROR(AVERAGE(Espejo!AT34:AT35),\"\")","v":""},{"$f":"+IFERROR(AVERAGE(Espejo!AU34:AU35),\"\")","v":""},{"$f":"+IFERROR(AVERAGE(Espejo!AV34:AV35),\"\")","v":""},{"$f":"+IFERROR(AVERAGE(Espejo!AW34:AW35),\"\")","v":""},{"$f":"+IFERROR(AVERAGE(Espejo!AX34:AX35),\"\")","v":""},{"$f":"+IFERROR(AVERAGE(Espejo!AY34:AY35),\"\")","v":""},{"$f":"+IFERROR(AVERAGE(Espejo!AZ34:AZ35),\"\")","v":""},{"$f":"+IFERROR(AVERAGE(Espejo!BA34:BA35),\"\")","v":""},{"$f":"+IFERROR(AVERAGE(Espejo!BB34:BB35),\"\")","v":""},{"$f":"+IFERROR(AVERAGE(Espejo!BC34:BC35),\"\")","v":""},{"$f":"+IFERROR(AVERAGE(Espejo!BD34:BD35),\"\")","v":""},{"$f":"+IFERROR(AVERAGE(Espejo!BE34:BE35),\"\")","v":""}]
[null,"HSE","Trabajo en Equipo","La o el estudiante trabaja colaborativamente con sus compañeros.",null,"",null,{"$f":"+IFERROR(AVERAGE(Espejo!H36:H37),\"\")","v":""},{"$f":"+IFERROR(AVERAGE(Espejo!I36:I37),\"\")","v":""},{"$f":"+IFERROR(AVERAGE(Espejo!J36:J37),\"\")","v":""},{"$f":"+IFERROR(AVERAGE(Espejo!K36:K37),\"\")","v":""},{"$f":"+IFERROR(AVERAGE(Espejo!L36:L37),\"\")","v":""},{"$f":"+IFERROR(AVERAGE(Espejo!M36:M37),\"\")","v":""},{"$f":"+IFERROR(AVERAGE(Espejo!N36:N37),\"\")","v":""},{"$f":"+IFERROR(AVERAGE(Espejo!O36:O37),\"\")","v":""},{"$f":"+IFERROR(AVERAGE(Espejo!P36:P37),\"\")","v":""},{"$f":"+IFERROR(AVERAGE(Espejo!Q36:Q37),\"\")","v":""},{"$f":"+IFERROR(AVERAGE(Espejo!R36:R37),\"\")","v":""},{"$f":"+IFERROR(AVERAGE(Espejo!S36:S37),\"\")","v":""},{"$f":"+IFERROR(AVERAGE(Espejo!T36:T37),\"\")","v":""},{"$f":"+IFERROR(AVERAGE(Espejo!U36:U37),\"\")","v":""},{"$f":"+IFERROR(AVERAGE(Espejo!V36:V37),\"\")","v":""},{"$f":"+IFERROR(AVERAGE(Espejo!W36:W37),\"\")","v":""},{"$f":"+IFERROR(AVERAGE(Espejo!X36:X37),\"\")","v":""},{"$f":"+IFERROR(AVERAGE(Espejo!Y36:Y37),\"\")","v":""},{"$f":"+IFERROR(AVERAGE(Espejo!Z36:Z37),\"\")","v":""},{"$f":"+IFERROR(AVERAGE(Espejo!AA36:AA37),\"\")","v":""},{"$f":"+IFERROR(AVERAGE(Espejo!AB36:AB37),\"\")","v":""},{"$f":"+IFERROR(AVERAGE(Espejo!AC36:AC37),\"\")","v":""},{"$f":"+IFERROR(AVERAGE(Espejo!AD36:AD37),\"\")","v":""},{"$f":"+IFERROR(AVERAGE(Espejo!AE36:AE37),\"\")","v":""},{"$f":"+IFERROR(AVERAGE(Espejo!AF36:AF37),\"\")","v":""},{"$f":"+IFERROR(AVERAGE(Espejo!AG36:AG37),\"\")","v":""},{"$f":"+IFERROR(AVERAGE(Espejo!AH36:AH37),\"\")","v":""},{"$f":"+IFERROR(AVERAGE(Espejo!AI36:AI37),\"\")","v":""},{"$f":"+IFERROR(AVERAGE(Espejo!AJ36:AJ37),\"\")","v":""},{"$f":"+IFERROR(AVERAGE(Espejo!AK36:AK37),\"\")","v":""},{"$f":"+IFERROR(AVERAGE(Espejo!AL36:AL37),\"\")","v":""},{"$f":"+IFERROR(AVERAGE(Espejo!AM36:AM37),\"\")","v":""},{"$f":"+IFERROR(AVERAGE(Espejo!AN36:AN37),\"\")","v":""},{"$f":"+IFERROR(AVERAGE(Espejo!AO36:AO37),\"\")","v":""},{"$f":"+IFERROR(AVERAGE(Espejo!AP36:AP37),\"\")","v":""},{"$f":"+IFERROR(AVERAGE(Espejo!AQ36:AQ37),\"\")","v":""},{"$f":"+IFERROR(AVERAGE(Espejo!AR36:AR37),\"\")","v":""},{"$f":"+IFERROR(AVERAGE(Espejo!AS36:AS37),\"\")","v":""},{"$f":"+IFERROR(AVERAGE(Espejo!AT36:AT37),\"\")","v":""},{"$f":"+IFERROR(AVERAGE(Espejo!AU36:AU37),\"\")","v":""},{"$f":"+IFERROR(AVERAGE(Espejo!AV36:AV37),\"\")","v":""},{"$f":"+IFERROR(AVERAGE(Espejo!AW36:AW37),\"\")","v":""},{"$f":"+IFERROR(AVERAGE(Espejo!AX36:AX37),\"\")","v":""},{"$f":"+IFERROR(AVERAGE(Espejo!AY36:AY37),\"\")","v":""},{"$f":"+IFERROR(AVERAGE(Espejo!AZ36:AZ37),\"\")","v":""},{"$f":"+IFERROR(AVERAGE(Espejo!BA36:BA37),\"\")","v":""},{"$f":"+IFERROR(AVERAGE(Espejo!BB36:BB37),\"\")","v":""},{"$f":"+IFERROR(AVERAGE(Espejo!BC36:BC37),\"\")","v":""},{"$f":"+IFERROR(AVERAGE(Espejo!BD36:BD37),\"\")","v":""},{"$f":"+IFERROR(AVERAGE(Espejo!BE36:BE37),\"\")","v":""}]
[null,"HSE","Empatía","La o el estudiante reconoce las emociones que sus compañeros experimentan para fortalecer sus vínculos afectivos.",null,"",null,{"$f":"+IFERROR((VLOOKUP('BASE DE RESPUESTAS'!H38,Back!$M$16:$N$20,2,0)),\"\")","v":""},{"$f":"+IFERROR((VLOOKUP('BASE DE RESPUESTAS'!I38,Back!$M$16:$N$20,2,0)),\"\")","v":""},{"$f":"+IFERROR((VLOOKUP('BASE DE RESPUESTAS'!J38,Back!$M$16:$N$20,2,0)),\"\")","v":""},{"$f":"+IFERROR((VLOOKUP('BASE DE RESPUESTAS'!K38,Back!$M$16:$N$20,2,0)),\"\")","v":""},{"$f":"+IFERROR((VLOOKUP('BASE DE RESPUESTAS'!L38,Back!$M$16:$N$20,2,0)),\"\")","v":""},{"$f":"+IFERROR((VLOOKUP('BASE DE RESPUESTAS'!M38,Back!$M$16:$N$20,2,0)),\"\")","v":""},{"$f":"+IFERROR((VLOOKUP('BASE DE RESPUESTAS'!N38,Back!$M$16:$N$20,2,0)),\"\")","v":""},{"$f":"+IFERROR((VLOOKUP('BASE DE RESPUESTAS'!O38,Back!$M$16:$N$20,2,0)),\"\")","v":""},{"$f":"+IFERROR((VLOOKUP('BASE DE RESPUESTAS'!P38,Back!$M$16:$N$20,2,0)),\"\")","v":""},{"$f":"+IFERROR((VLOOKUP('BASE DE RESPUESTAS'!Q38,Back!$M$16:$N$20,2,0)),\"\")","v":""},{"$f":"+IFERROR((VLOOKUP('BASE DE RESPUESTAS'!R38,Back!$M$16:$N$20,2,0)),\"\")","v":""},{"$f":"+IFERROR((VLOOKUP('BASE DE RESPUESTAS'!S38,Back!$M$16:$N$20,2,0)),\"\")","v":""},{"$f":"+IFERROR((VLOOKUP('BASE DE RESPUESTAS'!T38,Back!$M$16:$N$20,2,0)),\"\")","v":""},{"$f":"+IFERROR((VLOOKUP('BASE DE RESPUESTAS'!U38,Back!$M$16:$N$20,2,0)),\"\")","v":""},{"$f":"+IFERROR((VLOOKUP('BASE DE RESPUESTAS'!V38,Back!$M$16:$N$20,2,0)),\"\")","v":""},{"$f":"+IFERROR((VLOOKUP('BASE DE RESPUESTAS'!W38,Back!$M$16:$N$20,2,0)),\"\")","v":""},{"$f":"+IFERROR((VLOOKUP('BASE DE RESPUESTAS'!X38,Back!$M$16:$N$20,2,0)),\"\")","v":""},{"$f":"+IFERROR((VLOOKUP('BASE DE RESPUESTAS'!Y38,Back!$M$16:$N$20,2,0)),\"\")","v":""},{"$f":"+IFERROR((VLOOKUP('BASE DE RESPUESTAS'!Z38,Back!$M$16:$N$20,2,0)),\"\")","v":""},{"$f":"+IFERROR((VLOOKUP('BASE DE RESPUESTAS'!AA38,Back!$M$16:$N$20,2,0)),\"\")","v":""},{"$f":"+IFERROR((VLOOKUP('BASE DE RESPUESTAS'!AB38,Back!$M$16:$N$20,2,0)),\"\")","v":""},{"$f":"+IFERROR((VLOOKUP('BASE DE RESPUESTAS'!AC38,Back!$M$16:$N$20,2,0)),\"\")","v":""},{"$f":"+IFERROR((VLOOKUP('BASE DE RESPUESTAS'!AD38,Back!$M$16:$N$20,2,0)),\"\")","v":""},{"$f":"+IFERROR((VLOOKUP('BASE DE RESPUESTAS'!AE38,Back!$M$16:$N$20,2,0)),\"\")","v":""},{"$f":"+IFERROR((VLOOKUP('BASE DE RESPUESTAS'!AF38,Back!$M$16:$N$20,2,0)),\"\")","v":""},{"$f":"+IFERROR((VLOOKUP('BASE DE RESPUESTAS'!AG38,Back!$M$16:$N$20,2,0)),\"\")","v":""},{"$f":"+IFERROR((VLOOKUP('BASE DE RESPUESTAS'!AH38,Back!$M$16:$N$20,2,0)),\"\")","v":""},{"$f":"+IFERROR((VLOOKUP('BASE DE RESPUESTAS'!AI38,Back!$M$16:$N$20,2,0)),\"\")","v":""},{"$f":"+IFERROR((VLOOKUP('BASE DE RESPUESTAS'!AJ38,Back!$M$16:$N$20,2,0)),\"\")","v":""},{"$f":"+IFERROR((VLOOKUP('BASE DE RESPUESTAS'!AK38,Back!$M$16:$N$20,2,0)),\"\")","v":""},{"$f":"+IFERROR((VLOOKUP('BASE DE RESPUESTAS'!AL38,Back!$M$16:$N$20,2,0)),\"\")","v":""},{"$f":"+IFERROR((VLOOKUP('BASE DE RESPUESTAS'!AM38,Back!$M$16:$N$20,2,0)),\"\")","v":""},{"$f":"+IFERROR((VLOOKUP('BASE DE RESPUESTAS'!AN38,Back!$M$16:$N$20,2,0)),\"\")","v":""},{"$f":"+IFERROR((VLOOKUP('BASE DE RESPUESTAS'!AO38,Back!$M$16:$N$20,2,0)),\"\")","v":""},{"$f":"+IFERROR((VLOOKUP('BASE DE RESPUESTAS'!AP38,Back!$M$16:$N$20,2,0)),\"\")","v":""},{"$f":"+IFERROR((VLOOKUP('BASE DE RESPUESTAS'!AQ38,Back!$M$16:$N$20,2,0)),\"\")","v":""},{"$f":"+IFERROR((VLOOKUP('BASE DE RESPUESTAS'!AR38,Back!$M$16:$N$20,2,0)),\"\")","v":""},{"$f":"+IFERROR((VLOOKUP('BASE DE RESPUESTAS'!AS38,Back!$M$16:$N$20,2,0)),\"\")","v":""},{"$f":"+IFERROR((VLOOKUP('BASE DE RESPUESTAS'!AT38,Back!$M$16:$N$20,2,0)),\"\")","v":""},{"$f":"+IFERROR((VLOOKUP('BASE DE RESPUESTAS'!AU38,Back!$M$16:$N$20,2,0)),\"\")","v":""},{"$f":"+IFERROR((VLOOKUP('BASE DE RESPUESTAS'!AV38,Back!$M$16:$N$20,2,0)),\"\")","v":""},{"$f":"+IFERROR((VLOOKUP('BASE DE RESPUESTAS'!AW38,Back!$M$16:$N$20,2,0)),\"\")","v":""},{"$f":"+IFERROR((VLOOKUP('BASE DE RESPUESTAS'!AX38,Back!$M$16:$N$20,2,0)),\"\")","v":""},{"$f":"+IFERROR((VLOOKUP('BASE DE RESPUESTAS'!AY38,Back!$M$16:$N$20,2,0)),\"\")","v":""},{"$f":"+IFERROR((VLOOKUP('BASE DE RESPUESTAS'!AZ38,Back!$M$16:$N$20,2,0)),\"\")","v":""},{"$f":"+IFERROR((VLOOKUP('BASE DE RESPUESTAS'!BA38,Back!$M$16:$N$20,2,0)),\"\")","v":""},{"$f":"+IFERROR((VLOOKUP('BASE DE RESPUESTAS'!BB38,Back!$M$16:$N$20,2,0)),\"\")","v":""},{"$f":"+IFERROR((VLOOKUP('BASE DE RESPUESTAS'!BC38,Back!$M$16:$N$20,2,0)),\"\")","v":""},{"$f":"+IFERROR((VLOOKUP('BASE DE RESPUESTAS'!BD38,Back!$M$16:$N$20,2,0)),\"\")","v":""},{"$f":"+IFERROR((VLOOKUP('BASE DE RESPUESTAS'!BE38,Back!$M$16:$N$20,2,0)),\"\")","v":""}]
[null,"HSE",null,"La o el estudiante comprende los puntos de vista de sus compañeros ante un desacuerdo.",null,"",null,{"$f":"+IFERROR((VLOOKUP('BASE DE RESPUESTAS'!H39,Back!$M$16:$N$20,2,0)),\"\")","v":""},{"$f":"+IFERROR((VLOOKUP('BASE DE RESPUESTAS'!I39,Back!$M$16:$N$20,2,0)),\"\")","v":""},{"$f":"+IFERROR((VLOOKUP('BASE DE RESPUESTAS'!J39,Back!$M$16:$N$20,2,0)),\"\")","v":""},{"$f":"+IFERROR((VLOOKUP('BASE DE RESPUESTAS'!K39,Back!$M$16:$N$20,2,0)),\"\")","v":""},{"$f":"+IFERROR((VLOOKUP('BASE DE RESPUESTAS'!L39,Back!$M$16:$N$20,2,0)),\"\")","v":""},{"$f":"+IFERROR((VLOOKUP('BASE DE RESPUESTAS'!M39,Back!$M$16:$N$20,2,0)),\"\")","v":""},{"$f":"+IFERROR((VLOOKUP('BASE DE RESPUESTAS'!N39,Back!$M$16:$N$20,2,0)),\"\")","v":""},{"$f":"+IFERROR((VLOOKUP('BASE DE RESPUESTAS'!O39,Back!$M$16:$N$20,2,0)),\"\")","v":""},{"$f":"+IFERROR((VLOOKUP('BASE DE RESPUESTAS'!P39,Back!$M$16:$N$20,2,0)),\"\")","v":""},{"$f":"+IFERROR((VLOOKUP('BASE DE RESPUESTAS'!Q39,Back!$M$16:$N$20,2,0)),\"\")","v":""},{"$f":"+IFERROR((VLOOKUP('BASE DE RESPUESTAS'!R39,Back!$M$16:$N$20,2,0)),\"\")","v":""},{"$f":"+IFERROR((VLOOKUP('BASE DE RESPUESTAS'!S39,Back!$M$16:$N$20,2,0)),\"\")","v":""},{"$f":"+IFERROR((VLOOKUP('BASE DE RESPUESTAS'!T39,Back!$M$16:$N$20,2,0)),\"\")","v":""},{"$f":"+IFERROR((VLOOKUP('BASE DE RESPUESTAS'!U39,Back!$M$16:$N$20,2,0)),\"\")","v":""},{"$f":"+IFERROR((VLOOKUP('BASE DE RESPUESTAS'!V39,Back!$M$16:$N$20,2,0)),\"\")","v":""},{"$f":"+IFERROR((VLOOKUP('BASE DE RESPUESTAS'!W39,Back!$M$16:$N$20,2,0)),\"\")","v":""},{"$f":"+IFERROR((VLOOKUP('BASE DE RESPUESTAS'!X39,Back!$M$16:$N$20,2,0)),\"\")","v":""},{"$f":"+IFERROR((VLOOKUP('BASE DE RESPUESTAS'!Y39,Back!$M$16:$N$20,2,0)),\"\")","v":""},{"$f":"+IFERROR((VLOOKUP('BASE DE RESPUESTAS'!Z39,Back!$M$16:$N$20,2,0)),\"\")","v":""},{"$f":"+IFERROR((VLOOKUP('BASE DE RESPUESTAS'!AA39,Back!$M$16:$N$20,2,0)),\"\")","v":""},{"$f":"+IFERROR((VLOOKUP('BASE DE RESPUESTAS'!AB39,Back!$M$16:$N$20,2,0)),\"\")","v":""},{"$f":"+IFERROR((VLOOKUP('BASE DE RESPUESTAS'!AC39,Back!$M$16:$N$20,2,0)),\"\")","v":""},{"$f":"+IFERROR((VLOOKUP('BASE DE RESPUESTAS'!AD39,Back!$M$16:$N$20,2,0)),\"\")","v":""},{"$f":"+IFERROR((VLOOKUP('BASE DE RESPUESTAS'!AE39,Back!$M$16:$N$20,2,0)),\"\")","v":""},{"$f":"+IFERROR((VLOOKUP('BASE DE RESPUESTAS'!AF39,Back!$M$16:$N$20,2,0)),\"\")","v":""},{"$f":"+IFERROR((VLOOKUP('BASE DE RESPUESTAS'!AG39,Back!$M$16:$N$20,2,0)),\"\")","v":""},{"$f":"+IFERROR((VLOOKUP('BASE DE RESPUESTAS'!AH39,Back!$M$16:$N$20,2,0)),\"\")","v":""},{"$f":"+IFERROR((VLOOKUP('BASE DE RESPUESTAS'!AI39,Back!$M$16:$N$20,2,0)),\"\")","v":""},{"$f":"+IFERROR((VLOOKUP('BASE DE RESPUESTAS'!AJ39,Back!$M$16:$N$20,2,0)),\"\")","v":""},{"$f":"+IFERROR((VLOOKUP('BASE DE RESPUESTAS'!AK39,Back!$M$16:$N$20,2,0)),\"\")","v":""},{"$f":"+IFERROR((VLOOKUP('BASE DE RESPUESTAS'!AL39,Back!$M$16:$N$20,2,0)),\"\")","v":""},{"$f":"+IFERROR((VLOOKUP('BASE DE RESPUESTAS'!AM39,Back!$M$16:$N$20,2,0)),\"\")","v":""},{"$f":"+IFERROR((VLOOKUP('BASE DE RESPUESTAS'!AN39,Back!$M$16:$N$20,2,0)),\"\")","v":""},{"$f":"+IFERROR((VLOOKUP('BASE DE RESPUESTAS'!AO39,Back!$M$16:$N$20,2,0)),\"\")","v":""},{"$f":"+IFERROR((VLOOKUP('BASE DE RESPUESTAS'!AP39,Back!$M$16:$N$20,2,0)),\"\")","v":""},{"$f":"+IFERROR((VLOOKUP('BASE DE RESPUESTAS'!AQ39,Back!$M$16:$N$20,2,0)),\"\")","v":""},{"$f":"+IFERROR((VLOOKUP('BASE DE RESPUESTAS'!AR39,Back!$M$16:$N$20,2,0)),\"\")","v":""},{"$f":"+IFERROR((VLOOKUP('BASE DE RESPUESTAS'!AS39,Back!$M$16:$N$20,2,0)),\"\")","v":""},{"$f":"+IFERROR((VLOOKUP('BASE DE RESPUESTAS'!AT39,Back!$M$16:$N$20,2,0)),\"\")","v":""},{"$f":"+IFERROR((VLOOKUP('BASE DE RESPUESTAS'!AU39,Back!$M$16:$N$20,2,0)),\"\")","v":""},{"$f":"+IFERROR((VLOOKUP('BASE DE RESPUESTAS'!AV39,Back!$M$16:$N$20,2,0)),\"\")","v":""},{"$f":"+IFERROR((VLOOKUP('BASE DE RESPUESTAS'!AW39,Back!$M$16:$N$20,2,0)),\"\")","v":""},{"$f":"+IFERROR((VLOOKUP('BASE DE RESPUESTAS'!AX39,Back!$M$16:$N$20,2,0)),\"\")","v":""},{"$f":"+IFERROR((VLOOKUP('BASE DE RESPUESTAS'!AY39,Back!$M$16:$N$20,2,0)),\"\")","v":""},{"$f":"+IFERROR((VLOOKUP('BASE DE RESPUESTAS'!AZ39,Back!$M$16:$N$20,2,0)),\"\")","v":""},{"$f":"+IFERROR((VLOOKUP('BASE DE RESPUESTAS'!BA39,Back!$M$16:$N$20,2,0)),\"\")","v":""},{"$f":"+IFERROR((VLOOKUP('BASE DE RESPUESTAS'!BB39,Back!$M$16:$N$20,2,0)),\"\")","v":""},{"$f":"+IFERROR((VLOOKUP('BASE DE RESPUESTAS'!BC39,Back!$M$16:$N$20,2,0)),\"\")","v":""},{"$f":"+IFERROR((VLOOKUP('BASE DE RESPUESTAS'!BD39,Back!$M$16:$N$20,2,0)),\"\")","v":""},{"$f":"+IFERROR((VLOOKUP('BASE DE RESPUESTAS'!BE39,Back!$M$16:$N$20,2,0)),\"\")","v":""}]
[null,"HSE","Resolución de Conflictos","La o el estudiante reconoce que existen distintos puntos de vista e intenta integrarlos en la solución.",null,"",null,{"$f":"+IFERROR((VLOOKUP('BASE DE RESPUESTAS'!H40,Back!$M$16:$N$20,2,0)),\"\")","v":""},{"$f":"+IFERROR((VLOOKUP('BASE DE RESPUESTAS'!I40,Back!$M$16:$N$20,2,0)),\"\")","v":""},{"$f":"+IFERROR((VLOOKUP('BASE DE RESPUESTAS'!J40,Back!$M$16:$N$20,2,0)),\"\")","v":""},{"$f":"+IFERROR((VLOOKUP('BASE DE RESPUESTAS'!K40,Back!$M$16:$N$20,2,0)),\"\")","v":""},{"$f":"+IFERROR((VLOOKUP('BASE DE RESPUESTAS'!L40,Back!$M$16:$N$20,2,0)),\"\")","v":""},{"$f":"+IFERROR((VLOOKUP('BASE DE RESPUESTAS'!M40,Back!$M$16:$N$20,2,0)),\"\")","v":""},{"$f":"+IFERROR((VLOOKUP('BASE DE RESPUESTAS'!N40,Back!$M$16:$N$20,2,0)),\"\")","v":""},{"$f":"+IFERROR((VLOOKUP('BASE DE RESPUESTAS'!O40,Back!$M$16:$N$20,2,0)),\"\")","v":""},{"$f":"+IFERROR((VLOOKUP('BASE DE RESPUESTAS'!P40,Back!$M$16:$N$20,2,0)),\"\")","v":""},{"$f":"+IFERROR((VLOOKUP('BASE DE RESPUESTAS'!Q40,Back!$M$16:$N$20,2,0)),\"\")","v":""},{"$f":"+IFERROR((VLOOKUP('BASE DE RESPUESTAS'!R40,Back!$M$16:$N$20,2,0)),\"\")","v":""},{"$f":"+IFERROR((VLOOKUP('BASE DE RESPUESTAS'!S40,Back!$M$16:$N$20,2,0)),\"\")","v":""},{"$f":"+IFERROR((VLOOKUP('BASE DE RESPUESTAS'!T40,Back!$M$16:$N$20,2,0)),\"\")","v":""},{"$f":"+IFERROR((VLOOKUP('BASE DE RESPUESTAS'!U40,Back!$M$16:$N$20,2,0)),\"\")","v":""},{"$f":"+IFERROR((VLOOKUP('BASE DE RESPUESTAS'!V40,Back!$M$16:$N$20,2,0)),\"\")","v":""},{"$f":"+IFERROR((VLOOKUP('BASE DE RESPUESTAS'!W40,Back!$M$16:$N$20,2,0)),\"\")","v":""},{"$f":"+IFERROR((VLOOKUP('BASE DE RESPUESTAS'!X40,Back!$M$16:$N$20,2,0)),\"\")","v":""},{"$f":"+IFERROR((VLOOKUP('BASE DE RESPUESTAS'!Y40,Back!$M$16:$N$20,2,0)),\"\")","v":""},{"$f":"+IFERROR((VLOOKUP('BASE DE RESPUESTAS'!Z40,Back!$M$16:$N$20,2,0)),\"\")","v":""},{"$f":"+IFERROR((VLOOKUP('BASE DE RESPUESTAS'!AA40,Back!$M$16:$N$20,2,0)),\"\")","v":""},{"$f":"+IFERROR((VLOOKUP('BASE DE RESPUESTAS'!AB40,Back!$M$16:$N$20,2,0)),\"\")","v":""},{"$f":"+IFERROR((VLOOKUP('BASE DE RESPUESTAS'!AC40,Back!$M$16:$N$20,2,0)),\"\")","v":""},{"$f":"+IFERROR((VLOOKUP('BASE DE RESPUESTAS'!AD40,Back!$M$16:$N$20,2,0)),\"\")","v":""},{"$f":"+IFERROR((VLOOKUP('BASE DE RESPUESTAS'!AE40,Back!$M$16:$N$20,2,0)),\"\")","v":""},{"$f":"+IFERROR((VLOOKUP('BASE DE RESPUESTAS'!AF40,Back!$M$16:$N$20,2,0)),\"\")","v":""},{"$f":"+IFERROR((VLOOKUP('BASE DE RESPUESTAS'!AG40,Back!$M$16:$N$20,2,0)),\"\")","v":""},{"$f":"+IFERROR((VLOOKUP('BASE DE RESPUESTAS'!AH40,Back!$M$16:$N$20,2,0)),\"\")","v":""},{"$f":"+IFERROR((VLOOKUP('BASE DE RESPUESTAS'!AI40,Back!$M$16:$N$20,2,0)),\"\")","v":""},{"$f":"+IFERROR((VLOOKUP('BASE DE RESPUESTAS'!AJ40,Back!$M$16:$N$20,2,0)),\"\")","v":""},{"$f":"+IFERROR((VLOOKUP('BASE DE RESPUESTAS'!AK40,Back!$M$16:$N$20,2,0)),\"\")","v":""},{"$f":"+IFERROR((VLOOKUP('BASE DE RESPUESTAS'!AL40,Back!$M$16:$N$20,2,0)),\"\")","v":""},{"$f":"+IFERROR((VLOOKUP('BASE DE RESPUESTAS'!AM40,Back!$M$16:$N$20,2,0)),\"\")","v":""},{"$f":"+IFERROR((VLOOKUP('BASE DE RESPUESTAS'!AN40,Back!$M$16:$N$20,2,0)),\"\")","v":""},{"$f":"+IFERROR((VLOOKUP('BASE DE RESPUESTAS'!AO40,Back!$M$16:$N$20,2,0)),\"\")","v":""},{"$f":"+IFERROR((VLOOKUP('BASE DE RESPUESTAS'!AP40,Back!$M$16:$N$20,2,0)),\"\")","v":""},{"$f":"+IFERROR((VLOOKUP('BASE DE RESPUESTAS'!AQ40,Back!$M$16:$N$20,2,0)),\"\")","v":""},{"$f":"+IFERROR((VLOOKUP('BASE DE RESPUESTAS'!AR40,Back!$M$16:$N$20,2,0)),\"\")","v":""},{"$f":"+IFERROR((VLOOKUP('BASE DE RESPUESTAS'!AS40,Back!$M$16:$N$20,2,0)),\"\")","v":""},{"$f":"+IFERROR((VLOOKUP('BASE DE RESPUESTAS'!AT40,Back!$M$16:$N$20,2,0)),\"\")","v":""},{"$f":"+IFERROR((VLOOKUP('BASE DE RESPUESTAS'!AU40,Back!$M$16:$N$20,2,0)),\"\")","v":""},{"$f":"+IFERROR((VLOOKUP('BASE DE RESPUESTAS'!AV40,Back!$M$16:$N$20,2,0)),\"\")","v":""},{"$f":"+IFERROR((VLOOKUP('BASE DE RESPUESTAS'!AW40,Back!$M$16:$N$20,2,0)),\"\")","v":""},{"$f":"+IFERROR((VLOOKUP('BASE DE RESPUESTAS'!AX40,Back!$M$16:$N$20,2,0)),\"\")","v":""},{"$f":"+IFERROR((VLOOKUP('BASE DE RESPUESTAS'!AY40,Back!$M$16:$N$20,2,0)),\"\")","v":""},{"$f":"+IFERROR((VLOOKUP('BASE DE RESPUESTAS'!AZ40,Back!$M$16:$N$20,2,0)),\"\")","v":""},{"$f":"+IFERROR((VLOOKUP('BASE DE RESPUESTAS'!BA40,Back!$M$16:$N$20,2,0)),\"\")","v":""},{"$f":"+IFERROR((VLOOKUP('BASE DE RESPUESTAS'!BB40,Back!$M$16:$N$20,2,0)),\"\")","v":""},{"$f":"+IFERROR((VLOOKUP('BASE DE RESPUESTAS'!BC40,Back!$M$16:$N$20,2,0)),\"\")","v":""},{"$f":"+IFERROR((VLOOKUP('BASE DE RESPUESTAS'!BD40,Back!$M$16:$N$20,2,0)),\"\")","v":""},{"$f":"+IFERROR((VLOOKUP('BASE DE RESPUESTAS'!BE40,Back!$M$16:$N$20,2,0)),\"\")","v":""}]
[null,"HSE",null,"La o el estudiante reconoce que las personas somos diversas y que todas merecen buen trato.",null,"",null,{"$f":"+IFERROR((VLOOKUP('BASE DE RESPUESTAS'!H41,Back!$M$16:$N$20,2,0)),\"\")","v":""},{"$f":"+IFERROR((VLOOKUP('BASE DE RESPUESTAS'!I41,Back!$M$16:$N$20,2,0)),\"\")","v":""},{"$f":"+IFERROR((VLOOKUP('BASE DE RESPUESTAS'!J41,Back!$M$16:$N$20,2,0)),\"\")","v":""},{"$f":"+IFERROR((VLOOKUP('BASE DE RESPUESTAS'!K41,Back!$M$16:$N$20,2,0)),\"\")","v":""},{"$f":"+IFERROR((VLOOKUP('BASE DE RESPUESTAS'!L41,Back!$M$16:$N$20,2,0)),\"\")","v":""},{"$f":"+IFERROR((VLOOKUP('BASE DE RESPUESTAS'!M41,Back!$M$16:$N$20,2,0)),\"\")","v":""},{"$f":"+IFERROR((VLOOKUP('BASE DE RESPUESTAS'!N41,Back!$M$16:$N$20,2,0)),\"\")","v":""},{"$f":"+IFERROR((VLOOKUP('BASE DE RESPUESTAS'!O41,Back!$M$16:$N$20,2,0)),\"\")","v":""},{"$f":"+IFERROR((VLOOKUP('BASE DE RESPUESTAS'!P41,Back!$M$16:$N$20,2,0)),\"\")","v":""},{"$f":"+IFERROR((VLOOKUP('BASE DE RESPUESTAS'!Q41,Back!$M$16:$N$20,2,0)),\"\")","v":""},{"$f":"+IFERROR((VLOOKUP('BASE DE RESPUESTAS'!R41,Back!$M$16:$N$20,2,0)),\"\")","v":""},{"$f":"+IFERROR((VLOOKUP('BASE DE RESPUESTAS'!S41,Back!$M$16:$N$20,2,0)),\"\")","v":""},{"$f":"+IFERROR((VLOOKUP('BASE DE RESPUESTAS'!T41,Back!$M$16:$N$20,2,0)),\"\")","v":""},{"$f":"+IFERROR((VLOOKUP('BASE DE RESPUESTAS'!U41,Back!$M$16:$N$20,2,0)),\"\")","v":""},{"$f":"+IFERROR((VLOOKUP('BASE DE RESPUESTAS'!V41,Back!$M$16:$N$20,2,0)),\"\")","v":""},{"$f":"+IFERROR((VLOOKUP('BASE DE RESPUESTAS'!W41,Back!$M$16:$N$20,2,0)),\"\")","v":""},{"$f":"+IFERROR((VLOOKUP('BASE DE RESPUESTAS'!X41,Back!$M$16:$N$20,2,0)),\"\")","v":""},{"$f":"+IFERROR((VLOOKUP('BASE DE RESPUESTAS'!Y41,Back!$M$16:$N$20,2,0)),\"\")","v":""},{"$f":"+IFERROR((VLOOKUP('BASE DE RESPUESTAS'!Z41,Back!$M$16:$N$20,2,0)),\"\")","v":""},{"$f":"+IFERROR((VLOOKUP('BASE DE RESPUESTAS'!AA41,Back!$M$16:$N$20,2,0)),\"\")","v":""},{"$f":"+IFERROR((VLOOKUP('BASE DE RESPUESTAS'!AB41,Back!$M$16:$N$20,2,0)),\"\")","v":""},{"$f":"+IFERROR((VLOOKUP('BASE DE RESPUESTAS'!AC41,Back!$M$16:$N$20,2,0)),\"\")","v":""},{"$f":"+IFERROR((VLOOKUP('BASE DE RESPUESTAS'!AD41,Back!$M$16:$N$20,2,0)),\"\")","v":""},{"$f":"+IFERROR((VLOOKUP('BASE DE RESPUESTAS'!AE41,Back!$M$16:$N$20,2,0)),\"\")","v":""},{"$f":"+IFERROR((VLOOKUP('BASE DE RESPUESTAS'!AF41,Back!$M$16:$N$20,2,0)),\"\")","v":""},{"$f":"+IFERROR((VLOOKUP('BASE DE RESPUESTAS'!AG41,Back!$M$16:$N$20,2,0)),\"\")","v":""},{"$f":"+IFERROR((VLOOKUP('BASE DE RESPUESTAS'!AH41,Back!$M$16:$N$20,2,0)),\"\")","v":""},{"$f":"+IFERROR((VLOOKUP('BASE DE RESPUESTAS'!AI41,Back!$M$16:$N$20,2,0)),\"\")","v":""},{"$f":"+IFERROR((VLOOKUP('BASE DE RESPUESTAS'!AJ41,Back!$M$16:$N$20,2,0)),\"\")","v":""},{"$f":"+IFERROR((VLOOKUP('BASE DE RESPUESTAS'!AK41,Back!$M$16:$N$20,2,0)),\"\")","v":""},{"$f":"+IFERROR((VLOOKUP('BASE DE RESPUESTAS'!AL41,Back!$M$16:$N$20,2,0)),\"\")","v":""},{"$f":"+IFERROR((VLOOKUP('BASE DE RESPUESTAS'!AM41,Back!$M$16:$N$20,2,0)),\"\")","v":""},{"$f":"+IFERROR((VLOOKUP('BASE DE RESPUESTAS'!AN41,Back!$M$16:$N$20,2,0)),\"\")","v":""},{"$f":"+IFERROR((VLOOKUP('BASE DE RESPUESTAS'!AO41,Back!$M$16:$N$20,2,0)),\"\")","v":""},{"$f":"+IFERROR((VLOOKUP('BASE DE RESPUESTAS'!AP41,Back!$M$16:$N$20,2,0)),\"\")","v":""},{"$f":"+IFERROR((VLOOKUP('BASE DE RESPUESTAS'!AQ41,Back!$M$16:$N$20,2,0)),\"\")","v":""},{"$f":"+IFERROR((VLOOKUP('BASE DE RESPUESTAS'!AR41,Back!$M$16:$N$20,2,0)),\"\")","v":""},{"$f":"+IFERROR((VLOOKUP('BASE DE RESPUESTAS'!AS41,Back!$M$16:$N$20,2,0)),\"\")","v":""},{"$f":"+IFERROR((VLOOKUP('BASE DE RESPUESTAS'!AT41,Back!$M$16:$N$20,2,0)),\"\")","v":""},{"$f":"+IFERROR((VLOOKUP('BASE DE RESPUESTAS'!AU41,Back!$M$16:$N$20,2,0)),\"\")","v":""},{"$f":"+IFERROR((VLOOKUP('BASE DE RESPUESTAS'!AV41,Back!$M$16:$N$20,2,0)),\"\")","v":""},{"$f":"+IFERROR((VLOOKUP('BASE DE RESPUESTAS'!AW41,Back!$M$16:$N$20,2,0)),\"\")","v":""},{"$f":"+IFERROR((VLOOKUP('BASE DE RESPUESTAS'!AX41,Back!$M$16:$N$20,2,0)),\"\")","v":""},{"$f":"+IFERROR((VLOOKUP('BASE DE RESPUESTAS'!AY41,Back!$M$16:$N$20,2,0)),\"\")","v":""},{"$f":"+IFERROR((VLOOKUP('BASE DE RESPUESTAS'!AZ41,Back!$M$16:$N$20,2,0)),\"\")","v":""},{"$f":"+IFERROR((VLOOKUP('BASE DE RESPUESTAS'!BA41,Back!$M$16:$N$20,2,0)),\"\")","v":""},{"$f":"+IFERROR((VLOOKUP('BASE DE RESPUESTAS'!BB41,Back!$M$16:$N$20,2,0)),\"\")","v":""},{"$f":"+IFERROR((VLOOKUP('BASE DE RESPUESTAS'!BC41,Back!$M$16:$N$20,2,0)),\"\")","v":""},{"$f":"+IFERROR((VLOOKUP('BASE DE RESPUESTAS'!BD41,Back!$M$16:$N$20,2,0)),\"\")","v":""},{"$f":"+IFERROR((VLOOKUP('BASE DE RESPUESTAS'!BE41,Back!$M$16:$N$20,2,0)),\"\")","v":""}]
[null,"HSE","Conciencia Social","La o el estudiante reconoce que las personas somos diversas y que todas merecen buen trato.",null,"",null,{"$f":"+IFERROR(AVERAGE(Espejo!H42:H43),\"\")","v":""},{"$f":"+IFERROR(AVERAGE(Espejo!I42:I43),\"\")","v":""},{"$f":"+IFERROR(AVERAGE(Espejo!J42:J43),\"\")","v":""},{"$f":"+IFERROR(AVERAGE(Espejo!K42:K43),\"\")","v":""},{"$f":"+IFERROR(AVERAGE(Espejo!L42:L43),\"\")","v":""},{"$f":"+IFERROR(AVERAGE(Espejo!M42:M43),\"\")","v":""},{"$f":"+IFERROR(AVERAGE(Espejo!N42:N43),\"\")","v":""},{"$f":"+IFERROR(AVERAGE(Espejo!O42:O43),\"\")","v":""},{"$f":"+IFERROR(AVERAGE(Espejo!P42:P43),\"\")","v":""},{"$f":"+IFERROR(AVERAGE(Espejo!Q42:Q43),\"\")","v":""},{"$f":"+IFERROR(AVERAGE(Espejo!R42:R43),\"\")","v":""},{"$f":"+IFERROR(AVERAGE(Espejo!S42:S43),\"\")","v":""},{"$f":"+IFERROR(AVERAGE(Espejo!T42:T43),\"\")","v":""},{"$f":"+IFERROR(AVERAGE(Espejo!U42:U43),\"\")","v":""},{"$f":"+IFERROR(AVERAGE(Espejo!V42:V43),\"\")","v":""},{"$f":"+IFERROR(AVERAGE(Espejo!W42:W43),\"\")","v":""},{"$f":"+IFERROR(AVERAGE(Espejo!X42:X43),\"\")","v":""},{"$f":"+IFERROR(AVERAGE(Espejo!Y42:Y43),\"\")","v":""},{"$f":"+IFERROR(AVERAGE(Espejo!Z42:Z43),\"\")","v":""},{"$f":"+IFERROR(AVERAGE(Espejo!AA42:AA43),\"\")","v":""},{"$f":"+IFERROR(AVERAGE(Espejo!AB42:AB43),\"\")","v":""},{"$f":"+IFERROR(AVERAGE(Espejo!AC42:AC43),\"\")","v":""},{"$f":"+IFERROR(AVERAGE(Espejo!AD42:AD43),\"\")","v":""},{"$f":"+IFERROR(AVERAGE(Espejo!AE42:AE43),\"\")","v":""},{"$f":"+IFERROR(AVERAGE(Espejo!AF42:AF43),\"\")","v":""},{"$f":"+IFERROR(AVERAGE(Espejo!AG42:AG43),\"\")","v":""},{"$f":"+IFERROR(AVERAGE(Espejo!AH42:AH43),\"\")","v":""},{"$f":"+IFERROR(AVERAGE(Espejo!AI42:AI43),\"\")","v":""},{"$f":"+IFERROR(AVERAGE(Espejo!AJ42:AJ43),\"\")","v":""},{"$f":"+IFERROR(AVERAGE(Espejo!AK42:AK43),\"\")","v":""},{"$f":"+IFERROR(AVERAGE(Espejo!AL42:AL43),\"\")","v":""},{"$f":"+IFERROR(AVERAGE(Espejo!AM42:AM43),\"\")","v":""},{"$f":"+IFERROR(AVERAGE(Espejo!AN42:AN43),\"\")","v":""},{"$f":"+IFERROR(AVERAGE(Espejo!AO42:AO43),\"\")","v":""},{"$f":"+IFERROR(AVERAGE(Espejo!AP42:AP43),\"\")","v":""},{"$f":"+IFERROR(AVERAGE(Espejo!AQ42:AQ43),\"\")","v":""},{"$f":"+IFERROR(AVERAGE(Espejo!AR42:AR43),\"\")","v":""},{"$f":"+IFERROR(AVERAGE(Espejo!AS42:AS43),\"\")","v":""},{"$f":"+IFERROR(AVERAGE(Espejo!AT42:AT43),\"\")","v":""},{"$f":"+IFERROR(AVERAGE(Espejo!AU42:AU43),\"\")","v":""},{"$f":"+IFERROR(AVERAGE(Espejo!AV42:AV43),\"\")","v":""},{"$f":"+IFERROR(AVERAGE(Espejo!AW42:AW43),\"\")","v":""},{"$f":"+IFERROR(AVERAGE(Espejo!AX42:AX43),\"\")","v":""},{"$f":"+IFERROR(AVERAGE(Espejo!AY42:AY43),\"\")","v":""},{"$f":"+IFERROR(AVERAGE(Espejo!AZ42:AZ43),\"\")","v":""},{"$f":"+IFERROR(AVERAGE(Espejo!BA42:BA43),\"\")","v":""},{"$f":"+IFERROR(AVERAGE(Espejo!BB42:BB43),\"\")","v":""},{"$f":"+IFERROR(AVERAGE(Espejo!BC42:BC43),\"\")","v":""},{"$f":"+IFERROR(AVERAGE(Espejo!BD42:BD43),\"\")","v":""},{"$f":"+IFERROR(AVERAGE(Espejo!BE42:BE43),\"\")","v":""}]
[null,"HSE",null,"La o el estudiante establece relaciones igualitarias con sus compañeros.",null,"",null,{"$f":"+IFERROR((VLOOKUP('BASE DE RESPUESTAS'!H44,Back!$M$16:$N$20,2,0)),\"\")","v":""},{"$f":"+IFERROR((VLOOKUP('BASE DE RESPUESTAS'!I44,Back!$M$16:$N$20,2,0)),\"\")","v":""},{"$f":"+IFERROR((VLOOKUP('BASE DE RESPUESTAS'!J44,Back!$M$16:$N$20,2,0)),\"\")","v":""},{"$f":"+IFERROR((VLOOKUP('BASE DE RESPUESTAS'!K44,Back!$M$16:$N$20,2,0)),\"\")","v":""},{"$f":"+IFERROR((VLOOKUP('BASE DE RESPUESTAS'!L44,Back!$M$16:$N$20,2,0)),\"\")","v":""},{"$f":"+IFERROR((VLOOKUP('BASE DE RESPUESTAS'!M44,Back!$M$16:$N$20,2,0)),\"\")","v":""},{"$f":"+IFERROR((VLOOKUP('BASE DE RESPUESTAS'!N44,Back!$M$16:$N$20,2,0)),\"\")","v":""},{"$f":"+IFERROR((VLOOKUP('BASE DE RESPUESTAS'!O44,Back!$M$16:$N$20,2,0)),\"\")","v":""},{"$f":"+IFERROR((VLOOKUP('BASE DE RESPUESTAS'!P44,Back!$M$16:$N$20,2,0)),\"\")","v":""},{"$f":"+IFERROR((VLOOKUP('BASE DE RESPUESTAS'!Q44,Back!$M$16:$N$20,2,0)),\"\")","v":""},{"$f":"+IFERROR((VLOOKUP('BASE DE RESPUESTAS'!R44,Back!$M$16:$N$20,2,0)),\"\")","v":""},{"$f":"+IFERROR((VLOOKUP('BASE DE RESPUESTAS'!S44,Back!$M$16:$N$20,2,0)),\"\")","v":""},{"$f":"+IFERROR((VLOOKUP('BASE DE RESPUESTAS'!T44,Back!$M$16:$N$20,2,0)),\"\")","v":""},{"$f":"+IFERROR((VLOOKUP('BASE DE RESPUESTAS'!U44,Back!$M$16:$N$20,2,0)),\"\")","v":""},{"$f":"+IFERROR((VLOOKUP('BASE DE RESPUESTAS'!V44,Back!$M$16:$N$20,2,0)),\"\")","v":""},{"$f":"+IFERROR((VLOOKUP('BASE DE RESPUESTAS'!W44,Back!$M$16:$N$20,2,0)),\"\")","v":""},{"$f":"+IFERROR((VLOOKUP('BASE DE RESPUESTAS'!X44,Back!$M$16:$N$20,2,0)),\"\")","v":""},{"$f":"+IFERROR((VLOOKUP('BASE DE RESPUESTAS'!Y44,Back!$M$16:$N$20,2,0)),\"\")","v":""},{"$f":"+IFERROR((VLOOKUP('BASE DE RESPUESTAS'!Z44,Back!$M$16:$N$20,2,0)),\"\")","v":""},{"$f":"+IFERROR((VLOOKUP('BASE DE RESPUESTAS'!AA44,Back!$M$16:$N$20,2,0)),\"\")","v":""},{"$f":"+IFERROR((VLOOKUP('BASE DE RESPUESTAS'!AB44,Back!$M$16:$N$20,2,0)),\"\")","v":""},{"$f":"+IFERROR((VLOOKUP('BASE DE RESPUESTAS'!AC44,Back!$M$16:$N$20,2,0)),\"\")","v":""},{"$f":"+IFERROR((VLOOKUP('BASE DE RESPUESTAS'!AD44,Back!$M$16:$N$20,2,0)),\"\")","v":""},{"$f":"+IFERROR((VLOOKUP('BASE DE RESPUESTAS'!AE44,Back!$M$16:$N$20,2,0)),\"\")","v":""},{"$f":"+IFERROR((VLOOKUP('BASE DE RESPUESTAS'!AF44,Back!$M$16:$N$20,2,0)),\"\")","v":""},{"$f":"+IFERROR((VLOOKUP('BASE DE RESPUESTAS'!AG44,Back!$M$16:$N$20,2,0)),\"\")","v":""},{"$f":"+IFERROR((VLOOKUP('BASE DE RESPUESTAS'!AH44,Back!$M$16:$N$20,2,0)),\"\")","v":""},{"$f":"+IFERROR((VLOOKUP('BASE DE RESPUESTAS'!AI44,Back!$M$16:$N$20,2,0)),\"\")","v":""},{"$f":"+IFERROR((VLOOKUP('BASE DE RESPUESTAS'!AJ44,Back!$M$16:$N$20,2,0)),\"\")","v":""},{"$f":"+IFERROR((VLOOKUP('BASE DE RESPUESTAS'!AK44,Back!$M$16:$N$20,2,0)),\"\")","v":""},{"$f":"+IFERROR((VLOOKUP('BASE DE RESPUESTAS'!AL44,Back!$M$16:$N$20,2,0)),\"\")","v":""},{"$f":"+IFERROR((VLOOKUP('BASE DE RESPUESTAS'!AM44,Back!$M$16:$N$20,2,0)),\"\")","v":""},{"$f":"+IFERROR((VLOOKUP('BASE DE RESPUESTAS'!AN44,Back!$M$16:$N$20,2,0)),\"\")","v":""},{"$f":"+IFERROR((VLOOKUP('BASE DE RESPUESTAS'!AO44,Back!$M$16:$N$20,2,0)),\"\")","v":""},{"$f":"+IFERROR((VLOOKUP('BASE DE RESPUESTAS'!AP44,Back!$M$16:$N$20,2,0)),\"\")","v":""},{"$f":"+IFERROR((VLOOKUP('BASE DE RESPUESTAS'!AQ44,Back!$M$16:$N$20,2,0)),\"\")","v":""},{"$f":"+IFERROR((VLOOKUP('BASE DE RESPUESTAS'!AR44,Back!$M$16:$N$20,2,0)),\"\")","v":""},{"$f":"+IFERROR((VLOOKUP('BASE DE RESPUESTAS'!AS44,Back!$M$16:$N$20,2,0)),\"\")","v":""},{"$f":"+IFERROR((VLOOKUP('BASE DE RESPUESTAS'!AT44,Back!$M$16:$N$20,2,0)),\"\")","v":""},{"$f":"+IFERROR((VLOOKUP('BASE DE RESPUESTAS'!AU44,Back!$M$16:$N$20,2,0)),\"\")","v":""},{"$f":"+IFERROR((VLOOKUP('BASE DE RESPUESTAS'!AV44,Back!$M$16:$N$20,2,0)),\"\")","v":""},{"$f":"+IFERROR((VLOOKUP('BASE DE RESPUESTAS'!AW44,Back!$M$16:$N$20,2,0)),\"\")","v":""},{"$f":"+IFERROR((VLOOKUP('BASE DE RESPUESTAS'!AX44,Back!$M$16:$N$20,2,0)),\"\")","v":""},{"$f":"+IFERROR((VLOOKUP('BASE DE RESPUESTAS'!AY44,Back!$M$16:$N$20,2,0)),\"\")","v":""},{"$f":"+IFERROR((VLOOKUP('BASE DE RESPUESTAS'!AZ44,Back!$M$16:$N$20,2,0)),\"\")","v":""},{"$f":"+IFERROR((VLOOKUP('BASE DE RESPUESTAS'!BA44,Back!$M$16:$N$20,2,0)),\"\")","v":""},{"$f":"+IFERROR((VLOOKUP('BASE DE RESPUESTAS'!BB44,Back!$M$16:$N$20,2,0)),\"\")","v":""},{"$f":"+IFERROR((VLOOKUP('BASE DE RESPUESTAS'!BC44,Back!$M$16:$N$20,2,0)),\"\")","v":""},{"$f":"+IFERROR((VLOOKUP('BASE DE RESPUESTAS'!BD44,Back!$M$16:$N$20,2,0)),\"\")","v":""},{"$f":"+IFERROR((VLOOKUP('BASE DE RESPUESTAS'!BE44,Back!$M$16:$N$20,2,0)),\"\")","v":""}]
[null,"HSE","Comportamiento Prosocial","La o el estudiante realiza acciones de bien común en el aula, por motivación propia.",null,"",null,{"$f":"+IFERROR(AVERAGE(Espejo!H45:H46),\"\")","v":""},{"$f":"+IFERROR(AVERAGE(Espejo!I45:I46),\"\")","v":""},{"$f":"+IFERROR(AVERAGE(Espejo!J45:J46),\"\")","v":""},{"$f":"+IFERROR(AVERAGE(Espejo!K45:K46),\"\")","v":""},{"$f":"+IFERROR(AVERAGE(Espejo!L45:L46),\"\")","v":""},{"$f":"+IFERROR(AVERAGE(Espejo!M45:M46),\"\")","v":""},{"$f":"+IFERROR(AVERAGE(Espejo!N45:N46),\"\")","v":""},{"$f":"+IFERROR(AVERAGE(Espejo!O45:O46),\"\")","v":""},{"$f":"+IFERROR(AVERAGE(Espejo!P45:P46),\"\")","v":""},{"$f":"+IFERROR(AVERAGE(Espejo!Q45:Q46),\"\")","v":""},{"$f":"+IFERROR(AVERAGE(Espejo!R45:R46),\"\")","v":""},{"$f":"+IFERROR(AVERAGE(Espejo!S45:S46),\"\")","v":""},{"$f":"+IFERROR(AVERAGE(Espejo!T45:T46),\"\")","v":""},{"$f":"+IFERROR(AVERAGE(Espejo!U45:U46),\"\")","v":""},{"$f":"+IFERROR(AVERAGE(Espejo!V45:V46),\"\")","v":""},{"$f":"+IFERROR(AVERAGE(Espejo!W45:W46),\"\")","v":""},{"$f":"+IFERROR(AVERAGE(Espejo!X45:X46),\"\")","v":""},{"$f":"+IFERROR(AVERAGE(Espejo!Y45:Y46),\"\")","v":""},{"$f":"+IFERROR(AVERAGE(Espejo!Z45:Z46),\"\")","v":""},{"$f":"+IFERROR(AVERAGE(Espejo!AA45:AA46),\"\")","v":""},{"$f":"+IFERROR(AVERAGE(Espejo!AB45:AB46),\"\")","v":""},{"$f":"+IFERROR(AVERAGE(Espejo!AC45:AC46),\"\")","v":""},{"$f":"+IFERROR(AVERAGE(Espejo!AD45:AD46),\"\")","v":""},{"$f":"+IFERROR(AVERAGE(Espejo!AE45:AE46),\"\")","v":""},{"$f":"+IFERROR(AVERAGE(Espejo!AF45:AF46),\"\")","v":""},{"$f":"+IFERROR(AVERAGE(Espejo!AG45:AG46),\"\")","v":""},{"$f":"+IFERROR(AVERAGE(Espejo!AH45:AH46),\"\")","v":""},{"$f":"+IFERROR(AVERAGE(Espejo!AI45:AI46),\"\")","v":""},{"$f":"+IFERROR(AVERAGE(Espejo!AJ45:AJ46),\"\")","v":""},{"$f":"+IFERROR(AVERAGE(Espejo!AK45:AK46),\"\")","v":""},{"$f":"+IFERROR(AVERAGE(Espejo!AL45:AL46),\"\")","v":""},{"$f":"+IFERROR(AVERAGE(Espejo!AM45:AM46),\"\")","v":""},{"$f":"+IFERROR(AVERAGE(Espejo!AN45:AN46),\"\")","v":""},{"$f":"+IFERROR(AVERAGE(Espejo!AO45:AO46),\"\")","v":""},{"$f":"+IFERROR(AVERAGE(Espejo!AP45:AP46),\"\")","v":""},{"$f":"+IFERROR(AVERAGE(Espejo!AQ45:AQ46),\"\")","v":""},{"$f":"+IFERROR(AVERAGE(Espejo!AR45:AR46),\"\")","v":""},{"$f":"+IFERROR(AVERAGE(Espejo!AS45:AS46),\"\")","v":""},{"$f":"+IFERROR(AVERAGE(Espejo!AT45:AT46),\"\")","v":""},{"$f":"+IFERROR(AVERAGE(Espejo!AU45:AU46),\"\")","v":""},{"$f":"+IFERROR(AVERAGE(Espejo!AV45:AV46),\"\")","v":""},{"$f":"+IFERROR(AVERAGE(Espejo!AW45:AW46),\"\")","v":""},{"$f":"+IFERROR(AVERAGE(Espejo!AX45:AX46),\"\")","v":""},{"$f":"+IFERROR(AVERAGE(Espejo!AY45:AY46),\"\")","v":""},{"$f":"+IFERROR(AVERAGE(Espejo!AZ45:AZ46),\"\")","v":""},{"$f":"+IFERROR(AVERAGE(Espejo!BA45:BA46),\"\")","v":""},{"$f":"+IFERROR(AVERAGE(Espejo!BB45:BB46),\"\")","v":""},{"$f":"+IFERROR(AVERAGE(Espejo!BC45:BC46),\"\")","v":""},{"$f":"+IFERROR(AVERAGE(Espejo!BD45:BD46),\"\")","v":""},{"$f":"+IFERROR(AVERAGE(Espejo!BE45:BE46),\"\")","v":""}]
[]
[null,null,null,null,null,"Indicadores",null,{"$f":"+H4","v":"Estudiante 1"},"Estudiante 2","Estudiante 3","Estudiante 4","Estudiante 5","Estudiante 6","Estudiante 7","Estudiante 8","Estudiante 9","Estudiante 10","Estudiante 11","Estudiante 12","Estudiante 13","Estudiante 14","Estudiante 15","Estudiante 16","Estudiante 17","Estudiante 18","Estudiante 19","Estudiante 20","Estudiante 21","Estudiante 22","Estudiante 23","Estudiante 24","Estudiante 25","Estudiante 26","Estudiante 27","Estudiante 28","Estudiante 29","Estudiante 30","Estudiante 31","Estudiante 32","Estudiante 33","Estudiante 34","Estudiante 35","Estudiante 36","Estudiante 37","Estudiante 38","Estudiante 39","Estudiante 40","Estudiante 41","Estudiante 42","Estudiante 43","Estudiante 44","Estudiante 45","Estudiante 46","Estudiante 47","Estudiante 48","Estudiante 49","Estudiante 50"]
[null,null,null,null,null,"En Blanco",null,{"$f":"IFERROR(COUNTIFS(H5:H25,\"-\"),\"-\")","v":0},0,0,0,0,0,0,0,0,0,0,0,0,0,0,0,0,0,0,0,0,0,0,0,0,0,0,0,0,0,0,0,0,0,0,0,0,0,0,0,0,0,0,0,0,0,0,0,0,0]
[null,null,null,null,null,"En inicio",null,{"$f":"IFERROR(COUNTIFS(H5:H25,\">=0\",H5:H25,\"<=0.25\"),\"-\")","v":0},0,0,0,0,0,0,0,0,0,0,0,0,0,0,0,0,0,0,0,0,0,0,0,0,0,0,0,0,0,0,0,0,0,0,0,0,0,0,0,0,0,0,0,0,0,0,0,0,0]
[null,null,null,null,null,"En Proceso",null,{"$f":"IFERROR(COUNTIFS(H5:H25,\">=0.26\",H5:H25,\"<=0.74\"),\"-\")","v":0},0,0,0,0,0,0,0,0,0,0,0,0,0,0,0,0,0,0,0,0,0,0,0,0,0,0,0,0,0,0,0,0,0,0,0,0,0,0,0,0,0,0,0,0,0,0,0,0,0]
[null,null,null,null,null,"Satisfactorio",null,{"$f":"IFERROR((COUNTIFS(H5:H25,\">=0.75\")),\"-\")","v":0},0,0,0,0,0,0,0,0,0,0,0,0,0,0,0,0,0,0,0,0,0,0,0,0,0,0,0,0,0,0,0,0,0,0,0,0,0,0,0,0,0,0,0,0,0,0,0,0,0]
[null,null,null,null,null,"TOTAL",null,{"$f":"+SUM(H28:H31)","v":0},0,0,0,0,0,0,0,0,0,0,0,0,0,0,0,0,0,0,0,0,0,0,0,0,0,0,0,0,0,0,0,0,0,0,0,0,0,0,0,0,0,0,0,0,0,0,0,0,0]

{"sheet":"Resumen de Escala HSE","index":6,"n_rows":25,"n_cols":55,"rows_kept":25,"cut":false,"hidden":false,"merged":[]}
[]
[]
[]
[null,"Dimensión","Escala","Resultado Promedio del aula",null,{"$f":"+'BASE DE RESPUESTAS'!H5","v":"Estudiante 1"},{"$f":"+'BASE DE RESPUESTAS'!I5","v":"Estudiante 2"},{"$f":"+'BASE DE RESPUESTAS'!J5","v":"Estudiante 3"},{"$f":"+'BASE DE RESPUESTAS'!K5","v":"Estudiante 4"},{"$f":"+'BASE DE RESPUESTAS'!L5","v":"Estudiante 5"},{"$f":"+'BASE DE RESPUESTAS'!M5","v":"Estudiante 6"},{"$f":"+'BASE DE RESPUESTAS'!N5","v":"Estudiante 7"},{"$f":"+'BASE DE RESPUESTAS'!O5","v":"Estudiante 8"},{"$f":"+'BASE DE RESPUESTAS'!P5","v":"Estudiante 9"},{"$f":"+'BASE DE RESPUESTAS'!Q5","v":"Estudiante 10"},{"$f":"+'BASE DE RESPUESTAS'!R5","v":"Estudiante 11"},{"$f":"+'BASE DE RESPUESTAS'!S5","v":"Estudiante 12"},{"$f":"+'BASE DE RESPUESTAS'!T5","v":"Estudiante 13"},{"$f":"+'BASE DE RESPUESTAS'!U5","v":"Estudiante 14"},{"$f":"+'BASE DE RESPUESTAS'!V5","v":"Estudiante 15"},{"$f":"+'BASE DE RESPUESTAS'!W5","v":"Estudiante 16"},{"$f":"+'BASE DE RESPUESTAS'!X5","v":"Estudiante 17"},{"$f":"+'BASE DE RESPUESTAS'!Y5","v":"Estudiante 18"},{"$f":"+'BASE DE RESPUESTAS'!Z5","v":"Estudiante 19"},{"$f":"+'BASE DE RESPUESTAS'!AA5","v":"Estudiante 20"},{"$f":"+'BASE DE RESPUESTAS'!AB5","v":"Estudiante 21"},{"$f":"+'BASE DE RESPUESTAS'!AC5","v":"Estudiante 22"},{"$f":"+'BASE DE RESPUESTAS'!AD5","v":"Estudiante 23"},{"$f":"+'BASE DE RESPUESTAS'!AE5","v":"Estudiante 24"},{"$f":"+'BASE DE RESPUESTAS'!AF5","v":"Estudiante 25"},{"$f":"+'BASE DE RESPUESTAS'!AG5","v":"Estudiante 26"},{"$f":"+'BASE DE RESPUESTAS'!AH5","v":"Estudiante 27"},{"$f":"+'BASE DE RESPUESTAS'!AI5","v":"Estudiante 28"},{"$f":"+'BASE DE RESPUESTAS'!AJ5","v":"Estudiante 29"},{"$f":"+'BASE DE RESPUESTAS'!AK5","v":"Estudiante 30"},{"$f":"+'BASE DE RESPUESTAS'!AL5","v":"Estudiante 31"},{"$f":"+'BASE DE RESPUESTAS'!AM5","v":"Estudiante 32"},{"$f":"+'BASE DE RESPUESTAS'!AN5","v":"Estudiante 33"},{"$f":"+'BASE DE RESPUESTAS'!AO5","v":"Estudiante 34"},{"$f":"+'BASE DE RESPUESTAS'!AP5","v":"Estudiante 35"},{"$f":"+'BASE DE RESPUESTAS'!AQ5","v":"Estudiante 36"},{"$f":"+'BASE DE RESPUESTAS'!AR5","v":"Estudiante 37"},{"$f":"+'BASE DE RESPUESTAS'!AS5","v":"Estudiante 38"},{"$f":"+'BASE DE RESPUESTAS'!AT5","v":"Estudiante 39"},{"$f":"+'BASE DE RESPUESTAS'!AU5","v":"Estudiante 40"},{"$f":"+'BASE DE RESPUESTAS'!AV5","v":"Estudiante 41"},{"$f":"+'BASE DE RESPUESTAS'!AW5","v":"Estudiante 42"},{"$f":"+'BASE DE RESPUESTAS'!AX5","v":"Estudiante 43"},{"$f":"+'BASE DE RESPUESTAS'!AY5","v":"Estudiante 44"},{"$f":"+'BASE DE RESPUESTAS'!AZ5","v":"Estudiante 45"},{"$f":"+'BASE DE RESPUESTAS'!BA5","v":"Estudiante 46"},{"$f":"+'BASE DE RESPUESTAS'!BB5","v":"Estudiante 47"},{"$f":"+'BASE DE RESPUESTAS'!BC5","v":"Estudiante 48"},{"$f":"+'BASE DE RESPUESTAS'!BD5","v":"Estudiante 49"},{"$f":"+'BASE DE RESPUESTAS'!BE5","v":"Estudiante 50"}]
[]
[null,"HSE","Autoconcepto",{"$f":"+IFERROR(AVERAGEIFS(F6:BC6,F6:BC6,\">=0\"),\"-\")","v":"-"},null,{"$f":"+IFERROR(AVERAGEIFS('Resumen de indicadores HSE'!H5:H6,'Resumen de indicadores HSE'!H5:H6,\">=0\"),\"-\")","v":"-"},{"$f":"+IFERROR(AVERAGEIFS('Resumen de indicadores HSE'!I5:I6,'Resumen de indicadores HSE'!I5:I6,\">=0\"),\"-\")","v":"-"},{"$f":"+IFERROR(AVERAGEIFS('Resumen de indicadores HSE'!J5:J6,'Resumen de indicadores HSE'!J5:J6,\">=0\"),\"-\")","v":"-"},{"$f":"+IFERROR(AVERAGEIFS('Resumen de indicadores HSE'!K5:K6,'Resumen de indicadores HSE'!K5:K6,\">=0\"),\"-\")","v":"-"},{"$f":"+IFERROR(AVERAGEIFS('Resumen de indicadores HSE'!L5:L6,'Resumen de indicadores HSE'!L5:L6,\">=0\"),\"-\")","v":"-"},{"$f":"+IFERROR(AVERAGEIFS('Resumen de indicadores HSE'!M5:M6,'Resumen de indicadores HSE'!M5:M6,\">=0\"),\"-\")","v":"-"},{"$f":"+IFERROR(AVERAGEIFS('Resumen de indicadores HSE'!N5:N6,'Resumen de indicadores HSE'!N5:N6,\">=0\"),\"-\")","v":"-"},{"$f":"+IFERROR(AVERAGEIFS('Resumen de indicadores HSE'!O5:O6,'Resumen de indicadores HSE'!O5:O6,\">=0\"),\"-\")","v":"-"},{"$f":"+IFERROR(AVERAGEIFS('Resumen de indicadores HSE'!P5:P6,'Resumen de indicadores HSE'!P5:P6,\">=0\"),\"-\")","v":"-"},{"$f":"+IFERROR(AVERAGEIFS('Resumen de indicadores HSE'!Q5:Q6,'Resumen de indicadores HSE'!Q5:Q6,\">=0\"),\"-\")","v":"-"},{"$f":"+IFERROR(AVERAGEIFS('Resumen de indicadores HSE'!R5:R6,'Resumen de indicadores HSE'!R5:R6,\">=0\"),\"-\")","v":"-"},{"$f":"+IFERROR(AVERAGEIFS('Resumen de indicadores HSE'!S5:S6,'Resumen de indicadores HSE'!S5:S6,\">=0\"),\"-\")","v":"-"},{"$f":"+IFERROR(AVERAGEIFS('Resumen de indicadores HSE'!T5:T6,'Resumen de indicadores HSE'!T5:T6,\">=0\"),\"-\")","v":"-"},{"$f":"+IFERROR(AVERAGEIFS('Resumen de indicadores HSE'!U5:U6,'Resumen de indicadores HSE'!U5:U6,\">=0\"),\"-\")","v":"-"},{"$f":"+IFERROR(AVERAGEIFS('Resumen de indicadores HSE'!V5:V6,'Resumen de indicadores HSE'!V5:V6,\">=0\"),\"-\")","v":"-"},{"$f":"+IFERROR(AVERAGEIFS('Resumen de indicadores HSE'!W5:W6,'Resumen de indicadores HSE'!W5:W6,\">=0\"),\"-\")","v":"-"},{"$f":"+IFERROR(AVERAGEIFS('Resumen de indicadores HSE'!X5:X6,'Resumen de indicadores HSE'!X5:X6,\">=0\"),\"-\")","v":"-"},{"$f":"+IFERROR(AVERAGEIFS('Resumen de indicadores HSE'!Y5:Y6,'Resumen de indicadores HSE'!Y5:Y6,\">=0\"),\"-\")","v":"-"},{"$f":"+IFERROR(AVERAGEIFS('Resumen de indicadores HSE'!Z5:Z6,'Resumen de indicadores HSE'!Z5:Z6,\">=0\"),\"-\")","v":"-"},{"$f":"+IFERROR(AVERAGEIFS('Resumen de indicadores HSE'!AA5:AA6,'Resumen de indicadores HSE'!AA5:AA6,\">=0\"),\"-\")","v":"-"},{"$f":"+IFERROR(AVERAGEIFS('Resumen de indicadores HSE'!AB5:AB6,'Resumen de indicadores HSE'!AB5:AB6,\">=0\"),\"-\")","v":"-"},{"$f":"+IFERROR(AVERAGEIFS('Resumen de indicadores HSE'!AC5:AC6,'Resumen de indicadores HSE'!AC5:AC6,\">=0\"),\"-\")","v":"-"},{"$f":"+IFERROR(AVERAGEIFS('Resumen de indicadores HSE'!AD5:AD6,'Resumen de indicadores HSE'!AD5:AD6,\">=0\"),\"-\")","v":"-"},{"$f":"+IFERROR(AVERAGEIFS('Resumen de indicadores HSE'!AE5:AE6,'Resumen de indicadores HSE'!AE5:AE6,\">=0\"),\"-\")","v":"-"},{"$f":"+IFERROR(AVERAGEIFS('Resumen de indicadores HSE'!AF5:AF6,'Resumen de indicadores HSE'!AF5:AF6,\">=0\"),\"-\")","v":"-"},{"$f":"+IFERROR(AVERAGEIFS('Resumen de indicadores HSE'!AG5:AG6,'Resumen de indicadores HSE'!AG5:AG6,\">=0\"),\"-\")","v":"-"},{"$f":"+IFERROR(AVERAGEIFS('Resumen de indicadores HSE'!AH5:AH6,'Resumen de indicadores HSE'!AH5:AH6,\">=0\"),\"-\")","v":"-"},{"$f":"+IFERROR(AVERAGEIFS('Resumen de indicadores HSE'!AI5:AI6,'Resumen de indicadores HSE'!AI5:AI6,\">=0\"),\"-\")","v":"-"},{"$f":"+IFERROR(AVERAGEIFS('Resumen de indicadores HSE'!AJ5:AJ6,'Resumen de indicadores HSE'!AJ5:AJ6,\">=0\"),\"-\")","v":"-"},{"$f":"+IFERROR(AVERAGEIFS('Resumen de indicadores HSE'!AK5:AK6,'Resumen de indicadores HSE'!AK5:AK6,\">=0\"),\"-\")","v":"-"},{"$f":"+IFERROR(AVERAGEIFS('Resumen de indicadores HSE'!AL5:AL6,'Resumen de indicadores HSE'!AL5:AL6,\">=0\"),\"-\")","v":"-"},{"$f":"+IFERROR(AVERAGEIFS('Resumen de indicadores HSE'!AM5:AM6,'Resumen de indicadores HSE'!AM5:AM6,\">=0\"),\"-\")","v":"-"},{"$f":"+IFERROR(AVERAGEIFS('Resumen de indicadores HSE'!AN5:AN6,'Resumen de indicadores HSE'!AN5:AN6,\">=0\"),\"-\")","v":"-"},{"$f":"+IFERROR(AVERAGEIFS('Resumen de indicadores HSE'!AO5:AO6,'Resumen de indicadores HSE'!AO5:AO6,\">=0\"),\"-\")","v":"-"},{"$f":"+IFERROR(AVERAGEIFS('Resumen de indicadores HSE'!AP5:AP6,'Resumen de indicadores HSE'!AP5:AP6,\">=0\"),\"-\")","v":"-"},{"$f":"+IFERROR(AVERAGEIFS('Resumen de indicadores HSE'!AQ5:AQ6,'Resumen de indicadores HSE'!AQ5:AQ6,\">=0\"),\"-\")","v":"-"},{"$f":"+IFERROR(AVERAGEIFS('Resumen de indicadores HSE'!AR5:AR6,'Resumen de indicadores HSE'!AR5:AR6,\">=0\"),\"-\")","v":"-"},{"$f":"+IFERROR(AVERAGEIFS('Resumen de indicadores HSE'!AS5:AS6,'Resumen de indicadores HSE'!AS5:AS6,\">=0\"),\"-\")","v":"-"},{"$f":"+IFERROR(AVERAGEIFS('Resumen de indicadores HSE'!AT5:AT6,'Resumen de indicadores HSE'!AT5:AT6,\">=0\"),\"-\")","v":"-"},{"$f":"+IFERROR(AVERAGEIFS('Resumen de indicadores HSE'!AU5:AU6,'Resumen de indicadores HSE'!AU5:AU6,\">=0\"),\"-\")","v":"-"},{"$f":"+IFERROR(AVERAGEIFS('Resumen de indicadores HSE'!AV5:AV6,'Resumen de indicadores HSE'!AV5:AV6,\">=0\"),\"-\")","v":"-"},{"$f":"+IFERROR(AVERAGEIFS('Resumen de indicadores HSE'!AW5:AW6,'Resumen de indicadores HSE'!AW5:AW6,\">=0\"),\"-\")","v":"-"},{"$f":"+IFERROR(AVERAGEIFS('Resumen de indicadores HSE'!AX5:AX6,'Resumen de indicadores HSE'!AX5:AX6,\">=0\"),\"-\")","v":"-"},{"$f":"+IFERROR(AVERAGEIFS('Resumen de indicadores HSE'!AY5:AY6,'Resumen de indicadores HSE'!AY5:AY6,\">=0\"),\"-\")","v":"-"},{"$f":"+IFERROR(AVERAGEIFS('Resumen de indicadores HSE'!AZ5:AZ6,'Resumen de indicadores HSE'!AZ5:AZ6,\">=0\"),\"-\")","v":"-"},{"$f":"+IFERROR(AVERAGEIFS('Resumen de indicadores HSE'!BA5:BA6,'Resumen de indicadores HSE'!BA5:BA6,\">=0\"),\"-\")","v":"-"},{"$f":"+IFERROR(AVERAGEIFS('Resumen de indicadores HSE'!BB5:BB6,'Resumen de indicadores HSE'!BB5:BB6,\">=0\"),\"-\")","v":"-"},{"$f":"+IFERROR(AVERAGEIFS('Resumen de indicadores HSE'!BC5:BC6,'Resumen de indicadores HSE'!BC5:BC6,\">=0\"),\"-\")","v":"-"},{"$f":"+IFERROR(AVERAGEIFS('Resumen de indicadores HSE'!BD5:BD6,'Resumen de indicadores HSE'!BD5:BD6,\">=0\"),\"-\")","v":"-"},{"$f":"+IFERROR(AVERAGEIFS('Resumen de indicadores HSE'!BE5:BE6,'Resumen de indicadores HSE'!BE5:BE6,\">=0\"),\"-\")","v":"-"}]
[null,"HSE","Autoestima","-",null,{"$f":"+IFERROR(AVERAGEIFS('Resumen de indicadores HSE'!H7:H8,'Resumen de indicadores HSE'!H7:H8,\">=0\"),\"-\")","v":"-"},{"$f":"+IFERROR(AVERAGEIFS('Resumen de indicadores HSE'!I7:I8,'Resumen de indicadores HSE'!I7:I8,\">=0\"),\"-\")","v":"-"},{"$f":"+IFERROR(AVERAGEIFS('Resumen de indicadores HSE'!J7:J8,'Resumen de indicadores HSE'!J7:J8,\">=0\"),\"-\")","v":"-"},{"$f":"+IFERROR(AVERAGEIFS('Resumen de indicadores HSE'!K7:K8,'Resumen de indicadores HSE'!K7:K8,\">=0\"),\"-\")","v":"-"},{"$f":"+IFERROR(AVERAGEIFS('Resumen de indicadores HSE'!L7:L8,'Resumen de indicadores HSE'!L7:L8,\">=0\"),\"-\")","v":"-"},{"$f":"+IFERROR(AVERAGEIFS('Resumen de indicadores HSE'!M7:M8,'Resumen de indicadores HSE'!M7:M8,\">=0\"),\"-\")","v":"-"},{"$f":"+IFERROR(AVERAGEIFS('Resumen de indicadores HSE'!N7:N8,'Resumen de indicadores HSE'!N7:N8,\">=0\"),\"-\")","v":"-"},{"$f":"+IFERROR(AVERAGEIFS('Resumen de indicadores HSE'!O7:O8,'Resumen de indicadores HSE'!O7:O8,\">=0\"),\"-\")","v":"-"},{"$f":"+IFERROR(AVERAGEIFS('Resumen de indicadores HSE'!P7:P8,'Resumen de indicadores HSE'!P7:P8,\">=0\"),\"-\")","v":"-"},{"$f":"+IFERROR(AVERAGEIFS('Resumen de indicadores HSE'!Q7:Q8,'Resumen de indicadores HSE'!Q7:Q8,\">=0\"),\"-\")","v":"-"},{"$f":"+IFERROR(AVERAGEIFS('Resumen de indicadores HSE'!R7:R8,'Resumen de indicadores HSE'!R7:R8,\">=0\"),\"-\")","v":"-"},{"$f":"+IFERROR(AVERAGEIFS('Resumen de indicadores HSE'!S7:S8,'Resumen de indicadores HSE'!S7:S8,\">=0\"),\"-\")","v":"-"},{"$f":"+IFERROR(AVERAGEIFS('Resumen de indicadores HSE'!T7:T8,'Resumen de indicadores HSE'!T7:T8,\">=0\"),\"-\")","v":"-"},{"$f":"+IFERROR(AVERAGEIFS('Resumen de indicadores HSE'!U7:U8,'Resumen de indicadores HSE'!U7:U8,\">=0\"),\"-\")","v":"-"},{"$f":"+IFERROR(AVERAGEIFS('Resumen de indicadores HSE'!V7:V8,'Resumen de indicadores HSE'!V7:V8,\">=0\"),\"-\")","v":"-"},{"$f":"+IFERROR(AVERAGEIFS('Resumen de indicadores HSE'!W7:W8,'Resumen de indicadores HSE'!W7:W8,\">=0\"),\"-\")","v":"-"},{"$f":"+IFERROR(AVERAGEIFS('Resumen de indicadores HSE'!X7:X8,'Resumen de indicadores HSE'!X7:X8,\">=0\"),\"-\")","v":"-"},{"$f":"+IFERROR(AVERAGEIFS('Resumen de indicadores HSE'!Y7:Y8,'Resumen de indicadores HSE'!Y7:Y8,\">=0\"),\"-\")","v":"-"},{"$f":"+IFERROR(AVERAGEIFS('Resumen de indicadores HSE'!Z7:Z8,'Resumen de indicadores HSE'!Z7:Z8,\">=0\"),\"-\")","v":"-"},{"$f":"+IFERROR(AVERAGEIFS('Resumen de indicadores HSE'!AA7:AA8,'Resumen de indicadores HSE'!AA7:AA8,\">=0\"),\"-\")","v":"-"},{"$f":"+IFERROR(AVERAGEIFS('Resumen de indicadores HSE'!AB7:AB8,'Resumen de indicadores HSE'!AB7:AB8,\">=0\"),\"-\")","v":"-"},{"$f":"+IFERROR(AVERAGEIFS('Resumen de indicadores HSE'!AC7:AC8,'Resumen de indicadores HSE'!AC7:AC8,\">=0\"),\"-\")","v":"-"},{"$f":"+IFERROR(AVERAGEIFS('Resumen de indicadores HSE'!AD7:AD8,'Resumen de indicadores HSE'!AD7:AD8,\">=0\"),\"-\")","v":"-"},{"$f":"+IFERROR(AVERAGEIFS('Resumen de indicadores HSE'!AE7:AE8,'Resumen de indicadores HSE'!AE7:AE8,\">=0\"),\"-\")","v":"-"},{"$f":"+IFERROR(AVERAGEIFS('Resumen de indicadores HSE'!AF7:AF8,'Resumen de indicadores HSE'!AF7:AF8,\">=0\"),\"-\")","v":"-"},{"$f":"+IFERROR(AVERAGEIFS('Resumen de indicadores HSE'!AG7:AG8,'Resumen de indicadores HSE'!AG7:AG8,\">=0\"),\"-\")","v":"-"},{"$f":"+IFERROR(AVERAGEIFS('Resumen de indicadores HSE'!AH7:AH8,'Resumen de indicadores HSE'!AH7:AH8,\">=0\"),\"-\")","v":"-"},{"$f":"+IFERROR(AVERAGEIFS('Resumen de indicadores HSE'!AI7:AI8,'Resumen de indicadores HSE'!AI7:AI8,\">=0\"),\"-\")","v":"-"},{"$f":"+IFERROR(AVERAGEIFS('Resumen de indicadores HSE'!AJ7:AJ8,'Resumen de indicadores HSE'!AJ7:AJ8,\">=0\"),\"-\")","v":"-"},{"$f":"+IFERROR(AVERAGEIFS('Resumen de indicadores HSE'!AK7:AK8,'Resumen de indicadores HSE'!AK7:AK8,\">=0\"),\"-\")","v":"-"},{"$f":"+IFERROR(AVERAGEIFS('Resumen de indicadores HSE'!AL7:AL8,'Resumen de indicadores HSE'!AL7:AL8,\">=0\"),\"-\")","v":"-"},{"$f":"+IFERROR(AVERAGEIFS('Resumen de indicadores HSE'!AM7:AM8,'Resumen de indicadores HSE'!AM7:AM8,\">=0\"),\"-\")","v":"-"},{"$f":"+IFERROR(AVERAGEIFS('Resumen de indicadores HSE'!AN7:AN8,'Resumen de indicadores HSE'!AN7:AN8,\">=0\"),\"-\")","v":"-"},{"$f":"+IFERROR(AVERAGEIFS('Resumen de indicadores HSE'!AO7:AO8,'Resumen de indicadores HSE'!AO7:AO8,\">=0\"),\"-\")","v":"-"},{"$f":"+IFERROR(AVERAGEIFS('Resumen de indicadores HSE'!AP7:AP8,'Resumen de indicadores HSE'!AP7:AP8,\">=0\"),\"-\")","v":"-"},{"$f":"+IFERROR(AVERAGEIFS('Resumen de indicadores HSE'!AQ7:AQ8,'Resumen de indicadores HSE'!AQ7:AQ8,\">=0\"),\"-\")","v":"-"},{"$f":"+IFERROR(AVERAGEIFS('Resumen de indicadores HSE'!AR7:AR8,'Resumen de indicadores HSE'!AR7:AR8,\">=0\"),\"-\")","v":"-"},{"$f":"+IFERROR(AVERAGEIFS('Resumen de indicadores HSE'!AS7:AS8,'Resumen de indicadores HSE'!AS7:AS8,\">=0\"),\"-\")","v":"-"},{"$f":"+IFERROR(AVERAGEIFS('Resumen de indicadores HSE'!AT7:AT8,'Resumen de indicadores HSE'!AT7:AT8,\">=0\"),\"-\")","v":"-"},{"$f":"+IFERROR(AVERAGEIFS('Resumen de indicadores HSE'!AU7:AU8,'Resumen de indicadores HSE'!AU7:AU8,\">=0\"),\"-\")","v":"-"},{"$f":"+IFERROR(AVERAGEIFS('Resumen de indicadores HSE'!AV7:AV8,'Resumen de indicadores HSE'!AV7:AV8,\">=0\"),\"-\")","v":"-"},{"$f":"+IFERROR(AVERAGEIFS('Resumen de indicadores HSE'!AW7:AW8,'Resumen de indicadores HSE'!AW7:AW8,\">=0\"),\"-\")","v":"-"},{"$f":"+IFERROR(AVERAGEIFS('Resumen de indicadores HSE'!AX7:AX8,'Resumen de indicadores HSE'!AX7:AX8,\">=0\"),\"-\")","v":"-"},{"$f":"+IFERROR(AVERAGEIFS('Resumen de indicadores HSE'!AY7:AY8,'Resumen de indicadores HSE'!AY7:AY8,\">=0\"),\"-\")","v":"-"},{"$f":"+IFERROR(AVERAGEIFS('Resumen de indicadores HSE'!AZ7:AZ8,'Resumen de indicadores HSE'!AZ7:AZ8,\">=0\"),\"-\")","v":"-"},{"$f":"+IFERROR(AVERAGEIFS('Resumen de indicadores HSE'!BA7:BA8,'Resumen de indicadores HSE'!BA7:BA8,\">=0\"),\"-\")","v":"-"},{"$f":"+IFERROR(AVERAGEIFS('Resumen de indicadores HSE'!BB7:BB8,'Resumen de indicadores HSE'!BB7:BB8,\">=0\"),\"-\")","v":"-"},{"$f":"+IFERROR(AVERAGEIFS('Resumen de indicadores HSE'!BC7:BC8,'Resumen de indicadores HSE'!BC7:BC8,\">=0\"),\"-\")","v":"-"},{"$f":"+IFERROR(AVERAGEIFS('Resumen de indicadores HSE'!BD7:BD8,'Resumen de indicadores HSE'!BD7:BD8,\">=0\"),\"-\")","v":"-"},{"$f":"+IFERROR(AVERAGEIFS('Resumen de indicadores HSE'!BE7:BE8,'Resumen de indicadores HSE'!BE7:BE8,\">=0\"),\"-\")","v":"-"}]
[null,"HSE","Conciencia Emocional","-",null,{"$f":"+IFERROR(AVERAGEIFS('Resumen de indicadores HSE'!H9:H10,'Resumen de indicadores HSE'!H9:H10,\">=0\"),\"-\")","v":"-"},{"$f":"+IFERROR(AVERAGEIFS('Resumen de indicadores HSE'!I9:I10,'Resumen de indicadores HSE'!I9:I10,\">=0\"),\"-\")","v":"-"},{"$f":"+IFERROR(AVERAGEIFS('Resumen de indicadores HSE'!J9:J10,'Resumen de indicadores HSE'!J9:J10,\">=0\"),\"-\")","v":"-"},{"$f":"+IFERROR(AVERAGEIFS('Resumen de indicadores HSE'!K9:K10,'Resumen de indicadores HSE'!K9:K10,\">=0\"),\"-\")","v":"-"},{"$f":"+IFERROR(AVERAGEIFS('Resumen de indicadores HSE'!L9:L10,'Resumen de indicadores HSE'!L9:L10,\">=0\"),\"-\")","v":"-"},{"$f":"+IFERROR(AVERAGEIFS('Resumen de indicadores HSE'!M9:M10,'Resumen de indicadores HSE'!M9:M10,\">=0\"),\"-\")","v":"-"},{"$f":"+IFERROR(AVERAGEIFS('Resumen de indicadores HSE'!N9:N10,'Resumen de indicadores HSE'!N9:N10,\">=0\"),\"-\")","v":"-"},{"$f":"+IFERROR(AVERAGEIFS('Resumen de indicadores HSE'!O9:O10,'Resumen de indicadores HSE'!O9:O10,\">=0\"),\"-\")","v":"-"},{"$f":"+IFERROR(AVERAGEIFS('Resumen de indicadores HSE'!P9:P10,'Resumen de indicadores HSE'!P9:P10,\">=0\"),\"-\")","v":"-"},{"$f":"+IFERROR(AVERAGEIFS('Resumen de indicadores HSE'!Q9:Q10,'Resumen de indicadores HSE'!Q9:Q10,\">=0\"),\"-\")","v":"-"},{"$f":"+IFERROR(AVERAGEIFS('Resumen de indicadores HSE'!R9:R10,'Resumen de indicadores HSE'!R9:R10,\">=0\"),\"-\")","v":"-"},{"$f":"+IFERROR(AVERAGEIFS('Resumen de indicadores HSE'!S9:S10,'Resumen de indicadores HSE'!S9:S10,\">=0\"),\"-\")","v":"-"},{"$f":"+IFERROR(AVERAGEIFS('Resumen de indicadores HSE'!T9:T10,'Resumen de indicadores HSE'!T9:T10,\">=0\"),\"-\")","v":"-"},{"$f":"+IFERROR(AVERAGEIFS('Resumen de indicadores HSE'!U9:U10,'Resumen de indicadores HSE'!U9:U10,\">=0\"),\"-\")","v":"-"},{"$f":"+IFERROR(AVERAGEIFS('Resumen de indicadores HSE'!V9:V10,'Resumen de indicadores HSE'!V9:V10,\">=0\"),\"-\")","v":"-"},{"$f":"+IFERROR(AVERAGEIFS('Resumen de indicadores HSE'!W9:W10,'Resumen de indicadores HSE'!W9:W10,\">=0\"),\"-\")","v":"-"},{"$f":"+IFERROR(AVERAGEIFS('Resumen de indicadores HSE'!X9:X10,'Resumen de indicadores HSE'!X9:X10,\">=0\"),\"-\")","v":"-"},{"$f":"+IFERROR(AVERAGEIFS('Resumen de indicadores HSE'!Y9:Y10,'Resumen de indicadores HSE'!Y9:Y10,\">=0\"),\"-\")","v":"-"},{"$f":"+IFERROR(AVERAGEIFS('Resumen de indicadores HSE'!Z9:Z10,'Resumen de indicadores HSE'!Z9:Z10,\">=0\"),\"-\")","v":"-"},{"$f":"+IFERROR(AVERAGEIFS('Resumen de indicadores HSE'!AA9:AA10,'Resumen de indicadores HSE'!AA9:AA10,\">=0\"),\"-\")","v":"-"},{"$f":"+IFERROR(AVERAGEIFS('Resumen de indicadores HSE'!AB9:AB10,'Resumen de indicadores HSE'!AB9:AB10,\">=0\"),\"-\")","v":"-"},{"$f":"+IFERROR(AVERAGEIFS('Resumen de indicadores HSE'!AC9:AC10,'Resumen de indicadores HSE'!AC9:AC10,\">=0\"),\"-\")","v":"-"},{"$f":"+IFERROR(AVERAGEIFS('Resumen de indicadores HSE'!AD9:AD10,'Resumen de indicadores HSE'!AD9:AD10,\">=0\"),\"-\")","v":"-"},{"$f":"+IFERROR(AVERAGEIFS('Resumen de indicadores HSE'!AE9:AE10,'Resumen de indicadores HSE'!AE9:AE10,\">=0\"),\"-\")","v":"-"},{"$f":"+IFERROR(AVERAGEIFS('Resumen de indicadores HSE'!AF9:AF10,'Resumen de indicadores HSE'!AF9:AF10,\">=0\"),\"-\")","v":"-"},{"$f":"+IFERROR(AVERAGEIFS('Resumen de indicadores HSE'!AG9:AG10,'Resumen de indicadores HSE'!AG9:AG10,\">=0\"),\"-\")","v":"-"},{"$f":"+IFERROR(AVERAGEIFS('Resumen de indicadores HSE'!AH9:AH10,'Resumen de indicadores HSE'!AH9:AH10,\">=0\"),\"-\")","v":"-"},{"$f":"+IFERROR(AVERAGEIFS('Resumen de indicadores HSE'!AI9:AI10,'Resumen de indicadores HSE'!AI9:AI10,\">=0\"),\"-\")","v":"-"},{"$f":"+IFERROR(AVERAGEIFS('Resumen de indicadores HSE'!AJ9:AJ10,'Resumen de indicadores HSE'!AJ9:AJ10,\">=0\"),\"-\")","v":"-"},{"$f":"+IFERROR(AVERAGEIFS('Resumen de indicadores HSE'!AK9:AK10,'Resumen de indicadores HSE'!AK9:AK10,\">=0\"),\"-\")","v":"-"},{"$f":"+IFERROR(AVERAGEIFS('Resumen de indicadores HSE'!AL9:AL10,'Resumen de indicadores HSE'!AL9:AL10,\">=0\"),\"-\")","v":"-"},{"$f":"+IFERROR(AVERAGEIFS('Resumen de indicadores HSE'!AM9:AM10,'Resumen de indicadores HSE'!AM9:AM10,\">=0\"),\"-\")","v":"-"},{"$f":"+IFERROR(AVERAGEIFS('Resumen de indicadores HSE'!AN9:AN10,'Resumen de indicadores HSE'!AN9:AN10,\">=0\"),\"-\")","v":"-"},{"$f":"+IFERROR(AVERAGEIFS('Resumen de indicadores HSE'!AO9:AO10,'Resumen de indicadores HSE'!AO9:AO10,\">=0\"),\"-\")","v":"-"},{"$f":"+IFERROR(AVERAGEIFS('Resumen de indicadores HSE'!AP9:AP10,'Resumen de indicadores HSE'!AP9:AP10,\">=0\"),\"-\")","v":"-"},{"$f":"+IFERROR(AVERAGEIFS('Resumen de indicadores HSE'!AQ9:AQ10,'Resumen de indicadores HSE'!AQ9:AQ10,\">=0\"),\"-\")","v":"-"},{"$f":"+IFERROR(AVERAGEIFS('Resumen de indicadores HSE'!AR9:AR10,'Resumen de indicadores HSE'!AR9:AR10,\">=0\"),\"-\")","v":"-"},{"$f":"+IFERROR(AVERAGEIFS('Resumen de indicadores HSE'!AS9:AS10,'Resumen de indicadores HSE'!AS9:AS10,\">=0\"),\"-\")","v":"-"},{"$f":"+IFERROR(AVERAGEIFS('Resumen de indicadores HSE'!AT9:AT10,'Resumen de indicadores HSE'!AT9:AT10,\">=0\"),\"-\")","v":"-"},{"$f":"+IFERROR(AVERAGEIFS('Resumen de indicadores HSE'!AU9:AU10,'Resumen de indicadores HSE'!AU9:AU10,\">=0\"),\"-\")","v":"-"},{"$f":"+IFERROR(AVERAGEIFS('Resumen de indicadores HSE'!AV9:AV10,'Resumen de indicadores HSE'!AV9:AV10,\">=0\"),\"-\")","v":"-"},{"$f":"+IFERROR(AVERAGEIFS('Resumen de indicadores HSE'!AW9:AW10,'Resumen de indicadores HSE'!AW9:AW10,\">=0\"),\"-\")","v":"-"},{"$f":"+IFERROR(AVERAGEIFS('Resumen de indicadores HSE'!AX9:AX10,'Resumen de indicadores HSE'!AX9:AX10,\">=0\"),\"-\")","v":"-"},{"$f":"+IFERROR(AVERAGEIFS('Resumen de indicadores HSE'!AY9:AY10,'Resumen de indicadores HSE'!AY9:AY10,\">=0\"),\"-\")","v":"-"},{"$f":"+IFERROR(AVERAGEIFS('Resumen de indicadores HSE'!AZ9:AZ10,'Resumen de indicadores HSE'!AZ9:AZ10,\">=0\"),\"-\")","v":"-"},{"$f":"+IFERROR(AVERAGEIFS('Resumen de indicadores HSE'!BA9:BA10,'Resumen de indicadores HSE'!BA9:BA10,\">=0\"),\"-\")","v":"-"},{"$f":"+IFERROR(AVERAGEIFS('Resumen de indicadores HSE'!BB9:BB10,'Resumen de indicadores HSE'!BB9:BB10,\">=0\"),\"-\")","v":"-"},{"$f":"+IFERROR(AVERAGEIFS('Resumen de indicadores HSE'!BC9:BC10,'Resumen de indicadores HSE'!BC9:BC10,\">=0\"),\"-\")","v":"-"},{"$f":"+IFERROR(AVERAGEIFS('Resumen de indicadores HSE'!BD9:BD10,'Resumen de indicadores HSE'!BD9:BD10,\">=0\"),\"-\")","v":"-"},{"$f":"+IFERROR(AVERAGEIFS('Resumen de indicadores HSE'!BE9:BE10,'Resumen de indicadores HSE'!BE9:BE10,\">=0\"),\"-\")","v":"-"}]
[null,"HSE","Autocuidado","-",null,{"$f":"+IFERROR(AVERAGEIFS('Resumen de indicadores HSE'!H11:H12,'Resumen de indicadores HSE'!H11:H12,\">=0\"),\"-\")","v":"-"},{"$f":"+IFERROR(AVERAGEIFS('Resumen de indicadores HSE'!I11:I12,'Resumen de indicadores HSE'!I11:I12,\">=0\"),\"-\")","v":"-"},{"$f":"+IFERROR(AVERAGEIFS('Resumen de indicadores HSE'!J11:J12,'Resumen de indicadores HSE'!J11:J12,\">=0\"),\"-\")","v":"-"},{"$f":"+IFERROR(AVERAGEIFS('Resumen de indicadores HSE'!K11:K12,'Resumen de indicadores HSE'!K11:K12,\">=0\"),\"-\")","v":"-"},{"$f":"+IFERROR(AVERAGEIFS('Resumen de indicadores HSE'!L11:L12,'Resumen de indicadores HSE'!L11:L12,\">=0\"),\"-\")","v":"-"},{"$f":"+IFERROR(AVERAGEIFS('Resumen de indicadores HSE'!M11:M12,'Resumen de indicadores HSE'!M11:M12,\">=0\"),\"-\")","v":"-"},{"$f":"+IFERROR(AVERAGEIFS('Resumen de indicadores HSE'!N11:N12,'Resumen de indicadores HSE'!N11:N12,\">=0\"),\"-\")","v":"-"},{"$f":"+IFERROR(AVERAGEIFS('Resumen de indicadores HSE'!O11:O12,'Resumen de indicadores HSE'!O11:O12,\">=0\"),\"-\")","v":"-"},{"$f":"+IFERROR(AVERAGEIFS('Resumen de indicadores HSE'!P11:P12,'Resumen de indicadores HSE'!P11:P12,\">=0\"),\"-\")","v":"-"},{"$f":"+IFERROR(AVERAGEIFS('Resumen de indicadores HSE'!Q11:Q12,'Resumen de indicadores HSE'!Q11:Q12,\">=0\"),\"-\")","v":"-"},{"$f":"+IFERROR(AVERAGEIFS('Resumen de indicadores HSE'!R11:R12,'Resumen de indicadores HSE'!R11:R12,\">=0\"),\"-\")","v":"-"},{"$f":"+IFERROR(AVERAGEIFS('Resumen de indicadores HSE'!S11:S12,'Resumen de indicadores HSE'!S11:S12,\">=0\"),\"-\")","v":"-"},{"$f":"+IFERROR(AVERAGEIFS('Resumen de indicadores HSE'!T11:T12,'Resumen de indicadores HSE'!T11:T12,\">=0\"),\"-\")","v":"-"},{"$f":"+IFERROR(AVERAGEIFS('Resumen de indicadores HSE'!U11:U12,'Resumen de indicadores HSE'!U11:U12,\">=0\"),\"-\")","v":"-"},{"$f":"+IFERROR(AVERAGEIFS('Resumen de indicadores HSE'!V11:V12,'Resumen de indicadores HSE'!V11:V12,\">=0\"),\"-\")","v":"-"},{"$f":"+IFERROR(AVERAGEIFS('Resumen de indicadores HSE'!W11:W12,'Resumen de indicadores HSE'!W11:W12,\">=0\"),\"-\")","v":"-"},{"$f":"+IFERROR(AVERAGEIFS('Resumen de indicadores HSE'!X11:X12,'Resumen de indicadores HSE'!X11:X12,\">=0\"),\"-\")","v":"-"},{"$f":"+IFERROR(AVERAGEIFS('Resumen de indicadores HSE'!Y11:Y12,'Resumen de indicadores HSE'!Y11:Y12,\">=0\"),\"-\")","v":"-"},{"$f":"+IFERROR(AVERAGEIFS('Resumen de indicadores HSE'!Z11:Z12,'Resumen de indicadores HSE'!Z11:Z12,\">=0\"),\"-\")","v":"-"},{"$f":"+IFERROR(AVERAGEIFS('Resumen de indicadores HSE'!AA11:AA12,'Resumen de indicadores HSE'!AA11:AA12,\">=0\"),\"-\")","v":"-"},{"$f":"+IFERROR(AVERAGEIFS('Resumen de indicadores HSE'!AB11:AB12,'Resumen de indicadores HSE'!AB11:AB12,\">=0\"),\"-\")","v":"-"},{"$f":"+IFERROR(AVERAGEIFS('Resumen de indicadores HSE'!AC11:AC12,'Resumen de indicadores HSE'!AC11:AC12,\">=0\"),\"-\")","v":"-"},{"$f":"+IFERROR(AVERAGEIFS('Resumen de indicadores HSE'!AD11:AD12,'Resumen de indicadores HSE'!AD11:AD12,\">=0\"),\"-\")","v":"-"},{"$f":"+IFERROR(AVERAGEIFS('Resumen de indicadores HSE'!AE11:AE12,'Resumen de indicadores HSE'!AE11:AE12,\">=0\"),\"-\")","v":"-"},{"$f":"+IFERROR(AVERAGEIFS('Resumen de indicadores HSE'!AF11:AF12,'Resumen de indicadores HSE'!AF11:AF12,\">=0\"),\"-\")","v":"-"},{"$f":"+IFERROR(AVERAGEIFS('Resumen de indicadores HSE'!AG11:AG12,'Resumen de indicadores HSE'!AG11:AG12,\">=0\"),\"-\")","v":"-"},{"$f":"+IFERROR(AVERAGEIFS('Resumen de indicadores HSE'!AH11:AH12,'Resumen de indicadores HSE'!AH11:AH12,\">=0\"),\"-\")","v":"-"},{"$f":"+IFERROR(AVERAGEIFS('Resumen de indicadores HSE'!AI11:AI12,'Resumen de indicadores HSE'!AI11:AI12,\">=0\"),\"-\")","v":"-"},{"$f":"+IFERROR(AVERAGEIFS('Resumen de indicadores HSE'!AJ11:AJ12,'Resumen de indicadores HSE'!AJ11:AJ12,\">=0\"),\"-\")","v":"-"},{"$f":"+IFERROR(AVERAGEIFS('Resumen de indicadores HSE'!AK11:AK12,'Resumen de indicadores HSE'!AK11:AK12,\">=0\"),\"-\")","v":"-"},{"$f":"+IFERROR(AVERAGEIFS('Resumen de indicadores HSE'!AL11:AL12,'Resumen de indicadores HSE'!AL11:AL12,\">=0\"),\"-\")","v":"-"},{"$f":"+IFERROR(AVERAGEIFS('Resumen de indicadores HSE'!AM11:AM12,'Resumen de indicadores HSE'!AM11:AM12,\">=0\"),\"-\")","v":"-"},{"$f":"+IFERROR(AVERAGEIFS('Resumen de indicadores HSE'!AN11:AN12,'Resumen de indicadores HSE'!AN11:AN12,\">=0\"),\"-\")","v":"-"},{"$f":"+IFERROR(AVERAGEIFS('Resumen de indicadores HSE'!AO11:AO12,'Resumen de indicadores HSE'!AO11:AO12,\">=0\"),\"-\")","v":"-"},{"$f":"+IFERROR(AVERAGEIFS('Resumen de indicadores HSE'!AP11:AP12,'Resumen de indicadores HSE'!AP11:AP12,\">=0\"),\"-\")","v":"-"},{"$f":"+IFERROR(AVERAGEIFS('Resumen de indicadores HSE'!AQ11:AQ12,'Resumen de indicadores HSE'!AQ11:AQ12,\">=0\"),\"-\")","v":"-"},{"$f":"+IFERROR(AVERAGEIFS('Resumen de indicadores HSE'!AR11:AR12,'Resumen de indicadores HSE'!AR11:AR12,\">=0\"),\"-\")","v":"-"},{"$f":"+IFERROR(AVERAGEIFS('Resumen de indicadores HSE'!AS11:AS12,'Resumen de indicadores HSE'!AS11:AS12,\">=0\"),\"-\")","v":"-"},{"$f":"+IFERROR(AVERAGEIFS('Resumen de indicadores HSE'!AT11:AT12,'Resumen de indicadores HSE'!AT11:AT12,\">=0\"),\"-\")","v":"-"},{"$f":"+IFERROR(AVERAGEIFS('Resumen de indicadores HSE'!AU11:AU12,'Resumen de indicadores HSE'!AU11:AU12,\">=0\"),\"-\")","v":"-"},{"$f":"+IFERROR(AVERAGEIFS('Resumen de indicadores HSE'!AV11:AV12,'Resumen de indicadores HSE'!AV11:AV12,\">=0\"),\"-\")","v":"-"},{"$f":"+IFERROR(AVERAGEIFS('Resumen de indicadores HSE'!AW11:AW12,'Resumen de indicadores HSE'!AW11:AW12,\">=0\"),\"-\")","v":"-"},{"$f":"+IFERROR(AVERAGEIFS('Resumen de indicadores HSE'!AX11:AX12,'Resumen de indicadores HSE'!AX11:AX12,\">=0\"),\"-\")","v":"-"},{"$f":"+IFERROR(AVERAGEIFS('Resumen de indicadores HSE'!AY11:AY12,'Resumen de indicadores HSE'!AY11:AY12,\">=0\"),\"-\")","v":"-"},{"$f":"+IFERROR(AVERAGEIFS('Resumen de indicadores HSE'!AZ11:AZ12,'Resumen de indicadores HSE'!AZ11:AZ12,\">=0\"),\"-\")","v":"-"},{"$f":"+IFERROR(AVERAGEIFS('Resumen de indicadores HSE'!BA11:BA12,'Resumen de indicadores HSE'!BA11:BA12,\">=0\"),\"-\")","v":"-"},{"$f":"+IFERROR(AVERAGEIFS('Resumen de indicadores HSE'!BB11:BB12,'Resumen de indicadores HSE'!BB11:BB12,\">=0\"),\"-\")","v":"-"},{"$f":"+IFERROR(AVERAGEIFS('Resumen de indicadores HSE'!BC11:BC12,'Resumen de indicadores HSE'!BC11:BC12,\">=0\"),\"-\")","v":"-"},{"$f":"+IFERROR(AVERAGEIFS('Resumen de indicadores HSE'!BD11:BD12,'Resumen de indicadores HSE'!BD11:BD12,\">=0\"),\"-\")","v":"-"},{"$f":"+IFERROR(AVERAGEIFS('Resumen de indicadores HSE'!BE11:BE12,'Resumen de indicadores HSE'!BE11:BE12,\">=0\"),\"-\")","v":"-"}]
[null,"HSE","Regulación Emocional","-",null,{"$f":"+IFERROR(AVERAGEIFS('Resumen de indicadores HSE'!H13,'Resumen de indicadores HSE'!H13,\">=0\"),\"-\")","v":"-"},{"$f":"+IFERROR(AVERAGEIFS('Resumen de indicadores HSE'!I13,'Resumen de indicadores HSE'!I13,\">=0\"),\"-\")","v":"-"},{"$f":"+IFERROR(AVERAGEIFS('Resumen de indicadores HSE'!J13,'Resumen de indicadores HSE'!J13,\">=0\"),\"-\")","v":"-"},{"$f":"+IFERROR(AVERAGEIFS('Resumen de indicadores HSE'!K13,'Resumen de indicadores HSE'!K13,\">=0\"),\"-\")","v":"-"},{"$f":"+IFERROR(AVERAGEIFS('Resumen de indicadores HSE'!L13,'Resumen de indicadores HSE'!L13,\">=0\"),\"-\")","v":"-"},{"$f":"+IFERROR(AVERAGEIFS('Resumen de indicadores HSE'!M13,'Resumen de indicadores HSE'!M13,\">=0\"),\"-\")","v":"-"},{"$f":"+IFERROR(AVERAGEIFS('Resumen de indicadores HSE'!N13,'Resumen de indicadores HSE'!N13,\">=0\"),\"-\")","v":"-"},{"$f":"+IFERROR(AVERAGEIFS('Resumen de indicadores HSE'!O13,'Resumen de indicadores HSE'!O13,\">=0\"),\"-\")","v":"-"},{"$f":"+IFERROR(AVERAGEIFS('Resumen de indicadores HSE'!P13,'Resumen de indicadores HSE'!P13,\">=0\"),\"-\")","v":"-"},{"$f":"+IFERROR(AVERAGEIFS('Resumen de indicadores HSE'!Q13,'Resumen de indicadores HSE'!Q13,\">=0\"),\"-\")","v":"-"},{"$f":"+IFERROR(AVERAGEIFS('Resumen de indicadores HSE'!R13,'Resumen de indicadores HSE'!R13,\">=0\"),\"-\")","v":"-"},{"$f":"+IFERROR(AVERAGEIFS('Resumen de indicadores HSE'!S13,'Resumen de indicadores HSE'!S13,\">=0\"),\"-\")","v":"-"},{"$f":"+IFERROR(AVERAGEIFS('Resumen de indicadores HSE'!T13,'Resumen de indicadores HSE'!T13,\">=0\"),\"-\")","v":"-"},{"$f":"+IFERROR(AVERAGEIFS('Resumen de indicadores HSE'!U13,'Resumen de indicadores HSE'!U13,\">=0\"),\"-\")","v":"-"},{"$f":"+IFERROR(AVERAGEIFS('Resumen de indicadores HSE'!V13,'Resumen de indicadores HSE'!V13,\">=0\"),\"-\")","v":"-"},{"$f":"+IFERROR(AVERAGEIFS('Resumen de indicadores HSE'!W13,'Resumen de indicadores HSE'!W13,\">=0\"),\"-\")","v":"-"},{"$f":"+IFERROR(AVERAGEIFS('Resumen de indicadores HSE'!X13,'Resumen de indicadores HSE'!X13,\">=0\"),\"-\")","v":"-"},{"$f":"+IFERROR(AVERAGEIFS('Resumen de indicadores HSE'!Y13,'Resumen de indicadores HSE'!Y13,\">=0\"),\"-\")","v":"-"},{"$f":"+IFERROR(AVERAGEIFS('Resumen de indicadores HSE'!Z13,'Resumen de indicadores HSE'!Z13,\">=0\"),\"-\")","v":"-"},{"$f":"+IFERROR(AVERAGEIFS('Resumen de indicadores HSE'!AA13,'Resumen de indicadores HSE'!AA13,\">=0\"),\"-\")","v":"-"},{"$f":"+IFERROR(AVERAGEIFS('Resumen de indicadores HSE'!AB13,'Resumen de indicadores HSE'!AB13,\">=0\"),\"-\")","v":"-"},{"$f":"+IFERROR(AVERAGEIFS('Resumen de indicadores HSE'!AC13,'Resumen de indicadores HSE'!AC13,\">=0\"),\"-\")","v":"-"},{"$f":"+IFERROR(AVERAGEIFS('Resumen de indicadores HSE'!AD13,'Resumen de indicadores HSE'!AD13,\">=0\"),\"-\")","v":"-"},{"$f":"+IFERROR(AVERAGEIFS('Resumen de indicadores HSE'!AE13,'Resumen de indicadores HSE'!AE13,\">=0\"),\"-\")","v":"-"},{"$f":"+IFERROR(AVERAGEIFS('Resumen de indicadores HSE'!AF13,'Resumen de indicadores HSE'!AF13,\">=0\"),\"-\")","v":"-"},{"$f":"+IFERROR(AVERAGEIFS('Resumen de indicadores HSE'!AG13,'Resumen de indicadores HSE'!AG13,\">=0\"),\"-\")","v":"-"},{"$f":"+IFERROR(AVERAGEIFS('Resumen de indicadores HSE'!AH13,'Resumen de indicadores HSE'!AH13,\">=0\"),\"-\")","v":"-"},{"$f":"+IFERROR(AVERAGEIFS('Resumen de indicadores HSE'!AI13,'Resumen de indicadores HSE'!AI13,\">=0\"),\"-\")","v":"-"},{"$f":"+IFERROR(AVERAGEIFS('Resumen de indicadores HSE'!AJ13,'Resumen de indicadores HSE'!AJ13,\">=0\"),\"-\")","v":"-"},{"$f":"+IFERROR(AVERAGEIFS('Resumen de indicadores HSE'!AK13,'Resumen de indicadores HSE'!AK13,\">=0\"),\"-\")","v":"-"},{"$f":"+IFERROR(AVERAGEIFS('Resumen de indicadores HSE'!AL13,'Resumen de indicadores HSE'!AL13,\">=0\"),\"-\")","v":"-"},{"$f":"+IFERROR(AVERAGEIFS('Resumen de indicadores HSE'!AM13,'Resumen de indicadores HSE'!AM13,\">=0\"),\"-\")","v":"-"},{"$f":"+IFERROR(AVERAGEIFS('Resumen de indicadores HSE'!AN13,'Resumen de indicadores HSE'!AN13,\">=0\"),\"-\")","v":"-"},{"$f":"+IFERROR(AVERAGEIFS('Resumen de indicadores HSE'!AO13,'Resumen de indicadores HSE'!AO13,\">=0\"),\"-\")","v":"-"},{"$f":"+IFERROR(AVERAGEIFS('Resumen de indicadores HSE'!AP13,'Resumen de indicadores HSE'!AP13,\">=0\"),\"-\")","v":"-"},{"$f":"+IFERROR(AVERAGEIFS('Resumen de indicadores HSE'!AQ13,'Resumen de indicadores HSE'!AQ13,\">=0\"),\"-\")","v":"-"},{"$f":"+IFERROR(AVERAGEIFS('Resumen de indicadores HSE'!AR13,'Resumen de indicadores HSE'!AR13,\">=0\"),\"-\")","v":"-"},{"$f":"+IFERROR(AVERAGEIFS('Resumen de indicadores HSE'!AS13,'Resumen de indicadores HSE'!AS13,\">=0\"),\"-\")","v":"-"},{"$f":"+IFERROR(AVERAGEIFS('Resumen de indicadores HSE'!AT13,'Resumen de indicadores HSE'!AT13,\">=0\"),\"-\")","v":"-"},{"$f":"+IFERROR(AVERAGEIFS('Resumen de indicadores HSE'!AU13,'Resumen de indicadores HSE'!AU13,\">=0\"),\"-\")","v":"-"},{"$f":"+IFERROR(AVERAGEIFS('Resumen de indicadores HSE'!AV13,'Resumen de indicadores HSE'!AV13,\">=0\"),\"-\")","v":"-"},{"$f":"+IFERROR(AVERAGEIFS('Resumen de indicadores HSE'!AW13,'Resumen de indicadores HSE'!AW13,\">=0\"),\"-\")","v":"-"},{"$f":"+IFERROR(AVERAGEIFS('Resumen de indicadores HSE'!AX13,'Resumen de indicadores HSE'!AX13,\">=0\"),\"-\")","v":"-"},{"$f":"+IFERROR(AVERAGEIFS('Resumen de indicadores HSE'!AY13,'Resumen de indicadores HSE'!AY13,\">=0\"),\"-\")","v":"-"},{"$f":"+IFERROR(AVERAGEIFS('Resumen de indicadores HSE'!AZ13,'Resumen de indicadores HSE'!AZ13,\">=0\"),\"-\")","v":"-"},{"$f":"+IFERROR(AVERAGEIFS('Resumen de indicadores HSE'!BA13,'Resumen de indicadores HSE'!BA13,\">=0\"),\"-\")","v":"-"},{"$f":"+IFERROR(AVERAGEIFS('Resumen de indicadores HSE'!BB13,'Resumen de indicadores HSE'!BB13,\">=0\"),\"-\")","v":"-"},{"$f":"+IFERROR(AVERAGEIFS('Resumen de indicadores HSE'!BC13,'Resumen de indicadores HSE'!BC13,\">=0\"),\"-\")","v":"-"},{"$f":"+IFERROR(AVERAGEIFS('Resumen de indicadores HSE'!BD13,'Resumen de indicadores HSE'!BD13,\">=0\"),\"-\")","v":"-"},{"$f":"+IFERROR(AVERAGEIFS('Resumen de indicadores HSE'!BE13,'Resumen de indicadores HSE'!BE13,\">=0\"),\"-\")","v":"-"}]
[null,"HSE","Creatividad","-",null,{"$f":"+IFERROR(AVERAGEIFS('Resumen de indicadores HSE'!H14,'Resumen de indicadores HSE'!H14,\">=0\"),\"-\")","v":"-"},{"$f":"+IFERROR(AVERAGEIFS('Resumen de indicadores HSE'!I14,'Resumen de indicadores HSE'!I14,\">=0\"),\"-\")","v":"-"},{"$f":"+IFERROR(AVERAGEIFS('Resumen de indicadores HSE'!J14,'Resumen de indicadores HSE'!J14,\">=0\"),\"-\")","v":"-"},{"$f":"+IFERROR(AVERAGEIFS('Resumen de indicadores HSE'!K14,'Resumen de indicadores HSE'!K14,\">=0\"),\"-\")","v":"-"},{"$f":"+IFERROR(AVERAGEIFS('Resumen de indicadores HSE'!L14,'Resumen de indicadores HSE'!L14,\">=0\"),\"-\")","v":"-"},{"$f":"+IFERROR(AVERAGEIFS('Resumen de indicadores HSE'!M14,'Resumen de indicadores HSE'!M14,\">=0\"),\"-\")","v":"-"},{"$f":"+IFERROR(AVERAGEIFS('Resumen de indicadores HSE'!N14,'Resumen de indicadores HSE'!N14,\">=0\"),\"-\")","v":"-"},{"$f":"+IFERROR(AVERAGEIFS('Resumen de indicadores HSE'!O14,'Resumen de indicadores HSE'!O14,\">=0\"),\"-\")","v":"-"},{"$f":"+IFERROR(AVERAGEIFS('Resumen de indicadores HSE'!P14,'Resumen de indicadores HSE'!P14,\">=0\"),\"-\")","v":"-"},{"$f":"+IFERROR(AVERAGEIFS('Resumen de indicadores HSE'!Q14,'Resumen de indicadores HSE'!Q14,\">=0\"),\"-\")","v":"-"},{"$f":"+IFERROR(AVERAGEIFS('Resumen de indicadores HSE'!R14,'Resumen de indicadores HSE'!R14,\">=0\"),\"-\")","v":"-"},{"$f":"+IFERROR(AVERAGEIFS('Resumen de indicadores HSE'!S14,'Resumen de indicadores HSE'!S14,\">=0\"),\"-\")","v":"-"},{"$f":"+IFERROR(AVERAGEIFS('Resumen de indicadores HSE'!T14,'Resumen de indicadores HSE'!T14,\">=0\"),\"-\")","v":"-"},{"$f":"+IFERROR(AVERAGEIFS('Resumen de indicadores HSE'!U14,'Resumen de indicadores HSE'!U14,\">=0\"),\"-\")","v":"-"},{"$f":"+IFERROR(AVERAGEIFS('Resumen de indicadores HSE'!V14,'Resumen de indicadores HSE'!V14,\">=0\"),\"-\")","v":"-"},{"$f":"+IFERROR(AVERAGEIFS('Resumen de indicadores HSE'!W14,'Resumen de indicadores HSE'!W14,\">=0\"),\"-\")","v":"-"},{"$f":"+IFERROR(AVERAGEIFS('Resumen de indicadores HSE'!X14,'Resumen de indicadores HSE'!X14,\">=0\"),\"-\")","v":"-"},{"$f":"+IFERROR(AVERAGEIFS('Resumen de indicadores HSE'!Y14,'Resumen de indicadores HSE'!Y14,\">=0\"),\"-\")","v":"-"},{"$f":"+IFERROR(AVERAGEIFS('Resumen de indicadores HSE'!Z14,'Resumen de indicadores HSE'!Z14,\">=0\"),\"-\")","v":"-"},{"$f":"+IFERROR(AVERAGEIFS('Resumen de indicadores HSE'!AA14,'Resumen de indicadores HSE'!AA14,\">=0\"),\"-\")","v":"-"},{"$f":"+IFERROR(AVERAGEIFS('Resumen de indicadores HSE'!AB14,'Resumen de indicadores HSE'!AB14,\">=0\"),\"-\")","v":"-"},{"$f":"+IFERROR(AVERAGEIFS('Resumen de indicadores HSE'!AC14,'Resumen de indicadores HSE'!AC14,\">=0\"),\"-\")","v":"-"},{"$f":"+IFERROR(AVERAGEIFS('Resumen de indicadores HSE'!AD14,'Resumen de indicadores HSE'!AD14,\">=0\"),\"-\")","v":"-"},{"$f":"+IFERROR(AVERAGEIFS('Resumen de indicadores HSE'!AE14,'Resumen de indicadores HSE'!AE14,\">=0\"),\"-\")","v":"-"},{"$f":"+IFERROR(AVERAGEIFS('Resumen de indicadores HSE'!AF14,'Resumen de indicadores HSE'!AF14,\">=0\"),\"-\")","v":"-"},{"$f":"+IFERROR(AVERAGEIFS('Resumen de indicadores HSE'!AG14,'Resumen de indicadores HSE'!AG14,\">=0\"),\"-\")","v":"-"},{"$f":"+IFERROR(AVERAGEIFS('Resumen de indicadores HSE'!AH14,'Resumen de indicadores HSE'!AH14,\">=0\"),\"-\")","v":"-"},{"$f":"+IFERROR(AVERAGEIFS('Resumen de indicadores HSE'!AI14,'Resumen de indicadores HSE'!AI14,\">=0\"),\"-\")","v":"-"},{"$f":"+IFERROR(AVERAGEIFS('Resumen de indicadores HSE'!AJ14,'Resumen de indicadores HSE'!AJ14,\">=0\"),\"-\")","v":"-"},{"$f":"+IFERROR(AVERAGEIFS('Resumen de indicadores HSE'!AK14,'Resumen de indicadores HSE'!AK14,\">=0\"),\"-\")","v":"-"},{"$f":"+IFERROR(AVERAGEIFS('Resumen de indicadores HSE'!AL14,'Resumen de indicadores HSE'!AL14,\">=0\"),\"-\")","v":"-"},{"$f":"+IFERROR(AVERAGEIFS('Resumen de indicadores HSE'!AM14,'Resumen de indicadores HSE'!AM14,\">=0\"),\"-\")","v":"-"},{"$f":"+IFERROR(AVERAGEIFS('Resumen de indicadores HSE'!AN14,'Resumen de indicadores HSE'!AN14,\">=0\"),\"-\")","v":"-"},{"$f":"+IFERROR(AVERAGEIFS('Resumen de indicadores HSE'!AO14,'Resumen de indicadores HSE'!AO14,\">=0\"),\"-\")","v":"-"},{"$f":"+IFERROR(AVERAGEIFS('Resumen de indicadores HSE'!AP14,'Resumen de indicadores HSE'!AP14,\">=0\"),\"-\")","v":"-"},{"$f":"+IFERROR(AVERAGEIFS('Resumen de indicadores HSE'!AQ14,'Resumen de indicadores HSE'!AQ14,\">=0\"),\"-\")","v":"-"},{"$f":"+IFERROR(AVERAGEIFS('Resumen de indicadores HSE'!AR14,'Resumen de indicadores HSE'!AR14,\">=0\"),\"-\")","v":"-"},{"$f":"+IFERROR(AVERAGEIFS('Resumen de indicadores HSE'!AS14,'Resumen de indicadores HSE'!AS14,\">=0\"),\"-\")","v":"-"},{"$f":"+IFERROR(AVERAGEIFS('Resumen de indicadores HSE'!AT14,'Resumen de indicadores HSE'!AT14,\">=0\"),\"-\")","v":"-"},{"$f":"+IFERROR(AVERAGEIFS('Resumen de indicadores HSE'!AU14,'Resumen de indicadores HSE'!AU14,\">=0\"),\"-\")","v":"-"},{"$f":"+IFERROR(AVERAGEIFS('Resumen de indicadores HSE'!AV14,'Resumen de indicadores HSE'!AV14,\">=0\"),\"-\")","v":"-"},{"$f":"+IFERROR(AVERAGEIFS('Resumen de indicadores HSE'!AW14,'Resumen de indicadores HSE'!AW14,\">=0\"),\"-\")","v":"-"},{"$f":"+IFERROR(AVERAGEIFS('Resumen de indicadores HSE'!AX14,'Resumen de indicadores HSE'!AX14,\">=0\"),\"-\")","v":"-"},{"$f":"+IFERROR(AVERAGEIFS('Resumen de indicadores HSE'!AY14,'Resumen de indicadores HSE'!AY14,\">=0\"),\"-\")","v":"-"},{"$f":"+IFERROR(AVERAGEIFS('Resumen de indicadores HSE'!AZ14,'Resumen de indicadores HSE'!AZ14,\">=0\"),\"-\")","v":"-"},{"$f":"+IFERROR(AVERAGEIFS('Resumen de indicadores HSE'!BA14,'Resumen de indicadores HSE'!BA14,\">=0\"),\"-\")","v":"-"},{"$f":"+IFERROR(AVERAGEIFS('Resumen de indicadores HSE'!BB14,'Resumen de indicadores HSE'!BB14,\">=0\"),\"-\")","v":"-"},{"$f":"+IFERROR(AVERAGEIFS('Resumen de indicadores HSE'!BC14,'Resumen de indicadores HSE'!BC14,\">=0\"),\"-\")","v":"-"},{"$f":"+IFERROR(AVERAGEIFS('Resumen de indicadores HSE'!BD14,'Resumen de indicadores HSE'!BD14,\">=0\"),\"-\")","v":"-"},{"$f":"+IFERROR(AVERAGEIFS('Resumen de indicadores HSE'!BE14,'Resumen de indicadores HSE'!BE14,\">=0\"),\"-\")","v":"-"}]
[null,"HSE","Toma de decisiones responsables","-",null,{"$f":"+IFERROR(AVERAGEIFS('Resumen de indicadores HSE'!H15,'Resumen de indicadores HSE'!H15,\">=0\"),\"-\")","v":"-"},{"$f":"+IFERROR(AVERAGEIFS('Resumen de indicadores HSE'!I15,'Resumen de indicadores HSE'!I15,\">=0\"),\"-\")","v":"-"},{"$f":"+IFERROR(AVERAGEIFS('Resumen de indicadores HSE'!J15,'Resumen de indicadores HSE'!J15,\">=0\"),\"-\")","v":"-"},{"$f":"+IFERROR(AVERAGEIFS('Resumen de indicadores HSE'!K15,'Resumen de indicadores HSE'!K15,\">=0\"),\"-\")","v":"-"},{"$f":"+IFERROR(AVERAGEIFS('Resumen de indicadores HSE'!L15,'Resumen de indicadores HSE'!L15,\">=0\"),\"-\")","v":"-"},{"$f":"+IFERROR(AVERAGEIFS('Resumen de indicadores HSE'!M15,'Resumen de indicadores HSE'!M15,\">=0\"),\"-\")","v":"-"},{"$f":"+IFERROR(AVERAGEIFS('Resumen de indicadores HSE'!N15,'Resumen de indicadores HSE'!N15,\">=0\"),\"-\")","v":"-"},{"$f":"+IFERROR(AVERAGEIFS('Resumen de indicadores HSE'!O15,'Resumen de indicadores HSE'!O15,\">=0\"),\"-\")","v":"-"},{"$f":"+IFERROR(AVERAGEIFS('Resumen de indicadores HSE'!P15,'Resumen de indicadores HSE'!P15,\">=0\"),\"-\")","v":"-"},{"$f":"+IFERROR(AVERAGEIFS('Resumen de indicadores HSE'!Q15,'Resumen de indicadores HSE'!Q15,\">=0\"),\"-\")","v":"-"},{"$f":"+IFERROR(AVERAGEIFS('Resumen de indicadores HSE'!R15,'Resumen de indicadores HSE'!R15,\">=0\"),\"-\")","v":"-"},{"$f":"+IFERROR(AVERAGEIFS('Resumen de indicadores HSE'!S15,'Resumen de indicadores HSE'!S15,\">=0\"),\"-\")","v":"-"},{"$f":"+IFERROR(AVERAGEIFS('Resumen de indicadores HSE'!T15,'Resumen de indicadores HSE'!T15,\">=0\"),\"-\")","v":"-"},{"$f":"+IFERROR(AVERAGEIFS('Resumen de indicadores HSE'!U15,'Resumen de indicadores HSE'!U15,\">=0\"),\"-\")","v":"-"},{"$f":"+IFERROR(AVERAGEIFS('Resumen de indicadores HSE'!V15,'Resumen de indicadores HSE'!V15,\">=0\"),\"-\")","v":"-"},{"$f":"+IFERROR(AVERAGEIFS('Resumen de indicadores HSE'!W15,'Resumen de indicadores HSE'!W15,\">=0\"),\"-\")","v":"-"},{"$f":"+IFERROR(AVERAGEIFS('Resumen de indicadores HSE'!X15,'Resumen de indicadores HSE'!X15,\">=0\"),\"-\")","v":"-"},{"$f":"+IFERROR(AVERAGEIFS('Resumen de indicadores HSE'!Y15,'Resumen de indicadores HSE'!Y15,\">=0\"),\"-\")","v":"-"},{"$f":"+IFERROR(AVERAGEIFS('Resumen de indicadores HSE'!Z15,'Resumen de indicadores HSE'!Z15,\">=0\"),\"-\")","v":"-"},{"$f":"+IFERROR(AVERAGEIFS('Resumen de indicadores HSE'!AA15,'Resumen de indicadores HSE'!AA15,\">=0\"),\"-\")","v":"-"},{"$f":"+IFERROR(AVERAGEIFS('Resumen de indicadores HSE'!AB15,'Resumen de indicadores HSE'!AB15,\">=0\"),\"-\")","v":"-"},{"$f":"+IFERROR(AVERAGEIFS('Resumen de indicadores HSE'!AC15,'Resumen de indicadores HSE'!AC15,\">=0\"),\"-\")","v":"-"},{"$f":"+IFERROR(AVERAGEIFS('Resumen de indicadores HSE'!AD15,'Resumen de indicadores HSE'!AD15,\">=0\"),\"-\")","v":"-"},{"$f":"+IFERROR(AVERAGEIFS('Resumen de indicadores HSE'!AE15,'Resumen de indicadores HSE'!AE15,\">=0\"),\"-\")","v":"-"},{"$f":"+IFERROR(AVERAGEIFS('Resumen de indicadores HSE'!AF15,'Resumen de indicadores HSE'!AF15,\">=0\"),\"-\")","v":"-"},{"$f":"+IFERROR(AVERAGEIFS('Resumen de indicadores HSE'!AG15,'Resumen de indicadores HSE'!AG15,\">=0\"),\"-\")","v":"-"},{"$f":"+IFERROR(AVERAGEIFS('Resumen de indicadores HSE'!AH15,'Resumen de indicadores HSE'!AH15,\">=0\"),\"-\")","v":"-"},{"$f":"+IFERROR(AVERAGEIFS('Resumen de indicadores HSE'!AI15,'Resumen de indicadores HSE'!AI15,\">=0\"),\"-\")","v":"-"},{"$f":"+IFERROR(AVERAGEIFS('Resumen de indicadores HSE'!AJ15,'Resumen de indicadores HSE'!AJ15,\">=0\"),\"-\")","v":"-"},{"$f":"+IFERROR(AVERAGEIFS('Resumen de indicadores HSE'!AK15,'Resumen de indicadores HSE'!AK15,\">=0\"),\"-\")","v":"-"},{"$f":"+IFERROR(AVERAGEIFS('Resumen de indicadores HSE'!AL15,'Resumen de indicadores HSE'!AL15,\">=0\"),\"-\")","v":"-"},{"$f":"+IFERROR(AVERAGEIFS('Resumen de indicadores HSE'!AM15,'Resumen de indicadores HSE'!AM15,\">=0\"),\"-\")","v":"-"},{"$f":"+IFERROR(AVERAGEIFS('Resumen de indicadores HSE'!AN15,'Resumen de indicadores HSE'!AN15,\">=0\"),\"-\")","v":"-"},{"$f":"+IFERROR(AVERAGEIFS('Resumen de indicadores HSE'!AO15,'Resumen de indicadores HSE'!AO15,\">=0\"),\"-\")","v":"-"},{"$f":"+IFERROR(AVERAGEIFS('Resumen de indicadores HSE'!AP15,'Resumen de indicadores HSE'!AP15,\">=0\"),\"-\")","v":"-"},{"$f":"+IFERROR(AVERAGEIFS('Resumen de indicadores HSE'!AQ15,'Resumen de indicadores HSE'!AQ15,\">=0\"),\"-\")","v":"-"},{"$f":"+IFERROR(AVERAGEIFS('Resumen de indicadores HSE'!AR15,'Resumen de indicadores HSE'!AR15,\">=0\"),\"-\")","v":"-"},{"$f":"+IFERROR(AVERAGEIFS('Resumen de indicadores HSE'!AS15,'Resumen de indicadores HSE'!AS15,\">=0\"),\"-\")","v":"-"},{"$f":"+IFERROR(AVERAGEIFS('Resumen de indicadores HSE'!AT15,'Resumen de indicadores HSE'!AT15,\">=0\"),\"-\")","v":"-"},{"$f":"+IFERROR(AVERAGEIFS('Resumen de indicadores HSE'!AU15,'Resumen de indicadores HSE'!AU15,\">=0\"),\"-\")","v":"-"},{"$f":"+IFERROR(AVERAGEIFS('Resumen de indicadores HSE'!AV15,'Resumen de indicadores HSE'!AV15,\">=0\"),\"-\")","v":"-"},{"$f":"+IFERROR(AVERAGEIFS('Resumen de indicadores HSE'!AW15,'Resumen de indicadores HSE'!AW15,\">=0\"),\"-\")","v":"-"},{"$f":"+IFERROR(AVERAGEIFS('Resumen de indicadores HSE'!AX15,'Resumen de indicadores HSE'!AX15,\">=0\"),\"-\")","v":"-"},{"$f":"+IFERROR(AVERAGEIFS('Resumen de indicadores HSE'!AY15,'Resumen de indicadores HSE'!AY15,\">=0\"),\"-\")","v":"-"},{"$f":"+IFERROR(AVERAGEIFS('Resumen de indicadores HSE'!AZ15,'Resumen de indicadores HSE'!AZ15,\">=0\"),\"-\")","v":"-"},{"$f":"+IFERROR(AVERAGEIFS('Resumen de indicadores HSE'!BA15,'Resumen de indicadores HSE'!BA15,\">=0\"),\"-\")","v":"-"},{"$f":"+IFERROR(AVERAGEIFS('Resumen de indicadores HSE'!BB15,'Resumen de indicadores HSE'!BB15,\">=0\"),\"-\")","v":"-"},{"$f":"+IFERROR(AVERAGEIFS('Resumen de indicadores HSE'!BC15,'Resumen de indicadores HSE'!BC15,\">=0\"),\"-\")","v":"-"},{"$f":"+IFERROR(AVERAGEIFS('Resumen de indicadores HSE'!BD15,'Resumen de indicadores HSE'!BD15,\">=0\"),\"-\")","v":"-"},{"$f":"+IFERROR(AVERAGEIFS('Resumen de indicadores HSE'!BE15,'Resumen de indicadores HSE'!BE15,\">=0\"),\"-\")","v":"-"}]
[null,"HSE","Comunicación Asertiva","-",null,{"$f":"+IFERROR(AVERAGEIFS('Resumen de indicadores HSE'!H16:H17,'Resumen de indicadores HSE'!H16:H17,\">=0\"),\"-\")","v":"-"},{"$f":"+IFERROR(AVERAGEIFS('Resumen de indicadores HSE'!I16:I17,'Resumen de indicadores HSE'!I16:I17,\">=0\"),\"-\")","v":"-"},{"$f":"+IFERROR(AVERAGEIFS('Resumen de indicadores HSE'!J16:J17,'Resumen de indicadores HSE'!J16:J17,\">=0\"),\"-\")","v":"-"},{"$f":"+IFERROR(AVERAGEIFS('Resumen de indicadores HSE'!K16:K17,'Resumen de indicadores HSE'!K16:K17,\">=0\"),\"-\")","v":"-"},{"$f":"+IFERROR(AVERAGEIFS('Resumen de indicadores HSE'!L16:L17,'Resumen de indicadores HSE'!L16:L17,\">=0\"),\"-\")","v":"-"},{"$f":"+IFERROR(AVERAGEIFS('Resumen de indicadores HSE'!M16:M17,'Resumen de indicadores HSE'!M16:M17,\">=0\"),\"-\")","v":"-"},{"$f":"+IFERROR(AVERAGEIFS('Resumen de indicadores HSE'!N16:N17,'Resumen de indicadores HSE'!N16:N17,\">=0\"),\"-\")","v":"-"},{"$f":"+IFERROR(AVERAGEIFS('Resumen de indicadores HSE'!O16:O17,'Resumen de indicadores HSE'!O16:O17,\">=0\"),\"-\")","v":"-"},{"$f":"+IFERROR(AVERAGEIFS('Resumen de indicadores HSE'!P16:P17,'Resumen de indicadores HSE'!P16:P17,\">=0\"),\"-\")","v":"-"},{"$f":"+IFERROR(AVERAGEIFS('Resumen de indicadores HSE'!Q16:Q17,'Resumen de indicadores HSE'!Q16:Q17,\">=0\"),\"-\")","v":"-"},{"$f":"+IFERROR(AVERAGEIFS('Resumen de indicadores HSE'!R16:R17,'Resumen de indicadores HSE'!R16:R17,\">=0\"),\"-\")","v":"-"},{"$f":"+IFERROR(AVERAGEIFS('Resumen de indicadores HSE'!S16:S17,'Resumen de indicadores HSE'!S16:S17,\">=0\"),\"-\")","v":"-"},{"$f":"+IFERROR(AVERAGEIFS('Resumen de indicadores HSE'!T16:T17,'Resumen de indicadores HSE'!T16:T17,\">=0\"),\"-\")","v":"-"},{"$f":"+IFERROR(AVERAGEIFS('Resumen de indicadores HSE'!U16:U17,'Resumen de indicadores HSE'!U16:U17,\">=0\"),\"-\")","v":"-"},{"$f":"+IFERROR(AVERAGEIFS('Resumen de indicadores HSE'!V16:V17,'Resumen de indicadores HSE'!V16:V17,\">=0\"),\"-\")","v":"-"},{"$f":"+IFERROR(AVERAGEIFS('Resumen de indicadores HSE'!W16:W17,'Resumen de indicadores HSE'!W16:W17,\">=0\"),\"-\")","v":"-"},{"$f":"+IFERROR(AVERAGEIFS('Resumen de indicadores HSE'!X16:X17,'Resumen de indicadores HSE'!X16:X17,\">=0\"),\"-\")","v":"-"},{"$f":"+IFERROR(AVERAGEIFS('Resumen de indicadores HSE'!Y16:Y17,'Resumen de indicadores HSE'!Y16:Y17,\">=0\"),\"-\")","v":"-"},{"$f":"+IFERROR(AVERAGEIFS('Resumen de indicadores HSE'!Z16:Z17,'Resumen de indicadores HSE'!Z16:Z17,\">=0\"),\"-\")","v":"-"},{"$f":"+IFERROR(AVERAGEIFS('Resumen de indicadores HSE'!AA16:AA17,'Resumen de indicadores HSE'!AA16:AA17,\">=0\"),\"-\")","v":"-"},{"$f":"+IFERROR(AVERAGEIFS('Resumen de indicadores HSE'!AB16:AB17,'Resumen de indicadores HSE'!AB16:AB17,\">=0\"),\"-\")","v":"-"},{"$f":"+IFERROR(AVERAGEIFS('Resumen de indicadores HSE'!AC16:AC17,'Resumen de indicadores HSE'!AC16:AC17,\">=0\"),\"-\")","v":"-"},{"$f":"+IFERROR(AVERAGEIFS('Resumen de indicadores HSE'!AD16:AD17,'Resumen de indicadores HSE'!AD16:AD17,\">=0\"),\"-\")","v":"-"},{"$f":"+IFERROR(AVERAGEIFS('Resumen de indicadores HSE'!AE16:AE17,'Resumen de indicadores HSE'!AE16:AE17,\">=0\"),\"-\")","v":"-"},{"$f":"+IFERROR(AVERAGEIFS('Resumen de indicadores HSE'!AF16:AF17,'Resumen de indicadores HSE'!AF16:AF17,\">=0\"),\"-\")","v":"-"},{"$f":"+IFERROR(AVERAGEIFS('Resumen de indicadores HSE'!AG16:AG17,'Resumen de indicadores HSE'!AG16:AG17,\">=0\"),\"-\")","v":"-"},{"$f":"+IFERROR(AVERAGEIFS('Resumen de indicadores HSE'!AH16:AH17,'Resumen de indicadores HSE'!AH16:AH17,\">=0\"),\"-\")","v":"-"},{"$f":"+IFERROR(AVERAGEIFS('Resumen de indicadores HSE'!AI16:AI17,'Resumen de indicadores HSE'!AI16:AI17,\">=0\"),\"-\")","v":"-"},{"$f":"+IFERROR(AVERAGEIFS('Resumen de indicadores HSE'!AJ16:AJ17,'Resumen de indicadores HSE'!AJ16:AJ17,\">=0\"),\"-\")","v":"-"},{"$f":"+IFERROR(AVERAGEIFS('Resumen de indicadores HSE'!AK16:AK17,'Resumen de indicadores HSE'!AK16:AK17,\">=0\"),\"-\")","v":"-"},{"$f":"+IFERROR(AVERAGEIFS('Resumen de indicadores HSE'!AL16:AL17,'Resumen de indicadores HSE'!AL16:AL17,\">=0\"),\"-\")","v":"-"},{"$f":"+IFERROR(AVERAGEIFS('Resumen de indicadores HSE'!AM16:AM17,'Resumen de indicadores HSE'!AM16:AM17,\">=0\"),\"-\")","v":"-"},{"$f":"+IFERROR(AVERAGEIFS('Resumen de indicadores HSE'!AN16:AN17,'Resumen de indicadores HSE'!AN16:AN17,\">=0\"),\"-\")","v":"-"},{"$f":"+IFERROR(AVERAGEIFS('Resumen de indicadores HSE'!AO16:AO17,'Resumen de indicadores HSE'!AO16:AO17,\">=0\"),\"-\")","v":"-"},{"$f":"+IFERROR(AVERAGEIFS('Resumen de indicadores HSE'!AP16:AP17,'Resumen de indicadores HSE'!AP16:AP17,\">=0\"),\"-\")","v":"-"},{"$f":"+IFERROR(AVERAGEIFS('Resumen de indicadores HSE'!AQ16:AQ17,'Resumen de indicadores HSE'!AQ16:AQ17,\">=0\"),\"-\")","v":"-"},{"$f":"+IFERROR(AVERAGEIFS('Resumen de indicadores HSE'!AR16:AR17,'Resumen de indicadores HSE'!AR16:AR17,\">=0\"),\"-\")","v":"-"},{"$f":"+IFERROR(AVERAGEIFS('Resumen de indicadores HSE'!AS16:AS17,'Resumen de indicadores HSE'!AS16:AS17,\">=0\"),\"-\")","v":"-"},{"$f":"+IFERROR(AVERAGEIFS('Resumen de indicadores HSE'!AT16:AT17,'Resumen de indicadores HSE'!AT16:AT17,\">=0\"),\"-\")","v":"-"},{"$f":"+IFERROR(AVERAGEIFS('Resumen de indicadores HSE'!AU16:AU17,'Resumen de indicadores HSE'!AU16:AU17,\">=0\"),\"-\")","v":"-"},{"$f":"+IFERROR(AVERAGEIFS('Resumen de indicadores HSE'!AV16:AV17,'Resumen de indicadores HSE'!AV16:AV17,\">=0\"),\"-\")","v":"-"},{"$f":"+IFERROR(AVERAGEIFS('Resumen de indicadores HSE'!AW16:AW17,'Resumen de indicadores HSE'!AW16:AW17,\">=0\"),\"-\")","v":"-"},{"$f":"+IFERROR(AVERAGEIFS('Resumen de indicadores HSE'!AX16:AX17,'Resumen de indicadores HSE'!AX16:AX17,\">=0\"),\"-\")","v":"-"},{"$f":"+IFERROR(AVERAGEIFS('Resumen de indicadores HSE'!AY16:AY17,'Resumen de indicadores HSE'!AY16:AY17,\">=0\"),\"-\")","v":"-"},{"$f":"+IFERROR(AVERAGEIFS('Resumen de indicadores HSE'!AZ16:AZ17,'Resumen de indicadores HSE'!AZ16:AZ17,\">=0\"),\"-\")","v":"-"},{"$f":"+IFERROR(AVERAGEIFS('Resumen de indicadores HSE'!BA16:BA17,'Resumen de indicadores HSE'!BA16:BA17,\">=0\"),\"-\")","v":"-"},{"$f":"+IFERROR(AVERAGEIFS('Resumen de indicadores HSE'!BB16:BB17,'Resumen de indicadores HSE'!BB16:BB17,\">=0\"),\"-\")","v":"-"},{"$f":"+IFERROR(AVERAGEIFS('Resumen de indicadores HSE'!BC16:BC17,'Resumen de indicadores HSE'!BC16:BC17,\">=0\"),\"-\")","v":"-"},{"$f":"+IFERROR(AVERAGEIFS('Resumen de indicadores HSE'!BD16:BD17,'Resumen de indicadores HSE'!BD16:BD17,\">=0\"),\"-\")","v":"-"},{"$f":"+IFERROR(AVERAGEIFS('Resumen de indicadores HSE'!BE16:BE17,'Resumen de indicadores HSE'!BE16:BE17,\">=0\"),\"-\")","v":"-"}]
[null,"HSE","Trabajo en Equipo","-",null,{"$f":"+IFERROR(AVERAGEIFS('Resumen de indicadores HSE'!H18,'Resumen de indicadores HSE'!H18,\">=0\"),\"-\")","v":"-"},{"$f":"+IFERROR(AVERAGEIFS('Resumen de indicadores HSE'!I18,'Resumen de indicadores HSE'!I18,\">=0\"),\"-\")","v":"-"},{"$f":"+IFERROR(AVERAGEIFS('Resumen de indicadores HSE'!J18,'Resumen de indicadores HSE'!J18,\">=0\"),\"-\")","v":"-"},{"$f":"+IFERROR(AVERAGEIFS('Resumen de indicadores HSE'!K18,'Resumen de indicadores HSE'!K18,\">=0\"),\"-\")","v":"-"},{"$f":"+IFERROR(AVERAGEIFS('Resumen de indicadores HSE'!L18,'Resumen de indicadores HSE'!L18,\">=0\"),\"-\")","v":"-"},{"$f":"+IFERROR(AVERAGEIFS('Resumen de indicadores HSE'!M18,'Resumen de indicadores HSE'!M18,\">=0\"),\"-\")","v":"-"},{"$f":"+IFERROR(AVERAGEIFS('Resumen de indicadores HSE'!N18,'Resumen de indicadores HSE'!N18,\">=0\"),\"-\")","v":"-"},{"$f":"+IFERROR(AVERAGEIFS('Resumen de indicadores HSE'!O18,'Resumen de indicadores HSE'!O18,\">=0\"),\"-\")","v":"-"},{"$f":"+IFERROR(AVERAGEIFS('Resumen de indicadores HSE'!P18,'Resumen de indicadores HSE'!P18,\">=0\"),\"-\")","v":"-"},{"$f":"+IFERROR(AVERAGEIFS('Resumen de indicadores HSE'!Q18,'Resumen de indicadores HSE'!Q18,\">=0\"),\"-\")","v":"-"},{"$f":"+IFERROR(AVERAGEIFS('Resumen de indicadores HSE'!R18,'Resumen de indicadores HSE'!R18,\">=0\"),\"-\")","v":"-"},{"$f":"+IFERROR(AVERAGEIFS('Resumen de indicadores HSE'!S18,'Resumen de indicadores HSE'!S18,\">=0\"),\"-\")","v":"-"},{"$f":"+IFERROR(AVERAGEIFS('Resumen de indicadores HSE'!T18,'Resumen de indicadores HSE'!T18,\">=0\"),\"-\")","v":"-"},{"$f":"+IFERROR(AVERAGEIFS('Resumen de indicadores HSE'!U18,'Resumen de indicadores HSE'!U18,\">=0\"),\"-\")","v":"-"},{"$f":"+IFERROR(AVERAGEIFS('Resumen de indicadores HSE'!V18,'Resumen de indicadores HSE'!V18,\">=0\"),\"-\")","v":"-"},{"$f":"+IFERROR(AVERAGEIFS('Resumen de indicadores HSE'!W18,'Resumen de indicadores HSE'!W18,\">=0\"),\"-\")","v":"-"},{"$f":"+IFERROR(AVERAGEIFS('Resumen de indicadores HSE'!X18,'Resumen de indicadores HSE'!X18,\">=0\"),\"-\")","v":"-"},{"$f":"+IFERROR(AVERAGEIFS('Resumen de indicadores HSE'!Y18,'Resumen de indicadores HSE'!Y18,\">=0\"),\"-\")","v":"-"},{"$f":"+IFERROR(AVERAGEIFS('Resumen de indicadores HSE'!Z18,'Resumen de indicadores HSE'!Z18,\">=0\"),\"-\")","v":"-"},{"$f":"+IFERROR(AVERAGEIFS('Resumen de indicadores HSE'!AA18,'Resumen de indicadores HSE'!AA18,\">=0\"),\"-\")","v":"-"},{"$f":"+IFERROR(AVERAGEIFS('Resumen de indicadores HSE'!AB18,'Resumen de indicadores HSE'!AB18,\">=0\"),\"-\")","v":"-"},{"$f":"+IFERROR(AVERAGEIFS('Resumen de indicadores HSE'!AC18,'Resumen de indicadores HSE'!AC18,\">=0\"),\"-\")","v":"-"},{"$f":"+IFERROR(AVERAGEIFS('Resumen de indicadores HSE'!AD18,'Resumen de indicadores HSE'!AD18,\">=0\"),\"-\")","v":"-"},{"$f":"+IFERROR(AVERAGEIFS('Resumen de indicadores HSE'!AE18,'Resumen de indicadores HSE'!AE18,\">=0\"),\"-\")","v":"-"},{"$f":"+IFERROR(AVERAGEIFS('Resumen de indicadores HSE'!AF18,'Resumen de indicadores HSE'!AF18,\">=0\"),\"-\")","v":"-"},{"$f":"+IFERROR(AVERAGEIFS('Resumen de indicadores HSE'!AG18,'Resumen de indicadores HSE'!AG18,\">=0\"),\"-\")","v":"-"},{"$f":"+IFERROR(AVERAGEIFS('Resumen de indicadores HSE'!AH18,'Resumen de indicadores HSE'!AH18,\">=0\"),\"-\")","v":"-"},{"$f":"+IFERROR(AVERAGEIFS('Resumen de indicadores HSE'!AI18,'Resumen de indicadores HSE'!AI18,\">=0\"),\"-\")","v":"-"},{"$f":"+IFERROR(AVERAGEIFS('Resumen de indicadores HSE'!AJ18,'Resumen de indicadores HSE'!AJ18,\">=0\"),\"-\")","v":"-"},{"$f":"+IFERROR(AVERAGEIFS('Resumen de indicadores HSE'!AK18,'Resumen de indicadores HSE'!AK18,\">=0\"),\"-\")","v":"-"},{"$f":"+IFERROR(AVERAGEIFS('Resumen de indicadores HSE'!AL18,'Resumen de indicadores HSE'!AL18,\">=0\"),\"-\")","v":"-"},{"$f":"+IFERROR(AVERAGEIFS('Resumen de indicadores HSE'!AM18,'Resumen de indicadores HSE'!AM18,\">=0\"),\"-\")","v":"-"},{"$f":"+IFERROR(AVERAGEIFS('Resumen de indicadores HSE'!AN18,'Resumen de indicadores HSE'!AN18,\">=0\"),\"-\")","v":"-"},{"$f":"+IFERROR(AVERAGEIFS('Resumen de indicadores HSE'!AO18,'Resumen de indicadores HSE'!AO18,\">=0\"),\"-\")","v":"-"},{"$f":"+IFERROR(AVERAGEIFS('Resumen de indicadores HSE'!AP18,'Resumen de indicadores HSE'!AP18,\">=0\"),\"-\")","v":"-"},{"$f":"+IFERROR(AVERAGEIFS('Resumen de indicadores HSE'!AQ18,'Resumen de indicadores HSE'!AQ18,\">=0\"),\"-\")","v":"-"},{"$f":"+IFERROR(AVERAGEIFS('Resumen de indicadores HSE'!AR18,'Resumen de indicadores HSE'!AR18,\">=0\"),\"-\")","v":"-"},{"$f":"+IFERROR(AVERAGEIFS('Resumen de indicadores HSE'!AS18,'Resumen de indicadores HSE'!AS18,\">=0\"),\"-\")","v":"-"},{"$f":"+IFERROR(AVERAGEIFS('Resumen de indicadores HSE'!AT18,'Resumen de indicadores HSE'!AT18,\">=0\"),\"-\")","v":"-"},{"$f":"+IFERROR(AVERAGEIFS('Resumen de indicadores HSE'!AU18,'Resumen de indicadores HSE'!AU18,\">=0\"),\"-\")","v":"-"},{"$f":"+IFERROR(AVERAGEIFS('Resumen de indicadores HSE'!AV18,'Resumen de indicadores HSE'!AV18,\">=0\"),\"-\")","v":"-"},{"$f":"+IFERROR(AVERAGEIFS('Resumen de indicadores HSE'!AW18,'Resumen de indicadores HSE'!AW18,\">=0\"),\"-\")","v":"-"},{"$f":"+IFERROR(AVERAGEIFS('Resumen de indicadores HSE'!AX18,'Resumen de indicadores HSE'!AX18,\">=0\"),\"-\")","v":"-"},{"$f":"+IFERROR(AVERAGEIFS('Resumen de indicadores HSE'!AY18,'Resumen de indicadores HSE'!AY18,\">=0\"),\"-\")","v":"-"},{"$f":"+IFERROR(AVERAGEIFS('Resumen de indicadores HSE'!AZ18,'Resumen de indicadores HSE'!AZ18,\">=0\"),\"-\")","v":"-"},{"$f":"+IFERROR(AVERAGEIFS('Resumen de indicadores HSE'!BA18,'Resumen de indicadores HSE'!BA18,\">=0\"),\"-\")","v":"-"},{"$f":"+IFERROR(AVERAGEIFS('Resumen de indicadores HSE'!BB18,'Resumen de indicadores HSE'!BB18,\">=0\"),\"-\")","v":"-"},{"$f":"+IFERROR(AVERAGEIFS('Resumen de indicadores HSE'!BC18,'Resumen de indicadores HSE'!BC18,\">=0\"),\"-\")","v":"-"},{"$f":"+IFERROR(AVERAGEIFS('Resumen de indicadores HSE'!BD18,'Resumen de indicadores HSE'!BD18,\">=0\"),\"-\")","v":"-"},{"$f":"+IFERROR(AVERAGEIFS('Resumen de indicadores HSE'!BE18,'Resumen de indicadores HSE'!BE18,\">=0\"),\"-\")","v":"-"}]
[null,"HSE","Empatía","-",null,{"$f":"+IFERROR(AVERAGEIFS('Resumen de indicadores HSE'!H19:H20,'Resumen de indicadores HSE'!H19:H20,\">=0\"),\"-\")","v":"-"},{"$f":"+IFERROR(AVERAGEIFS('Resumen de indicadores HSE'!I19:I20,'Resumen de indicadores HSE'!I19:I20,\">=0\"),\"-\")","v":"-"},{"$f":"+IFERROR(AVERAGEIFS('Resumen de indicadores HSE'!J19:J20,'Resumen de indicadores HSE'!J19:J20,\">=0\"),\"-\")","v":"-"},{"$f":"+IFERROR(AVERAGEIFS('Resumen de indicadores HSE'!K19:K20,'Resumen de indicadores HSE'!K19:K20,\">=0\"),\"-\")","v":"-"},{"$f":"+IFERROR(AVERAGEIFS('Resumen de indicadores HSE'!L19:L20,'Resumen de indicadores HSE'!L19:L20,\">=0\"),\"-\")","v":"-"},{"$f":"+IFERROR(AVERAGEIFS('Resumen de indicadores HSE'!M19:M20,'Resumen de indicadores HSE'!M19:M20,\">=0\"),\"-\")","v":"-"},{"$f":"+IFERROR(AVERAGEIFS('Resumen de indicadores HSE'!N19:N20,'Resumen de indicadores HSE'!N19:N20,\">=0\"),\"-\")","v":"-"},{"$f":"+IFERROR(AVERAGEIFS('Resumen de indicadores HSE'!O19:O20,'Resumen de indicadores HSE'!O19:O20,\">=0\"),\"-\")","v":"-"},{"$f":"+IFERROR(AVERAGEIFS('Resumen de indicadores HSE'!P19:P20,'Resumen de indicadores HSE'!P19:P20,\">=0\"),\"-\")","v":"-"},{"$f":"+IFERROR(AVERAGEIFS('Resumen de indicadores HSE'!Q19:Q20,'Resumen de indicadores HSE'!Q19:Q20,\">=0\"),\"-\")","v":"-"},{"$f":"+IFERROR(AVERAGEIFS('Resumen de indicadores HSE'!R19:R20,'Resumen de indicadores HSE'!R19:R20,\">=0\"),\"-\")","v":"-"},{"$f":"+IFERROR(AVERAGEIFS('Resumen de indicadores HSE'!S19:S20,'Resumen de indicadores HSE'!S19:S20,\">=0\"),\"-\")","v":"-"},{"$f":"+IFERROR(AVERAGEIFS('Resumen de indicadores HSE'!T19:T20,'Resumen de indicadores HSE'!T19:T20,\">=0\"),\"-\")","v":"-"},{"$f":"+IFERROR(AVERAGEIFS('Resumen de indicadores HSE'!U19:U20,'Resumen de indicadores HSE'!U19:U20,\">=0\"),\"-\")","v":"-"},{"$f":"+IFERROR(AVERAGEIFS('Resumen de indicadores HSE'!V19:V20,'Resumen de indicadores HSE'!V19:V20,\">=0\"),\"-\")","v":"-"},{"$f":"+IFERROR(AVERAGEIFS('Resumen de indicadores HSE'!W19:W20,'Resumen de indicadores HSE'!W19:W20,\">=0\"),\"-\")","v":"-"},{"$f":"+IFERROR(AVERAGEIFS('Resumen de indicadores HSE'!X19:X20,'Resumen de indicadores HSE'!X19:X20,\">=0\"),\"-\")","v":"-"},{"$f":"+IFERROR(AVERAGEIFS('Resumen de indicadores HSE'!Y19:Y20,'Resumen de indicadores HSE'!Y19:Y20,\">=0\"),\"-\")","v":"-"},{"$f":"+IFERROR(AVERAGEIFS('Resumen de indicadores HSE'!Z19:Z20,'Resumen de indicadores HSE'!Z19:Z20,\">=0\"),\"-\")","v":"-"},{"$f":"+IFERROR(AVERAGEIFS('Resumen de indicadores HSE'!AA19:AA20,'Resumen de indicadores HSE'!AA19:AA20,\">=0\"),\"-\")","v":"-"},{"$f":"+IFERROR(AVERAGEIFS('Resumen de indicadores HSE'!AB19:AB20,'Resumen de indicadores HSE'!AB19:AB20,\">=0\"),\"-\")","v":"-"},{"$f":"+IFERROR(AVERAGEIFS('Resumen de indicadores HSE'!AC19:AC20,'Resumen de indicadores HSE'!AC19:AC20,\">=0\"),\"-\")","v":"-"},{"$f":"+IFERROR(AVERAGEIFS('Resumen de indicadores HSE'!AD19:AD20,'Resumen de indicadores HSE'!AD19:AD20,\">=0\"),\"-\")","v":"-"},{"$f":"+IFERROR(AVERAGEIFS('Resumen de indicadores HSE'!AE19:AE20,'Resumen de indicadores HSE'!AE19:AE20,\">=0\"),\"-\")","v":"-"},{"$f":"+IFERROR(AVERAGEIFS('Resumen de indicadores HSE'!AF19:AF20,'Resumen de indicadores HSE'!AF19:AF20,\">=0\"),\"-\")","v":"-"},{"$f":"+IFERROR(AVERAGEIFS('Resumen de indicadores HSE'!AG19:AG20,'Resumen de indicadores HSE'!AG19:AG20,\">=0\"),\"-\")","v":"-"},{"$f":"+IFERROR(AVERAGEIFS('Resumen de indicadores HSE'!AH19:AH20,'Resumen de indicadores HSE'!AH19:AH20,\">=0\"),\"-\")","v":"-"},{"$f":"+IFERROR(AVERAGEIFS('Resumen de indicadores HSE'!AI19:AI20,'Resumen de indicadores HSE'!AI19:AI20,\">=0\"),\"-\")","v":"-"},{"$f":"+IFERROR(AVERAGEIFS('Resumen de indicadores HSE'!AJ19:AJ20,'Resumen de indicadores HSE'!AJ19:AJ20,\">=0\"),\"-\")","v":"-"},{"$f":"+IFERROR(AVERAGEIFS('Resumen de indicadores HSE'!AK19:AK20,'Resumen de indicadores HSE'!AK19:AK20,\">=0\"),\"-\")","v":"-"},{"$f":"+IFERROR(AVERAGEIFS('Resumen de indicadores HSE'!AL19:AL20,'Resumen de indicadores HSE'!AL19:AL20,\">=0\"),\"-\")","v":"-"},{"$f":"+IFERROR(AVERAGEIFS('Resumen de indicadores HSE'!AM19:AM20,'Resumen de indicadores HSE'!AM19:AM20,\">=0\"),\"-\")","v":"-"},{"$f":"+IFERROR(AVERAGEIFS('Resumen de indicadores HSE'!AN19:AN20,'Resumen de indicadores HSE'!AN19:AN20,\">=0\"),\"-\")","v":"-"},{"$f":"+IFERROR(AVERAGEIFS('Resumen de indicadores HSE'!AO19:AO20,'Resumen de indicadores HSE'!AO19:AO20,\">=0\"),\"-\")","v":"-"},{"$f":"+IFERROR(AVERAGEIFS('Resumen de indicadores HSE'!AP19:AP20,'Resumen de indicadores HSE'!AP19:AP20,\">=0\"),\"-\")","v":"-"},{"$f":"+IFERROR(AVERAGEIFS('Resumen de indicadores HSE'!AQ19:AQ20,'Resumen de indicadores HSE'!AQ19:AQ20,\">=0\"),\"-\")","v":"-"},{"$f":"+IFERROR(AVERAGEIFS('Resumen de indicadores HSE'!AR19:AR20,'Resumen de indicadores HSE'!AR19:AR20,\">=0\"),\"-\")","v":"-"},{"$f":"+IFERROR(AVERAGEIFS('Resumen de indicadores HSE'!AS19:AS20,'Resumen de indicadores HSE'!AS19:AS20,\">=0\"),\"-\")","v":"-"},{"$f":"+IFERROR(AVERAGEIFS('Resumen de indicadores HSE'!AT19:AT20,'Resumen de indicadores HSE'!AT19:AT20,\">=0\"),\"-\")","v":"-"},{"$f":"+IFERROR(AVERAGEIFS('Resumen de indicadores HSE'!AU19:AU20,'Resumen de indicadores HSE'!AU19:AU20,\">=0\"),\"-\")","v":"-"},{"$f":"+IFERROR(AVERAGEIFS('Resumen de indicadores HSE'!AV19:AV20,'Resumen de indicadores HSE'!AV19:AV20,\">=0\"),\"-\")","v":"-"},{"$f":"+IFERROR(AVERAGEIFS('Resumen de indicadores HSE'!AW19:AW20,'Resumen de indicadores HSE'!AW19:AW20,\">=0\"),\"-\")","v":"-"},{"$f":"+IFERROR(AVERAGEIFS('Resumen de indicadores HSE'!AX19:AX20,'Resumen de indicadores HSE'!AX19:AX20,\">=0\"),\"-\")","v":"-"},{"$f":"+IFERROR(AVERAGEIFS('Resumen de indicadores HSE'!AY19:AY20,'Resumen de indicadores HSE'!AY19:AY20,\">=0\"),\"-\")","v":"-"},{"$f":"+IFERROR(AVERAGEIFS('Resumen de indicadores HSE'!AZ19:AZ20,'Resumen de indicadores HSE'!AZ19:AZ20,\">=0\"),\"-\")","v":"-"},{"$f":"+IFERROR(AVERAGEIFS('Resumen de indicadores HSE'!BA19:BA20,'Resumen de indicadores HSE'!BA19:BA20,\">=0\"),\"-\")","v":"-"},{"$f":"+IFERROR(AVERAGEIFS('Resumen de indicadores HSE'!BB19:BB20,'Resumen de indicadores HSE'!BB19:BB20,\">=0\"),\"-\")","v":"-"},{"$f":"+IFERROR(AVERAGEIFS('Resumen de indicadores HSE'!BC19:BC20,'Resumen de indicadores HSE'!BC19:BC20,\">=0\"),\"-\")","v":"-"},{"$f":"+IFERROR(AVERAGEIFS('Resumen de indicadores HSE'!BD19:BD20,'Resumen de indicadores HSE'!BD19:BD20,\">=0\"),\"-\")","v":"-"},{"$f":"+IFERROR(AVERAGEIFS('Resumen de indicadores HSE'!BE19:BE20,'Resumen de indicadores HSE'!BE19:BE20,\">=0\"),\"-\")","v":"-"}]
[null,"HSE","Resolución de Conflictos","-",null,{"$f":"+IFERROR(AVERAGEIFS('Resumen de indicadores HSE'!H21:H22,'Resumen de indicadores HSE'!H21:H22,\">=0\"),\"-\")","v":"-"},{"$f":"+IFERROR(AVERAGEIFS('Resumen de indicadores HSE'!I21:I22,'Resumen de indicadores HSE'!I21:I22,\">=0\"),\"-\")","v":"-"},{"$f":"+IFERROR(AVERAGEIFS('Resumen de indicadores HSE'!J21:J22,'Resumen de indicadores HSE'!J21:J22,\">=0\"),\"-\")","v":"-"},{"$f":"+IFERROR(AVERAGEIFS('Resumen de indicadores HSE'!K21:K22,'Resumen de indicadores HSE'!K21:K22,\">=0\"),\"-\")","v":"-"},{"$f":"+IFERROR(AVERAGEIFS('Resumen de indicadores HSE'!L21:L22,'Resumen de indicadores HSE'!L21:L22,\">=0\"),\"-\")","v":"-"},{"$f":"+IFERROR(AVERAGEIFS('Resumen de indicadores HSE'!M21:M22,'Resumen de indicadores HSE'!M21:M22,\">=0\"),\"-\")","v":"-"},{"$f":"+IFERROR(AVERAGEIFS('Resumen de indicadores HSE'!N21:N22,'Resumen de indicadores HSE'!N21:N22,\">=0\"),\"-\")","v":"-"},{"$f":"+IFERROR(AVERAGEIFS('Resumen de indicadores HSE'!O21:O22,'Resumen de indicadores HSE'!O21:O22,\">=0\"),\"-\")","v":"-"},{"$f":"+IFERROR(AVERAGEIFS('Resumen de indicadores HSE'!P21:P22,'Resumen de indicadores HSE'!P21:P22,\">=0\"),\"-\")","v":"-"},{"$f":"+IFERROR(AVERAGEIFS('Resumen de indicadores HSE'!Q21:Q22,'Resumen de indicadores HSE'!Q21:Q22,\">=0\"),\"-\")","v":"-"},{"$f":"+IFERROR(AVERAGEIFS('Resumen de indicadores HSE'!R21:R22,'Resumen de indicadores HSE'!R21:R22,\">=0\"),\"-\")","v":"-"},{"$f":"+IFERROR(AVERAGEIFS('Resumen de indicadores HSE'!S21:S22,'Resumen de indicadores HSE'!S21:S22,\">=0\"),\"-\")","v":"-"},{"$f":"+IFERROR(AVERAGEIFS('Resumen de indicadores HSE'!T21:T22,'Resumen de indicadores HSE'!T21:T22,\">=0\"),\"-\")","v":"-"},{"$f":"+IFERROR(AVERAGEIFS('Resumen de indicadores HSE'!U21:U22,'Resumen de indicadores HSE'!U21:U22,\">=0\"),\"-\")","v":"-"},{"$f":"+IFERROR(AVERAGEIFS('Resumen de indicadores HSE'!V21:V22,'Resumen de indicadores HSE'!V21:V22,\">=0\"),\"-\")","v":"-"},{"$f":"+IFERROR(AVERAGEIFS('Resumen de indicadores HSE'!W21:W22,'Resumen de indicadores HSE'!W21:W22,\">=0\"),\"-\")","v":"-"},{"$f":"+IFERROR(AVERAGEIFS('Resumen de indicadores HSE'!X21:X22,'Resumen de indicadores HSE'!X21:X22,\">=0\"),\"-\")","v":"-"},{"$f":"+IFERROR(AVERAGEIFS('Resumen de indicadores HSE'!Y21:Y22,'Resumen de indicadores HSE'!Y21:Y22,\">=0\"),\"-\")","v":"-"},{"$f":"+IFERROR(AVERAGEIFS('Resumen de indicadores HSE'!Z21:Z22,'Resumen de indicadores HSE'!Z21:Z22,\">=0\"),\"-\")","v":"-"},{"$f":"+IFERROR(AVERAGEIFS('Resumen de indicadores HSE'!AA21:AA22,'Resumen de indicadores HSE'!AA21:AA22,\">=0\"),\"-\")","v":"-"},{"$f":"+IFERROR(AVERAGEIFS('Resumen de indicadores HSE'!AB21:AB22,'Resumen de indicadores HSE'!AB21:AB22,\">=0\"),\"-\")","v":"-"},{"$f":"+IFERROR(AVERAGEIFS('Resumen de indicadores HSE'!AC21:AC22,'Resumen de indicadores HSE'!AC21:AC22,\">=0\"),\"-\")","v":"-"},{"$f":"+IFERROR(AVERAGEIFS('Resumen de indicadores HSE'!AD21:AD22,'Resumen de indicadores HSE'!AD21:AD22,\">=0\"),\"-\")","v":"-"},{"$f":"+IFERROR(AVERAGEIFS('Resumen de indicadores HSE'!AE21:AE22,'Resumen de indicadores HSE'!AE21:AE22,\">=0\"),\"-\")","v":"-"},{"$f":"+IFERROR(AVERAGEIFS('Resumen de indicadores HSE'!AF21:AF22,'Resumen de indicadores HSE'!AF21:AF22,\">=0\"),\"-\")","v":"-"},{"$f":"+IFERROR(AVERAGEIFS('Resumen de indicadores HSE'!AG21:AG22,'Resumen de indicadores HSE'!AG21:AG22,\">=0\"),\"-\")","v":"-"},{"$f":"+IFERROR(AVERAGEIFS('Resumen de indicadores HSE'!AH21:AH22,'Resumen de indicadores HSE'!AH21:AH22,\">=0\"),\"-\")","v":"-"},{"$f":"+IFERROR(AVERAGEIFS('Resumen de indicadores HSE'!AI21:AI22,'Resumen de indicadores HSE'!AI21:AI22,\">=0\"),\"-\")","v":"-"},{"$f":"+IFERROR(AVERAGEIFS('Resumen de indicadores HSE'!AJ21:AJ22,'Resumen de indicadores HSE'!AJ21:AJ22,\">=0\"),\"-\")","v":"-"},{"$f":"+IFERROR(AVERAGEIFS('Resumen de indicadores HSE'!AK21:AK22,'Resumen de indicadores HSE'!AK21:AK22,\">=0\"),\"-\")","v":"-"},{"$f":"+IFERROR(AVERAGEIFS('Resumen de indicadores HSE'!AL21:AL22,'Resumen de indicadores HSE'!AL21:AL22,\">=0\"),\"-\")","v":"-"},{"$f":"+IFERROR(AVERAGEIFS('Resumen de indicadores HSE'!AM21:AM22,'Resumen de indicadores HSE'!AM21:AM22,\">=0\"),\"-\")","v":"-"},{"$f":"+IFERROR(AVERAGEIFS('Resumen de indicadores HSE'!AN21:AN22,'Resumen de indicadores HSE'!AN21:AN22,\">=0\"),\"-\")","v":"-"},{"$f":"+IFERROR(AVERAGEIFS('Resumen de indicadores HSE'!AO21:AO22,'Resumen de indicadores HSE'!AO21:AO22,\">=0\"),\"-\")","v":"-"},{"$f":"+IFERROR(AVERAGEIFS('Resumen de indicadores HSE'!AP21:AP22,'Resumen de indicadores HSE'!AP21:AP22,\">=0\"),\"-\")","v":"-"},{"$f":"+IFERROR(AVERAGEIFS('Resumen de indicadores HSE'!AQ21:AQ22,'Resumen de indicadores HSE'!AQ21:AQ22,\">=0\"),\"-\")","v":"-"},{"$f":"+IFERROR(AVERAGEIFS('Resumen de indicadores HSE'!AR21:AR22,'Resumen de indicadores HSE'!AR21:AR22,\">=0\"),\"-\")","v":"-"},{"$f":"+IFERROR(AVERAGEIFS('Resumen de indicadores HSE'!AS21:AS22,'Resumen de indicadores HSE'!AS21:AS22,\">=0\"),\"-\")","v":"-"},{"$f":"+IFERROR(AVERAGEIFS('Resumen de indicadores HSE'!AT21:AT22,'Resumen de indicadores HSE'!AT21:AT22,\">=0\"),\"-\")","v":"-"},{"$f":"+IFERROR(AVERAGEIFS('Resumen de indicadores HSE'!AU21:AU22,'Resumen de indicadores HSE'!AU21:AU22,\">=0\"),\"-\")","v":"-"},{"$f":"+IFERROR(AVERAGEIFS('Resumen de indicadores HSE'!AV21:AV22,'Resumen de indicadores HSE'!AV21:AV22,\">=0\"),\"-\")","v":"-"},{"$f":"+IFERROR(AVERAGEIFS('Resumen de indicadores HSE'!AW21:AW22,'Resumen de indicadores HSE'!AW21:AW22,\">=0\"),\"-\")","v":"-"},{"$f":"+IFERROR(AVERAGEIFS('Resumen de indicadores HSE'!AX21:AX22,'Resumen de indicadores HSE'!AX21:AX22,\">=0\"),\"-\")","v":"-"},{"$f":"+IFERROR(AVERAGEIFS('Resumen de indicadores HSE'!AY21:AY22,'Resumen de indicadores HSE'!AY21:AY22,\">=0\"),\"-\")","v":"-"},{"$f":"+IFERROR(AVERAGEIFS('Resumen de indicadores HSE'!AZ21:AZ22,'Resumen de indicadores HSE'!AZ21:AZ22,\">=0\"),\"-\")","v":"-"},{"$f":"+IFERROR(AVERAGEIFS('Resumen de indicadores HSE'!BA21:BA22,'Resumen de indicadores HSE'!BA21:BA22,\">=0\"),\"-\")","v":"-"},{"$f":"+IFERROR(AVERAGEIFS('Resumen de indicadores HSE'!BB21:BB22,'Resumen de indicadores HSE'!BB21:BB22,\">=0\"),\"-\")","v":"-"},{"$f":"+IFERROR(AVERAGEIFS('Resumen de indicadores HSE'!BC21:BC22,'Resumen de indicadores HSE'!BC21:BC22,\">=0\"),\"-\")","v":"-"},{"$f":"+IFERROR(AVERAGEIFS('Resumen de indicadores HSE'!BD21:BD22,'Resumen de indicadores HSE'!BD21:BD22,\">=0\"),\"-\")","v":"-"},{"$f":"+IFERROR(AVERAGEIFS('Resumen de indicadores HSE'!BE21:BE22,'Resumen de indicadores HSE'!BE21:BE22,\">=0\"),\"-\")","v":"-"}]
[null,"HSE","Conciencia Social","-",null,{"$f":"+IFERROR(AVERAGEIFS('Resumen de indicadores HSE'!H23:H24,'Resumen de indicadores HSE'!H23:H24,\">=0\"),\"-\")","v":"-"},{"$f":"+IFERROR(AVERAGEIFS('Resumen de indicadores HSE'!I23:I24,'Resumen de indicadores HSE'!I23:I24,\">=0\"),\"-\")","v":"-"},{"$f":"+IFERROR(AVERAGEIFS('Resumen de indicadores HSE'!J23:J24,'Resumen de indicadores HSE'!J23:J24,\">=0\"),\"-\")","v":"-"},{"$f":"+IFERROR(AVERAGEIFS('Resumen de indicadores HSE'!K23:K24,'Resumen de indicadores HSE'!K23:K24,\">=0\"),\"-\")","v":"-"},{"$f":"+IFERROR(AVERAGEIFS('Resumen de indicadores HSE'!L23:L24,'Resumen de indicadores HSE'!L23:L24,\">=0\"),\"-\")","v":"-"},{"$f":"+IFERROR(AVERAGEIFS('Resumen de indicadores HSE'!M23:M24,'Resumen de indicadores HSE'!M23:M24,\">=0\"),\"-\")","v":"-"},{"$f":"+IFERROR(AVERAGEIFS('Resumen de indicadores HSE'!N23:N24,'Resumen de indicadores HSE'!N23:N24,\">=0\"),\"-\")","v":"-"},{"$f":"+IFERROR(AVERAGEIFS('Resumen de indicadores HSE'!O23:O24,'Resumen de indicadores HSE'!O23:O24,\">=0\"),\"-\")","v":"-"},{"$f":"+IFERROR(AVERAGEIFS('Resumen de indicadores HSE'!P23:P24,'Resumen de indicadores HSE'!P23:P24,\">=0\"),\"-\")","v":"-"},{"$f":"+IFERROR(AVERAGEIFS('Resumen de indicadores HSE'!Q23:Q24,'Resumen de indicadores HSE'!Q23:Q24,\">=0\"),\"-\")","v":"-"},{"$f":"+IFERROR(AVERAGEIFS('Resumen de indicadores HSE'!R23:R24,'Resumen de indicadores HSE'!R23:R24,\">=0\"),\"-\")","v":"-"},{"$f":"+IFERROR(AVERAGEIFS('Resumen de indicadores HSE'!S23:S24,'Resumen de indicadores HSE'!S23:S24,\">=0\"),\"-\")","v":"-"},{"$f":"+IFERROR(AVERAGEIFS('Resumen de indicadores HSE'!T23:T24,'Resumen de indicadores HSE'!T23:T24,\">=0\"),\"-\")","v":"-"},{"$f":"+IFERROR(AVERAGEIFS('Resumen de indicadores HSE'!U23:U24,'Resumen de indicadores HSE'!U23:U24,\">=0\"),\"-\")","v":"-"},{"$f":"+IFERROR(AVERAGEIFS('Resumen de indicadores HSE'!V23:V24,'Resumen de indicadores HSE'!V23:V24,\">=0\"),\"-\")","v":"-"},{"$f":"+IFERROR(AVERAGEIFS('Resumen de indicadores HSE'!W23:W24,'Resumen de indicadores HSE'!W23:W24,\">=0\"),\"-\")","v":"-"},{"$f":"+IFERROR(AVERAGEIFS('Resumen de indicadores HSE'!X23:X24,'Resumen de indicadores HSE'!X23:X24,\">=0\"),\"-\")","v":"-"},{"$f":"+IFERROR(AVERAGEIFS('Resumen de indicadores HSE'!Y23:Y24,'Resumen de indicadores HSE'!Y23:Y24,\">=0\"),\"-\")","v":"-"},{"$f":"+IFERROR(AVERAGEIFS('Resumen de indicadores HSE'!Z23:Z24,'Resumen de indicadores HSE'!Z23:Z24,\">=0\"),\"-\")","v":"-"},{"$f":"+IFERROR(AVERAGEIFS('Resumen de indicadores HSE'!AA23:AA24,'Resumen de indicadores HSE'!AA23:AA24,\">=0\"),\"-\")","v":"-"},{"$f":"+IFERROR(AVERAGEIFS('Resumen de indicadores HSE'!AB23:AB24,'Resumen de indicadores HSE'!AB23:AB24,\">=0\"),\"-\")","v":"-"},{"$f":"+IFERROR(AVERAGEIFS('Resumen de indicadores HSE'!AC23:AC24,'Resumen de indicadores HSE'!AC23:AC24,\">=0\"),\"-\")","v":"-"},{"$f":"+IFERROR(AVERAGEIFS('Resumen de indicadores HSE'!AD23:AD24,'Resumen de indicadores HSE'!AD23:AD24,\">=0\"),\"-\")","v":"-"},{"$f":"+IFERROR(AVERAGEIFS('Resumen de indicadores HSE'!AE23:AE24,'Resumen de indicadores HSE'!AE23:AE24,\">=0\"),\"-\")","v":"-"},{"$f":"+IFERROR(AVERAGEIFS('Resumen de indicadores HSE'!AF23:AF24,'Resumen de indicadores HSE'!AF23:AF24,\">=0\"),\"-\")","v":"-"},{"$f":"+IFERROR(AVERAGEIFS('Resumen de indicadores HSE'!AG23:AG24,'Resumen de indicadores HSE'!AG23:AG24,\">=0\"),\"-\")","v":"-"},{"$f":"+IFERROR(AVERAGEIFS('Resumen de indicadores HSE'!AH23:AH24,'Resumen de indicadores HSE'!AH23:AH24,\">=0\"),\"-\")","v":"-"},{"$f":"+IFERROR(AVERAGEIFS('Resumen de indicadores HSE'!AI23:AI24,'Resumen de indicadores HSE'!AI23:AI24,\">=0\"),\"-\")","v":"-"},{"$f":"+IFERROR(AVERAGEIFS('Resumen de indicadores HSE'!AJ23:AJ24,'Resumen de indicadores HSE'!AJ23:AJ24,\">=0\"),\"-\")","v":"-"},{"$f":"+IFERROR(AVERAGEIFS('Resumen de indicadores HSE'!AK23:AK24,'Resumen de indicadores HSE'!AK23:AK24,\">=0\"),\"-\")","v":"-"},{"$f":"+IFERROR(AVERAGEIFS('Resumen de indicadores HSE'!AL23:AL24,'Resumen de indicadores HSE'!AL23:AL24,\">=0\"),\"-\")","v":"-"},{"$f":"+IFERROR(AVERAGEIFS('Resumen de indicadores HSE'!AM23:AM24,'Resumen de indicadores HSE'!AM23:AM24,\">=0\"),\"-\")","v":"-"},{"$f":"+IFERROR(AVERAGEIFS('Resumen de indicadores HSE'!AN23:AN24,'Resumen de indicadores HSE'!AN23:AN24,\">=0\"),\"-\")","v":"-"},{"$f":"+IFERROR(AVERAGEIFS('Resumen de indicadores HSE'!AO23:AO24,'Resumen de indicadores HSE'!AO23:AO24,\">=0\"),\"-\")","v":"-"},{"$f":"+IFERROR(AVERAGEIFS('Resumen de indicadores HSE'!AP23:AP24,'Resumen de indicadores HSE'!AP23:AP24,\">=0\"),\"-\")","v":"-"},{"$f":"+IFERROR(AVERAGEIFS('Resumen de indicadores HSE'!AQ23:AQ24,'Resumen de indicadores HSE'!AQ23:AQ24,\">=0\"),\"-\")","v":"-"},{"$f":"+IFERROR(AVERAGEIFS('Resumen de indicadores HSE'!AR23:AR24,'Resumen de indicadores HSE'!AR23:AR24,\">=0\"),\"-\")","v":"-"},{"$f":"+IFERROR(AVERAGEIFS('Resumen de indicadores HSE'!AS23:AS24,'Resumen de indicadores HSE'!AS23:AS24,\">=0\"),\"-\")","v":"-"},{"$f":"+IFERROR(AVERAGEIFS('Resumen de indicadores HSE'!AT23:AT24,'Resumen de indicadores HSE'!AT23:AT24,\">=0\"),\"-\")","v":"-"},{"$f":"+IFERROR(AVERAGEIFS('Resumen de indicadores HSE'!AU23:AU24,'Resumen de indicadores HSE'!AU23:AU24,\">=0\"),\"-\")","v":"-"},{"$f":"+IFERROR(AVERAGEIFS('Resumen de indicadores HSE'!AV23:AV24,'Resumen de indicadores HSE'!AV23:AV24,\">=0\"),\"-\")","v":"-"},{"$f":"+IFERROR(AVERAGEIFS('Resumen de indicadores HSE'!AW23:AW24,'Resumen de indicadores HSE'!AW23:AW24,\">=0\"),\"-\")","v":"-"},{"$f":"+IFERROR(AVERAGEIFS('Resumen de indicadores HSE'!AX23:AX24,'Resumen de indicadores HSE'!AX23:AX24,\">=0\"),\"-\")","v":"-"},{"$f":"+IFERROR(AVERAGEIFS('Resumen de indicadores HSE'!AY23:AY24,'Resumen de indicadores HSE'!AY23:AY24,\">=0\"),\"-\")","v":"-"},{"$f":"+IFERROR(AVERAGEIFS('Resumen de indicadores HSE'!AZ23:AZ24,'Resumen de indicadores HSE'!AZ23:AZ24,\">=0\"),\"-\")","v":"-"},{"$f":"+IFERROR(AVERAGEIFS('Resumen de indicadores HSE'!BA23:BA24,'Resumen de indicadores HSE'!BA23:BA24,\">=0\"),\"-\")","v":"-"},{"$f":"+IFERROR(AVERAGEIFS('Resumen de indicadores HSE'!BB23:BB24,'Resumen de indicadores HSE'!BB23:BB24,\">=0\"),\"-\")","v":"-"},{"$f":"+IFERROR(AVERAGEIFS('Resumen de indicadores HSE'!BC23:BC24,'Resumen de indicadores HSE'!BC23:BC24,\">=0\"),\"-\")","v":"-"},{"$f":"+IFERROR(AVERAGEIFS('Resumen de indicadores HSE'!BD23:BD24,'Resumen de indicadores HSE'!BD23:BD24,\">=0\"),\"-\")","v":"-"},{"$f":"+IFERROR(AVERAGEIFS('Resumen de indicadores HSE'!BE23:BE24,'Resumen de indicadores HSE'!BE23:BE24,\">=0\"),\"-\")","v":"-"}]
[null,"HSE","Comportamiento Prosocial","-",null,{"$f":"+IFERROR(AVERAGEIFS('Resumen de indicadores HSE'!H25,'Resumen de indicadores HSE'!H25,\">=0\"),\"-\")","v":"-"},{"$f":"+IFERROR(AVERAGEIFS('Resumen de indicadores HSE'!I25,'Resumen de indicadores HSE'!I25,\">=0\"),\"-\")","v":"-"},{"$f":"+IFERROR(AVERAGEIFS('Resumen de indicadores HSE'!J25,'Resumen de indicadores HSE'!J25,\">=0\"),\"-\")","v":"-"},{"$f":"+IFERROR(AVERAGEIFS('Resumen de indicadores HSE'!K25,'Resumen de indicadores HSE'!K25,\">=0\"),\"-\")","v":"-"},{"$f":"+IFERROR(AVERAGEIFS('Resumen de indicadores HSE'!L25,'Resumen de indicadores HSE'!L25,\">=0\"),\"-\")","v":"-"},{"$f":"+IFERROR(AVERAGEIFS('Resumen de indicadores HSE'!M25,'Resumen de indicadores HSE'!M25,\">=0\"),\"-\")","v":"-"},{"$f":"+IFERROR(AVERAGEIFS('Resumen de indicadores HSE'!N25,'Resumen de indicadores HSE'!N25,\">=0\"),\"-\")","v":"-"},{"$f":"+IFERROR(AVERAGEIFS('Resumen de indicadores HSE'!O25,'Resumen de indicadores HSE'!O25,\">=0\"),\"-\")","v":"-"},{"$f":"+IFERROR(AVERAGEIFS('Resumen de indicadores HSE'!P25,'Resumen de indicadores HSE'!P25,\">=0\"),\"-\")","v":"-"},{"$f":"+IFERROR(AVERAGEIFS('Resumen de indicadores HSE'!Q25,'Resumen de indicadores HSE'!Q25,\">=0\"),\"-\")","v":"-"},{"$f":"+IFERROR(AVERAGEIFS('Resumen de indicadores HSE'!R25,'Resumen de indicadores HSE'!R25,\">=0\"),\"-\")","v":"-"},{"$f":"+IFERROR(AVERAGEIFS('Resumen de indicadores HSE'!S25,'Resumen de indicadores HSE'!S25,\">=0\"),\"-\")","v":"-"},{"$f":"+IFERROR(AVERAGEIFS('Resumen de indicadores HSE'!T25,'Resumen de indicadores HSE'!T25,\">=0\"),\"-\")","v":"-"},{"$f":"+IFERROR(AVERAGEIFS('Resumen de indicadores HSE'!U25,'Resumen de indicadores HSE'!U25,\">=0\"),\"-\")","v":"-"},{"$f":"+IFERROR(AVERAGEIFS('Resumen de indicadores HSE'!V25,'Resumen de indicadores HSE'!V25,\">=0\"),\"-\")","v":"-"},{"$f":"+IFERROR(AVERAGEIFS('Resumen de indicadores HSE'!W25,'Resumen de indicadores HSE'!W25,\">=0\"),\"-\")","v":"-"},{"$f":"+IFERROR(AVERAGEIFS('Resumen de indicadores HSE'!X25,'Resumen de indicadores HSE'!X25,\">=0\"),\"-\")","v":"-"},{"$f":"+IFERROR(AVERAGEIFS('Resumen de indicadores HSE'!Y25,'Resumen de indicadores HSE'!Y25,\">=0\"),\"-\")","v":"-"},{"$f":"+IFERROR(AVERAGEIFS('Resumen de indicadores HSE'!Z25,'Resumen de indicadores HSE'!Z25,\">=0\"),\"-\")","v":"-"},{"$f":"+IFERROR(AVERAGEIFS('Resumen de indicadores HSE'!AA25,'Resumen de indicadores HSE'!AA25,\">=0\"),\"-\")","v":"-"},{"$f":"+IFERROR(AVERAGEIFS('Resumen de indicadores HSE'!AB25,'Resumen de indicadores HSE'!AB25,\">=0\"),\"-\")","v":"-"},{"$f":"+IFERROR(AVERAGEIFS('Resumen de indicadores HSE'!AC25,'Resumen de indicadores HSE'!AC25,\">=0\"),\"-\")","v":"-"},{"$f":"+IFERROR(AVERAGEIFS('Resumen de indicadores HSE'!AD25,'Resumen de indicadores HSE'!AD25,\">=0\"),\"-\")","v":"-"},{"$f":"+IFERROR(AVERAGEIFS('Resumen de indicadores HSE'!AE25,'Resumen de indicadores HSE'!AE25,\">=0\"),\"-\")","v":"-"},{"$f":"+IFERROR(AVERAGEIFS('Resumen de indicadores HSE'!AF25,'Resumen de indicadores HSE'!AF25,\">=0\"),\"-\")","v":"-"},{"$f":"+IFERROR(AVERAGEIFS('Resumen de indicadores HSE'!AG25,'Resumen de indicadores HSE'!AG25,\">=0\"),\"-\")","v":"-"},{"$f":"+IFERROR(AVERAGEIFS('Resumen de indicadores HSE'!AH25,'Resumen de indicadores HSE'!AH25,\">=0\"),\"-\")","v":"-"},{"$f":"+IFERROR(AVERAGEIFS('Resumen de indicadores HSE'!AI25,'Resumen de indicadores HSE'!AI25,\">=0\"),\"-\")","v":"-"},{"$f":"+IFERROR(AVERAGEIFS('Resumen de indicadores HSE'!AJ25,'Resumen de indicadores HSE'!AJ25,\">=0\"),\"-\")","v":"-"},{"$f":"+IFERROR(AVERAGEIFS('Resumen de indicadores HSE'!AK25,'Resumen de indicadores HSE'!AK25,\">=0\"),\"-\")","v":"-"},{"$f":"+IFERROR(AVERAGEIFS('Resumen de indicadores HSE'!AL25,'Resumen de indicadores HSE'!AL25,\">=0\"),\"-\")","v":"-"},{"$f":"+IFERROR(AVERAGEIFS('Resumen de indicadores HSE'!AM25,'Resumen de indicadores HSE'!AM25,\">=0\"),\"-\")","v":"-"},{"$f":"+IFERROR(AVERAGEIFS('Resumen de indicadores HSE'!AN25,'Resumen de indicadores HSE'!AN25,\">=0\"),\"-\")","v":"-"},{"$f":"+IFERROR(AVERAGEIFS('Resumen de indicadores HSE'!AO25,'Resumen de indicadores HSE'!AO25,\">=0\"),\"-\")","v":"-"},{"$f":"+IFERROR(AVERAGEIFS('Resumen de indicadores HSE'!AP25,'Resumen de indicadores HSE'!AP25,\">=0\"),\"-\")","v":"-"},{"$f":"+IFERROR(AVERAGEIFS('Resumen de indicadores HSE'!AQ25,'Resumen de indicadores HSE'!AQ25,\">=0\"),\"-\")","v":"-"},{"$f":"+IFERROR(AVERAGEIFS('Resumen de indicadores HSE'!AR25,'Resumen de indicadores HSE'!AR25,\">=0\"),\"-\")","v":"-"},{"$f":"+IFERROR(AVERAGEIFS('Resumen de indicadores HSE'!AS25,'Resumen de indicadores HSE'!AS25,\">=0\"),\"-\")","v":"-"},{"$f":"+IFERROR(AVERAGEIFS('Resumen de indicadores HSE'!AT25,'Resumen de indicadores HSE'!AT25,\">=0\"),\"-\")","v":"-"},{"$f":"+IFERROR(AVERAGEIFS('Resumen de indicadores HSE'!AU25,'Resumen de indicadores HSE'!AU25,\">=0\"),\"-\")","v":"-"},{"$f":"+IFERROR(AVERAGEIFS('Resumen de indicadores HSE'!AV25,'Resumen de indicadores HSE'!AV25,\">=0\"),\"-\")","v":"-"},{"$f":"+IFERROR(AVERAGEIFS('Resumen de indicadores HSE'!AW25,'Resumen de indicadores HSE'!AW25,\">=0\"),\"-\")","v":"-"},{"$f":"+IFERROR(AVERAGEIFS('Resumen de indicadores HSE'!AX25,'Resumen de indicadores HSE'!AX25,\">=0\"),\"-\")","v":"-"},{"$f":"+IFERROR(AVERAGEIFS('Resumen de indicadores HSE'!AY25,'Resumen de indicadores HSE'!AY25,\">=0\"),\"-\")","v":"-"},{"$f":"+IFERROR(AVERAGEIFS('Resumen de indicadores HSE'!AZ25,'Resumen de indicadores HSE'!AZ25,\">=0\"),\"-\")","v":"-"},{"$f":"+IFERROR(AVERAGEIFS('Resumen de indicadores HSE'!BA25,'Resumen de indicadores HSE'!BA25,\">=0\"),\"-\")","v":"-"},{"$f":"+IFERROR(AVERAGEIFS('Resumen de indicadores HSE'!BB25,'Resumen de indicadores HSE'!BB25,\">=0\"),\"-\")","v":"-"},{"$f":"+IFERROR(AVERAGEIFS('Resumen de indicadores HSE'!BC25,'Resumen de indicadores HSE'!BC25,\">=0\"),\"-\")","v":"-"},{"$f":"+IFERROR(AVERAGEIFS('Resumen de indicadores HSE'!BD25,'Resumen de indicadores HSE'!BD25,\">=0\"),\"-\")","v":"-"},{"$f":"+IFERROR(AVERAGEIFS('Resumen de indicadores HSE'!BE25,'Resumen de indicadores HSE'!BE25,\">=0\"),\"-\")","v":"-"}]
[]
[null,null,null,"Indicadores",null,{"$f":"+F4","v":"Estudiante 1"},"Estudiante 2","Estudiante 3","Estudiante 4","Estudiante 5","Estudiante 6","Estudiante 7","Estudiante 8","Estudiante 9","Estudiante 10","Estudiante 11","Estudiante 12","Estudiante 13","Estudiante 14","Estudiante 15","Estudiante 16","Estudiante 17","Estudiante 18","Estudiante 19","Estudiante 20","Estudiante 21","Estudiante 22","Estudiante 23","Estudiante 24","Estudiante 25","Estudiante 26","Estudiante 27","Estudiante 28","Estudiante 29","Estudiante 30","Estudiante 31","Estudiante 32","Estudiante 33","Estudiante 34","Estudiante 35","Estudiante 36","Estudiante 37","Estudiante 38","Estudiante 39","Estudiante 40","Estudiante 41","Estudiante 42","Estudiante 43","Estudiante 44","Estudiante 45","Estudiante 46","Estudiante 47","Estudiante 48","Estudiante 49","Estudiante 50"]
[null,null,null,"Promedio Escala",null,{"$f":"IFERROR(AVERAGEIFS(F6:F18,F6:F18,\">=0\"),\"-\")","v":"-"},"-","-","-","-","-","-","-","-","-","-","-","-","-","-","-","-","-","-","-","-","-","-","-","-","-","-","-","-","-","-","-","-","-","-","-","-","-","-","-","-","-","-","-","-","-","-","-","-","-"]
[null,null,null,"En inicio",null,{"$f":"IF(ISNUMBER(F21),(COUNTIFS(F6:F18,\">=0\",F6:F18,\"<=0.25\")),0)","v":0},0,0,0,0,0,0,0,0,0,0,0,0,0,0,0,0,0,0,0,0,0,0,0,0,0,0,0,0,0,0,0,0,0,0,0,0,0,0,0,0,0,0,0,0,0,0,0,0,0]
[null,null,null,"En Proceso",null,{"$f":"IF(ISNUMBER(F21),(COUNTIFS(F6:F18,\">=0.26\",F6:F18,\"<=0.74\")),0)","v":0},0,0,0,0,0,0,0,0,0,0,0,0,0,0,0,0,0,0,0,0,0,0,0,0,0,0,0,0,0,0,0,0,0,0,0,0,0,0,0,0,0,0,0,0,0,0,0,0,0]
[null,null,null,"Satisfactorio",null,{"$f":"IF(ISNUMBER(F21),(COUNTIFS(F6:F18,\">=0.75\")),0)","v":0},0,0,0,0,0,0,0,0,0,0,0,0,0,0,0,0,0,0,0,0,0,0,0,0,0,0,0,0,0,0,0,0,0,0,0,0,0,0,0,0,0,0,0,0,0,0,0,0,0]
[null,null,null,"TOTAL",null,{"$f":"+SUM(F22:F24)","v":0},0,0,0,0,0,0,0,0,0,0,0,0,0,0,0,0,0,0,0,0,0,0,0,0,0,0,0,0,0,0,0,0,0,0,0,0,0,0,0,0,0,0,0,0,0,0,0,0,0]

{"sheet":"Resumen de indicadores FR","index":7,"n_rows":20,"n_cols":57,"rows_kept":20,"cut":false,"hidden":false,"merged":[[8,3,8,4],[9,3,9,4],[10,1,12,1],[10,2,12,2],[10,3,10,4],[11,3,11,4],[12,3,12,4],[3,3,3,4],[4,1,5,1],[4,2,5,2],[4,3,4,4],[5,3,5,4],[6,3,6,4],[7,3,7,4]]}
[]
[]
[]
[null,"Dimensión","Escala","Indicadores",null,"Puntaje Promedio del aula, por indicador",null,{"$f":"'BASE DE RESPUESTAS'!H5","v":"Estudiante 1"},{"$f":"'BASE DE RESPUESTAS'!I5","v":"Estudiante 2"},{"$f":"'BASE DE RESPUESTAS'!J5","v":"Estudiante 3"},{"$f":"'BASE DE RESPUESTAS'!K5","v":"Estudiante 4"},{"$f":"'BASE DE RESPUESTAS'!L5","v":"Estudiante 5"},{"$f":"'BASE DE RESPUESTAS'!M5","v":"Estudiante 6"},{"$f":"'BASE DE RESPUESTAS'!N5","v":"Estudiante 7"},{"$f":"'BASE DE RESPUESTAS'!O5","v":"Estudiante 8"},{"$f":"'BASE DE RESPUESTAS'!P5","v":"Estudiante 9"},{"$f":"'BASE DE RESPUESTAS'!Q5","v":"Estudiante 10"},{"$f":"'BASE DE RESPUESTAS'!R5","v":"Estudiante 11"},{"$f":"'BASE DE RESPUESTAS'!S5","v":"Estudiante 12"},{"$f":"'BASE DE RESPUESTAS'!T5","v":"Estudiante 13"},{"$f":"'BASE DE RESPUESTAS'!U5","v":"Estudiante 14"},{"$f":"'BASE DE RESPUESTAS'!V5","v":"Estudiante 15"},{"$f":"'BASE DE RESPUESTAS'!W5","v":"Estudiante 16"},{"$f":"'BASE DE RESPUESTAS'!X5","v":"Estudiante 17"},{"$f":"'BASE DE RESPUESTAS'!Y5","v":"Estudiante 18"},{"$f":"'BASE DE RESPUESTAS'!Z5","v":"Estudiante 19"},{"$f":"'BASE DE RESPUESTAS'!AA5","v":"Estudiante 20"},{"$f":"'BASE DE RESPUESTAS'!AB5","v":"Estudiante 21"},{"$f":"'BASE DE RESPUESTAS'!AC5","v":"Estudiante 22"},{"$f":"'BASE DE RESPUESTAS'!AD5","v":"Estudiante 23"},{"$f":"'BASE DE RESPUESTAS'!AE5","v":"Estudiante 24"},{"$f":"'BASE DE RESPUESTAS'!AF5","v":"Estudiante 25"},{"$f":"'BASE DE RESPUESTAS'!AG5","v":"Estudiante 26"},{"$f":"'BASE DE RESPUESTAS'!AH5","v":"Estudiante 27"},{"$f":"'BASE DE RESPUESTAS'!AI5","v":"Estudiante 28"},{"$f":"'BASE DE RESPUESTAS'!AJ5","v":"Estudiante 29"},{"$f":"'BASE DE RESPUESTAS'!AK5","v":"Estudiante 30"},{"$f":"'BASE DE RESPUESTAS'!AL5","v":"Estudiante 31"},{"$f":"'BASE DE RESPUESTAS'!AM5","v":"Estudiante 32"},{"$f":"'BASE DE RESPUESTAS'!AN5","v":"Estudiante 33"},{"$f":"'BASE DE RESPUESTAS'!AO5","v":"Estudiante 34"},{"$f":"'BASE DE RESPUESTAS'!AP5","v":"Estudiante 35"},{"$f":"'BASE DE RESPUESTAS'!AQ5","v":"Estudiante 36"},{"$f":"'BASE DE RESPUESTAS'!AR5","v":"Estudiante 37"},{"$f":"'BASE DE RESPUESTAS'!AS5","v":"Estudiante 38"},{"$f":"'BASE DE RESPUESTAS'!AT5","v":"Estudiante 39"},{"$f":"'BASE DE RESPUESTAS'!AU5","v":"Estudiante 40"},{"$f":"'BASE DE RESPUESTAS'!AV5","v":"Estudiante 41"},{"$f":"'BASE DE RESPUESTAS'!AW5","v":"Estudiante 42"},{"$f":"'BASE DE RESPUESTAS'!AX5","v":"Estudiante 43"},{"$f":"'BASE DE RESPUESTAS'!AY5","v":"Estudiante 44"},{"$f":"'BASE DE RESPUESTAS'!AZ5","v":"Estudiante 45"},{"$f":"'BASE DE RESPUESTAS'!BA5","v":"Estudiante 46"},{"$f":"'BASE DE RESPUESTAS'!BB5","v":"Estudiante 47"},{"$f":"'BASE DE RESPUESTAS'!BC5","v":"Estudiante 48"},{"$f":"'BASE DE RESPUESTAS'!BD5","v":"Estudiante 49"},{"$f":"'BASE DE RESPUESTAS'!BE5","v":"Estudiante 50"}]
[null,"FR","Dificultades para mantener la concentración","El o la estudiante interrumpe constantemente una actividad.",null,{"$f":"+IFERROR(AVERAGEIFS(H5:BE5,H5:BE5,\">=0\"),\"\")","v":""},null,{"$f":"+IFERROR((VLOOKUP('BASE DE RESPUESTAS'!H47,Back!$M$19:$N$20,2,0)),\"\")","v":""},{"$f":"+IFERROR((VLOOKUP('BASE DE RESPUESTAS'!I47,Back!$M$19:$N$20,2,0)),\"\")","v":""},{"$f":"+IFERROR((VLOOKUP('BASE DE RESPUESTAS'!J47,Back!$M$19:$N$20,2,0)),\"\")","v":""},{"$f":"+IFERROR((VLOOKUP('BASE DE RESPUESTAS'!K47,Back!$M$19:$N$20,2,0)),\"\")","v":""},{"$f":"+IFERROR((VLOOKUP('BASE DE RESPUESTAS'!L47,Back!$M$19:$N$20,2,0)),\"\")","v":""},{"$f":"+IFERROR((VLOOKUP('BASE DE RESPUESTAS'!M47,Back!$M$19:$N$20,2,0)),\"\")","v":""},{"$f":"+IFERROR((VLOOKUP('BASE DE RESPUESTAS'!N47,Back!$M$19:$N$20,2,0)),\"\")","v":""},{"$f":"+IFERROR((VLOOKUP('BASE DE RESPUESTAS'!O47,Back!$M$19:$N$20,2,0)),\"\")","v":""},{"$f":"+IFERROR((VLOOKUP('BASE DE RESPUESTAS'!P47,Back!$M$19:$N$20,2,0)),\"\")","v":""},{"$f":"+IFERROR((VLOOKUP('BASE DE RESPUESTAS'!Q47,Back!$M$19:$N$20,2,0)),\"\")","v":""},{"$f":"+IFERROR((VLOOKUP('BASE DE RESPUESTAS'!R47,Back!$M$19:$N$20,2,0)),\"\")","v":""},{"$f":"+IFERROR((VLOOKUP('BASE DE RESPUESTAS'!S47,Back!$M$19:$N$20,2,0)),\"\")","v":""},{"$f":"+IFERROR((VLOOKUP('BASE DE RESPUESTAS'!T47,Back!$M$19:$N$20,2,0)),\"\")","v":""},{"$f":"+IFERROR((VLOOKUP('BASE DE RESPUESTAS'!U47,Back!$M$19:$N$20,2,0)),\"\")","v":""},{"$f":"+IFERROR((VLOOKUP('BASE DE RESPUESTAS'!V47,Back!$M$19:$N$20,2,0)),\"\")","v":""},{"$f":"+IFERROR((VLOOKUP('BASE DE RESPUESTAS'!W47,Back!$M$19:$N$20,2,0)),\"\")","v":""},{"$f":"+IFERROR((VLOOKUP('BASE DE RESPUESTAS'!X47,Back!$M$19:$N$20,2,0)),\"\")","v":""},{"$f":"+IFERROR((VLOOKUP('BASE DE RESPUESTAS'!Y47,Back!$M$19:$N$20,2,0)),\"\")","v":""},{"$f":"+IFERROR((VLOOKUP('BASE DE RESPUESTAS'!Z47,Back!$M$19:$N$20,2,0)),\"\")","v":""},{"$f":"+IFERROR((VLOOKUP('BASE DE RESPUESTAS'!AA47,Back!$M$19:$N$20,2,0)),\"\")","v":""},{"$f":"+IFERROR((VLOOKUP('BASE DE RESPUESTAS'!AB47,Back!$M$19:$N$20,2,0)),\"\")","v":""},{"$f":"+IFERROR((VLOOKUP('BASE DE RESPUESTAS'!AC47,Back!$M$19:$N$20,2,0)),\"\")","v":""},{"$f":"+IFERROR((VLOOKUP('BASE DE RESPUESTAS'!AD47,Back!$M$19:$N$20,2,0)),\"\")","v":""},{"$f":"+IFERROR((VLOOKUP('BASE DE RESPUESTAS'!AE47,Back!$M$19:$N$20,2,0)),\"\")","v":""},{"$f":"+IFERROR((VLOOKUP('BASE DE RESPUESTAS'!AF47,Back!$M$19:$N$20,2,0)),\"\")","v":""},{"$f":"+IFERROR((VLOOKUP('BASE DE RESPUESTAS'!AG47,Back!$M$19:$N$20,2,0)),\"\")","v":""},{"$f":"+IFERROR((VLOOKUP('BASE DE RESPUESTAS'!AH47,Back!$M$19:$N$20,2,0)),\"\")","v":""},{"$f":"+IFERROR((VLOOKUP('BASE DE RESPUESTAS'!AI47,Back!$M$19:$N$20,2,0)),\"\")","v":""},{"$f":"+IFERROR((VLOOKUP('BASE DE RESPUESTAS'!AJ47,Back!$M$19:$N$20,2,0)),\"\")","v":""},{"$f":"+IFERROR((VLOOKUP('BASE DE RESPUESTAS'!AK47,Back!$M$19:$N$20,2,0)),\"\")","v":""},{"$f":"+IFERROR((VLOOKUP('BASE DE RESPUESTAS'!AL47,Back!$M$19:$N$20,2,0)),\"\")","v":""},{"$f":"+IFERROR((VLOOKUP('BASE DE RESPUESTAS'!AM47,Back!$M$19:$N$20,2,0)),\"\")","v":""},{"$f":"+IFERROR((VLOOKUP('BASE DE RESPUESTAS'!AN47,Back!$M$19:$N$20,2,0)),\"\")","v":""},{"$f":"+IFERROR((VLOOKUP('BASE DE RESPUESTAS'!AO47,Back!$M$19:$N$20,2,0)),\"\")","v":""},{"$f":"+IFERROR((VLOOKUP('BASE DE RESPUESTAS'!AP47,Back!$M$19:$N$20,2,0)),\"\")","v":""},{"$f":"+IFERROR((VLOOKUP('BASE DE RESPUESTAS'!AQ47,Back!$M$19:$N$20,2,0)),\"\")","v":""},{"$f":"+IFERROR((VLOOKUP('BASE DE RESPUESTAS'!AR47,Back!$M$19:$N$20,2,0)),\"\")","v":""},{"$f":"+IFERROR((VLOOKUP('BASE DE RESPUESTAS'!AS47,Back!$M$19:$N$20,2,0)),\"\")","v":""},{"$f":"+IFERROR((VLOOKUP('BASE DE RESPUESTAS'!AT47,Back!$M$19:$N$20,2,0)),\"\")","v":""},{"$f":"+IFERROR((VLOOKUP('BASE DE RESPUESTAS'!AU47,Back!$M$19:$N$20,2,0)),\"\")","v":""},{"$f":"+IFERROR((VLOOKUP('BASE DE RESPUESTAS'!AV47,Back!$M$19:$N$20,2,0)),\"\")","v":""},{"$f":"+IFERROR((VLOOKUP('BASE DE RESPUESTAS'!AW47,Back!$M$19:$N$20,2,0)),\"\")","v":""},{"$f":"+IFERROR((VLOOKUP('BASE DE RESPUESTAS'!AX47,Back!$M$19:$N$20,2,0)),\"\")","v":""},{"$f":"+IFERROR((VLOOKUP('BASE DE RESPUESTAS'!AY47,Back!$M$19:$N$20,2,0)),\"\")","v":""},{"$f":"+IFERROR((VLOOKUP('BASE DE RESPUESTAS'!AZ47,Back!$M$19:$N$20,2,0)),\"\")","v":""},{"$f":"+IFERROR((VLOOKUP('BASE DE RESPUESTAS'!BA47,Back!$M$19:$N$20,2,0)),\"\")","v":""},{"$f":"+IFERROR((VLOOKUP('BASE DE RESPUESTAS'!BB47,Back!$M$19:$N$20,2,0)),\"\")","v":""},{"$f":"+IFERROR((VLOOKUP('BASE DE RESPUESTAS'!BC47,Back!$M$19:$N$20,2,0)),\"\")","v":""},{"$f":"+IFERROR((VLOOKUP('BASE DE RESPUESTAS'!BD47,Back!$M$19:$N$20,2,0)),\"\")","v":""},{"$f":"+IFERROR((VLOOKUP('BASE DE RESPUESTAS'!BE47,Back!$M$19:$N$20,2,0)),\"\")","v":""}]
[null,null,null,"El o la estudiante le cuesta seguir las actividades o rutinas.",null,"",null,{"$f":"+IFERROR((VLOOKUP('BASE DE RESPUESTAS'!H48,Back!$M$19:$N$20,2,0)),\"\")","v":""},{"$f":"+IFERROR((VLOOKUP('BASE DE RESPUESTAS'!I48,Back!$M$19:$N$20,2,0)),\"\")","v":""},{"$f":"+IFERROR((VLOOKUP('BASE DE RESPUESTAS'!J48,Back!$M$19:$N$20,2,0)),\"\")","v":""},{"$f":"+IFERROR((VLOOKUP('BASE DE RESPUESTAS'!K48,Back!$M$19:$N$20,2,0)),\"\")","v":""},{"$f":"+IFERROR((VLOOKUP('BASE DE RESPUESTAS'!L48,Back!$M$19:$N$20,2,0)),\"\")","v":""},{"$f":"+IFERROR((VLOOKUP('BASE DE RESPUESTAS'!M48,Back!$M$19:$N$20,2,0)),\"\")","v":""},{"$f":"+IFERROR((VLOOKUP('BASE DE RESPUESTAS'!N48,Back!$M$19:$N$20,2,0)),\"\")","v":""},{"$f":"+IFERROR((VLOOKUP('BASE DE RESPUESTAS'!O48,Back!$M$19:$N$20,2,0)),\"\")","v":""},{"$f":"+IFERROR((VLOOKUP('BASE DE RESPUESTAS'!P48,Back!$M$19:$N$20,2,0)),\"\")","v":""},{"$f":"+IFERROR((VLOOKUP('BASE DE RESPUESTAS'!Q48,Back!$M$19:$N$20,2,0)),\"\")","v":""},{"$f":"+IFERROR((VLOOKUP('BASE DE RESPUESTAS'!R48,Back!$M$19:$N$20,2,0)),\"\")","v":""},{"$f":"+IFERROR((VLOOKUP('BASE DE RESPUESTAS'!S48,Back!$M$19:$N$20,2,0)),\"\")","v":""},{"$f":"+IFERROR((VLOOKUP('BASE DE RESPUESTAS'!T48,Back!$M$19:$N$20,2,0)),\"\")","v":""},{"$f":"+IFERROR((VLOOKUP('BASE DE RESPUESTAS'!U48,Back!$M$19:$N$20,2,0)),\"\")","v":""},{"$f":"+IFERROR((VLOOKUP('BASE DE RESPUESTAS'!V48,Back!$M$19:$N$20,2,0)),\"\")","v":""},{"$f":"+IFERROR((VLOOKUP('BASE DE RESPUESTAS'!W48,Back!$M$19:$N$20,2,0)),\"\")","v":""},{"$f":"+IFERROR((VLOOKUP('BASE DE RESPUESTAS'!X48,Back!$M$19:$N$20,2,0)),\"\")","v":""},{"$f":"+IFERROR((VLOOKUP('BASE DE RESPUESTAS'!Y48,Back!$M$19:$N$20,2,0)),\"\")","v":""},{"$f":"+IFERROR((VLOOKUP('BASE DE RESPUESTAS'!Z48,Back!$M$19:$N$20,2,0)),\"\")","v":""},{"$f":"+IFERROR((VLOOKUP('BASE DE RESPUESTAS'!AA48,Back!$M$19:$N$20,2,0)),\"\")","v":""},{"$f":"+IFERROR((VLOOKUP('BASE DE RESPUESTAS'!AB48,Back!$M$19:$N$20,2,0)),\"\")","v":""},{"$f":"+IFERROR((VLOOKUP('BASE DE RESPUESTAS'!AC48,Back!$M$19:$N$20,2,0)),\"\")","v":""},{"$f":"+IFERROR((VLOOKUP('BASE DE RESPUESTAS'!AD48,Back!$M$19:$N$20,2,0)),\"\")","v":""},{"$f":"+IFERROR((VLOOKUP('BASE DE RESPUESTAS'!AE48,Back!$M$19:$N$20,2,0)),\"\")","v":""},{"$f":"+IFERROR((VLOOKUP('BASE DE RESPUESTAS'!AF48,Back!$M$19:$N$20,2,0)),\"\")","v":""},{"$f":"+IFERROR((VLOOKUP('BASE DE RESPUESTAS'!AG48,Back!$M$19:$N$20,2,0)),\"\")","v":""},{"$f":"+IFERROR((VLOOKUP('BASE DE RESPUESTAS'!AH48,Back!$M$19:$N$20,2,0)),\"\")","v":""},{"$f":"+IFERROR((VLOOKUP('BASE DE RESPUESTAS'!AI48,Back!$M$19:$N$20,2,0)),\"\")","v":""},{"$f":"+IFERROR((VLOOKUP('BASE DE RESPUESTAS'!AJ48,Back!$M$19:$N$20,2,0)),\"\")","v":""},{"$f":"+IFERROR((VLOOKUP('BASE DE RESPUESTAS'!AK48,Back!$M$19:$N$20,2,0)),\"\")","v":""},{"$f":"+IFERROR((VLOOKUP('BASE DE RESPUESTAS'!AL48,Back!$M$19:$N$20,2,0)),\"\")","v":""},{"$f":"+IFERROR((VLOOKUP('BASE DE RESPUESTAS'!AM48,Back!$M$19:$N$20,2,0)),\"\")","v":""},{"$f":"+IFERROR((VLOOKUP('BASE DE RESPUESTAS'!AN48,Back!$M$19:$N$20,2,0)),\"\")","v":""},{"$f":"+IFERROR((VLOOKUP('BASE DE RESPUESTAS'!AO48,Back!$M$19:$N$20,2,0)),\"\")","v":""},{"$f":"+IFERROR((VLOOKUP('BASE DE RESPUESTAS'!AP48,Back!$M$19:$N$20,2,0)),\"\")","v":""},{"$f":"+IFERROR((VLOOKUP('BASE DE RESPUESTAS'!AQ48,Back!$M$19:$N$20,2,0)),\"\")","v":""},{"$f":"+IFERROR((VLOOKUP('BASE DE RESPUESTAS'!AR48,Back!$M$19:$N$20,2,0)),\"\")","v":""},{"$f":"+IFERROR((VLOOKUP('BASE DE RESPUESTAS'!AS48,Back!$M$19:$N$20,2,0)),\"\")","v":""},{"$f":"+IFERROR((VLOOKUP('BASE DE RESPUESTAS'!AT48,Back!$M$19:$N$20,2,0)),\"\")","v":""},{"$f":"+IFERROR((VLOOKUP('BASE DE RESPUESTAS'!AU48,Back!$M$19:$N$20,2,0)),\"\")","v":""},{"$f":"+IFERROR((VLOOKUP('BASE DE RESPUESTAS'!AV48,Back!$M$19:$N$20,2,0)),\"\")","v":""},{"$f":"+IFERROR((VLOOKUP('BASE DE RESPUESTAS'!AW48,Back!$M$19:$N$20,2,0)),\"\")","v":""},{"$f":"+IFERROR((VLOOKUP('BASE DE RESPUESTAS'!AX48,Back!$M$19:$N$20,2,0)),\"\")","v":""},{"$f":"+IFERROR((VLOOKUP('BASE DE RESPUESTAS'!AY48,Back!$M$19:$N$20,2,0)),\"\")","v":""},{"$f":"+IFERROR((VLOOKUP('BASE DE RESPUESTAS'!AZ48,Back!$M$19:$N$20,2,0)),\"\")","v":""},{"$f":"+IFERROR((VLOOKUP('BASE DE RESPUESTAS'!BA48,Back!$M$19:$N$20,2,0)),\"\")","v":""},{"$f":"+IFERROR((VLOOKUP('BASE DE RESPUESTAS'!BB48,Back!$M$19:$N$20,2,0)),\"\")","v":""},{"$f":"+IFERROR((VLOOKUP('BASE DE RESPUESTAS'!BC48,Back!$M$19:$N$20,2,0)),\"\")","v":""},{"$f":"+IFERROR((VLOOKUP('BASE DE RESPUESTAS'!BD48,Back!$M$19:$N$20,2,0)),\"\")","v":""},{"$f":"+IFERROR((VLOOKUP('BASE DE RESPUESTAS'!BE48,Back!$M$19:$N$20,2,0)),\"\")","v":""}]
[null,"FR","Dificultades en el desarrollo social","La o el estudiante se retrae y no participa de actividades grupales",null,"",null,{"$f":"+IFERROR(AVERAGE(Espejo!H49:H50),\"\")","v":""},{"$f":"+IFERROR(AVERAGE(Espejo!I49:I50),\"\")","v":""},{"$f":"+IFERROR(AVERAGE(Espejo!J49:J50),\"\")","v":""},{"$f":"+IFERROR(AVERAGE(Espejo!K49:K50),\"\")","v":""},{"$f":"+IFERROR(AVERAGE(Espejo!L49:L50),\"\")","v":""},{"$f":"+IFERROR(AVERAGE(Espejo!M49:M50),\"\")","v":""},{"$f":"+IFERROR(AVERAGE(Espejo!N49:N50),\"\")","v":""},{"$f":"+IFERROR(AVERAGE(Espejo!O49:O50),\"\")","v":""},{"$f":"+IFERROR(AVERAGE(Espejo!P49:P50),\"\")","v":""},{"$f":"+IFERROR(AVERAGE(Espejo!Q49:Q50),\"\")","v":""},{"$f":"+IFERROR(AVERAGE(Espejo!R49:R50),\"\")","v":""},{"$f":"+IFERROR(AVERAGE(Espejo!S49:S50),\"\")","v":""},{"$f":"+IFERROR(AVERAGE(Espejo!T49:T50),\"\")","v":""},{"$f":"+IFERROR(AVERAGE(Espejo!U49:U50),\"\")","v":""},{"$f":"+IFERROR(AVERAGE(Espejo!V49:V50),\"\")","v":""},{"$f":"+IFERROR(AVERAGE(Espejo!W49:W50),\"\")","v":""},{"$f":"+IFERROR(AVERAGE(Espejo!X49:X50),\"\")","v":""},{"$f":"+IFERROR(AVERAGE(Espejo!Y49:Y50),\"\")","v":""},{"$f":"+IFERROR(AVERAGE(Espejo!Z49:Z50),\"\")","v":""},{"$f":"+IFERROR(AVERAGE(Espejo!AA49:AA50),\"\")","v":""},{"$f":"+IFERROR(AVERAGE(Espejo!AB49:AB50),\"\")","v":""},{"$f":"+IFERROR(AVERAGE(Espejo!AC49:AC50),\"\")","v":""},{"$f":"+IFERROR(AVERAGE(Espejo!AD49:AD50),\"\")","v":""},{"$f":"+IFERROR(AVERAGE(Espejo!AE49:AE50),\"\")","v":""},{"$f":"+IFERROR(AVERAGE(Espejo!AF49:AF50),\"\")","v":""},{"$f":"+IFERROR(AVERAGE(Espejo!AG49:AG50),\"\")","v":""},{"$f":"+IFERROR(AVERAGE(Espejo!AH49:AH50),\"\")","v":""},{"$f":"+IFERROR(AVERAGE(Espejo!AI49:AI50),\"\")","v":""},{"$f":"+IFERROR(AVERAGE(Espejo!AJ49:AJ50),\"\")","v":""},{"$f":"+IFERROR(AVERAGE(Espejo!AK49:AK50),\"\")","v":""},{"$f":"+IFERROR(AVERAGE(Espejo!AL49:AL50),\"\")","v":""},{"$f":"+IFERROR(AVERAGE(Espejo!AM49:AM50),\"\")","v":""},{"$f":"+IFERROR(AVERAGE(Espejo!AN49:AN50),\"\")","v":""},{"$f":"+IFERROR(AVERAGE(Espejo!AO49:AO50),\"\")","v":""},{"$f":"+IFERROR(AVERAGE(Espejo!AP49:AP50),\"\")","v":""},{"$f":"+IFERROR(AVERAGE(Espejo!AQ49:AQ50),\"\")","v":""},{"$f":"+IFERROR(AVERAGE(Espejo!AR49:AR50),\"\")","v":""},{"$f":"+IFERROR(AVERAGE(Espejo!AS49:AS50),\"\")","v":""},{"$f":"+IFERROR(AVERAGE(Espejo!AT49:AT50),\"\")","v":""},{"$f":"+IFERROR(AVERAGE(Espejo!AU49:AU50),\"\")","v":""},{"$f":"+IFERROR(AVERAGE(Espejo!AV49:AV50),\"\")","v":""},{"$f":"+IFERROR(AVERAGE(Espejo!AW49:AW50),\"\")","v":""},{"$f":"+IFERROR(AVERAGE(Espejo!AX49:AX50),\"\")","v":""},{"$f":"+IFERROR(AVERAGE(Espejo!AY49:AY50),\"\")","v":""},{"$f":"+IFERROR(AVERAGE(Espejo!AZ49:AZ50),\"\")","v":""},{"$f":"+IFERROR(AVERAGE(Espejo!BA49:BA50),\"\")","v":""},{"$f":"+IFERROR(AVERAGE(Espejo!BB49:BB50),\"\")","v":""},{"$f":"+IFERROR(AVERAGE(Espejo!BC49:BC50),\"\")","v":""},{"$f":"+IFERROR(AVERAGE(Espejo!BD49:BD50),\"\")","v":""},{"$f":"+IFERROR(AVERAGE(Espejo!BE49:BE50),\"\")","v":""}]
[null,"FR","Trabajo Infantil","El o la estudiante se ve en la necesidad de involucrarse en actividades laborales o de cuidado.",null,"",null,{"$f":"+IFERROR(AVERAGE(Espejo!H51:H52),\"\")","v":""},{"$f":"+IFERROR(AVERAGE(Espejo!I51:I52),\"\")","v":""},{"$f":"+IFERROR(AVERAGE(Espejo!J51:J52),\"\")","v":""},{"$f":"+IFERROR(AVERAGE(Espejo!K51:K52),\"\")","v":""},{"$f":"+IFERROR(AVERAGE(Espejo!L51:L52),\"\")","v":""},{"$f":"+IFERROR(AVERAGE(Espejo!M51:M52),\"\")","v":""},{"$f":"+IFERROR(AVERAGE(Espejo!N51:N52),\"\")","v":""},{"$f":"+IFERROR(AVERAGE(Espejo!O51:O52),\"\")","v":""},{"$f":"+IFERROR(AVERAGE(Espejo!P51:P52),\"\")","v":""},{"$f":"+IFERROR(AVERAGE(Espejo!Q51:Q52),\"\")","v":""},{"$f":"+IFERROR(AVERAGE(Espejo!R51:R52),\"\")","v":""},{"$f":"+IFERROR(AVERAGE(Espejo!S51:S52),\"\")","v":""},{"$f":"+IFERROR(AVERAGE(Espejo!T51:T52),\"\")","v":""},{"$f":"+IFERROR(AVERAGE(Espejo!U51:U52),\"\")","v":""},{"$f":"+IFERROR(AVERAGE(Espejo!V51:V52),\"\")","v":""},{"$f":"+IFERROR(AVERAGE(Espejo!W51:W52),\"\")","v":""},{"$f":"+IFERROR(AVERAGE(Espejo!X51:X52),\"\")","v":""},{"$f":"+IFERROR(AVERAGE(Espejo!Y51:Y52),\"\")","v":""},{"$f":"+IFERROR(AVERAGE(Espejo!Z51:Z52),\"\")","v":""},{"$f":"+IFERROR(AVERAGE(Espejo!AA51:AA52),\"\")","v":""},{"$f":"+IFERROR(AVERAGE(Espejo!AB51:AB52),\"\")","v":""},{"$f":"+IFERROR(AVERAGE(Espejo!AC51:AC52),\"\")","v":""},{"$f":"+IFERROR(AVERAGE(Espejo!AD51:AD52),\"\")","v":""},{"$f":"+IFERROR(AVERAGE(Espejo!AE51:AE52),\"\")","v":""},{"$f":"+IFERROR(AVERAGE(Espejo!AF51:AF52),\"\")","v":""},{"$f":"+IFERROR(AVERAGE(Espejo!AG51:AG52),\"\")","v":""},{"$f":"+IFERROR(AVERAGE(Espejo!AH51:AH52),\"\")","v":""},{"$f":"+IFERROR(AVERAGE(Espejo!AI51:AI52),\"\")","v":""},{"$f":"+IFERROR(AVERAGE(Espejo!AJ51:AJ52),\"\")","v":""},{"$f":"+IFERROR(AVERAGE(Espejo!AK51:AK52),\"\")","v":""},{"$f":"+IFERROR(AVERAGE(Espejo!AL51:AL52),\"\")","v":""},{"$f":"+IFERROR(AVERAGE(Espejo!AM51:AM52),\"\")","v":""},{"$f":"+IFERROR(AVERAGE(Espejo!AN51:AN52),\"\")","v":""},{"$f":"+IFERROR(AVERAGE(Espejo!AO51:AO52),\"\")","v":""},{"$f":"+IFERROR(AVERAGE(Espejo!AP51:AP52),\"\")","v":""},{"$f":"+IFERROR(AVERAGE(Espejo!AQ51:AQ52),\"\")","v":""},{"$f":"+IFERROR(AVERAGE(Espejo!AR51:AR52),\"\")","v":""},{"$f":"+IFERROR(AVERAGE(Espejo!AS51:AS52),\"\")","v":""},{"$f":"+IFERROR(AVERAGE(Espejo!AT51:AT52),\"\")","v":""},{"$f":"+IFERROR(AVERAGE(Espejo!AU51:AU52),\"\")","v":""},{"$f":"+IFERROR(AVERAGE(Espejo!AV51:AV52),\"\")","v":""},{"$f":"+IFERROR(AVERAGE(Espejo!AW51:AW52),\"\")","v":""},{"$f":"+IFERROR(AVERAGE(Espejo!AX51:AX52),\"\")","v":""},{"$f":"+IFERROR(AVERAGE(Espejo!AY51:AY52),\"\")","v":""},{"$f":"+IFERROR(AVERAGE(Espejo!AZ51:AZ52),\"\")","v":""},{"$f":"+IFERROR(AVERAGE(Espejo!BA51:BA52),\"\")","v":""},{"$f":"+IFERROR(AVERAGE(Espejo!BB51:BB52),\"\")","v":""},{"$f":"+IFERROR(AVERAGE(Espejo!BC51:BC52),\"\")","v":""},{"$f":"+IFERROR(AVERAGE(Espejo!BD51:BD52),\"\")","v":""},{"$f":"+IFERROR(AVERAGE(Espejo!BE51:BE52),\"\")","v":""}]
[null,"FR","Ausentismo Escolar","El o la estudiante falta recurrentemente a la escuela sin justificación.",null,"",null,{"$f":"+IFERROR((VLOOKUP('BASE DE RESPUESTAS'!H53,Back!$M$19:$N$20,2,0)),\"\")","v":""},{"$f":"+IFERROR((VLOOKUP('BASE DE RESPUESTAS'!I53,Back!$M$19:$N$20,2,0)),\"\")","v":""},{"$f":"+IFERROR((VLOOKUP('BASE DE RESPUESTAS'!J53,Back!$M$19:$N$20,2,0)),\"\")","v":""},{"$f":"+IFERROR((VLOOKUP('BASE DE RESPUESTAS'!K53,Back!$M$19:$N$20,2,0)),\"\")","v":""},{"$f":"+IFERROR((VLOOKUP('BASE DE RESPUESTAS'!L53,Back!$M$19:$N$20,2,0)),\"\")","v":""},{"$f":"+IFERROR((VLOOKUP('BASE DE RESPUESTAS'!M53,Back!$M$19:$N$20,2,0)),\"\")","v":""},{"$f":"+IFERROR((VLOOKUP('BASE DE RESPUESTAS'!N53,Back!$M$19:$N$20,2,0)),\"\")","v":""},{"$f":"+IFERROR((VLOOKUP('BASE DE RESPUESTAS'!O53,Back!$M$19:$N$20,2,0)),\"\")","v":""},{"$f":"+IFERROR((VLOOKUP('BASE DE RESPUESTAS'!P53,Back!$M$19:$N$20,2,0)),\"\")","v":""},{"$f":"+IFERROR((VLOOKUP('BASE DE RESPUESTAS'!Q53,Back!$M$19:$N$20,2,0)),\"\")","v":""},{"$f":"+IFERROR((VLOOKUP('BASE DE RESPUESTAS'!R53,Back!$M$19:$N$20,2,0)),\"\")","v":""},{"$f":"+IFERROR((VLOOKUP('BASE DE RESPUESTAS'!S53,Back!$M$19:$N$20,2,0)),\"\")","v":""},{"$f":"+IFERROR((VLOOKUP('BASE DE RESPUESTAS'!T53,Back!$M$19:$N$20,2,0)),\"\")","v":""},{"$f":"+IFERROR((VLOOKUP('BASE DE RESPUESTAS'!U53,Back!$M$19:$N$20,2,0)),\"\")","v":""},{"$f":"+IFERROR((VLOOKUP('BASE DE RESPUESTAS'!V53,Back!$M$19:$N$20,2,0)),\"\")","v":""},{"$f":"+IFERROR((VLOOKUP('BASE DE RESPUESTAS'!W53,Back!$M$19:$N$20,2,0)),\"\")","v":""},{"$f":"+IFERROR((VLOOKUP('BASE DE RESPUESTAS'!X53,Back!$M$19:$N$20,2,0)),\"\")","v":""},{"$f":"+IFERROR((VLOOKUP('BASE DE RESPUESTAS'!Y53,Back!$M$19:$N$20,2,0)),\"\")","v":""},{"$f":"+IFERROR((VLOOKUP('BASE DE RESPUESTAS'!Z53,Back!$M$19:$N$20,2,0)),\"\")","v":""},{"$f":"+IFERROR((VLOOKUP('BASE DE RESPUESTAS'!AA53,Back!$M$19:$N$20,2,0)),\"\")","v":""},{"$f":"+IFERROR((VLOOKUP('BASE DE RESPUESTAS'!AB53,Back!$M$19:$N$20,2,0)),\"\")","v":""},{"$f":"+IFERROR((VLOOKUP('BASE DE RESPUESTAS'!AC53,Back!$M$19:$N$20,2,0)),\"\")","v":""},{"$f":"+IFERROR((VLOOKUP('BASE DE RESPUESTAS'!AD53,Back!$M$19:$N$20,2,0)),\"\")","v":""},{"$f":"+IFERROR((VLOOKUP('BASE DE RESPUESTAS'!AE53,Back!$M$19:$N$20,2,0)),\"\")","v":""},{"$f":"+IFERROR((VLOOKUP('BASE DE RESPUESTAS'!AF53,Back!$M$19:$N$20,2,0)),\"\")","v":""},{"$f":"+IFERROR((VLOOKUP('BASE DE RESPUESTAS'!AG53,Back!$M$19:$N$20,2,0)),\"\")","v":""},{"$f":"+IFERROR((VLOOKUP('BASE DE RESPUESTAS'!AH53,Back!$M$19:$N$20,2,0)),\"\")","v":""},{"$f":"+IFERROR((VLOOKUP('BASE DE RESPUESTAS'!AI53,Back!$M$19:$N$20,2,0)),\"\")","v":""},{"$f":"+IFERROR((VLOOKUP('BASE DE RESPUESTAS'!AJ53,Back!$M$19:$N$20,2,0)),\"\")","v":""},{"$f":"+IFERROR((VLOOKUP('BASE DE RESPUESTAS'!AK53,Back!$M$19:$N$20,2,0)),\"\")","v":""},{"$f":"+IFERROR((VLOOKUP('BASE DE RESPUESTAS'!AL53,Back!$M$19:$N$20,2,0)),\"\")","v":""},{"$f":"+IFERROR((VLOOKUP('BASE DE RESPUESTAS'!AM53,Back!$M$19:$N$20,2,0)),\"\")","v":""},{"$f":"+IFERROR((VLOOKUP('BASE DE RESPUESTAS'!AN53,Back!$M$19:$N$20,2,0)),\"\")","v":""},{"$f":"+IFERROR((VLOOKUP('BASE DE RESPUESTAS'!AO53,Back!$M$19:$N$20,2,0)),\"\")","v":""},{"$f":"+IFERROR((VLOOKUP('BASE DE RESPUESTAS'!AP53,Back!$M$19:$N$20,2,0)),\"\")","v":""},{"$f":"+IFERROR((VLOOKUP('BASE DE RESPUESTAS'!AQ53,Back!$M$19:$N$20,2,0)),\"\")","v":""},{"$f":"+IFERROR((VLOOKUP('BASE DE RESPUESTAS'!AR53,Back!$M$19:$N$20,2,0)),\"\")","v":""},{"$f":"+IFERROR((VLOOKUP('BASE DE RESPUESTAS'!AS53,Back!$M$19:$N$20,2,0)),\"\")","v":""},{"$f":"+IFERROR((VLOOKUP('BASE DE RESPUESTAS'!AT53,Back!$M$19:$N$20,2,0)),\"\")","v":""},{"$f":"+IFERROR((VLOOKUP('BASE DE RESPUESTAS'!AU53,Back!$M$19:$N$20,2,0)),\"\")","v":""},{"$f":"+IFERROR((VLOOKUP('BASE DE RESPUESTAS'!AV53,Back!$M$19:$N$20,2,0)),\"\")","v":""},{"$f":"+IFERROR((VLOOKUP('BASE DE RESPUESTAS'!AW53,Back!$M$19:$N$20,2,0)),\"\")","v":""},{"$f":"+IFERROR((VLOOKUP('BASE DE RESPUESTAS'!AX53,Back!$M$19:$N$20,2,0)),\"\")","v":""},{"$f":"+IFERROR((VLOOKUP('BASE DE RESPUESTAS'!AY53,Back!$M$19:$N$20,2,0)),\"\")","v":""},{"$f":"+IFERROR((VLOOKUP('BASE DE RESPUESTAS'!AZ53,Back!$M$19:$N$20,2,0)),\"\")","v":""},{"$f":"+IFERROR((VLOOKUP('BASE DE RESPUESTAS'!BA53,Back!$M$19:$N$20,2,0)),\"\")","v":""},{"$f":"+IFERROR((VLOOKUP('BASE DE RESPUESTAS'!BB53,Back!$M$19:$N$20,2,0)),\"\")","v":""},{"$f":"+IFERROR((VLOOKUP('BASE DE RESPUESTAS'!BC53,Back!$M$19:$N$20,2,0)),\"\")","v":""},{"$f":"+IFERROR((VLOOKUP('BASE DE RESPUESTAS'!BD53,Back!$M$19:$N$20,2,0)),\"\")","v":""},{"$f":"+IFERROR((VLOOKUP('BASE DE RESPUESTAS'!BE53,Back!$M$19:$N$20,2,0)),\"\")","v":""}]
[null,"FR","Riesgo de desprotección familiar","El o la estudiante presenta señales de descuido y desprotección familiar.",null,"",null,{"$f":"+IFERROR(AVERAGE(Espejo!H54:H55),\"\")","v":""},{"$f":"+IFERROR(AVERAGE(Espejo!I54:I55),\"\")","v":""},{"$f":"+IFERROR(AVERAGE(Espejo!J54:J55),\"\")","v":""},{"$f":"+IFERROR(AVERAGE(Espejo!K54:K55),\"\")","v":""},{"$f":"+IFERROR(AVERAGE(Espejo!L54:L55),\"\")","v":""},{"$f":"+IFERROR(AVERAGE(Espejo!M54:M55),\"\")","v":""},{"$f":"+IFERROR(AVERAGE(Espejo!N54:N55),\"\")","v":""},{"$f":"+IFERROR(AVERAGE(Espejo!O54:O55),\"\")","v":""},{"$f":"+IFERROR(AVERAGE(Espejo!P54:P55),\"\")","v":""},{"$f":"+IFERROR(AVERAGE(Espejo!Q54:Q55),\"\")","v":""},{"$f":"+IFERROR(AVERAGE(Espejo!R54:R55),\"\")","v":""},{"$f":"+IFERROR(AVERAGE(Espejo!S54:S55),\"\")","v":""},{"$f":"+IFERROR(AVERAGE(Espejo!T54:T55),\"\")","v":""},{"$f":"+IFERROR(AVERAGE(Espejo!U54:U55),\"\")","v":""},{"$f":"+IFERROR(AVERAGE(Espejo!V54:V55),\"\")","v":""},{"$f":"+IFERROR(AVERAGE(Espejo!W54:W55),\"\")","v":""},{"$f":"+IFERROR(AVERAGE(Espejo!X54:X55),\"\")","v":""},{"$f":"+IFERROR(AVERAGE(Espejo!Y54:Y55),\"\")","v":""},{"$f":"+IFERROR(AVERAGE(Espejo!Z54:Z55),\"\")","v":""},{"$f":"+IFERROR(AVERAGE(Espejo!AA54:AA55),\"\")","v":""},{"$f":"+IFERROR(AVERAGE(Espejo!AB54:AB55),\"\")","v":""},{"$f":"+IFERROR(AVERAGE(Espejo!AC54:AC55),\"\")","v":""},{"$f":"+IFERROR(AVERAGE(Espejo!AD54:AD55),\"\")","v":""},{"$f":"+IFERROR(AVERAGE(Espejo!AE54:AE55),\"\")","v":""},{"$f":"+IFERROR(AVERAGE(Espejo!AF54:AF55),\"\")","v":""},{"$f":"+IFERROR(AVERAGE(Espejo!AG54:AG55),\"\")","v":""},{"$f":"+IFERROR(AVERAGE(Espejo!AH54:AH55),\"\")","v":""},{"$f":"+IFERROR(AVERAGE(Espejo!AI54:AI55),\"\")","v":""},{"$f":"+IFERROR(AVERAGE(Espejo!AJ54:AJ55),\"\")","v":""},{"$f":"+IFERROR(AVERAGE(Espejo!AK54:AK55),\"\")","v":""},{"$f":"+IFERROR(AVERAGE(Espejo!AL54:AL55),\"\")","v":""},{"$f":"+IFERROR(AVERAGE(Espejo!AM54:AM55),\"\")","v":""},{"$f":"+IFERROR(AVERAGE(Espejo!AN54:AN55),\"\")","v":""},{"$f":"+IFERROR(AVERAGE(Espejo!AO54:AO55),\"\")","v":""},{"$f":"+IFERROR(AVERAGE(Espejo!AP54:AP55),\"\")","v":""},{"$f":"+IFERROR(AVERAGE(Espejo!AQ54:AQ55),\"\")","v":""},{"$f":"+IFERROR(AVERAGE(Espejo!AR54:AR55),\"\")","v":""},{"$f":"+IFERROR(AVERAGE(Espejo!AS54:AS55),\"\")","v":""},{"$f":"+IFERROR(AVERAGE(Espejo!AT54:AT55),\"\")","v":""},{"$f":"+IFERROR(AVERAGE(Espejo!AU54:AU55),\"\")","v":""},{"$f":"+IFERROR(AVERAGE(Espejo!AV54:AV55),\"\")","v":""},{"$f":"+IFERROR(AVERAGE(Espejo!AW54:AW55),\"\")","v":""},{"$f":"+IFERROR(AVERAGE(Espejo!AX54:AX55),\"\")","v":""},{"$f":"+IFERROR(AVERAGE(Espejo!AY54:AY55),\"\")","v":""},{"$f":"+IFERROR(AVERAGE(Espejo!AZ54:AZ55),\"\")","v":""},{"$f":"+IFERROR(AVERAGE(Espejo!BA54:BA55),\"\")","v":""},{"$f":"+IFERROR(AVERAGE(Espejo!BB54:BB55),\"\")","v":""},{"$f":"+IFERROR(AVERAGE(Espejo!BC54:BC55),\"\")","v":""},{"$f":"+IFERROR(AVERAGE(Espejo!BD54:BD55),\"\")","v":""},{"$f":"+IFERROR(AVERAGE(Espejo!BE54:BE55),\"\")","v":""}]
[null,"FR","Violencia escolar","La o el estudiante hace distinciones discriminatorias entre varones y mujeres.",null,"",null,{"$f":"+IFERROR((VLOOKUP('BASE DE RESPUESTAS'!H56,Back!$M$19:$N$20,2,0)),\"\")","v":""},{"$f":"+IFERROR((VLOOKUP('BASE DE RESPUESTAS'!I56,Back!$M$19:$N$20,2,0)),\"\")","v":""},{"$f":"+IFERROR((VLOOKUP('BASE DE RESPUESTAS'!J56,Back!$M$19:$N$20,2,0)),\"\")","v":""},{"$f":"+IFERROR((VLOOKUP('BASE DE RESPUESTAS'!K56,Back!$M$19:$N$20,2,0)),\"\")","v":""},{"$f":"+IFERROR((VLOOKUP('BASE DE RESPUESTAS'!L56,Back!$M$19:$N$20,2,0)),\"\")","v":""},{"$f":"+IFERROR((VLOOKUP('BASE DE RESPUESTAS'!M56,Back!$M$19:$N$20,2,0)),\"\")","v":""},{"$f":"+IFERROR((VLOOKUP('BASE DE RESPUESTAS'!N56,Back!$M$19:$N$20,2,0)),\"\")","v":""},{"$f":"+IFERROR((VLOOKUP('BASE DE RESPUESTAS'!O56,Back!$M$19:$N$20,2,0)),\"\")","v":""},{"$f":"+IFERROR((VLOOKUP('BASE DE RESPUESTAS'!P56,Back!$M$19:$N$20,2,0)),\"\")","v":""},{"$f":"+IFERROR((VLOOKUP('BASE DE RESPUESTAS'!Q56,Back!$M$19:$N$20,2,0)),\"\")","v":""},{"$f":"+IFERROR((VLOOKUP('BASE DE RESPUESTAS'!R56,Back!$M$19:$N$20,2,0)),\"\")","v":""},{"$f":"+IFERROR((VLOOKUP('BASE DE RESPUESTAS'!S56,Back!$M$19:$N$20,2,0)),\"\")","v":""},{"$f":"+IFERROR((VLOOKUP('BASE DE RESPUESTAS'!T56,Back!$M$19:$N$20,2,0)),\"\")","v":""},{"$f":"+IFERROR((VLOOKUP('BASE DE RESPUESTAS'!U56,Back!$M$19:$N$20,2,0)),\"\")","v":""},{"$f":"+IFERROR((VLOOKUP('BASE DE RESPUESTAS'!V56,Back!$M$19:$N$20,2,0)),\"\")","v":""},{"$f":"+IFERROR((VLOOKUP('BASE DE RESPUESTAS'!W56,Back!$M$19:$N$20,2,0)),\"\")","v":""},{"$f":"+IFERROR((VLOOKUP('BASE DE RESPUESTAS'!X56,Back!$M$19:$N$20,2,0)),\"\")","v":""},{"$f":"+IFERROR((VLOOKUP('BASE DE RESPUESTAS'!Y56,Back!$M$19:$N$20,2,0)),\"\")","v":""},{"$f":"+IFERROR((VLOOKUP('BASE DE RESPUESTAS'!Z56,Back!$M$19:$N$20,2,0)),\"\")","v":""},{"$f":"+IFERROR((VLOOKUP('BASE DE RESPUESTAS'!AA56,Back!$M$19:$N$20,2,0)),\"\")","v":""},{"$f":"+IFERROR((VLOOKUP('BASE DE RESPUESTAS'!AB56,Back!$M$19:$N$20,2,0)),\"\")","v":""},{"$f":"+IFERROR((VLOOKUP('BASE DE RESPUESTAS'!AC56,Back!$M$19:$N$20,2,0)),\"\")","v":""},{"$f":"+IFERROR((VLOOKUP('BASE DE RESPUESTAS'!AD56,Back!$M$19:$N$20,2,0)),\"\")","v":""},{"$f":"+IFERROR((VLOOKUP('BASE DE RESPUESTAS'!AE56,Back!$M$19:$N$20,2,0)),\"\")","v":""},{"$f":"+IFERROR((VLOOKUP('BASE DE RESPUESTAS'!AF56,Back!$M$19:$N$20,2,0)),\"\")","v":""},{"$f":"+IFERROR((VLOOKUP('BASE DE RESPUESTAS'!AG56,Back!$M$19:$N$20,2,0)),\"\")","v":""},{"$f":"+IFERROR((VLOOKUP('BASE DE RESPUESTAS'!AH56,Back!$M$19:$N$20,2,0)),\"\")","v":""},{"$f":"+IFERROR((VLOOKUP('BASE DE RESPUESTAS'!AI56,Back!$M$19:$N$20,2,0)),\"\")","v":""},{"$f":"+IFERROR((VLOOKUP('BASE DE RESPUESTAS'!AJ56,Back!$M$19:$N$20,2,0)),\"\")","v":""},{"$f":"+IFERROR((VLOOKUP('BASE DE RESPUESTAS'!AK56,Back!$M$19:$N$20,2,0)),\"\")","v":""},{"$f":"+IFERROR((VLOOKUP('BASE DE RESPUESTAS'!AL56,Back!$M$19:$N$20,2,0)),\"\")","v":""},{"$f":"+IFERROR((VLOOKUP('BASE DE RESPUESTAS'!AM56,Back!$M$19:$N$20,2,0)),\"\")","v":""},{"$f":"+IFERROR((VLOOKUP('BASE DE RESPUESTAS'!AN56,Back!$M$19:$N$20,2,0)),\"\")","v":""},{"$f":"+IFERROR((VLOOKUP('BASE DE RESPUESTAS'!AO56,Back!$M$19:$N$20,2,0)),\"\")","v":""},{"$f":"+IFERROR((VLOOKUP('BASE DE RESPUESTAS'!AP56,Back!$M$19:$N$20,2,0)),\"\")","v":""},{"$f":"+IFERROR((VLOOKUP('BASE DE RESPUESTAS'!AQ56,Back!$M$19:$N$20,2,0)),\"\")","v":""},{"$f":"+IFERROR((VLOOKUP('BASE DE RESPUESTAS'!AR56,Back!$M$19:$N$20,2,0)),\"\")","v":""},{"$f":"+IFERROR((VLOOKUP('BASE DE RESPUESTAS'!AS56,Back!$M$19:$N$20,2,0)),\"\")","v":""},{"$f":"+IFERROR((VLOOKUP('BASE DE RESPUESTAS'!AT56,Back!$M$19:$N$20,2,0)),\"\")","v":""},{"$f":"+IFERROR((VLOOKUP('BASE DE RESPUESTAS'!AU56,Back!$M$19:$N$20,2,0)),\"\")","v":""},{"$f":"+IFERROR((VLOOKUP('BASE DE RESPUESTAS'!AV56,Back!$M$19:$N$20,2,0)),\"\")","v":""},{"$f":"+IFERROR((VLOOKUP('BASE DE RESPUESTAS'!AW56,Back!$M$19:$N$20,2,0)),\"\")","v":""},{"$f":"+IFERROR((VLOOKUP('BASE DE RESPUESTAS'!AX56,Back!$M$19:$N$20,2,0)),\"\")","v":""},{"$f":"+IFERROR((VLOOKUP('BASE DE RESPUESTAS'!AY56,Back!$M$19:$N$20,2,0)),\"\")","v":""},{"$f":"+IFERROR((VLOOKUP('BASE DE RESPUESTAS'!AZ56,Back!$M$19:$N$20,2,0)),\"\")","v":""},{"$f":"+IFERROR((VLOOKUP('BASE DE RESPUESTAS'!BA56,Back!$M$19:$N$20,2,0)),\"\")","v":""},{"$f":"+IFERROR((VLOOKUP('BASE DE RESPUESTAS'!BB56,Back!$M$19:$N$20,2,0)),\"\")","v":""},{"$f":"+IFERROR((VLOOKUP('BASE DE RESPUESTAS'!BC56,Back!$M$19:$N$20,2,0)),\"\")","v":""},{"$f":"+IFERROR((VLOOKUP('BASE DE RESPUESTAS'!BD56,Back!$M$19:$N$20,2,0)),\"\")","v":""},{"$f":"+IFERROR((VLOOKUP('BASE DE RESPUESTAS'!BE56,Back!$M$19:$N$20,2,0)),\"\")","v":""}]
[null,null,null,"La o el estudiante recibe gritos, amenazas o golpes por parte de sus compañeras/os.",null,"",null,{"$f":"+IFERROR((VLOOKUP('BASE DE RESPUESTAS'!H57,Back!$M$19:$N$20,2,0)),\"\")","v":""},{"$f":"+IFERROR((VLOOKUP('BASE DE RESPUESTAS'!I57,Back!$M$19:$N$20,2,0)),\"\")","v":""},{"$f":"+IFERROR((VLOOKUP('BASE DE RESPUESTAS'!J57,Back!$M$19:$N$20,2,0)),\"\")","v":""},{"$f":"+IFERROR((VLOOKUP('BASE DE RESPUESTAS'!K57,Back!$M$19:$N$20,2,0)),\"\")","v":""},{"$f":"+IFERROR((VLOOKUP('BASE DE RESPUESTAS'!L57,Back!$M$19:$N$20,2,0)),\"\")","v":""},{"$f":"+IFERROR((VLOOKUP('BASE DE RESPUESTAS'!M57,Back!$M$19:$N$20,2,0)),\"\")","v":""},{"$f":"+IFERROR((VLOOKUP('BASE DE RESPUESTAS'!N57,Back!$M$19:$N$20,2,0)),\"\")","v":""},{"$f":"+IFERROR((VLOOKUP('BASE DE RESPUESTAS'!O57,Back!$M$19:$N$20,2,0)),\"\")","v":""},{"$f":"+IFERROR((VLOOKUP('BASE DE RESPUESTAS'!P57,Back!$M$19:$N$20,2,0)),\"\")","v":""},{"$f":"+IFERROR((VLOOKUP('BASE DE RESPUESTAS'!Q57,Back!$M$19:$N$20,2,0)),\"\")","v":""},{"$f":"+IFERROR((VLOOKUP('BASE DE RESPUESTAS'!R57,Back!$M$19:$N$20,2,0)),\"\")","v":""},{"$f":"+IFERROR((VLOOKUP('BASE DE RESPUESTAS'!S57,Back!$M$19:$N$20,2,0)),\"\")","v":""},{"$f":"+IFERROR((VLOOKUP('BASE DE RESPUESTAS'!T57,Back!$M$19:$N$20,2,0)),\"\")","v":""},{"$f":"+IFERROR((VLOOKUP('BASE DE RESPUESTAS'!U57,Back!$M$19:$N$20,2,0)),\"\")","v":""},{"$f":"+IFERROR((VLOOKUP('BASE DE RESPUESTAS'!V57,Back!$M$19:$N$20,2,0)),\"\")","v":""},{"$f":"+IFERROR((VLOOKUP('BASE DE RESPUESTAS'!W57,Back!$M$19:$N$20,2,0)),\"\")","v":""},{"$f":"+IFERROR((VLOOKUP('BASE DE RESPUESTAS'!X57,Back!$M$19:$N$20,2,0)),\"\")","v":""},{"$f":"+IFERROR((VLOOKUP('BASE DE RESPUESTAS'!Y57,Back!$M$19:$N$20,2,0)),\"\")","v":""},{"$f":"+IFERROR((VLOOKUP('BASE DE RESPUESTAS'!Z57,Back!$M$19:$N$20,2,0)),\"\")","v":""},{"$f":"+IFERROR((VLOOKUP('BASE DE RESPUESTAS'!AA57,Back!$M$19:$N$20,2,0)),\"\")","v":""},{"$f":"+IFERROR((VLOOKUP('BASE DE RESPUESTAS'!AB57,Back!$M$19:$N$20,2,0)),\"\")","v":""},{"$f":"+IFERROR((VLOOKUP('BASE DE RESPUESTAS'!AC57,Back!$M$19:$N$20,2,0)),\"\")","v":""},{"$f":"+IFERROR((VLOOKUP('BASE DE RESPUESTAS'!AD57,Back!$M$19:$N$20,2,0)),\"\")","v":""},{"$f":"+IFERROR((VLOOKUP('BASE DE RESPUESTAS'!AE57,Back!$M$19:$N$20,2,0)),\"\")","v":""},{"$f":"+IFERROR((VLOOKUP('BASE DE RESPUESTAS'!AF57,Back!$M$19:$N$20,2,0)),\"\")","v":""},{"$f":"+IFERROR((VLOOKUP('BASE DE RESPUESTAS'!AG57,Back!$M$19:$N$20,2,0)),\"\")","v":""},{"$f":"+IFERROR((VLOOKUP('BASE DE RESPUESTAS'!AH57,Back!$M$19:$N$20,2,0)),\"\")","v":""},{"$f":"+IFERROR((VLOOKUP('BASE DE RESPUESTAS'!AI57,Back!$M$19:$N$20,2,0)),\"\")","v":""},{"$f":"+IFERROR((VLOOKUP('BASE DE RESPUESTAS'!AJ57,Back!$M$19:$N$20,2,0)),\"\")","v":""},{"$f":"+IFERROR((VLOOKUP('BASE DE RESPUESTAS'!AK57,Back!$M$19:$N$20,2,0)),\"\")","v":""},{"$f":"+IFERROR((VLOOKUP('BASE DE RESPUESTAS'!AL57,Back!$M$19:$N$20,2,0)),\"\")","v":""},{"$f":"+IFERROR((VLOOKUP('BASE DE RESPUESTAS'!AM57,Back!$M$19:$N$20,2,0)),\"\")","v":""},{"$f":"+IFERROR((VLOOKUP('BASE DE RESPUESTAS'!AN57,Back!$M$19:$N$20,2,0)),\"\")","v":""},{"$f":"+IFERROR((VLOOKUP('BASE DE RESPUESTAS'!AO57,Back!$M$19:$N$20,2,0)),\"\")","v":""},{"$f":"+IFERROR((VLOOKUP('BASE DE RESPUESTAS'!AP57,Back!$M$19:$N$20,2,0)),\"\")","v":""},{"$f":"+IFERROR((VLOOKUP('BASE DE RESPUESTAS'!AQ57,Back!$M$19:$N$20,2,0)),\"\")","v":""},{"$f":"+IFERROR((VLOOKUP('BASE DE RESPUESTAS'!AR57,Back!$M$19:$N$20,2,0)),\"\")","v":""},{"$f":"+IFERROR((VLOOKUP('BASE DE RESPUESTAS'!AS57,Back!$M$19:$N$20,2,0)),\"\")","v":""},{"$f":"+IFERROR((VLOOKUP('BASE DE RESPUESTAS'!AT57,Back!$M$19:$N$20,2,0)),\"\")","v":""},{"$f":"+IFERROR((VLOOKUP('BASE DE RESPUESTAS'!AU57,Back!$M$19:$N$20,2,0)),\"\")","v":""},{"$f":"+IFERROR((VLOOKUP('BASE DE RESPUESTAS'!AV57,Back!$M$19:$N$20,2,0)),\"\")","v":""},{"$f":"+IFERROR((VLOOKUP('BASE DE RESPUESTAS'!AW57,Back!$M$19:$N$20,2,0)),\"\")","v":""},{"$f":"+IFERROR((VLOOKUP('BASE DE RESPUESTAS'!AX57,Back!$M$19:$N$20,2,0)),\"\")","v":""},{"$f":"+IFERROR((VLOOKUP('BASE DE RESPUESTAS'!AY57,Back!$M$19:$N$20,2,0)),\"\")","v":""},{"$f":"+IFERROR((VLOOKUP('BASE DE RESPUESTAS'!AZ57,Back!$M$19:$N$20,2,0)),\"\")","v":""},{"$f":"+IFERROR((VLOOKUP('BASE DE RESPUESTAS'!BA57,Back!$M$19:$N$20,2,0)),\"\")","v":""},{"$f":"+IFERROR((VLOOKUP('BASE DE RESPUESTAS'!BB57,Back!$M$19:$N$20,2,0)),\"\")","v":""},{"$f":"+IFERROR((VLOOKUP('BASE DE RESPUESTAS'!BC57,Back!$M$19:$N$20,2,0)),\"\")","v":""},{"$f":"+IFERROR((VLOOKUP('BASE DE RESPUESTAS'!BD57,Back!$M$19:$N$20,2,0)),\"\")","v":""},{"$f":"+IFERROR((VLOOKUP('BASE DE RESPUESTAS'!BE57,Back!$M$19:$N$20,2,0)),\"\")","v":""}]
[null,null,null,"La o el estudiante se relaciona de manera agresiva física y/o verbal con sus compañeras/os.",null,"",null,{"$f":"+IFERROR((VLOOKUP('BASE DE RESPUESTAS'!H58,Back!$M$19:$N$20,2,0)),\"\")","v":""},{"$f":"+IFERROR((VLOOKUP('BASE DE RESPUESTAS'!I58,Back!$M$19:$N$20,2,0)),\"\")","v":""},{"$f":"+IFERROR((VLOOKUP('BASE DE RESPUESTAS'!J58,Back!$M$19:$N$20,2,0)),\"\")","v":""},{"$f":"+IFERROR((VLOOKUP('BASE DE RESPUESTAS'!K58,Back!$M$19:$N$20,2,0)),\"\")","v":""},{"$f":"+IFERROR((VLOOKUP('BASE DE RESPUESTAS'!L58,Back!$M$19:$N$20,2,0)),\"\")","v":""},{"$f":"+IFERROR((VLOOKUP('BASE DE RESPUESTAS'!M58,Back!$M$19:$N$20,2,0)),\"\")","v":""},{"$f":"+IFERROR((VLOOKUP('BASE DE RESPUESTAS'!N58,Back!$M$19:$N$20,2,0)),\"\")","v":""},{"$f":"+IFERROR((VLOOKUP('BASE DE RESPUESTAS'!O58,Back!$M$19:$N$20,2,0)),\"\")","v":""},{"$f":"+IFERROR((VLOOKUP('BASE DE RESPUESTAS'!P58,Back!$M$19:$N$20,2,0)),\"\")","v":""},{"$f":"+IFERROR((VLOOKUP('BASE DE RESPUESTAS'!Q58,Back!$M$19:$N$20,2,0)),\"\")","v":""},{"$f":"+IFERROR((VLOOKUP('BASE DE RESPUESTAS'!R58,Back!$M$19:$N$20,2,0)),\"\")","v":""},{"$f":"+IFERROR((VLOOKUP('BASE DE RESPUESTAS'!S58,Back!$M$19:$N$20,2,0)),\"\")","v":""},{"$f":"+IFERROR((VLOOKUP('BASE DE RESPUESTAS'!T58,Back!$M$19:$N$20,2,0)),\"\")","v":""},{"$f":"+IFERROR((VLOOKUP('BASE DE RESPUESTAS'!U58,Back!$M$19:$N$20,2,0)),\"\")","v":""},{"$f":"+IFERROR((VLOOKUP('BASE DE RESPUESTAS'!V58,Back!$M$19:$N$20,2,0)),\"\")","v":""},{"$f":"+IFERROR((VLOOKUP('BASE DE RESPUESTAS'!W58,Back!$M$19:$N$20,2,0)),\"\")","v":""},{"$f":"+IFERROR((VLOOKUP('BASE DE RESPUESTAS'!X58,Back!$M$19:$N$20,2,0)),\"\")","v":""},{"$f":"+IFERROR((VLOOKUP('BASE DE RESPUESTAS'!Y58,Back!$M$19:$N$20,2,0)),\"\")","v":""},{"$f":"+IFERROR((VLOOKUP('BASE DE RESPUESTAS'!Z58,Back!$M$19:$N$20,2,0)),\"\")","v":""},{"$f":"+IFERROR((VLOOKUP('BASE DE RESPUESTAS'!AA58,Back!$M$19:$N$20,2,0)),\"\")","v":""},{"$f":"+IFERROR((VLOOKUP('BASE DE RESPUESTAS'!AB58,Back!$M$19:$N$20,2,0)),\"\")","v":""},{"$f":"+IFERROR((VLOOKUP('BASE DE RESPUESTAS'!AC58,Back!$M$19:$N$20,2,0)),\"\")","v":""},{"$f":"+IFERROR((VLOOKUP('BASE DE RESPUESTAS'!AD58,Back!$M$19:$N$20,2,0)),\"\")","v":""},{"$f":"+IFERROR((VLOOKUP('BASE DE RESPUESTAS'!AE58,Back!$M$19:$N$20,2,0)),\"\")","v":""},{"$f":"+IFERROR((VLOOKUP('BASE DE RESPUESTAS'!AF58,Back!$M$19:$N$20,2,0)),\"\")","v":""},{"$f":"+IFERROR((VLOOKUP('BASE DE RESPUESTAS'!AG58,Back!$M$19:$N$20,2,0)),\"\")","v":""},{"$f":"+IFERROR((VLOOKUP('BASE DE RESPUESTAS'!AH58,Back!$M$19:$N$20,2,0)),\"\")","v":""},{"$f":"+IFERROR((VLOOKUP('BASE DE RESPUESTAS'!AI58,Back!$M$19:$N$20,2,0)),\"\")","v":""},{"$f":"+IFERROR((VLOOKUP('BASE DE RESPUESTAS'!AJ58,Back!$M$19:$N$20,2,0)),\"\")","v":""},{"$f":"+IFERROR((VLOOKUP('BASE DE RESPUESTAS'!AK58,Back!$M$19:$N$20,2,0)),\"\")","v":""},{"$f":"+IFERROR((VLOOKUP('BASE DE RESPUESTAS'!AL58,Back!$M$19:$N$20,2,0)),\"\")","v":""},{"$f":"+IFERROR((VLOOKUP('BASE DE RESPUESTAS'!AM58,Back!$M$19:$N$20,2,0)),\"\")","v":""},{"$f":"+IFERROR((VLOOKUP('BASE DE RESPUESTAS'!AN58,Back!$M$19:$N$20,2,0)),\"\")","v":""},{"$f":"+IFERROR((VLOOKUP('BASE DE RESPUESTAS'!AO58,Back!$M$19:$N$20,2,0)),\"\")","v":""},{"$f":"+IFERROR((VLOOKUP('BASE DE RESPUESTAS'!AP58,Back!$M$19:$N$20,2,0)),\"\")","v":""},{"$f":"+IFERROR((VLOOKUP('BASE DE RESPUESTAS'!AQ58,Back!$M$19:$N$20,2,0)),\"\")","v":""},{"$f":"+IFERROR((VLOOKUP('BASE DE RESPUESTAS'!AR58,Back!$M$19:$N$20,2,0)),\"\")","v":""},{"$f":"+IFERROR((VLOOKUP('BASE DE RESPUESTAS'!AS58,Back!$M$19:$N$20,2,0)),\"\")","v":""},{"$f":"+IFERROR((VLOOKUP('BASE DE RESPUESTAS'!AT58,Back!$M$19:$N$20,2,0)),\"\")","v":""},{"$f":"+IFERROR((VLOOKUP('BASE DE RESPUESTAS'!AU58,Back!$M$19:$N$20,2,0)),\"\")","v":""},{"$f":"+IFERROR((VLOOKUP('BASE DE RESPUESTAS'!AV58,Back!$M$19:$N$20,2,0)),\"\")","v":""},{"$f":"+IFERROR((VLOOKUP('BASE DE RESPUESTAS'!AW58,Back!$M$19:$N$20,2,0)),\"\")","v":""},{"$f":"+IFERROR((VLOOKUP('BASE DE RESPUESTAS'!AX58,Back!$M$19:$N$20,2,0)),\"\")","v":""},{"$f":"+IFERROR((VLOOKUP('BASE DE RESPUESTAS'!AY58,Back!$M$19:$N$20,2,0)),\"\")","v":""},{"$f":"+IFERROR((VLOOKUP('BASE DE RESPUESTAS'!AZ58,Back!$M$19:$N$20,2,0)),\"\")","v":""},{"$f":"+IFERROR((VLOOKUP('BASE DE RESPUESTAS'!BA58,Back!$M$19:$N$20,2,0)),\"\")","v":""},{"$f":"+IFERROR((VLOOKUP('BASE DE RESPUESTAS'!BB58,Back!$M$19:$N$20,2,0)),\"\")","v":""},{"$f":"+IFERROR((VLOOKUP('BASE DE RESPUESTAS'!BC58,Back!$M$19:$N$20,2,0)),\"\")","v":""},{"$f":"+IFERROR((VLOOKUP('BASE DE RESPUESTAS'!BD58,Back!$M$19:$N$20,2,0)),\"\")","v":""},{"$f":"+IFERROR((VLOOKUP('BASE DE RESPUESTAS'!BE58,Back!$M$19:$N$20,2,0)),\"\")","v":""}]
[]
[null,null,null,null,null,"Indicadores",null,{"$f":"+H4","v":"Estudiante 1"},"Estudiante 2","Estudiante 3","Estudiante 4","Estudiante 5","Estudiante 6","Estudiante 7","Estudiante 8","Estudiante 9","Estudiante 10","Estudiante 11","Estudiante 12","Estudiante 13","Estudiante 14","Estudiante 15","Estudiante 16","Estudiante 17","Estudiante 18","Estudiante 19","Estudiante 20","Estudiante 21","Estudiante 22","Estudiante 23","Estudiante 24","Estudiante 25","Estudiante 26","Estudiante 27","Estudiante 28","Estudiante 29","Estudiante 30","Estudiante 31","Estudiante 32","Estudiante 33","Estudiante 34","Estudiante 35","Estudiante 36","Estudiante 37","Estudiante 38","Estudiante 39","Estudiante 40","Estudiante 41","Estudiante 42","Estudiante 43","Estudiante 44","Estudiante 45","Estudiante 46","Estudiante 47","Estudiante 48","Estudiante 49","Estudiante 50"]
[null,null,null,null,null,"En Blanco",null,{"$f":"IFERROR((COUNTIFS(H5:H13,\"-\")),\"-\")","v":0},0,0,0,0,0,0,0,0,0,0,0,0,0,0,0,0,0,0,0,0,0,0,0,0,0,0,0,0,0,0,0,0,0,0,0,0,0,0,0,0,0,0,0,0,0,0,0,0,0]
[null,null,null,null,null,"Alto Riesgo",null,{"$f":"IFERROR(COUNTIFS(H5:H13,\">=0.75\",H5:H13,\"<1.01\"),\"-\")","v":0},0,0,0,0,0,0,0,0,0,0,0,0,0,0,0,0,0,0,0,0,0,0,0,0,0,0,0,0,0,0,0,0,0,0,0,0,0,0,0,0,0,0,0,0,0,0,0,0,0]
[null,null,null,null,null,"Riesgo Moderado",null,{"$f":"IFERROR(COUNTIFS(H5:H13,\">=0.26\",H5:H13,\"<=0.74\"),\"-\")","v":0},0,0,0,0,0,0,0,0,0,0,0,0,0,0,0,0,0,0,0,0,0,0,0,0,0,0,0,0,0,0,0,0,0,0,0,0,0,0,0,0,0,0,0,0,0,0,0,0,0]
[null,null,null,null,null,"Bajo Riesgo",null,{"$f":"IFERROR(COUNTIFS(H5:H13,\">=0\",H5:H13,\"<0.25\"),\"-\")","v":0},0,0,0,0,0,0,0,0,0,0,0,0,0,0,0,0,0,0,0,0,0,0,0,0,0,0,0,0,0,0,0,0,0,0,0,0,0,0,0,0,0,0,0,0,0,0,0,0,0]
[null,null,null,null,null,"TOTAL",null,{"$f":"+SUM(H16:H19)","v":0},0,0,0,0,0,0,0,0,0,0,0,0,0,0,0,0,0,0,0,0,0,0,0,0,0,0,0,0,0,0,0,0,0,0,0,0,0,0,0,0,0,0,0,0,0,0,0,0,0]

{"sheet":"Resumen de Escala FR","index":8,"n_rows":18,"n_cols":55,"rows_kept":18,"cut":false,"hidden":false,"merged":[]}
[]
[]
[]
[null,"Dimensión","Escala","Resultado Promedio del aula",null,{"$f":"+'BASE DE RESPUESTAS'!H5","v":"Estudiante 1"},{"$f":"+'BASE DE RESPUESTAS'!I5","v":"Estudiante 2"},{"$f":"+'BASE DE RESPUESTAS'!J5","v":"Estudiante 3"},{"$f":"+'BASE DE RESPUESTAS'!K5","v":"Estudiante 4"},{"$f":"+'BASE DE RESPUESTAS'!L5","v":"Estudiante 5"},{"$f":"+'BASE DE RESPUESTAS'!M5","v":"Estudiante 6"},{"$f":"+'BASE DE RESPUESTAS'!N5","v":"Estudiante 7"},{"$f":"+'BASE DE RESPUESTAS'!O5","v":"Estudiante 8"},{"$f":"+'BASE DE RESPUESTAS'!P5","v":"Estudiante 9"},{"$f":"+'BASE DE RESPUESTAS'!Q5","v":"Estudiante 10"},{"$f":"+'BASE DE RESPUESTAS'!R5","v":"Estudiante 11"},{"$f":"+'BASE DE RESPUESTAS'!S5","v":"Estudiante 12"},{"$f":"+'BASE DE RESPUESTAS'!T5","v":"Estudiante 13"},{"$f":"+'BASE DE RESPUESTAS'!U5","v":"Estudiante 14"},{"$f":"+'BASE DE RESPUESTAS'!V5","v":"Estudiante 15"},{"$f":"+'BASE DE RESPUESTAS'!W5","v":"Estudiante 16"},{"$f":"+'BASE DE RESPUESTAS'!X5","v":"Estudiante 17"},{"$f":"+'BASE DE RESPUESTAS'!Y5","v":"Estudiante 18"},{"$f":"+'BASE DE RESPUESTAS'!Z5","v":"Estudiante 19"},{"$f":"+'BASE DE RESPUESTAS'!AA5","v":"Estudiante 20"},{"$f":"+'BASE DE RESPUESTAS'!AB5","v":"Estudiante 21"},{"$f":"+'BASE DE RESPUESTAS'!AC5","v":"Estudiante 22"},{"$f":"+'BASE DE RESPUESTAS'!AD5","v":"Estudiante 23"},{"$f":"+'BASE DE RESPUESTAS'!AE5","v":"Estudiante 24"},{"$f":"+'BASE DE RESPUESTAS'!AF5","v":"Estudiante 25"},{"$f":"+'BASE DE RESPUESTAS'!AG5","v":"Estudiante 26"},{"$f":"+'BASE DE RESPUESTAS'!AH5","v":"Estudiante 27"},{"$f":"+'BASE DE RESPUESTAS'!AI5","v":"Estudiante 28"},{"$f":"+'BASE DE RESPUESTAS'!AJ5","v":"Estudiante 29"},{"$f":"+'BASE DE RESPUESTAS'!AK5","v":"Estudiante 30"},{"$f":"+'BASE DE RESPUESTAS'!AL5","v":"Estudiante 31"},{"$f":"+'BASE DE RESPUESTAS'!AM5","v":"Estudiante 32"},{"$f":"+'BASE DE RESPUESTAS'!AN5","v":"Estudiante 33"},{"$f":"+'BASE DE RESPUESTAS'!AO5","v":"Estudiante 34"},{"$f":"+'BASE DE RESPUESTAS'!AP5","v":"Estudiante 35"},{"$f":"+'BASE DE RESPUESTAS'!AQ5","v":"Estudiante 36"},{"$f":"+'BASE DE RESPUESTAS'!AR5","v":"Estudiante 37"},{"$f":"+'BASE DE RESPUESTAS'!AS5","v":"Estudiante 38"},{"$f":"+'BASE DE RESPUESTAS'!AT5","v":"Estudiante 39"},{"$f":"+'BASE DE RESPUESTAS'!AU5","v":"Estudiante 40"},{"$f":"+'BASE DE RESPUESTAS'!AV5","v":"Estudiante 41"},{"$f":"+'BASE DE RESPUESTAS'!AW5","v":"Estudiante 42"},{"$f":"+'BASE DE RESPUESTAS'!AX5","v":"Estudiante 43"},{"$f":"+'BASE DE RESPUESTAS'!AY5","v":"Estudiante 44"},{"$f":"+'BASE DE RESPUESTAS'!AZ5","v":"Estudiante 45"},{"$f":"+'BASE DE RESPUESTAS'!BA5","v":"Estudiante 46"},{"$f":"+'BASE DE RESPUESTAS'!BB5","v":"Estudiante 47"},{"$f":"+'BASE DE RESPUESTAS'!BC5","v":"Estudiante 48"},{"$f":"+'BASE DE RESPUESTAS'!BD5","v":"Estudiante 49"},{"$f":"+'BASE DE RESPUESTAS'!BE5","v":"Estudiante 50"}]
[]
[null,"FR","Dificultades para mantener la concentración",{"$f":"+IFERROR(AVERAGEIFS(F6:BC6,F6:BC6,\">=0\"),\"-\")","v":"-"},null,{"$f":"+IFERROR(AVERAGEIFS('Resumen de indicadores FR'!H5:H6,'Resumen de indicadores FR'!H5:H6,\">=0\"),\"-\")","v":"-"},{"$f":"+IFERROR(AVERAGEIFS('Resumen de indicadores FR'!I5:I6,'Resumen de indicadores FR'!I5:I6,\">=0\"),\"-\")","v":"-"},{"$f":"+IFERROR(AVERAGEIFS('Resumen de indicadores FR'!J5:J6,'Resumen de indicadores FR'!J5:J6,\">=0\"),\"-\")","v":"-"},{"$f":"+IFERROR(AVERAGEIFS('Resumen de indicadores FR'!K5:K6,'Resumen de indicadores FR'!K5:K6,\">=0\"),\"-\")","v":"-"},{"$f":"+IFERROR(AVERAGEIFS('Resumen de indicadores FR'!L5:L6,'Resumen de indicadores FR'!L5:L6,\">=0\"),\"-\")","v":"-"},{"$f":"+IFERROR(AVERAGEIFS('Resumen de indicadores FR'!M5:M6,'Resumen de indicadores FR'!M5:M6,\">=0\"),\"-\")","v":"-"},{"$f":"+IFERROR(AVERAGEIFS('Resumen de indicadores FR'!N5:N6,'Resumen de indicadores FR'!N5:N6,\">=0\"),\"-\")","v":"-"},{"$f":"+IFERROR(AVERAGEIFS('Resumen de indicadores FR'!O5:O6,'Resumen de indicadores FR'!O5:O6,\">=0\"),\"-\")","v":"-"},{"$f":"+IFERROR(AVERAGEIFS('Resumen de indicadores FR'!P5:P6,'Resumen de indicadores FR'!P5:P6,\">=0\"),\"-\")","v":"-"},{"$f":"+IFERROR(AVERAGEIFS('Resumen de indicadores FR'!Q5:Q6,'Resumen de indicadores FR'!Q5:Q6,\">=0\"),\"-\")","v":"-"},{"$f":"+IFERROR(AVERAGEIFS('Resumen de indicadores FR'!R5:R6,'Resumen de indicadores FR'!R5:R6,\">=0\"),\"-\")","v":"-"},{"$f":"+IFERROR(AVERAGEIFS('Resumen de indicadores FR'!S5:S6,'Resumen de indicadores FR'!S5:S6,\">=0\"),\"-\")","v":"-"},{"$f":"+IFERROR(AVERAGEIFS('Resumen de indicadores FR'!T5:T6,'Resumen de indicadores FR'!T5:T6,\">=0\"),\"-\")","v":"-"},{"$f":"+IFERROR(AVERAGEIFS('Resumen de indicadores FR'!U5:U6,'Resumen de indicadores FR'!U5:U6,\">=0\"),\"-\")","v":"-"},{"$f":"+IFERROR(AVERAGEIFS('Resumen de indicadores FR'!V5:V6,'Resumen de indicadores FR'!V5:V6,\">=0\"),\"-\")","v":"-"},{"$f":"+IFERROR(AVERAGEIFS('Resumen de indicadores FR'!W5:W6,'Resumen de indicadores FR'!W5:W6,\">=0\"),\"-\")","v":"-"},{"$f":"+IFERROR(AVERAGEIFS('Resumen de indicadores FR'!X5:X6,'Resumen de indicadores FR'!X5:X6,\">=0\"),\"-\")","v":"-"},{"$f":"+IFERROR(AVERAGEIFS('Resumen de indicadores FR'!Y5:Y6,'Resumen de indicadores FR'!Y5:Y6,\">=0\"),\"-\")","v":"-"},{"$f":"+IFERROR(AVERAGEIFS('Resumen de indicadores FR'!Z5:Z6,'Resumen de indicadores FR'!Z5:Z6,\">=0\"),\"-\")","v":"-"},{"$f":"+IFERROR(AVERAGEIFS('Resumen de indicadores FR'!AA5:AA6,'Resumen de indicadores FR'!AA5:AA6,\">=0\"),\"-\")","v":"-"},{"$f":"+IFERROR(AVERAGEIFS('Resumen de indicadores FR'!AB5:AB6,'Resumen de indicadores FR'!AB5:AB6,\">=0\"),\"-\")","v":"-"},{"$f":"+IFERROR(AVERAGEIFS('Resumen de indicadores FR'!AC5:AC6,'Resumen de indicadores FR'!AC5:AC6,\">=0\"),\"-\")","v":"-"},{"$f":"+IFERROR(AVERAGEIFS('Resumen de indicadores FR'!AD5:AD6,'Resumen de indicadores FR'!AD5:AD6,\">=0\"),\"-\")","v":"-"},{"$f":"+IFERROR(AVERAGEIFS('Resumen de indicadores FR'!AE5:AE6,'Resumen de indicadores FR'!AE5:AE6,\">=0\"),\"-\")","v":"-"},{"$f":"+IFERROR(AVERAGEIFS('Resumen de indicadores FR'!AF5:AF6,'Resumen de indicadores FR'!AF5:AF6,\">=0\"),\"-\")","v":"-"},{"$f":"+IFERROR(AVERAGEIFS('Resumen de indicadores FR'!AG5:AG6,'Resumen de indicadores FR'!AG5:AG6,\">=0\"),\"-\")","v":"-"},{"$f":"+IFERROR(AVERAGEIFS('Resumen de indicadores FR'!AH5:AH6,'Resumen de indicadores FR'!AH5:AH6,\">=0\"),\"-\")","v":"-"},{"$f":"+IFERROR(AVERAGEIFS('Resumen de indicadores FR'!AI5:AI6,'Resumen de indicadores FR'!AI5:AI6,\">=0\"),\"-\")","v":"-"},{"$f":"+IFERROR(AVERAGEIFS('Resumen de indicadores FR'!AJ5:AJ6,'Resumen de indicadores FR'!AJ5:AJ6,\">=0\"),\"-\")","v":"-"},{"$f":"+IFERROR(AVERAGEIFS('Resumen de indicadores FR'!AK5:AK6,'Resumen de indicadores FR'!AK5:AK6,\">=0\"),\"-\")","v":"-"},{"$f":"+IFERROR(AVERAGEIFS('Resumen de indicadores FR'!AL5:AL6,'Resumen de indicadores FR'!AL5:AL6,\">=0\"),\"-\")","v":"-"},{"$f":"+IFERROR(AVERAGEIFS('Resumen de indicadores FR'!AM5:AM6,'Resumen de indicadores FR'!AM5:AM6,\">=0\"),\"-\")","v":"-"},{"$f":"+IFERROR(AVERAGEIFS('Resumen de indicadores FR'!AN5:AN6,'Resumen de indicadores FR'!AN5:AN6,\">=0\"),\"-\")","v":"-"},{"$f":"+IFERROR(AVERAGEIFS('Resumen de indicadores FR'!AO5:AO6,'Resumen de indicadores FR'!AO5:AO6,\">=0\"),\"-\")","v":"-"},{"$f":"+IFERROR(AVERAGEIFS('Resumen de indicadores FR'!AP5:AP6,'Resumen de indicadores FR'!AP5:AP6,\">=0\"),\"-\")","v":"-"},{"$f":"+IFERROR(AVERAGEIFS('Resumen de indicadores FR'!AQ5:AQ6,'Resumen de indicadores FR'!AQ5:AQ6,\">=0\"),\"-\")","v":"-"},{"$f":"+IFERROR(AVERAGEIFS('Resumen de indicadores FR'!AR5:AR6,'Resumen de indicadores FR'!AR5:AR6,\">=0\"),\"-\")","v":"-"},{"$f":"+IFERROR(AVERAGEIFS('Resumen de indicadores FR'!AS5:AS6,'Resumen de indicadores FR'!AS5:AS6,\">=0\"),\"-\")","v":"-"},{"$f":"+IFERROR(AVERAGEIFS('Resumen de indicadores FR'!AT5:AT6,'Resumen de indicadores FR'!AT5:AT6,\">=0\"),\"-\")","v":"-"},{"$f":"+IFERROR(AVERAGEIFS('Resumen de indicadores FR'!AU5:AU6,'Resumen de indicadores FR'!AU5:AU6,\">=0\"),\"-\")","v":"-"},{"$f":"+IFERROR(AVERAGEIFS('Resumen de indicadores FR'!AV5:AV6,'Resumen de indicadores FR'!AV5:AV6,\">=0\"),\"-\")","v":"-"},{"$f":"+IFERROR(AVERAGEIFS('Resumen de indicadores FR'!AW5:AW6,'Resumen de indicadores FR'!AW5:AW6,\">=0\"),\"-\")","v":"-"},{"$f":"+IFERROR(AVERAGEIFS('Resumen de indicadores FR'!AX5:AX6,'Resumen de indicadores FR'!AX5:AX6,\">=0\"),\"-\")","v":"-"},{"$f":"+IFERROR(AVERAGEIFS('Resumen de indicadores FR'!AY5:AY6,'Resumen de indicadores FR'!AY5:AY6,\">=0\"),\"-\")","v":"-"},{"$f":"+IFERROR(AVERAGEIFS('Resumen de indicadores FR'!AZ5:AZ6,'Resumen de indicadores FR'!AZ5:AZ6,\">=0\"),\"-\")","v":"-"},{"$f":"+IFERROR(AVERAGEIFS('Resumen de indicadores FR'!BA5:BA6,'Resumen de indicadores FR'!BA5:BA6,\">=0\"),\"-\")","v":"-"},{"$f":"+IFERROR(AVERAGEIFS('Resumen de indicadores FR'!BB5:BB6,'Resumen de indicadores FR'!BB5:BB6,\">=0\"),\"-\")","v":"-"},{"$f":"+IFERROR(AVERAGEIFS('Resumen de indicadores FR'!BC5:BC6,'Resumen de indicadores FR'!BC5:BC6,\">=0\"),\"-\")","v":"-"},{"$f":"+IFERROR(AVERAGEIFS('Resumen de indicadores FR'!BD5:BD6,'Resumen de indicadores FR'!BD5:BD6,\">=0\"),\"-\")","v":"-"},{"$f":"+IFERROR(AVERAGEIFS('Resumen de indicadores FR'!BE5:BE6,'Resumen de indicadores FR'!BE5:BE6,\">=0\"),\"-\")","v":"-"}]
[null,"FR","Dificultades en el desarrollo social","-",null,{"$f":"+IFERROR(AVERAGEIFS('Resumen de indicadores FR'!H7,'Resumen de indicadores FR'!H7,\">=0\"),\"-\")","v":"-"},{"$f":"+IFERROR(AVERAGEIFS('Resumen de indicadores FR'!I7,'Resumen de indicadores FR'!I7,\">=0\"),\"-\")","v":"-"},{"$f":"+IFERROR(AVERAGEIFS('Resumen de indicadores FR'!J7,'Resumen de indicadores FR'!J7,\">=0\"),\"-\")","v":"-"},{"$f":"+IFERROR(AVERAGEIFS('Resumen de indicadores FR'!K7,'Resumen de indicadores FR'!K7,\">=0\"),\"-\")","v":"-"},{"$f":"+IFERROR(AVERAGEIFS('Resumen de indicadores FR'!L7,'Resumen de indicadores FR'!L7,\">=0\"),\"-\")","v":"-"},{"$f":"+IFERROR(AVERAGEIFS('Resumen de indicadores FR'!M7,'Resumen de indicadores FR'!M7,\">=0\"),\"-\")","v":"-"},{"$f":"+IFERROR(AVERAGEIFS('Resumen de indicadores FR'!N7,'Resumen de indicadores FR'!N7,\">=0\"),\"-\")","v":"-"},{"$f":"+IFERROR(AVERAGEIFS('Resumen de indicadores FR'!O7,'Resumen de indicadores FR'!O7,\">=0\"),\"-\")","v":"-"},{"$f":"+IFERROR(AVERAGEIFS('Resumen de indicadores FR'!P7,'Resumen de indicadores FR'!P7,\">=0\"),\"-\")","v":"-"},{"$f":"+IFERROR(AVERAGEIFS('Resumen de indicadores FR'!Q7,'Resumen de indicadores FR'!Q7,\">=0\"),\"-\")","v":"-"},{"$f":"+IFERROR(AVERAGEIFS('Resumen de indicadores FR'!R7,'Resumen de indicadores FR'!R7,\">=0\"),\"-\")","v":"-"},{"$f":"+IFERROR(AVERAGEIFS('Resumen de indicadores FR'!S7,'Resumen de indicadores FR'!S7,\">=0\"),\"-\")","v":"-"},{"$f":"+IFERROR(AVERAGEIFS('Resumen de indicadores FR'!T7,'Resumen de indicadores FR'!T7,\">=0\"),\"-\")","v":"-"},{"$f":"+IFERROR(AVERAGEIFS('Resumen de indicadores FR'!U7,'Resumen de indicadores FR'!U7,\">=0\"),\"-\")","v":"-"},{"$f":"+IFERROR(AVERAGEIFS('Resumen de indicadores FR'!V7,'Resumen de indicadores FR'!V7,\">=0\"),\"-\")","v":"-"},{"$f":"+IFERROR(AVERAGEIFS('Resumen de indicadores FR'!W7,'Resumen de indicadores FR'!W7,\">=0\"),\"-\")","v":"-"},{"$f":"+IFERROR(AVERAGEIFS('Resumen de indicadores FR'!X7,'Resumen de indicadores FR'!X7,\">=0\"),\"-\")","v":"-"},{"$f":"+IFERROR(AVERAGEIFS('Resumen de indicadores FR'!Y7,'Resumen de indicadores FR'!Y7,\">=0\"),\"-\")","v":"-"},{"$f":"+IFERROR(AVERAGEIFS('Resumen de indicadores FR'!Z7,'Resumen de indicadores FR'!Z7,\">=0\"),\"-\")","v":"-"},{"$f":"+IFERROR(AVERAGEIFS('Resumen de indicadores FR'!AA7,'Resumen de indicadores FR'!AA7,\">=0\"),\"-\")","v":"-"},{"$f":"+IFERROR(AVERAGEIFS('Resumen de indicadores FR'!AB7,'Resumen de indicadores FR'!AB7,\">=0\"),\"-\")","v":"-"},{"$f":"+IFERROR(AVERAGEIFS('Resumen de indicadores FR'!AC7,'Resumen de indicadores FR'!AC7,\">=0\"),\"-\")","v":"-"},{"$f":"+IFERROR(AVERAGEIFS('Resumen de indicadores FR'!AD7,'Resumen de indicadores FR'!AD7,\">=0\"),\"-\")","v":"-"},{"$f":"+IFERROR(AVERAGEIFS('Resumen de indicadores FR'!AE7,'Resumen de indicadores FR'!AE7,\">=0\"),\"-\")","v":"-"},{"$f":"+IFERROR(AVERAGEIFS('Resumen de indicadores FR'!AF7,'Resumen de indicadores FR'!AF7,\">=0\"),\"-\")","v":"-"},{"$f":"+IFERROR(AVERAGEIFS('Resumen de indicadores FR'!AG7,'Resumen de indicadores FR'!AG7,\">=0\"),\"-\")","v":"-"},{"$f":"+IFERROR(AVERAGEIFS('Resumen de indicadores FR'!AH7,'Resumen de indicadores FR'!AH7,\">=0\"),\"-\")","v":"-"},{"$f":"+IFERROR(AVERAGEIFS('Resumen de indicadores FR'!AI7,'Resumen de indicadores FR'!AI7,\">=0\"),\"-\")","v":"-"},{"$f":"+IFERROR(AVERAGEIFS('Resumen de indicadores FR'!AJ7,'Resumen de indicadores FR'!AJ7,\">=0\"),\"-\")","v":"-"},{"$f":"+IFERROR(AVERAGEIFS('Resumen de indicadores FR'!AK7,'Resumen de indicadores FR'!AK7,\">=0\"),\"-\")","v":"-"},{"$f":"+IFERROR(AVERAGEIFS('Resumen de indicadores FR'!AL7,'Resumen de indicadores FR'!AL7,\">=0\"),\"-\")","v":"-"},{"$f":"+IFERROR(AVERAGEIFS('Resumen de indicadores FR'!AM7,'Resumen de indicadores FR'!AM7,\">=0\"),\"-\")","v":"-"},{"$f":"+IFERROR(AVERAGEIFS('Resumen de indicadores FR'!AN7,'Resumen de indicadores FR'!AN7,\">=0\"),\"-\")","v":"-"},{"$f":"+IFERROR(AVERAGEIFS('Resumen de indicadores FR'!AO7,'Resumen de indicadores FR'!AO7,\">=0\"),\"-\")","v":"-"},{"$f":"+IFERROR(AVERAGEIFS('Resumen de indicadores FR'!AP7,'Resumen de indicadores FR'!AP7,\">=0\"),\"-\")","v":"-"},{"$f":"+IFERROR(AVERAGEIFS('Resumen de indicadores FR'!AQ7,'Resumen de indicadores FR'!AQ7,\">=0\"),\"-\")","v":"-"},{"$f":"+IFERROR(AVERAGEIFS('Resumen de indicadores FR'!AR7,'Resumen de indicadores FR'!AR7,\">=0\"),\"-\")","v":"-"},{"$f":"+IFERROR(AVERAGEIFS('Resumen de indicadores FR'!AS7,'Resumen de indicadores FR'!AS7,\">=0\"),\"-\")","v":"-"},{"$f":"+IFERROR(AVERAGEIFS('Resumen de indicadores FR'!AT7,'Resumen de indicadores FR'!AT7,\">=0\"),\"-\")","v":"-"},{"$f":"+IFERROR(AVERAGEIFS('Resumen de indicadores FR'!AU7,'Resumen de indicadores FR'!AU7,\">=0\"),\"-\")","v":"-"},{"$f":"+IFERROR(AVERAGEIFS('Resumen de indicadores FR'!AV7,'Resumen de indicadores FR'!AV7,\">=0\"),\"-\")","v":"-"},{"$f":"+IFERROR(AVERAGEIFS('Resumen de indicadores FR'!AW7,'Resumen de indicadores FR'!AW7,\">=0\"),\"-\")","v":"-"},{"$f":"+IFERROR(AVERAGEIFS('Resumen de indicadores FR'!AX7,'Resumen de indicadores FR'!AX7,\">=0\"),\"-\")","v":"-"},{"$f":"+IFERROR(AVERAGEIFS('Resumen de indicadores FR'!AY7,'Resumen de indicadores FR'!AY7,\">=0\"),\"-\")","v":"-"},{"$f":"+IFERROR(AVERAGEIFS('Resumen de indicadores FR'!AZ7,'Resumen de indicadores FR'!AZ7,\">=0\"),\"-\")","v":"-"},{"$f":"+IFERROR(AVERAGEIFS('Resumen de indicadores FR'!BA7,'Resumen de indicadores FR'!BA7,\">=0\"),\"-\")","v":"-"},{"$f":"+IFERROR(AVERAGEIFS('Resumen de indicadores FR'!BB7,'Resumen de indicadores FR'!BB7,\">=0\"),\"-\")","v":"-"},{"$f":"+IFERROR(AVERAGEIFS('Resumen de indicadores FR'!BC7,'Resumen de indicadores FR'!BC7,\">=0\"),\"-\")","v":"-"},{"$f":"+IFERROR(AVERAGEIFS('Resumen de indicadores FR'!BD7,'Resumen de indicadores FR'!BD7,\">=0\"),\"-\")","v":"-"},{"$f":"+IFERROR(AVERAGEIFS('Resumen de indicadores FR'!BE7,'Resumen de indicadores FR'!BE7,\">=0\"),\"-\")","v":"-"}]
[null,"FR","Trabajo Infantil","-",null,{"$f":"+IFERROR(AVERAGEIFS('Resumen de indicadores FR'!H8,'Resumen de indicadores FR'!H8,\">=0\"),\"-\")","v":"-"},{"$f":"+IFERROR(AVERAGEIFS('Resumen de indicadores FR'!I8,'Resumen de indicadores FR'!I8,\">=0\"),\"-\")","v":"-"},{"$f":"+IFERROR(AVERAGEIFS('Resumen de indicadores FR'!J8,'Resumen de indicadores FR'!J8,\">=0\"),\"-\")","v":"-"},{"$f":"+IFERROR(AVERAGEIFS('Resumen de indicadores FR'!K8,'Resumen de indicadores FR'!K8,\">=0\"),\"-\")","v":"-"},{"$f":"+IFERROR(AVERAGEIFS('Resumen de indicadores FR'!L8,'Resumen de indicadores FR'!L8,\">=0\"),\"-\")","v":"-"},{"$f":"+IFERROR(AVERAGEIFS('Resumen de indicadores FR'!M8,'Resumen de indicadores FR'!M8,\">=0\"),\"-\")","v":"-"},{"$f":"+IFERROR(AVERAGEIFS('Resumen de indicadores FR'!N8,'Resumen de indicadores FR'!N8,\">=0\"),\"-\")","v":"-"},{"$f":"+IFERROR(AVERAGEIFS('Resumen de indicadores FR'!O8,'Resumen de indicadores FR'!O8,\">=0\"),\"-\")","v":"-"},{"$f":"+IFERROR(AVERAGEIFS('Resumen de indicadores FR'!P8,'Resumen de indicadores FR'!P8,\">=0\"),\"-\")","v":"-"},{"$f":"+IFERROR(AVERAGEIFS('Resumen de indicadores FR'!Q8,'Resumen de indicadores FR'!Q8,\">=0\"),\"-\")","v":"-"},{"$f":"+IFERROR(AVERAGEIFS('Resumen de indicadores FR'!R8,'Resumen de indicadores FR'!R8,\">=0\"),\"-\")","v":"-"},{"$f":"+IFERROR(AVERAGEIFS('Resumen de indicadores FR'!S8,'Resumen de indicadores FR'!S8,\">=0\"),\"-\")","v":"-"},{"$f":"+IFERROR(AVERAGEIFS('Resumen de indicadores FR'!T8,'Resumen de indicadores FR'!T8,\">=0\"),\"-\")","v":"-"},{"$f":"+IFERROR(AVERAGEIFS('Resumen de indicadores FR'!U8,'Resumen de indicadores FR'!U8,\">=0\"),\"-\")","v":"-"},{"$f":"+IFERROR(AVERAGEIFS('Resumen de indicadores FR'!V8,'Resumen de indicadores FR'!V8,\">=0\"),\"-\")","v":"-"},{"$f":"+IFERROR(AVERAGEIFS('Resumen de indicadores FR'!W8,'Resumen de indicadores FR'!W8,\">=0\"),\"-\")","v":"-"},{"$f":"+IFERROR(AVERAGEIFS('Resumen de indicadores FR'!X8,'Resumen de indicadores FR'!X8,\">=0\"),\"-\")","v":"-"},{"$f":"+IFERROR(AVERAGEIFS('Resumen de indicadores FR'!Y8,'Resumen de indicadores FR'!Y8,\">=0\"),\"-\")","v":"-"},{"$f":"+IFERROR(AVERAGEIFS('Resumen de indicadores FR'!Z8,'Resumen de indicadores FR'!Z8,\">=0\"),\"-\")","v":"-"},{"$f":"+IFERROR(AVERAGEIFS('Resumen de indicadores FR'!AA8,'Resumen de indicadores FR'!AA8,\">=0\"),\"-\")","v":"-"},{"$f":"+IFERROR(AVERAGEIFS('Resumen de indicadores FR'!AB8,'Resumen de indicadores FR'!AB8,\">=0\"),\"-\")","v":"-"},{"$f":"+IFERROR(AVERAGEIFS('Resumen de indicadores FR'!AC8,'Resumen de indicadores FR'!AC8,\">=0\"),\"-\")","v":"-"},{"$f":"+IFERROR(AVERAGEIFS('Resumen de indicadores FR'!AD8,'Resumen de indicadores FR'!AD8,\">=0\"),\"-\")","v":"-"},{"$f":"+IFERROR(AVERAGEIFS('Resumen de indicadores FR'!AE8,'Resumen de indicadores FR'!AE8,\">=0\"),\"-\")","v":"-"},{"$f":"+IFERROR(AVERAGEIFS('Resumen de indicadores FR'!AF8,'Resumen de indicadores FR'!AF8,\">=0\"),\"-\")","v":"-"},{"$f":"+IFERROR(AVERAGEIFS('Resumen de indicadores FR'!AG8,'Resumen de indicadores FR'!AG8,\">=0\"),\"-\")","v":"-"},{"$f":"+IFERROR(AVERAGEIFS('Resumen de indicadores FR'!AH8,'Resumen de indicadores FR'!AH8,\">=0\"),\"-\")","v":"-"},{"$f":"+IFERROR(AVERAGEIFS('Resumen de indicadores FR'!AI8,'Resumen de indicadores FR'!AI8,\">=0\"),\"-\")","v":"-"},{"$f":"+IFERROR(AVERAGEIFS('Resumen de indicadores FR'!AJ8,'Resumen de indicadores FR'!AJ8,\">=0\"),\"-\")","v":"-"},{"$f":"+IFERROR(AVERAGEIFS('Resumen de indicadores FR'!AK8,'Resumen de indicadores FR'!AK8,\">=0\"),\"-\")","v":"-"},{"$f":"+IFERROR(AVERAGEIFS('Resumen de indicadores FR'!AL8,'Resumen de indicadores FR'!AL8,\">=0\"),\"-\")","v":"-"},{"$f":"+IFERROR(AVERAGEIFS('Resumen de indicadores FR'!AM8,'Resumen de indicadores FR'!AM8,\">=0\"),\"-\")","v":"-"},{"$f":"+IFERROR(AVERAGEIFS('Resumen de indicadores FR'!AN8,'Resumen de indicadores FR'!AN8,\">=0\"),\"-\")","v":"-"},{"$f":"+IFERROR(AVERAGEIFS('Resumen de indicadores FR'!AO8,'Resumen de indicadores FR'!AO8,\">=0\"),\"-\")","v":"-"},{"$f":"+IFERROR(AVERAGEIFS('Resumen de indicadores FR'!AP8,'Resumen de indicadores FR'!AP8,\">=0\"),\"-\")","v":"-"},{"$f":"+IFERROR(AVERAGEIFS('Resumen de indicadores FR'!AQ8,'Resumen de indicadores FR'!AQ8,\">=0\"),\"-\")","v":"-"},{"$f":"+IFERROR(AVERAGEIFS('Resumen de indicadores FR'!AR8,'Resumen de indicadores FR'!AR8,\">=0\"),\"-\")","v":"-"},{"$f":"+IFERROR(AVERAGEIFS('Resumen de indicadores FR'!AS8,'Resumen de indicadores FR'!AS8,\">=0\"),\"-\")","v":"-"},{"$f":"+IFERROR(AVERAGEIFS('Resumen de indicadores FR'!AT8,'Resumen de indicadores FR'!AT8,\">=0\"),\"-\")","v":"-"},{"$f":"+IFERROR(AVERAGEIFS('Resumen de indicadores FR'!AU8,'Resumen de indicadores FR'!AU8,\">=0\"),\"-\")","v":"-"},{"$f":"+IFERROR(AVERAGEIFS('Resumen de indicadores FR'!AV8,'Resumen de indicadores FR'!AV8,\">=0\"),\"-\")","v":"-"},{"$f":"+IFERROR(AVERAGEIFS('Resumen de indicadores FR'!AW8,'Resumen de indicadores FR'!AW8,\">=0\"),\"-\")","v":"-"},{"$f":"+IFERROR(AVERAGEIFS('Resumen de indicadores FR'!AX8,'Resumen de indicadores FR'!AX8,\">=0\"),\"-\")","v":"-"},{"$f":"+IFERROR(AVERAGEIFS('Resumen de indicadores FR'!AY8,'Resumen de indicadores FR'!AY8,\">=0\"),\"-\")","v":"-"},{"$f":"+IFERROR(AVERAGEIFS('Resumen de indicadores FR'!AZ8,'Resumen de indicadores FR'!AZ8,\">=0\"),\"-\")","v":"-"},{"$f":"+IFERROR(AVERAGEIFS('Resumen de indicadores FR'!BA8,'Resumen de indicadores FR'!BA8,\">=0\"),\"-\")","v":"-"},{"$f":"+IFERROR(AVERAGEIFS('Resumen de indicadores FR'!BB8,'Resumen de indicadores FR'!BB8,\">=0\"),\"-\")","v":"-"},{"$f":"+IFERROR(AVERAGEIFS('Resumen de indicadores FR'!BC8,'Resumen de indicadores FR'!BC8,\">=0\"),\"-\")","v":"-"},{"$f":"+IFERROR(AVERAGEIFS('Resumen de indicadores FR'!BD8,'Resumen de indicadores FR'!BD8,\">=0\"),\"-\")","v":"-"},{"$f":"+IFERROR(AVERAGEIFS('Resumen de indicadores FR'!BE8,'Resumen de indicadores FR'!BE8,\">=0\"),\"-\")","v":"-"}]
[null,"FR","Ausentismo Escolar","-",null,{"$f":"+IFERROR(AVERAGEIFS('Resumen de indicadores FR'!H9,'Resumen de indicadores FR'!H9,\">=0\"),\"-\")","v":"-"},{"$f":"+IFERROR(AVERAGEIFS('Resumen de indicadores FR'!I9,'Resumen de indicadores FR'!I9,\">=0\"),\"-\")","v":"-"},{"$f":"+IFERROR(AVERAGEIFS('Resumen de indicadores FR'!J9,'Resumen de indicadores FR'!J9,\">=0\"),\"-\")","v":"-"},{"$f":"+IFERROR(AVERAGEIFS('Resumen de indicadores FR'!K9,'Resumen de indicadores FR'!K9,\">=0\"),\"-\")","v":"-"},{"$f":"+IFERROR(AVERAGEIFS('Resumen de indicadores FR'!L9,'Resumen de indicadores FR'!L9,\">=0\"),\"-\")","v":"-"},{"$f":"+IFERROR(AVERAGEIFS('Resumen de indicadores FR'!M9,'Resumen de indicadores FR'!M9,\">=0\"),\"-\")","v":"-"},{"$f":"+IFERROR(AVERAGEIFS('Resumen de indicadores FR'!N9,'Resumen de indicadores FR'!N9,\">=0\"),\"-\")","v":"-"},{"$f":"+IFERROR(AVERAGEIFS('Resumen de indicadores FR'!O9,'Resumen de indicadores FR'!O9,\">=0\"),\"-\")","v":"-"},{"$f":"+IFERROR(AVERAGEIFS('Resumen de indicadores FR'!P9,'Resumen de indicadores FR'!P9,\">=0\"),\"-\")","v":"-"},{"$f":"+IFERROR(AVERAGEIFS('Resumen de indicadores FR'!Q9,'Resumen de indicadores FR'!Q9,\">=0\"),\"-\")","v":"-"},{"$f":"+IFERROR(AVERAGEIFS('Resumen de indicadores FR'!R9,'Resumen de indicadores FR'!R9,\">=0\"),\"-\")","v":"-"},{"$f":"+IFERROR(AVERAGEIFS('Resumen de indicadores FR'!S9,'Resumen de indicadores FR'!S9,\">=0\"),\"-\")","v":"-"},{"$f":"+IFERROR(AVERAGEIFS('Resumen de indicadores FR'!T9,'Resumen de indicadores FR'!T9,\">=0\"),\"-\")","v":"-"},{"$f":"+IFERROR(AVERAGEIFS('Resumen de indicadores FR'!U9,'Resumen de indicadores FR'!U9,\">=0\"),\"-\")","v":"-"},{"$f":"+IFERROR(AVERAGEIFS('Resumen de indicadores FR'!V9,'Resumen de indicadores FR'!V9,\">=0\"),\"-\")","v":"-"},{"$f":"+IFERROR(AVERAGEIFS('Resumen de indicadores FR'!W9,'Resumen de indicadores FR'!W9,\">=0\"),\"-\")","v":"-"},{"$f":"+IFERROR(AVERAGEIFS('Resumen de indicadores FR'!X9,'Resumen de indicadores FR'!X9,\">=0\"),\"-\")","v":"-"},{"$f":"+IFERROR(AVERAGEIFS('Resumen de indicadores FR'!Y9,'Resumen de indicadores FR'!Y9,\">=0\"),\"-\")","v":"-"},{"$f":"+IFERROR(AVERAGEIFS('Resumen de indicadores FR'!Z9,'Resumen de indicadores FR'!Z9,\">=0\"),\"-\")","v":"-"},{"$f":"+IFERROR(AVERAGEIFS('Resumen de indicadores FR'!AA9,'Resumen de indicadores FR'!AA9,\">=0\"),\"-\")","v":"-"},{"$f":"+IFERROR(AVERAGEIFS('Resumen de indicadores FR'!AB9,'Resumen de indicadores FR'!AB9,\">=0\"),\"-\")","v":"-"},{"$f":"+IFERROR(AVERAGEIFS('Resumen de indicadores FR'!AC9,'Resumen de indicadores FR'!AC9,\">=0\"),\"-\")","v":"-"},{"$f":"+IFERROR(AVERAGEIFS('Resumen de indicadores FR'!AD9,'Resumen de indicadores FR'!AD9,\">=0\"),\"-\")","v":"-"},{"$f":"+IFERROR(AVERAGEIFS('Resumen de indicadores FR'!AE9,'Resumen de indicadores FR'!AE9,\">=0\"),\"-\")","v":"-"},{"$f":"+IFERROR(AVERAGEIFS('Resumen de indicadores FR'!AF9,'Resumen de indicadores FR'!AF9,\">=0\"),\"-\")","v":"-"},{"$f":"+IFERROR(AVERAGEIFS('Resumen de indicadores FR'!AG9,'Resumen de indicadores FR'!AG9,\">=0\"),\"-\")","v":"-"},{"$f":"+IFERROR(AVERAGEIFS('Resumen de indicadores FR'!AH9,'Resumen de indicadores FR'!AH9,\">=0\"),\"-\")","v":"-"},{"$f":"+IFERROR(AVERAGEIFS('Resumen de indicadores FR'!AI9,'Resumen de indicadores FR'!AI9,\">=0\"),\"-\")","v":"-"},{"$f":"+IFERROR(AVERAGEIFS('Resumen de indicadores FR'!AJ9,'Resumen de indicadores FR'!AJ9,\">=0\"),\"-\")","v":"-"},{"$f":"+IFERROR(AVERAGEIFS('Resumen de indicadores FR'!AK9,'Resumen de indicadores FR'!AK9,\">=0\"),\"-\")","v":"-"},{"$f":"+IFERROR(AVERAGEIFS('Resumen de indicadores FR'!AL9,'Resumen de indicadores FR'!AL9,\">=0\"),\"-\")","v":"-"},{"$f":"+IFERROR(AVERAGEIFS('Resumen de indicadores FR'!AM9,'Resumen de indicadores FR'!AM9,\">=0\"),\"-\")","v":"-"},{"$f":"+IFERROR(AVERAGEIFS('Resumen de indicadores FR'!AN9,'Resumen de indicadores FR'!AN9,\">=0\"),\"-\")","v":"-"},{"$f":"+IFERROR(AVERAGEIFS('Resumen de indicadores FR'!AO9,'Resumen de indicadores FR'!AO9,\">=0\"),\"-\")","v":"-"},{"$f":"+IFERROR(AVERAGEIFS('Resumen de indicadores FR'!AP9,'Resumen de indicadores FR'!AP9,\">=0\"),\"-\")","v":"-"},{"$f":"+IFERROR(AVERAGEIFS('Resumen de indicadores FR'!AQ9,'Resumen de indicadores FR'!AQ9,\">=0\"),\"-\")","v":"-"},{"$f":"+IFERROR(AVERAGEIFS('Resumen de indicadores FR'!AR9,'Resumen de indicadores FR'!AR9,\">=0\"),\"-\")","v":"-"},{"$f":"+IFERROR(AVERAGEIFS('Resumen de indicadores FR'!AS9,'Resumen de indicadores FR'!AS9,\">=0\"),\"-\")","v":"-"},{"$f":"+IFERROR(AVERAGEIFS('Resumen de indicadores FR'!AT9,'Resumen de indicadores FR'!AT9,\">=0\"),\"-\")","v":"-"},{"$f":"+IFERROR(AVERAGEIFS('Resumen de indicadores FR'!AU9,'Resumen de indicadores FR'!AU9,\">=0\"),\"-\")","v":"-"},{"$f":"+IFERROR(AVERAGEIFS('Resumen de indicadores FR'!AV9,'Resumen de indicadores FR'!AV9,\">=0\"),\"-\")","v":"-"},{"$f":"+IFERROR(AVERAGEIFS('Resumen de indicadores FR'!AW9,'Resumen de indicadores FR'!AW9,\">=0\"),\"-\")","v":"-"},{"$f":"+IFERROR(AVERAGEIFS('Resumen de indicadores FR'!AX9,'Resumen de indicadores FR'!AX9,\">=0\"),\"-\")","v":"-"},{"$f":"+IFERROR(AVERAGEIFS('Resumen de indicadores FR'!AY9,'Resumen de indicadores FR'!AY9,\">=0\"),\"-\")","v":"-"},{"$f":"+IFERROR(AVERAGEIFS('Resumen de indicadores FR'!AZ9,'Resumen de indicadores FR'!AZ9,\">=0\"),\"-\")","v":"-"},{"$f":"+IFERROR(AVERAGEIFS('Resumen de indicadores FR'!BA9,'Resumen de indicadores FR'!BA9,\">=0\"),\"-\")","v":"-"},{"$f":"+IFERROR(AVERAGEIFS('Resumen de indicadores FR'!BB9,'Resumen de indicadores FR'!BB9,\">=0\"),\"-\")","v":"-"},{"$f":"+IFERROR(AVERAGEIFS('Resumen de indicadores FR'!BC9,'Resumen de indicadores FR'!BC9,\">=0\"),\"-\")","v":"-"},{"$f":"+IFERROR(AVERAGEIFS('Resumen de indicadores FR'!BD9,'Resumen de indicadores FR'!BD9,\">=0\"),\"-\")","v":"-"},{"$f":"+IFERROR(AVERAGEIFS('Resumen de indicadores FR'!BE9,'Resumen de indicadores FR'!BE9,\">=0\"),\"-\")","v":"-"}]
[null,"FR","Riesgo de desprotección familiar","-",null,{"$f":"+IFERROR(AVERAGEIFS('Resumen de indicadores FR'!H10,'Resumen de indicadores FR'!H10,\">=0\"),\"-\")","v":"-"},{"$f":"+IFERROR(AVERAGEIFS('Resumen de indicadores FR'!I10,'Resumen de indicadores FR'!I10,\">=0\"),\"-\")","v":"-"},{"$f":"+IFERROR(AVERAGEIFS('Resumen de indicadores FR'!J10,'Resumen de indicadores FR'!J10,\">=0\"),\"-\")","v":"-"},{"$f":"+IFERROR(AVERAGEIFS('Resumen de indicadores FR'!K10,'Resumen de indicadores FR'!K10,\">=0\"),\"-\")","v":"-"},{"$f":"+IFERROR(AVERAGEIFS('Resumen de indicadores FR'!L10,'Resumen de indicadores FR'!L10,\">=0\"),\"-\")","v":"-"},{"$f":"+IFERROR(AVERAGEIFS('Resumen de indicadores FR'!M10,'Resumen de indicadores FR'!M10,\">=0\"),\"-\")","v":"-"},{"$f":"+IFERROR(AVERAGEIFS('Resumen de indicadores FR'!N10,'Resumen de indicadores FR'!N10,\">=0\"),\"-\")","v":"-"},{"$f":"+IFERROR(AVERAGEIFS('Resumen de indicadores FR'!O10,'Resumen de indicadores FR'!O10,\">=0\"),\"-\")","v":"-"},{"$f":"+IFERROR(AVERAGEIFS('Resumen de indicadores FR'!P10,'Resumen de indicadores FR'!P10,\">=0\"),\"-\")","v":"-"},{"$f":"+IFERROR(AVERAGEIFS('Resumen de indicadores FR'!Q10,'Resumen de indicadores FR'!Q10,\">=0\"),\"-\")","v":"-"},{"$f":"+IFERROR(AVERAGEIFS('Resumen de indicadores FR'!R10,'Resumen de indicadores FR'!R10,\">=0\"),\"-\")","v":"-"},{"$f":"+IFERROR(AVERAGEIFS('Resumen de indicadores FR'!S10,'Resumen de indicadores FR'!S10,\">=0\"),\"-\")","v":"-"},{"$f":"+IFERROR(AVERAGEIFS('Resumen de indicadores FR'!T10,'Resumen de indicadores FR'!T10,\">=0\"),\"-\")","v":"-"},{"$f":"+IFERROR(AVERAGEIFS('Resumen de indicadores FR'!U10,'Resumen de indicadores FR'!U10,\">=0\"),\"-\")","v":"-"},{"$f":"+IFERROR(AVERAGEIFS('Resumen de indicadores FR'!V10,'Resumen de indicadores FR'!V10,\">=0\"),\"-\")","v":"-"},{"$f":"+IFERROR(AVERAGEIFS('Resumen de indicadores FR'!W10,'Resumen de indicadores FR'!W10,\">=0\"),\"-\")","v":"-"},{"$f":"+IFERROR(AVERAGEIFS('Resumen de indicadores FR'!X10,'Resumen de indicadores FR'!X10,\">=0\"),\"-\")","v":"-"},{"$f":"+IFERROR(AVERAGEIFS('Resumen de indicadores FR'!Y10,'Resumen de indicadores FR'!Y10,\">=0\"),\"-\")","v":"-"},{"$f":"+IFERROR(AVERAGEIFS('Resumen de indicadores FR'!Z10,'Resumen de indicadores FR'!Z10,\">=0\"),\"-\")","v":"-"},{"$f":"+IFERROR(AVERAGEIFS('Resumen de indicadores FR'!AA10,'Resumen de indicadores FR'!AA10,\">=0\"),\"-\")","v":"-"},{"$f":"+IFERROR(AVERAGEIFS('Resumen de indicadores FR'!AB10,'Resumen de indicadores FR'!AB10,\">=0\"),\"-\")","v":"-"},{"$f":"+IFERROR(AVERAGEIFS('Resumen de indicadores FR'!AC10,'Resumen de indicadores FR'!AC10,\">=0\"),\"-\")","v":"-"},{"$f":"+IFERROR(AVERAGEIFS('Resumen de indicadores FR'!AD10,'Resumen de indicadores FR'!AD10,\">=0\"),\"-\")","v":"-"},{"$f":"+IFERROR(AVERAGEIFS('Resumen de indicadores FR'!AE10,'Resumen de indicadores FR'!AE10,\">=0\"),\"-\")","v":"-"},{"$f":"+IFERROR(AVERAGEIFS('Resumen de indicadores FR'!AF10,'Resumen de indicadores FR'!AF10,\">=0\"),\"-\")","v":"-"},{"$f":"+IFERROR(AVERAGEIFS('Resumen de indicadores FR'!AG10,'Resumen de indicadores FR'!AG10,\">=0\"),\"-\")","v":"-"},{"$f":"+IFERROR(AVERAGEIFS('Resumen de indicadores FR'!AH10,'Resumen de indicadores FR'!AH10,\">=0\"),\"-\")","v":"-"},{"$f":"+IFERROR(AVERAGEIFS('Resumen de indicadores FR'!AI10,'Resumen de indicadores FR'!AI10,\">=0\"),\"-\")","v":"-"},{"$f":"+IFERROR(AVERAGEIFS('Resumen de indicadores FR'!AJ10,'Resumen de indicadores FR'!AJ10,\">=0\"),\"-\")","v":"-"},{"$f":"+IFERROR(AVERAGEIFS('Resumen de indicadores FR'!AK10,'Resumen de indicadores FR'!AK10,\">=0\"),\"-\")","v":"-"},{"$f":"+IFERROR(AVERAGEIFS('Resumen de indicadores FR'!AL10,'Resumen de indicadores FR'!AL10,\">=0\"),\"-\")","v":"-"},{"$f":"+IFERROR(AVERAGEIFS('Resumen de indicadores FR'!AM10,'Resumen de indicadores FR'!AM10,\">=0\"),\"-\")","v":"-"},{"$f":"+IFERROR(AVERAGEIFS('Resumen de indicadores FR'!AN10,'Resumen de indicadores FR'!AN10,\">=0\"),\"-\")","v":"-"},{"$f":"+IFERROR(AVERAGEIFS('Resumen de indicadores FR'!AO10,'Resumen de indicadores FR'!AO10,\">=0\"),\"-\")","v":"-"},{"$f":"+IFERROR(AVERAGEIFS('Resumen de indicadores FR'!AP10,'Resumen de indicadores FR'!AP10,\">=0\"),\"-\")","v":"-"},{"$f":"+IFERROR(AVERAGEIFS('Resumen de indicadores FR'!AQ10,'Resumen de indicadores FR'!AQ10,\">=0\"),\"-\")","v":"-"},{"$f":"+IFERROR(AVERAGEIFS('Resumen de indicadores FR'!AR10,'Resumen de indicadores FR'!AR10,\">=0\"),\"-\")","v":"-"},{"$f":"+IFERROR(AVERAGEIFS('Resumen de indicadores FR'!AS10,'Resumen de indicadores FR'!AS10,\">=0\"),\"-\")","v":"-"},{"$f":"+IFERROR(AVERAGEIFS('Resumen de indicadores FR'!AT10,'Resumen de indicadores FR'!AT10,\">=0\"),\"-\")","v":"-"},{"$f":"+IFERROR(AVERAGEIFS('Resumen de indicadores FR'!AU10,'Resumen de indicadores FR'!AU10,\">=0\"),\"-\")","v":"-"},{"$f":"+IFERROR(AVERAGEIFS('Resumen de indicadores FR'!AV10,'Resumen de indicadores FR'!AV10,\">=0\"),\"-\")","v":"-"},{"$f":"+IFERROR(AVERAGEIFS('Resumen de indicadores FR'!AW10,'Resumen de indicadores FR'!AW10,\">=0\"),\"-\")","v":"-"},{"$f":"+IFERROR(AVERAGEIFS('Resumen de indicadores FR'!AX10,'Resumen de indicadores FR'!AX10,\">=0\"),\"-\")","v":"-"},{"$f":"+IFERROR(AVERAGEIFS('Resumen de indicadores FR'!AY10,'Resumen de indicadores FR'!AY10,\">=0\"),\"-\")","v":"-"},{"$f":"+IFERROR(AVERAGEIFS('Resumen de indicadores FR'!AZ10,'Resumen de indicadores FR'!AZ10,\">=0\"),\"-\")","v":"-"},{"$f":"+IFERROR(AVERAGEIFS('Resumen de indicadores FR'!BA10,'Resumen de indicadores FR'!BA10,\">=0\"),\"-\")","v":"-"},{"$f":"+IFERROR(AVERAGEIFS('Resumen de indicadores FR'!BB10,'Resumen de indicadores FR'!BB10,\">=0\"),\"-\")","v":"-"},{"$f":"+IFERROR(AVERAGEIFS('Resumen de indicadores FR'!BC10,'Resumen de indicadores FR'!BC10,\">=0\"),\"-\")","v":"-"},{"$f":"+IFERROR(AVERAGEIFS('Resumen de indicadores FR'!BD10,'Resumen de indicadores FR'!BD10,\">=0\"),\"-\")","v":"-"},{"$f":"+IFERROR(AVERAGEIFS('Resumen de indicadores FR'!BE10,'Resumen de indicadores FR'!BE10,\">=0\"),\"-\")","v":"-"}]
[null,"FR","Violencia escolar","-",null,{"$f":"+IFERROR(AVERAGEIFS('Resumen de indicadores FR'!H11:H13,'Resumen de indicadores FR'!H11:H13,\">=0\"),\"-\")","v":"-"},{"$f":"+IFERROR(AVERAGEIFS('Resumen de indicadores FR'!I11:I13,'Resumen de indicadores FR'!I11:I13,\">=0\"),\"-\")","v":"-"},{"$f":"+IFERROR(AVERAGEIFS('Resumen de indicadores FR'!J11:J13,'Resumen de indicadores FR'!J11:J13,\">=0\"),\"-\")","v":"-"},{"$f":"+IFERROR(AVERAGEIFS('Resumen de indicadores FR'!K11:K13,'Resumen de indicadores FR'!K11:K13,\">=0\"),\"-\")","v":"-"},{"$f":"+IFERROR(AVERAGEIFS('Resumen de indicadores FR'!L11:L13,'Resumen de indicadores FR'!L11:L13,\">=0\"),\"-\")","v":"-"},{"$f":"+IFERROR(AVERAGEIFS('Resumen de indicadores FR'!M11:M13,'Resumen de indicadores FR'!M11:M13,\">=0\"),\"-\")","v":"-"},{"$f":"+IFERROR(AVERAGEIFS('Resumen de indicadores FR'!N11:N13,'Resumen de indicadores FR'!N11:N13,\">=0\"),\"-\")","v":"-"},{"$f":"+IFERROR(AVERAGEIFS('Resumen de indicadores FR'!O11:O13,'Resumen de indicadores FR'!O11:O13,\">=0\"),\"-\")","v":"-"},{"$f":"+IFERROR(AVERAGEIFS('Resumen de indicadores FR'!P11:P13,'Resumen de indicadores FR'!P11:P13,\">=0\"),\"-\")","v":"-"},{"$f":"+IFERROR(AVERAGEIFS('Resumen de indicadores FR'!Q11:Q13,'Resumen de indicadores FR'!Q11:Q13,\">=0\"),\"-\")","v":"-"},{"$f":"+IFERROR(AVERAGEIFS('Resumen de indicadores FR'!R11:R13,'Resumen de indicadores FR'!R11:R13,\">=0\"),\"-\")","v":"-"},{"$f":"+IFERROR(AVERAGEIFS('Resumen de indicadores FR'!S11:S13,'Resumen de indicadores FR'!S11:S13,\">=0\"),\"-\")","v":"-"},{"$f":"+IFERROR(AVERAGEIFS('Resumen de indicadores FR'!T11:T13,'Resumen de indicadores FR'!T11:T13,\">=0\"),\"-\")","v":"-"},{"$f":"+IFERROR(AVERAGEIFS('Resumen de indicadores FR'!U11:U13,'Resumen de indicadores FR'!U11:U13,\">=0\"),\"-\")","v":"-"},{"$f":"+IFERROR(AVERAGEIFS('Resumen de indicadores FR'!V11:V13,'Resumen de indicadores FR'!V11:V13,\">=0\"),\"-\")","v":"-"},{"$f":"+IFERROR(AVERAGEIFS('Resumen de indicadores FR'!W11:W13,'Resumen de indicadores FR'!W11:W13,\">=0\"),\"-\")","v":"-"},{"$f":"+IFERROR(AVERAGEIFS('Resumen de indicadores FR'!X11:X13,'Resumen de indicadores FR'!X11:X13,\">=0\"),\"-\")","v":"-"},{"$f":"+IFERROR(AVERAGEIFS('Resumen de indicadores FR'!Y11:Y13,'Resumen de indicadores FR'!Y11:Y13,\">=0\"),\"-\")","v":"-"},{"$f":"+IFERROR(AVERAGEIFS('Resumen de indicadores FR'!Z11:Z13,'Resumen de indicadores FR'!Z11:Z13,\">=0\"),\"-\")","v":"-"},{"$f":"+IFERROR(AVERAGEIFS('Resumen de indicadores FR'!AA11:AA13,'Resumen de indicadores FR'!AA11:AA13,\">=0\"),\"-\")","v":"-"},{"$f":"+IFERROR(AVERAGEIFS('Resumen de indicadores FR'!AB11:AB13,'Resumen de indicadores FR'!AB11:AB13,\">=0\"),\"-\")","v":"-"},{"$f":"+IFERROR(AVERAGEIFS('Resumen de indicadores FR'!AC11:AC13,'Resumen de indicadores FR'!AC11:AC13,\">=0\"),\"-\")","v":"-"},{"$f":"+IFERROR(AVERAGEIFS('Resumen de indicadores FR'!AD11:AD13,'Resumen de indicadores FR'!AD11:AD13,\">=0\"),\"-\")","v":"-"},{"$f":"+IFERROR(AVERAGEIFS('Resumen de indicadores FR'!AE11:AE13,'Resumen de indicadores FR'!AE11:AE13,\">=0\"),\"-\")","v":"-"},{"$f":"+IFERROR(AVERAGEIFS('Resumen de indicadores FR'!AF11:AF13,'Resumen de indicadores FR'!AF11:AF13,\">=0\"),\"-\")","v":"-"},{"$f":"+IFERROR(AVERAGEIFS('Resumen de indicadores FR'!AG11:AG13,'Resumen de indicadores FR'!AG11:AG13,\">=0\"),\"-\")","v":"-"},{"$f":"+IFERROR(AVERAGEIFS('Resumen de indicadores FR'!AH11:AH13,'Resumen de indicadores FR'!AH11:AH13,\">=0\"),\"-\")","v":"-"},{"$f":"+IFERROR(AVERAGEIFS('Resumen de indicadores FR'!AI11:AI13,'Resumen de indicadores FR'!AI11:AI13,\">=0\"),\"-\")","v":"-"},{"$f":"+IFERROR(AVERAGEIFS('Resumen de indicadores FR'!AJ11:AJ13,'Resumen de indicadores FR'!AJ11:AJ13,\">=0\"),\"-\")","v":"-"},{"$f":"+IFERROR(AVERAGEIFS('Resumen de indicadores FR'!AK11:AK13,'Resumen de indicadores FR'!AK11:AK13,\">=0\"),\"-\")","v":"-"},{"$f":"+IFERROR(AVERAGEIFS('Resumen de indicadores FR'!AL11:AL13,'Resumen de indicadores FR'!AL11:AL13,\">=0\"),\"-\")","v":"-"},{"$f":"+IFERROR(AVERAGEIFS('Resumen de indicadores FR'!AM11:AM13,'Resumen de indicadores FR'!AM11:AM13,\">=0\"),\"-\")","v":"-"},{"$f":"+IFERROR(AVERAGEIFS('Resumen de indicadores FR'!AN11:AN13,'Resumen de indicadores FR'!AN11:AN13,\">=0\"),\"-\")","v":"-"},{"$f":"+IFERROR(AVERAGEIFS('Resumen de indicadores FR'!AO11:AO13,'Resumen de indicadores FR'!AO11:AO13,\">=0\"),\"-\")","v":"-"},{"$f":"+IFERROR(AVERAGEIFS('Resumen de indicadores FR'!AP11:AP13,'Resumen de indicadores FR'!AP11:AP13,\">=0\"),\"-\")","v":"-"},{"$f":"+IFERROR(AVERAGEIFS('Resumen de indicadores FR'!AQ11:AQ13,'Resumen de indicadores FR'!AQ11:AQ13,\">=0\"),\"-\")","v":"-"},{"$f":"+IFERROR(AVERAGEIFS('Resumen de indicadores FR'!AR11:AR13,'Resumen de indicadores FR'!AR11:AR13,\">=0\"),\"-\")","v":"-"},{"$f":"+IFERROR(AVERAGEIFS('Resumen de indicadores FR'!AS11:AS13,'Resumen de indicadores FR'!AS11:AS13,\">=0\"),\"-\")","v":"-"},{"$f":"+IFERROR(AVERAGEIFS('Resumen de indicadores FR'!AT11:AT13,'Resumen de indicadores FR'!AT11:AT13,\">=0\"),\"-\")","v":"-"},{"$f":"+IFERROR(AVERAGEIFS('Resumen de indicadores FR'!AU11:AU13,'Resumen de indicadores FR'!AU11:AU13,\">=0\"),\"-\")","v":"-"},{"$f":"+IFERROR(AVERAGEIFS('Resumen de indicadores FR'!AV11:AV13,'Resumen de indicadores FR'!AV11:AV13,\">=0\"),\"-\")","v":"-"},{"$f":"+IFERROR(AVERAGEIFS('Resumen de indicadores FR'!AW11:AW13,'Resumen de indicadores FR'!AW11:AW13,\">=0\"),\"-\")","v":"-"},{"$f":"+IFERROR(AVERAGEIFS('Resumen de indicadores FR'!AX11:AX13,'Resumen de indicadores FR'!AX11:AX13,\">=0\"),\"-\")","v":"-"},{"$f":"+IFERROR(AVERAGEIFS('Resumen de indicadores FR'!AY11:AY13,'Resumen de indicadores FR'!AY11:AY13,\">=0\"),\"-\")","v":"-"},{"$f":"+IFERROR(AVERAGEIFS('Resumen de indicadores FR'!AZ11:AZ13,'Resumen de indicadores FR'!AZ11:AZ13,\">=0\"),\"-\")","v":"-"},{"$f":"+IFERROR(AVERAGEIFS('Resumen de indicadores FR'!BA11:BA13,'Resumen de indicadores FR'!BA11:BA13,\">=0\"),\"-\")","v":"-"},{"$f":"+IFERROR(AVERAGEIFS('Resumen de indicadores FR'!BB11:BB13,'Resumen de indicadores FR'!BB11:BB13,\">=0\"),\"-\")","v":"-"},{"$f":"+IFERROR(AVERAGEIFS('Resumen de indicadores FR'!BC11:BC13,'Resumen de indicadores FR'!BC11:BC13,\">=0\"),\"-\")","v":"-"},{"$f":"+IFERROR(AVERAGEIFS('Resumen de indicadores FR'!BD11:BD13,'Resumen de indicadores FR'!BD11:BD13,\">=0\"),\"-\")","v":"-"},{"$f":"+IFERROR(AVERAGEIFS('Resumen de indicadores FR'!BE11:BE13,'Resumen de indicadores FR'!BE11:BE13,\">=0\"),\"-\")","v":"-"}]
[]
[null,null,null,"Indicadores",null,{"$f":"+F4","v":"Estudiante 1"},"Estudiante 2","Estudiante 3","Estudiante 4","Estudiante 5","Estudiante 6","Estudiante 7","Estudiante 8","Estudiante 9","Estudiante 10","Estudiante 11","Estudiante 12","Estudiante 13","Estudiante 14","Estudiante 15","Estudiante 16","Estudiante 17","Estudiante 18","Estudiante 19","Estudiante 20","Estudiante 21","Estudiante 22","Estudiante 23","Estudiante 24","Estudiante 25","Estudiante 26","Estudiante 27","Estudiante 28","Estudiante 29","Estudiante 30","Estudiante 31","Estudiante 32","Estudiante 33","Estudiante 34","Estudiante 35","Estudiante 36","Estudiante 37","Estudiante 38","Estudiante 39","Estudiante 40","Estudiante 41","Estudiante 42","Estudiante 43","Estudiante 44","Estudiante 45","Estudiante 46","Estudiante 47","Estudiante 48","Estudiante 49","Estudiante 50"]
[null,null,null,"Promedio Escala",null,{"$f":"IFERROR(AVERAGEIFS(F6:F11,F6:F11,\">=0\"),\"-\")","v":"-"},"-","-","-","-","-","-","-","-","-","-","-","-","-","-","-","-","-","-","-","-","-","-","-","-","-","-","-","-","-","-","-","-","-","-","-","-","-","-","-","-","-","-","-","-","-","-","-","-","-"]
[null,null,null,"Alto Riesgo",null,{"$f":"IF(ISNUMBER(F14),COUNTIFS(F6:F11,\">=0.75\",F6:F11,\"<1.01\"),0)","v":0},0,0,0,0,0,0,0,0,0,0,0,0,0,0,0,0,0,0,0,0,0,0,0,0,0,0,0,0,0,0,0,0,0,0,0,0,0,0,0,0,0,0,0,0,0,0,0,0,0]
[null,null,null,"Riesgo Moderado",null,{"$f":"IF(ISNUMBER(F14),COUNTIFS(F6:F11,\">=0.26\",F6:F11,\"<=0.74\"),0)","v":0},0,0,0,0,0,0,0,0,0,0,0,0,0,0,0,0,0,0,0,0,0,0,0,0,0,0,0,0,0,0,0,0,0,0,0,0,0,0,0,0,0,0,0,0,0,0,0,0,0]
[null,null,null,"Bajo Riesgo",null,{"$f":"IF(ISNUMBER(F14),COUNTIFS(F6:F11,\">=0\",F6:F11,\"<=0.25\"),0)","v":0},0,0,0,0,0,0,0,0,0,0,0,0,0,0,0,0,0,0,0,0,0,0,0,0,0,0,0,0,0,0,0,0,0,0,0,0,0,0,0,0,0,0,0,0,0,0,0,0,0]
[null,null,null,"TOTAL",null,{"$f":"+SUM(F15:F17)","v":0},0,0,0,0,0,0,0,0,0,0,0,0,0,0,0,0,0,0,0,0,0,0,0,0,0,0,0,0,0,0,0,0,0,0,0,0,0,0,0,0,0,0,0,0,0,0,0,0,0]

{"sheet":"Resumen de Resultados","index":9,"n_rows":54,"n_cols":12,"rows_kept":54,"cut":false,"hidden":false,"merged":[[1,1,1,5],[1,7,1,11]]}
[]
[null,"Escala HSE",null,null,null,null,null,"Escala FR"]
[null,"Resultado General del Aula",{"$f":"+IFERROR(AVERAGE(C5:C54),\"-\")","v":"-"},{"$f":"+IFERROR(AVERAGEIFS(D5:D54,C5:C54,\">=0\"),\"-\")","v":"-"},{"$f":"+IFERROR(AVERAGEIFS(E5:E54,C5:C54,\">=0\"),\"-\")","v":"-"},{"$f":"+IFERROR(AVERAGEIFS(F5:F54,C5:C54,\">=0\"),\"-\")","v":"-"},null,"Resultado General del Aula",{"$f":"+IFERROR(AVERAGE(I5:I54),\"-\")","v":"-"},{"$f":"+IFERROR(AVERAGEIFS(J5:J54,I5:I54,\">=0\"),\"-\")","v":"-"},{"$f":"+IFERROR(AVERAGEIFS(K5:K54,I5:I54,\">=0\"),\"-\")","v":"-"},{"$f":"+IFERROR(AVERAGEIFS(L5:L54,I5:I54,\">=0\"),\"-\")","v":"-"}]
[null,"Estudiantes","Promedio Puntaje","En inicio","En Proceso","Satisfactorio",null,"Estudiantes","Promedio Puntaje","Bajo Riesgo","Riesgo Moderado","Alto Riesgo"]
[null,{"$f":"+'Resumen de indicadores HSE'!H$4","v":"Estudiante 1"},{"$f":"+HLOOKUP(B5,'Resumen de Escala HSE'!$D$20:$BC$24,2,0)","v":"-"},{"$f":"+HLOOKUP(B5,'Resumen de Escala HSE'!$D$20:$BC$24,3,0)","v":0},{"$f":"+HLOOKUP(B5,'Resumen de Escala HSE'!$D$20:$BC$24,4,0)","v":0},{"$f":"+HLOOKUP(B5,'Resumen de Escala HSE'!$D$20:$BC$24,5,0)","v":0},null,{"$f":"+'Resumen de indicadores FR'!H$4","v":"Estudiante 1"},{"$f":"+HLOOKUP(H5,'Resumen de Escala FR'!$F$13:$BC$17,2,0)","v":"-"},{"$f":"+HLOOKUP(H5,'Resumen de Escala FR'!$F$13:$BC$17,5,0)","v":0},{"$f":"+HLOOKUP(H5,'Resumen de Escala FR'!$F$13:$BC$17,4,0)","v":0},{"$f":"+HLOOKUP(H5,'Resumen de Escala FR'!$F$13:$BC$17,3,0)","v":0}]
[null,{"$f":"+'Resumen de indicadores HSE'!I$4","v":"Estudiante 2"},{"$f":"+HLOOKUP(B6,'Resumen de Escala HSE'!$D$20:$BC$24,2,0)","v":"-"},{"$f":"+HLOOKUP(B6,'Resumen de Escala HSE'!$D$20:$BC$24,3,0)","v":0},{"$f":"+HLOOKUP(B6,'Resumen de Escala HSE'!$D$20:$BC$24,4,0)","v":0},{"$f":"+HLOOKUP(B6,'Resumen de Escala HSE'!$D$20:$BC$24,5,0)","v":0},null,{"$f":"+'Resumen de indicadores FR'!I$4","v":"Estudiante 2"},{"$f":"+HLOOKUP(H6,'Resumen de Escala FR'!$F$13:$BC$17,2,0)","v":"-"},{"$f":"+HLOOKUP(H6,'Resumen de Escala FR'!$F$13:$BC$17,5,0)","v":0},{"$f":"+HLOOKUP(H6,'Resumen de Escala FR'!$F$13:$BC$17,4,0)","v":0},{"$f":"+HLOOKUP(H6,'Resumen de Escala FR'!$F$13:$BC$17,3,0)","v":0}]
[null,{"$f":"+'Resumen de indicadores HSE'!J$4","v":"Estudiante 3"},{"$f":"+HLOOKUP(B7,'Resumen de Escala HSE'!$D$20:$BC$24,2,0)","v":"-"},{"$f":"+HLOOKUP(B7,'Resumen de Escala HSE'!$D$20:$BC$24,3,0)","v":0},{"$f":"+HLOOKUP(B7,'Resumen de Escala HSE'!$D$20:$BC$24,4,0)","v":0},{"$f":"+HLOOKUP(B7,'Resumen de Escala HSE'!$D$20:$BC$24,5,0)","v":0},null,{"$f":"+'Resumen de indicadores FR'!J$4","v":"Estudiante 3"},{"$f":"+HLOOKUP(H7,'Resumen de Escala FR'!$F$13:$BC$17,2,0)","v":"-"},{"$f":"+HLOOKUP(H7,'Resumen de Escala FR'!$F$13:$BC$17,5,0)","v":0},{"$f":"+HLOOKUP(H7,'Resumen de Escala FR'!$F$13:$BC$17,4,0)","v":0},{"$f":"+HLOOKUP(H7,'Resumen de Escala FR'!$F$13:$BC$17,3,0)","v":0}]
[null,{"$f":"+'Resumen de indicadores HSE'!K$4","v":"Estudiante 4"},{"$f":"+HLOOKUP(B8,'Resumen de Escala HSE'!$D$20:$BC$24,2,0)","v":"-"},{"$f":"+HLOOKUP(B8,'Resumen de Escala HSE'!$D$20:$BC$24,3,0)","v":0},{"$f":"+HLOOKUP(B8,'Resumen de Escala HSE'!$D$20:$BC$24,4,0)","v":0},{"$f":"+HLOOKUP(B8,'Resumen de Escala HSE'!$D$20:$BC$24,5,0)","v":0},null,{"$f":"+'Resumen de indicadores FR'!K$4","v":"Estudiante 4"},{"$f":"+HLOOKUP(H8,'Resumen de Escala FR'!$F$13:$BC$17,2,0)","v":"-"},{"$f":"+HLOOKUP(H8,'Resumen de Escala FR'!$F$13:$BC$17,5,0)","v":0},{"$f":"+HLOOKUP(H8,'Resumen de Escala FR'!$F$13:$BC$17,4,0)","v":0},{"$f":"+HLOOKUP(H8,'Resumen de Escala FR'!$F$13:$BC$17,3,0)","v":0}]
[null,{"$f":"+'Resumen de indicadores HSE'!L$4","v":"Estudiante 5"},{"$f":"+HLOOKUP(B9,'Resumen de Escala HSE'!$D$20:$BC$24,2,0)","v":"-"},{"$f":"+HLOOKUP(B9,'Resumen de Escala HSE'!$D$20:$BC$24,3,0)","v":0},{"$f":"+HLOOKUP(B9,'Resumen de Escala HSE'!$D$20:$BC$24,4,0)","v":0},{"$f":"+HLOOKUP(B9,'Resumen de Escala HSE'!$D$20:$BC$24,5,0)","v":0},null,{"$f":"+'Resumen de indicadores FR'!L$4","v":"Estudiante 5"},{"$f":"+HLOOKUP(H9,'Resumen de Escala FR'!$F$13:$BC$17,2,0)","v":"-"},{"$f":"+HLOOKUP(H9,'Resumen de Escala FR'!$F$13:$BC$17,5,0)","v":0},{"$f":"+HLOOKUP(H9,'Resumen de Escala FR'!$F$13:$BC$17,4,0)","v":0},{"$f":"+HLOOKUP(H9,'Resumen de Escala FR'!$F$13:$BC$17,3,0)","v":0}]
[null,{"$f":"+'Resumen de indicadores HSE'!M$4","v":"Estudiante 6"},{"$f":"+HLOOKUP(B10,'Resumen de Escala HSE'!$D$20:$BC$24,2,0)","v":"-"},{"$f":"+HLOOKUP(B10,'Resumen de Escala HSE'!$D$20:$BC$24,3,0)","v":0},{"$f":"+HLOOKUP(B10,'Resumen de Escala HSE'!$D$20:$BC$24,4,0)","v":0},{"$f":"+HLOOKUP(B10,'Resumen de Escala HSE'!$D$20:$BC$24,5,0)","v":0},null,{"$f":"+'Resumen de indicadores FR'!M$4","v":"Estudiante 6"},{"$f":"+HLOOKUP(H10,'Resumen de Escala FR'!$F$13:$BC$17,2,0)","v":"-"},{"$f":"+HLOOKUP(H10,'Resumen de Escala FR'!$F$13:$BC$17,5,0)","v":0},{"$f":"+HLOOKUP(H10,'Resumen de Escala FR'!$F$13:$BC$17,4,0)","v":0},{"$f":"+HLOOKUP(H10,'Resumen de Escala FR'!$F$13:$BC$17,3,0)","v":0}]
[null,{"$f":"+'Resumen de indicadores HSE'!N$4","v":"Estudiante 7"},{"$f":"+HLOOKUP(B11,'Resumen de Escala HSE'!$D$20:$BC$24,2,0)","v":"-"},{"$f":"+HLOOKUP(B11,'Resumen de Escala HSE'!$D$20:$BC$24,3,0)","v":0},{"$f":"+HLOOKUP(B11,'Resumen de Escala HSE'!$D$20:$BC$24,4,0)","v":0},{"$f":"+HLOOKUP(B11,'Resumen de Escala HSE'!$D$20:$BC$24,5,0)","v":0},null,{"$f":"+'Resumen de indicadores FR'!N$4","v":"Estudiante 7"},{"$f":"+HLOOKUP(H11,'Resumen de Escala FR'!$F$13:$BC$17,2,0)","v":"-"},{"$f":"+HLOOKUP(H11,'Resumen de Escala FR'!$F$13:$BC$17,5,0)","v":0},{"$f":"+HLOOKUP(H11,'Resumen de Escala FR'!$F$13:$BC$17,4,0)","v":0},{"$f":"+HLOOKUP(H11,'Resumen de Escala FR'!$F$13:$BC$17,3,0)","v":0}]
[null,{"$f":"+'Resumen de indicadores HSE'!O$4","v":"Estudiante 8"},{"$f":"+HLOOKUP(B12,'Resumen de Escala HSE'!$D$20:$BC$24,2,0)","v":"-"},{"$f":"+HLOOKUP(B12,'Resumen de Escala HSE'!$D$20:$BC$24,3,0)","v":0},{"$f":"+HLOOKUP(B12,'Resumen de Escala HSE'!$D$20:$BC$24,4,0)","v":0},{"$f":"+HLOOKUP(B12,'Resumen de Escala HSE'!$D$20:$BC$24,5,0)","v":0},null,{"$f":"+'Resumen de indicadores FR'!O$4","v":"Estudiante 8"},{"$f":"+HLOOKUP(H12,'Resumen de Escala FR'!$F$13:$BC$17,2,0)","v":"-"},{"$f":"+HLOOKUP(H12,'Resumen de Escala FR'!$F$13:$BC$17,5,0)","v":0},{"$f":"+HLOOKUP(H12,'Resumen de Escala FR'!$F$13:$BC$17,4,0)","v":0},{"$f":"+HLOOKUP(H12,'Resumen de Escala FR'!$F$13:$BC$17,3,0)","v":0}]
[null,{"$f":"+'Resumen de indicadores HSE'!P$4","v":"Estudiante 9"},{"$f":"+HLOOKUP(B13,'Resumen de Escala HSE'!$D$20:$BC$24,2,0)","v":"-"},{"$f":"+HLOOKUP(B13,'Resumen de Escala HSE'!$D$20:$BC$24,3,0)","v":0},{"$f":"+HLOOKUP(B13,'Resumen de Escala HSE'!$D$20:$BC$24,4,0)","v":0},{"$f":"+HLOOKUP(B13,'Resumen de Escala HSE'!$D$20:$BC$24,5,0)","v":0},null,{"$f":"+'Resumen de indicadores FR'!P$4","v":"Estudiante 9"},{"$f":"+HLOOKUP(H13,'Resumen de Escala FR'!$F$13:$BC$17,2,0)","v":"-"},{"$f":"+HLOOKUP(H13,'Resumen de Escala FR'!$F$13:$BC$17,5,0)","v":0},{"$f":"+HLOOKUP(H13,'Resumen de Escala FR'!$F$13:$BC$17,4,0)","v":0},{"$f":"+HLOOKUP(H13,'Resumen de Escala FR'!$F$13:$BC$17,3,0)","v":0}]
[null,{"$f":"+'Resumen de indicadores HSE'!Q$4","v":"Estudiante 10"},{"$f":"+HLOOKUP(B14,'Resumen de Escala HSE'!$D$20:$BC$24,2,0)","v":"-"},{"$f":"+HLOOKUP(B14,'Resumen de Escala HSE'!$D$20:$BC$24,3,0)","v":0},{"$f":"+HLOOKUP(B14,'Resumen de Escala HSE'!$D$20:$BC$24,4,0)","v":0},{"$f":"+HLOOKUP(B14,'Resumen de Escala HSE'!$D$20:$BC$24,5,0)","v":0},null,{"$f":"+'Resumen de indicadores FR'!Q$4","v":"Estudiante 10"},{"$f":"+HLOOKUP(H14,'Resumen de Escala FR'!$F$13:$BC$17,2,0)","v":"-"},{"$f":"+HLOOKUP(H14,'Resumen de Escala FR'!$F$13:$BC$17,5,0)","v":0},{"$f":"+HLOOKUP(H14,'Resumen de Escala FR'!$F$13:$BC$17,4,0)","v":0},{"$f":"+HLOOKUP(H14,'Resumen de Escala FR'!$F$13:$BC$17,3,0)","v":0}]
[null,{"$f":"+'Resumen de indicadores HSE'!R$4","v":"Estudiante 11"},{"$f":"+HLOOKUP(B15,'Resumen de Escala HSE'!$D$20:$BC$24,2,0)","v":"-"},{"$f":"+HLOOKUP(B15,'Resumen de Escala HSE'!$D$20:$BC$24,3,0)","v":0},{"$f":"+HLOOKUP(B15,'Resumen de Escala HSE'!$D$20:$BC$24,4,0)","v":0},{"$f":"+HLOOKUP(B15,'Resumen de Escala HSE'!$D$20:$BC$24,5,0)","v":0},null,{"$f":"+'Resumen de indicadores FR'!R$4","v":"Estudiante 11"},{"$f":"+HLOOKUP(H15,'Resumen de Escala FR'!$F$13:$BC$17,2,0)","v":"-"},{"$f":"+HLOOKUP(H15,'Resumen de Escala FR'!$F$13:$BC$17,5,0)","v":0},{"$f":"+HLOOKUP(H15,'Resumen de Escala FR'!$F$13:$BC$17,4,0)","v":0},{"$f":"+HLOOKUP(H15,'Resumen de Escala FR'!$F$13:$BC$17,3,0)","v":0}]
[null,{"$f":"+'Resumen de indicadores HSE'!S$4","v":"Estudiante 12"},{"$f":"+HLOOKUP(B16,'Resumen de Escala HSE'!$D$20:$BC$24,2,0)","v":"-"},{"$f":"+HLOOKUP(B16,'Resumen de Escala HSE'!$D$20:$BC$24,3,0)","v":0},{"$f":"+HLOOKUP(B16,'Resumen de Escala HSE'!$D$20:$BC$24,4,0)","v":0},{"$f":"+HLOOKUP(B16,'Resumen de Escala HSE'!$D$20:$BC$24,5,0)","v":0},null,{"$f":"+'Resumen de indicadores FR'!S$4","v":"Estudiante 12"},{"$f":"+HLOOKUP(H16,'Resumen de Escala FR'!$F$13:$BC$17,2,0)","v":"-"},{"$f":"+HLOOKUP(H16,'Resumen de Escala FR'!$F$13:$BC$17,5,0)","v":0},{"$f":"+HLOOKUP(H16,'Resumen de Escala FR'!$F$13:$BC$17,4,0)","v":0},{"$f":"+HLOOKUP(H16,'Resumen de Escala FR'!$F$13:$BC$17,3,0)","v":0}]
[null,{"$f":"+'Resumen de indicadores HSE'!T$4","v":"Estudiante 13"},{"$f":"+HLOOKUP(B17,'Resumen de Escala HSE'!$D$20:$BC$24,2,0)","v":"-"},{"$f":"+HLOOKUP(B17,'Resumen de Escala HSE'!$D$20:$BC$24,3,0)","v":0},{"$f":"+HLOOKUP(B17,'Resumen de Escala HSE'!$D$20:$BC$24,4,0)","v":0},{"$f":"+HLOOKUP(B17,'Resumen de Escala HSE'!$D$20:$BC$24,5,0)","v":0},null,{"$f":"+'Resumen de indicadores FR'!T$4","v":"Estudiante 13"},{"$f":"+HLOOKUP(H17,'Resumen de Escala FR'!$F$13:$BC$17,2,0)","v":"-"},{"$f":"+HLOOKUP(H17,'Resumen de Escala FR'!$F$13:$BC$17,5,0)","v":0},{"$f":"+HLOOKUP(H17,'Resumen de Escala FR'!$F$13:$BC$17,4,0)","v":0},{"$f":"+HLOOKUP(H17,'Resumen de Escala FR'!$F$13:$BC$17,3,0)","v":0}]
[null,{"$f":"+'Resumen de indicadores HSE'!U$4","v":"Estudiante 14"},{"$f":"+HLOOKUP(B18,'Resumen de Escala HSE'!$D$20:$BC$24,2,0)","v":"-"},{"$f":"+HLOOKUP(B18,'Resumen de Escala HSE'!$D$20:$BC$24,3,0)","v":0},{"$f":"+HLOOKUP(B18,'Resumen de Escala HSE'!$D$20:$BC$24,4,0)","v":0},{"$f":"+HLOOKUP(B18,'Resumen de Escala HSE'!$D$20:$BC$24,5,0)","v":0},null,{"$f":"+'Resumen de indicadores FR'!U$4","v":"Estudiante 14"},{"$f":"+HLOOKUP(H18,'Resumen de Escala FR'!$F$13:$BC$17,2,0)","v":"-"},{"$f":"+HLOOKUP(H18,'Resumen de Escala FR'!$F$13:$BC$17,5,0)","v":0},{"$f":"+HLOOKUP(H18,'Resumen de Escala FR'!$F$13:$BC$17,4,0)","v":0},{"$f":"+HLOOKUP(H18,'Resumen de Escala FR'!$F$13:$BC$17,3,0)","v":0}]
[null,{"$f":"+'Resumen de indicadores HSE'!V$4","v":"Estudiante 15"},{"$f":"+HLOOKUP(B19,'Resumen de Escala HSE'!$D$20:$BC$24,2,0)","v":"-"},{"$f":"+HLOOKUP(B19,'Resumen de Escala HSE'!$D$20:$BC$24,3,0)","v":0},{"$f":"+HLOOKUP(B19,'Resumen de Escala HSE'!$D$20:$BC$24,4,0)","v":0},{"$f":"+HLOOKUP(B19,'Resumen de Escala HSE'!$D$20:$BC$24,5,0)","v":0},null,{"$f":"+'Resumen de indicadores FR'!V$4","v":"Estudiante 15"},{"$f":"+HLOOKUP(H19,'Resumen de Escala FR'!$F$13:$BC$17,2,0)","v":"-"},{"$f":"+HLOOKUP(H19,'Resumen de Escala FR'!$F$13:$BC$17,5,0)","v":0},{"$f":"+HLOOKUP(H19,'Resumen de Escala FR'!$F$13:$BC$17,4,0)","v":0},{"$f":"+HLOOKUP(H19,'Resumen de Escala FR'!$F$13:$BC$17,3,0)","v":0}]
[null,{"$f":"+'Resumen de indicadores HSE'!W$4","v":"Estudiante 16"},{"$f":"+HLOOKUP(B20,'Resumen de Escala HSE'!$D$20:$BC$24,2,0)","v":"-"},{"$f":"+HLOOKUP(B20,'Resumen de Escala HSE'!$D$20:$BC$24,3,0)","v":0},{"$f":"+HLOOKUP(B20,'Resumen de Escala HSE'!$D$20:$BC$24,4,0)","v":0},{"$f":"+HLOOKUP(B20,'Resumen de Escala HSE'!$D$20:$BC$24,5,0)","v":0},null,{"$f":"+'Resumen de indicadores FR'!W$4","v":"Estudiante 16"},{"$f":"+HLOOKUP(H20,'Resumen de Escala FR'!$F$13:$BC$17,2,0)","v":"-"},{"$f":"+HLOOKUP(H20,'Resumen de Escala FR'!$F$13:$BC$17,5,0)","v":0},{"$f":"+HLOOKUP(H20,'Resumen de Escala FR'!$F$13:$BC$17,4,0)","v":0},{"$f":"+HLOOKUP(H20,'Resumen de Escala FR'!$F$13:$BC$17,3,0)","v":0}]
[null,{"$f":"+'Resumen de indicadores HSE'!X$4","v":"Estudiante 17"},{"$f":"+HLOOKUP(B21,'Resumen de Escala HSE'!$D$20:$BC$24,2,0)","v":"-"},{"$f":"+HLOOKUP(B21,'Resumen de Escala HSE'!$D$20:$BC$24,3,0)","v":0},{"$f":"+HLOOKUP(B21,'Resumen de Escala HSE'!$D$20:$BC$24,4,0)","v":0},{"$f":"+HLOOKUP(B21,'Resumen de Escala HSE'!$D$20:$BC$24,5,0)","v":0},null,{"$f":"+'Resumen de indicadores FR'!X$4","v":"Estudiante 17"},{"$f":"+HLOOKUP(H21,'Resumen de Escala FR'!$F$13:$BC$17,2,0)","v":"-"},{"$f":"+HLOOKUP(H21,'Resumen de Escala FR'!$F$13:$BC$17,5,0)","v":0},{"$f":"+HLOOKUP(H21,'Resumen de Escala FR'!$F$13:$BC$17,4,0)","v":0},{"$f":"+HLOOKUP(H21,'Resumen de Escala FR'!$F$13:$BC$17,3,0)","v":0}]
[null,{"$f":"+'Resumen de indicadores HSE'!Y$4","v":"Estudiante 18"},{"$f":"+HLOOKUP(B22,'Resumen de Escala HSE'!$D$20:$BC$24,2,0)","v":"-"},{"$f":"+HLOOKUP(B22,'Resumen de Escala HSE'!$D$20:$BC$24,3,0)","v":0},{"$f":"+HLOOKUP(B22,'Resumen de Escala HSE'!$D$20:$BC$24,4,0)","v":0},{"$f":"+HLOOKUP(B22,'Resumen de Escala HSE'!$D$20:$BC$24,5,0)","v":0},null,{"$f":"+'Resumen de indicadores FR'!Y$4","v":"Estudiante 18"},{"$f":"+HLOOKUP(H22,'Resumen de Escala FR'!$F$13:$BC$17,2,0)","v":"-"},{"$f":"+HLOOKUP(H22,'Resumen de Escala FR'!$F$13:$BC$17,5,0)","v":0},{"$f":"+HLOOKUP(H22,'Resumen de Escala FR'!$F$13:$BC$17,4,0)","v":0},{"$f":"+HLOOKUP(H22,'Resumen de Escala FR'!$F$13:$BC$17,3,0)","v":0}]
[null,{"$f":"+'Resumen de indicadores HSE'!Z$4","v":"Estudiante 19"},{"$f":"+HLOOKUP(B23,'Resumen de Escala HSE'!$D$20:$BC$24,2,0)","v":"-"},{"$f":"+HLOOKUP(B23,'Resumen de Escala HSE'!$D$20:$BC$24,3,0)","v":0},{"$f":"+HLOOKUP(B23,'Resumen de Escala HSE'!$D$20:$BC$24,4,0)","v":0},{"$f":"+HLOOKUP(B23,'Resumen de Escala HSE'!$D$20:$BC$24,5,0)","v":0},null,{"$f":"+'Resumen de indicadores FR'!Z$4","v":"Estudiante 19"},{"$f":"+HLOOKUP(H23,'Resumen de Escala FR'!$F$13:$BC$17,2,0)","v":"-"},{"$f":"+HLOOKUP(H23,'Resumen de Escala FR'!$F$13:$BC$17,5,0)","v":0},{"$f":"+HLOOKUP(H23,'Resumen de Escala FR'!$F$13:$BC$17,4,0)","v":0},{"$f":"+HLOOKUP(H23,'Resumen de Escala FR'!$F$13:$BC$17,3,0)","v":0}]
[null,{"$f":"+'Resumen de indicadores HSE'!AA$4","v":"Estudiante 20"},{"$f":"+HLOOKUP(B24,'Resumen de Escala HSE'!$D$20:$BC$24,2,0)","v":"-"},{"$f":"+HLOOKUP(B24,'Resumen de Escala HSE'!$D$20:$BC$24,3,0)","v":0},{"$f":"+HLOOKUP(B24,'Resumen de Escala HSE'!$D$20:$BC$24,4,0)","v":0},{"$f":"+HLOOKUP(B24,'Resumen de Escala HSE'!$D$20:$BC$24,5,0)","v":0},null,{"$f":"+'Resumen de indicadores FR'!AA$4","v":"Estudiante 20"},{"$f":"+HLOOKUP(H24,'Resumen de Escala FR'!$F$13:$BC$17,2,0)","v":"-"},{"$f":"+HLOOKUP(H24,'Resumen de Escala FR'!$F$13:$BC$17,5,0)","v":0},{"$f":"+HLOOKUP(H24,'Resumen de Escala FR'!$F$13:$BC$17,4,0)","v":0},{"$f":"+HLOOKUP(H24,'Resumen de Escala FR'!$F$13:$BC$17,3,0)","v":0}]
[null,{"$f":"+'Resumen de indicadores HSE'!AB$4","v":"Estudiante 21"},{"$f":"+HLOOKUP(B25,'Resumen de Escala HSE'!$D$20:$BC$24,2,0)","v":"-"},{"$f":"+HLOOKUP(B25,'Resumen de Escala HSE'!$D$20:$BC$24,3,0)","v":0},{"$f":"+HLOOKUP(B25,'Resumen de Escala HSE'!$D$20:$BC$24,4,0)","v":0},{"$f":"+HLOOKUP(B25,'Resumen de Escala HSE'!$D$20:$BC$24,5,0)","v":0},null,{"$f":"+'Resumen de indicadores FR'!AB$4","v":"Estudiante 21"},{"$f":"+HLOOKUP(H25,'Resumen de Escala FR'!$F$13:$BC$17,2,0)","v":"-"},{"$f":"+HLOOKUP(H25,'Resumen de Escala FR'!$F$13:$BC$17,5,0)","v":0},{"$f":"+HLOOKUP(H25,'Resumen de Escala FR'!$F$13:$BC$17,4,0)","v":0},{"$f":"+HLOOKUP(H25,'Resumen de Escala FR'!$F$13:$BC$17,3,0)","v":0}]
[null,{"$f":"+'Resumen de indicadores HSE'!AC$4","v":"Estudiante 22"},{"$f":"+HLOOKUP(B26,'Resumen de Escala HSE'!$D$20:$BC$24,2,0)","v":"-"},{"$f":"+HLOOKUP(B26,'Resumen de Escala HSE'!$D$20:$BC$24,3,0)","v":0},{"$f":"+HLOOKUP(B26,'Resumen de Escala HSE'!$D$20:$BC$24,4,0)","v":0},{"$f":"+HLOOKUP(B26,'Resumen de Escala HSE'!$D$20:$BC$24,5,0)","v":0},null,{"$f":"+'Resumen de indicadores FR'!AC$4","v":"Estudiante 22"},{"$f":"+HLOOKUP(H26,'Resumen de Escala FR'!$F$13:$BC$17,2,0)","v":"-"},{"$f":"+HLOOKUP(H26,'Resumen de Escala FR'!$F$13:$BC$17,5,0)","v":0},{"$f":"+HLOOKUP(H26,'Resumen de Escala FR'!$F$13:$BC$17,4,0)","v":0},{"$f":"+HLOOKUP(H26,'Resumen de Escala FR'!$F$13:$BC$17,3,0)","v":0}]
[null,{"$f":"+'Resumen de indicadores HSE'!AD$4","v":"Estudiante 23"},{"$f":"+HLOOKUP(B27,'Resumen de Escala HSE'!$D$20:$BC$24,2,0)","v":"-"},{"$f":"+HLOOKUP(B27,'Resumen de Escala HSE'!$D$20:$BC$24,3,0)","v":0},{"$f":"+HLOOKUP(B27,'Resumen de Escala HSE'!$D$20:$BC$24,4,0)","v":0},{"$f":"+HLOOKUP(B27,'Resumen de Escala HSE'!$D$20:$BC$24,5,0)","v":0},null,{"$f":"+'Resumen de indicadores FR'!AD$4","v":"Estudiante 23"},{"$f":"+HLOOKUP(H27,'Resumen de Escala FR'!$F$13:$BC$17,2,0)","v":"-"},{"$f":"+HLOOKUP(H27,'Resumen de Escala FR'!$F$13:$BC$17,5,0)","v":0},{"$f":"+HLOOKUP(H27,'Resumen de Escala FR'!$F$13:$BC$17,4,0)","v":0},{"$f":"+HLOOKUP(H27,'Resumen de Escala FR'!$F$13:$BC$17,3,0)","v":0}]
[null,{"$f":"+'Resumen de indicadores HSE'!AE$4","v":"Estudiante 24"},{"$f":"+HLOOKUP(B28,'Resumen de Escala HSE'!$D$20:$BC$24,2,0)","v":"-"},{"$f":"+HLOOKUP(B28,'Resumen de Escala HSE'!$D$20:$BC$24,3,0)","v":0},{"$f":"+HLOOKUP(B28,'Resumen de Escala HSE'!$D$20:$BC$24,4,0)","v":0},{"$f":"+HLOOKUP(B28,'Resumen de Escala HSE'!$D$20:$BC$24,5,0)","v":0},null,{"$f":"+'Resumen de indicadores FR'!AE$4","v":"Estudiante 24"},{"$f":"+HLOOKUP(H28,'Resumen de Escala FR'!$F$13:$BC$17,2,0)","v":"-"},{"$f":"+HLOOKUP(H28,'Resumen de Escala FR'!$F$13:$BC$17,5,0)","v":0},{"$f":"+HLOOKUP(H28,'Resumen de Escala FR'!$F$13:$BC$17,4,0)","v":0},{"$f":"+HLOOKUP(H28,'Resumen de Escala FR'!$F$13:$BC$17,3,0)","v":0}]
[null,{"$f":"+'Resumen de indicadores HSE'!AF$4","v":"Estudiante 25"},{"$f":"+HLOOKUP(B29,'Resumen de Escala HSE'!$D$20:$BC$24,2,0)","v":"-"},{"$f":"+HLOOKUP(B29,'Resumen de Escala HSE'!$D$20:$BC$24,3,0)","v":0},{"$f":"+HLOOKUP(B29,'Resumen de Escala HSE'!$D$20:$BC$24,4,0)","v":0},{"$f":"+HLOOKUP(B29,'Resumen de Escala HSE'!$D$20:$BC$24,5,0)","v":0},null,{"$f":"+'Resumen de indicadores FR'!AF$4","v":"Estudiante 25"},{"$f":"+HLOOKUP(H29,'Resumen de Escala FR'!$F$13:$BC$17,2,0)","v":"-"},{"$f":"+HLOOKUP(H29,'Resumen de Escala FR'!$F$13:$BC$17,5,0)","v":0},{"$f":"+HLOOKUP(H29,'Resumen de Escala FR'!$F$13:$BC$17,4,0)","v":0},{"$f":"+HLOOKUP(H29,'Resumen de Escala FR'!$F$13:$BC$17,3,0)","v":0}]
[null,{"$f":"+'Resumen de indicadores HSE'!AG$4","v":"Estudiante 26"},{"$f":"+HLOOKUP(B30,'Resumen de Escala HSE'!$D$20:$BC$24,2,0)","v":"-"},{"$f":"+HLOOKUP(B30,'Resumen de Escala HSE'!$D$20:$BC$24,3,0)","v":0},{"$f":"+HLOOKUP(B30,'Resumen de Escala HSE'!$D$20:$BC$24,4,0)","v":0},{"$f":"+HLOOKUP(B30,'Resumen de Escala HSE'!$D$20:$BC$24,5,0)","v":0},null,{"$f":"+'Resumen de indicadores FR'!AG$4","v":"Estudiante 26"},{"$f":"+HLOOKUP(H30,'Resumen de Escala FR'!$F$13:$BC$17,2,0)","v":"-"},{"$f":"+HLOOKUP(H30,'Resumen de Escala FR'!$F$13:$BC$17,5,0)","v":0},{"$f":"+HLOOKUP(H30,'Resumen de Escala FR'!$F$13:$BC$17,4,0)","v":0},{"$f":"+HLOOKUP(H30,'Resumen de Escala FR'!$F$13:$BC$17,3,0)","v":0}]
[null,{"$f":"+'Resumen de indicadores HSE'!AH$4","v":"Estudiante 27"},{"$f":"+HLOOKUP(B31,'Resumen de Escala HSE'!$D$20:$BC$24,2,0)","v":"-"},{"$f":"+HLOOKUP(B31,'Resumen de Escala HSE'!$D$20:$BC$24,3,0)","v":0},{"$f":"+HLOOKUP(B31,'Resumen de Escala HSE'!$D$20:$BC$24,4,0)","v":0},{"$f":"+HLOOKUP(B31,'Resumen de Escala HSE'!$D$20:$BC$24,5,0)","v":0},null,{"$f":"+'Resumen de indicadores FR'!AH$4","v":"Estudiante 27"},{"$f":"+HLOOKUP(H31,'Resumen de Escala FR'!$F$13:$BC$17,2,0)","v":"-"},{"$f":"+HLOOKUP(H31,'Resumen de Escala FR'!$F$13:$BC$17,5,0)","v":0},{"$f":"+HLOOKUP(H31,'Resumen de Escala FR'!$F$13:$BC$17,4,0)","v":0},{"$f":"+HLOOKUP(H31,'Resumen de Escala FR'!$F$13:$BC$17,3,0)","v":0}]
[null,{"$f":"+'Resumen de indicadores HSE'!AI$4","v":"Estudiante 28"},{"$f":"+HLOOKUP(B32,'Resumen de Escala HSE'!$D$20:$BC$24,2,0)","v":"-"},{"$f":"+HLOOKUP(B32,'Resumen de Escala HSE'!$D$20:$BC$24,3,0)","v":0},{"$f":"+HLOOKUP(B32,'Resumen de Escala HSE'!$D$20:$BC$24,4,0)","v":0},{"$f":"+HLOOKUP(B32,'Resumen de Escala HSE'!$D$20:$BC$24,5,0)","v":0},null,{"$f":"+'Resumen de indicadores FR'!AI$4","v":"Estudiante 28"},{"$f":"+HLOOKUP(H32,'Resumen de Escala FR'!$F$13:$BC$17,2,0)","v":"-"},{"$f":"+HLOOKUP(H32,'Resumen de Escala FR'!$F$13:$BC$17,5,0)","v":0},{"$f":"+HLOOKUP(H32,'Resumen de Escala FR'!$F$13:$BC$17,4,0)","v":0},{"$f":"+HLOOKUP(H32,'Resumen de Escala FR'!$F$13:$BC$17,3,0)","v":0}]
[null,{"$f":"+'Resumen de indicadores HSE'!AJ$4","v":"Estudiante 29"},{"$f":"+HLOOKUP(B33,'Resumen de Escala HSE'!$D$20:$BC$24,2,0)","v":"-"},{"$f":"+HLOOKUP(B33,'Resumen de Escala HSE'!$D$20:$BC$24,3,0)","v":0},{"$f":"+HLOOKUP(B33,'Resumen de Escala HSE'!$D$20:$BC$24,4,0)","v":0},{"$f":"+HLOOKUP(B33,'Resumen de Escala HSE'!$D$20:$BC$24,5,0)","v":0},null,{"$f":"+'Resumen de indicadores FR'!AJ$4","v":"Estudiante 29"},{"$f":"+HLOOKUP(H33,'Resumen de Escala FR'!$F$13:$BC$17,2,0)","v":"-"},{"$f":"+HLOOKUP(H33,'Resumen de Escala FR'!$F$13:$BC$17,5,0)","v":0},{"$f":"+HLOOKUP(H33,'Resumen de Escala FR'!$F$13:$BC$17,4,0)","v":0},{"$f":"+HLOOKUP(H33,'Resumen de Escala FR'!$F$13:$BC$17,3,0)","v":0}]
[null,{"$f":"+'Resumen de indicadores HSE'!AK$4","v":"Estudiante 30"},{"$f":"+HLOOKUP(B34,'Resumen de Escala HSE'!$D$20:$BC$24,2,0)","v":"-"},{"$f":"+HLOOKUP(B34,'Resumen de Escala HSE'!$D$20:$BC$24,3,0)","v":0},{"$f":"+HLOOKUP(B34,'Resumen de Escala HSE'!$D$20:$BC$24,4,0)","v":0},{"$f":"+HLOOKUP(B34,'Resumen de Escala HSE'!$D$20:$BC$24,5,0)","v":0},null,{"$f":"+'Resumen de indicadores FR'!AK$4","v":"Estudiante 30"},{"$f":"+HLOOKUP(H34,'Resumen de Escala FR'!$F$13:$BC$17,2,0)","v":"-"},{"$f":"+HLOOKUP(H34,'Resumen de Escala FR'!$F$13:$BC$17,5,0)","v":0},{"$f":"+HLOOKUP(H34,'Resumen de Escala FR'!$F$13:$BC$17,4,0)","v":0},{"$f":"+HLOOKUP(H34,'Resumen de Escala FR'!$F$13:$BC$17,3,0)","v":0}]
[null,{"$f":"+'Resumen de indicadores HSE'!AL$4","v":"Estudiante 31"},{"$f":"+HLOOKUP(B35,'Resumen de Escala HSE'!$D$20:$BC$24,2,0)","v":"-"},{"$f":"+HLOOKUP(B35,'Resumen de Escala HSE'!$D$20:$BC$24,3,0)","v":0},{"$f":"+HLOOKUP(B35,'Resumen de Escala HSE'!$D$20:$BC$24,4,0)","v":0},{"$f":"+HLOOKUP(B35,'Resumen de Escala HSE'!$D$20:$BC$24,5,0)","v":0},null,{"$f":"+'Resumen de indicadores FR'!AL$4","v":"Estudiante 31"},{"$f":"+HLOOKUP(H35,'Resumen de Escala FR'!$F$13:$BC$17,2,0)","v":"-"},{"$f":"+HLOOKUP(H35,'Resumen de Escala FR'!$F$13:$BC$17,5,0)","v":0},{"$f":"+HLOOKUP(H35,'Resumen de Escala FR'!$F$13:$BC$17,4,0)","v":0},{"$f":"+HLOOKUP(H35,'Resumen de Escala FR'!$F$13:$BC$17,3,0)","v":0}]
[null,{"$f":"+'Resumen de indicadores HSE'!AM$4","v":"Estudiante 32"},{"$f":"+HLOOKUP(B36,'Resumen de Escala HSE'!$D$20:$BC$24,2,0)","v":"-"},{"$f":"+HLOOKUP(B36,'Resumen de Escala HSE'!$D$20:$BC$24,3,0)","v":0},{"$f":"+HLOOKUP(B36,'Resumen de Escala HSE'!$D$20:$BC$24,4,0)","v":0},{"$f":"+HLOOKUP(B36,'Resumen de Escala HSE'!$D$20:$BC$24,5,0)","v":0},null,{"$f":"+'Resumen de indicadores FR'!AM$4","v":"Estudiante 32"},{"$f":"+HLOOKUP(H36,'Resumen de Escala FR'!$F$13:$BC$17,2,0)","v":"-"},{"$f":"+HLOOKUP(H36,'Resumen de Escala FR'!$F$13:$BC$17,5,0)","v":0},{"$f":"+HLOOKUP(H36,'Resumen de Escala FR'!$F$13:$BC$17,4,0)","v":0},{"$f":"+HLOOKUP(H36,'Resumen de Escala FR'!$F$13:$BC$17,3,0)","v":0}]
[null,{"$f":"+'Resumen de indicadores HSE'!AN$4","v":"Estudiante 33"},{"$f":"+HLOOKUP(B37,'Resumen de Escala HSE'!$D$20:$BC$24,2,0)","v":"-"},{"$f":"+HLOOKUP(B37,'Resumen de Escala HSE'!$D$20:$BC$24,3,0)","v":0},{"$f":"+HLOOKUP(B37,'Resumen de Escala HSE'!$D$20:$BC$24,4,0)","v":0},{"$f":"+HLOOKUP(B37,'Resumen de Escala HSE'!$D$20:$BC$24,5,0)","v":0},null,{"$f":"+'Resumen de indicadores FR'!AN$4","v":"Estudiante 33"},{"$f":"+HLOOKUP(H37,'Resumen de Escala FR'!$F$13:$BC$17,2,0)","v":"-"},{"$f":"+HLOOKUP(H37,'Resumen de Escala FR'!$F$13:$BC$17,5,0)","v":0},{"$f":"+HLOOKUP(H37,'Resumen de Escala FR'!$F$13:$BC$17,4,0)","v":0},{"$f":"+HLOOKUP(H37,'Resumen de Escala FR'!$F$13:$BC$17,3,0)","v":0}]
[null,{"$f":"+'Resumen de indicadores HSE'!AO$4","v":"Estudiante 34"},{"$f":"+HLOOKUP(B38,'Resumen de Escala HSE'!$D$20:$BC$24,2,0)","v":"-"},{"$f":"+HLOOKUP(B38,'Resumen de Escala HSE'!$D$20:$BC$24,3,0)","v":0},{"$f":"+HLOOKUP(B38,'Resumen de Escala HSE'!$D$20:$BC$24,4,0)","v":0},{"$f":"+HLOOKUP(B38,'Resumen de Escala HSE'!$D$20:$BC$24,5,0)","v":0},null,{"$f":"+'Resumen de indicadores FR'!AO$4","v":"Estudiante 34"},{"$f":"+HLOOKUP(H38,'Resumen de Escala FR'!$F$13:$BC$17,2,0)","v":"-"},{"$f":"+HLOOKUP(H38,'Resumen de Escala FR'!$F$13:$BC$17,5,0)","v":0},{"$f":"+HLOOKUP(H38,'Resumen de Escala FR'!$F$13:$BC$17,4,0)","v":0},{"$f":"+HLOOKUP(H38,'Resumen de Escala FR'!$F$13:$BC$17,3,0)","v":0}]
[null,{"$f":"+'Resumen de indicadores HSE'!AP$4","v":"Estudiante 35"},{"$f":"+HLOOKUP(B39,'Resumen de Escala HSE'!$D$20:$BC$24,2,0)","v":"-"},{"$f":"+HLOOKUP(B39,'Resumen de Escala HSE'!$D$20:$BC$24,3,0)","v":0},{"$f":"+HLOOKUP(B39,'Resumen de Escala HSE'!$D$20:$BC$24,4,0)","v":0},{"$f":"+HLOOKUP(B39,'Resumen de Escala HSE'!$D$20:$BC$24,5,0)","v":0},null,{"$f":"+'Resumen de indicadores FR'!AP$4","v":"Estudiante 35"},{"$f":"+HLOOKUP(H39,'Resumen de Escala FR'!$F$13:$BC$17,2,0)","v":"-"},{"$f":"+HLOOKUP(H39,'Resumen de Escala FR'!$F$13:$BC$17,5,0)","v":0},{"$f":"+HLOOKUP(H39,'Resumen de Escala FR'!$F$13:$BC$17,4,0)","v":0},{"$f":"+HLOOKUP(H39,'Resumen de Escala FR'!$F$13:$BC$17,3,0)","v":0}]
[null,{"$f":"+'Resumen de indicadores HSE'!AQ$4","v":"Estudiante 36"},{"$f":"+HLOOKUP(B40,'Resumen de Escala HSE'!$D$20:$BC$24,2,0)","v":"-"},{"$f":"+HLOOKUP(B40,'Resumen de Escala HSE'!$D$20:$BC$24,3,0)","v":0},{"$f":"+HLOOKUP(B40,'Resumen de Escala HSE'!$D$20:$BC$24,4,0)","v":0},{"$f":"+HLOOKUP(B40,'Resumen de Escala HSE'!$D$20:$BC$24,5,0)","v":0},null,{"$f":"+'Resumen de indicadores FR'!AQ$4","v":"Estudiante 36"},{"$f":"+HLOOKUP(H40,'Resumen de Escala FR'!$F$13:$BC$17,2,0)","v":"-"},{"$f":"+HLOOKUP(H40,'Resumen de Escala FR'!$F$13:$BC$17,5,0)","v":0},{"$f":"+HLOOKUP(H40,'Resumen de Escala FR'!$F$13:$BC$17,4,0)","v":0},{"$f":"+HLOOKUP(H40,'Resumen de Escala FR'!$F$13:$BC$17,3,0)","v":0}]
[null,{"$f":"+'Resumen de indicadores HSE'!AR$4","v":"Estudiante 37"},{"$f":"+HLOOKUP(B41,'Resumen de Escala HSE'!$D$20:$BC$24,2,0)","v":"-"},{"$f":"+HLOOKUP(B41,'Resumen de Escala HSE'!$D$20:$BC$24,3,0)","v":0},{"$f":"+HLOOKUP(B41,'Resumen de Escala HSE'!$D$20:$BC$24,4,0)","v":0},{"$f":"+HLOOKUP(B41,'Resumen de Escala HSE'!$D$20:$BC$24,5,0)","v":0},null,{"$f":"+'Resumen de indicadores FR'!AR$4","v":"Estudiante 37"},{"$f":"+HLOOKUP(H41,'Resumen de Escala FR'!$F$13:$BC$17,2,0)","v":"-"},{"$f":"+HLOOKUP(H41,'Resumen de Escala FR'!$F$13:$BC$17,5,0)","v":0},{"$f":"+HLOOKUP(H41,'Resumen de Escala FR'!$F$13:$BC$17,4,0)","v":0},{"$f":"+HLOOKUP(H41,'Resumen de Escala FR'!$F$13:$BC$17,3,0)","v":0}]
[null,{"$f":"+'Resumen de indicadores HSE'!AS$4","v":"Estudiante 38"},{"$f":"+HLOOKUP(B42,'Resumen de Escala HSE'!$D$20:$BC$24,2,0)","v":"-"},{"$f":"+HLOOKUP(B42,'Resumen de Escala HSE'!$D$20:$BC$24,3,0)","v":0},{"$f":"+HLOOKUP(B42,'Resumen de Escala HSE'!$D$20:$BC$24,4,0)","v":0},{"$f":"+HLOOKUP(B42,'Resumen de Escala HSE'!$D$20:$BC$24,5,0)","v":0},null,{"$f":"+'Resumen de indicadores FR'!AS$4","v":"Estudiante 38"},{"$f":"+HLOOKUP(H42,'Resumen de Escala FR'!$F$13:$BC$17,2,0)","v":"-"},{"$f":"+HLOOKUP(H42,'Resumen de Escala FR'!$F$13:$BC$17,5,0)","v":0},{"$f":"+HLOOKUP(H42,'Resumen de Escala FR'!$F$13:$BC$17,4,0)","v":0},{"$f":"+HLOOKUP(H42,'Resumen de Escala FR'!$F$13:$BC$17,3,0)","v":0}]
[null,{"$f":"+'Resumen de indicadores HSE'!AT$4","v":"Estudiante 39"},{"$f":"+HLOOKUP(B43,'Resumen de Escala HSE'!$D$20:$BC$24,2,0)","v":"-"},{"$f":"+HLOOKUP(B43,'Resumen de Escala HSE'!$D$20:$BC$24,3,0)","v":0},{"$f":"+HLOOKUP(B43,'Resumen de Escala HSE'!$D$20:$BC$24,4,0)","v":0},{"$f":"+HLOOKUP(B43,'Resumen de Escala HSE'!$D$20:$BC$24,5,0)","v":0},null,{"$f":"+'Resumen de indicadores FR'!AT$4","v":"Estudiante 39"},{"$f":"+HLOOKUP(H43,'Resumen de Escala FR'!$F$13:$BC$17,2,0)","v":"-"},{"$f":"+HLOOKUP(H43,'Resumen de Escala FR'!$F$13:$BC$17,5,0)","v":0},{"$f":"+HLOOKUP(H43,'Resumen de Escala FR'!$F$13:$BC$17,4,0)","v":0},{"$f":"+HLOOKUP(H43,'Resumen de Escala FR'!$F$13:$BC$17,3,0)","v":0}]
[null,{"$f":"+'Resumen de indicadores HSE'!AU$4","v":"Estudiante 40"},{"$f":"+HLOOKUP(B44,'Resumen de Escala HSE'!$D$20:$BC$24,2,0)","v":"-"},{"$f":"+HLOOKUP(B44,'Resumen de Escala HSE'!$D$20:$BC$24,3,0)","v":0},{"$f":"+HLOOKUP(B44,'Resumen de Escala HSE'!$D$20:$BC$24,4,0)","v":0},{"$f":"+HLOOKUP(B44,'Resumen de Escala HSE'!$D$20:$BC$24,5,0)","v":0},null,{"$f":"+'Resumen de indicadores FR'!AU$4","v":"Estudiante 40"},{"$f":"+HLOOKUP(H44,'Resumen de Escala FR'!$F$13:$BC$17,2,0)","v":"-"},{"$f":"+HLOOKUP(H44,'Resumen de Escala FR'!$F$13:$BC$17,5,0)","v":0},{"$f":"+HLOOKUP(H44,'Resumen de Escala FR'!$F$13:$BC$17,4,0)","v":0},{"$f":"+HLOOKUP(H44,'Resumen de Escala FR'!$F$13:$BC$17,3,0)","v":0}]
[null,{"$f":"+'Resumen de indicadores HSE'!AV$4","v":"Estudiante 41"},{"$f":"+HLOOKUP(B45,'Resumen de Escala HSE'!$D$20:$BC$24,2,0)","v":"-"},{"$f":"+HLOOKUP(B45,'Resumen de Escala HSE'!$D$20:$BC$24,3,0)","v":0},{"$f":"+HLOOKUP(B45,'Resumen de Escala HSE'!$D$20:$BC$24,4,0)","v":0},{"$f":"+HLOOKUP(B45,'Resumen de Escala HSE'!$D$20:$BC$24,5,0)","v":0},null,{"$f":"+'Resumen de indicadores FR'!AV$4","v":"Estudiante 41"},{"$f":"+HLOOKUP(H45,'Resumen de Escala FR'!$F$13:$BC$17,2,0)","v":"-"},{"$f":"+HLOOKUP(H45,'Resumen de Escala FR'!$F$13:$BC$17,5,0)","v":0},{"$f":"+HLOOKUP(H45,'Resumen de Escala FR'!$F$13:$BC$17,4,0)","v":0},{"$f":"+HLOOKUP(H45,'Resumen de Escala FR'!$F$13:$BC$17,3,0)","v":0}]
[null,{"$f":"+'Resumen de indicadores HSE'!AW$4","v":"Estudiante 42"},{"$f":"+HLOOKUP(B46,'Resumen de Escala HSE'!$D$20:$BC$24,2,0)","v":"-"},{"$f":"+HLOOKUP(B46,'Resumen de Escala HSE'!$D$20:$BC$24,3,0)","v":0},{"$f":"+HLOOKUP(B46,'Resumen de Escala HSE'!$D$20:$BC$24,4,0)","v":0},{"$f":"+HLOOKUP(B46,'Resumen de Escala HSE'!$D$20:$BC$24,5,0)","v":0},null,{"$f":"+'Resumen de indicadores FR'!AW$4","v":"Estudiante 42"},{"$f":"+HLOOKUP(H46,'Resumen de Escala FR'!$F$13:$BC$17,2,0)","v":"-"},{"$f":"+HLOOKUP(H46,'Resumen de Escala FR'!$F$13:$BC$17,5,0)","v":0},{"$f":"+HLOOKUP(H46,'Resumen de Escala FR'!$F$13:$BC$17,4,0)","v":0},{"$f":"+HLOOKUP(H46,'Resumen de Escala FR'!$F$13:$BC$17,3,0)","v":0}]
[null,{"$f":"+'Resumen de indicadores HSE'!AX$4","v":"Estudiante 43"},{"$f":"+HLOOKUP(B47,'Resumen de Escala HSE'!$D$20:$BC$24,2,0)","v":"-"},{"$f":"+HLOOKUP(B47,'Resumen de Escala HSE'!$D$20:$BC$24,3,0)","v":0},{"$f":"+HLOOKUP(B47,'Resumen de Escala HSE'!$D$20:$BC$24,4,0)","v":0},{"$f":"+HLOOKUP(B47,'Resumen de Escala HSE'!$D$20:$BC$24,5,0)","v":0},null,{"$f":"+'Resumen de indicadores FR'!AX$4","v":"Estudiante 43"},{"$f":"+HLOOKUP(H47,'Resumen de Escala FR'!$F$13:$BC$17,2,0)","v":"-"},{"$f":"+HLOOKUP(H47,'Resumen de Escala FR'!$F$13:$BC$17,5,0)","v":0},{"$f":"+HLOOKUP(H47,'Resumen de Escala FR'!$F$13:$BC$17,4,0)","v":0},{"$f":"+HLOOKUP(H47,'Resumen de Escala FR'!$F$13:$BC$17,3,0)","v":0}]
[null,{"$f":"+'Resumen de indicadores HSE'!AY$4","v":"Estudiante 44"},{"$f":"+HLOOKUP(B48,'Resumen de Escala HSE'!$D$20:$BC$24,2,0)","v":"-"},{"$f":"+HLOOKUP(B48,'Resumen de Escala HSE'!$D$20:$BC$24,3,0)","v":0},{"$f":"+HLOOKUP(B48,'Resumen de Escala HSE'!$D$20:$BC$24,4,0)","v":0},{"$f":"+HLOOKUP(B48,'Resumen de Escala HSE'!$D$20:$BC$24,5,0)","v":0},null,{"$f":"+'Resumen de indicadores FR'!AY$4","v":"Estudiante 44"},{"$f":"+HLOOKUP(H48,'Resumen de Escala FR'!$F$13:$BC$17,2,0)","v":"-"},{"$f":"+HLOOKUP(H48,'Resumen de Escala FR'!$F$13:$BC$17,5,0)","v":0},{"$f":"+HLOOKUP(H48,'Resumen de Escala FR'!$F$13:$BC$17,4,0)","v":0},{"$f":"+HLOOKUP(H48,'Resumen de Escala FR'!$F$13:$BC$17,3,0)","v":0}]
[null,{"$f":"+'Resumen de indicadores HSE'!AZ$4","v":"Estudiante 45"},{"$f":"+HLOOKUP(B49,'Resumen de Escala HSE'!$D$20:$BC$24,2,0)","v":"-"},{"$f":"+HLOOKUP(B49,'Resumen de Escala HSE'!$D$20:$BC$24,3,0)","v":0},{"$f":"+HLOOKUP(B49,'Resumen de Escala HSE'!$D$20:$BC$24,4,0)","v":0},{"$f":"+HLOOKUP(B49,'Resumen de Escala HSE'!$D$20:$BC$24,5,0)","v":0},null,{"$f":"+'Resumen de indicadores FR'!AZ$4","v":"Estudiante 45"},{"$f":"+HLOOKUP(H49,'Resumen de Escala FR'!$F$13:$BC$17,2,0)","v":"-"},{"$f":"+HLOOKUP(H49,'Resumen de Escala FR'!$F$13:$BC$17,5,0)","v":0},{"$f":"+HLOOKUP(H49,'Resumen de Escala FR'!$F$13:$BC$17,4,0)","v":0},{"$f":"+HLOOKUP(H49,'Resumen de Escala FR'!$F$13:$BC$17,3,0)","v":0}]
[null,{"$f":"+'Resumen de indicadores HSE'!BA$4","v":"Estudiante 46"},{"$f":"+HLOOKUP(B50,'Resumen de Escala HSE'!$D$20:$BC$24,2,0)","v":"-"},{"$f":"+HLOOKUP(B50,'Resumen de Escala HSE'!$D$20:$BC$24,3,0)","v":0},{"$f":"+HLOOKUP(B50,'Resumen de Escala HSE'!$D$20:$BC$24,4,0)","v":0},{"$f":"+HLOOKUP(B50,'Resumen de Escala HSE'!$D$20:$BC$24,5,0)","v":0},null,{"$f":"+'Resumen de indicadores FR'!BA$4","v":"Estudiante 46"},{"$f":"+HLOOKUP(H50,'Resumen de Escala FR'!$F$13:$BC$17,2,0)","v":"-"},{"$f":"+HLOOKUP(H50,'Resumen de Escala FR'!$F$13:$BC$17,5,0)","v":0},{"$f":"+HLOOKUP(H50,'Resumen de Escala FR'!$F$13:$BC$17,4,0)","v":0},{"$f":"+HLOOKUP(H50,'Resumen de Escala FR'!$F$13:$BC$17,3,0)","v":0}]
[null,{"$f":"+'Resumen de indicadores HSE'!BB$4","v":"Estudiante 47"},{"$f":"+HLOOKUP(B51,'Resumen de Escala HSE'!$D$20:$BC$24,2,0)","v":"-"},{"$f":"+HLOOKUP(B51,'Resumen de Escala HSE'!$D$20:$BC$24,3,0)","v":0},{"$f":"+HLOOKUP(B51,'Resumen de Escala HSE'!$D$20:$BC$24,4,0)","v":0},{"$f":"+HLOOKUP(B51,'Resumen de Escala HSE'!$D$20:$BC$24,5,0)","v":0},null,{"$f":"+'Resumen de indicadores FR'!BB$4","v":"Estudiante 47"},{"$f":"+HLOOKUP(H51,'Resumen de Escala FR'!$F$13:$BC$17,2,0)","v":"-"},{"$f":"+HLOOKUP(H51,'Resumen de Escala FR'!$F$13:$BC$17,5,0)","v":0},{"$f":"+HLOOKUP(H51,'Resumen de Escala FR'!$F$13:$BC$17,4,0)","v":0},{"$f":"+HLOOKUP(H51,'Resumen de Escala FR'!$F$13:$BC$17,3,0)","v":0}]
[null,{"$f":"+'Resumen de indicadores HSE'!BC$4","v":"Estudiante 48"},{"$f":"+HLOOKUP(B52,'Resumen de Escala HSE'!$D$20:$BC$24,2,0)","v":"-"},{"$f":"+HLOOKUP(B52,'Resumen de Escala HSE'!$D$20:$BC$24,3,0)","v":0},{"$f":"+HLOOKUP(B52,'Resumen de Escala HSE'!$D$20:$BC$24,4,0)","v":0},{"$f":"+HLOOKUP(B52,'Resumen de Escala HSE'!$D$20:$BC$24,5,0)","v":0},null,{"$f":"+'Resumen de indicadores FR'!BC$4","v":"Estudiante 48"},{"$f":"+HLOOKUP(H52,'Resumen de Escala FR'!$F$13:$BC$17,2,0)","v":"-"},{"$f":"+HLOOKUP(H52,'Resumen de Escala FR'!$F$13:$BC$17,5,0)","v":0},{"$f":"+HLOOKUP(H52,'Resumen de Escala FR'!$F$13:$BC$17,4,0)","v":0},{"$f":"+HLOOKUP(H52,'Resumen de Escala FR'!$F$13:$BC$17,3,0)","v":0}]
[null,{"$f":"+'Resumen de indicadores HSE'!BD$4","v":"Estudiante 49"},{"$f":"+HLOOKUP(B53,'Resumen de Escala HSE'!$D$20:$BC$24,2,0)","v":"-"},{"$f":"+HLOOKUP(B53,'Resumen de Escala HSE'!$D$20:$BC$24,3,0)","v":0},{"$f":"+HLOOKUP(B53,'Resumen de Escala HSE'!$D$20:$BC$24,4,0)","v":0},{"$f":"+HLOOKUP(B53,'Resumen de Escala HSE'!$D$20:$BC$24,5,0)","v":0},null,{"$f":"+'Resumen de indicadores FR'!BD$4","v":"Estudiante 49"},{"$f":"+HLOOKUP(H53,'Resumen de Escala FR'!$F$13:$BC$17,2,0)","v":"-"},{"$f":"+HLOOKUP(H53,'Resumen de Escala FR'!$F$13:$BC$17,5,0)","v":0},{"$f":"+HLOOKUP(H53,'Resumen de Escala FR'!$F$13:$BC$17,4,0)","v":0},{"$f":"+HLOOKUP(H53,'Resumen de Escala FR'!$F$13:$BC$17,3,0)","v":0}]
[null,{"$f":"+'Resumen de indicadores HSE'!BE$4","v":"Estudiante 50"},{"$f":"+HLOOKUP(B54,'Resumen de Escala HSE'!$D$20:$BC$24,2,0)","v":"-"},{"$f":"+HLOOKUP(B54,'Resumen de Escala HSE'!$D$20:$BC$24,3,0)","v":0},{"$f":"+HLOOKUP(B54,'Resumen de Escala HSE'!$D$20:$BC$24,4,0)","v":0},{"$f":"+HLOOKUP(B54,'Resumen de Escala HSE'!$D$20:$BC$24,5,0)","v":0},null,{"$f":"+'Resumen de indicadores FR'!BE$4","v":"Estudiante 50"},{"$f":"+HLOOKUP(H54,'Resumen de Escala FR'!$F$13:$BC$17,2,0)","v":"-"},{"$f":"+HLOOKUP(H54,'Resumen de Escala FR'!$F$13:$BC$17,5,0)","v":0},{"$f":"+HLOOKUP(H54,'Resumen de Escala FR'!$F$13:$BC$17,4,0)","v":0},{"$f":"+HLOOKUP(H54,'Resumen de Escala FR'!$F$13:$BC$17,3,0)","v":0}]

{"sheet":"LEYENDA","index":10,"n_rows":26,"n_cols":10,"rows_kept":26,"cut":false,"hidden":false,"merged":[[1,1,1,3],[8,1,8,3],[15,8,15,9],[21,8,21,9]]}
[]
[null,"HABILIDADES SOCIOEMOCIONALES"]
[null,"Color","Escala - Estado","Interpretación"]
[null,"En inicio","“EN INICIO”\n[0 - 0.25]","La o el estudiante presenta mayores dificultades en el desarrollo de sus HSE."]
[null,"En Proceso","“EN PROCESO”\n[0.26 - 0.74]","La o el estudiante presenta ligeras dificultades en el desarrollo de sus HSE."]
[null,"Satisfactorio","“SATISFACTORIO”\n[0.75 - 1]","La o el estudiante no presenta dificultades en el desarrollo de sus HSE."]
[]
[]
[null,"FACTORES DE RIESGO"]
[null,"Color","Escala - Estado","Interpretación"]
[null,"Alto Riesgo","“ALTO RIESGO”\n[0.75 - 1]","La o el estudiante requiere mayor acompañamiento  y contrastar la información con otras fuentes para prevenir conductas y/o situaciones de riesgo."]
[null,"Riesgo Moderado","“RIESGO MODERADO”\n[0.26 - 0.74]","La o el estudiante requiere acciones de acompañamiento para prevenir conductas y/o situaciones de riesgo."]
[null,"Bajo Riesgo","“BAJO RIESGO”\n[0 - 0.25]","La o el estudiante cuenta con factores protectores."]
[]
[]
[null,null,null,null,null,null,null,null,"Leyenda"]
[null,null,null,null,null,null,null,null,"Color","Escala - Estado"]
[null,null,null,null,null,null,null,null,"ROJO","Alto Riesgo"]
[null,null,null,null,null,null,null,null,"AMARILLO","Riesgo Moderado"]
[null,null,null,null,null,null,null,null,"VERDE","Bajo Riesgo"]
[]
[null,null,null,null,null,null,null,null,"Leyenda"]
[null,null,null,null,null,null,null,null,"Color","Escala - Estado"]
[null,null,null,null,null,null,null,null,"ROJO","En Inicio"]
[null,null,null,null,null,null,null,null,"AMARILLO","En Proceso"]
[null,null,null,null,null,null,null,null,"VERDE","Satisfactorio"]

{"sheet":"Sección","index":11,"n_rows":0,"n_cols":0,"rows_kept":0,"cut":false,"hidden":true,"merged":[]}

{"sheet":"Colegio","index":12,"n_rows":0,"n_cols":0,"rows_kept":0,"cut":false,"hidden":true,"merged":[]}

{"sheet":"Hoja1","index":13,"n_rows":12,"n_cols":5,"rows_kept":12,"cut":false,"hidden":true,"merged":[[1,3,1,4],[7,3,7,4]]}
[]
[null,null,null,"Leyenda"]
[null,null,null,"Estado/Color","Intervalo"]
[null,null,null,"En inicio","[0 - 0.25]"]
[null,null,null,"En Proceso","[0.26 - 0.74]"]
[null,null,null,"Satisfactorio","[0.75 - 1]"]
[]
[null,null,null,"Leyenda"]
[null,null,null,"Estado/Color","Intervalo"]
[null,null,null,"Alto Riesgo","[0.75 - 1]"]
[null,null,null,"Riesgo Moderado","[0.26 - 0.74]"]
[null,null,null,"Bajo Riesgo","[0 - 0.25]"]