{"text_format":"1","workbook":"xlsx","n_sheets":11,"sheets":["Back","Espejo","Índice","BASE DE RESPUESTAS","Resumen de indicadores HSE","Resumen de Escala HSE","Resumen de indicadores FR","Resumen de Escala FR","Resumen de Resultados","LEYENDA","Hoja1"],"not_rendered":{"charts":0,"images":3,"macros":1,"external_links":0,"defined_names":5,"comments":0,"pivot_tables":0},"unopened":[],"bounds":{"document_bytes":16777216,"sheet_cells":100000,"rows_first":2000,"rows_last":500,"rows_between":2000,"halvings":0,"cell_chars":16384,"cell_head_chars":4096},"cells_cut":0,"cells_raw":0,"read":"whole","date_system":"1900"}

{"sheet":"Back","index":0,"n_rows":46,"n_cols":16,"rows_kept":46,"cut":false,"hidden":true,"merged":[[1,14,1,15],[16,7,19,7],[16,8,17,8],[18,8,19,8]]}
[null,null,null,null,{"$f":"+'BASE DE RESPUESTAS'!#REF!","v":"#ERROR!"}]
[null,null,"Primaria","3 años",null,"A) No me pasa",1.0,1.75,"MENOR A ESO ROJO",null,null,null,"LEYENDA",null,"Leyenda"]
[null,null,"Secundaria","4 años",{"$f":"+IF($E$1=1,\"\",IF($E$1=2,\"III\",\"VI\"))","v":"#ERROR!"},"B) Me pasa poco",2.0,3.25,"IGUAL Y MENOR AMARILLO",null,null,null,"ROJO","CRÍTICO","Colores","Resultados"]
[null,null,null,"5 años",{"$f":"+IF($E$1=1,\"\",IF($E$1=2,\"IV\",\"VII\"))","v":"#ERROR!"},"C) Me pasa regularmente",3.0,3.25,"MAYOR IGUAL",null,null,null,"AMARILLO","MODERADO","Rojo","Crítico"]
[null,null,null,null,{"$f":"+IF($E$1=1,\"\",IF($E$1=2,\"V\",\"\"))","v":"#ERROR!"},"D) Me pasa mucho",4.0,null,null,null,null,null,"VERDE","IDEAL","Amarillo","Moderado"]
[null,null,null,null,null,"E) No respondió",0.0,null,null,null,null,null,null,null,"Verde","Ideal"]
[]
[]
[]
[]
[]
[null,null,null,null,null,null,null,"Primaria: III - V"]
[null,"Escribe/Dibuja/Describe por lo menos 2 cualidades.","Escribe/dibuja/describe solo 1 o ninguna cualidad.",null,null,null,null,"Secundaria: VI - VII"]
[null,"Escribe/Dibuja/Describe por lo menos 2 cualidades.","Escribe/dibuja/describe solo 1 o ninguna cualidad."]
[null,"Escribe/Dibuja/Describe por lo menos 2 características suyas con cognotación positiva (puede incluir características físicas).\n\nEjemplo Válido:\nSoy el más creativo de la clase\nEjemplo que no corresponde:\nSoy el más irresponsable de mi clase.","Escribe/dibuja/describe solo 1 o ninguna característica."]
[null,"Sí","No",null,null,null,null,"Indicador","Pregunta","Respuestas","Valores"]
[null,"Describe o dibuja por los menos dos tareas o actividades.","No describe o dibuja ninguna actividad o tarea o describe solo 1.",null,null,null,null,1.1,1.0,"Escribe/Dibuja/Describe por lo menos 2 cualidades.",1.0,null,"No se logra",0.0]
[null,"Sí","No",null,null,null,null,null,null,"Escribe/dibuja/describe solo 1 o ninguna cualidad.",0.0,null,"En proceso",1.0]
[null,"Sí","No",null,null,null,null,null,2.0,"Escribe/Dibuja/Describe por lo menos 2 cualidades.",1.0,null,"Se logra",2.0]
[null,"Escribe o dibuja 2 o más emociones.","Escribe o dibuja una o ninguna emoción.",null,null,null,null,null,null,"Escribe/dibuja/describe solo 1 o ninguna cualidad.",0.0,null,"Se dejó en blanco","_"]
[null,"Debe describir/dibujar a una persona triste o molesta o similar cuanto mínimo.","Describe a una persona feliz o alegra.",null,null,null,null,null,null,null,null,null,"Sí",1.0]
[null,"Debe describir/dibujar por lo menos 2 emociones que experimentó durante ese momento.","Describe solo una emoción o ninguna.",null,null,null,null,null,null,null,null,null,"No",0.0]
[null,"a) Frutas, agua, huevo, yogurt, pan\n","b) Hamburguesa, caramelos, gaseosa ",null,null,null,null,null,null,null,null,null,"Se dejó en blanco","_"]
[null,"a) Sedentaria: que hace solo o con más personas. (Imágenes: niño “Voy a quedarme escuchando la radio todo el día”)","b) Físicas: alguna actividad física con más personas."]
[null,"a) Llevar su mano al pecho y sentir su corazón.","b) Parar de inmediato y sentarse. "]
[null,"Para el caso de los hombres por lo menos 1 y para el caso de las mujeres por lo menos 2.","No señala nada o señale una parte que no es íntima."]
[null,"a) Sí","b) No"]
[null,"a) Gritarle a todos sus compañeros de equipo e irse. ","b) Entender que todos pueden fallar y quedarse con su equipo a seguir jugando. "]
[null,"a) Queda triste y muy avergonzado por el accidente por eso no va a clase.","b) Se disculpa, la ayuda y va tranquilo a clase."]
[null,"a) Está muy avergonzada y llora porque se burlan de ella.","b) Entiende la situación y usa su cartulina azul."]
[null,"a) Sí","b) No"]
[null,"a) Retrasa la cena y su papá se molesta por no cumplir con sus tareas. ","b) No pasa nada, sus padres van a lavar las verduras por él. "]
[null,"a) La decisión de jugar en lugar de hacer sus deberes. Que no priorizó sus tareas.","b) Su papá no quiso lavar las verduras. "]
[null,"a) Escenario 1:\n• Juan: Ayer estuve jugando Free Fire con mi hermano y estaba ganando cuando…\n• Pedro: A mí también me gusta jugar Free Fire, aunque prefiero Minecraft porque es más chévere y puedes ir construyendo tu propia casa\n• Juan: Claro, a mí también me gusta Mine…\n• Pedro: El otro día construí una casa de dos pisos, con terraza y un patio grande\n• Juan: ¡Genial! Yo también hice un …\n• Pedro: También hice una fortaleza de color gris, inmensa, etc.","b) Escenario 2:\n• Juan: Ayer estuve jugando Free Fire con mi hermano y por fin le estaba ganando, cuando mi mamá nos llamó para comer y no pudimos terminar el juego.\n• Pedro: Asu, qué mala suerte. Seguro la próxima si le ganas.\n• Juan: Sí, he estado mejorando. ¿A ti también te gusta ese juego?\n• Pedro: Sí, pero me gusta más Minecraft. El otro día construí una casa de dos pisos, con terraza y un patio grande\n• Juan: ¡Genial! Yo también lo he jugado. Hice una fortaleza inmensa.\n"]
[null,"a) Decir: Perdona, me gustaría terminar de contar lo que estaba diciendo.","b) Decir: ¡No es justo! ¿No puedo hablar yo?\n","c) Interrumpir al niño empezando a hablar otra vez.","d) No decir nada y dejar que el otro niño continuara hablando.","e) Decir: ¡Cállate! ¡Estaba hablando yo!"]
[null,"a) Se pelean para elegir el que hará el personaje","b) Le piden a la profesora que elija quién hará el personaje ","c) Llegar a un acuerdo que puede ser “Bruno hace el personaje ahora y Gonzalo hace el personaje después”."]
[null,"a) Escenario 1: Roberto es un chico extranjero que apenas se está integrando al grupo (Imagen donde unos niños rechazan al niño extranjero.)","b) Escenario 2: Carlos es un chico extranjero que apenas se está integrando al grupo. (Imagen donde unos niños buscan incluir al niño extranjero.)"]
[null,"a) Escucho con atención para entenderlo","b) Escucho con atención para refutar su idea porque está mal","c) Miento diciendo que estoy de acuerdo para terminar la discusión lo más pronto posible."]
[null,"a) Presto atención para saber cómo se siente mi compañero y por qué se siente así.","b) Presto atención, pero pocas veces entiendo por qué está molesto.","c) Solo quiero ganar en la discusión.","d) No presto atención a sus emociones porque no es mi problema."]
[null,"a) Escucho con atención para entender su punto de vista.","b) Intento convencerlo de que está equivocado porque solo mi idea puede ser correcta.","c) Digo: Estoy de acuerdo (cuando en verdad no estoy de acuerdo, pero así evito discutir).","\nd) No le vuelvo a hablar porque no piensa igual que yo."]
[null,"a) Yo sugiero mi juego favorito y los convenzo para jugarlo.","b) Cada uno sugiere un juego y establecemos turnos para jugar cada juego.","c) Me molesto porque no quieren jugar el juego que yo quiero."]
[null,"a) Digo: Tranquilo, ya va a llegar la hora del almuerzo.","b) Le invito de mi lonchera y nos divertimos conversando.","c) Escondo mi comida para que no me pida."]
[null,"a) Converso con él porque siento que aprendo cosas nuevas de donde viene.","b) Junto con mis compañeros me burlo de él y sus costumbres o lenguaje.","c) No le hablo porque es diferente"]
[null,"a) Le digo a la profesora que cambie a Carlitos de grupo porque no lo entiendo cuando habla.","b) Le presento a Carlitos al resto de mis compañeros para que también lo conozcan.","c) Me molesto porque Carlitos no me cae bien porque no es peruano."]
[null,"a) Juntarse con sus compañeros y compañeras para arreglar el espacio.","b) No debe hacer nada, no tiene la responsabilidad de lo que pase en el parque."]
[null,"a) Botar la basura e intentar hablar con su compañero.","b) No hacer nada porque no es su basura."]

{"sheet":"Espejo","index":1,"n_rows":55,"n_cols":57,"rows_kept":55,"cut":false,"hidden":true,"merged":[[3,21,4,21],[3,22,4,22],[3,23,4,23],[3,24,4,24],[3,25,4,25],[3,26,4,26],[3,27,4,27],[3,28,4,28],[3,29,4,29],[3,30,4,30],[3,31,4,31],[3,32,4,32],[3,33,4,33],[3,34,4,34],[3,49,4,49],[3,50,4,50],[3,51,4,51],[3,52,4,52],[3,53,4,53],[3,54,4,54],[3,55,4,55],[3,56,4,56],[2,1,2,5],[2,7,2,56],[3,1,4,1],[3,2,4,2],[3,3,4,3],[3,4,4,4],[3,5,4,5],[3,35,4,35],[3,36,4,36],[3,37,4,37],[3,38,4,38],[3,39,4,39],[3,40,4,40],[3,41,4,41],[3,42,4,42],[3,43,4,43],[3,44,4,44],[3,45,4,45],[3,46,4,46],[3,47,4,47],[3,48,4,48],[10,1,15,1],[10,2,15,2],[10,3,13,3],[14,3,15,3],[16,1,19,1],[16,2,19,2],[17,3,19,3],[20,1,21,1],[20,2,21,2],[20,3,21,3],[22,1,23,1],[22,2,23,2],[26,2,27,2],[26,3,27,3],[26,1,27,1],[28,1,29,1],[28,2,29,2],[32,1,33,1],[32,2,33,2],[34,1,35,1],[34,2,35,2],[43,1,46,1],[47,1,53,1],[47,2,53,2],[36,1,39,1],[36,2,39,2],[40,1,42,1],[40,2,42,2],[40,3,41,3],[43,2,46,2],[43,3,45,3],[47,3,49,3],[3,9,4,9],[3,10,4,10],[3,11,4,11],[3,12,4,12],[3,13,4,13],[3,14,4,14],[3,15,4,15],[3,16,4,16],[3,17,4,17],[3,18,4,18],[3,19,4,19],[3,20,4,20],[3,7,4,7],[3,8,4,8],[5,1,6,1],[5,2,6,2],[7,1,9,1],[7,2,9,2],[8,3,9,3]]}
[]
[]
[null,"INFORMACIÓN BÁSICA",null,null,null,null,null,"ESTUDIANTES"]
[null,"Dimensión","Escala","Indicador","Número","Preguntas",null,"ANDRÉ ARANA","RAFAEL MIRANDA","MALU LOPEZ","Estudiante 4","Estudiante 5","Estudiante 6","Estudiante 7","Estudiante 8","Estudiante 9","Estudiante 10","Estudiante 11","Estudiante 12","Estudiante 13","Estudiante 14","Estudiante 15","Estudiante 16","Estudiante 17","Estudiante 18","Estudiante 19","Estudiante 20","Estudiante 21","Estudiante 22","Estudiante 23","Estudiante 24","Estudiante 25","Estudiante 26","Estudiante 27","Estudiante 28","Estudiante 29","Estudiante 30","Estudiante 31","Estudiante 32","Estudiante 33","Estudiante 34","Estudiante 35","Estudiante 36","Estudiante 37","Estudiante 38","Estudiante 39","Estudiante 40","Estudiante 41","Estudiante 42","Estudiante 43","Estudiante 44","Estudiante 45","Estudiante 46","Estudiante 47","Estudiante 48","Estudiante 49","Estudiante 50"]
[]
[null,"HSE","Autoconcepto","La niña o el niño nombra, al menos, dos características concretas de sí mismo/a (entre físicas, y capacidades).",1.0,"Pregunta: “Cuéntame cómo eres”.",null,{"$f":"+VLOOKUP('BASE DE RESPUESTAS'!H7,Back!$M$17:$N$23,2,0)","v":"#N/A"},{"$f":"+VLOOKUP('BASE DE RESPUESTAS'!I7,Back!$M$17:$N$23,2,0)","v":"#N/A"},{"$f":"+VLOOKUP('BASE DE RESPUESTAS'!J7,Back!$M$17:$N$23,2,0)","v":"#N/A"},{"$f":"+VLOOKUP('BASE DE RESPUESTAS'!K7,Back!$M$17:$N$23,2,0)","v":"#N/A"},{"$f":"+VLOOKUP('BASE DE RESPUESTAS'!L7,Back!$M$17:$N$23,2,0)","v":"#N/A"},{"$f":"+VLOOKUP('BASE DE RESPUESTAS'!M7,Back!$M$17:$N$23,2,0)","v":"#N/A"},{"$f":"+VLOOKUP('BASE DE RESPUESTAS'!N7,Back!$M$17:$N$23,2,0)","v":"#N/A"},{"$f":"+VLOOKUP('BASE DE RESPUESTAS'!O7,Back!$M$17:$N$23,2,0)","v":"#N/A"},{"$f":"+VLOOKUP('BASE DE RESPUESTAS'!P7,Back!$M$17:$N$23,2,0)","v":"#N/A"},{"$f":"+VLOOKUP('BASE DE RESPUESTAS'!Q7,Back!$M$17:$N$23,2,0)","v":"#N/A"},{"$f":"+VLOOKUP('BASE DE RESPUESTAS'!R7,Back!$M$17:$N$23,2,0)","v":"#N/A"},{"$f":"+VLOOKUP('BASE DE RESPUESTAS'!S7,Back!$M$17:$N$23,2,0)","v":"#N/A"},{"$f":"+VLOOKUP('BASE DE RESPUESTAS'!T7,Back!$M$17:$N$23,2,0)","v":"#N/A"},{"$f":"+VLOOKUP('BASE DE RESPUESTAS'!U7,Back!$M$17:$N$23,2,0)","v":"#N/A"},{"$f":"+VLOOKUP('BASE DE RESPUESTAS'!V7,Back!$M$17:$N$23,2,0)","v":"#N/A"},{"$f":"+VLOOKUP('BASE DE RESPUESTAS'!W7,Back!$M$17:$N$23,2,0)","v":"#N/A"},{"$f":"+VLOOKUP('BASE DE RESPUESTAS'!X7,Back!$M$17:$N$23,2,0)","v":"#N/A"},{"$f":"+VLOOKUP('BASE DE RESPUESTAS'!Y7,Back!$M$17:$N$23,2,0)","v":"#N/A"},{"$f":"+VLOOKUP('BASE DE RESPUESTAS'!Z7,Back!$M$17:$N$23,2,0)","v":"#N/A"},{"$f":"+VLOOKUP('BASE DE RESPUESTAS'!AA7,Back!$M$17:$N$23,2,0)","v":"#N/A"},{"$f":"+VLOOKUP('BASE DE RESPUESTAS'!AB7,Back!$M$17:$N$23,2,0)","v":"#N/A"},{"$f":"+VLOOKUP('BASE DE RESPUESTAS'!AC7,Back!$M$17:$N$23,2,0)","v":"#N/A"},{"$f":"+VLOOKUP('BASE DE RESPUESTAS'!AD7,Back!$M$17:$N$23,2,0)","v":"#N/A"},{"$f":"+VLOOKUP('BASE DE RESPUESTAS'!AE7,Back!$M$17:$N$23,2,0)","v":"#N/A"},{"$f":"+VLOOKUP('BASE DE RESPUESTAS'!AF7,Back!$M$17:$N$23,2,0)","v":"#N/A"},{"$f":"+VLOOKUP('BASE DE RESPUESTAS'!AG7,Back!$M$17:$N$23,2,0)","v":"#N/A"},{"$f":"+VLOOKUP('BASE DE RESPUESTAS'!AH7,Back!$M$17:$N$23,2,0)","v":"#N/A"},{"$f":"+VLOOKUP('BASE DE RESPUESTAS'!AI7,Back!$M$17:$N$23,2,0)","v":"#N/A"},{"$f":"+VLOOKUP('BASE DE RESPUESTAS'!AJ7,Back!$M$17:$N$23,2,0)","v":"#N/A"},{"$f":"+VLOOKUP('BASE DE RESPUESTAS'!AK7,Back!$M$17:$N$23,2,0)","v":"#N/A"},{"$f":"+VLOOKUP('BASE DE RESPUESTAS'!AL7,Back!$M$17:$N$23,2,0)","v":"#N/A"},{"$f":"+VLOOKUP('BASE DE RESPUESTAS'!AM7,Back!$M$17:$N$23,2,0)","v":"#N/A"},{"$f":"+VLOOKUP('BASE DE RESPUESTAS'!AN7,Back!$M$17:$N$23,2,0)","v":"#N/A"},{"$f":"+VLOOKUP('BASE DE RESPUESTAS'!AO7,Back!$M$17:$N$23,2,0)","v":"#N/A"},{"$f":"+VLOOKUP('BASE DE RESPUESTAS'!AP7,Back!$M$17:$N$23,2,0)","v":"#N/A"},{"$f":"+VLOOKUP('BASE DE RESPUESTAS'!AQ7,Back!$M$17:$N$23,2,0)","v":"#N/A"},{"$f":"+VLOOKUP('BASE DE RESPUESTAS'!AR7,Back!$M$17:$N$23,2,0)","v":"#N/A"},{"$f":"+VLOOKUP('BASE DE RESPUESTAS'!AS7,Back!$M$17:$N$23,2,0)","v":"#N/A"},{"$f":"+VLOOKUP('BASE DE RESPUESTAS'!AT7,Back!$M$17:$N$23,2,0)","v":"#N/A"},{"$f":"+VLOOKUP('BASE DE RESPUESTAS'!AU7,Back!$M$17:$N$23,2,0)","v":"#N/A"},{"$f":"+VLOOKUP('BASE DE RESPUESTAS'!AV7,Back!$M$17:$N$23,2,0)","v":"#N/A"},{"$f":"+VLOOKUP('BASE DE RESPUESTAS'!AW7,Back!$M$17:$N$23,2,0)","v":"#N/A"},{"$f":"+VLOOKUP('BASE DE RESPUESTAS'!AX7,Back!$M$17:$N$23,2,0)","v":"#N/A"},{"$f":"+VLOOKUP('BASE DE RESPUESTAS'!AY7,Back!$M$17:$N$23,2,0)","v":"#N/A"},{"$f":"+VLOOKUP('BASE DE RESPUESTAS'!AZ7,Back!$M$17:$N$23,2,0)","v":"#N/A"},{"$f":"+VLOOKUP('BASE DE RESPUESTAS'!BA7,Back!$M$17:$N$23,2,0)","v":"#N/A"},{"$f":"+VLOOKUP('BASE DE RESPUESTAS'!BB7,Back!$M$17:$N$23,2,0)","v":"#N/A"},{"$f":"+VLOOKUP('BASE DE RESPUESTAS'!BC7,Back!$M$17:$N$23,2,0)","v":"#N/A"},{"$f":"+VLOOKUP('BASE DE RESPUESTAS'!BD7,Back!$M$17:$N$23,2,0)","v":"#N/A"},{"$f":"+VLOOKUP('BASE DE RESPUESTAS'!BE7,Back!$M$17:$N$23,2,0)","v":"#N/A"}]
[null,null,null,"La niña o el niño expresa lo que más le gusta hacer.",2.0,"Pregunta: “¿Qué es lo que más te gusta hacer?”",null,{"$f":"+VLOOKUP('BASE DE RESPUESTAS'!H8,Back!$M$17:$N$23,2,0)","v":"#N/A"},{"$f":"+VLOOKUP('BASE DE RESPUESTAS'!I8,Back!$M$17:$N$23,2,0)","v":"#N/A"},{"$f":"+VLOOKUP('BASE DE RESPUESTAS'!J8,Back!$M$17:$N$23,2,0)","v":"#N/A"},{"$f":"+VLOOKUP('BASE DE RESPUESTAS'!K8,Back!$M$17:$N$23,2,0)","v":"#N/A"},{"$f":"+VLOOKUP('BASE DE RESPUESTAS'!L8,Back!$M$17:$N$23,2,0)","v":"#N/A"},{"$f":"+VLOOKUP('BASE DE RESPUESTAS'!M8,Back!$M$17:$N$23,2,0)","v":"#N/A"},{"$f":"+VLOOKUP('BASE DE RESPUESTAS'!N8,Back!$M$17:$N$23,2,0)","v":"#N/A"},{"$f":"+VLOOKUP('BASE DE RESPUESTAS'!O8,Back!$M$17:$N$23,2,0)","v":"#N/A"},{"$f":"+VLOOKUP('BASE DE RESPUESTAS'!P8,Back!$M$17:$N$23,2,0)","v":"#N/A"},{"$f":"+VLOOKUP('BASE DE RESPUESTAS'!Q8,Back!$M$17:$N$23,2,0)","v":"#N/A"},{"$f":"+VLOOKUP('BASE DE RESPUESTAS'!R8,Back!$M$17:$N$23,2,0)","v":"#N/A"},{"$f":"+VLOOKUP('BASE DE RESPUESTAS'!S8,Back!$M$17:$N$23,2,0)","v":"#N/A"},{"$f":"+VLOOKUP('BASE DE RESPUESTAS'!T8,Back!$M$17:$N$23,2,0)","v":"#N/A"},{"$f":"+VLOOKUP('BASE DE RESPUESTAS'!U8,Back!$M$17:$N$23,2,0)","v":"#N/A"},{"$f":"+VLOOKUP('BASE DE RESPUESTAS'!V8,Back!$M$17:$N$23,2,0)","v":"#N/A"},{"$f":"+VLOOKUP('BASE DE RESPUESTAS'!W8,Back!$M$17:$N$23,2,0)","v":"#N/A"},{"$f":"+VLOOKUP('BASE DE RESPUESTAS'!X8,Back!$M$17:$N$23,2,0)","v":"#N/A"},{"$f":"+VLOOKUP('BASE DE RESPUESTAS'!Y8,Back!$M$17:$N$23,2,0)","v":"#N/A"},{"$f":"+VLOOKUP('BASE DE RESPUESTAS'!Z8,Back!$M$17:$N$23,2,0)","v":"#N/A"},{"$f":"+VLOOKUP('BASE DE RESPUESTAS'!AA8,Back!$M$17:$N$23,2,0)","v":"#N/A"},{"$f":"+VLOOKUP('BASE DE RESPUESTAS'!AB8,Back!$M$17:$N$23,2,0)","v":"#N/A"},{"$f":"+VLOOKUP('BASE DE RESPUESTAS'!AC8,Back!$M$17:$N$23,2,0)","v":"#N/A"},{"$f":"+VLOOKUP('BASE DE RESPUESTAS'!AD8,Back!$M$17:$N$23,2,0)","v":"#N/A"},{"$f":"+VLOOKUP('BASE DE RESPUESTAS'!AE8,Back!$M$17:$N$23,2,0)","v":"#N/A"},{"$f":"+VLOOKUP('BASE DE RESPUESTAS'!AF8,Back!$M$17:$N$23,2,0)","v":"#N/A"},{"$f":"+VLOOKUP('BASE DE RESPUESTAS'!AG8,Back!$M$17:$N$23,2,0)","v":"#N/A"},{"$f":"+VLOOKUP('BASE DE RESPUESTAS'!AH8,Back!$M$17:$N$23,2,0)","v":"#N/A"},{"$f":"+VLOOKUP('BASE DE RESPUESTAS'!AI8,Back!$M$17:$N$23,2,0)","v":"#N/A"},{"$f":"+VLOOKUP('BASE DE RESPUESTAS'!AJ8,Back!$M$17:$N$23,2,0)","v":"#N/A"},{"$f":"+VLOOKUP('BASE DE RESPUESTAS'!AK8,Back!$M$17:$N$23,2,0)","v":"#N/A"},{"$f":"+VLOOKUP('BASE DE RESPUESTAS'!AL8,Back!$M$17:$N$23,2,0)","v":"#N/A"},{"$f":"+VLOOKUP('BASE DE RESPUESTAS'!AM8,Back!$M$17:$N$23,2,0)","v":"#N/A"},{"$f":"+VLOOKUP('BASE DE RESPUESTAS'!AN8,Back!$M$17:$N$23,2,0)","v":"#N/A"},{"$f":"+VLOOKUP('BASE DE RESPUESTAS'!AO8,Back!$M$17:$N$23,2,0)","v":"#N/A"},{"$f":"+VLOOKUP('BASE DE RESPUESTAS'!AP8,Back!$M$17:$N$23,2,0)","v":"#N/A"},{"$f":"+VLOOKUP('BASE DE RESPUESTAS'!AQ8,Back!$M$17:$N$23,2,0)","v":"#N/A"},{"$f":"+VLOOKUP('BASE DE RESPUESTAS'!AR8,Back!$M$17:$N$23,2,0)","v":"#N/A"},{"$f":"+VLOOKUP('BASE DE RESPUESTAS'!AS8,Back!$M$17:$N$23,2,0)","v":"#N/A"},{"$f":"+VLOOKUP('BASE DE RESPUESTAS'!AT8,Back!$M$17:$N$23,2,0)","v":"#N/A"},{"$f":"+VLOOKUP('BASE DE RESPUESTAS'!AU8,Back!$M$17:$N$23,2,0)","v":"#N/A"},{"$f":"+VLOOKUP('BASE DE RESPUESTAS'!AV8,Back!$M$17:$N$23,2,0)","v":"#N/A"},{"$f":"+VLOOKUP('BASE DE RESPUESTAS'!AW8,Back!$M$17:$N$23,2,0)","v":"#N/A"},{"$f":"+VLOOKUP('BASE DE RESPUESTAS'!AX8,Back!$M$17:$N$23,2,0)","v":"#N/A"},{"$f":"+VLOOKUP('BASE DE RESPUESTAS'!AY8,Back!$M$17:$N$23,2,0)","v":"#N/A"},{"$f":"+VLOOKUP('BASE DE RESPUESTAS'!AZ8,Back!$M$17:$N$23,2,0)","v":"#N/A"},{"$f":"+VLOOKUP('BASE DE RESPUESTAS'!BA8,Back!$M$17:$N$23,2,0)","v":"#N/A"},{"$f":"+VLOOKUP('BASE DE RESPUESTAS'!BB8,Back!$M$17:$N$23,2,0)","v":"#N/A"},{"$f":"+VLOOKUP('BASE DE RESPUESTAS'!BC8,Back!$M$17:$N$23,2,0)","v":"#N/A"},{"$f":"+VLOOKUP('BASE DE RESPUESTAS'!BD8,Back!$M$17:$N$23,2,0)","v":"#N/A"},{"$f":"+VLOOKUP('BASE DE RESPUESTAS'!BE8,Back!$M$17:$N$23,2,0)","v":"#N/A"}]
[null,"HSE","Autoestima","La niña o el niño expresa sentirse bien consigo misma/o.",3.0,"Pregunta: “¿Te gusta cómo eres?”\n",null,{"$f":"+VLOOKUP('BASE DE RESPUESTAS'!H9,Back!$M$17:$N$23,2,0)","v":"#N/A"},{"$f":"+VLOOKUP('BASE DE RESPUESTAS'!I9,Back!$M$17:$N$23,2,0)","v":"#N/A"},{"$f":"+VLOOKUP('BASE DE RESPUESTAS'!J9,Back!$M$17:$N$23,2,0)","v":"#N/A"},{"$f":"+VLOOKUP('BASE DE RESPUESTAS'!K9,Back!$M$17:$N$23,2,0)","v":"#N/A"},{"$f":"+VLOOKUP('BASE DE RESPUESTAS'!L9,Back!$M$17:$N$23,2,0)","v":"#N/A"},{"$f":"+VLOOKUP('BASE DE RESPUESTAS'!M9,Back!$M$17:$N$23,2,0)","v":"#N/A"},{"$f":"+VLOOKUP('BASE DE RESPUESTAS'!N9,Back!$M$17:$N$23,2,0)","v":"#N/A"},{"$f":"+VLOOKUP('BASE DE RESPUESTAS'!O9,Back!$M$17:$N$23,2,0)","v":"#N/A"},{"$f":"+VLOOKUP('BASE DE RESPUESTAS'!P9,Back!$M$17:$N$23,2,0)","v":"#N/A"},{"$f":"+VLOOKUP('BASE DE RESPUESTAS'!Q9,Back!$M$17:$N$23,2,0)","v":"#N/A"},{"$f":"+VLOOKUP('BASE DE RESPUESTAS'!R9,Back!$M$17:$N$23,2,0)","v":"#N/A"},{"$f":"+VLOOKUP('BASE DE RESPUESTAS'!S9,Back!$M$17:$N$23,2,0)","v":"#N/A"},{"$f":"+VLOOKUP('BASE DE RESPUESTAS'!T9,Back!$M$17:$N$23,2,0)","v":"#N/A"},{"$f":"+VLOOKUP('BASE DE RESPUESTAS'!U9,Back!$M$17:$N$23,2,0)","v":"#N/A"},{"$f":"+VLOOKUP('BASE DE RESPUESTAS'!V9,Back!$M$17:$N$23,2,0)","v":"#N/A"},{"$f":"+VLOOKUP('BASE DE RESPUESTAS'!W9,Back!$M$17:$N$23,2,0)","v":"#N/A"},{"$f":"+VLOOKUP('BASE DE RESPUESTAS'!X9,Back!$M$17:$N$23,2,0)","v":"#N/A"},{"$f":"+VLOOKUP('BASE DE RESPUESTAS'!Y9,Back!$M$17:$N$23,2,0)","v":"#N/A"},{"$f":"+VLOOKUP('BASE DE RESPUESTAS'!Z9,Back!$M$17:$N$23,2,0)","v":"#N/A"},{"$f":"+VLOOKUP('BASE DE RESPUESTAS'!AA9,Back!$M$17:$N$23,2,0)","v":"#N/A"},{"$f":"+VLOOKUP('BASE DE RESPUESTAS'!AB9,Back!$M$17:$N$23,2,0)","v":"#N/A"},{"$f":"+VLOOKUP('BASE DE RESPUESTAS'!AC9,Back!$M$17:$N$23,2,0)","v":"#N/A"},{"$f":"+VLOOKUP('BASE DE RESPUESTAS'!AD9,Back!$M$17:$N$23,2,0)","v":"#N/A"},{"$f":"+VLOOKUP('BASE DE RESPUESTAS'!AE9,Back!$M$17:$N$23,2,0)","v":"#N/A"},{"$f":"+VLOOKUP('BASE DE RESPUESTAS'!AF9,Back!$M$17:$N$23,2,0)","v":"#N/A"},{"$f":"+VLOOKUP('BASE DE RESPUESTAS'!AG9,Back!$M$17:$N$23,2,0)","v":"#N/A"},{"$f":"+VLOOKUP('BASE DE RESPUESTAS'!AH9,Back!$M$17:$N$23,2,0)","v":"#N/A"},{"$f":"+VLOOKUP('BASE DE RESPUESTAS'!AI9,Back!$M$17:$N$23,2,0)","v":"#N/A"},{"$f":"+VLOOKUP('BASE DE RESPUESTAS'!AJ9,Back!$M$17:$N$23,2,0)","v":"#N/A"},{"$f":"+VLOOKUP('BASE DE RESPUESTAS'!AK9,Back!$M$17:$N$23,2,0)","v":"#N/A"},{"$f":"+VLOOKUP('BASE DE RESPUESTAS'!AL9,Back!$M$17:$N$23,2,0)","v":"#N/A"},{"$f":"+VLOOKUP('BASE DE RESPUESTAS'!AM9,Back!$M$17:$N$23,2,0)","v":"#N/A"},{"$f":"+VLOOKUP('BASE DE RESPUESTAS'!AN9,Back!$M$17:$N$23,2,0)","v":"#N/A"},{"$f":"+VLOOKUP('BASE DE RESPUESTAS'!AO9,Back!$M$17:$N$23,2,0)","v":"#N/A"},{"$f":"+VLOOKUP('BASE DE RESPUESTAS'!AP9,Back!$M$17:$N$23,2,0)","v":"#N/A"},{"$f":"+VLOOKUP('BASE DE RESPUESTAS'!AQ9,Back!$M$17:$N$23,2,0)","v":"#N/A"},{"$f":"+VLOOKUP('BASE DE RESPUESTAS'!AR9,Back!$M$17:$N$23,2,0)","v":"#N/A"},{"$f":"+VLOOKUP('BASE DE RESPUESTAS'!AS9,Back!$M$17:$N$23,2,0)","v":"#N/A"},{"$f":"+VLOOKUP('BASE DE RESPUESTAS'!AT9,Back!$M$17:$N$23,2,0)","v":"#N/A"},{"$f":"+VLOOKUP('BASE DE RESPUESTAS'!AU9,Back!$M$17:$N$23,2,0)","v":"#N/A"},{"$f":"+VLOOKUP('BASE DE RESPUESTAS'!AV9,Back!$M$17:$N$23,2,0)","v":"#N/A"},{"$f":"+VLOOKUP('BASE DE RESPUESTAS'!AW9,Back!$M$17:$N$23,2,0)","v":"#N/A"},{"$f":"+VLOOKUP('BASE DE RESPUESTAS'!AX9,Back!$M$17:$N$23,2,0)","v":"#N/A"},{"$f":"+VLOOKUP('BASE DE RESPUESTAS'!AY9,Back!$M$17:$N$23,2,0)","v":"#N/A"},{"$f":"+VLOOKUP('BASE DE RESPUESTAS'!AZ9,Back!$M$17:$N$23,2,0)","v":"#N/A"},{"$f":"+VLOOKUP('BASE DE RESPUESTAS'!BA9,Back!$M$17:$N$23,2,0)","v":"#N/A"},{"$f":"+VLOOKUP('BASE DE RESPUESTAS'!BB9,Back!$M$17:$N$23,2,0)","v":"#N/A"},{"$f":"+VLOOKUP('BASE DE RESPUESTAS'!BC9,Back!$M$17:$N$23,2,0)","v":"#N/A"},{"$f":"+VLOOKUP('BASE DE RESPUESTAS'!BD9,Back!$M$17:$N$23,2,0)","v":"#N/A"},{"$f":"+VLOOKUP('BASE DE RESPUESTAS'!BE9,Back!$M$17:$N$23,2,0)","v":"#N/A"}]
[null,null,null,"La niña o el niño participa con seguridad en las actividades que realiza.",4.0,"Observación en aula: Busca mostrar sus dibujos y diseños  a otras personas.",null,{"$f":"+VLOOKUP('BASE DE RESPUESTAS'!H10,Back!$M$17:$N$23,2,0)","v":"#N/A"},{"$f":"+VLOOKUP('BASE DE RESPUESTAS'!I10,Back!$M$17:$N$23,2,0)","v":"#N/A"},{"$f":"+VLOOKUP('BASE DE RESPUESTAS'!J10,Back!$M$17:$N$23,2,0)","v":"#N/A"},{"$f":"+VLOOKUP('BASE DE RESPUESTAS'!K10,Back!$M$17:$N$23,2,0)","v":"#N/A"},{"$f":"+VLOOKUP('BASE DE RESPUESTAS'!L10,Back!$M$17:$N$23,2,0)","v":"#N/A"},{"$f":"+VLOOKUP('BASE DE RESPUESTAS'!M10,Back!$M$17:$N$23,2,0)","v":"#N/A"},{"$f":"+VLOOKUP('BASE DE RESPUESTAS'!N10,Back!$M$17:$N$23,2,0)","v":"#N/A"},{"$f":"+VLOOKUP('BASE DE RESPUESTAS'!O10,Back!$M$17:$N$23,2,0)","v":"#N/A"},{"$f":"+VLOOKUP('BASE DE RESPUESTAS'!P10,Back!$M$17:$N$23,2,0)","v":"#N/A"},{"$f":"+VLOOKUP('BASE DE RESPUESTAS'!Q10,Back!$M$17:$N$23,2,0)","v":"#N/A"},{"$f":"+VLOOKUP('BASE DE RESPUESTAS'!R10,Back!$M$17:$N$23,2,0)","v":"#N/A"},{"$f":"+VLOOKUP('BASE DE RESPUESTAS'!S10,Back!$M$17:$N$23,2,0)","v":"#N/A"},{"$f":"+VLOOKUP('BASE DE RESPUESTAS'!T10,Back!$M$17:$N$23,2,0)","v":"#N/A"},{"$f":"+VLOOKUP('BASE DE RESPUESTAS'!U10,Back!$M$17:$N$23,2,0)","v":"#N/A"},{"$f":"+VLOOKUP('BASE DE RESPUESTAS'!V10,Back!$M$17:$N$23,2,0)","v":"#N/A"},{"$f":"+VLOOKUP('BASE DE RESPUESTAS'!W10,Back!$M$17:$N$23,2,0)","v":"#N/A"},{"$f":"+VLOOKUP('BASE DE RESPUESTAS'!X10,Back!$M$17:$N$23,2,0)","v":"#N/A"},{"$f":"+VLOOKUP('BASE DE RESPUESTAS'!Y10,Back!$M$17:$N$23,2,0)","v":"#N/A"},{"$f":"+VLOOKUP('BASE DE RESPUESTAS'!Z10,Back!$M$17:$N$23,2,0)","v":"#N/A"},{"$f":"+VLOOKUP('BASE DE RESPUESTAS'!AA10,Back!$M$17:$N$23,2,0)","v":"#N/A"},{"$f":"+VLOOKUP('BASE DE RESPUESTAS'!AB10,Back!$M$17:$N$23,2,0)","v":"#N/A"},{"$f":"+VLOOKUP('BASE DE RESPUESTAS'!AC10,Back!$M$17:$N$23,2,0)","v":"#N/A"},{"$f":"+VLOOKUP('BASE DE RESPUESTAS'!AD10,Back!$M$17:$N$23,2,0)","v":"#N/A"},{"$f":"+VLOOKUP('BASE DE RESPUESTAS'!AE10,Back!$M$17:$N$23,2,0)","v":"#N/A"},{"$f":"+VLOOKUP('BASE DE RESPUESTAS'!AF10,Back!$M$17:$N$23,2,0)","v":"#N/A"},{"$f":"+VLOOKUP('BASE DE RESPUESTAS'!AG10,Back!$M$17:$N$23,2,0)","v":"#N/A"},{"$f":"+VLOOKUP('BASE DE RESPUESTAS'!AH10,Back!$M$17:$N$23,2,0)","v":"#N/A"},{"$f":"+VLOOKUP('BASE DE RESPUESTAS'!AI10,Back!$M$17:$N$23,2,0)","v":"#N/A"},{"$f":"+VLOOKUP('BASE DE RESPUESTAS'!AJ10,Back!$M$17:$N$23,2,0)","v":"#N/A"},{"$f":"+VLOOKUP('BASE DE RESPUESTAS'!AK10,Back!$M$17:$N$23,2,0)","v":"#N/A"},{"$f":"+VLOOKUP('BASE DE RESPUESTAS'!AL10,Back!$M$17:$N$23,2,0)","v":"#N/A"},{"$f":"+VLOOKUP('BASE DE RESPUESTAS'!AM10,Back!$M$17:$N$23,2,0)","v":"#N/A"},{"$f":"+VLOOKUP('BASE DE RESPUESTAS'!AN10,Back!$M$17:$N$23,2,0)","v":"#N/A"},{"$f":"+VLOOKUP('BASE DE RESPUESTAS'!AO10,Back!$M$17:$N$23,2,0)","v":"#N/A"},{"$f":"+VLOOKUP('BASE DE RESPUESTAS'!AP10,Back!$M$17:$N$23,2,0)","v":"#N/A"},{"$f":"+VLOOKUP('BASE DE RESPUESTAS'!AQ10,Back!$M$17:$N$23,2,0)","v":"#N/A"},{"$f":"+VLOOKUP('BASE DE RESPUESTAS'!AR10,Back!$M$17:$N$23,2,0)","v":"#N/A"},{"$f":"+VLOOKUP('BASE DE RESPUESTAS'!AS10,Back!$M$17:$N$23,2,0)","v":"#N/A"},{"$f":"+VLOOKUP('BASE DE RESPUESTAS'!AT10,Back!$M$17:$N$23,2,0)","v":"#N/A"},{"$f":"+VLOOKUP('BASE DE RESPUESTAS'!AU10,Back!$M$17:$N$23,2,0)","v":"#N/A"},{"$f":"+VLOOKUP('BASE DE RESPUESTAS'!AV10,Back!$M$17:$N$23,2,0)","v":"#N/A"},{"$f":"+VLOOKUP('BASE DE RESPUESTAS'!AW10,Back!$M$17:$N$23,2,0)","v":"#N/A"},{"$f":"+VLOOKUP('BASE DE RESPUESTAS'!AX10,Back!$M$17:$N$23,2,0)","v":"#N/A"},{"$f":"+VLOOKUP('BASE DE RESPUESTAS'!AY10,Back!$M$17:$N$23,2,0)","v":"#N/A"},{"$f":"+VLOOKUP('BASE DE RESPUESTAS'!AZ10,Back!$M$17:$N$23,2,0)","v":"#N/A"},{"$f":"+VLOOKUP('BASE DE RESPUESTAS'!BA10,Back!$M$17:$N$23,2,0)","v":"#N/A"},{"$f":"+VLOOKUP('BASE DE RESPUESTAS'!BB10,Back!$M$17:$N$23,2,0)","v":"#N/A"},{"$f":"+VLOOKUP('BASE DE RESPUESTAS'!BC10,Back!$M$17:$N$23,2,0)","v":"#N/A"},{"$f":"+VLOOKUP('BASE DE RESPUESTAS'!BD10,Back!$M$17:$N$23,2,0)","v":"#N/A"},{"$f":"+VLOOKUP('BASE DE RESPUESTAS'!BE10,Back!$M$17:$N$23,2,0)","v":"#N/A"}]
[null,null,null,null,5.0,"Observación en aula: Colabora activamente con sus compañeras/os sin temor o vergüenza.",null,{"$f":"+VLOOKUP('BASE DE RESPUESTAS'!H11,Back!$M$17:$N$23,2,0)","v":"#N/A"},{"$f":"+VLOOKUP('BASE DE RESPUESTAS'!I11,Back!$M$17:$N$23,2,0)","v":"#N/A"},{"$f":"+VLOOKUP('BASE DE RESPUESTAS'!J11,Back!$M$17:$N$23,2,0)","v":"#N/A"},{"$f":"+VLOOKUP('BASE DE RESPUESTAS'!K11,Back!$M$17:$N$23,2,0)","v":"#N/A"},{"$f":"+VLOOKUP('BASE DE RESPUESTAS'!L11,Back!$M$17:$N$23,2,0)","v":"#N/A"},{"$f":"+VLOOKUP('BASE DE RESPUESTAS'!M11,Back!$M$17:$N$23,2,0)","v":"#N/A"},{"$f":"+VLOOKUP('BASE DE RESPUESTAS'!N11,Back!$M$17:$N$23,2,0)","v":"#N/A"},{"$f":"+VLOOKUP('BASE DE RESPUESTAS'!O11,Back!$M$17:$N$23,2,0)","v":"#N/A"},{"$f":"+VLOOKUP('BASE DE RESPUESTAS'!P11,Back!$M$17:$N$23,2,0)","v":"#N/A"},{"$f":"+VLOOKUP('BASE DE RESPUESTAS'!Q11,Back!$M$17:$N$23,2,0)","v":"#N/A"},{"$f":"+VLOOKUP('BASE DE RESPUESTAS'!R11,Back!$M$17:$N$23,2,0)","v":"#N/A"},{"$f":"+VLOOKUP('BASE DE RESPUESTAS'!S11,Back!$M$17:$N$23,2,0)","v":"#N/A"},{"$f":"+VLOOKUP('BASE DE RESPUESTAS'!T11,Back!$M$17:$N$23,2,0)","v":"#N/A"},{"$f":"+VLOOKUP('BASE DE RESPUESTAS'!U11,Back!$M$17:$N$23,2,0)","v":"#N/A"},{"$f":"+VLOOKUP('BASE DE RESPUESTAS'!V11,Back!$M$17:$N$23,2,0)","v":"#N/A"},{"$f":"+VLOOKUP('BASE DE RESPUESTAS'!W11,Back!$M$17:$N$23,2,0)","v":"#N/A"},{"$f":"+VLOOKUP('BASE DE RESPUESTAS'!X11,Back!$M$17:$N$23,2,0)","v":"#N/A"},{"$f":"+VLOOKUP('BASE DE RESPUESTAS'!Y11,Back!$M$17:$N$23,2,0)","v":"#N/A"},{"$f":"+VLOOKUP('BASE DE RESPUESTAS'!Z11,Back!$M$17:$N$23,2,0)","v":"#N/A"},{"$f":"+VLOOKUP('BASE DE RESPUESTAS'!AA11,Back!$M$17:$N$23,2,0)","v":"#N/A"},{"$f":"+VLOOKUP('BASE DE RESPUESTAS'!AB11,Back!$M$17:$N$23,2,0)","v":"#N/A"},{"$f":"+VLOOKUP('BASE DE RESPUESTAS'!AC11,Back!$M$17:$N$23,2,0)","v":"#N/A"},{"$f":"+VLOOKUP('BASE DE RESPUESTAS'!AD11,Back!$M$17:$N$23,2,0)","v":"#N/A"},{"$f":"+VLOOKUP('BASE DE RESPUESTAS'!AE11,Back!$M$17:$N$23,2,0)","v":"#N/A"},{"$f":"+VLOOKUP('BASE DE RESPUESTAS'!AF11,Back!$M$17:$N$23,2,0)","v":"#N/A"},{"$f":"+VLOOKUP('BASE DE RESPUESTAS'!AG11,Back!$M$17:$N$23,2,0)","v":"#N/A"},{"$f":"+VLOOKUP('BASE DE RESPUESTAS'!AH11,Back!$M$17:$N$23,2,0)","v":"#N/A"},{"$f":"+VLOOKUP('BASE DE RESPUESTAS'!AI11,Back!$M$17:$N$23,2,0)","v":"#N/A"},{"$f":"+VLOOKUP('BASE DE RESPUESTAS'!AJ11,Back!$M$17:$N$23,2,0)","v":"#N/A"},{"$f":"+VLOOKUP('BASE DE RESPUESTAS'!AK11,Back!$M$17:$N$23,2,0)","v":"#N/A"},{"$f":"+VLOOKUP('BASE DE RESPUESTAS'!AL11,Back!$M$17:$N$23,2,0)","v":"#N/A"},{"$f":"+VLOOKUP('BASE DE RESPUESTAS'!AM11,Back!$M$17:$N$23,2,0)","v":"#N/A"},{"$f":"+VLOOKUP('BASE DE RESPUESTAS'!AN11,Back!$M$17:$N$23,2,0)","v":"#N/A"},{"$f":"+VLOOKUP('BASE DE RESPUESTAS'!AO11,Back!$M$17:$N$23,2,0)","v":"#N/A"},{"$f":"+VLOOKUP('BASE DE RESPUESTAS'!AP11,Back!$M$17:$N$23,2,0)","v":"#N/A"},{"$f":"+VLOOKUP('BASE DE RESPUESTAS'!AQ11,Back!$M$17:$N$23,2,0)","v":"#N/A"},{"$f":"+VLOOKUP('BASE DE RESPUESTAS'!AR11,Back!$M$17:$N$23,2,0)","v":"#N/A"},{"$f":"+VLOOKUP('BASE DE RESPUESTAS'!AS11,Back!$M$17:$N$23,2,0)","v":"#N/A"},{"$f":"+VLOOKUP('BASE DE RESPUESTAS'!AT11,Back!$M$17:$N$23,2,0)","v":"#N/A"},{"$f":"+VLOOKUP('BASE DE RESPUESTAS'!AU11,Back!$M$17:$N$23,2,0)","v":"#N/A"},{"$f":"+VLOOKUP('BASE DE RESPUESTAS'!AV11,Back!$M$17:$N$23,2,0)","v":"#N/A"},{"$f":"+VLOOKUP('BASE DE RESPUESTAS'!AW11,Back!$M$17:$N$23,2,0)","v":"#N/A"},{"$f":"+VLOOKUP('BASE DE RESPUESTAS'!AX11,Back!$M$17:$N$23,2,0)","v":"#N/A"},{"$f":"+VLOOKUP('BASE DE RESPUESTAS'!AY11,Back!$M$17:$N$23,2,0)","v":"#N/A"},{"$f":"+VLOOKUP('BASE DE RESPUESTAS'!AZ11,Back!$M$17:$N$23,2,0)","v":"#N/A"},{"$f":"+VLOOKUP('BASE DE RESPUESTAS'!BA11,Back!$M$17:$N$23,2,0)","v":"#N/A"},{"$f":"+VLOOKUP('BASE DE RESPUESTAS'!BB11,Back!$M$17:$N$23,2,0)","v":"#N/A"},{"$f":"+VLOOKUP('BASE DE RESPUESTAS'!BC11,Back!$M$17:$N$23,2,0)","v":"#N/A"},{"$f":"+VLOOKUP('BASE DE RESPUESTAS'!BD11,Back!$M$17:$N$23,2,0)","v":"#N/A"},{"$f":"+VLOOKUP('BASE DE RESPUESTAS'!BE11,Back!$M$17:$N$23,2,0)","v":"#N/A"}]
[null,"HSE","Conciencia Emocional","La niña o el niño reconoce y diferencia emociones básicas.",6.0,"Cartilla N°1: “Señala qué niña o niño está alegre”",null,{"$f":"+VLOOKUP('BASE DE RESPUESTAS'!H12,Back!$M$17:$N$23,2,0)","v":"#N/A"},{"$f":"+VLOOKUP('BASE DE RESPUESTAS'!I12,Back!$M$17:$N$23,2,0)","v":"#N/A"},{"$f":"+VLOOKUP('BASE DE RESPUESTAS'!J12,Back!$M$17:$N$23,2,0)","v":"#N/A"},{"$f":"+VLOOKUP('BASE DE RESPUESTAS'!K12,Back!$M$17:$N$23,2,0)","v":"#N/A"},{"$f":"+VLOOKUP('BASE DE RESPUESTAS'!L12,Back!$M$17:$N$23,2,0)","v":"#N/A"},{"$f":"+VLOOKUP('BASE DE RESPUESTAS'!M12,Back!$M$17:$N$23,2,0)","v":"#N/A"},{"$f":"+VLOOKUP('BASE DE RESPUESTAS'!N12,Back!$M$17:$N$23,2,0)","v":"#N/A"},{"$f":"+VLOOKUP('BASE DE RESPUESTAS'!O12,Back!$M$17:$N$23,2,0)","v":"#N/A"},{"$f":"+VLOOKUP('BASE DE RESPUESTAS'!P12,Back!$M$17:$N$23,2,0)","v":"#N/A"},{"$f":"+VLOOKUP('BASE DE RESPUESTAS'!Q12,Back!$M$17:$N$23,2,0)","v":"#N/A"},{"$f":"+VLOOKUP('BASE DE RESPUESTAS'!R12,Back!$M$17:$N$23,2,0)","v":"#N/A"},{"$f":"+VLOOKUP('BASE DE RESPUESTAS'!S12,Back!$M$17:$N$23,2,0)","v":"#N/A"},{"$f":"+VLOOKUP('BASE DE RESPUESTAS'!T12,Back!$M$17:$N$23,2,0)","v":"#N/A"},{"$f":"+VLOOKUP('BASE DE RESPUESTAS'!U12,Back!$M$17:$N$23,2,0)","v":"#N/A"},{"$f":"+VLOOKUP('BASE DE RESPUESTAS'!V12,Back!$M$17:$N$23,2,0)","v":"#N/A"},{"$f":"+VLOOKUP('BASE DE RESPUESTAS'!W12,Back!$M$17:$N$23,2,0)","v":"#N/A"},{"$f":"+VLOOKUP('BASE DE RESPUESTAS'!X12,Back!$M$17:$N$23,2,0)","v":"#N/A"},{"$f":"+VLOOKUP('BASE DE RESPUESTAS'!Y12,Back!$M$17:$N$23,2,0)","v":"#N/A"},{"$f":"+VLOOKUP('BASE DE RESPUESTAS'!Z12,Back!$M$17:$N$23,2,0)","v":"#N/A"},{"$f":"+VLOOKUP('BASE DE RESPUESTAS'!AA12,Back!$M$17:$N$23,2,0)","v":"#N/A"},{"$f":"+VLOOKUP('BASE DE RESPUESTAS'!AB12,Back!$M$17:$N$23,2,0)","v":"#N/A"},{"$f":"+VLOOKUP('BASE DE RESPUESTAS'!AC12,Back!$M$17:$N$23,2,0)","v":"#N/A"},{"$f":"+VLOOKUP('BASE DE RESPUESTAS'!AD12,Back!$M$17:$N$23,2,0)","v":"#N/A"},{"$f":"+VLOOKUP('BASE DE RESPUESTAS'!AE12,Back!$M$17:$N$23,2,0)","v":"#N/A"},{"$f":"+VLOOKUP('BASE DE RESPUESTAS'!AF12,Back!$M$17:$N$23,2,0)","v":"#N/A"},{"$f":"+VLOOKUP('BASE DE RESPUESTAS'!AG12,Back!$M$17:$N$23,2,0)","v":"#N/A"},{"$f":"+VLOOKUP('BASE DE RESPUESTAS'!AH12,Back!$M$17:$N$23,2,0)","v":"#N/A"},{"$f":"+VLOOKUP('BASE DE RESPUESTAS'!AI12,Back!$M$17:$N$23,2,0)","v":"#N/A"},{"$f":"+VLOOKUP('BASE DE RESPUESTAS'!AJ12,Back!$M$17:$N$23,2,0)","v":"#N/A"},{"$f":"+VLOOKUP('BASE DE RESPUESTAS'!AK12,Back!$M$17:$N$23,2,0)","v":"#N/A"},{"$f":"+VLOOKUP('BASE DE RESPUESTAS'!AL12,Back!$M$17:$N$23,2,0)","v":"#N/A"},{"$f":"+VLOOKUP('BASE DE RESPUESTAS'!AM12,Back!$M$17:$N$23,2,0)","v":"#N/A"},{"$f":"+VLOOKUP('BASE DE RESPUESTAS'!AN12,Back!$M$17:$N$23,2,0)","v":"#N/A"},{"$f":"+VLOOKUP('BASE DE RESPUESTAS'!AO12,Back!$M$17:$N$23,2,0)","v":"#N/A"},{"$f":"+VLOOKUP('BASE DE RESPUESTAS'!AP12,Back!$M$17:$N$23,2,0)","v":"#N/A"},{"$f":"+VLOOKUP('BASE DE RESPUESTAS'!AQ12,Back!$M$17:$N$23,2,0)","v":"#N/A"},{"$f":"+VLOOKUP('BASE DE RESPUESTAS'!AR12,Back!$M$17:$N$23,2,0)","v":"#N/A"},{"$f":"+VLOOKUP('BASE DE RESPUESTAS'!AS12,Back!$M$17:$N$23,2,0)","v":"#N/A"},{"$f":"+VLOOKUP('BASE DE RESPUESTAS'!AT12,Back!$M$17:$N$23,2,0)","v":"#N/A"},{"$f":"+VLOOKUP('BASE DE RESPUESTAS'!AU12,Back!$M$17:$N$23,2,0)","v":"#N/A"},{"$f":"+VLOOKUP('BASE DE RESPUESTAS'!AV12,Back!$M$17:$N$23,2,0)","v":"#N/A"},{"$f":"+VLOOKUP('BASE DE RESPUESTAS'!AW12,Back!$M$17:$N$23,2,0)","v":"#N/A"},{"$f":"+VLOOKUP('BASE DE RESPUESTAS'!AX12,Back!$M$17:$N$23,2,0)","v":"#N/A"},{"$f":"+VLOOKUP('BASE DE RESPUESTAS'!AY12,Back!$M$17:$N$23,2,0)","v":"#N/A"},{"$f":"+VLOOKUP('BASE DE RESPUESTAS'!AZ12,Back!$M$17:$N$23,2,0)","v":"#N/A"},{"$f":"+VLOOKUP('BASE DE RESPUESTAS'!BA12,Back!$M$17:$N$23,2,0)","v":"#N/A"},{"$f":"+VLOOKUP('BASE DE RESPUESTAS'!BB12,Back!$M$17:$N$23,2,0)","v":"#N/A"},{"$f":"+VLOOKUP('BASE DE RESPUESTAS'!BC12,Back!$M$17:$N$23,2,0)","v":"#N/A"},{"$f":"+VLOOKUP('BASE DE RESPUESTAS'!BD12,Back!$M$17:$N$23,2,0)","v":"#N/A"},{"$f":"+VLOOKUP('BASE DE RESPUESTAS'!BE12,Back!$M$17:$N$23,2,0)","v":"#N/A"}]
[null,null,null,null,7.0,"Cartilla N°1: “Señala qué niña o niño está triste”",null,{"$f":"+VLOOKUP('BASE DE RESPUESTAS'!H13,Back!$M$17:$N$23,2,0)","v":"#N/A"},{"$f":"+VLOOKUP('BASE DE RESPUESTAS'!I13,Back!$M$17:$N$23,2,0)","v":"#N/A"},{"$f":"+VLOOKUP('BASE DE RESPUESTAS'!J13,Back!$M$17:$N$23,2,0)","v":"#N/A"},{"$f":"+VLOOKUP('BASE DE RESPUESTAS'!K13,Back!$M$17:$N$23,2,0)","v":"#N/A"},{"$f":"+VLOOKUP('BASE DE RESPUESTAS'!L13,Back!$M$17:$N$23,2,0)","v":"#N/A"},{"$f":"+VLOOKUP('BASE DE RESPUESTAS'!M13,Back!$M$17:$N$23,2,0)","v":"#N/A"},{"$f":"+VLOOKUP('BASE DE RESPUESTAS'!N13,Back!$M$17:$N$23,2,0)","v":"#N/A"},{"$f":"+VLOOKUP('BASE DE RESPUESTAS'!O13,Back!$M$17:$N$23,2,0)","v":"#N/A"},{"$f":"+VLOOKUP('BASE DE RESPUESTAS'!P13,Back!$M$17:$N$23,2,0)","v":"#N/A"},{"$f":"+VLOOKUP('BASE DE RESPUESTAS'!Q13,Back!$M$17:$N$23,2,0)","v":"#N/A"},{"$f":"+VLOOKUP('BASE DE RESPUESTAS'!R13,Back!$M$17:$N$23,2,0)","v":"#N/A"},{"$f":"+VLOOKUP('BASE DE RESPUESTAS'!S13,Back!$M$17:$N$23,2,0)","v":"#N/A"},{"$f":"+VLOOKUP('BASE DE RESPUESTAS'!T13,Back!$M$17:$N$23,2,0)","v":"#N/A"},{"$f":"+VLOOKUP('BASE DE RESPUESTAS'!U13,Back!$M$17:$N$23,2,0)","v":"#N/A"},{"$f":"+VLOOKUP('BASE DE RESPUESTAS'!V13,Back!$M$17:$N$23,2,0)","v":"#N/A"},{"$f":"+VLOOKUP('BASE DE RESPUESTAS'!W13,Back!$M$17:$N$23,2,0)","v":"#N/A"},{"$f":"+VLOOKUP('BASE DE RESPUESTAS'!X13,Back!$M$17:$N$23,2,0)","v":"#N/A"},{"$f":"+VLOOKUP('BASE DE RESPUESTAS'!Y13,Back!$M$17:$N$23,2,0)","v":"#N/A"},{"$f":"+VLOOKUP('BASE DE RESPUESTAS'!Z13,Back!$M$17:$N$23,2,0)","v":"#N/A"},{"$f":"+VLOOKUP('BASE DE RESPUESTAS'!AA13,Back!$M$17:$N$23,2,0)","v":"#N/A"},{"$f":"+VLOOKUP('BASE DE RESPUESTAS'!AB13,Back!$M$17:$N$23,2,0)","v":"#N/A"},{"$f":"+VLOOKUP('BASE DE RESPUESTAS'!AC13,Back!$M$17:$N$23,2,0)","v":"#N/A"},{"$f":"+VLOOKUP('BASE DE RESPUESTAS'!AD13,Back!$M$17:$N$23,2,0)","v":"#N/A"},{"$f":"+VLOOKUP('BASE DE RESPUESTAS'!AE13,Back!$M$17:$N$23,2,0)","v":"#N/A"},{"$f":"+VLOOKUP('BASE DE RESPUESTAS'!AF13,Back!$M$17:$N$23,2,0)","v":"#N/A"},{"$f":"+VLOOKUP('BASE DE RESPUESTAS'!AG13,Back!$M$17:$N$23,2,0)","v":"#N/A"},{"$f":"+VLOOKUP('BASE DE RESPUESTAS'!AH13,Back!$M$17:$N$23,2,0)","v":"#N/A"},{"$f":"+VLOOKUP('BASE DE RESPUESTAS'!AI13,Back!$M$17:$N$23,2,0)","v":"#N/A"},{"$f":"+VLOOKUP('BASE DE RESPUESTAS'!AJ13,Back!$M$17:$N$23,2,0)","v":"#N/A"},{"$f":"+VLOOKUP('BASE DE RESPUESTAS'!AK13,Back!$M$17:$N$23,2,0)","v":"#N/A"},{"$f":"+VLOOKUP('BASE DE RESPUESTAS'!AL13,Back!$M$17:$N$23,2,0)","v":"#N/A"},{"$f":"+VLOOKUP('BASE DE RESPUESTAS'!AM13,Back!$M$17:$N$23,2,0)","v":"#N/A"},{"$f":"+VLOOKUP('BASE DE RESPUESTAS'!AN13,Back!$M$17:$N$23,2,0)","v":"#N/A"},{"$f":"+VLOOKUP('BASE DE RESPUESTAS'!AO13,Back!$M$17:$N$23,2,0)","v":"#N/A"},{"$f":"+VLOOKUP('BASE DE RESPUESTAS'!AP13,Back!$M$17:$N$23,2,0)","v":"#N/A"},{"$f":"+VLOOKUP('BASE DE RESPUESTAS'!AQ13,Back!$M$17:$N$23,2,0)","v":"#N/A"},{"$f":"+VLOOKUP('BASE DE RESPUESTAS'!AR13,Back!$M$17:$N$23,2,0)","v":"#N/A"},{"$f":"+VLOOKUP('BASE DE RESPUESTAS'!AS13,Back!$M$17:$N$23,2,0)","v":"#N/A"},{"$f":"+VLOOKUP('BASE DE RESPUESTAS'!AT13,Back!$M$17:$N$23,2,0)","v":"#N/A"},{"$f":"+VLOOKUP('BASE DE RESPUESTAS'!AU13,Back!$M$17:$N$23,2,0)","v":"#N/A"},{"$f":"+VLOOKUP('BASE DE RESPUESTAS'!AV13,Back!$M$17:$N$23,2,0)","v":"#N/A"},{"$f":"+VLOOKUP('BASE DE RESPUESTAS'!AW13,Back!$M$17:$N$23,2,0)","v":"#N/A"},{"$f":"+VLOOKUP('BASE DE RESPUESTAS'!AX13,Back!$M$17:$N$23,2,0)","v":"#N/A"},{"$f":"+VLOOKUP('BASE DE RESPUESTAS'!AY13,Back!$M$17:$N$23,2,0)","v":"#N/A"},{"$f":"+VLOOKUP('BASE DE RESPUESTAS'!AZ13,Back!$M$17:$N$23,2,0)","v":"#N/A"},{"$f":"+VLOOKUP('BASE DE RESPUESTAS'!BA13,Back!$M$17:$N$23,2,0)","v":"#N/A"},{"$f":"+VLOOKUP('BASE DE RESPUESTAS'!BB13,Back!$M$17:$N$23,2,0)","v":"#N/A"},{"$f":"+VLOOKUP('BASE DE RESPUESTAS'!BC13,Back!$M$17:$N$23,2,0)","v":"#N/A"},{"$f":"+VLOOKUP('BASE DE RESPUESTAS'!BD13,Back!$M$17:$N$23,2,0)","v":"#N/A"},{"$f":"+VLOOKUP('BASE DE RESPUESTAS'!BE13,Back!$M$17:$N$23,2,0)","v":"#N/A"}]
[null,null,null,null,8.0,"Cartilla N°1: “Señala qué niña o niño está enojada o enojado”",null,{"$f":"+VLOOKUP('BASE DE RESPUESTAS'!H14,Back!$M$17:$N$23,2,0)","v":"#N/A"},{"$f":"+VLOOKUP('BASE DE RESPUESTAS'!I14,Back!$M$17:$N$23,2,0)","v":"#N/A"},{"$f":"+VLOOKUP('BASE DE RESPUESTAS'!J14,Back!$M$17:$N$23,2,0)","v":"#N/A"},{"$f":"+VLOOKUP('BASE DE RESPUESTAS'!K14,Back!$M$17:$N$23,2,0)","v":"#N/A"},{"$f":"+VLOOKUP('BASE DE RESPUESTAS'!L14,Back!$M$17:$N$23,2,0)","v":"#N/A"},{"$f":"+VLOOKUP('BASE DE RESPUESTAS'!M14,Back!$M$17:$N$23,2,0)","v":"#N/A"},{"$f":"+VLOOKUP('BASE DE RESPUESTAS'!N14,Back!$M$17:$N$23,2,0)","v":"#N/A"},{"$f":"+VLOOKUP('BASE DE RESPUESTAS'!O14,Back!$M$17:$N$23,2,0)","v":"#N/A"},{"$f":"+VLOOKUP('BASE DE RESPUESTAS'!P14,Back!$M$17:$N$23,2,0)","v":"#N/A"},{"$f":"+VLOOKUP('BASE DE RESPUESTAS'!Q14,Back!$M$17:$N$23,2,0)","v":"#N/A"},{"$f":"+VLOOKUP('BASE DE RESPUESTAS'!R14,Back!$M$17:$N$23,2,0)","v":"#N/A"},{"$f":"+VLOOKUP('BASE DE RESPUESTAS'!S14,Back!$M$17:$N$23,2,0)","v":"#N/A"},{"$f":"+VLOOKUP('BASE DE RESPUESTAS'!T14,Back!$M$17:$N$23,2,0)","v":"#N/A"},{"$f":"+VLOOKUP('BASE DE RESPUESTAS'!U14,Back!$M$17:$N$23,2,0)","v":"#N/A"},{"$f":"+VLOOKUP('BASE DE RESPUESTAS'!V14,Back!$M$17:$N$23,2,0)","v":"#N/A"},{"$f":"+VLOOKUP('BASE DE RESPUESTAS'!W14,Back!$M$17:$N$23,2,0)","v":"#N/A"},{"$f":"+VLOOKUP('BASE DE RESPUESTAS'!X14,Back!$M$17:$N$23,2,0)","v":"#N/A"},{"$f":"+VLOOKUP('BASE DE RESPUESTAS'!Y14,Back!$M$17:$N$23,2,0)","v":"#N/A"},{"$f":"+VLOOKUP('BASE DE RESPUESTAS'!Z14,Back!$M$17:$N$23,2,0)","v":"#N/A"},{"$f":"+VLOOKUP('BASE DE RESPUESTAS'!AA14,Back!$M$17:$N$23,2,0)","v":"#N/A"},{"$f":"+VLOOKUP('BASE DE RESPUESTAS'!AB14,Back!$M$17:$N$23,2,0)","v":"#N/A"},{"$f":"+VLOOKUP('BASE DE RESPUESTAS'!AC14,Back!$M$17:$N$23,2,0)","v":"#N/A"},{"$f":"+VLOOKUP('BASE DE RESPUESTAS'!AD14,Back!$M$17:$N$23,2,0)","v":"#N/A"},{"$f":"+VLOOKUP('BASE DE RESPUESTAS'!AE14,Back!$M$17:$N$23,2,0)","v":"#N/A"},{"$f":"+VLOOKUP('BASE DE RESPUESTAS'!AF14,Back!$M$17:$N$23,2,0)","v":"#N/A"},{"$f":"+VLOOKUP('BASE DE RESPUESTAS'!AG14,Back!$M$17:$N$23,2,0)","v":"#N/A"},{"$f":"+VLOOKUP('BASE DE RESPUESTAS'!AH14,Back!$M$17:$N$23,2,0)","v":"#N/A"},{"$f":"+VLOOKUP('BASE DE RESPUESTAS'!AI14,Back!$M$17:$N$23,2,0)","v":"#N/A"},{"$f":"+VLOOKUP('BASE DE RESPUESTAS'!AJ14,Back!$M$17:$N$23,2,0)","v":"#N/A"},{"$f":"+VLOOKUP('BASE DE RESPUESTAS'!AK14,Back!$M$17:$N$23,2,0)","v":"#N/A"},{"$f":"+VLOOKUP('BASE DE RESPUESTAS'!AL14,Back!$M$17:$N$23,2,0)","v":"#N/A"},{"$f":"+VLOOKUP('BASE DE RESPUESTAS'!AM14,Back!$M$17:$N$23,2,0)","v":"#N/A"},{"$f":"+VLOOKUP('BASE DE RESPUESTAS'!AN14,Back!$M$17:$N$23,2,0)","v":"#N/A"},{"$f":"+VLOOKUP('BASE DE RESPUESTAS'!AO14,Back!$M$17:$N$23,2,0)","v":"#N/A"},{"$f":"+VLOOKUP('BASE DE RESPUESTAS'!AP14,Back!$M$17:$N$23,2,0)","v":"#N/A"},{"$f":"+VLOOKUP('BASE DE RESPUESTAS'!AQ14,Back!$M$17:$N$23,2,0)","v":"#N/A"},{"$f":"+VLOOKUP('BASE DE RESPUESTAS'!AR14,Back!$M$17:$N$23,2,0)","v":"#N/A"},{"$f":"+VLOOKUP('BASE DE RESPUESTAS'!AS14,Back!$M$17:$N$23,2,0)","v":"#N/A"},{"$f":"+VLOOKUP('BASE DE RESPUESTAS'!AT14,Back!$M$17:$N$23,2,0)","v":"#N/A"},{"$f":"+VLOOKUP('BASE DE RESPUESTAS'!AU14,Back!$M$17:$N$23,2,0)","v":"#N/A"},{"$f":"+VLOOKUP('BASE DE RESPUESTAS'!AV14,Back!$M$17:$N$23,2,0)","v":"#N/A"},{"$f":"+VLOOKUP('BASE DE RESPUESTAS'!AW14,Back!$M$17:$N$23,2,0)","v":"#N/A"},{"$f":"+VLOOKUP('BASE DE RESPUESTAS'!AX14,Back!$M$17:$N$23,2,0)","v":"#N/A"},{"$f":"+VLOOKUP('BASE DE RESPUESTAS'!AY14,Back!$M$17:$N$23,2,0)","v":"#N/A"},{"$f":"+VLOOKUP('BASE DE RESPUESTAS'!AZ14,Back!$M$17:$N$23,2,0)","v":"#N/A"},{"$f":"+VLOOKUP('BASE DE RESPUESTAS'!BA14,Back!$M$17:$N$23,2,0)","v":"#N/A"},{"$f":"+VLOOKUP('BASE DE RESPUESTAS'!BB14,Back!$M$17:$N$23,2,0)","v":"#N/A"},{"$f":"+VLOOKUP('BASE DE RESPUESTAS'!BC14,Back!$M$17:$N$23,2,0)","v":"#N/A"},{"$f":"+VLOOKUP('BASE DE RESPUESTAS'!BD14,Back!$M$17:$N$23,2,0)","v":"#N/A"},{"$f":"+VLOOKUP('BASE DE RESPUESTAS'!BE14,Back!$M$17:$N$23,2,0)","v":"#N/A"}]
[null,null,null,null,9.0,"Cartilla N°1: “Señala qué niña o niño siente miedo”",null,{"$f":"+VLOOKUP('BASE DE RESPUESTAS'!H15,Back!$M$17:$N$23,2,0)","v":"#N/A"},{"$f":"+VLOOKUP('BASE DE RESPUESTAS'!I15,Back!$M$17:$N$23,2,0)","v":"#N/A"},{"$f":"+VLOOKUP('BASE DE RESPUESTAS'!J15,Back!$M$17:$N$23,2,0)","v":"#N/A"},{"$f":"+VLOOKUP('BASE DE RESPUESTAS'!K15,Back!$M$17:$N$23,2,0)","v":"#N/A"},{"$f":"+VLOOKUP('BASE DE RESPUESTAS'!L15,Back!$M$17:$N$23,2,0)","v":"#N/A"},{"$f":"+VLOOKUP('BASE DE RESPUESTAS'!M15,Back!$M$17:$N$23,2,0)","v":"#N/A"},{"$f":"+VLOOKUP('BASE DE RESPUESTAS'!N15,Back!$M$17:$N$23,2,0)","v":"#N/A"},{"$f":"+VLOOKUP('BASE DE RESPUESTAS'!O15,Back!$M$17:$N$23,2,0)","v":"#N/A"},{"$f":"+VLOOKUP('BASE DE RESPUESTAS'!P15,Back!$M$17:$N$23,2,0)","v":"#N/A"},{"$f":"+VLOOKUP('BASE DE RESPUESTAS'!Q15,Back!$M$17:$N$23,2,0)","v":"#N/A"},{"$f":"+VLOOKUP('BASE DE RESPUESTAS'!R15,Back!$M$17:$N$23,2,0)","v":"#N/A"},{"$f":"+VLOOKUP('BASE DE RESPUESTAS'!S15,Back!$M$17:$N$23,2,0)","v":"#N/A"},{"$f":"+VLOOKUP('BASE DE RESPUESTAS'!T15,Back!$M$17:$N$23,2,0)","v":"#N/A"},{"$f":"+VLOOKUP('BASE DE RESPUESTAS'!U15,Back!$M$17:$N$23,2,0)","v":"#N/A"},{"$f":"+VLOOKUP('BASE DE RESPUESTAS'!V15,Back!$M$17:$N$23,2,0)","v":"#N/A"},{"$f":"+VLOOKUP('BASE DE RESPUESTAS'!W15,Back!$M$17:$N$23,2,0)","v":"#N/A"},{"$f":"+VLOOKUP('BASE DE RESPUESTAS'!X15,Back!$M$17:$N$23,2,0)","v":"#N/A"},{"$f":"+VLOOKUP('BASE DE RESPUESTAS'!Y15,Back!$M$17:$N$23,2,0)","v":"#N/A"},{"$f":"+VLOOKUP('BASE DE RESPUESTAS'!Z15,Back!$M$17:$N$23,2,0)","v":"#N/A"},{"$f":"+VLOOKUP('BASE DE RESPUESTAS'!AA15,Back!$M$17:$N$23,2,0)","v":"#N/A"},{"$f":"+VLOOKUP('BASE DE RESPUESTAS'!AB15,Back!$M$17:$N$23,2,0)","v":"#N/A"},{"$f":"+VLOOKUP('BASE DE RESPUESTAS'!AC15,Back!$M$17:$N$23,2,0)","v":"#N/A"},{"$f":"+VLOOKUP('BASE DE RESPUESTAS'!AD15,Back!$M$17:$N$23,2,0)","v":"#N/A"},{"$f":"+VLOOKUP('BASE DE RESPUESTAS'!AE15,Back!$M$17:$N$23,2,0)","v":"#N/A"},{"$f":"+VLOOKUP('BASE DE RESPUESTAS'!AF15,Back!$M$17:$N$23,2,0)","v":"#N/A"},{"$f":"+VLOOKUP('BASE DE RESPUESTAS'!AG15,Back!$M$17:$N$23,2,0)","v":"#N/A"},{"$f":"+VLOOKUP('BASE DE RESPUESTAS'!AH15,Back!$M$17:$N$23,2,0)","v":"#N/A"},{"$f":"+VLOOKUP('BASE DE RESPUESTAS'!AI15,Back!$M$17:$N$23,2,0)","v":"#N/A"},{"$f":"+VLOOKUP('BASE DE RESPUESTAS'!AJ15,Back!$M$17:$N$23,2,0)","v":"#N/A"},{"$f":"+VLOOKUP('BASE DE RESPUESTAS'!AK15,Back!$M$17:$N$23,2,0)","v":"#N/A"},{"$f":"+VLOOKUP('BASE DE RESPUESTAS'!AL15,Back!$M$17:$N$23,2,0)","v":"#N/A"},{"$f":"+VLOOKUP('BASE DE RESPUESTAS'!AM15,Back!$M$17:$N$23,2,0)","v":"#N/A"},{"$f":"+VLOOKUP('BASE DE RESPUESTAS'!AN15,Back!$M$17:$N$23,2,0)","v":"#N/A"},{"$f":"+VLOOKUP('BASE DE RESPUESTAS'!AO15,Back!$M$17:$N$23,2,0)","v":"#N/A"},{"$f":"+VLOOKUP('BASE DE RESPUESTAS'!AP15,Back!$M$17:$N$23,2,0)","v":"#N/A"},{"$f":"+VLOOKUP('BASE DE RESPUESTAS'!AQ15,Back!$M$17:$N$23,2,0)","v":"#N/A"},{"$f":"+VLOOKUP('BASE DE RESPUESTAS'!AR15,Back!$M$17:$N$23,2,0)","v":"#N/A"},{"$f":"+VLOOKUP('BASE DE RESPUESTAS'!AS15,Back!$M$17:$N$23,2,0)","v":"#N/A"},{"$f":"+VLOOKUP('BASE DE RESPUESTAS'!AT15,Back!$M$17:$N$23,2,0)","v":"#N/A"},{"$f":"+VLOOKUP('BASE DE RESPUESTAS'!AU15,Back!$M$17:$N$23,2,0)","v":"#N/A"},{"$f":"+VLOOKUP('BASE DE RESPUESTAS'!AV15,Back!$M$17:$N$23,2,0)","v":"#N/A"},{"$f":"+VLOOKUP('BASE DE RESPUESTAS'!AW15,Back!$M$17:$N$23,2,0)","v":"#N/A"},{"$f":"+VLOOKUP('BASE DE RESPUESTAS'!AX15,Back!$M$17:$N$23,2,0)","v":"#N/A"},{"$f":"+VLOOKUP('BASE DE RESPUESTAS'!AY15,Back!$M$17:$N$23,2,0)","v":"#N/A"},{"$f":"+VLOOKUP('BASE DE RESPUESTAS'!AZ15,Back!$M$17:$N$23,2,0)","v":"#N/A"},{"$f":"+VLOOKUP('BASE DE RESPUESTAS'!BA15,Back!$M$17:$N$23,2,0)","v":"#N/A"},{"$f":"+VLOOKUP('BASE DE RESPUESTAS'!BB15,Back!$M$17:$N$23,2,0)","v":"#N/A"},{"$f":"+VLOOKUP('BASE DE RESPUESTAS'!BC15,Back!$M$17:$N$23,2,0)","v":"#N/A"},{"$f":"+VLOOKUP('BASE DE RESPUESTAS'!BD15,Back!$M$17:$N$23,2,0)","v":"#N/A"},{"$f":"+VLOOKUP('BASE DE RESPUESTAS'!BE15,Back!$M$17:$N$23,2,0)","v":"#N/A"}]
[null,null,null,"La niña o el niño relaciona emociones con las causas que las generan.",10.0,"Cartilla N°2: “¿Cómo crees que se siente este niño?”",null,{"$f":"+VLOOKUP('BASE DE RESPUESTAS'!H16,Back!$M$17:$N$23,2,0)","v":"#N/A"},{"$f":"+VLOOKUP('BASE DE RESPUESTAS'!I16,Back!$M$17:$N$23,2,0)","v":"#N/A"},{"$f":"+VLOOKUP('BASE DE RESPUESTAS'!J16,Back!$M$17:$N$23,2,0)","v":"#N/A"},{"$f":"+VLOOKUP('BASE DE RESPUESTAS'!K16,Back!$M$17:$N$23,2,0)","v":"#N/A"},{"$f":"+VLOOKUP('BASE DE RESPUESTAS'!L16,Back!$M$17:$N$23,2,0)","v":"#N/A"},{"$f":"+VLOOKUP('BASE DE RESPUESTAS'!M16,Back!$M$17:$N$23,2,0)","v":"#N/A"},{"$f":"+VLOOKUP('BASE DE RESPUESTAS'!N16,Back!$M$17:$N$23,2,0)","v":"#N/A"},{"$f":"+VLOOKUP('BASE DE RESPUESTAS'!O16,Back!$M$17:$N$23,2,0)","v":"#N/A"},{"$f":"+VLOOKUP('BASE DE RESPUESTAS'!P16,Back!$M$17:$N$23,2,0)","v":"#N/A"},{"$f":"+VLOOKUP('BASE DE RESPUESTAS'!Q16,Back!$M$17:$N$23,2,0)","v":"#N/A"},{"$f":"+VLOOKUP('BASE DE RESPUESTAS'!R16,Back!$M$17:$N$23,2,0)","v":"#N/A"},{"$f":"+VLOOKUP('BASE DE RESPUESTAS'!S16,Back!$M$17:$N$23,2,0)","v":"#N/A"},{"$f":"+VLOOKUP('BASE DE RESPUESTAS'!T16,Back!$M$17:$N$23,2,0)","v":"#N/A"},{"$f":"+VLOOKUP('BASE DE RESPUESTAS'!U16,Back!$M$17:$N$23,2,0)","v":"#N/A"},{"$f":"+VLOOKUP('BASE DE RESPUESTAS'!V16,Back!$M$17:$N$23,2,0)","v":"#N/A"},{"$f":"+VLOOKUP('BASE DE RESPUESTAS'!W16,Back!$M$17:$N$23,2,0)","v":"#N/A"},{"$f":"+VLOOKUP('BASE DE RESPUESTAS'!X16,Back!$M$17:$N$23,2,0)","v":"#N/A"},{"$f":"+VLOOKUP('BASE DE RESPUESTAS'!Y16,Back!$M$17:$N$23,2,0)","v":"#N/A"},{"$f":"+VLOOKUP('BASE DE RESPUESTAS'!Z16,Back!$M$17:$N$23,2,0)","v":"#N/A"},{"$f":"+VLOOKUP('BASE DE RESPUESTAS'!AA16,Back!$M$17:$N$23,2,0)","v":"#N/A"},{"$f":"+VLOOKUP('BASE DE RESPUESTAS'!AB16,Back!$M$17:$N$23,2,0)","v":"#N/A"},{"$f":"+VLOOKUP('BASE DE RESPUESTAS'!AC16,Back!$M$17:$N$23,2,0)","v":"#N/A"},{"$f":"+VLOOKUP('BASE DE RESPUESTAS'!AD16,Back!$M$17:$N$23,2,0)","v":"#N/A"},{"$f":"+VLOOKUP('BASE DE RESPUESTAS'!AE16,Back!$M$17:$N$23,2,0)","v":"#N/A"},{"$f":"+VLOOKUP('BASE DE RESPUESTAS'!AF16,Back!$M$17:$N$23,2,0)","v":"#N/A"},{"$f":"+VLOOKUP('BASE DE RESPUESTAS'!AG16,Back!$M$17:$N$23,2,0)","v":"#N/A"},{"$f":"+VLOOKUP('BASE DE RESPUESTAS'!AH16,Back!$M$17:$N$23,2,0)","v":"#N/A"},{"$f":"+VLOOKUP('BASE DE RESPUESTAS'!AI16,Back!$M$17:$N$23,2,0)","v":"#N/A"},{"$f":"+VLOOKUP('BASE DE RESPUESTAS'!AJ16,Back!$M$17:$N$23,2,0)","v":"#N/A"},{"$f":"+VLOOKUP('BASE DE RESPUESTAS'!AK16,Back!$M$17:$N$23,2,0)","v":"#N/A"},{"$f":"+VLOOKUP('BASE DE RESPUESTAS'!AL16,Back!$M$17:$N$23,2,0)","v":"#N/A"},{"$f":"+VLOOKUP('BASE DE RESPUESTAS'!AM16,Back!$M$17:$N$23,2,0)","v":"#N/A"},{"$f":"+VLOOKUP('BASE DE RESPUESTAS'!AN16,Back!$M$17:$N$23,2,0)","v":"#N/A"},{"$f":"+VLOOKUP('BASE DE RESPUESTAS'!AO16,Back!$M$17:$N$23,2,0)","v":"#N/A"},{"$f":"+VLOOKUP('BASE DE RESPUESTAS'!AP16,Back!$M$17:$N$23,2,0)","v":"#N/A"},{"$f":"+VLOOKUP('BASE DE RESPUESTAS'!AQ16,Back!$M$17:$N$23,2,0)","v":"#N/A"},{"$f":"+VLOOKUP('BASE DE RESPUESTAS'!AR16,Back!$M$17:$N$23,2,0)","v":"#N/A"},{"$f":"+VLOOKUP('BASE DE RESPUESTAS'!AS16,Back!$M$17:$N$23,2,0)","v":"#N/A"},{"$f":"+VLOOKUP('BASE DE RESPUESTAS'!AT16,Back!$M$17:$N$23,2,0)","v":"#N/A"},{"$f":"+VLOOKUP('BASE DE RESPUESTAS'!AU16,Back!$M$17:$N$23,2,0)","v":"#N/A"},{"$f":"+VLOOKUP('BASE DE RESPUESTAS'!AV16,Back!$M$17:$N$23,2,0)","v":"#N/A"},{"$f":"+VLOOKUP('BASE DE RESPUESTAS'!AW16,Back!$M$17:$N$23,2,0)","v":"#N/A"},{"$f":"+VLOOKUP('BASE DE RESPUESTAS'!AX16,Back!$M$17:$N$23,2,0)","v":"#N/A"},{"$f":"+VLOOKUP('BASE DE RESPUESTAS'!AY16,Back!$M$17:$N$23,2,0)","v":"#N/A"},{"$f":"+VLOOKUP('BASE DE RESPUESTAS'!AZ16,Back!$M$17:$N$23,2,0)","v":"#N/A"},{"$f":"+VLOOKUP('BASE DE RESPUESTAS'!BA16,Back!$M$17:$N$23,2,0)","v":"#N/A"},{"$f":"+VLOOKUP('BASE DE RESPUESTAS'!BB16,Back!$M$17:$N$23,2,0)","v":"#N/A"},{"$f":"+VLOOKUP('BASE DE RESPUESTAS'!BC16,Back!$M$17:$N$23,2,0)","v":"#N/A"},{"$f":"+VLOOKUP('BASE DE RESPUESTAS'!BD16,Back!$M$17:$N$23,2,0)","v":"#N/A"},{"$f":"+VLOOKUP('BASE DE RESPUESTAS'!BE16,Back!$M$17:$N$23,2,0)","v":"#N/A"}]
[null,null,null,null,11.0,"Cartilla N°3: “¿Cómo crees que se siente esta niña?”",null,{"$f":"+VLOOKUP('BASE DE RESPUESTAS'!H17,Back!$M$17:$N$23,2,0)","v":"#N/A"},{"$f":"+VLOOKUP('BASE DE RESPUESTAS'!I17,Back!$M$17:$N$23,2,0)","v":"#N/A"},{"$f":"+VLOOKUP('BASE DE RESPUESTAS'!J17,Back!$M$17:$N$23,2,0)","v":"#N/A"},{"$f":"+VLOOKUP('BASE DE RESPUESTAS'!K17,Back!$M$17:$N$23,2,0)","v":"#N/A"},{"$f":"+VLOOKUP('BASE DE RESPUESTAS'!L17,Back!$M$17:$N$23,2,0)","v":"#N/A"},{"$f":"+VLOOKUP('BASE DE RESPUESTAS'!M17,Back!$M$17:$N$23,2,0)","v":"#N/A"},{"$f":"+VLOOKUP('BASE DE RESPUESTAS'!N17,Back!$M$17:$N$23,2,0)","v":"#N/A"},{"$f":"+VLOOKUP('BASE DE RESPUESTAS'!O17,Back!$M$17:$N$23,2,0)","v":"#N/A"},{"$f":"+VLOOKUP('BASE DE RESPUESTAS'!P17,Back!$M$17:$N$23,2,0)","v":"#N/A"},{"$f":"+VLOOKUP('BASE DE RESPUESTAS'!Q17,Back!$M$17:$N$23,2,0)","v":"#N/A"},{"$f":"+VLOOKUP('BASE DE RESPUESTAS'!R17,Back!$M$17:$N$23,2,0)","v":"#N/A"},{"$f":"+VLOOKUP('BASE DE RESPUESTAS'!S17,Back!$M$17:$N$23,2,0)","v":"#N/A"},{"$f":"+VLOOKUP('BASE DE RESPUESTAS'!T17,Back!$M$17:$N$23,2,0)","v":"#N/A"},{"$f":"+VLOOKUP('BASE DE RESPUESTAS'!U17,Back!$M$17:$N$23,2,0)","v":"#N/A"},{"$f":"+VLOOKUP('BASE DE RESPUESTAS'!V17,Back!$M$17:$N$23,2,0)","v":"#N/A"},{"$f":"+VLOOKUP('BASE DE RESPUESTAS'!W17,Back!$M$17:$N$23,2,0)","v":"#N/A"},{"$f":"+VLOOKUP('BASE DE RESPUESTAS'!X17,Back!$M$17:$N$23,2,0)","v":"#N/A"},{"$f":"+VLOOKUP('BASE DE RESPUESTAS'!Y17,Back!$M$17:$N$23,2,0)","v":"#N/A"},{"$f":"+VLOOKUP('BASE DE RESPUESTAS'!Z17,Back!$M$17:$N$23,2,0)","v":"#N/A"},{"$f":"+VLOOKUP('BASE DE RESPUESTAS'!AA17,Back!$M$17:$N$23,2,0)","v":"#N/A"},{"$f":"+VLOOKUP('BASE DE RESPUESTAS'!AB17,Back!$M$17:$N$23,2,0)","v":"#N/A"},{"$f":"+VLOOKUP('BASE DE RESPUESTAS'!AC17,Back!$M$17:$N$23,2,0)","v":"#N/A"},{"$f":"+VLOOKUP('BASE DE RESPUESTAS'!AD17,Back!$M$17:$N$23,2,0)","v":"#N/A"},{"$f":"+VLOOKUP('BASE DE RESPUESTAS'!AE17,Back!$M$17:$N$23,2,0)","v":"#N/A"},{"$f":"+VLOOKUP('BASE DE RESPUESTAS'!AF17,Back!$M$17:$N$23,2,0)","v":"#N/A"},{"$f":"+VLOOKUP('BASE DE RESPUESTAS'!AG17,Back!$M$17:$N$23,2,0)","v":"#N/A"},{"$f":"+VLOOKUP('BASE DE RESPUESTAS'!AH17,Back!$M$17:$N$23,2,0)","v":"#N/A"},{"$f":"+VLOOKUP('BASE DE RESPUESTAS'!AI17,Back!$M$17:$N$23,2,0)","v":"#N/A"},{"$f":"+VLOOKUP('BASE DE RESPUESTAS'!AJ17,Back!$M$17:$N$23,2,0)","v":"#N/A"},{"$f":"+VLOOKUP('BASE DE RESPUESTAS'!AK17,Back!$M$17:$N$23,2,0)","v":"#N/A"},{"$f":"+VLOOKUP('BASE DE RESPUESTAS'!AL17,Back!$M$17:$N$23,2,0)","v":"#N/A"},{"$f":"+VLOOKUP('BASE DE RESPUESTAS'!AM17,Back!$M$17:$N$23,2,0)","v":"#N/A"},{"$f":"+VLOOKUP('BASE DE RESPUESTAS'!AN17,Back!$M$17:$N$23,2,0)","v":"#N/A"},{"$f":"+VLOOKUP('BASE DE RESPUESTAS'!AO17,Back!$M$17:$N$23,2,0)","v":"#N/A"},{"$f":"+VLOOKUP('BASE DE RESPUESTAS'!AP17,Back!$M$17:$N$23,2,0)","v":"#N/A"},{"$f":"+VLOOKUP('BASE DE RESPUESTAS'!AQ17,Back!$M$17:$N$23,2,0)","v":"#N/A"},{"$f":"+VLOOKUP('BASE DE RESPUESTAS'!AR17,Back!$M$17:$N$23,2,0)","v":"#N/A"},{"$f":"+VLOOKUP('BASE DE RESPUESTAS'!AS17,Back!$M$17:$N$23,2,0)","v":"#N/A"},{"$f":"+VLOOKUP('BASE DE RESPUESTAS'!AT17,Back!$M$17:$N$23,2,0)","v":"#N/A"},{"$f":"+VLOOKUP('BASE DE RESPUESTAS'!AU17,Back!$M$17:$N$23,2,0)","v":"#N/A"},{"$f":"+VLOOKUP('BASE DE RESPUESTAS'!AV17,Back!$M$17:$N$23,2,0)","v":"#N/A"},{"$f":"+VLOOKUP('BASE DE RESPUESTAS'!AW17,Back!$M$17:$N$23,2,0)","v":"#N/A"},{"$f":"+VLOOKUP('BASE DE RESPUESTAS'!AX17,Back!$M$17:$N$23,2,0)","v":"#N/A"},{"$f":"+VLOOKUP('BASE DE RESPUESTAS'!AY17,Back!$M$17:$N$23,2,0)","v":"#N/A"},{"$f":"+VLOOKUP('BASE DE RESPUESTAS'!AZ17,Back!$M$17:$N$23,2,0)","v":"#N/A"},{"$f":"+VLOOKUP('BASE DE RESPUESTAS'!BA17,Back!$M$17:$N$23,2,0)","v":"#N/A"},{"$f":"+VLOOKUP('BASE DE RESPUESTAS'!BB17,Back!$M$17:$N$23,2,0)","v":"#N/A"},{"$f":"+VLOOKUP('BASE DE RESPUESTAS'!BC17,Back!$M$17:$N$23,2,0)","v":"#N/A"},{"$f":"+VLOOKUP('BASE DE RESPUESTAS'!BD17,Back!$M$17:$N$23,2,0)","v":"#N/A"},{"$f":"+VLOOKUP('BASE DE RESPUESTAS'!BE17,Back!$M$17:$N$23,2,0)","v":"#N/A"}]
[null,"HSE","Autocuidado","La niña o el niño identifica situaciones que representan peligro para su bienestar personal (Ej. agua caliente, tomacorrientes, cruzar sola/o la pista, animales agresivos).",12.0,"Cartilla N°4: “Señala las imágenes donde hay peligros”",null,{"$f":"+VLOOKUP('BASE DE RESPUESTAS'!H18,Back!$M$17:$N$23,2,0)","v":"#N/A"},{"$f":"+VLOOKUP('BASE DE RESPUESTAS'!I18,Back!$M$17:$N$23,2,0)","v":"#N/A"},{"$f":"+VLOOKUP('BASE DE RESPUESTAS'!J18,Back!$M$17:$N$23,2,0)","v":"#N/A"},{"$f":"+VLOOKUP('BASE DE RESPUESTAS'!K18,Back!$M$17:$N$23,2,0)","v":"#N/A"},{"$f":"+VLOOKUP('BASE DE RESPUESTAS'!L18,Back!$M$17:$N$23,2,0)","v":"#N/A"},{"$f":"+VLOOKUP('BASE DE RESPUESTAS'!M18,Back!$M$17:$N$23,2,0)","v":"#N/A"},{"$f":"+VLOOKUP('BASE DE RESPUESTAS'!N18,Back!$M$17:$N$23,2,0)","v":"#N/A"},{"$f":"+VLOOKUP('BASE DE RESPUESTAS'!O18,Back!$M$17:$N$23,2,0)","v":"#N/A"},{"$f":"+VLOOKUP('BASE DE RESPUESTAS'!P18,Back!$M$17:$N$23,2,0)","v":"#N/A"},{"$f":"+VLOOKUP('BASE DE RESPUESTAS'!Q18,Back!$M$17:$N$23,2,0)","v":"#N/A"},{"$f":"+VLOOKUP('BASE DE RESPUESTAS'!R18,Back!$M$17:$N$23,2,0)","v":"#N/A"},{"$f":"+VLOOKUP('BASE DE RESPUESTAS'!S18,Back!$M$17:$N$23,2,0)","v":"#N/A"},{"$f":"+VLOOKUP('BASE DE RESPUESTAS'!T18,Back!$M$17:$N$23,2,0)","v":"#N/A"},{"$f":"+VLOOKUP('BASE DE RESPUESTAS'!U18,Back!$M$17:$N$23,2,0)","v":"#N/A"},{"$f":"+VLOOKUP('BASE DE RESPUESTAS'!V18,Back!$M$17:$N$23,2,0)","v":"#N/A"},{"$f":"+VLOOKUP('BASE DE RESPUESTAS'!W18,Back!$M$17:$N$23,2,0)","v":"#N/A"},{"$f":"+VLOOKUP('BASE DE RESPUESTAS'!X18,Back!$M$17:$N$23,2,0)","v":"#N/A"},{"$f":"+VLOOKUP('BASE DE RESPUESTAS'!Y18,Back!$M$17:$N$23,2,0)","v":"#N/A"},{"$f":"+VLOOKUP('BASE DE RESPUESTAS'!Z18,Back!$M$17:$N$23,2,0)","v":"#N/A"},{"$f":"+VLOOKUP('BASE DE RESPUESTAS'!AA18,Back!$M$17:$N$23,2,0)","v":"#N/A"},{"$f":"+VLOOKUP('BASE DE RESPUESTAS'!AB18,Back!$M$17:$N$23,2,0)","v":"#N/A"},{"$f":"+VLOOKUP('BASE DE RESPUESTAS'!AC18,Back!$M$17:$N$23,2,0)","v":"#N/A"},{"$f":"+VLOOKUP('BASE DE RESPUESTAS'!AD18,Back!$M$17:$N$23,2,0)","v":"#N/A"},{"$f":"+VLOOKUP('BASE DE RESPUESTAS'!AE18,Back!$M$17:$N$23,2,0)","v":"#N/A"},{"$f":"+VLOOKUP('BASE DE RESPUESTAS'!AF18,Back!$M$17:$N$23,2,0)","v":"#N/A"},{"$f":"+VLOOKUP('BASE DE RESPUESTAS'!AG18,Back!$M$17:$N$23,2,0)","v":"#N/A"},{"$f":"+VLOOKUP('BASE DE RESPUESTAS'!AH18,Back!$M$17:$N$23,2,0)","v":"#N/A"},{"$f":"+VLOOKUP('BASE DE RESPUESTAS'!AI18,Back!$M$17:$N$23,2,0)","v":"#N/A"},{"$f":"+VLOOKUP('BASE DE RESPUESTAS'!AJ18,Back!$M$17:$N$23,2,0)","v":"#N/A"},{"$f":"+VLOOKUP('BASE DE RESPUESTAS'!AK18,Back!$M$17:$N$23,2,0)","v":"#N/A"},{"$f":"+VLOOKUP('BASE DE RESPUESTAS'!AL18,Back!$M$17:$N$23,2,0)","v":"#N/A"},{"$f":"+VLOOKUP('BASE DE RESPUESTAS'!AM18,Back!$M$17:$N$23,2,0)","v":"#N/A"},{"$f":"+VLOOKUP('BASE DE RESPUESTAS'!AN18,Back!$M$17:$N$23,2,0)","v":"#N/A"},{"$f":"+VLOOKUP('BASE DE RESPUESTAS'!AO18,Back!$M$17:$N$23,2,0)","v":"#N/A"},{"$f":"+VLOOKUP('BASE DE RESPUESTAS'!AP18,Back!$M$17:$N$23,2,0)","v":"#N/A"},{"$f":"+VLOOKUP('BASE DE RESPUESTAS'!AQ18,Back!$M$17:$N$23,2,0)","v":"#N/A"},{"$f":"+VLOOKUP('BASE DE RESPUESTAS'!AR18,Back!$M$17:$N$23,2,0)","v":"#N/A"},{"$f":"+VLOOKUP('BASE DE RESPUESTAS'!AS18,Back!$M$17:$N$23,2,0)","v":"#N/A"},{"$f":"+VLOOKUP('BASE DE RESPUESTAS'!AT18,Back!$M$17:$N$23,2,0)","v":"#N/A"},{"$f":"+VLOOKUP('BASE DE RESPUESTAS'!AU18,Back!$M$17:$N$23,2,0)","v":"#N/A"},{"$f":"+VLOOKUP('BASE DE RESPUESTAS'!AV18,Back!$M$17:$N$23,2,0)","v":"#N/A"},{"$f":"+VLOOKUP('BASE DE RESPUESTAS'!AW18,Back!$M$17:$N$23,2,0)","v":"#N/A"},{"$f":"+VLOOKUP('BASE DE RESPUESTAS'!AX18,Back!$M$17:$N$23,2,0)","v":"#N/A"},{"$f":"+VLOOKUP('BASE DE RESPUESTAS'!AY18,Back!$M$17:$N$23,2,0)","v":"#N/A"},{"$f":"+VLOOKUP('BASE DE RESPUESTAS'!AZ18,Back!$M$17:$N$23,2,0)","v":"#N/A"},{"$f":"+VLOOKUP('BASE DE RESPUESTAS'!BA18,Back!$M$17:$N$23,2,0)","v":"#N/A"},{"$f":"+VLOOKUP('BASE DE RESPUESTAS'!BB18,Back!$M$17:$N$23,2,0)","v":"#N/A"},{"$f":"+VLOOKUP('BASE DE RESPUESTAS'!BC18,Back!$M$17:$N$23,2,0)","v":"#N/A"},{"$f":"+VLOOKUP('BASE DE RESPUESTAS'!BD18,Back!$M$17:$N$23,2,0)","v":"#N/A"},{"$f":"+VLOOKUP('BASE DE RESPUESTAS'!BE18,Back!$M$17:$N$23,2,0)","v":"#N/A"}]
[null,null,null,"La niña o el niño evidencia conductas de autoprotección (Ej. sabe decir “no”, evita situaciones de peligro, solicita ayuda a una persona adulta).",13.0,"Observación en aula: Dice “no” cuando algo le incomoda.",null,{"$f":"+VLOOKUP('BASE DE RESPUESTAS'!H19,Back!$M$17:$N$23,2,0)","v":"#N/A"},{"$f":"+VLOOKUP('BASE DE RESPUESTAS'!I19,Back!$M$17:$N$23,2,0)","v":"#N/A"},{"$f":"+VLOOKUP('BASE DE RESPUESTAS'!J19,Back!$M$17:$N$23,2,0)","v":"#N/A"},{"$f":"+VLOOKUP('BASE DE RESPUESTAS'!K19,Back!$M$17:$N$23,2,0)","v":"#N/A"},{"$f":"+VLOOKUP('BASE DE RESPUESTAS'!L19,Back!$M$17:$N$23,2,0)","v":"#N/A"},{"$f":"+VLOOKUP('BASE DE RESPUESTAS'!M19,Back!$M$17:$N$23,2,0)","v":"#N/A"},{"$f":"+VLOOKUP('BASE DE RESPUESTAS'!N19,Back!$M$17:$N$23,2,0)","v":"#N/A"},{"$f":"+VLOOKUP('BASE DE RESPUESTAS'!O19,Back!$M$17:$N$23,2,0)","v":"#N/A"},{"$f":"+VLOOKUP('BASE DE RESPUESTAS'!P19,Back!$M$17:$N$23,2,0)","v":"#N/A"},{"$f":"+VLOOKUP('BASE DE RESPUESTAS'!Q19,Back!$M$17:$N$23,2,0)","v":"#N/A"},{"$f":"+VLOOKUP('BASE DE RESPUESTAS'!R19,Back!$M$17:$N$23,2,0)","v":"#N/A"},{"$f":"+VLOOKUP('BASE DE RESPUESTAS'!S19,Back!$M$17:$N$23,2,0)","v":"#N/A"},{"$f":"+VLOOKUP('BASE DE RESPUESTAS'!T19,Back!$M$17:$N$23,2,0)","v":"#N/A"},{"$f":"+VLOOKUP('BASE DE RESPUESTAS'!U19,Back!$M$17:$N$23,2,0)","v":"#N/A"},{"$f":"+VLOOKUP('BASE DE RESPUESTAS'!V19,Back!$M$17:$N$23,2,0)","v":"#N/A"},{"$f":"+VLOOKUP('BASE DE RESPUESTAS'!W19,Back!$M$17:$N$23,2,0)","v":"#N/A"},{"$f":"+VLOOKUP('BASE DE RESPUESTAS'!X19,Back!$M$17:$N$23,2,0)","v":"#N/A"},{"$f":"+VLOOKUP('BASE DE RESPUESTAS'!Y19,Back!$M$17:$N$23,2,0)","v":"#N/A"},{"$f":"+VLOOKUP('BASE DE RESPUESTAS'!Z19,Back!$M$17:$N$23,2,0)","v":"#N/A"},{"$f":"+VLOOKUP('BASE DE RESPUESTAS'!AA19,Back!$M$17:$N$23,2,0)","v":"#N/A"},{"$f":"+VLOOKUP('BASE DE RESPUESTAS'!AB19,Back!$M$17:$N$23,2,0)","v":"#N/A"},{"$f":"+VLOOKUP('BASE DE RESPUESTAS'!AC19,Back!$M$17:$N$23,2,0)","v":"#N/A"},{"$f":"+VLOOKUP('BASE DE RESPUESTAS'!AD19,Back!$M$17:$N$23,2,0)","v":"#N/A"},{"$f":"+VLOOKUP('BASE DE RESPUESTAS'!AE19,Back!$M$17:$N$23,2,0)","v":"#N/A"},{"$f":"+VLOOKUP('BASE DE RESPUESTAS'!AF19,Back!$M$17:$N$23,2,0)","v":"#N/A"},{"$f":"+VLOOKUP('BASE DE RESPUESTAS'!AG19,Back!$M$17:$N$23,2,0)","v":"#N/A"},{"$f":"+VLOOKUP('BASE DE RESPUESTAS'!AH19,Back!$M$17:$N$23,2,0)","v":"#N/A"},{"$f":"+VLOOKUP('BASE DE RESPUESTAS'!AI19,Back!$M$17:$N$23,2,0)","v":"#N/A"},{"$f":"+VLOOKUP('BASE DE RESPUESTAS'!AJ19,Back!$M$17:$N$23,2,0)","v":"#N/A"},{"$f":"+VLOOKUP('BASE DE RESPUESTAS'!AK19,Back!$M$17:$N$23,2,0)","v":"#N/A"},{"$f":"+VLOOKUP('BASE DE RESPUESTAS'!AL19,Back!$M$17:$N$23,2,0)","v":"#N/A"},{"$f":"+VLOOKUP('BASE DE RESPUESTAS'!AM19,Back!$M$17:$N$23,2,0)","v":"#N/A"},{"$f":"+VLOOKUP('BASE DE RESPUESTAS'!AN19,Back!$M$17:$N$23,2,0)","v":"#N/A"},{"$f":"+VLOOKUP('BASE DE RESPUESTAS'!AO19,Back!$M$17:$N$23,2,0)","v":"#N/A"},{"$f":"+VLOOKUP('BASE DE RESPUESTAS'!AP19,Back!$M$17:$N$23,2,0)","v":"#N/A"},{"$f":"+VLOOKUP('BASE DE RESPUESTAS'!AQ19,Back!$M$17:$N$23,2,0)","v":"#N/A"},{"$f":"+VLOOKUP('BASE DE RESPUESTAS'!AR19,Back!$M$17:$N$23,2,0)","v":"#N/A"},{"$f":"+VLOOKUP('BASE DE RESPUESTAS'!AS19,Back!$M$17:$N$23,2,0)","v":"#N/A"},{"$f":"+VLOOKUP('BASE DE RESPUESTAS'!AT19,Back!$M$17:$N$23,2,0)","v":"#N/A"},{"$f":"+VLOOKUP('BASE DE RESPUESTAS'!AU19,Back!$M$17:$N$23,2,0)","v":"#N/A"},{"$f":"+VLOOKUP('BASE DE RESPUESTAS'!AV19,Back!$M$17:$N$23,2,0)","v":"#N/A"},{"$f":"+VLOOKUP('BASE DE RESPUESTAS'!AW19,Back!$M$17:$N$23,2,0)","v":"#N/A"},{"$f":"+VLOOKUP('BASE DE RESPUESTAS'!AX19,Back!$M$17:$N$23,2,0)","v":"#N/A"},{"$f":"+VLOOKUP('BASE DE RESPUESTAS'!AY19,Back!$M$17:$N$23,2,0)","v":"#N/A"},{"$f":"+VLOOKUP('BASE DE RESPUESTAS'!AZ19,Back!$M$17:$N$23,2,0)","v":"#N/A"},{"$f":"+VLOOKUP('BASE DE RESPUESTAS'!BA19,Back!$M$17:$N$23,2,0)","v":"#N/A"},{"$f":"+VLOOKUP('BASE DE RESPUESTAS'!BB19,Back!$M$17:$N$23,2,0)","v":"#N/A"},{"$f":"+VLOOKUP('BASE DE RESPUESTAS'!BC19,Back!$M$17:$N$23,2,0)","v":"#N/A"},{"$f":"+VLOOKUP('BASE DE RESPUESTAS'!BD19,Back!$M$17:$N$23,2,0)","v":"#N/A"},{"$f":"+VLOOKUP('BASE DE RESPUESTAS'!BE19,Back!$M$17:$N$23,2,0)","v":"#N/A"}]
[null,null,null,null,14.0,"Observación en aula: Evita situaciones que le pueden hacer daño (Ej. tomacorrientes, objetos filosos, golpearse con puertas y cajones).",null,{"$f":"+VLOOKUP('BASE DE RESPUESTAS'!H20,Back!$M$17:$N$23,2,0)","v":"#N/A"},{"$f":"+VLOOKUP('BASE DE RESPUESTAS'!I20,Back!$M$17:$N$23,2,0)","v":"#N/A"},{"$f":"+VLOOKUP('BASE DE RESPUESTAS'!J20,Back!$M$17:$N$23,2,0)","v":"#N/A"},{"$f":"+VLOOKUP('BASE DE RESPUESTAS'!K20,Back!$M$17:$N$23,2,0)","v":"#N/A"},{"$f":"+VLOOKUP('BASE DE RESPUESTAS'!L20,Back!$M$17:$N$23,2,0)","v":"#N/A"},{"$f":"+VLOOKUP('BASE DE RESPUESTAS'!M20,Back!$M$17:$N$23,2,0)","v":"#N/A"},{"$f":"+VLOOKUP('BASE DE RESPUESTAS'!N20,Back!$M$17:$N$23,2,0)","v":"#N/A"},{"$f":"+VLOOKUP('BASE DE RESPUESTAS'!O20,Back!$M$17:$N$23,2,0)","v":"#N/A"},{"$f":"+VLOOKUP('BASE DE RESPUESTAS'!P20,Back!$M$17:$N$23,2,0)","v":"#N/A"},{"$f":"+VLOOKUP('BASE DE RESPUESTAS'!Q20,Back!$M$17:$N$23,2,0)","v":"#N/A"},{"$f":"+VLOOKUP('BASE DE RESPUESTAS'!R20,Back!$M$17:$N$23,2,0)","v":"#N/A"},{"$f":"+VLOOKUP('BASE DE RESPUESTAS'!S20,Back!$M$17:$N$23,2,0)","v":"#N/A"},{"$f":"+VLOOKUP('BASE DE RESPUESTAS'!T20,Back!$M$17:$N$23,2,0)","v":"#N/A"},{"$f":"+VLOOKUP('BASE DE RESPUESTAS'!U20,Back!$M$17:$N$23,2,0)","v":"#N/A"},{"$f":"+VLOOKUP('BASE DE RESPUESTAS'!V20,Back!$M$17:$N$23,2,0)","v":"#N/A"},{"$f":"+VLOOKUP('BASE DE RESPUESTAS'!W20,Back!$M$17:$N$23,2,0)","v":"#N/A"},{"$f":"+VLOOKUP('BASE DE RESPUESTAS'!X20,Back!$M$17:$N$23,2,0)","v":"#N/A"},{"$f":"+VLOOKUP('BASE DE RESPUESTAS'!Y20,Back!$M$17:$N$23,2,0)","v":"#N/A"},{"$f":"+VLOOKUP('BASE DE RESPUESTAS'!Z20,Back!$M$17:$N$23,2,0)","v":"#N/A"},{"$f":"+VLOOKUP('BASE DE RESPUESTAS'!AA20,Back!$M$17:$N$23,2,0)","v":"#N/A"},{"$f":"+VLOOKUP('BASE DE RESPUESTAS'!AB20,Back!$M$17:$N$23,2,0)","v":"#N/A"},{"$f":"+VLOOKUP('BASE DE RESPUESTAS'!AC20,Back!$M$17:$N$23,2,0)","v":"#N/A"},{"$f":"+VLOOKUP('BASE DE RESPUESTAS'!AD20,Back!$M$17:$N$23,2,0)","v":"#N/A"},{"$f":"+VLOOKUP('BASE DE RESPUESTAS'!AE20,Back!$M$17:$N$23,2,0)","v":"#N/A"},{"$f":"+VLOOKUP('BASE DE RESPUESTAS'!AF20,Back!$M$17:$N$23,2,0)","v":"#N/A"},{"$f":"+VLOOKUP('BASE DE RESPUESTAS'!AG20,Back!$M$17:$N$23,2,0)","v":"#N/A"},{"$f":"+VLOOKUP('BASE DE RESPUESTAS'!AH20,Back!$M$17:$N$23,2,0)","v":"#N/A"},{"$f":"+VLOOKUP('BASE DE RESPUESTAS'!AI20,Back!$M$17:$N$23,2,0)","v":"#N/A"},{"$f":"+VLOOKUP('BASE DE RESPUESTAS'!AJ20,Back!$M$17:$N$23,2,0)","v":"#N/A"},{"$f":"+VLOOKUP('BASE DE RESPUESTAS'!AK20,Back!$M$17:$N$23,2,0)","v":"#N/A"},{"$f":"+VLOOKUP('BASE DE RESPUESTAS'!AL20,Back!$M$17:$N$23,2,0)","v":"#N/A"},{"$f":"+VLOOKUP('BASE DE RESPUESTAS'!AM20,Back!$M$17:$N$23,2,0)","v":"#N/A"},{"$f":"+VLOOKUP('BASE DE RESPUESTAS'!AN20,Back!$M$17:$N$23,2,0)","v":"#N/A"},{"$f":"+VLOOKUP('BASE DE RESPUESTAS'!AO20,Back!$M$17:$N$23,2,0)","v":"#N/A"},{"$f":"+VLOOKUP('BASE DE RESPUESTAS'!AP20,Back!$M$17:$N$23,2,0)","v":"#N/A"},{"$f":"+VLOOKUP('BASE DE RESPUESTAS'!AQ20,Back!$M$17:$N$23,2,0)","v":"#N/A"},{"$f":"+VLOOKUP('BASE DE RESPUESTAS'!AR20,Back!$M$17:$N$23,2,0)","v":"#N/A"},{"$f":"+VLOOKUP('BASE DE RESPUESTAS'!AS20,Back!$M$17:$N$23,2,0)","v":"#N/A"},{"$f":"+VLOOKUP('BASE DE RESPUESTAS'!AT20,Back!$M$17:$N$23,2,0)","v":"#N/A"},{"$f":"+VLOOKUP('BASE DE RESPUESTAS'!AU20,Back!$M$17:$N$23,2,0)","v":"#N/A"},{"$f":"+VLOOKUP('BASE DE RESPUESTAS'!AV20,Back!$M$17:$N$23,2,0)","v":"#N/A"},{"$f":"+VLOOKUP('BASE DE RESPUESTAS'!AW20,Back!$M$17:$N$23,2,0)","v":"#N/A"},{"$f":"+VLOOKUP('BASE DE RESPUESTAS'!AX20,Back!$M$17:$N$23,2,0)","v":"#N/A"},{"$f":"+VLOOKUP('BASE DE RESPUESTAS'!AY20,Back!$M$17:$N$23,2,0)","v":"#N/A"},{"$f":"+VLOOKUP('BASE DE RESPUESTAS'!AZ20,Back!$M$17:$N$23,2,0)","v":"#N/A"},{"$f":"+VLOOKUP('BASE DE RESPUESTAS'!BA20,Back!$M$17:$N$23,2,0)","v":"#N/A"},{"$f":"+VLOOKUP('BASE DE RESPUESTAS'!BB20,Back!$M$17:$N$23,2,0)","v":"#N/A"},{"$f":"+VLOOKUP('BASE DE RESPUESTAS'!BC20,Back!$M$17:$N$23,2,0)","v":"#N/A"},{"$f":"+VLOOKUP('BASE DE RESPUESTAS'!BD20,Back!$M$17:$N$23,2,0)","v":"#N/A"},{"$f":"+VLOOKUP('BASE DE RESPUESTAS'!BE20,Back!$M$17:$N$23,2,0)","v":"#N/A"}]
[null,null,null,null,15.0,"Observación en aula: Solicita ayuda cuando algo le puede ocasionar daño (Ej. alcanzar un objeto que puede caer sobre ella/él, usar las tijeras).",null,{"$f":"+VLOOKUP('BASE DE RESPUESTAS'!H21,Back!$M$17:$N$23,2,0)","v":"#N/A"},{"$f":"+VLOOKUP('BASE DE RESPUESTAS'!I21,Back!$M$17:$N$23,2,0)","v":"#N/A"},{"$f":"+VLOOKUP('BASE DE RESPUESTAS'!J21,Back!$M$17:$N$23,2,0)","v":"#N/A"},{"$f":"+VLOOKUP('BASE DE RESPUESTAS'!K21,Back!$M$17:$N$23,2,0)","v":"#N/A"},{"$f":"+VLOOKUP('BASE DE RESPUESTAS'!L21,Back!$M$17:$N$23,2,0)","v":"#N/A"},{"$f":"+VLOOKUP('BASE DE RESPUESTAS'!M21,Back!$M$17:$N$23,2,0)","v":"#N/A"},{"$f":"+VLOOKUP('BASE DE RESPUESTAS'!N21,Back!$M$17:$N$23,2,0)","v":"#N/A"},{"$f":"+VLOOKUP('BASE DE RESPUESTAS'!O21,Back!$M$17:$N$23,2,0)","v":"#N/A"},{"$f":"+VLOOKUP('BASE DE RESPUESTAS'!P21,Back!$M$17:$N$23,2,0)","v":"#N/A"},{"$f":"+VLOOKUP('BASE DE RESPUESTAS'!Q21,Back!$M$17:$N$23,2,0)","v":"#N/A"},{"$f":"+VLOOKUP('BASE DE RESPUESTAS'!R21,Back!$M$17:$N$23,2,0)","v":"#N/A"},{"$f":"+VLOOKUP('BASE DE RESPUESTAS'!S21,Back!$M$17:$N$23,2,0)","v":"#N/A"},{"$f":"+VLOOKUP('BASE DE RESPUESTAS'!T21,Back!$M$17:$N$23,2,0)","v":"#N/A"},{"$f":"+VLOOKUP('BASE DE RESPUESTAS'!U21,Back!$M$17:$N$23,2,0)","v":"#N/A"},{"$f":"+VLOOKUP('BASE DE RESPUESTAS'!V21,Back!$M$17:$N$23,2,0)","v":"#N/A"},{"$f":"+VLOOKUP('BASE DE RESPUESTAS'!W21,Back!$M$17:$N$23,2,0)","v":"#N/A"},{"$f":"+VLOOKUP('BASE DE RESPUESTAS'!X21,Back!$M$17:$N$23,2,0)","v":"#N/A"},{"$f":"+VLOOKUP('BASE DE RESPUESTAS'!Y21,Back!$M$17:$N$23,2,0)","v":"#N/A"},{"$f":"+VLOOKUP('BASE DE RESPUESTAS'!Z21,Back!$M$17:$N$23,2,0)","v":"#N/A"},{"$f":"+VLOOKUP('BASE DE RESPUESTAS'!AA21,Back!$M$17:$N$23,2,0)","v":"#N/A"},{"$f":"+VLOOKUP('BASE DE RESPUESTAS'!AB21,Back!$M$17:$N$23,2,0)","v":"#N/A"},{"$f":"+VLOOKUP('BASE DE RESPUESTAS'!AC21,Back!$M$17:$N$23,2,0)","v":"#N/A"},{"$f":"+VLOOKUP('BASE DE RESPUESTAS'!AD21,Back!$M$17:$N$23,2,0)","v":"#N/A"},{"$f":"+VLOOKUP('BASE DE RESPUESTAS'!AE21,Back!$M$17:$N$23,2,0)","v":"#N/A"},{"$f":"+VLOOKUP('BASE DE RESPUESTAS'!AF21,Back!$M$17:$N$23,2,0)","v":"#N/A"},{"$f":"+VLOOKUP('BASE DE RESPUESTAS'!AG21,Back!$M$17:$N$23,2,0)","v":"#N/A"},{"$f":"+VLOOKUP('BASE DE RESPUESTAS'!AH21,Back!$M$17:$N$23,2,0)","v":"#N/A"},{"$f":"+VLOOKUP('BASE DE RESPUESTAS'!AI21,Back!$M$17:$N$23,2,0)","v":"#N/A"},{"$f":"+VLOOKUP('BASE DE RESPUESTAS'!AJ21,Back!$M$17:$N$23,2,0)","v":"#N/A"},{"$f":"+VLOOKUP('BASE DE RESPUESTAS'!AK21,Back!$M$17:$N$23,2,0)","v":"#N/A"},{"$f":"+VLOOKUP('BASE DE RESPUESTAS'!AL21,Back!$M$17:$N$23,2,0)","v":"#N/A"},{"$f":"+VLOOKUP('BASE DE RESPUESTAS'!AM21,Back!$M$17:$N$23,2,0)","v":"#N/A"},{"$f":"+VLOOKUP('BASE DE RESPUESTAS'!AN21,Back!$M$17:$N$23,2,0)","v":"#N/A"},{"$f":"+VLOOKUP('BASE DE RESPUESTAS'!AO21,Back!$M$17:$N$23,2,0)","v":"#N/A"},{"$f":"+VLOOKUP('BASE DE RESPUESTAS'!AP21,Back!$M$17:$N$23,2,0)","v":"#N/A"},{"$f":"+VLOOKUP('BASE DE RESPUESTAS'!AQ21,Back!$M$17:$N$23,2,0)","v":"#N/A"},{"$f":"+VLOOKUP('BASE DE RESPUESTAS'!AR21,Back!$M$17:$N$23,2,0)","v":"#N/A"},{"$f":"+VLOOKUP('BASE DE RESPUESTAS'!AS21,Back!$M$17:$N$23,2,0)","v":"#N/A"},{"$f":"+VLOOKUP('BASE DE RESPUESTAS'!AT21,Back!$M$17:$N$23,2,0)","v":"#N/A"},{"$f":"+VLOOKUP('BASE DE RESPUESTAS'!AU21,Back!$M$17:$N$23,2,0)","v":"#N/A"},{"$f":"+VLOOKUP('BASE DE RESPUESTAS'!AV21,Back!$M$17:$N$23,2,0)","v":"#N/A"},{"$f":"+VLOOKUP('BASE DE RESPUESTAS'!AW21,Back!$M$17:$N$23,2,0)","v":"#N/A"},{"$f":"+VLOOKUP('BASE DE RESPUESTAS'!AX21,Back!$M$17:$N$23,2,0)","v":"#N/A"},{"$f":"+VLOOKUP('BASE DE RESPUESTAS'!AY21,Back!$M$17:$N$23,2,0)","v":"#N/A"},{"$f":"+VLOOKUP('BASE DE RESPUESTAS'!AZ21,Back!$M$17:$N$23,2,0)","v":"#N/A"},{"$f":"+VLOOKUP('BASE DE RESPUESTAS'!BA21,Back!$M$17:$N$23,2,0)","v":"#N/A"},{"$f":"+VLOOKUP('BASE DE RESPUESTAS'!BB21,Back!$M$17:$N$23,2,0)","v":"#N/A"},{"$f":"+VLOOKUP('BASE DE RESPUESTAS'!BC21,Back!$M$17:$N$23,2,0)","v":"#N/A"},{"$f":"+VLOOKUP('BASE DE RESPUESTAS'!BD21,Back!$M$17:$N$23,2,0)","v":"#N/A"},{"$f":"+VLOOKUP('BASE DE RESPUESTAS'!BE21,Back!$M$17:$N$23,2,0)","v":"#N/A"}]
[null,"HSE","Regulación Emocional","La niña o el niño regula su conducta con apoyo de una persona adulta.",16.0,"Observación en aula: Espera su turno pacientemente.",null,{"$f":"+VLOOKUP('BASE DE RESPUESTAS'!H22,Back!$M$17:$N$23,2,0)","v":"#N/A"},{"$f":"+VLOOKUP('BASE DE RESPUESTAS'!I22,Back!$M$17:$N$23,2,0)","v":"#N/A"},{"$f":"+VLOOKUP('BASE DE RESPUESTAS'!J22,Back!$M$17:$N$23,2,0)","v":"#N/A"},{"$f":"+VLOOKUP('BASE DE RESPUESTAS'!K22,Back!$M$17:$N$23,2,0)","v":"#N/A"},{"$f":"+VLOOKUP('BASE DE RESPUESTAS'!L22,Back!$M$17:$N$23,2,0)","v":"#N/A"},{"$f":"+VLOOKUP('BASE DE RESPUESTAS'!M22,Back!$M$17:$N$23,2,0)","v":"#N/A"},{"$f":"+VLOOKUP('BASE DE RESPUESTAS'!N22,Back!$M$17:$N$23,2,0)","v":"#N/A"},{"$f":"+VLOOKUP('BASE DE RESPUESTAS'!O22,Back!$M$17:$N$23,2,0)","v":"#N/A"},{"$f":"+VLOOKUP('BASE DE RESPUESTAS'!P22,Back!$M$17:$N$23,2,0)","v":"#N/A"},{"$f":"+VLOOKUP('BASE DE RESPUESTAS'!Q22,Back!$M$17:$N$23,2,0)","v":"#N/A"},{"$f":"+VLOOKUP('BASE DE RESPUESTAS'!R22,Back!$M$17:$N$23,2,0)","v":"#N/A"},{"$f":"+VLOOKUP('BASE DE RESPUESTAS'!S22,Back!$M$17:$N$23,2,0)","v":"#N/A"},{"$f":"+VLOOKUP('BASE DE RESPUESTAS'!T22,Back!$M$17:$N$23,2,0)","v":"#N/A"},{"$f":"+VLOOKUP('BASE DE RESPUESTAS'!U22,Back!$M$17:$N$23,2,0)","v":"#N/A"},{"$f":"+VLOOKUP('BASE DE RESPUESTAS'!V22,Back!$M$17:$N$23,2,0)","v":"#N/A"},{"$f":"+VLOOKUP('BASE DE RESPUESTAS'!W22,Back!$M$17:$N$23,2,0)","v":"#N/A"},{"$f":"+VLOOKUP('BASE DE RESPUESTAS'!X22,Back!$M$17:$N$23,2,0)","v":"#N/A"},{"$f":"+VLOOKUP('BASE DE RESPUESTAS'!Y22,Back!$M$17:$N$23,2,0)","v":"#N/A"},{"$f":"+VLOOKUP('BASE DE RESPUESTAS'!Z22,Back!$M$17:$N$23,2,0)","v":"#N/A"},{"$f":"+VLOOKUP('BASE DE RESPUESTAS'!AA22,Back!$M$17:$N$23,2,0)","v":"#N/A"},{"$f":"+VLOOKUP('BASE DE RESPUESTAS'!AB22,Back!$M$17:$N$23,2,0)","v":"#N/A"},{"$f":"+VLOOKUP('BASE DE RESPUESTAS'!AC22,Back!$M$17:$N$23,2,0)","v":"#N/A"},{"$f":"+VLOOKUP('BASE DE RESPUESTAS'!AD22,Back!$M$17:$N$23,2,0)","v":"#N/A"},{"$f":"+VLOOKUP('BASE DE RESPUESTAS'!AE22,Back!$M$17:$N$23,2,0)","v":"#N/A"},{"$f":"+VLOOKUP('BASE DE RESPUESTAS'!AF22,Back!$M$17:$N$23,2,0)","v":"#N/A"},{"$f":"+VLOOKUP('BASE DE RESPUESTAS'!AG22,Back!$M$17:$N$23,2,0)","v":"#N/A"},{"$f":"+VLOOKUP('BASE DE RESPUESTAS'!AH22,Back!$M$17:$N$23,2,0)","v":"#N/A"},{"$f":"+VLOOKUP('BASE DE RESPUESTAS'!AI22,Back!$M$17:$N$23,2,0)","v":"#N/A"},{"$f":"+VLOOKUP('BASE DE RESPUESTAS'!AJ22,Back!$M$17:$N$23,2,0)","v":"#N/A"},{"$f":"+VLOOKUP('BASE DE RESPUESTAS'!AK22,Back!$M$17:$N$23,2,0)","v":"#N/A"},{"$f":"+VLOOKUP('BASE DE RESPUESTAS'!AL22,Back!$M$17:$N$23,2,0)","v":"#N/A"},{"$f":"+VLOOKUP('BASE DE RESPUESTAS'!AM22,Back!$M$17:$N$23,2,0)","v":"#N/A"},{"$f":"+VLOOKUP('BASE DE RESPUESTAS'!AN22,Back!$M$17:$N$23,2,0)","v":"#N/A"},{"$f":"+VLOOKUP('BASE DE RESPUESTAS'!AO22,Back!$M$17:$N$23,2,0)","v":"#N/A"},{"$f":"+VLOOKUP('BASE DE RESPUESTAS'!AP22,Back!$M$17:$N$23,2,0)","v":"#N/A"},{"$f":"+VLOOKUP('BASE DE RESPUESTAS'!AQ22,Back!$M$17:$N$23,2,0)","v":"#N/A"},{"$f":"+VLOOKUP('BASE DE RESPUESTAS'!AR22,Back!$M$17:$N$23,2,0)","v":"#N/A"},{"$f":"+VLOOKUP('BASE DE RESPUESTAS'!AS22,Back!$M$17:$N$23,2,0)","v":"#N/A"},{"$f":"+VLOOKUP('BASE DE RESPUESTAS'!AT22,Back!$M$17:$N$23,2,0)","v":"#N/A"},{"$f":"+VLOOKUP('BASE DE RESPUESTAS'!AU22,Back!$M$17:$N$23,2,0)","v":"#N/A"},{"$f":"+VLOOKUP('BASE DE RESPUESTAS'!AV22,Back!$M$17:$N$23,2,0)","v":"#N/A"},{"$f":"+VLOOKUP('BASE DE RESPUESTAS'!AW22,Back!$M$17:$N$23,2,0)","v":"#N/A"},{"$f":"+VLOOKUP('BASE DE RESPUESTAS'!AX22,Back!$M$17:$N$23,2,0)","v":"#N/A"},{"$f":"+VLOOKUP('BASE DE RESPUESTAS'!AY22,Back!$M$17:$N$23,2,0)","v":"#N/A"},{"$f":"+VLOOKUP('BASE DE RESPUESTAS'!AZ22,Back!$M$17:$N$23,2,0)","v":"#N/A"},{"$f":"+VLOOKUP('BASE DE RESPUESTAS'!BA22,Back!$M$17:$N$23,2,0)","v":"#N/A"},{"$f":"+VLOOKUP('BASE DE RESPUESTAS'!BB22,Back!$M$17:$N$23,2,0)","v":"#N/A"},{"$f":"+VLOOKUP('BASE DE RESPUESTAS'!BC22,Back!$M$17:$N$23,2,0)","v":"#N/A"},{"$f":"+VLOOKUP('BASE DE RESPUESTAS'!BD22,Back!$M$17:$N$23,2,0)","v":"#N/A"},{"$f":"+VLOOKUP('BASE DE RESPUESTAS'!BE22,Back!$M$17:$N$23,2,0)","v":"#N/A"}]
[null,null,null,null,17.0,"Observación en aula: Se mantiene en silencio cuando se le pide.",null,{"$f":"+VLOOKUP('BASE DE RESPUESTAS'!H23,Back!$M$17:$N$23,2,0)","v":"#N/A"},{"$f":"+VLOOKUP('BASE DE RESPUESTAS'!I23,Back!$M$17:$N$23,2,0)","v":"#N/A"},{"$f":"+VLOOKUP('BASE DE RESPUESTAS'!J23,Back!$M$17:$N$23,2,0)","v":"#N/A"},{"$f":"+VLOOKUP('BASE DE RESPUESTAS'!K23,Back!$M$17:$N$23,2,0)","v":"#N/A"},{"$f":"+VLOOKUP('BASE DE RESPUESTAS'!L23,Back!$M$17:$N$23,2,0)","v":"#N/A"},{"$f":"+VLOOKUP('BASE DE RESPUESTAS'!M23,Back!$M$17:$N$23,2,0)","v":"#N/A"},{"$f":"+VLOOKUP('BASE DE RESPUESTAS'!N23,Back!$M$17:$N$23,2,0)","v":"#N/A"},{"$f":"+VLOOKUP('BASE DE RESPUESTAS'!O23,Back!$M$17:$N$23,2,0)","v":"#N/A"},{"$f":"+VLOOKUP('BASE DE RESPUESTAS'!P23,Back!$M$17:$N$23,2,0)","v":"#N/A"},{"$f":"+VLOOKUP('BASE DE RESPUESTAS'!Q23,Back!$M$17:$N$23,2,0)","v":"#N/A"},{"$f":"+VLOOKUP('BASE DE RESPUESTAS'!R23,Back!$M$17:$N$23,2,0)","v":"#N/A"},{"$f":"+VLOOKUP('BASE DE RESPUESTAS'!S23,Back!$M$17:$N$23,2,0)","v":"#N/A"},{"$f":"+VLOOKUP('BASE DE RESPUESTAS'!T23,Back!$M$17:$N$23,2,0)","v":"#N/A"},{"$f":"+VLOOKUP('BASE DE RESPUESTAS'!U23,Back!$M$17:$N$23,2,0)","v":"#N/A"},{"$f":"+VLOOKUP('BASE DE RESPUESTAS'!V23,Back!$M$17:$N$23,2,0)","v":"#N/A"},{"$f":"+VLOOKUP('BASE DE RESPUESTAS'!W23,Back!$M$17:$N$23,2,0)","v":"#N/A"},{"$f":"+VLOOKUP('BASE DE RESPUESTAS'!X23,Back!$M$17:$N$23,2,0)","v":"#N/A"},{"$f":"+VLOOKUP('BASE DE RESPUESTAS'!Y23,Back!$M$17:$N$23,2,0)","v":"#N/A"},{"$f":"+VLOOKUP('BASE DE RESPUESTAS'!Z23,Back!$M$17:$N$23,2,0)","v":"#N/A"},{"$f":"+VLOOKUP('BASE DE RESPUESTAS'!AA23,Back!$M$17:$N$23,2,0)","v":"#N/A"},{"$f":"+VLOOKUP('BASE DE RESPUESTAS'!AB23,Back!$M$17:$N$23,2,0)","v":"#N/A"},{"$f":"+VLOOKUP('BASE DE RESPUESTAS'!AC23,Back!$M$17:$N$23,2,0)","v":"#N/A"},{"$f":"+VLOOKUP('BASE DE RESPUESTAS'!AD23,Back!$M$17:$N$23,2,0)","v":"#N/A"},{"$f":"+VLOOKUP('BASE DE RESPUESTAS'!AE23,Back!$M$17:$N$23,2,0)","v":"#N/A"},{"$f":"+VLOOKUP('BASE DE RESPUESTAS'!AF23,Back!$M$17:$N$23,2,0)","v":"#N/A"},{"$f":"+VLOOKUP('BASE DE RESPUESTAS'!AG23,Back!$M$17:$N$23,2,0)","v":"#N/A"},{"$f":"+VLOOKUP('BASE DE RESPUESTAS'!AH23,Back!$M$17:$N$23,2,0)","v":"#N/A"},{"$f":"+VLOOKUP('BASE DE RESPUESTAS'!AI23,Back!$M$17:$N$23,2,0)","v":"#N/A"},{"$f":"+VLOOKUP('BASE DE RESPUESTAS'!AJ23,Back!$M$17:$N$23,2,0)","v":"#N/A"},{"$f":"+VLOOKUP('BASE DE RESPUESTAS'!AK23,Back!$M$17:$N$23,2,0)","v":"#N/A"},{"$f":"+VLOOKUP('BASE DE RESPUESTAS'!AL23,Back!$M$17:$N$23,2,0)","v":"#N/A"},{"$f":"+VLOOKUP('BASE DE RESPUESTAS'!AM23,Back!$M$17:$N$23,2,0)","v":"#N/A"},{"$f":"+VLOOKUP('BASE DE RESPUESTAS'!AN23,Back!$M$17:$N$23,2,0)","v":"#N/A"},{"$f":"+VLOOKUP('BASE DE RESPUESTAS'!AO23,Back!$M$17:$N$23,2,0)","v":"#N/A"},{"$f":"+VLOOKUP('BASE DE RESPUESTAS'!AP23,Back!$M$17:$N$23,2,0)","v":"#N/A"},{"$f":"+VLOOKUP('BASE DE RESPUESTAS'!AQ23,Back!$M$17:$N$23,2,0)","v":"#N/A"},{"$f":"+VLOOKUP('BASE DE RESPUESTAS'!AR23,Back!$M$17:$N$23,2,0)","v":"#N/A"},{"$f":"+VLOOKUP('BASE DE RESPUESTAS'!AS23,Back!$M$17:$N$23,2,0)","v":"#N/A"},{"$f":"+VLOOKUP('BASE DE RESPUESTAS'!AT23,Back!$M$17:$N$23,2,0)","v":"#N/A"},{"$f":"+VLOOKUP('BASE DE RESPUESTAS'!AU23,Back!$M$17:$N$23,2,0)","v":"#N/A"},{"$f":"+VLOOKUP('BASE DE RESPUESTAS'!AV23,Back!$M$17:$N$23,2,0)","v":"#N/A"},{"$f":"+VLOOKUP('BASE DE RESPUESTAS'!AW23,Back!$M$17:$N$23,2,0)","v":"#N/A"},{"$f":"+VLOOKUP('BASE DE RESPUESTAS'!AX23,Back!$M$17:$N$23,2,0)","v":"#N/A"},{"$f":"+VLOOKUP('BASE DE RESPUESTAS'!AY23,Back!$M$17:$N$23,2,0)","v":"#N/A"},{"$f":"+VLOOKUP('BASE DE RESPUESTAS'!AZ23,Back!$M$17:$N$23,2,0)","v":"#N/A"},{"$f":"+VLOOKUP('BASE DE RESPUESTAS'!BA23,Back!$M$17:$N$23,2,0)","v":"#N/A"},{"$f":"+VLOOKUP('BASE DE RESPUESTAS'!BB23,Back!$M$17:$N$23,2,0)","v":"#N/A"},{"$f":"+VLOOKUP('BASE DE RESPUESTAS'!BC23,Back!$M$17:$N$23,2,0)","v":"#N/A"},{"$f":"+VLOOKUP('BASE DE RESPUESTAS'!BD23,Back!$M$17:$N$23,2,0)","v":"#N/A"},{"$f":"+VLOOKUP('BASE DE RESPUESTAS'!BE23,Back!$M$17:$N$23,2,0)","v":"#N/A"}]
[null,"HSE","Creatividad","La niña o el niño usa diferentes objetos para jugar, asignándole una función diferente a la que le pertenece.",18.0,"Observación en aula: Asigna funciones diferentes a los objetos para jugar (Ej. usa una tela como capa, una silla como puerta, una caja como automóvil).",null,{"$f":"+VLOOKUP('BASE DE RESPUESTAS'!H24,Back!$M$17:$N$23,2,0)","v":"#N/A"},{"$f":"+VLOOKUP('BASE DE RESPUESTAS'!I24,Back!$M$17:$N$23,2,0)","v":"#N/A"},{"$f":"+VLOOKUP('BASE DE RESPUESTAS'!J24,Back!$M$17:$N$23,2,0)","v":"#N/A"},{"$f":"+VLOOKUP('BASE DE RESPUESTAS'!K24,Back!$M$17:$N$23,2,0)","v":"#N/A"},{"$f":"+VLOOKUP('BASE DE RESPUESTAS'!L24,Back!$M$17:$N$23,2,0)","v":"#N/A"},{"$f":"+VLOOKUP('BASE DE RESPUESTAS'!M24,Back!$M$17:$N$23,2,0)","v":"#N/A"},{"$f":"+VLOOKUP('BASE DE RESPUESTAS'!N24,Back!$M$17:$N$23,2,0)","v":"#N/A"},{"$f":"+VLOOKUP('BASE DE RESPUESTAS'!O24,Back!$M$17:$N$23,2,0)","v":"#N/A"},{"$f":"+VLOOKUP('BASE DE RESPUESTAS'!P24,Back!$M$17:$N$23,2,0)","v":"#N/A"},{"$f":"+VLOOKUP('BASE DE RESPUESTAS'!Q24,Back!$M$17:$N$23,2,0)","v":"#N/A"},{"$f":"+VLOOKUP('BASE DE RESPUESTAS'!R24,Back!$M$17:$N$23,2,0)","v":"#N/A"},{"$f":"+VLOOKUP('BASE DE RESPUESTAS'!S24,Back!$M$17:$N$23,2,0)","v":"#N/A"},{"$f":"+VLOOKUP('BASE DE RESPUESTAS'!T24,Back!$M$17:$N$23,2,0)","v":"#N/A"},{"$f":"+VLOOKUP('BASE DE RESPUESTAS'!U24,Back!$M$17:$N$23,2,0)","v":"#N/A"},{"$f":"+VLOOKUP('BASE DE RESPUESTAS'!V24,Back!$M$17:$N$23,2,0)","v":"#N/A"},{"$f":"+VLOOKUP('BASE DE RESPUESTAS'!W24,Back!$M$17:$N$23,2,0)","v":"#N/A"},{"$f":"+VLOOKUP('BASE DE RESPUESTAS'!X24,Back!$M$17:$N$23,2,0)","v":"#N/A"},{"$f":"+VLOOKUP('BASE DE RESPUESTAS'!Y24,Back!$M$17:$N$23,2,0)","v":"#N/A"},{"$f":"+VLOOKUP('BASE DE RESPUESTAS'!Z24,Back!$M$17:$N$23,2,0)","v":"#N/A"},{"$f":"+VLOOKUP('BASE DE RESPUESTAS'!AA24,Back!$M$17:$N$23,2,0)","v":"#N/A"},{"$f":"+VLOOKUP('BASE DE RESPUESTAS'!AB24,Back!$M$17:$N$23,2,0)","v":"#N/A"},{"$f":"+VLOOKUP('BASE DE RESPUESTAS'!AC24,Back!$M$17:$N$23,2,0)","v":"#N/A"},{"$f":"+VLOOKUP('BASE DE RESPUESTAS'!AD24,Back!$M$17:$N$23,2,0)","v":"#N/A"},{"$f":"+VLOOKUP('BASE DE RESPUESTAS'!AE24,Back!$M$17:$N$23,2,0)","v":"#N/A"},{"$f":"+VLOOKUP('BASE DE RESPUESTAS'!AF24,Back!$M$17:$N$23,2,0)","v":"#N/A"},{"$f":"+VLOOKUP('BASE DE RESPUESTAS'!AG24,Back!$M$17:$N$23,2,0)","v":"#N/A"},{"$f":"+VLOOKUP('BASE DE RESPUESTAS'!AH24,Back!$M$17:$N$23,2,0)","v":"#N/A"},{"$f":"+VLOOKUP('BASE DE RESPUESTAS'!AI24,Back!$M$17:$N$23,2,0)","v":"#N/A"},{"$f":"+VLOOKUP('BASE DE RESPUESTAS'!AJ24,Back!$M$17:$N$23,2,0)","v":"#N/A"},{"$f":"+VLOOKUP('BASE DE RESPUESTAS'!AK24,Back!$M$17:$N$23,2,0)","v":"#N/A"},{"$f":"+VLOOKUP('BASE DE RESPUESTAS'!AL24,Back!$M$17:$N$23,2,0)","v":"#N/A"},{"$f":"+VLOOKUP('BASE DE RESPUESTAS'!AM24,Back!$M$17:$N$23,2,0)","v":"#N/A"},{"$f":"+VLOOKUP('BASE DE RESPUESTAS'!AN24,Back!$M$17:$N$23,2,0)","v":"#N/A"},{"$f":"+VLOOKUP('BASE DE RESPUESTAS'!AO24,Back!$M$17:$N$23,2,0)","v":"#N/A"},{"$f":"+VLOOKUP('BASE DE RESPUESTAS'!AP24,Back!$M$17:$N$23,2,0)","v":"#N/A"},{"$f":"+VLOOKUP('BASE DE RESPUESTAS'!AQ24,Back!$M$17:$N$23,2,0)","v":"#N/A"},{"$f":"+VLOOKUP('BASE DE RESPUESTAS'!AR24,Back!$M$17:$N$23,2,0)","v":"#N/A"},{"$f":"+VLOOKUP('BASE DE RESPUESTAS'!AS24,Back!$M$17:$N$23,2,0)","v":"#N/A"},{"$f":"+VLOOKUP('BASE DE RESPUESTAS'!AT24,Back!$M$17:$N$23,2,0)","v":"#N/A"},{"$f":"+VLOOKUP('BASE DE RESPUESTAS'!AU24,Back!$M$17:$N$23,2,0)","v":"#N/A"},{"$f":"+VLOOKUP('BASE DE RESPUESTAS'!AV24,Back!$M$17:$N$23,2,0)","v":"#N/A"},{"$f":"+VLOOKUP('BASE DE RESPUESTAS'!AW24,Back!$M$17:$N$23,2,0)","v":"#N/A"},{"$f":"+VLOOKUP('BASE DE RESPUESTAS'!AX24,Back!$M$17:$N$23,2,0)","v":"#N/A"},{"$f":"+VLOOKUP('BASE DE RESPUESTAS'!AY24,Back!$M$17:$N$23,2,0)","v":"#N/A"},{"$f":"+VLOOKUP('BASE DE RESPUESTAS'!AZ24,Back!$M$17:$N$23,2,0)","v":"#N/A"},{"$f":"+VLOOKUP('BASE DE RESPUESTAS'!BA24,Back!$M$17:$N$23,2,0)","v":"#N/A"},{"$f":"+VLOOKUP('BASE DE RESPUESTAS'!BB24,Back!$M$17:$N$23,2,0)","v":"#N/A"},{"$f":"+VLOOKUP('BASE DE RESPUESTAS'!BC24,Back!$M$17:$N$23,2,0)","v":"#N/A"},{"$f":"+VLOOKUP('BASE DE RESPUESTAS'!BD24,Back!$M$17:$N$23,2,0)","v":"#N/A"},{"$f":"+VLOOKUP('BASE DE RESPUESTAS'!BE24,Back!$M$17:$N$23,2,0)","v":"#N/A"}]
[null,null,null,"La niña o el niño propone diferentes soluciones ante un problema.",19.0,"Cartilla N°5: “¿Cómo puede alcanzar el niño su pelota?”",null,{"$f":"+VLOOKUP('BASE DE RESPUESTAS'!H25,Back!$M$17:$N$23,2,0)","v":"#N/A"},{"$f":"+VLOOKUP('BASE DE RESPUESTAS'!I25,Back!$M$17:$N$23,2,0)","v":"#N/A"},{"$f":"+VLOOKUP('BASE DE RESPUESTAS'!J25,Back!$M$17:$N$23,2,0)","v":"#N/A"},{"$f":"+VLOOKUP('BASE DE RESPUESTAS'!K25,Back!$M$17:$N$23,2,0)","v":"#N/A"},{"$f":"+VLOOKUP('BASE DE RESPUESTAS'!L25,Back!$M$17:$N$23,2,0)","v":"#N/A"},{"$f":"+VLOOKUP('BASE DE RESPUESTAS'!M25,Back!$M$17:$N$23,2,0)","v":"#N/A"},{"$f":"+VLOOKUP('BASE DE RESPUESTAS'!N25,Back!$M$17:$N$23,2,0)","v":"#N/A"},{"$f":"+VLOOKUP('BASE DE RESPUESTAS'!O25,Back!$M$17:$N$23,2,0)","v":"#N/A"},{"$f":"+VLOOKUP('BASE DE RESPUESTAS'!P25,Back!$M$17:$N$23,2,0)","v":"#N/A"},{"$f":"+VLOOKUP('BASE DE RESPUESTAS'!Q25,Back!$M$17:$N$23,2,0)","v":"#N/A"},{"$f":"+VLOOKUP('BASE DE RESPUESTAS'!R25,Back!$M$17:$N$23,2,0)","v":"#N/A"},{"$f":"+VLOOKUP('BASE DE RESPUESTAS'!S25,Back!$M$17:$N$23,2,0)","v":"#N/A"},{"$f":"+VLOOKUP('BASE DE RESPUESTAS'!T25,Back!$M$17:$N$23,2,0)","v":"#N/A"},{"$f":"+VLOOKUP('BASE DE RESPUESTAS'!U25,Back!$M$17:$N$23,2,0)","v":"#N/A"},{"$f":"+VLOOKUP('BASE DE RESPUESTAS'!V25,Back!$M$17:$N$23,2,0)","v":"#N/A"},{"$f":"+VLOOKUP('BASE DE RESPUESTAS'!W25,Back!$M$17:$N$23,2,0)","v":"#N/A"},{"$f":"+VLOOKUP('BASE DE RESPUESTAS'!X25,Back!$M$17:$N$23,2,0)","v":"#N/A"},{"$f":"+VLOOKUP('BASE DE RESPUESTAS'!Y25,Back!$M$17:$N$23,2,0)","v":"#N/A"},{"$f":"+VLOOKUP('BASE DE RESPUESTAS'!Z25,Back!$M$17:$N$23,2,0)","v":"#N/A"},{"$f":"+VLOOKUP('BASE DE RESPUESTAS'!AA25,Back!$M$17:$N$23,2,0)","v":"#N/A"},{"$f":"+VLOOKUP('BASE DE RESPUESTAS'!AB25,Back!$M$17:$N$23,2,0)","v":"#N/A"},{"$f":"+VLOOKUP('BASE DE RESPUESTAS'!AC25,Back!$M$17:$N$23,2,0)","v":"#N/A"},{"$f":"+VLOOKUP('BASE DE RESPUESTAS'!AD25,Back!$M$17:$N$23,2,0)","v":"#N/A"},{"$f":"+VLOOKUP('BASE DE RESPUESTAS'!AE25,Back!$M$17:$N$23,2,0)","v":"#N/A"},{"$f":"+VLOOKUP('BASE DE RESPUESTAS'!AF25,Back!$M$17:$N$23,2,0)","v":"#N/A"},{"$f":"+VLOOKUP('BASE DE RESPUESTAS'!AG25,Back!$M$17:$N$23,2,0)","v":"#N/A"},{"$f":"+VLOOKUP('BASE DE RESPUESTAS'!AH25,Back!$M$17:$N$23,2,0)","v":"#N/A"},{"$f":"+VLOOKUP('BASE DE RESPUESTAS'!AI25,Back!$M$17:$N$23,2,0)","v":"#N/A"},{"$f":"+VLOOKUP('BASE DE RESPUESTAS'!AJ25,Back!$M$17:$N$23,2,0)","v":"#N/A"},{"$f":"+VLOOKUP('BASE DE RESPUESTAS'!AK25,Back!$M$17:$N$23,2,0)","v":"#N/A"},{"$f":"+VLOOKUP('BASE DE RESPUESTAS'!AL25,Back!$M$17:$N$23,2,0)","v":"#N/A"},{"$f":"+VLOOKUP('BASE DE RESPUESTAS'!AM25,Back!$M$17:$N$23,2,0)","v":"#N/A"},{"$f":"+VLOOKUP('BASE DE RESPUESTAS'!AN25,Back!$M$17:$N$23,2,0)","v":"#N/A"},{"$f":"+VLOOKUP('BASE DE RESPUESTAS'!AO25,Back!$M$17:$N$23,2,0)","v":"#N/A"},{"$f":"+VLOOKUP('BASE DE RESPUESTAS'!AP25,Back!$M$17:$N$23,2,0)","v":"#N/A"},{"$f":"+VLOOKUP('BASE DE RESPUESTAS'!AQ25,Back!$M$17:$N$23,2,0)","v":"#N/A"},{"$f":"+VLOOKUP('BASE DE RESPUESTAS'!AR25,Back!$M$17:$N$23,2,0)","v":"#N/A"},{"$f":"+VLOOKUP('BASE DE RESPUESTAS'!AS25,Back!$M$17:$N$23,2,0)","v":"#N/A"},{"$f":"+VLOOKUP('BASE DE RESPUESTAS'!AT25,Back!$M$17:$N$23,2,0)","v":"#N/A"},{"$f":"+VLOOKUP('BASE DE RESPUESTAS'!AU25,Back!$M$17:$N$23,2,0)","v":"#N/A"},{"$f":"+VLOOKUP('BASE DE RESPUESTAS'!AV25,Back!$M$17:$N$23,2,0)","v":"#N/A"},{"$f":"+VLOOKUP('BASE DE RESPUESTAS'!AW25,Back!$M$17:$N$23,2,0)","v":"#N/A"},{"$f":"+VLOOKUP('BASE DE RESPUESTAS'!AX25,Back!$M$17:$N$23,2,0)","v":"#N/A"},{"$f":"+VLOOKUP('BASE DE RESPUESTAS'!AY25,Back!$M$17:$N$23,2,0)","v":"#N/A"},{"$f":"+VLOOKUP('BASE DE RESPUESTAS'!AZ25,Back!$M$17:$N$23,2,0)","v":"#N/A"},{"$f":"+VLOOKUP('BASE DE RESPUESTAS'!BA25,Back!$M$17:$N$23,2,0)","v":"#N/A"},{"$f":"+VLOOKUP('BASE DE RESPUESTAS'!BB25,Back!$M$17:$N$23,2,0)","v":"#N/A"},{"$f":"+VLOOKUP('BASE DE RESPUESTAS'!BC25,Back!$M$17:$N$23,2,0)","v":"#N/A"},{"$f":"+VLOOKUP('BASE DE RESPUESTAS'!BD25,Back!$M$17:$N$23,2,0)","v":"#N/A"},{"$f":"+VLOOKUP('BASE DE RESPUESTAS'!BE25,Back!$M$17:$N$23,2,0)","v":"#N/A"}]
[null,"HSE","Toma de decisiones responsables","La niña o el niño toma decisiones de acuerdo a su edad o nivel de desarrollo alcanzado.",20.0,"Observación en aula: Elige con qué juguete prefiere jugar en la hora del juego libre en los sectores.",null,{"$f":"+VLOOKUP('BASE DE RESPUESTAS'!H26,Back!$M$17:$N$23,2,0)","v":"#N/A"},{"$f":"+VLOOKUP('BASE DE RESPUESTAS'!I26,Back!$M$17:$N$23,2,0)","v":"#N/A"},{"$f":"+VLOOKUP('BASE DE RESPUESTAS'!J26,Back!$M$17:$N$23,2,0)","v":"#N/A"},{"$f":"+VLOOKUP('BASE DE RESPUESTAS'!K26,Back!$M$17:$N$23,2,0)","v":"#N/A"},{"$f":"+VLOOKUP('BASE DE RESPUESTAS'!L26,Back!$M$17:$N$23,2,0)","v":"#N/A"},{"$f":"+VLOOKUP('BASE DE RESPUESTAS'!M26,Back!$M$17:$N$23,2,0)","v":"#N/A"},{"$f":"+VLOOKUP('BASE DE RESPUESTAS'!N26,Back!$M$17:$N$23,2,0)","v":"#N/A"},{"$f":"+VLOOKUP('BASE DE RESPUESTAS'!O26,Back!$M$17:$N$23,2,0)","v":"#N/A"},{"$f":"+VLOOKUP('BASE DE RESPUESTAS'!P26,Back!$M$17:$N$23,2,0)","v":"#N/A"},{"$f":"+VLOOKUP('BASE DE RESPUESTAS'!Q26,Back!$M$17:$N$23,2,0)","v":"#N/A"},{"$f":"+VLOOKUP('BASE DE RESPUESTAS'!R26,Back!$M$17:$N$23,2,0)","v":"#N/A"},{"$f":"+VLOOKUP('BASE DE RESPUESTAS'!S26,Back!$M$17:$N$23,2,0)","v":"#N/A"},{"$f":"+VLOOKUP('BASE DE RESPUESTAS'!T26,Back!$M$17:$N$23,2,0)","v":"#N/A"},{"$f":"+VLOOKUP('BASE DE RESPUESTAS'!U26,Back!$M$17:$N$23,2,0)","v":"#N/A"},{"$f":"+VLOOKUP('BASE DE RESPUESTAS'!V26,Back!$M$17:$N$23,2,0)","v":"#N/A"},{"$f":"+VLOOKUP('BASE DE RESPUESTAS'!W26,Back!$M$17:$N$23,2,0)","v":"#N/A"},{"$f":"+VLOOKUP('BASE DE RESPUESTAS'!X26,Back!$M$17:$N$23,2,0)","v":"#N/A"},{"$f":"+VLOOKUP('BASE DE RESPUESTAS'!Y26,Back!$M$17:$N$23,2,0)","v":"#N/A"},{"$f":"+VLOOKUP('BASE DE RESPUESTAS'!Z26,Back!$M$17:$N$23,2,0)","v":"#N/A"},{"$f":"+VLOOKUP('BASE DE RESPUESTAS'!AA26,Back!$M$17:$N$23,2,0)","v":"#N/A"},{"$f":"+VLOOKUP('BASE DE RESPUESTAS'!AB26,Back!$M$17:$N$23,2,0)","v":"#N/A"},{"$f":"+VLOOKUP('BASE DE RESPUESTAS'!AC26,Back!$M$17:$N$23,2,0)","v":"#N/A"},{"$f":"+VLOOKUP('BASE DE RESPUESTAS'!AD26,Back!$M$17:$N$23,2,0)","v":"#N/A"},{"$f":"+VLOOKUP('BASE DE RESPUESTAS'!AE26,Back!$M$17:$N$23,2,0)","v":"#N/A"},{"$f":"+VLOOKUP('BASE DE RESPUESTAS'!AF26,Back!$M$17:$N$23,2,0)","v":"#N/A"},{"$f":"+VLOOKUP('BASE DE RESPUESTAS'!AG26,Back!$M$17:$N$23,2,0)","v":"#N/A"},{"$f":"+VLOOKUP('BASE DE RESPUESTAS'!AH26,Back!$M$17:$N$23,2,0)","v":"#N/A"},{"$f":"+VLOOKUP('BASE DE RESPUESTAS'!AI26,Back!$M$17:$N$23,2,0)","v":"#N/A"},{"$f":"+VLOOKUP('BASE DE RESPUESTAS'!AJ26,Back!$M$17:$N$23,2,0)","v":"#N/A"},{"$f":"+VLOOKUP('BASE DE RESPUESTAS'!AK26,Back!$M$17:$N$23,2,0)","v":"#N/A"},{"$f":"+VLOOKUP('BASE DE RESPUESTAS'!AL26,Back!$M$17:$N$23,2,0)","v":"#N/A"},{"$f":"+VLOOKUP('BASE DE RESPUESTAS'!AM26,Back!$M$17:$N$23,2,0)","v":"#N/A"},{"$f":"+VLOOKUP('BASE DE RESPUESTAS'!AN26,Back!$M$17:$N$23,2,0)","v":"#N/A"},{"$f":"+VLOOKUP('BASE DE RESPUESTAS'!AO26,Back!$M$17:$N$23,2,0)","v":"#N/A"},{"$f":"+VLOOKUP('BASE DE RESPUESTAS'!AP26,Back!$M$17:$N$23,2,0)","v":"#N/A"},{"$f":"+VLOOKUP('BASE DE RESPUESTAS'!AQ26,Back!$M$17:$N$23,2,0)","v":"#N/A"},{"$f":"+VLOOKUP('BASE DE RESPUESTAS'!AR26,Back!$M$17:$N$23,2,0)","v":"#N/A"},{"$f":"+VLOOKUP('BASE DE RESPUESTAS'!AS26,Back!$M$17:$N$23,2,0)","v":"#N/A"},{"$f":"+VLOOKUP('BASE DE RESPUESTAS'!AT26,Back!$M$17:$N$23,2,0)","v":"#N/A"},{"$f":"+VLOOKUP('BASE DE RESPUESTAS'!AU26,Back!$M$17:$N$23,2,0)","v":"#N/A"},{"$f":"+VLOOKUP('BASE DE RESPUESTAS'!AV26,Back!$M$17:$N$23,2,0)","v":"#N/A"},{"$f":"+VLOOKUP('BASE DE RESPUESTAS'!AW26,Back!$M$17:$N$23,2,0)","v":"#N/A"},{"$f":"+VLOOKUP('BASE DE RESPUESTAS'!AX26,Back!$M$17:$N$23,2,0)","v":"#N/A"},{"$f":"+VLOOKUP('BASE DE RESPUESTAS'!AY26,Back!$M$17:$N$23,2,0)","v":"#N/A"},{"$f":"+VLOOKUP('BASE DE RESPUESTAS'!AZ26,Back!$M$17:$N$23,2,0)","v":"#N/A"},{"$f":"+VLOOKUP('BASE DE RESPUESTAS'!BA26,Back!$M$17:$N$23,2,0)","v":"#N/A"},{"$f":"+VLOOKUP('BASE DE RESPUESTAS'!BB26,Back!$M$17:$N$23,2,0)","v":"#N/A"},{"$f":"+VLOOKUP('BASE DE RESPUESTAS'!BC26,Back!$M$17:$N$23,2,0)","v":"#N/A"},{"$f":"+VLOOKUP('BASE DE RESPUESTAS'!BD26,Back!$M$17:$N$23,2,0)","v":"#N/A"},{"$f":"+VLOOKUP('BASE DE RESPUESTAS'!BE26,Back!$M$17:$N$23,2,0)","v":"#N/A"}]
[null,"HSE","Comunicación Asertiva","La niña o el niño comunica lo que siente y piensa sin dañar a sus compañeras/os.",21.0,"Observación en aula: Pide lo que desea con amabilidad sin agredir usando \"por favor\" y/o \"gracias\".",null,{"$f":"+VLOOKUP('BASE DE RESPUESTAS'!H27,Back!$M$17:$N$23,2,0)","v":"#N/A"},{"$f":"+VLOOKUP('BASE DE RESPUESTAS'!I27,Back!$M$17:$N$23,2,0)","v":"#N/A"},{"$f":"+VLOOKUP('BASE DE RESPUESTAS'!J27,Back!$M$17:$N$23,2,0)","v":"#N/A"},{"$f":"+VLOOKUP('BASE DE RESPUESTAS'!K27,Back!$M$17:$N$23,2,0)","v":"#N/A"},{"$f":"+VLOOKUP('BASE DE RESPUESTAS'!L27,Back!$M$17:$N$23,2,0)","v":"#N/A"},{"$f":"+VLOOKUP('BASE DE RESPUESTAS'!M27,Back!$M$17:$N$23,2,0)","v":"#N/A"},{"$f":"+VLOOKUP('BASE DE RESPUESTAS'!N27,Back!$M$17:$N$23,2,0)","v":"#N/A"},{"$f":"+VLOOKUP('BASE DE RESPUESTAS'!O27,Back!$M$17:$N$23,2,0)","v":"#N/A"},{"$f":"+VLOOKUP('BASE DE RESPUESTAS'!P27,Back!$M$17:$N$23,2,0)","v":"#N/A"},{"$f":"+VLOOKUP('BASE DE RESPUESTAS'!Q27,Back!$M$17:$N$23,2,0)","v":"#N/A"},{"$f":"+VLOOKUP('BASE DE RESPUESTAS'!R27,Back!$M$17:$N$23,2,0)","v":"#N/A"},{"$f":"+VLOOKUP('BASE DE RESPUESTAS'!S27,Back!$M$17:$N$23,2,0)","v":"#N/A"},{"$f":"+VLOOKUP('BASE DE RESPUESTAS'!T27,Back!$M$17:$N$23,2,0)","v":"#N/A"},{"$f":"+VLOOKUP('BASE DE RESPUESTAS'!U27,Back!$M$17:$N$23,2,0)","v":"#N/A"},{"$f":"+VLOOKUP('BASE DE RESPUESTAS'!V27,Back!$M$17:$N$23,2,0)","v":"#N/A"},{"$f":"+VLOOKUP('BASE DE RESPUESTAS'!W27,Back!$M$17:$N$23,2,0)","v":"#N/A"},{"$f":"+VLOOKUP('BASE DE RESPUESTAS'!X27,Back!$M$17:$N$23,2,0)","v":"#N/A"},{"$f":"+VLOOKUP('BASE DE RESPUESTAS'!Y27,Back!$M$17:$N$23,2,0)","v":"#N/A"},{"$f":"+VLOOKUP('BASE DE RESPUESTAS'!Z27,Back!$M$17:$N$23,2,0)","v":"#N/A"},{"$f":"+VLOOKUP('BASE DE RESPUESTAS'!AA27,Back!$M$17:$N$23,2,0)","v":"#N/A"},{"$f":"+VLOOKUP('BASE DE RESPUESTAS'!AB27,Back!$M$17:$N$23,2,0)","v":"#N/A"},{"$f":"+VLOOKUP('BASE DE RESPUESTAS'!AC27,Back!$M$17:$N$23,2,0)","v":"#N/A"},{"$f":"+VLOOKUP('BASE DE RESPUESTAS'!AD27,Back!$M$17:$N$23,2,0)","v":"#N/A"},{"$f":"+VLOOKUP('BASE DE RESPUESTAS'!AE27,Back!$M$17:$N$23,2,0)","v":"#N/A"},{"$f":"+VLOOKUP('BASE DE RESPUESTAS'!AF27,Back!$M$17:$N$23,2,0)","v":"#N/A"},{"$f":"+VLOOKUP('BASE DE RESPUESTAS'!AG27,Back!$M$17:$N$23,2,0)","v":"#N/A"},{"$f":"+VLOOKUP('BASE DE RESPUESTAS'!AH27,Back!$M$17:$N$23,2,0)","v":"#N/A"},{"$f":"+VLOOKUP('BASE DE RESPUESTAS'!AI27,Back!$M$17:$N$23,2,0)","v":"#N/A"},{"$f":"+VLOOKUP('BASE DE RESPUESTAS'!AJ27,Back!$M$17:$N$23,2,0)","v":"#N/A"},{"$f":"+VLOOKUP('BASE DE RESPUESTAS'!AK27,Back!$M$17:$N$23,2,0)","v":"#N/A"},{"$f":"+VLOOKUP('BASE DE RESPUESTAS'!AL27,Back!$M$17:$N$23,2,0)","v":"#N/A"},{"$f":"+VLOOKUP('BASE DE RESPUESTAS'!AM27,Back!$M$17:$N$23,2,0)","v":"#N/A"},{"$f":"+VLOOKUP('BASE DE RESPUESTAS'!AN27,Back!$M$17:$N$23,2,0)","v":"#N/A"},{"$f":"+VLOOKUP('BASE DE RESPUESTAS'!AO27,Back!$M$17:$N$23,2,0)","v":"#N/A"},{"$f":"+VLOOKUP('BASE DE RESPUESTAS'!AP27,Back!$M$17:$N$23,2,0)","v":"#N/A"},{"$f":"+VLOOKUP('BASE DE RESPUESTAS'!AQ27,Back!$M$17:$N$23,2,0)","v":"#N/A"},{"$f":"+VLOOKUP('BASE DE RESPUESTAS'!AR27,Back!$M$17:$N$23,2,0)","v":"#N/A"},{"$f":"+VLOOKUP('BASE DE RESPUESTAS'!AS27,Back!$M$17:$N$23,2,0)","v":"#N/A"},{"$f":"+VLOOKUP('BASE DE RESPUESTAS'!AT27,Back!$M$17:$N$23,2,0)","v":"#N/A"},{"$f":"+VLOOKUP('BASE DE RESPUESTAS'!AU27,Back!$M$17:$N$23,2,0)","v":"#N/A"},{"$f":"+VLOOKUP('BASE DE RESPUESTAS'!AV27,Back!$M$17:$N$23,2,0)","v":"#N/A"},{"$f":"+VLOOKUP('BASE DE RESPUESTAS'!AW27,Back!$M$17:$N$23,2,0)","v":"#N/A"},{"$f":"+VLOOKUP('BASE DE RESPUESTAS'!AX27,Back!$M$17:$N$23,2,0)","v":"#N/A"},{"$f":"+VLOOKUP('BASE DE RESPUESTAS'!AY27,Back!$M$17:$N$23,2,0)","v":"#N/A"},{"$f":"+VLOOKUP('BASE DE RESPUESTAS'!AZ27,Back!$M$17:$N$23,2,0)","v":"#N/A"},{"$f":"+VLOOKUP('BASE DE RESPUESTAS'!BA27,Back!$M$17:$N$23,2,0)","v":"#N/A"},{"$f":"+VLOOKUP('BASE DE RESPUESTAS'!BB27,Back!$M$17:$N$23,2,0)","v":"#N/A"},{"$f":"+VLOOKUP('BASE DE RESPUESTAS'!BC27,Back!$M$17:$N$23,2,0)","v":"#N/A"},{"$f":"+VLOOKUP('BASE DE RESPUESTAS'!BD27,Back!$M$17:$N$23,2,0)","v":"#N/A"},{"$f":"+VLOOKUP('BASE DE RESPUESTAS'!BE27,Back!$M$17:$N$23,2,0)","v":"#N/A"}]
[null,"HSE","Trabajo en Equipo","La niña o el niño se integra con agrado en las actividades grupales.",22.0,"Observación en aula: Se muestra alegre cuando juega en grupo.",null,{"$f":"+VLOOKUP('BASE DE RESPUESTAS'!H28,Back!$M$17:$N$23,2,0)","v":"#N/A"},{"$f":"+VLOOKUP('BASE DE RESPUESTAS'!I28,Back!$M$17:$N$23,2,0)","v":"#N/A"},{"$f":"+VLOOKUP('BASE DE RESPUESTAS'!J28,Back!$M$17:$N$23,2,0)","v":"#N/A"},{"$f":"+VLOOKUP('BASE DE RESPUESTAS'!K28,Back!$M$17:$N$23,2,0)","v":"#N/A"},{"$f":"+VLOOKUP('BASE DE RESPUESTAS'!L28,Back!$M$17:$N$23,2,0)","v":"#N/A"},{"$f":"+VLOOKUP('BASE DE RESPUESTAS'!M28,Back!$M$17:$N$23,2,0)","v":"#N/A"},{"$f":"+VLOOKUP('BASE DE RESPUESTAS'!N28,Back!$M$17:$N$23,2,0)","v":"#N/A"},{"$f":"+VLOOKUP('BASE DE RESPUESTAS'!O28,Back!$M$17:$N$23,2,0)","v":"#N/A"},{"$f":"+VLOOKUP('BASE DE RESPUESTAS'!P28,Back!$M$17:$N$23,2,0)","v":"#N/A"},{"$f":"+VLOOKUP('BASE DE RESPUESTAS'!Q28,Back!$M$17:$N$23,2,0)","v":"#N/A"},{"$f":"+VLOOKUP('BASE DE RESPUESTAS'!R28,Back!$M$17:$N$23,2,0)","v":"#N/A"},{"$f":"+VLOOKUP('BASE DE RESPUESTAS'!S28,Back!$M$17:$N$23,2,0)","v":"#N/A"},{"$f":"+VLOOKUP('BASE DE RESPUESTAS'!T28,Back!$M$17:$N$23,2,0)","v":"#N/A"},{"$f":"+VLOOKUP('BASE DE RESPUESTAS'!U28,Back!$M$17:$N$23,2,0)","v":"#N/A"},{"$f":"+VLOOKUP('BASE DE RESPUESTAS'!V28,Back!$M$17:$N$23,2,0)","v":"#N/A"},{"$f":"+VLOOKUP('BASE DE RESPUESTAS'!W28,Back!$M$17:$N$23,2,0)","v":"#N/A"},{"$f":"+VLOOKUP('BASE DE RESPUESTAS'!X28,Back!$M$17:$N$23,2,0)","v":"#N/A"},{"$f":"+VLOOKUP('BASE DE RESPUESTAS'!Y28,Back!$M$17:$N$23,2,0)","v":"#N/A"},{"$f":"+VLOOKUP('BASE DE RESPUESTAS'!Z28,Back!$M$17:$N$23,2,0)","v":"#N/A"},{"$f":"+VLOOKUP('BASE DE RESPUESTAS'!AA28,Back!$M$17:$N$23,2,0)","v":"#N/A"},{"$f":"+VLOOKUP('BASE DE RESPUESTAS'!AB28,Back!$M$17:$N$23,2,0)","v":"#N/A"},{"$f":"+VLOOKUP('BASE DE RESPUESTAS'!AC28,Back!$M$17:$N$23,2,0)","v":"#N/A"},{"$f":"+VLOOKUP('BASE DE RESPUESTAS'!AD28,Back!$M$17:$N$23,2,0)","v":"#N/A"},{"$f":"+VLOOKUP('BASE DE RESPUESTAS'!AE28,Back!$M$17:$N$23,2,0)","v":"#N/A"},{"$f":"+VLOOKUP('BASE DE RESPUESTAS'!AF28,Back!$M$17:$N$23,2,0)","v":"#N/A"},{"$f":"+VLOOKUP('BASE DE RESPUESTAS'!AG28,Back!$M$17:$N$23,2,0)","v":"#N/A"},{"$f":"+VLOOKUP('BASE DE RESPUESTAS'!AH28,Back!$M$17:$N$23,2,0)","v":"#N/A"},{"$f":"+VLOOKUP('BASE DE RESPUESTAS'!AI28,Back!$M$17:$N$23,2,0)","v":"#N/A"},{"$f":"+VLOOKUP('BASE DE RESPUESTAS'!AJ28,Back!$M$17:$N$23,2,0)","v":"#N/A"},{"$f":"+VLOOKUP('BASE DE RESPUESTAS'!AK28,Back!$M$17:$N$23,2,0)","v":"#N/A"},{"$f":"+VLOOKUP('BASE DE RESPUESTAS'!AL28,Back!$M$17:$N$23,2,0)","v":"#N/A"},{"$f":"+VLOOKUP('BASE DE RESPUESTAS'!AM28,Back!$M$17:$N$23,2,0)","v":"#N/A"},{"$f":"+VLOOKUP('BASE DE RESPUESTAS'!AN28,Back!$M$17:$N$23,2,0)","v":"#N/A"},{"$f":"+VLOOKUP('BASE DE RESPUESTAS'!AO28,Back!$M$17:$N$23,2,0)","v":"#N/A"},{"$f":"+VLOOKUP('BASE DE RESPUESTAS'!AP28,Back!$M$17:$N$23,2,0)","v":"#N/A"},{"$f":"+VLOOKUP('BASE DE RESPUESTAS'!AQ28,Back!$M$17:$N$23,2,0)","v":"#N/A"},{"$f":"+VLOOKUP('BASE DE RESPUESTAS'!AR28,Back!$M$17:$N$23,2,0)","v":"#N/A"},{"$f":"+VLOOKUP('BASE DE RESPUESTAS'!AS28,Back!$M$17:$N$23,2,0)","v":"#N/A"},{"$f":"+VLOOKUP('BASE DE RESPUESTAS'!AT28,Back!$M$17:$N$23,2,0)","v":"#N/A"},{"$f":"+VLOOKUP('BASE DE RESPUESTAS'!AU28,Back!$M$17:$N$23,2,0)","v":"#N/A"},{"$f":"+VLOOKUP('BASE DE RESPUESTAS'!AV28,Back!$M$17:$N$23,2,0)","v":"#N/A"},{"$f":"+VLOOKUP('BASE DE RESPUESTAS'!AW28,Back!$M$17:$N$23,2,0)","v":"#N/A"},{"$f":"+VLOOKUP('BASE DE RESPUESTAS'!AX28,Back!$M$17:$N$23,2,0)","v":"#N/A"},{"$f":"+VLOOKUP('BASE DE RESPUESTAS'!AY28,Back!$M$17:$N$23,2,0)","v":"#N/A"},{"$f":"+VLOOKUP('BASE DE RESPUESTAS'!AZ28,Back!$M$17:$N$23,2,0)","v":"#N/A"},{"$f":"+VLOOKUP('BASE DE RESPUESTAS'!BA28,Back!$M$17:$N$23,2,0)","v":"#N/A"},{"$f":"+VLOOKUP('BASE DE RESPUESTAS'!BB28,Back!$M$17:$N$23,2,0)","v":"#N/A"},{"$f":"+VLOOKUP('BASE DE RESPUESTAS'!BC28,Back!$M$17:$N$23,2,0)","v":"#N/A"},{"$f":"+VLOOKUP('BASE DE RESPUESTAS'!BD28,Back!$M$17:$N$23,2,0)","v":"#N/A"},{"$f":"+VLOOKUP('BASE DE RESPUESTAS'!BE28,Back!$M$17:$N$23,2,0)","v":"#N/A"}]
[null,null,null,null,23.0,"Observación en aula: Participa de manera activa en tareas grupales (Ej. construir o pintar algo en grupo).",null,{"$f":"+VLOOKUP('BASE DE RESPUESTAS'!H29,Back!$M$17:$N$23,2,0)","v":"#N/A"},{"$f":"+VLOOKUP('BASE DE RESPUESTAS'!I29,Back!$M$17:$N$23,2,0)","v":"#N/A"},{"$f":"+VLOOKUP('BASE DE RESPUESTAS'!J29,Back!$M$17:$N$23,2,0)","v":"#N/A"},{"$f":"+VLOOKUP('BASE DE RESPUESTAS'!K29,Back!$M$17:$N$23,2,0)","v":"#N/A"},{"$f":"+VLOOKUP('BASE DE RESPUESTAS'!L29,Back!$M$17:$N$23,2,0)","v":"#N/A"},{"$f":"+VLOOKUP('BASE DE RESPUESTAS'!M29,Back!$M$17:$N$23,2,0)","v":"#N/A"},{"$f":"+VLOOKUP('BASE DE RESPUESTAS'!N29,Back!$M$17:$N$23,2,0)","v":"#N/A"},{"$f":"+VLOOKUP('BASE DE RESPUESTAS'!O29,Back!$M$17:$N$23,2,0)","v":"#N/A"},{"$f":"+VLOOKUP('BASE DE RESPUESTAS'!P29,Back!$M$17:$N$23,2,0)","v":"#N/A"},{"$f":"+VLOOKUP('BASE DE RESPUESTAS'!Q29,Back!$M$17:$N$23,2,0)","v":"#N/A"},{"$f":"+VLOOKUP('BASE DE RESPUESTAS'!R29,Back!$M$17:$N$23,2,0)","v":"#N/A"},{"$f":"+VLOOKUP('BASE DE RESPUESTAS'!S29,Back!$M$17:$N$23,2,0)","v":"#N/A"},{"$f":"+VLOOKUP('BASE DE RESPUESTAS'!T29,Back!$M$17:$N$23,2,0)","v":"#N/A"},{"$f":"+VLOOKUP('BASE DE RESPUESTAS'!U29,Back!$M$17:$N$23,2,0)","v":"#N/A"},{"$f":"+VLOOKUP('BASE DE RESPUESTAS'!V29,Back!$M$17:$N$23,2,0)","v":"#N/A"},{"$f":"+VLOOKUP('BASE DE RESPUESTAS'!W29,Back!$M$17:$N$23,2,0)","v":"#N/A"},{"$f":"+VLOOKUP('BASE DE RESPUESTAS'!X29,Back!$M$17:$N$23,2,0)","v":"#N/A"},{"$f":"+VLOOKUP('BASE DE RESPUESTAS'!Y29,Back!$M$17:$N$23,2,0)","v":"#N/A"},{"$f":"+VLOOKUP('BASE DE RESPUESTAS'!Z29,Back!$M$17:$N$23,2,0)","v":"#N/A"},{"$f":"+VLOOKUP('BASE DE RESPUESTAS'!AA29,Back!$M$17:$N$23,2,0)","v":"#N/A"},{"$f":"+VLOOKUP('BASE DE RESPUESTAS'!AB29,Back!$M$17:$N$23,2,0)","v":"#N/A"},{"$f":"+VLOOKUP('BASE DE RESPUESTAS'!AC29,Back!$M$17:$N$23,2,0)","v":"#N/A"},{"$f":"+VLOOKUP('BASE DE RESPUESTAS'!AD29,Back!$M$17:$N$23,2,0)","v":"#N/A"},{"$f":"+VLOOKUP('BASE DE RESPUESTAS'!AE29,Back!$M$17:$N$23,2,0)","v":"#N/A"},{"$f":"+VLOOKUP('BASE DE RESPUESTAS'!AF29,Back!$M$17:$N$23,2,0)","v":"#N/A"},{"$f":"+VLOOKUP('BASE DE RESPUESTAS'!AG29,Back!$M$17:$N$23,2,0)","v":"#N/A"},{"$f":"+VLOOKUP('BASE DE RESPUESTAS'!AH29,Back!$M$17:$N$23,2,0)","v":"#N/A"},{"$f":"+VLOOKUP('BASE DE RESPUESTAS'!AI29,Back!$M$17:$N$23,2,0)","v":"#N/A"},{"$f":"+VLOOKUP('BASE DE RESPUESTAS'!AJ29,Back!$M$17:$N$23,2,0)","v":"#N/A"},{"$f":"+VLOOKUP('BASE DE RESPUESTAS'!AK29,Back!$M$17:$N$23,2,0)","v":"#N/A"},{"$f":"+VLOOKUP('BASE DE RESPUESTAS'!AL29,Back!$M$17:$N$23,2,0)","v":"#N/A"},{"$f":"+VLOOKUP('BASE DE RESPUESTAS'!AM29,Back!$M$17:$N$23,2,0)","v":"#N/A"},{"$f":"+VLOOKUP('BASE DE RESPUESTAS'!AN29,Back!$M$17:$N$23,2,0)","v":"#N/A"},{"$f":"+VLOOKUP('BASE DE RESPUESTAS'!AO29,Back!$M$17:$N$23,2,0)","v":"#N/A"},{"$f":"+VLOOKUP('BASE DE RESPUESTAS'!AP29,Back!$M$17:$N$23,2,0)","v":"#N/A"},{"$f":"+VLOOKUP('BASE DE RESPUESTAS'!AQ29,Back!$M$17:$N$23,2,0)","v":"#N/A"},{"$f":"+VLOOKUP('BASE DE RESPUESTAS'!AR29,Back!$M$17:$N$23,2,0)","v":"#N/A"},{"$f":"+VLOOKUP('BASE DE RESPUESTAS'!AS29,Back!$M$17:$N$23,2,0)","v":"#N/A"},{"$f":"+VLOOKUP('BASE DE RESPUESTAS'!AT29,Back!$M$17:$N$23,2,0)","v":"#N/A"},{"$f":"+VLOOKUP('BASE DE RESPUESTAS'!AU29,Back!$M$17:$N$23,2,0)","v":"#N/A"},{"$f":"+VLOOKUP('BASE DE RESPUESTAS'!AV29,Back!$M$17:$N$23,2,0)","v":"#N/A"},{"$f":"+VLOOKUP('BASE DE RESPUESTAS'!AW29,Back!$M$17:$N$23,2,0)","v":"#N/A"},{"$f":"+VLOOKUP('BASE DE RESPUESTAS'!AX29,Back!$M$17:$N$23,2,0)","v":"#N/A"},{"$f":"+VLOOKUP('BASE DE RESPUESTAS'!AY29,Back!$M$17:$N$23,2,0)","v":"#N/A"},{"$f":"+VLOOKUP('BASE DE RESPUESTAS'!AZ29,Back!$M$17:$N$23,2,0)","v":"#N/A"},{"$f":"+VLOOKUP('BASE DE RESPUESTAS'!BA29,Back!$M$17:$N$23,2,0)","v":"#N/A"},{"$f":"+VLOOKUP('BASE DE RESPUESTAS'!BB29,Back!$M$17:$N$23,2,0)","v":"#N/A"},{"$f":"+VLOOKUP('BASE DE RESPUESTAS'!BC29,Back!$M$17:$N$23,2,0)","v":"#N/A"},{"$f":"+VLOOKUP('BASE DE RESPUESTAS'!BD29,Back!$M$17:$N$23,2,0)","v":"#N/A"},{"$f":"+VLOOKUP('BASE DE RESPUESTAS'!BE29,Back!$M$17:$N$23,2,0)","v":"#N/A"}]
[null,"HSE","Empatía","La niña o el niño nombra las emociones de sus compañeras/os.",24.0,"Observación en aula: Reporta a la/el docente cuando un/a compañera/o se siente enojado o triste.",null,{"$f":"+VLOOKUP('BASE DE RESPUESTAS'!H30,Back!$M$17:$N$23,2,0)","v":"#N/A"},{"$f":"+VLOOKUP('BASE DE RESPUESTAS'!I30,Back!$M$17:$N$23,2,0)","v":"#N/A"},{"$f":"+VLOOKUP('BASE DE RESPUESTAS'!J30,Back!$M$17:$N$23,2,0)","v":"#N/A"},{"$f":"+VLOOKUP('BASE DE RESPUESTAS'!K30,Back!$M$17:$N$23,2,0)","v":"#N/A"},{"$f":"+VLOOKUP('BASE DE RESPUESTAS'!L30,Back!$M$17:$N$23,2,0)","v":"#N/A"},{"$f":"+VLOOKUP('BASE DE RESPUESTAS'!M30,Back!$M$17:$N$23,2,0)","v":"#N/A"},{"$f":"+VLOOKUP('BASE DE RESPUESTAS'!N30,Back!$M$17:$N$23,2,0)","v":"#N/A"},{"$f":"+VLOOKUP('BASE DE RESPUESTAS'!O30,Back!$M$17:$N$23,2,0)","v":"#N/A"},{"$f":"+VLOOKUP('BASE DE RESPUESTAS'!P30,Back!$M$17:$N$23,2,0)","v":"#N/A"},{"$f":"+VLOOKUP('BASE DE RESPUESTAS'!Q30,Back!$M$17:$N$23,2,0)","v":"#N/A"},{"$f":"+VLOOKUP('BASE DE RESPUESTAS'!R30,Back!$M$17:$N$23,2,0)","v":"#N/A"},{"$f":"+VLOOKUP('BASE DE RESPUESTAS'!S30,Back!$M$17:$N$23,2,0)","v":"#N/A"},{"$f":"+VLOOKUP('BASE DE RESPUESTAS'!T30,Back!$M$17:$N$23,2,0)","v":"#N/A"},{"$f":"+VLOOKUP('BASE DE RESPUESTAS'!U30,Back!$M$17:$N$23,2,0)","v":"#N/A"},{"$f":"+VLOOKUP('BASE DE RESPUESTAS'!V30,Back!$M$17:$N$23,2,0)","v":"#N/A"},{"$f":"+VLOOKUP('BASE DE RESPUESTAS'!W30,Back!$M$17:$N$23,2,0)","v":"#N/A"},{"$f":"+VLOOKUP('BASE DE RESPUESTAS'!X30,Back!$M$17:$N$23,2,0)","v":"#N/A"},{"$f":"+VLOOKUP('BASE DE RESPUESTAS'!Y30,Back!$M$17:$N$23,2,0)","v":"#N/A"},{"$f":"+VLOOKUP('BASE DE RESPUESTAS'!Z30,Back!$M$17:$N$23,2,0)","v":"#N/A"},{"$f":"+VLOOKUP('BASE DE RESPUESTAS'!AA30,Back!$M$17:$N$23,2,0)","v":"#N/A"},{"$f":"+VLOOKUP('BASE DE RESPUESTAS'!AB30,Back!$M$17:$N$23,2,0)","v":"#N/A"},{"$f":"+VLOOKUP('BASE DE RESPUESTAS'!AC30,Back!$M$17:$N$23,2,0)","v":"#N/A"},{"$f":"+VLOOKUP('BASE DE RESPUESTAS'!AD30,Back!$M$17:$N$23,2,0)","v":"#N/A"},{"$f":"+VLOOKUP('BASE DE RESPUESTAS'!AE30,Back!$M$17:$N$23,2,0)","v":"#N/A"},{"$f":"+VLOOKUP('BASE DE RESPUESTAS'!AF30,Back!$M$17:$N$23,2,0)","v":"#N/A"},{"$f":"+VLOOKUP('BASE DE RESPUESTAS'!AG30,Back!$M$17:$N$23,2,0)","v":"#N/A"},{"$f":"+VLOOKUP('BASE DE RESPUESTAS'!AH30,Back!$M$17:$N$23,2,0)","v":"#N/A"},{"$f":"+VLOOKUP('BASE DE RESPUESTAS'!AI30,Back!$M$17:$N$23,2,0)","v":"#N/A"},{"$f":"+VLOOKUP('BASE DE RESPUESTAS'!AJ30,Back!$M$17:$N$23,2,0)","v":"#N/A"},{"$f":"+VLOOKUP('BASE DE RESPUESTAS'!AK30,Back!$M$17:$N$23,2,0)","v":"#N/A"},{"$f":"+VLOOKUP('BASE DE RESPUESTAS'!AL30,Back!$M$17:$N$23,2,0)","v":"#N/A"},{"$f":"+VLOOKUP('BASE DE RESPUESTAS'!AM30,Back!$M$17:$N$23,2,0)","v":"#N/A"},{"$f":"+VLOOKUP('BASE DE RESPUESTAS'!AN30,Back!$M$17:$N$23,2,0)","v":"#N/A"},{"$f":"+VLOOKUP('BASE DE RESPUESTAS'!AO30,Back!$M$17:$N$23,2,0)","v":"#N/A"},{"$f":"+VLOOKUP('BASE DE RESPUESTAS'!AP30,Back!$M$17:$N$23,2,0)","v":"#N/A"},{"$f":"+VLOOKUP('BASE DE RESPUESTAS'!AQ30,Back!$M$17:$N$23,2,0)","v":"#N/A"},{"$f":"+VLOOKUP('BASE DE RESPUESTAS'!AR30,Back!$M$17:$N$23,2,0)","v":"#N/A"},{"$f":"+VLOOKUP('BASE DE RESPUESTAS'!AS30,Back!$M$17:$N$23,2,0)","v":"#N/A"},{"$f":"+VLOOKUP('BASE DE RESPUESTAS'!AT30,Back!$M$17:$N$23,2,0)","v":"#N/A"},{"$f":"+VLOOKUP('BASE DE RESPUESTAS'!AU30,Back!$M$17:$N$23,2,0)","v":"#N/A"},{"$f":"+VLOOKUP('BASE DE RESPUESTAS'!AV30,Back!$M$17:$N$23,2,0)","v":"#N/A"},{"$f":"+VLOOKUP('BASE DE RESPUESTAS'!AW30,Back!$M$17:$N$23,2,0)","v":"#N/A"},{"$f":"+VLOOKUP('BASE DE RESPUESTAS'!AX30,Back!$M$17:$N$23,2,0)","v":"#N/A"},{"$f":"+VLOOKUP('BASE DE RESPUESTAS'!AY30,Back!$M$17:$N$23,2,0)","v":"#N/A"},{"$f":"+VLOOKUP('BASE DE RESPUESTAS'!AZ30,Back!$M$17:$N$23,2,0)","v":"#N/A"},{"$f":"+VLOOKUP('BASE DE RESPUESTAS'!BA30,Back!$M$17:$N$23,2,0)","v":"#N/A"},{"$f":"+VLOOKUP('BASE DE RESPUESTAS'!BB30,Back!$M$17:$N$23,2,0)","v":"#N/A"},{"$f":"+VLOOKUP('BASE DE RESPUESTAS'!BC30,Back!$M$17:$N$23,2,0)","v":"#N/A"},{"$f":"+VLOOKUP('BASE DE RESPUESTAS'!BD30,Back!$M$17:$N$23,2,0)","v":"#N/A"},{"$f":"+VLOOKUP('BASE DE RESPUESTAS'!BE30,Back!$M$17:$N$23,2,0)","v":"#N/A"}]
[null,null,null,"La niña o el niño se muestra solidario ante las necesidades de sus compañeros/as.",25.0,"Observación en aula: Ofrece su ayuda cuando un/a compañera/o la/o necesita.",null,{"$f":"+VLOOKUP('BASE DE RESPUESTAS'!H31,Back!$M$17:$N$23,2,0)","v":"#N/A"},{"$f":"+VLOOKUP('BASE DE RESPUESTAS'!I31,Back!$M$17:$N$23,2,0)","v":"#N/A"},{"$f":"+VLOOKUP('BASE DE RESPUESTAS'!J31,Back!$M$17:$N$23,2,0)","v":"#N/A"},{"$f":"+VLOOKUP('BASE DE RESPUESTAS'!K31,Back!$M$17:$N$23,2,0)","v":"#N/A"},{"$f":"+VLOOKUP('BASE DE RESPUESTAS'!L31,Back!$M$17:$N$23,2,0)","v":"#N/A"},{"$f":"+VLOOKUP('BASE DE RESPUESTAS'!M31,Back!$M$17:$N$23,2,0)","v":"#N/A"},{"$f":"+VLOOKUP('BASE DE RESPUESTAS'!N31,Back!$M$17:$N$23,2,0)","v":"#N/A"},{"$f":"+VLOOKUP('BASE DE RESPUESTAS'!O31,Back!$M$17:$N$23,2,0)","v":"#N/A"},{"$f":"+VLOOKUP('BASE DE RESPUESTAS'!P31,Back!$M$17:$N$23,2,0)","v":"#N/A"},{"$f":"+VLOOKUP('BASE DE RESPUESTAS'!Q31,Back!$M$17:$N$23,2,0)","v":"#N/A"},{"$f":"+VLOOKUP('BASE DE RESPUESTAS'!R31,Back!$M$17:$N$23,2,0)","v":"#N/A"},{"$f":"+VLOOKUP('BASE DE RESPUESTAS'!S31,Back!$M$17:$N$23,2,0)","v":"#N/A"},{"$f":"+VLOOKUP('BASE DE RESPUESTAS'!T31,Back!$M$17:$N$23,2,0)","v":"#N/A"},{"$f":"+VLOOKUP('BASE DE RESPUESTAS'!U31,Back!$M$17:$N$23,2,0)","v":"#N/A"},{"$f":"+VLOOKUP('BASE DE RESPUESTAS'!V31,Back!$M$17:$N$23,2,0)","v":"#N/A"},{"$f":"+VLOOKUP('BASE DE RESPUESTAS'!W31,Back!$M$17:$N$23,2,0)","v":"#N/A"},{"$f":"+VLOOKUP('BASE DE RESPUESTAS'!X31,Back!$M$17:$N$23,2,0)","v":"#N/A"},{"$f":"+VLOOKUP('BASE DE RESPUESTAS'!Y31,Back!$M$17:$N$23,2,0)","v":"#N/A"},{"$f":"+VLOOKUP('BASE DE RESPUESTAS'!Z31,Back!$M$17:$N$23,2,0)","v":"#N/A"},{"$f":"+VLOOKUP('BASE DE RESPUESTAS'!AA31,Back!$M$17:$N$23,2,0)","v":"#N/A"},{"$f":"+VLOOKUP('BASE DE RESPUESTAS'!AB31,Back!$M$17:$N$23,2,0)","v":"#N/A"},{"$f":"+VLOOKUP('BASE DE RESPUESTAS'!AC31,Back!$M$17:$N$23,2,0)","v":"#N/A"},{"$f":"+VLOOKUP('BASE DE RESPUESTAS'!AD31,Back!$M$17:$N$23,2,0)","v":"#N/A"},{"$f":"+VLOOKUP('BASE DE RESPUESTAS'!AE31,Back!$M$17:$N$23,2,0)","v":"#N/A"},{"$f":"+VLOOKUP('BASE DE RESPUESTAS'!AF31,Back!$M$17:$N$23,2,0)","v":"#N/A"},{"$f":"+VLOOKUP('BASE DE RESPUESTAS'!AG31,Back!$M$17:$N$23,2,0)","v":"#N/A"},{"$f":"+VLOOKUP('BASE DE RESPUESTAS'!AH31,Back!$M$17:$N$23,2,0)","v":"#N/A"},{"$f":"+VLOOKUP('BASE DE RESPUESTAS'!AI31,Back!$M$17:$N$23,2,0)","v":"#N/A"},{"$f":"+VLOOKUP('BASE DE RESPUESTAS'!AJ31,Back!$M$17:$N$23,2,0)","v":"#N/A"},{"$f":"+VLOOKUP('BASE DE RESPUESTAS'!AK31,Back!$M$17:$N$23,2,0)","v":"#N/A"},{"$f":"+VLOOKUP('BASE DE RESPUESTAS'!AL31,Back!$M$17:$N$23,2,0)","v":"#N/A"},{"$f":"+VLOOKUP('BASE DE RESPUESTAS'!AM31,Back!$M$17:$N$23,2,0)","v":"#N/A"},{"$f":"+VLOOKUP('BASE DE RESPUESTAS'!AN31,Back!$M$17:$N$23,2,0)","v":"#N/A"},{"$f":"+VLOOKUP('BASE DE RESPUESTAS'!AO31,Back!$M$17:$N$23,2,0)","v":"#N/A"},{"$f":"+VLOOKUP('BASE DE RESPUESTAS'!AP31,Back!$M$17:$N$23,2,0)","v":"#N/A"},{"$f":"+VLOOKUP('BASE DE RESPUESTAS'!AQ31,Back!$M$17:$N$23,2,0)","v":"#N/A"},{"$f":"+VLOOKUP('BASE DE RESPUESTAS'!AR31,Back!$M$17:$N$23,2,0)","v":"#N/A"},{"$f":"+VLOOKUP('BASE DE RESPUESTAS'!AS31,Back!$M$17:$N$23,2,0)","v":"#N/A"},{"$f":"+VLOOKUP('BASE DE RESPUESTAS'!AT31,Back!$M$17:$N$23,2,0)","v":"#N/A"},{"$f":"+VLOOKUP('BASE DE RESPUESTAS'!AU31,Back!$M$17:$N$23,2,0)","v":"#N/A"},{"$f":"+VLOOKUP('BASE DE RESPUESTAS'!AV31,Back!$M$17:$N$23,2,0)","v":"#N/A"},{"$f":"+VLOOKUP('BASE DE RESPUESTAS'!AW31,Back!$M$17:$N$23,2,0)","v":"#N/A"},{"$f":"+VLOOKUP('BASE DE RESPUESTAS'!AX31,Back!$M$17:$N$23,2,0)","v":"#N/A"},{"$f":"+VLOOKUP('BASE DE RESPUESTAS'!AY31,Back!$M$17:$N$23,2,0)","v":"#N/A"},{"$f":"+VLOOKUP('BASE DE RESPUESTAS'!AZ31,Back!$M$17:$N$23,2,0)","v":"#N/A"},{"$f":"+VLOOKUP('BASE DE RESPUESTAS'!BA31,Back!$M$17:$N$23,2,0)","v":"#N/A"},{"$f":"+VLOOKUP('BASE DE RESPUESTAS'!BB31,Back!$M$17:$N$23,2,0)","v":"#N/A"},{"$f":"+VLOOKUP('BASE DE RESPUESTAS'!BC31,Back!$M$17:$N$23,2,0)","v":"#N/A"},{"$f":"+VLOOKUP('BASE DE RESPUESTAS'!BD31,Back!$M$17:$N$23,2,0)","v":"#N/A"},{"$f":"+VLOOKUP('BASE DE RESPUESTAS'!BE31,Back!$M$17:$N$23,2,0)","v":"#N/A"}]
[null,"HSE","Resolución de Conflictos","La niña o el niño busca solucionar los problemas con sus compañeros/as (ya sea por él/ella mismo/a o buscando a una persona adulta).",26.0,"Observación en aula: Cuando tiene un problema con un/a compañera/o busca solucionarlo ella/él misma/o o acude a la/el docente.",null,{"$f":"+VLOOKUP('BASE DE RESPUESTAS'!H32,Back!$M$17:$N$23,2,0)","v":"#N/A"},{"$f":"+VLOOKUP('BASE DE RESPUESTAS'!I32,Back!$M$17:$N$23,2,0)","v":"#N/A"},{"$f":"+VLOOKUP('BASE DE RESPUESTAS'!J32,Back!$M$17:$N$23,2,0)","v":"#N/A"},{"$f":"+VLOOKUP('BASE DE RESPUESTAS'!K32,Back!$M$17:$N$23,2,0)","v":"#N/A"},{"$f":"+VLOOKUP('BASE DE RESPUESTAS'!L32,Back!$M$17:$N$23,2,0)","v":"#N/A"},{"$f":"+VLOOKUP('BASE DE RESPUESTAS'!M32,Back!$M$17:$N$23,2,0)","v":"#N/A"},{"$f":"+VLOOKUP('BASE DE RESPUESTAS'!N32,Back!$M$17:$N$23,2,0)","v":"#N/A"},{"$f":"+VLOOKUP('BASE DE RESPUESTAS'!O32,Back!$M$17:$N$23,2,0)","v":"#N/A"},{"$f":"+VLOOKUP('BASE DE RESPUESTAS'!P32,Back!$M$17:$N$23,2,0)","v":"#N/A"},{"$f":"+VLOOKUP('BASE DE RESPUESTAS'!Q32,Back!$M$17:$N$23,2,0)","v":"#N/A"},{"$f":"+VLOOKUP('BASE DE RESPUESTAS'!R32,Back!$M$17:$N$23,2,0)","v":"#N/A"},{"$f":"+VLOOKUP('BASE DE RESPUESTAS'!S32,Back!$M$17:$N$23,2,0)","v":"#N/A"},{"$f":"+VLOOKUP('BASE DE RESPUESTAS'!T32,Back!$M$17:$N$23,2,0)","v":"#N/A"},{"$f":"+VLOOKUP('BASE DE RESPUESTAS'!U32,Back!$M$17:$N$23,2,0)","v":"#N/A"},{"$f":"+VLOOKUP('BASE DE RESPUESTAS'!V32,Back!$M$17:$N$23,2,0)","v":"#N/A"},{"$f":"+VLOOKUP('BASE DE RESPUESTAS'!W32,Back!$M$17:$N$23,2,0)","v":"#N/A"},{"$f":"+VLOOKUP('BASE DE RESPUESTAS'!X32,Back!$M$17:$N$23,2,0)","v":"#N/A"},{"$f":"+VLOOKUP('BASE DE RESPUESTAS'!Y32,Back!$M$17:$N$23,2,0)","v":"#N/A"},{"$f":"+VLOOKUP('BASE DE RESPUESTAS'!Z32,Back!$M$17:$N$23,2,0)","v":"#N/A"},{"$f":"+VLOOKUP('BASE DE RESPUESTAS'!AA32,Back!$M$17:$N$23,2,0)","v":"#N/A"},{"$f":"+VLOOKUP('BASE DE RESPUESTAS'!AB32,Back!$M$17:$N$23,2,0)","v":"#N/A"},{"$f":"+VLOOKUP('BASE DE RESPUESTAS'!AC32,Back!$M$17:$N$23,2,0)","v":"#N/A"},{"$f":"+VLOOKUP('BASE DE RESPUESTAS'!AD32,Back!$M$17:$N$23,2,0)","v":"#N/A"},{"$f":"+VLOOKUP('BASE DE RESPUESTAS'!AE32,Back!$M$17:$N$23,2,0)","v":"#N/A"},{"$f":"+VLOOKUP('BASE DE RESPUESTAS'!AF32,Back!$M$17:$N$23,2,0)","v":"#N/A"},{"$f":"+VLOOKUP('BASE DE RESPUESTAS'!AG32,Back!$M$17:$N$23,2,0)","v":"#N/A"},{"$f":"+VLOOKUP('BASE DE RESPUESTAS'!AH32,Back!$M$17:$N$23,2,0)","v":"#N/A"},{"$f":"+VLOOKUP('BASE DE RESPUESTAS'!AI32,Back!$M$17:$N$23,2,0)","v":"#N/A"},{"$f":"+VLOOKUP('BASE DE RESPUESTAS'!AJ32,Back!$M$17:$N$23,2,0)","v":"#N/A"},{"$f":"+VLOOKUP('BASE DE RESPUESTAS'!AK32,Back!$M$17:$N$23,2,0)","v":"#N/A"},{"$f":"+VLOOKUP('BASE DE RESPUESTAS'!AL32,Back!$M$17:$N$23,2,0)","v":"#N/A"},{"$f":"+VLOOKUP('BASE DE RESPUESTAS'!AM32,Back!$M$17:$N$23,2,0)","v":"#N/A"},{"$f":"+VLOOKUP('BASE DE RESPUESTAS'!AN32,Back!$M$17:$N$23,2,0)","v":"#N/A"},{"$f":"+VLOOKUP('BASE DE RESPUESTAS'!AO32,Back!$M$17:$N$23,2,0)","v":"#N/A"},{"$f":"+VLOOKUP('BASE DE RESPUESTAS'!AP32,Back!$M$17:$N$23,2,0)","v":"#N/A"},{"$f":"+VLOOKUP('BASE DE RESPUESTAS'!AQ32,Back!$M$17:$N$23,2,0)","v":"#N/A"},{"$f":"+VLOOKUP('BASE DE RESPUESTAS'!AR32,Back!$M$17:$N$23,2,0)","v":"#N/A"},{"$f":"+VLOOKUP('BASE DE RESPUESTAS'!AS32,Back!$M$17:$N$23,2,0)","v":"#N/A"},{"$f":"+VLOOKUP('BASE DE RESPUESTAS'!AT32,Back!$M$17:$N$23,2,0)","v":"#N/A"},{"$f":"+VLOOKUP('BASE DE RESPUESTAS'!AU32,Back!$M$17:$N$23,2,0)","v":"#N/A"},{"$f":"+VLOOKUP('BASE DE RESPUESTAS'!AV32,Back!$M$17:$N$23,2,0)","v":"#N/A"},{"$f":"+VLOOKUP('BASE DE RESPUESTAS'!AW32,Back!$M$17:$N$23,2,0)","v":"#N/A"},{"$f":"+VLOOKUP('BASE DE RESPUESTAS'!AX32,Back!$M$17:$N$23,2,0)","v":"#N/A"},{"$f":"+VLOOKUP('BASE DE RESPUESTAS'!AY32,Back!$M$17:$N$23,2,0)","v":"#N/A"},{"$f":"+VLOOKUP('BASE DE RESPUESTAS'!AZ32,Back!$M$17:$N$23,2,0)","v":"#N/A"},{"$f":"+VLOOKUP('BASE DE RESPUESTAS'!BA32,Back!$M$17:$N$23,2,0)","v":"#N/A"},{"$f":"+VLOOKUP('BASE DE RESPUESTAS'!BB32,Back!$M$17:$N$23,2,0)","v":"#N/A"},{"$f":"+VLOOKUP('BASE DE RESPUESTAS'!BC32,Back!$M$17:$N$23,2,0)","v":"#N/A"},{"$f":"+VLOOKUP('BASE DE RESPUESTAS'!BD32,Back!$M$17:$N$23,2,0)","v":"#N/A"},{"$f":"+VLOOKUP('BASE DE RESPUESTAS'!BE32,Back!$M$17:$N$23,2,0)","v":"#N/A"}]
[null,"HSE","Conciencia Social","La niña o el niño identifica los oficios y/o profesiones de las personas en los grupos sociales.",27.0,"Cartillas N°6, N°7, N° 8, N° 9: Elegir 04 cartillas según el contexto y preguntar a la niña o niño:  ¿En qué trabajan estas personas?",null,{"$f":"+VLOOKUP('BASE DE RESPUESTAS'!H33,Back!$M$17:$N$23,2,0)","v":"#N/A"},{"$f":"+VLOOKUP('BASE DE RESPUESTAS'!I33,Back!$M$17:$N$23,2,0)","v":"#N/A"},{"$f":"+VLOOKUP('BASE DE RESPUESTAS'!J33,Back!$M$17:$N$23,2,0)","v":"#N/A"},{"$f":"+VLOOKUP('BASE DE RESPUESTAS'!K33,Back!$M$17:$N$23,2,0)","v":"#N/A"},{"$f":"+VLOOKUP('BASE DE RESPUESTAS'!L33,Back!$M$17:$N$23,2,0)","v":"#N/A"},{"$f":"+VLOOKUP('BASE DE RESPUESTAS'!M33,Back!$M$17:$N$23,2,0)","v":"#N/A"},{"$f":"+VLOOKUP('BASE DE RESPUESTAS'!N33,Back!$M$17:$N$23,2,0)","v":"#N/A"},{"$f":"+VLOOKUP('BASE DE RESPUESTAS'!O33,Back!$M$17:$N$23,2,0)","v":"#N/A"},{"$f":"+VLOOKUP('BASE DE RESPUESTAS'!P33,Back!$M$17:$N$23,2,0)","v":"#N/A"},{"$f":"+VLOOKUP('BASE DE RESPUESTAS'!Q33,Back!$M$17:$N$23,2,0)","v":"#N/A"},{"$f":"+VLOOKUP('BASE DE RESPUESTAS'!R33,Back!$M$17:$N$23,2,0)","v":"#N/A"},{"$f":"+VLOOKUP('BASE DE RESPUESTAS'!S33,Back!$M$17:$N$23,2,0)","v":"#N/A"},{"$f":"+VLOOKUP('BASE DE RESPUESTAS'!T33,Back!$M$17:$N$23,2,0)","v":"#N/A"},{"$f":"+VLOOKUP('BASE DE RESPUESTAS'!U33,Back!$M$17:$N$23,2,0)","v":"#N/A"},{"$f":"+VLOOKUP('BASE DE RESPUESTAS'!V33,Back!$M$17:$N$23,2,0)","v":"#N/A"},{"$f":"+VLOOKUP('BASE DE RESPUESTAS'!W33,Back!$M$17:$N$23,2,0)","v":"#N/A"},{"$f":"+VLOOKUP('BASE DE RESPUESTAS'!X33,Back!$M$17:$N$23,2,0)","v":"#N/A"},{"$f":"+VLOOKUP('BASE DE RESPUESTAS'!Y33,Back!$M$17:$N$23,2,0)","v":"#N/A"},{"$f":"+VLOOKUP('BASE DE RESPUESTAS'!Z33,Back!$M$17:$N$23,2,0)","v":"#N/A"},{"$f":"+VLOOKUP('BASE DE RESPUESTAS'!AA33,Back!$M$17:$N$23,2,0)","v":"#N/A"},{"$f":"+VLOOKUP('BASE DE RESPUESTAS'!AB33,Back!$M$17:$N$23,2,0)","v":"#N/A"},{"$f":"+VLOOKUP('BASE DE RESPUESTAS'!AC33,Back!$M$17:$N$23,2,0)","v":"#N/A"},{"$f":"+VLOOKUP('BASE DE RESPUESTAS'!AD33,Back!$M$17:$N$23,2,0)","v":"#N/A"},{"$f":"+VLOOKUP('BASE DE RESPUESTAS'!AE33,Back!$M$17:$N$23,2,0)","v":"#N/A"},{"$f":"+VLOOKUP('BASE DE RESPUESTAS'!AF33,Back!$M$17:$N$23,2,0)","v":"#N/A"},{"$f":"+VLOOKUP('BASE DE RESPUESTAS'!AG33,Back!$M$17:$N$23,2,0)","v":"#N/A"},{"$f":"+VLOOKUP('BASE DE RESPUESTAS'!AH33,Back!$M$17:$N$23,2,0)","v":"#N/A"},{"$f":"+VLOOKUP('BASE DE RESPUESTAS'!AI33,Back!$M$17:$N$23,2,0)","v":"#N/A"},{"$f":"+VLOOKUP('BASE DE RESPUESTAS'!AJ33,Back!$M$17:$N$23,2,0)","v":"#N/A"},{"$f":"+VLOOKUP('BASE DE RESPUESTAS'!AK33,Back!$M$17:$N$23,2,0)","v":"#N/A"},{"$f":"+VLOOKUP('BASE DE RESPUESTAS'!AL33,Back!$M$17:$N$23,2,0)","v":"#N/A"},{"$f":"+VLOOKUP('BASE DE RESPUESTAS'!AM33,Back!$M$17:$N$23,2,0)","v":"#N/A"},{"$f":"+VLOOKUP('BASE DE RESPUESTAS'!AN33,Back!$M$17:$N$23,2,0)","v":"#N/A"},{"$f":"+VLOOKUP('BASE DE RESPUESTAS'!AO33,Back!$M$17:$N$23,2,0)","v":"#N/A"},{"$f":"+VLOOKUP('BASE DE RESPUESTAS'!AP33,Back!$M$17:$N$23,2,0)","v":"#N/A"},{"$f":"+VLOOKUP('BASE DE RESPUESTAS'!AQ33,Back!$M$17:$N$23,2,0)","v":"#N/A"},{"$f":"+VLOOKUP('BASE DE RESPUESTAS'!AR33,Back!$M$17:$N$23,2,0)","v":"#N/A"},{"$f":"+VLOOKUP('BASE DE RESPUESTAS'!AS33,Back!$M$17:$N$23,2,0)","v":"#N/A"},{"$f":"+VLOOKUP('BASE DE RESPUESTAS'!AT33,Back!$M$17:$N$23,2,0)","v":"#N/A"},{"$f":"+VLOOKUP('BASE DE RESPUESTAS'!AU33,Back!$M$17:$N$23,2,0)","v":"#N/A"},{"$f":"+VLOOKUP('BASE DE RESPUESTAS'!AV33,Back!$M$17:$N$23,2,0)","v":"#N/A"},{"$f":"+VLOOKUP('BASE DE RESPUESTAS'!AW33,Back!$M$17:$N$23,2,0)","v":"#N/A"},{"$f":"+VLOOKUP('BASE DE RESPUESTAS'!AX33,Back!$M$17:$N$23,2,0)","v":"#N/A"},{"$f":"+VLOOKUP('BASE DE RESPUESTAS'!AY33,Back!$M$17:$N$23,2,0)","v":"#N/A"},{"$f":"+VLOOKUP('BASE DE RESPUESTAS'!AZ33,Back!$M$17:$N$23,2,0)","v":"#N/A"},{"$f":"+VLOOKUP('BASE DE RESPUESTAS'!BA33,Back!$M$17:$N$23,2,0)","v":"#N/A"},{"$f":"+VLOOKUP('BASE DE RESPUESTAS'!BB33,Back!$M$17:$N$23,2,0)","v":"#N/A"},{"$f":"+VLOOKUP('BASE DE RESPUESTAS'!BC33,Back!$M$17:$N$23,2,0)","v":"#N/A"},{"$f":"+VLOOKUP('BASE DE RESPUESTAS'!BD33,Back!$M$17:$N$23,2,0)","v":"#N/A"},{"$f":"+VLOOKUP('BASE DE RESPUESTAS'!BE33,Back!$M$17:$N$23,2,0)","v":"#N/A"}]
[null,"HSE","Comportamiento Prosocial","La niña o el niño  actúa pensando en el bien de los demás.",28.0,"Observación en aula:  No tira basura al suelo",null,{"$f":"+VLOOKUP('BASE DE RESPUESTAS'!H34,Back!$M$17:$N$23,2,0)","v":"#N/A"},{"$f":"+VLOOKUP('BASE DE RESPUESTAS'!I34,Back!$M$17:$N$23,2,0)","v":"#N/A"},{"$f":"+VLOOKUP('BASE DE RESPUESTAS'!J34,Back!$M$17:$N$23,2,0)","v":"#N/A"},{"$f":"+VLOOKUP('BASE DE RESPUESTAS'!K34,Back!$M$17:$N$23,2,0)","v":"#N/A"},{"$f":"+VLOOKUP('BASE DE RESPUESTAS'!L34,Back!$M$17:$N$23,2,0)","v":"#N/A"},{"$f":"+VLOOKUP('BASE DE RESPUESTAS'!M34,Back!$M$17:$N$23,2,0)","v":"#N/A"},{"$f":"+VLOOKUP('BASE DE RESPUESTAS'!N34,Back!$M$17:$N$23,2,0)","v":"#N/A"},{"$f":"+VLOOKUP('BASE DE RESPUESTAS'!O34,Back!$M$17:$N$23,2,0)","v":"#N/A"},{"$f":"+VLOOKUP('BASE DE RESPUESTAS'!P34,Back!$M$17:$N$23,2,0)","v":"#N/A"},{"$f":"+VLOOKUP('BASE DE RESPUESTAS'!Q34,Back!$M$17:$N$23,2,0)","v":"#N/A"},{"$f":"+VLOOKUP('BASE DE RESPUESTAS'!R34,Back!$M$17:$N$23,2,0)","v":"#N/A"},{"$f":"+VLOOKUP('BASE DE RESPUESTAS'!S34,Back!$M$17:$N$23,2,0)","v":"#N/A"},{"$f":"+VLOOKUP('BASE DE RESPUESTAS'!T34,Back!$M$17:$N$23,2,0)","v":"#N/A"},{"$f":"+VLOOKUP('BASE DE RESPUESTAS'!U34,Back!$M$17:$N$23,2,0)","v":"#N/A"},{"$f":"+VLOOKUP('BASE DE RESPUESTAS'!V34,Back!$M$17:$N$23,2,0)","v":"#N/A"},{"$f":"+VLOOKUP('BASE DE RESPUESTAS'!W34,Back!$M$17:$N$23,2,0)","v":"#N/A"},{"$f":"+VLOOKUP('BASE DE RESPUESTAS'!X34,Back!$M$17:$N$23,2,0)","v":"#N/A"},{"$f":"+VLOOKUP('BASE DE RESPUESTAS'!Y34,Back!$M$17:$N$23,2,0)","v":"#N/A"},{"$f":"+VLOOKUP('BASE DE RESPUESTAS'!Z34,Back!$M$17:$N$23,2,0)","v":"#N/A"},{"$f":"+VLOOKUP('BASE DE RESPUESTAS'!AA34,Back!$M$17:$N$23,2,0)","v":"#N/A"},{"$f":"+VLOOKUP('BASE DE RESPUESTAS'!AB34,Back!$M$17:$N$23,2,0)","v":"#N/A"},{"$f":"+VLOOKUP('BASE DE RESPUESTAS'!AC34,Back!$M$17:$N$23,2,0)","v":"#N/A"},{"$f":"+VLOOKUP('BASE DE RESPUESTAS'!AD34,Back!$M$17:$N$23,2,0)","v":"#N/A"},{"$f":"+VLOOKUP('BASE DE RESPUESTAS'!AE34,Back!$M$17:$N$23,2,0)","v":"#N/A"},{"$f":"+VLOOKUP('BASE DE RESPUESTAS'!AF34,Back!$M$17:$N$23,2,0)","v":"#N/A"},{"$f":"+VLOOKUP('BASE DE RESPUESTAS'!AG34,Back!$M$17:$N$23,2,0)","v":"#N/A"},{"$f":"+VLOOKUP('BASE DE RESPUESTAS'!AH34,Back!$M$17:$N$23,2,0)","v":"#N/A"},{"$f":"+VLOOKUP('BASE DE RESPUESTAS'!AI34,Back!$M$17:$N$23,2,0)","v":"#N/A"},{"$f":"+VLOOKUP('BASE DE RESPUESTAS'!AJ34,Back!$M$17:$N$23,2,0)","v":"#N/A"},{"$f":"+VLOOKUP('BASE DE RESPUESTAS'!AK34,Back!$M$17:$N$23,2,0)","v":"#N/A"},{"$f":"+VLOOKUP('BASE DE RESPUESTAS'!AL34,Back!$M$17:$N$23,2,0)","v":"#N/A"},{"$f":"+VLOOKUP('BASE DE RESPUESTAS'!AM34,Back!$M$17:$N$23,2,0)","v":"#N/A"},{"$f":"+VLOOKUP('BASE DE RESPUESTAS'!AN34,Back!$M$17:$N$23,2,0)","v":"#N/A"},{"$f":"+VLOOKUP('BASE DE RESPUESTAS'!AO34,Back!$M$17:$N$23,2,0)","v":"#N/A"},{"$f":"+VLOOKUP('BASE DE RESPUESTAS'!AP34,Back!$M$17:$N$23,2,0)","v":"#N/A"},{"$f":"+VLOOKUP('BASE DE RESPUESTAS'!AQ34,Back!$M$17:$N$23,2,0)","v":"#N/A"},{"$f":"+VLOOKUP('BASE DE RESPUESTAS'!AR34,Back!$M$17:$N$23,2,0)","v":"#N/A"},{"$f":"+VLOOKUP('BASE DE RESPUESTAS'!AS34,Back!$M$17:$N$23,2,0)","v":"#N/A"},{"$f":"+VLOOKUP('BASE DE RESPUESTAS'!AT34,Back!$M$17:$N$23,2,0)","v":"#N/A"},{"$f":"+VLOOKUP('BASE DE RESPUESTAS'!AU34,Back!$M$17:$N$23,2,0)","v":"#N/A"},{"$f":"+VLOOKUP('BASE DE RESPUESTAS'!AV34,Back!$M$17:$N$23,2,0)","v":"#N/A"},{"$f":"+VLOOKUP('BASE DE RESPUESTAS'!AW34,Back!$M$17:$N$23,2,0)","v":"#N/A"},{"$f":"+VLOOKUP('BASE DE RESPUESTAS'!AX34,Back!$M$17:$N$23,2,0)","v":"#N/A"},{"$f":"+VLOOKUP('BASE DE RESPUESTAS'!AY34,Back!$M$17:$N$23,2,0)","v":"#N/A"},{"$f":"+VLOOKUP('BASE DE RESPUESTAS'!AZ34,Back!$M$17:$N$23,2,0)","v":"#N/A"},{"$f":"+VLOOKUP('BASE DE RESPUESTAS'!BA34,Back!$M$17:$N$23,2,0)","v":"#N/A"},{"$f":"+VLOOKUP('BASE DE RESPUESTAS'!BB34,Back!$M$17:$N$23,2,0)","v":"#N/A"},{"$f":"+VLOOKUP('BASE DE RESPUESTAS'!BC34,Back!$M$17:$N$23,2,0)","v":"#N/A"},{"$f":"+VLOOKUP('BASE DE RESPUESTAS'!BD34,Back!$M$17:$N$23,2,0)","v":"#N/A"},{"$f":"+VLOOKUP('BASE DE RESPUESTAS'!BE34,Back!$M$17:$N$23,2,0)","v":"#N/A"}]
[null,null,null,"La niña o el niño se ofrece como voluntario/a cuando es necesario su apoyo para actividades del aula .",29.0,"Observación en aula: Ofrece su apoyo para actividades en el aula. ",null,{"$f":"+VLOOKUP('BASE DE RESPUESTAS'!H35,Back!$M$17:$N$23,2,0)","v":"#N/A"},{"$f":"+VLOOKUP('BASE DE RESPUESTAS'!I35,Back!$M$17:$N$23,2,0)","v":"#N/A"},{"$f":"+VLOOKUP('BASE DE RESPUESTAS'!J35,Back!$M$17:$N$23,2,0)","v":"#N/A"},{"$f":"+VLOOKUP('BASE DE RESPUESTAS'!K35,Back!$M$17:$N$23,2,0)","v":"#N/A"},{"$f":"+VLOOKUP('BASE DE RESPUESTAS'!L35,Back!$M$17:$N$23,2,0)","v":"#N/A"},{"$f":"+VLOOKUP('BASE DE RESPUESTAS'!M35,Back!$M$17:$N$23,2,0)","v":"#N/A"},{"$f":"+VLOOKUP('BASE DE RESPUESTAS'!N35,Back!$M$17:$N$23,2,0)","v":"#N/A"},{"$f":"+VLOOKUP('BASE DE RESPUESTAS'!O35,Back!$M$17:$N$23,2,0)","v":"#N/A"},{"$f":"+VLOOKUP('BASE DE RESPUESTAS'!P35,Back!$M$17:$N$23,2,0)","v":"#N/A"},{"$f":"+VLOOKUP('BASE DE RESPUESTAS'!Q35,Back!$M$17:$N$23,2,0)","v":"#N/A"},{"$f":"+VLOOKUP('BASE DE RESPUESTAS'!R35,Back!$M$17:$N$23,2,0)","v":"#N/A"},{"$f":"+VLOOKUP('BASE DE RESPUESTAS'!S35,Back!$M$17:$N$23,2,0)","v":"#N/A"},{"$f":"+VLOOKUP('BASE DE RESPUESTAS'!T35,Back!$M$17:$N$23,2,0)","v":"#N/A"},{"$f":"+VLOOKUP('BASE DE RESPUESTAS'!U35,Back!$M$17:$N$23,2,0)","v":"#N/A"},{"$f":"+VLOOKUP('BASE DE RESPUESTAS'!V35,Back!$M$17:$N$23,2,0)","v":"#N/A"},{"$f":"+VLOOKUP('BASE DE RESPUESTAS'!W35,Back!$M$17:$N$23,2,0)","v":"#N/A"},{"$f":"+VLOOKUP('BASE DE RESPUESTAS'!X35,Back!$M$17:$N$23,2,0)","v":"#N/A"},{"$f":"+VLOOKUP('BASE DE RESPUESTAS'!Y35,Back!$M$17:$N$23,2,0)","v":"#N/A"},{"$f":"+VLOOKUP('BASE DE RESPUESTAS'!Z35,Back!$M$17:$N$23,2,0)","v":"#N/A"},{"$f":"+VLOOKUP('BASE DE RESPUESTAS'!AA35,Back!$M$17:$N$23,2,0)","v":"#N/A"},{"$f":"+VLOOKUP('BASE DE RESPUESTAS'!AB35,Back!$M$17:$N$23,2,0)","v":"#N/A"},{"$f":"+VLOOKUP('BASE DE RESPUESTAS'!AC35,Back!$M$17:$N$23,2,0)","v":"#N/A"},{"$f":"+VLOOKUP('BASE DE RESPUESTAS'!AD35,Back!$M$17:$N$23,2,0)","v":"#N/A"},{"$f":"+VLOOKUP('BASE DE RESPUESTAS'!AE35,Back!$M$17:$N$23,2,0)","v":"#N/A"},{"$f":"+VLOOKUP('BASE DE RESPUESTAS'!AF35,Back!$M$17:$N$23,2,0)","v":"#N/A"},{"$f":"+VLOOKUP('BASE DE RESPUESTAS'!AG35,Back!$M$17:$N$23,2,0)","v":"#N/A"},{"$f":"+VLOOKUP('BASE DE RESPUESTAS'!AH35,Back!$M$17:$N$23,2,0)","v":"#N/A"},{"$f":"+VLOOKUP('BASE DE RESPUESTAS'!AI35,Back!$M$17:$N$23,2,0)","v":"#N/A"},{"$f":"+VLOOKUP('BASE DE RESPUESTAS'!AJ35,Back!$M$17:$N$23,2,0)","v":"#N/A"},{"$f":"+VLOOKUP('BASE DE RESPUESTAS'!AK35,Back!$M$17:$N$23,2,0)","v":"#N/A"},{"$f":"+VLOOKUP('BASE DE RESPUESTAS'!AL35,Back!$M$17:$N$23,2,0)","v":"#N/A"},{"$f":"+VLOOKUP('BASE DE RESPUESTAS'!AM35,Back!$M$17:$N$23,2,0)","v":"#N/A"},{"$f":"+VLOOKUP('BASE DE RESPUESTAS'!AN35,Back!$M$17:$N$23,2,0)","v":"#N/A"},{"$f":"+VLOOKUP('BASE DE RESPUESTAS'!AO35,Back!$M$17:$N$23,2,0)","v":"#N/A"},{"$f":"+VLOOKUP('BASE DE RESPUESTAS'!AP35,Back!$M$17:$N$23,2,0)","v":"#N/A"},{"$f":"+VLOOKUP('BASE DE RESPUESTAS'!AQ35,Back!$M$17:$N$23,2,0)","v":"#N/A"},{"$f":"+VLOOKUP('BASE DE RESPUESTAS'!AR35,Back!$M$17:$N$23,2,0)","v":"#N/A"},{"$f":"+VLOOKUP('BASE DE RESPUESTAS'!AS35,Back!$M$17:$N$23,2,0)","v":"#N/A"},{"$f":"+VLOOKUP('BASE DE RESPUESTAS'!AT35,Back!$M$17:$N$23,2,0)","v":"#N/A"},{"$f":"+VLOOKUP('BASE DE RESPUESTAS'!AU35,Back!$M$17:$N$23,2,0)","v":"#N/A"},{"$f":"+VLOOKUP('BASE DE RESPUESTAS'!AV35,Back!$M$17:$N$23,2,0)","v":"#N/A"},{"$f":"+VLOOKUP('BASE DE RESPUESTAS'!AW35,Back!$M$17:$N$23,2,0)","v":"#N/A"},{"$f":"+VLOOKUP('BASE DE RESPUESTAS'!AX35,Back!$M$17:$N$23,2,0)","v":"#N/A"},{"$f":"+VLOOKUP('BASE DE RESPUESTAS'!AY35,Back!$M$17:$N$23,2,0)","v":"#N/A"},{"$f":"+VLOOKUP('BASE DE RESPUESTAS'!AZ35,Back!$M$17:$N$23,2,0)","v":"#N/A"},{"$f":"+VLOOKUP('BASE DE RESPUESTAS'!BA35,Back!$M$17:$N$23,2,0)","v":"#N/A"},{"$f":"+VLOOKUP('BASE DE RESPUESTAS'!BB35,Back!$M$17:$N$23,2,0)","v":"#N/A"},{"$f":"+VLOOKUP('BASE DE RESPUESTAS'!BC35,Back!$M$17:$N$23,2,0)","v":"#N/A"},{"$f":"+VLOOKUP('BASE DE RESPUESTAS'!BD35,Back!$M$17:$N$23,2,0)","v":"#N/A"},{"$f":"+VLOOKUP('BASE DE RESPUESTAS'!BE35,Back!$M$17:$N$23,2,0)","v":"#N/A"}]
[null,"FR","Dificultades en el desarrollo cognitivo","La niña o el niño no puede mantener una conversación sencilla.",30.0,"No puede mantener una conversación sencilla con sus compañeras/os o docente.",null,{"$f":"+VLOOKUP('BASE DE RESPUESTAS'!H36,Back!$M$17:$N$23,2,0)","v":1},{"$f":"+VLOOKUP('BASE DE RESPUESTAS'!I36,Back!$M$17:$N$23,2,0)","v":"#N/A"},{"$f":"+VLOOKUP('BASE DE RESPUESTAS'!J36,Back!$M$17:$N$23,2,0)","v":"#N/A"},{"$f":"+VLOOKUP('BASE DE RESPUESTAS'!K36,Back!$M$17:$N$23,2,0)","v":"#N/A"},{"$f":"+VLOOKUP('BASE DE RESPUESTAS'!L36,Back!$M$17:$N$23,2,0)","v":"#N/A"},{"$f":"+VLOOKUP('BASE DE RESPUESTAS'!M36,Back!$M$17:$N$23,2,0)","v":"#N/A"},{"$f":"+VLOOKUP('BASE DE RESPUESTAS'!N36,Back!$M$17:$N$23,2,0)","v":"#N/A"},{"$f":"+VLOOKUP('BASE DE RESPUESTAS'!O36,Back!$M$17:$N$23,2,0)","v":"#N/A"},{"$f":"+VLOOKUP('BASE DE RESPUESTAS'!P36,Back!$M$17:$N$23,2,0)","v":"#N/A"},{"$f":"+VLOOKUP('BASE DE RESPUESTAS'!Q36,Back!$M$17:$N$23,2,0)","v":"#N/A"},{"$f":"+VLOOKUP('BASE DE RESPUESTAS'!R36,Back!$M$17:$N$23,2,0)","v":"#N/A"},{"$f":"+VLOOKUP('BASE DE RESPUESTAS'!S36,Back!$M$17:$N$23,2,0)","v":"#N/A"},{"$f":"+VLOOKUP('BASE DE RESPUESTAS'!T36,Back!$M$17:$N$23,2,0)","v":"#N/A"},{"$f":"+VLOOKUP('BASE DE RESPUESTAS'!U36,Back!$M$17:$N$23,2,0)","v":"#N/A"},{"$f":"+VLOOKUP('BASE DE RESPUESTAS'!V36,Back!$M$17:$N$23,2,0)","v":"#N/A"},{"$f":"+VLOOKUP('BASE DE RESPUESTAS'!W36,Back!$M$17:$N$23,2,0)","v":"#N/A"},{"$f":"+VLOOKUP('BASE DE RESPUESTAS'!X36,Back!$M$17:$N$23,2,0)","v":"#N/A"},{"$f":"+VLOOKUP('BASE DE RESPUESTAS'!Y36,Back!$M$17:$N$23,2,0)","v":"#N/A"},{"$f":"+VLOOKUP('BASE DE RESPUESTAS'!Z36,Back!$M$17:$N$23,2,0)","v":"#N/A"},{"$f":"+VLOOKUP('BASE DE RESPUESTAS'!AA36,Back!$M$17:$N$23,2,0)","v":"#N/A"},{"$f":"+VLOOKUP('BASE DE RESPUESTAS'!AB36,Back!$M$17:$N$23,2,0)","v":"#N/A"},{"$f":"+VLOOKUP('BASE DE RESPUESTAS'!AC36,Back!$M$17:$N$23,2,0)","v":"#N/A"},{"$f":"+VLOOKUP('BASE DE RESPUESTAS'!AD36,Back!$M$17:$N$23,2,0)","v":"#N/A"},{"$f":"+VLOOKUP('BASE DE RESPUESTAS'!AE36,Back!$M$17:$N$23,2,0)","v":"#N/A"},{"$f":"+VLOOKUP('BASE DE RESPUESTAS'!AF36,Back!$M$17:$N$23,2,0)","v":"#N/A"},{"$f":"+VLOOKUP('BASE DE RESPUESTAS'!AG36,Back!$M$17:$N$23,2,0)","v":"#N/A"},{"$f":"+VLOOKUP('BASE DE RESPUESTAS'!AH36,Back!$M$17:$N$23,2,0)","v":"#N/A"},{"$f":"+VLOOKUP('BASE DE RESPUESTAS'!AI36,Back!$M$17:$N$23,2,0)","v":"#N/A"},{"$f":"+VLOOKUP('BASE DE RESPUESTAS'!AJ36,Back!$M$17:$N$23,2,0)","v":"#N/A"},{"$f":"+VLOOKUP('BASE DE RESPUESTAS'!AK36,Back!$M$17:$N$23,2,0)","v":"#N/A"},{"$f":"+VLOOKUP('BASE DE RESPUESTAS'!AL36,Back!$M$17:$N$23,2,0)","v":"#N/A"},{"$f":"+VLOOKUP('BASE DE RESPUESTAS'!AM36,Back!$M$17:$N$23,2,0)","v":"#N/A"},{"$f":"+VLOOKUP('BASE DE RESPUESTAS'!AN36,Back!$M$17:$N$23,2,0)","v":"#N/A"},{"$f":"+VLOOKUP('BASE DE RESPUESTAS'!AO36,Back!$M$17:$N$23,2,0)","v":"#N/A"},{"$f":"+VLOOKUP('BASE DE RESPUESTAS'!AP36,Back!$M$17:$N$23,2,0)","v":"#N/A"},{"$f":"+VLOOKUP('BASE DE RESPUESTAS'!AQ36,Back!$M$17:$N$23,2,0)","v":"#N/A"},{"$f":"+VLOOKUP('BASE DE RESPUESTAS'!AR36,Back!$M$17:$N$23,2,0)","v":"#N/A"},{"$f":"+VLOOKUP('BASE DE RESPUESTAS'!AS36,Back!$M$17:$N$23,2,0)","v":"#N/A"},{"$f":"+VLOOKUP('BASE DE RESPUESTAS'!AT36,Back!$M$17:$N$23,2,0)","v":"#N/A"},{"$f":"+VLOOKUP('BASE DE RESPUESTAS'!AU36,Back!$M$17:$N$23,2,0)","v":"#N/A"},{"$f":"+VLOOKUP('BASE DE RESPUESTAS'!AV36,Back!$M$17:$N$23,2,0)","v":"#N/A"},{"$f":"+VLOOKUP('BASE DE RESPUESTAS'!AW36,Back!$M$17:$N$23,2,0)","v":"#N/A"},{"$f":"+VLOOKUP('BASE DE RESPUESTAS'!AX36,Back!$M$17:$N$23,2,0)","v":"#N/A"},{"$f":"+VLOOKUP('BASE DE RESPUESTAS'!AY36,Back!$M$17:$N$23,2,0)","v":"#N/A"},{"$f":"+VLOOKUP('BASE DE RESPUESTAS'!AZ36,Back!$M$17:$N$23,2,0)","v":"#N/A"},{"$f":"+VLOOKUP('BASE DE RESPUESTAS'!BA36,Back!$M$17:$N$23,2,0)","v":"#N/A"},{"$f":"+VLOOKUP('BASE DE RESPUESTAS'!BB36,Back!$M$17:$N$23,2,0)","v":"#N/A"},{"$f":"+VLOOKUP('BASE DE RESPUESTAS'!BC36,Back!$M$17:$N$23,2,0)","v":"#N/A"},{"$f":"+VLOOKUP('BASE DE RESPUESTAS'!BD36,Back!$M$17:$N$23,2,0)","v":"#N/A"},{"$f":"+VLOOKUP('BASE DE RESPUESTAS'!BE36,Back!$M$17:$N$23,2,0)","v":"#N/A"}]
[null,null,null,"La niña o el niño se distrae con facilidad, tiene problemas para concentrarse en una actividad por más de cinco minutos.",31.0,"Se distrae con facilidad, tiene problemas para concentrarse en una actividad por más de cinco minutos.",null,{"$f":"+VLOOKUP('BASE DE RESPUESTAS'!H37,Back!$M$17:$N$23,2,0)","v":0},{"$f":"+VLOOKUP('BASE DE RESPUESTAS'!I37,Back!$M$17:$N$23,2,0)","v":"#N/A"},{"$f":"+VLOOKUP('BASE DE RESPUESTAS'!J37,Back!$M$17:$N$23,2,0)","v":"#N/A"},{"$f":"+VLOOKUP('BASE DE RESPUESTAS'!K37,Back!$M$17:$N$23,2,0)","v":"#N/A"},{"$f":"+VLOOKUP('BASE DE RESPUESTAS'!L37,Back!$M$17:$N$23,2,0)","v":"#N/A"},{"$f":"+VLOOKUP('BASE DE RESPUESTAS'!M37,Back!$M$17:$N$23,2,0)","v":"#N/A"},{"$f":"+VLOOKUP('BASE DE RESPUESTAS'!N37,Back!$M$17:$N$23,2,0)","v":"#N/A"},{"$f":"+VLOOKUP('BASE DE RESPUESTAS'!O37,Back!$M$17:$N$23,2,0)","v":"#N/A"},{"$f":"+VLOOKUP('BASE DE RESPUESTAS'!P37,Back!$M$17:$N$23,2,0)","v":"#N/A"},{"$f":"+VLOOKUP('BASE DE RESPUESTAS'!Q37,Back!$M$17:$N$23,2,0)","v":"#N/A"},{"$f":"+VLOOKUP('BASE DE RESPUESTAS'!R37,Back!$M$17:$N$23,2,0)","v":"#N/A"},{"$f":"+VLOOKUP('BASE DE RESPUESTAS'!S37,Back!$M$17:$N$23,2,0)","v":"#N/A"},{"$f":"+VLOOKUP('BASE DE RESPUESTAS'!T37,Back!$M$17:$N$23,2,0)","v":"#N/A"},{"$f":"+VLOOKUP('BASE DE RESPUESTAS'!U37,Back!$M$17:$N$23,2,0)","v":"#N/A"},{"$f":"+VLOOKUP('BASE DE RESPUESTAS'!V37,Back!$M$17:$N$23,2,0)","v":"#N/A"},{"$f":"+VLOOKUP('BASE DE RESPUESTAS'!W37,Back!$M$17:$N$23,2,0)","v":"#N/A"},{"$f":"+VLOOKUP('BASE DE RESPUESTAS'!X37,Back!$M$17:$N$23,2,0)","v":"#N/A"},{"$f":"+VLOOKUP('BASE DE RESPUESTAS'!Y37,Back!$M$17:$N$23,2,0)","v":"#N/A"},{"$f":"+VLOOKUP('BASE DE RESPUESTAS'!Z37,Back!$M$17:$N$23,2,0)","v":"#N/A"},{"$f":"+VLOOKUP('BASE DE RESPUESTAS'!AA37,Back!$M$17:$N$23,2,0)","v":"#N/A"},{"$f":"+VLOOKUP('BASE DE RESPUESTAS'!AB37,Back!$M$17:$N$23,2,0)","v":"#N/A"},{"$f":"+VLOOKUP('BASE DE RESPUESTAS'!AC37,Back!$M$17:$N$23,2,0)","v":"#N/A"},{"$f":"+VLOOKUP('BASE DE RESPUESTAS'!AD37,Back!$M$17:$N$23,2,0)","v":"#N/A"},{"$f":"+VLOOKUP('BASE DE RESPUESTAS'!AE37,Back!$M$17:$N$23,2,0)","v":"#N/A"},{"$f":"+VLOOKUP('BASE DE RESPUESTAS'!AF37,Back!$M$17:$N$23,2,0)","v":"#N/A"},{"$f":"+VLOOKUP('BASE DE RESPUESTAS'!AG37,Back!$M$17:$N$23,2,0)","v":"#N/A"},{"$f":"+VLOOKUP('BASE DE RESPUESTAS'!AH37,Back!$M$17:$N$23,2,0)","v":"#N/A"},{"$f":"+VLOOKUP('BASE DE RESPUESTAS'!AI37,Back!$M$17:$N$23,2,0)","v":"#N/A"},{"$f":"+VLOOKUP('BASE DE RESPUESTAS'!AJ37,Back!$M$17:$N$23,2,0)","v":"#N/A"},{"$f":"+VLOOKUP('BASE DE RESPUESTAS'!AK37,Back!$M$17:$N$23,2,0)","v":"#N/A"},{"$f":"+VLOOKUP('BASE DE RESPUESTAS'!AL37,Back!$M$17:$N$23,2,0)","v":"#N/A"},{"$f":"+VLOOKUP('BASE DE RESPUESTAS'!AM37,Back!$M$17:$N$23,2,0)","v":"#N/A"},{"$f":"+VLOOKUP('BASE DE RESPUESTAS'!AN37,Back!$M$17:$N$23,2,0)","v":"#N/A"},{"$f":"+VLOOKUP('BASE DE RESPUESTAS'!AO37,Back!$M$17:$N$23,2,0)","v":"#N/A"},{"$f":"+VLOOKUP('BASE DE RESPUESTAS'!AP37,Back!$M$17:$N$23,2,0)","v":"#N/A"},{"$f":"+VLOOKUP('BASE DE RESPUESTAS'!AQ37,Back!$M$17:$N$23,2,0)","v":"#N/A"},{"$f":"+VLOOKUP('BASE DE RESPUESTAS'!AR37,Back!$M$17:$N$23,2,0)","v":"#N/A"},{"$f":"+VLOOKUP('BASE DE RESPUESTAS'!AS37,Back!$M$17:$N$23,2,0)","v":"#N/A"},{"$f":"+VLOOKUP('BASE DE RESPUESTAS'!AT37,Back!$M$17:$N$23,2,0)","v":"#N/A"},{"$f":"+VLOOKUP('BASE DE RESPUESTAS'!AU37,Back!$M$17:$N$23,2,0)","v":"#N/A"},{"$f":"+VLOOKUP('BASE DE RESPUESTAS'!AV37,Back!$M$17:$N$23,2,0)","v":"#N/A"},{"$f":"+VLOOKUP('BASE DE RESPUESTAS'!AW37,Back!$M$17:$N$23,2,0)","v":"#N/A"},{"$f":"+VLOOKUP('BASE DE RESPUESTAS'!AX37,Back!$M$17:$N$23,2,0)","v":"#N/A"},{"$f":"+VLOOKUP('BASE DE RESPUESTAS'!AY37,Back!$M$17:$N$23,2,0)","v":"#N/A"},{"$f":"+VLOOKUP('BASE DE RESPUESTAS'!AZ37,Back!$M$17:$N$23,2,0)","v":"#N/A"},{"$f":"+VLOOKUP('BASE DE RESPUESTAS'!BA37,Back!$M$17:$N$23,2,0)","v":"#N/A"},{"$f":"+VLOOKUP('BASE DE RESPUESTAS'!BB37,Back!$M$17:$N$23,2,0)","v":"#N/A"},{"$f":"+VLOOKUP('BASE DE RESPUESTAS'!BC37,Back!$M$17:$N$23,2,0)","v":"#N/A"},{"$f":"+VLOOKUP('BASE DE RESPUESTAS'!BD37,Back!$M$17:$N$23,2,0)","v":"#N/A"},{"$f":"+VLOOKUP('BASE DE RESPUESTAS'!BE37,Back!$M$17:$N$23,2,0)","v":"#N/A"}]
[null,"FR","Dificultades en el desarrollo emocional","La niña o el niño muestra cambios de humor repentinos.",32.0,"Cambia de la alegría al enojo con facilidad o viceversa.",null,{"$f":"+VLOOKUP('BASE DE RESPUESTAS'!H38,Back!$M$17:$N$23,2,0)","v":"#N/A"},{"$f":"+VLOOKUP('BASE DE RESPUESTAS'!I38,Back!$M$17:$N$23,2,0)","v":"#N/A"},{"$f":"+VLOOKUP('BASE DE RESPUESTAS'!J38,Back!$M$17:$N$23,2,0)","v":"#N/A"},{"$f":"+VLOOKUP('BASE DE RESPUESTAS'!K38,Back!$M$17:$N$23,2,0)","v":"#N/A"},{"$f":"+VLOOKUP('BASE DE RESPUESTAS'!L38,Back!$M$17:$N$23,2,0)","v":"#N/A"},{"$f":"+VLOOKUP('BASE DE RESPUESTAS'!M38,Back!$M$17:$N$23,2,0)","v":"#N/A"},{"$f":"+VLOOKUP('BASE DE RESPUESTAS'!N38,Back!$M$17:$N$23,2,0)","v":"#N/A"},{"$f":"+VLOOKUP('BASE DE RESPUESTAS'!O38,Back!$M$17:$N$23,2,0)","v":"#N/A"},{"$f":"+VLOOKUP('BASE DE RESPUESTAS'!P38,Back!$M$17:$N$23,2,0)","v":"#N/A"},{"$f":"+VLOOKUP('BASE DE RESPUESTAS'!Q38,Back!$M$17:$N$23,2,0)","v":"#N/A"},{"$f":"+VLOOKUP('BASE DE RESPUESTAS'!R38,Back!$M$17:$N$23,2,0)","v":"#N/A"},{"$f":"+VLOOKUP('BASE DE RESPUESTAS'!S38,Back!$M$17:$N$23,2,0)","v":"#N/A"},{"$f":"+VLOOKUP('BASE DE RESPUESTAS'!T38,Back!$M$17:$N$23,2,0)","v":"#N/A"},{"$f":"+VLOOKUP('BASE DE RESPUESTAS'!U38,Back!$M$17:$N$23,2,0)","v":"#N/A"},{"$f":"+VLOOKUP('BASE DE RESPUESTAS'!V38,Back!$M$17:$N$23,2,0)","v":"#N/A"},{"$f":"+VLOOKUP('BASE DE RESPUESTAS'!W38,Back!$M$17:$N$23,2,0)","v":"#N/A"},{"$f":"+VLOOKUP('BASE DE RESPUESTAS'!X38,Back!$M$17:$N$23,2,0)","v":"#N/A"},{"$f":"+VLOOKUP('BASE DE RESPUESTAS'!Y38,Back!$M$17:$N$23,2,0)","v":"#N/A"},{"$f":"+VLOOKUP('BASE DE RESPUESTAS'!Z38,Back!$M$17:$N$23,2,0)","v":"#N/A"},{"$f":"+VLOOKUP('BASE DE RESPUESTAS'!AA38,Back!$M$17:$N$23,2,0)","v":"#N/A"},{"$f":"+VLOOKUP('BASE DE RESPUESTAS'!AB38,Back!$M$17:$N$23,2,0)","v":"#N/A"},{"$f":"+VLOOKUP('BASE DE RESPUESTAS'!AC38,Back!$M$17:$N$23,2,0)","v":"#N/A"},{"$f":"+VLOOKUP('BASE DE RESPUESTAS'!AD38,Back!$M$17:$N$23,2,0)","v":"#N/A"},{"$f":"+VLOOKUP('BASE DE RESPUESTAS'!AE38,Back!$M$17:$N$23,2,0)","v":"#N/A"},{"$f":"+VLOOKUP('BASE DE RESPUESTAS'!AF38,Back!$M$17:$N$23,2,0)","v":"#N/A"},{"$f":"+VLOOKUP('BASE DE RESPUESTAS'!AG38,Back!$M$17:$N$23,2,0)","v":"#N/A"},{"$f":"+VLOOKUP('BASE DE RESPUESTAS'!AH38,Back!$M$17:$N$23,2,0)","v":"#N/A"},{"$f":"+VLOOKUP('BASE DE RESPUESTAS'!AI38,Back!$M$17:$N$23,2,0)","v":"#N/A"},{"$f":"+VLOOKUP('BASE DE RESPUESTAS'!AJ38,Back!$M$17:$N$23,2,0)","v":"#N/A"},{"$f":"+VLOOKUP('BASE DE RESPUESTAS'!AK38,Back!$M$17:$N$23,2,0)","v":"#N/A"},{"$f":"+VLOOKUP('BASE DE RESPUESTAS'!AL38,Back!$M$17:$N$23,2,0)","v":"#N/A"},{"$f":"+VLOOKUP('BASE DE RESPUESTAS'!AM38,Back!$M$17:$N$23,2,0)","v":"#N/A"},{"$f":"+VLOOKUP('BASE DE RESPUESTAS'!AN38,Back!$M$17:$N$23,2,0)","v":"#N/A"},{"$f":"+VLOOKUP('BASE DE RESPUESTAS'!AO38,Back!$M$17:$N$23,2,0)","v":"#N/A"},{"$f":"+VLOOKUP('BASE DE RESPUESTAS'!AP38,Back!$M$17:$N$23,2,0)","v":"#N/A"},{"$f":"+VLOOKUP('BASE DE RESPUESTAS'!AQ38,Back!$M$17:$N$23,2,0)","v":"#N/A"},{"$f":"+VLOOKUP('BASE DE RESPUESTAS'!AR38,Back!$M$17:$N$23,2,0)","v":"#N/A"},{"$f":"+VLOOKUP('BASE DE RESPUESTAS'!AS38,Back!$M$17:$N$23,2,0)","v":"#N/A"},{"$f":"+VLOOKUP('BASE DE RESPUESTAS'!AT38,Back!$M$17:$N$23,2,0)","v":"#N/A"},{"$f":"+VLOOKUP('BASE DE RESPUESTAS'!AU38,Back!$M$17:$N$23,2,0)","v":"#N/A"},{"$f":"+VLOOKUP('BASE DE RESPUESTAS'!AV38,Back!$M$17:$N$23,2,0)","v":"#N/A"},{"$f":"+VLOOKUP('BASE DE RESPUESTAS'!AW38,Back!$M$17:$N$23,2,0)","v":"#N/A"},{"$f":"+VLOOKUP('BASE DE RESPUESTAS'!AX38,Back!$M$17:$N$23,2,0)","v":"#N/A"},{"$f":"+VLOOKUP('BASE DE RESPUESTAS'!AY38,Back!$M$17:$N$23,2,0)","v":"#N/A"},{"$f":"+VLOOKUP('BASE DE RESPUESTAS'!AZ38,Back!$M$17:$N$23,2,0)","v":"#N/A"},{"$f":"+VLOOKUP('BASE DE RESPUESTAS'!BA38,Back!$M$17:$N$23,2,0)","v":"#N/A"},{"$f":"+VLOOKUP('BASE DE RESPUESTAS'!BB38,Back!$M$17:$N$23,2,0)","v":"#N/A"},{"$f":"+VLOOKUP('BASE DE RESPUESTAS'!BC38,Back!$M$17:$N$23,2,0)","v":"#N/A"},{"$f":"+VLOOKUP('BASE DE RESPUESTAS'!BD38,Back!$M$17:$N$23,2,0)","v":"#N/A"},{"$f":"+VLOOKUP('BASE DE RESPUESTAS'!BE38,Back!$M$17:$N$23,2,0)","v":"#N/A"}]
[null,null,null,"La niña o el niño se irrita desproporcionadamente cuando se le da una indicación que no quiere seguir.",33.0,"Grita o llora intensamente cuando se le pide dejar de jugar.",null,{"$f":"+VLOOKUP('BASE DE RESPUESTAS'!H39,Back!$M$17:$N$23,2,0)","v":"#N/A"},{"$f":"+VLOOKUP('BASE DE RESPUESTAS'!I39,Back!$M$17:$N$23,2,0)","v":"#N/A"},{"$f":"+VLOOKUP('BASE DE RESPUESTAS'!J39,Back!$M$17:$N$23,2,0)","v":"#N/A"},{"$f":"+VLOOKUP('BASE DE RESPUESTAS'!K39,Back!$M$17:$N$23,2,0)","v":"#N/A"},{"$f":"+VLOOKUP('BASE DE RESPUESTAS'!L39,Back!$M$17:$N$23,2,0)","v":"#N/A"},{"$f":"+VLOOKUP('BASE DE RESPUESTAS'!M39,Back!$M$17:$N$23,2,0)","v":"#N/A"},{"$f":"+VLOOKUP('BASE DE RESPUESTAS'!N39,Back!$M$17:$N$23,2,0)","v":"#N/A"},{"$f":"+VLOOKUP('BASE DE RESPUESTAS'!O39,Back!$M$17:$N$23,2,0)","v":"#N/A"},{"$f":"+VLOOKUP('BASE DE RESPUESTAS'!P39,Back!$M$17:$N$23,2,0)","v":"#N/A"},{"$f":"+VLOOKUP('BASE DE RESPUESTAS'!Q39,Back!$M$17:$N$23,2,0)","v":"#N/A"},{"$f":"+VLOOKUP('BASE DE RESPUESTAS'!R39,Back!$M$17:$N$23,2,0)","v":"#N/A"},{"$f":"+VLOOKUP('BASE DE RESPUESTAS'!S39,Back!$M$17:$N$23,2,0)","v":"#N/A"},{"$f":"+VLOOKUP('BASE DE RESPUESTAS'!T39,Back!$M$17:$N$23,2,0)","v":"#N/A"},{"$f":"+VLOOKUP('BASE DE RESPUESTAS'!U39,Back!$M$17:$N$23,2,0)","v":"#N/A"},{"$f":"+VLOOKUP('BASE DE RESPUESTAS'!V39,Back!$M$17:$N$23,2,0)","v":"#N/A"},{"$f":"+VLOOKUP('BASE DE RESPUESTAS'!W39,Back!$M$17:$N$23,2,0)","v":"#N/A"},{"$f":"+VLOOKUP('BASE DE RESPUESTAS'!X39,Back!$M$17:$N$23,2,0)","v":"#N/A"},{"$f":"+VLOOKUP('BASE DE RESPUESTAS'!Y39,Back!$M$17:$N$23,2,0)","v":"#N/A"},{"$f":"+VLOOKUP('BASE DE RESPUESTAS'!Z39,Back!$M$17:$N$23,2,0)","v":"#N/A"},{"$f":"+VLOOKUP('BASE DE RESPUESTAS'!AA39,Back!$M$17:$N$23,2,0)","v":"#N/A"},{"$f":"+VLOOKUP('BASE DE RESPUESTAS'!AB39,Back!$M$17:$N$23,2,0)","v":"#N/A"},{"$f":"+VLOOKUP('BASE DE RESPUESTAS'!AC39,Back!$M$17:$N$23,2,0)","v":"#N/A"},{"$f":"+VLOOKUP('BASE DE RESPUESTAS'!AD39,Back!$M$17:$N$23,2,0)","v":"#N/A"},{"$f":"+VLOOKUP('BASE DE RESPUESTAS'!AE39,Back!$M$17:$N$23,2,0)","v":"#N/A"},{"$f":"+VLOOKUP('BASE DE RESPUESTAS'!AF39,Back!$M$17:$N$23,2,0)","v":"#N/A"},{"$f":"+VLOOKUP('BASE DE RESPUESTAS'!AG39,Back!$M$17:$N$23,2,0)","v":"#N/A"},{"$f":"+VLOOKUP('BASE DE RESPUESTAS'!AH39,Back!$M$17:$N$23,2,0)","v":"#N/A"},{"$f":"+VLOOKUP('BASE DE RESPUESTAS'!AI39,Back!$M$17:$N$23,2,0)","v":"#N/A"},{"$f":"+VLOOKUP('BASE DE RESPUESTAS'!AJ39,Back!$M$17:$N$23,2,0)","v":"#N/A"},{"$f":"+VLOOKUP('BASE DE RESPUESTAS'!AK39,Back!$M$17:$N$23,2,0)","v":"#N/A"},{"$f":"+VLOOKUP('BASE DE RESPUESTAS'!AL39,Back!$M$17:$N$23,2,0)","v":"#N/A"},{"$f":"+VLOOKUP('BASE DE RESPUESTAS'!AM39,Back!$M$17:$N$23,2,0)","v":"#N/A"},{"$f":"+VLOOKUP('BASE DE RESPUESTAS'!AN39,Back!$M$17:$N$23,2,0)","v":"#N/A"},{"$f":"+VLOOKUP('BASE DE RESPUESTAS'!AO39,Back!$M$17:$N$23,2,0)","v":"#N/A"},{"$f":"+VLOOKUP('BASE DE RESPUESTAS'!AP39,Back!$M$17:$N$23,2,0)","v":"#N/A"},{"$f":"+VLOOKUP('BASE DE RESPUESTAS'!AQ39,Back!$M$17:$N$23,2,0)","v":"#N/A"},{"$f":"+VLOOKUP('BASE DE RESPUESTAS'!AR39,Back!$M$17:$N$23,2,0)","v":"#N/A"},{"$f":"+VLOOKUP('BASE DE RESPUESTAS'!AS39,Back!$M$17:$N$23,2,0)","v":"#N/A"},{"$f":"+VLOOKUP('BASE DE RESPUESTAS'!AT39,Back!$M$17:$N$23,2,0)","v":"#N/A"},{"$f":"+VLOOKUP('BASE DE RESPUESTAS'!AU39,Back!$M$17:$N$23,2,0)","v":"#N/A"},{"$f":"+VLOOKUP('BASE DE RESPUESTAS'!AV39,Back!$M$17:$N$23,2,0)","v":"#N/A"},{"$f":"+VLOOKUP('BASE DE RESPUESTAS'!AW39,Back!$M$17:$N$23,2,0)","v":"#N/A"},{"$f":"+VLOOKUP('BASE DE RESPUESTAS'!AX39,Back!$M$17:$N$23,2,0)","v":"#N/A"},{"$f":"+VLOOKUP('BASE DE RESPUESTAS'!AY39,Back!$M$17:$N$23,2,0)","v":"#N/A"},{"$f":"+VLOOKUP('BASE DE RESPUESTAS'!AZ39,Back!$M$17:$N$23,2,0)","v":"#N/A"},{"$f":"+VLOOKUP('BASE DE RESPUESTAS'!BA39,Back!$M$17:$N$23,2,0)","v":"#N/A"},{"$f":"+VLOOKUP('BASE DE RESPUESTAS'!BB39,Back!$M$17:$N$23,2,0)","v":"#N/A"},{"$f":"+VLOOKUP('BASE DE RESPUESTAS'!BC39,Back!$M$17:$N$23,2,0)","v":"#N/A"},{"$f":"+VLOOKUP('BASE DE RESPUESTAS'!BD39,Back!$M$17:$N$23,2,0)","v":"#N/A"},{"$f":"+VLOOKUP('BASE DE RESPUESTAS'!BE39,Back!$M$17:$N$23,2,0)","v":"#N/A"}]
[null,null,null,"La niña o el niño se frustra con facilidad cuando no puede realizar una actividad, llorando y/o dejando de intentar.",34.0,"Se frustra con facilidad cuando no puede realizar una actividad (Ej. pasar un hilo por una cuenta, realizar un trazo).",null,{"$f":"+VLOOKUP('BASE DE RESPUESTAS'!H40,Back!$M$17:$N$23,2,0)","v":"#N/A"},{"$f":"+VLOOKUP('BASE DE RESPUESTAS'!I40,Back!$M$17:$N$23,2,0)","v":"#N/A"},{"$f":"+VLOOKUP('BASE DE RESPUESTAS'!J40,Back!$M$17:$N$23,2,0)","v":"#N/A"},{"$f":"+VLOOKUP('BASE DE RESPUESTAS'!K40,Back!$M$17:$N$23,2,0)","v":"#N/A"},{"$f":"+VLOOKUP('BASE DE RESPUESTAS'!L40,Back!$M$17:$N$23,2,0)","v":"#N/A"},{"$f":"+VLOOKUP('BASE DE RESPUESTAS'!M40,Back!$M$17:$N$23,2,0)","v":"#N/A"},{"$f":"+VLOOKUP('BASE DE RESPUESTAS'!N40,Back!$M$17:$N$23,2,0)","v":"#N/A"},{"$f":"+VLOOKUP('BASE DE RESPUESTAS'!O40,Back!$M$17:$N$23,2,0)","v":"#N/A"},{"$f":"+VLOOKUP('BASE DE RESPUESTAS'!P40,Back!$M$17:$N$23,2,0)","v":"#N/A"},{"$f":"+VLOOKUP('BASE DE RESPUESTAS'!Q40,Back!$M$17:$N$23,2,0)","v":"#N/A"},{"$f":"+VLOOKUP('BASE DE RESPUESTAS'!R40,Back!$M$17:$N$23,2,0)","v":"#N/A"},{"$f":"+VLOOKUP('BASE DE RESPUESTAS'!S40,Back!$M$17:$N$23,2,0)","v":"#N/A"},{"$f":"+VLOOKUP('BASE DE RESPUESTAS'!T40,Back!$M$17:$N$23,2,0)","v":"#N/A"},{"$f":"+VLOOKUP('BASE DE RESPUESTAS'!U40,Back!$M$17:$N$23,2,0)","v":"#N/A"},{"$f":"+VLOOKUP('BASE DE RESPUESTAS'!V40,Back!$M$17:$N$23,2,0)","v":"#N/A"},{"$f":"+VLOOKUP('BASE DE RESPUESTAS'!W40,Back!$M$17:$N$23,2,0)","v":"#N/A"},{"$f":"+VLOOKUP('BASE DE RESPUESTAS'!X40,Back!$M$17:$N$23,2,0)","v":"#N/A"},{"$f":"+VLOOKUP('BASE DE RESPUESTAS'!Y40,Back!$M$17:$N$23,2,0)","v":"#N/A"},{"$f":"+VLOOKUP('BASE DE RESPUESTAS'!Z40,Back!$M$17:$N$23,2,0)","v":"#N/A"},{"$f":"+VLOOKUP('BASE DE RESPUESTAS'!AA40,Back!$M$17:$N$23,2,0)","v":"#N/A"},{"$f":"+VLOOKUP('BASE DE RESPUESTAS'!AB40,Back!$M$17:$N$23,2,0)","v":"#N/A"},{"$f":"+VLOOKUP('BASE DE RESPUESTAS'!AC40,Back!$M$17:$N$23,2,0)","v":"#N/A"},{"$f":"+VLOOKUP('BASE DE RESPUESTAS'!AD40,Back!$M$17:$N$23,2,0)","v":"#N/A"},{"$f":"+VLOOKUP('BASE DE RESPUESTAS'!AE40,Back!$M$17:$N$23,2,0)","v":"#N/A"},{"$f":"+VLOOKUP('BASE DE RESPUESTAS'!AF40,Back!$M$17:$N$23,2,0)","v":"#N/A"},{"$f":"+VLOOKUP('BASE DE RESPUESTAS'!AG40,Back!$M$17:$N$23,2,0)","v":"#N/A"},{"$f":"+VLOOKUP('BASE DE RESPUESTAS'!AH40,Back!$M$17:$N$23,2,0)","v":"#N/A"},{"$f":"+VLOOKUP('BASE DE RESPUESTAS'!AI40,Back!$M$17:$N$23,2,0)","v":"#N/A"},{"$f":"+VLOOKUP('BASE DE RESPUESTAS'!AJ40,Back!$M$17:$N$23,2,0)","v":"#N/A"},{"$f":"+VLOOKUP('BASE DE RESPUESTAS'!AK40,Back!$M$17:$N$23,2,0)","v":"#N/A"},{"$f":"+VLOOKUP('BASE DE RESPUESTAS'!AL40,Back!$M$17:$N$23,2,0)","v":"#N/A"},{"$f":"+VLOOKUP('BASE DE RESPUESTAS'!AM40,Back!$M$17:$N$23,2,0)","v":"#N/A"},{"$f":"+VLOOKUP('BASE DE RESPUESTAS'!AN40,Back!$M$17:$N$23,2,0)","v":"#N/A"},{"$f":"+VLOOKUP('BASE DE RESPUESTAS'!AO40,Back!$M$17:$N$23,2,0)","v":"#N/A"},{"$f":"+VLOOKUP('BASE DE RESPUESTAS'!AP40,Back!$M$17:$N$23,2,0)","v":"#N/A"},{"$f":"+VLOOKUP('BASE DE RESPUESTAS'!AQ40,Back!$M$17:$N$23,2,0)","v":"#N/A"},{"$f":"+VLOOKUP('BASE DE RESPUESTAS'!AR40,Back!$M$17:$N$23,2,0)","v":"#N/A"},{"$f":"+VLOOKUP('BASE DE RESPUESTAS'!AS40,Back!$M$17:$N$23,2,0)","v":"#N/A"},{"$f":"+VLOOKUP('BASE DE RESPUESTAS'!AT40,Back!$M$17:$N$23,2,0)","v":"#N/A"},{"$f":"+VLOOKUP('BASE DE RESPUESTAS'!AU40,Back!$M$17:$N$23,2,0)","v":"#N/A"},{"$f":"+VLOOKUP('BASE DE RESPUESTAS'!AV40,Back!$M$17:$N$23,2,0)","v":"#N/A"},{"$f":"+VLOOKUP('BASE DE RESPUESTAS'!AW40,Back!$M$17:$N$23,2,0)","v":"#N/A"},{"$f":"+VLOOKUP('BASE DE RESPUESTAS'!AX40,Back!$M$17:$N$23,2,0)","v":"#N/A"},{"$f":"+VLOOKUP('BASE DE RESPUESTAS'!AY40,Back!$M$17:$N$23,2,0)","v":"#N/A"},{"$f":"+VLOOKUP('BASE DE RESPUESTAS'!AZ40,Back!$M$17:$N$23,2,0)","v":"#N/A"},{"$f":"+VLOOKUP('BASE DE RESPUESTAS'!BA40,Back!$M$17:$N$23,2,0)","v":"#N/A"},{"$f":"+VLOOKUP('BASE DE RESPUESTAS'!BB40,Back!$M$17:$N$23,2,0)","v":"#N/A"},{"$f":"+VLOOKUP('BASE DE RESPUESTAS'!BC40,Back!$M$17:$N$23,2,0)","v":"#N/A"},{"$f":"+VLOOKUP('BASE DE RESPUESTAS'!BD40,Back!$M$17:$N$23,2,0)","v":"#N/A"},{"$f":"+VLOOKUP('BASE DE RESPUESTAS'!BE40,Back!$M$17:$N$23,2,0)","v":"#N/A"}]
[null,null,null,"La niña o el niño llora o se irrita de forma desbordada al separarse de su madre, padre o cuidador/a.",35.0,"Se irrita de forma desbordada al separarse de su madre, padre o cuidador/a.",null,{"$f":"+VLOOKUP('BASE DE RESPUESTAS'!H41,Back!$M$17:$N$23,2,0)","v":"#N/A"},{"$f":"+VLOOKUP('BASE DE RESPUESTAS'!I41,Back!$M$17:$N$23,2,0)","v":"#N/A"},{"$f":"+VLOOKUP('BASE DE RESPUESTAS'!J41,Back!$M$17:$N$23,2,0)","v":"#N/A"},{"$f":"+VLOOKUP('BASE DE RESPUESTAS'!K41,Back!$M$17:$N$23,2,0)","v":"#N/A"},{"$f":"+VLOOKUP('BASE DE RESPUESTAS'!L41,Back!$M$17:$N$23,2,0)","v":"#N/A"},{"$f":"+VLOOKUP('BASE DE RESPUESTAS'!M41,Back!$M$17:$N$23,2,0)","v":"#N/A"},{"$f":"+VLOOKUP('BASE DE RESPUESTAS'!N41,Back!$M$17:$N$23,2,0)","v":"#N/A"},{"$f":"+VLOOKUP('BASE DE RESPUESTAS'!O41,Back!$M$17:$N$23,2,0)","v":"#N/A"},{"$f":"+VLOOKUP('BASE DE RESPUESTAS'!P41,Back!$M$17:$N$23,2,0)","v":"#N/A"},{"$f":"+VLOOKUP('BASE DE RESPUESTAS'!Q41,Back!$M$17:$N$23,2,0)","v":"#N/A"},{"$f":"+VLOOKUP('BASE DE RESPUESTAS'!R41,Back!$M$17:$N$23,2,0)","v":"#N/A"},{"$f":"+VLOOKUP('BASE DE RESPUESTAS'!S41,Back!$M$17:$N$23,2,0)","v":"#N/A"},{"$f":"+VLOOKUP('BASE DE RESPUESTAS'!T41,Back!$M$17:$N$23,2,0)","v":"#N/A"},{"$f":"+VLOOKUP('BASE DE RESPUESTAS'!U41,Back!$M$17:$N$23,2,0)","v":"#N/A"},{"$f":"+VLOOKUP('BASE DE RESPUESTAS'!V41,Back!$M$17:$N$23,2,0)","v":"#N/A"},{"$f":"+VLOOKUP('BASE DE RESPUESTAS'!W41,Back!$M$17:$N$23,2,0)","v":"#N/A"},{"$f":"+VLOOKUP('BASE DE RESPUESTAS'!X41,Back!$M$17:$N$23,2,0)","v":"#N/A"},{"$f":"+VLOOKUP('BASE DE RESPUESTAS'!Y41,Back!$M$17:$N$23,2,0)","v":"#N/A"},{"$f":"+VLOOKUP('BASE DE RESPUESTAS'!Z41,Back!$M$17:$N$23,2,0)","v":"#N/A"},{"$f":"+VLOOKUP('BASE DE RESPUESTAS'!AA41,Back!$M$17:$N$23,2,0)","v":"#N/A"},{"$f":"+VLOOKUP('BASE DE RESPUESTAS'!AB41,Back!$M$17:$N$23,2,0)","v":"#N/A"},{"$f":"+VLOOKUP('BASE DE RESPUESTAS'!AC41,Back!$M$17:$N$23,2,0)","v":"#N/A"},{"$f":"+VLOOKUP('BASE DE RESPUESTAS'!AD41,Back!$M$17:$N$23,2,0)","v":"#N/A"},{"$f":"+VLOOKUP('BASE DE RESPUESTAS'!AE41,Back!$M$17:$N$23,2,0)","v":"#N/A"},{"$f":"+VLOOKUP('BASE DE RESPUESTAS'!AF41,Back!$M$17:$N$23,2,0)","v":"#N/A"},{"$f":"+VLOOKUP('BASE DE RESPUESTAS'!AG41,Back!$M$17:$N$23,2,0)","v":"#N/A"},{"$f":"+VLOOKUP('BASE DE RESPUESTAS'!AH41,Back!$M$17:$N$23,2,0)","v":"#N/A"},{"$f":"+VLOOKUP('BASE DE RESPUESTAS'!AI41,Back!$M$17:$N$23,2,0)","v":"#N/A"},{"$f":"+VLOOKUP('BASE DE RESPUESTAS'!AJ41,Back!$M$17:$N$23,2,0)","v":"#N/A"},{"$f":"+VLOOKUP('BASE DE RESPUESTAS'!AK41,Back!$M$17:$N$23,2,0)","v":"#N/A"},{"$f":"+VLOOKUP('BASE DE RESPUESTAS'!AL41,Back!$M$17:$N$23,2,0)","v":"#N/A"},{"$f":"+VLOOKUP('BASE DE RESPUESTAS'!AM41,Back!$M$17:$N$23,2,0)","v":"#N/A"},{"$f":"+VLOOKUP('BASE DE RESPUESTAS'!AN41,Back!$M$17:$N$23,2,0)","v":"#N/A"},{"$f":"+VLOOKUP('BASE DE RESPUESTAS'!AO41,Back!$M$17:$N$23,2,0)","v":"#N/A"},{"$f":"+VLOOKUP('BASE DE RESPUESTAS'!AP41,Back!$M$17:$N$23,2,0)","v":"#N/A"},{"$f":"+VLOOKUP('BASE DE RESPUESTAS'!AQ41,Back!$M$17:$N$23,2,0)","v":"#N/A"},{"$f":"+VLOOKUP('BASE DE RESPUESTAS'!AR41,Back!$M$17:$N$23,2,0)","v":"#N/A"},{"$f":"+VLOOKUP('BASE DE RESPUESTAS'!AS41,Back!$M$17:$N$23,2,0)","v":"#N/A"},{"$f":"+VLOOKUP('BASE DE RESPUESTAS'!AT41,Back!$M$17:$N$23,2,0)","v":"#N/A"},{"$f":"+VLOOKUP('BASE DE RESPUESTAS'!AU41,Back!$M$17:$N$23,2,0)","v":"#N/A"},{"$f":"+VLOOKUP('BASE DE RESPUESTAS'!AV41,Back!$M$17:$N$23,2,0)","v":"#N/A"},{"$f":"+VLOOKUP('BASE DE RESPUESTAS'!AW41,Back!$M$17:$N$23,2,0)","v":"#N/A"},{"$f":"+VLOOKUP('BASE DE RESPUESTAS'!AX41,Back!$M$17:$N$23,2,0)","v":"#N/A"},{"$f":"+VLOOKUP('BASE DE RESPUESTAS'!AY41,Back!$M$17:$N$23,2,0)","v":"#N/A"},{"$f":"+VLOOKUP('BASE DE RESPUESTAS'!AZ41,Back!$M$17:$N$23,2,0)","v":"#N/A"},{"$f":"+VLOOKUP('BASE DE RESPUESTAS'!BA41,Back!$M$17:$N$23,2,0)","v":"#N/A"},{"$f":"+VLOOKUP('BASE DE RESPUESTAS'!BB41,Back!$M$17:$N$23,2,0)","v":"#N/A"},{"$f":"+VLOOKUP('BASE DE RESPUESTAS'!BC41,Back!$M$17:$N$23,2,0)","v":"#N/A"},{"$f":"+VLOOKUP('BASE DE RESPUESTAS'!BD41,Back!$M$17:$N$23,2,0)","v":"#N/A"},{"$f":"+VLOOKUP('BASE DE RESPUESTAS'!BE41,Back!$M$17:$N$23,2,0)","v":"#N/A"}]
[null,"FR","Dificultades en el desarrollo social","La niña o el niño se retrae y no participa de actividades grupales.",36.0,"Se aísla mientras sus compañeras/os juegan.",null,{"$f":"+VLOOKUP('BASE DE RESPUESTAS'!H42,Back!$M$17:$N$23,2,0)","v":"#N/A"},{"$f":"+VLOOKUP('BASE DE RESPUESTAS'!I42,Back!$M$17:$N$23,2,0)","v":"#N/A"},{"$f":"+VLOOKUP('BASE DE RESPUESTAS'!J42,Back!$M$17:$N$23,2,0)","v":"#N/A"},{"$f":"+VLOOKUP('BASE DE RESPUESTAS'!K42,Back!$M$17:$N$23,2,0)","v":"#N/A"},{"$f":"+VLOOKUP('BASE DE RESPUESTAS'!L42,Back!$M$17:$N$23,2,0)","v":"#N/A"},{"$f":"+VLOOKUP('BASE DE RESPUESTAS'!M42,Back!$M$17:$N$23,2,0)","v":"#N/A"},{"$f":"+VLOOKUP('BASE DE RESPUESTAS'!N42,Back!$M$17:$N$23,2,0)","v":"#N/A"},{"$f":"+VLOOKUP('BASE DE RESPUESTAS'!O42,Back!$M$17:$N$23,2,0)","v":"#N/A"},{"$f":"+VLOOKUP('BASE DE RESPUESTAS'!P42,Back!$M$17:$N$23,2,0)","v":"#N/A"},{"$f":"+VLOOKUP('BASE DE RESPUESTAS'!Q42,Back!$M$17:$N$23,2,0)","v":"#N/A"},{"$f":"+VLOOKUP('BASE DE RESPUESTAS'!R42,Back!$M$17:$N$23,2,0)","v":"#N/A"},{"$f":"+VLOOKUP('BASE DE RESPUESTAS'!S42,Back!$M$17:$N$23,2,0)","v":"#N/A"},{"$f":"+VLOOKUP('BASE DE RESPUESTAS'!T42,Back!$M$17:$N$23,2,0)","v":"#N/A"},{"$f":"+VLOOKUP('BASE DE RESPUESTAS'!U42,Back!$M$17:$N$23,2,0)","v":"#N/A"},{"$f":"+VLOOKUP('BASE DE RESPUESTAS'!V42,Back!$M$17:$N$23,2,0)","v":"#N/A"},{"$f":"+VLOOKUP('BASE DE RESPUESTAS'!W42,Back!$M$17:$N$23,2,0)","v":"#N/A"},{"$f":"+VLOOKUP('BASE DE RESPUESTAS'!X42,Back!$M$17:$N$23,2,0)","v":"#N/A"},{"$f":"+VLOOKUP('BASE DE RESPUESTAS'!Y42,Back!$M$17:$N$23,2,0)","v":"#N/A"},{"$f":"+VLOOKUP('BASE DE RESPUESTAS'!Z42,Back!$M$17:$N$23,2,0)","v":"#N/A"},{"$f":"+VLOOKUP('BASE DE RESPUESTAS'!AA42,Back!$M$17:$N$23,2,0)","v":"#N/A"},{"$f":"+VLOOKUP('BASE DE RESPUESTAS'!AB42,Back!$M$17:$N$23,2,0)","v":"#N/A"},{"$f":"+VLOOKUP('BASE DE RESPUESTAS'!AC42,Back!$M$17:$N$23,2,0)","v":"#N/A"},{"$f":"+VLOOKUP('BASE DE RESPUESTAS'!AD42,Back!$M$17:$N$23,2,0)","v":"#N/A"},{"$f":"+VLOOKUP('BASE DE RESPUESTAS'!AE42,Back!$M$17:$N$23,2,0)","v":"#N/A"},{"$f":"+VLOOKUP('BASE DE RESPUESTAS'!AF42,Back!$M$17:$N$23,2,0)","v":"#N/A"},{"$f":"+VLOOKUP('BASE DE RESPUESTAS'!AG42,Back!$M$17:$N$23,2,0)","v":"#N/A"},{"$f":"+VLOOKUP('BASE DE RESPUESTAS'!AH42,Back!$M$17:$N$23,2,0)","v":"#N/A"},{"$f":"+VLOOKUP('BASE DE RESPUESTAS'!AI42,Back!$M$17:$N$23,2,0)","v":"#N/A"},{"$f":"+VLOOKUP('BASE DE RESPUESTAS'!AJ42,Back!$M$17:$N$23,2,0)","v":"#N/A"},{"$f":"+VLOOKUP('BASE DE RESPUESTAS'!AK42,Back!$M$17:$N$23,2,0)","v":"#N/A"},{"$f":"+VLOOKUP('BASE DE RESPUESTAS'!AL42,Back!$M$17:$N$23,2,0)","v":"#N/A"},{"$f":"+VLOOKUP('BASE DE RESPUESTAS'!AM42,Back!$M$17:$N$23,2,0)","v":"#N/A"},{"$f":"+VLOOKUP('BASE DE RESPUESTAS'!AN42,Back!$M$17:$N$23,2,0)","v":"#N/A"},{"$f":"+VLOOKUP('BASE DE RESPUESTAS'!AO42,Back!$M$17:$N$23,2,0)","v":"#N/A"},{"$f":"+VLOOKUP('BASE DE RESPUESTAS'!AP42,Back!$M$17:$N$23,2,0)","v":"#N/A"},{"$f":"+VLOOKUP('BASE DE RESPUESTAS'!AQ42,Back!$M$17:$N$23,2,0)","v":"#N/A"},{"$f":"+VLOOKUP('BASE DE RESPUESTAS'!AR42,Back!$M$17:$N$23,2,0)","v":"#N/A"},{"$f":"+VLOOKUP('BASE DE RESPUESTAS'!AS42,Back!$M$17:$N$23,2,0)","v":"#N/A"},{"$f":"+VLOOKUP('BASE DE RESPUESTAS'!AT42,Back!$M$17:$N$23,2,0)","v":"#N/A"},{"$f":"+VLOOKUP('BASE DE RESPUESTAS'!AU42,Back!$M$17:$N$23,2,0)","v":"#N/A"},{"$f":"+VLOOKUP('BASE DE RESPUESTAS'!AV42,Back!$M$17:$N$23,2,0)","v":"#N/A"},{"$f":"+VLOOKUP('BASE DE RESPUESTAS'!AW42,Back!$M$17:$N$23,2,0)","v":"#N/A"},{"$f":"+VLOOKUP('BASE DE RESPUESTAS'!AX42,Back!$M$17:$N$23,2,0)","v":"#N/A"},{"$f":"+VLOOKUP('BASE DE RESPUESTAS'!AY42,Back!$M$17:$N$23,2,0)","v":"#N/A"},{"$f":"+VLOOKUP('BASE DE RESPUESTAS'!AZ42,Back!$M$17:$N$23,2,0)","v":"#N/A"},{"$f":"+VLOOKUP('BASE DE RESPUESTAS'!BA42,Back!$M$17:$N$23,2,0)","v":"#N/A"},{"$f":"+VLOOKUP('BASE DE RESPUESTAS'!BB42,Back!$M$17:$N$23,2,0)","v":"#N/A"},{"$f":"+VLOOKUP('BASE DE RESPUESTAS'!BC42,Back!$M$17:$N$23,2,0)","v":"#N/A"},{"$f":"+VLOOKUP('BASE DE RESPUESTAS'!BD42,Back!$M$17:$N$23,2,0)","v":"#N/A"},{"$f":"+VLOOKUP('BASE DE RESPUESTAS'!BE42,Back!$M$17:$N$23,2,0)","v":"#N/A"}]
[null,null,null,null,37.0,"Se niega a participar en el grupo.",null,{"$f":"+VLOOKUP('BASE DE RESPUESTAS'!H43,Back!$M$17:$N$23,2,0)","v":"#N/A"},{"$f":"+VLOOKUP('BASE DE RESPUESTAS'!I43,Back!$M$17:$N$23,2,0)","v":"#N/A"},{"$f":"+VLOOKUP('BASE DE RESPUESTAS'!J43,Back!$M$17:$N$23,2,0)","v":"#N/A"},{"$f":"+VLOOKUP('BASE DE RESPUESTAS'!K43,Back!$M$17:$N$23,2,0)","v":"#N/A"},{"$f":"+VLOOKUP('BASE DE RESPUESTAS'!L43,Back!$M$17:$N$23,2,0)","v":"#N/A"},{"$f":"+VLOOKUP('BASE DE RESPUESTAS'!M43,Back!$M$17:$N$23,2,0)","v":"#N/A"},{"$f":"+VLOOKUP('BASE DE RESPUESTAS'!N43,Back!$M$17:$N$23,2,0)","v":"#N/A"},{"$f":"+VLOOKUP('BASE DE RESPUESTAS'!O43,Back!$M$17:$N$23,2,0)","v":"#N/A"},{"$f":"+VLOOKUP('BASE DE RESPUESTAS'!P43,Back!$M$17:$N$23,2,0)","v":"#N/A"},{"$f":"+VLOOKUP('BASE DE RESPUESTAS'!Q43,Back!$M$17:$N$23,2,0)","v":"#N/A"},{"$f":"+VLOOKUP('BASE DE RESPUESTAS'!R43,Back!$M$17:$N$23,2,0)","v":"#N/A"},{"$f":"+VLOOKUP('BASE DE RESPUESTAS'!S43,Back!$M$17:$N$23,2,0)","v":"#N/A"},{"$f":"+VLOOKUP('BASE DE RESPUESTAS'!T43,Back!$M$17:$N$23,2,0)","v":"#N/A"},{"$f":"+VLOOKUP('BASE DE RESPUESTAS'!U43,Back!$M$17:$N$23,2,0)","v":"#N/A"},{"$f":"+VLOOKUP('BASE DE RESPUESTAS'!V43,Back!$M$17:$N$23,2,0)","v":"#N/A"},{"$f":"+VLOOKUP('BASE DE RESPUESTAS'!W43,Back!$M$17:$N$23,2,0)","v":"#N/A"},{"$f":"+VLOOKUP('BASE DE RESPUESTAS'!X43,Back!$M$17:$N$23,2,0)","v":"#N/A"},{"$f":"+VLOOKUP('BASE DE RESPUESTAS'!Y43,Back!$M$17:$N$23,2,0)","v":"#N/A"},{"$f":"+VLOOKUP('BASE DE RESPUESTAS'!Z43,Back!$M$17:$N$23,2,0)","v":"#N/A"},{"$f":"+VLOOKUP('BASE DE RESPUESTAS'!AA43,Back!$M$17:$N$23,2,0)","v":"#N/A"},{"$f":"+VLOOKUP('BASE DE RESPUESTAS'!AB43,Back!$M$17:$N$23,2,0)","v":"#N/A"},{"$f":"+VLOOKUP('BASE DE RESPUESTAS'!AC43,Back!$M$17:$N$23,2,0)","v":"#N/A"},{"$f":"+VLOOKUP('BASE DE RESPUESTAS'!AD43,Back!$M$17:$N$23,2,0)","v":"#N/A"},{"$f":"+VLOOKUP('BASE DE RESPUESTAS'!AE43,Back!$M$17:$N$23,2,0)","v":"#N/A"},{"$f":"+VLOOKUP('BASE DE RESPUESTAS'!AF43,Back!$M$17:$N$23,2,0)","v":"#N/A"},{"$f":"+VLOOKUP('BASE DE RESPUESTAS'!AG43,Back!$M$17:$N$23,2,0)","v":"#N/A"},{"$f":"+VLOOKUP('BASE DE RESPUESTAS'!AH43,Back!$M$17:$N$23,2,0)","v":"#N/A"},{"$f":"+VLOOKUP('BASE DE RESPUESTAS'!AI43,Back!$M$17:$N$23,2,0)","v":"#N/A"},{"$f":"+VLOOKUP('BASE DE RESPUESTAS'!AJ43,Back!$M$17:$N$23,2,0)","v":"#N/A"},{"$f":"+VLOOKUP('BASE DE RESPUESTAS'!AK43,Back!$M$17:$N$23,2,0)","v":"#N/A"},{"$f":"+VLOOKUP('BASE DE RESPUESTAS'!AL43,Back!$M$17:$N$23,2,0)","v":"#N/A"},{"$f":"+VLOOKUP('BASE DE RESPUESTAS'!AM43,Back!$M$17:$N$23,2,0)","v":"#N/A"},{"$f":"+VLOOKUP('BASE DE RESPUESTAS'!AN43,Back!$M$17:$N$23,2,0)","v":"#N/A"},{"$f":"+VLOOKUP('BASE DE RESPUESTAS'!AO43,Back!$M$17:$N$23,2,0)","v":"#N/A"},{"$f":"+VLOOKUP('BASE DE RESPUESTAS'!AP43,Back!$M$17:$N$23,2,0)","v":"#N/A"},{"$f":"+VLOOKUP('BASE DE RESPUESTAS'!AQ43,Back!$M$17:$N$23,2,0)","v":"#N/A"},{"$f":"+VLOOKUP('BASE DE RESPUESTAS'!AR43,Back!$M$17:$N$23,2,0)","v":"#N/A"},{"$f":"+VLOOKUP('BASE DE RESPUESTAS'!AS43,Back!$M$17:$N$23,2,0)","v":"#N/A"},{"$f":"+VLOOKUP('BASE DE RESPUESTAS'!AT43,Back!$M$17:$N$23,2,0)","v":"#N/A"},{"$f":"+VLOOKUP('BASE DE RESPUESTAS'!AU43,Back!$M$17:$N$23,2,0)","v":"#N/A"},{"$f":"+VLOOKUP('BASE DE RESPUESTAS'!AV43,Back!$M$17:$N$23,2,0)","v":"#N/A"},{"$f":"+VLOOKUP('BASE DE RESPUESTAS'!AW43,Back!$M$17:$N$23,2,0)","v":"#N/A"},{"$f":"+VLOOKUP('BASE DE RESPUESTAS'!AX43,Back!$M$17:$N$23,2,0)","v":"#N/A"},{"$f":"+VLOOKUP('BASE DE RESPUESTAS'!AY43,Back!$M$17:$N$23,2,0)","v":"#N/A"},{"$f":"+VLOOKUP('BASE DE RESPUESTAS'!AZ43,Back!$M$17:$N$23,2,0)","v":"#N/A"},{"$f":"+VLOOKUP('BASE DE RESPUESTAS'!BA43,Back!$M$17:$N$23,2,0)","v":"#N/A"},{"$f":"+VLOOKUP('BASE DE RESPUESTAS'!BB43,Back!$M$17:$N$23,2,0)","v":"#N/A"},{"$f":"+VLOOKUP('BASE DE RESPUESTAS'!BC43,Back!$M$17:$N$23,2,0)","v":"#N/A"},{"$f":"+VLOOKUP('BASE DE RESPUESTAS'!BD43,Back!$M$17:$N$23,2,0)","v":"#N/A"},{"$f":"+VLOOKUP('BASE DE RESPUESTAS'!BE43,Back!$M$17:$N$23,2,0)","v":"#N/A"}]
[null,null,null,"La niña o el niño se muestra tímido o retraído con compañeras/os que recién conoce.",38.0,"Se esconde o huye de compañeras/os que recién conoce.",null,{"$f":"+VLOOKUP('BASE DE RESPUESTAS'!H44,Back!$M$17:$N$23,2,0)","v":"#N/A"},{"$f":"+VLOOKUP('BASE DE RESPUESTAS'!I44,Back!$M$17:$N$23,2,0)","v":"#N/A"},{"$f":"+VLOOKUP('BASE DE RESPUESTAS'!J44,Back!$M$17:$N$23,2,0)","v":"#N/A"},{"$f":"+VLOOKUP('BASE DE RESPUESTAS'!K44,Back!$M$17:$N$23,2,0)","v":"#N/A"},{"$f":"+VLOOKUP('BASE DE RESPUESTAS'!L44,Back!$M$17:$N$23,2,0)","v":"#N/A"},{"$f":"+VLOOKUP('BASE DE RESPUESTAS'!M44,Back!$M$17:$N$23,2,0)","v":"#N/A"},{"$f":"+VLOOKUP('BASE DE RESPUESTAS'!N44,Back!$M$17:$N$23,2,0)","v":"#N/A"},{"$f":"+VLOOKUP('BASE DE RESPUESTAS'!O44,Back!$M$17:$N$23,2,0)","v":"#N/A"},{"$f":"+VLOOKUP('BASE DE RESPUESTAS'!P44,Back!$M$17:$N$23,2,0)","v":"#N/A"},{"$f":"+VLOOKUP('BASE DE RESPUESTAS'!Q44,Back!$M$17:$N$23,2,0)","v":"#N/A"},{"$f":"+VLOOKUP('BASE DE RESPUESTAS'!R44,Back!$M$17:$N$23,2,0)","v":"#N/A"},{"$f":"+VLOOKUP('BASE DE RESPUESTAS'!S44,Back!$M$17:$N$23,2,0)","v":"#N/A"},{"$f":"+VLOOKUP('BASE DE RESPUESTAS'!T44,Back!$M$17:$N$23,2,0)","v":"#N/A"},{"$f":"+VLOOKUP('BASE DE RESPUESTAS'!U44,Back!$M$17:$N$23,2,0)","v":"#N/A"},{"$f":"+VLOOKUP('BASE DE RESPUESTAS'!V44,Back!$M$17:$N$23,2,0)","v":"#N/A"},{"$f":"+VLOOKUP('BASE DE RESPUESTAS'!W44,Back!$M$17:$N$23,2,0)","v":"#N/A"},{"$f":"+VLOOKUP('BASE DE RESPUESTAS'!X44,Back!$M$17:$N$23,2,0)","v":"#N/A"},{"$f":"+VLOOKUP('BASE DE RESPUESTAS'!Y44,Back!$M$17:$N$23,2,0)","v":"#N/A"},{"$f":"+VLOOKUP('BASE DE RESPUESTAS'!Z44,Back!$M$17:$N$23,2,0)","v":"#N/A"},{"$f":"+VLOOKUP('BASE DE RESPUESTAS'!AA44,Back!$M$17:$N$23,2,0)","v":"#N/A"},{"$f":"+VLOOKUP('BASE DE RESPUESTAS'!AB44,Back!$M$17:$N$23,2,0)","v":"#N/A"},{"$f":"+VLOOKUP('BASE DE RESPUESTAS'!AC44,Back!$M$17:$N$23,2,0)","v":"#N/A"},{"$f":"+VLOOKUP('BASE DE RESPUESTAS'!AD44,Back!$M$17:$N$23,2,0)","v":"#N/A"},{"$f":"+VLOOKUP('BASE DE RESPUESTAS'!AE44,Back!$M$17:$N$23,2,0)","v":"#N/A"},{"$f":"+VLOOKUP('BASE DE RESPUESTAS'!AF44,Back!$M$17:$N$23,2,0)","v":"#N/A"},{"$f":"+VLOOKUP('BASE DE RESPUESTAS'!AG44,Back!$M$17:$N$23,2,0)","v":"#N/A"},{"$f":"+VLOOKUP('BASE DE RESPUESTAS'!AH44,Back!$M$17:$N$23,2,0)","v":"#N/A"},{"$f":"+VLOOKUP('BASE DE RESPUESTAS'!AI44,Back!$M$17:$N$23,2,0)","v":"#N/A"},{"$f":"+VLOOKUP('BASE DE RESPUESTAS'!AJ44,Back!$M$17:$N$23,2,0)","v":"#N/A"},{"$f":"+VLOOKUP('BASE DE RESPUESTAS'!AK44,Back!$M$17:$N$23,2,0)","v":"#N/A"},{"$f":"+VLOOKUP('BASE DE RESPUESTAS'!AL44,Back!$M$17:$N$23,2,0)","v":"#N/A"},{"$f":"+VLOOKUP('BASE DE RESPUESTAS'!AM44,Back!$M$17:$N$23,2,0)","v":"#N/A"},{"$f":"+VLOOKUP('BASE DE RESPUESTAS'!AN44,Back!$M$17:$N$23,2,0)","v":"#N/A"},{"$f":"+VLOOKUP('BASE DE RESPUESTAS'!AO44,Back!$M$17:$N$23,2,0)","v":"#N/A"},{"$f":"+VLOOKUP('BASE DE RESPUESTAS'!AP44,Back!$M$17:$N$23,2,0)","v":"#N/A"},{"$f":"+VLOOKUP('BASE DE RESPUESTAS'!AQ44,Back!$M$17:$N$23,2,0)","v":"#N/A"},{"$f":"+VLOOKUP('BASE DE RESPUESTAS'!AR44,Back!$M$17:$N$23,2,0)","v":"#N/A"},{"$f":"+VLOOKUP('BASE DE RESPUESTAS'!AS44,Back!$M$17:$N$23,2,0)","v":"#N/A"},{"$f":"+VLOOKUP('BASE DE RESPUESTAS'!AT44,Back!$M$17:$N$23,2,0)","v":"#N/A"},{"$f":"+VLOOKUP('BASE DE RESPUESTAS'!AU44,Back!$M$17:$N$23,2,0)","v":"#N/A"},{"$f":"+VLOOKUP('BASE DE RESPUESTAS'!AV44,Back!$M$17:$N$23,2,0)","v":"#N/A"},{"$f":"+VLOOKUP('BASE DE RESPUESTAS'!AW44,Back!$M$17:$N$23,2,0)","v":"#N/A"},{"$f":"+VLOOKUP('BASE DE RESPUESTAS'!AX44,Back!$M$17:$N$23,2,0)","v":"#N/A"},{"$f":"+VLOOKUP('BASE DE RESPUESTAS'!AY44,Back!$M$17:$N$23,2,0)","v":"#N/A"},{"$f":"+VLOOKUP('BASE DE RESPUESTAS'!AZ44,Back!$M$17:$N$23,2,0)","v":"#N/A"},{"$f":"+VLOOKUP('BASE DE RESPUESTAS'!BA44,Back!$M$17:$N$23,2,0)","v":"#N/A"},{"$f":"+VLOOKUP('BASE DE RESPUESTAS'!BB44,Back!$M$17:$N$23,2,0)","v":"#N/A"},{"$f":"+VLOOKUP('BASE DE RESPUESTAS'!BC44,Back!$M$17:$N$23,2,0)","v":"#N/A"},{"$f":"+VLOOKUP('BASE DE RESPUESTAS'!BD44,Back!$M$17:$N$23,2,0)","v":"#N/A"},{"$f":"+VLOOKUP('BASE DE RESPUESTAS'!BE44,Back!$M$17:$N$23,2,0)","v":"#N/A"}]
[null,"FR","Dificultades en el desarrollo físico","La niña o el niño no corre con soltura y equilibrio, ni sube escaleras de mano.",39.0,"No corre con soltura.",null,{"$f":"+VLOOKUP('BASE DE RESPUESTAS'!H45,Back!$M$17:$N$23,2,0)","v":"#N/A"},{"$f":"+VLOOKUP('BASE DE RESPUESTAS'!I45,Back!$M$17:$N$23,2,0)","v":"#N/A"},{"$f":"+VLOOKUP('BASE DE RESPUESTAS'!J45,Back!$M$17:$N$23,2,0)","v":"#N/A"},{"$f":"+VLOOKUP('BASE DE RESPUESTAS'!K45,Back!$M$17:$N$23,2,0)","v":"#N/A"},{"$f":"+VLOOKUP('BASE DE RESPUESTAS'!L45,Back!$M$17:$N$23,2,0)","v":"#N/A"},{"$f":"+VLOOKUP('BASE DE RESPUESTAS'!M45,Back!$M$17:$N$23,2,0)","v":"#N/A"},{"$f":"+VLOOKUP('BASE DE RESPUESTAS'!N45,Back!$M$17:$N$23,2,0)","v":"#N/A"},{"$f":"+VLOOKUP('BASE DE RESPUESTAS'!O45,Back!$M$17:$N$23,2,0)","v":"#N/A"},{"$f":"+VLOOKUP('BASE DE RESPUESTAS'!P45,Back!$M$17:$N$23,2,0)","v":"#N/A"},{"$f":"+VLOOKUP('BASE DE RESPUESTAS'!Q45,Back!$M$17:$N$23,2,0)","v":"#N/A"},{"$f":"+VLOOKUP('BASE DE RESPUESTAS'!R45,Back!$M$17:$N$23,2,0)","v":"#N/A"},{"$f":"+VLOOKUP('BASE DE RESPUESTAS'!S45,Back!$M$17:$N$23,2,0)","v":"#N/A"},{"$f":"+VLOOKUP('BASE DE RESPUESTAS'!T45,Back!$M$17:$N$23,2,0)","v":"#N/A"},{"$f":"+VLOOKUP('BASE DE RESPUESTAS'!U45,Back!$M$17:$N$23,2,0)","v":"#N/A"},{"$f":"+VLOOKUP('BASE DE RESPUESTAS'!V45,Back!$M$17:$N$23,2,0)","v":"#N/A"},{"$f":"+VLOOKUP('BASE DE RESPUESTAS'!W45,Back!$M$17:$N$23,2,0)","v":"#N/A"},{"$f":"+VLOOKUP('BASE DE RESPUESTAS'!X45,Back!$M$17:$N$23,2,0)","v":"#N/A"},{"$f":"+VLOOKUP('BASE DE RESPUESTAS'!Y45,Back!$M$17:$N$23,2,0)","v":"#N/A"},{"$f":"+VLOOKUP('BASE DE RESPUESTAS'!Z45,Back!$M$17:$N$23,2,0)","v":"#N/A"},{"$f":"+VLOOKUP('BASE DE RESPUESTAS'!AA45,Back!$M$17:$N$23,2,0)","v":"#N/A"},{"$f":"+VLOOKUP('BASE DE RESPUESTAS'!AB45,Back!$M$17:$N$23,2,0)","v":"#N/A"},{"$f":"+VLOOKUP('BASE DE RESPUESTAS'!AC45,Back!$M$17:$N$23,2,0)","v":"#N/A"},{"$f":"+VLOOKUP('BASE DE RESPUESTAS'!AD45,Back!$M$17:$N$23,2,0)","v":"#N/A"},{"$f":"+VLOOKUP('BASE DE RESPUESTAS'!AE45,Back!$M$17:$N$23,2,0)","v":"#N/A"},{"$f":"+VLOOKUP('BASE DE RESPUESTAS'!AF45,Back!$M$17:$N$23,2,0)","v":"#N/A"},{"$f":"+VLOOKUP('BASE DE RESPUESTAS'!AG45,Back!$M$17:$N$23,2,0)","v":"#N/A"},{"$f":"+VLOOKUP('BASE DE RESPUESTAS'!AH45,Back!$M$17:$N$23,2,0)","v":"#N/A"},{"$f":"+VLOOKUP('BASE DE RESPUESTAS'!AI45,Back!$M$17:$N$23,2,0)","v":"#N/A"},{"$f":"+VLOOKUP('BASE DE RESPUESTAS'!AJ45,Back!$M$17:$N$23,2,0)","v":"#N/A"},{"$f":"+VLOOKUP('BASE DE RESPUESTAS'!AK45,Back!$M$17:$N$23,2,0)","v":"#N/A"},{"$f":"+VLOOKUP('BASE DE RESPUESTAS'!AL45,Back!$M$17:$N$23,2,0)","v":"#N/A"},{"$f":"+VLOOKUP('BASE DE RESPUESTAS'!AM45,Back!$M$17:$N$23,2,0)","v":"#N/A"},{"$f":"+VLOOKUP('BASE DE RESPUESTAS'!AN45,Back!$M$17:$N$23,2,0)","v":"#N/A"},{"$f":"+VLOOKUP('BASE DE RESPUESTAS'!AO45,Back!$M$17:$N$23,2,0)","v":"#N/A"},{"$f":"+VLOOKUP('BASE DE RESPUESTAS'!AP45,Back!$M$17:$N$23,2,0)","v":"#N/A"},{"$f":"+VLOOKUP('BASE DE RESPUESTAS'!AQ45,Back!$M$17:$N$23,2,0)","v":"#N/A"},{"$f":"+VLOOKUP('BASE DE RESPUESTAS'!AR45,Back!$M$17:$N$23,2,0)","v":"#N/A"},{"$f":"+VLOOKUP('BASE DE RESPUESTAS'!AS45,Back!$M$17:$N$23,2,0)","v":"#N/A"},{"$f":"+VLOOKUP('BASE DE RESPUESTAS'!AT45,Back!$M$17:$N$23,2,0)","v":"#N/A"},{"$f":"+VLOOKUP('BASE DE RESPUESTAS'!AU45,Back!$M$17:$N$23,2,0)","v":"#N/A"},{"$f":"+VLOOKUP('BASE DE RESPUESTAS'!AV45,Back!$M$17:$N$23,2,0)","v":"#N/A"},{"$f":"+VLOOKUP('BASE DE RESPUESTAS'!AW45,Back!$M$17:$N$23,2,0)","v":"#N/A"},{"$f":"+VLOOKUP('BASE DE RESPUESTAS'!AX45,Back!$M$17:$N$23,2,0)","v":"#N/A"},{"$f":"+VLOOKUP('BASE DE RESPUESTAS'!AY45,Back!$M$17:$N$23,2,0)","v":"#N/A"},{"$f":"+VLOOKUP('BASE DE RESPUESTAS'!AZ45,Back!$M$17:$N$23,2,0)","v":"#N/A"},{"$f":"+VLOOKUP('BASE DE RESPUESTAS'!BA45,Back!$M$17:$N$23,2,0)","v":"#N/A"},{"$f":"+VLOOKUP('BASE DE RESPUESTAS'!BB45,Back!$M$17:$N$23,2,0)","v":"#N/A"},{"$f":"+VLOOKUP('BASE DE RESPUESTAS'!BC45,Back!$M$17:$N$23,2,0)","v":"#N/A"},{"$f":"+VLOOKUP('BASE DE RESPUESTAS'!BD45,Back!$M$17:$N$23,2,0)","v":"#N/A"},{"$f":"+VLOOKUP('BASE DE RESPUESTAS'!BE45,Back!$M$17:$N$23,2,0)","v":"#N/A"}]
[null,null,null,null,40.0,"No muestra equilibrio",null,{"$f":"+VLOOKUP('BASE DE RESPUESTAS'!H46,Back!$M$17:$N$23,2,0)","v":"#N/A"},{"$f":"+VLOOKUP('BASE DE RESPUESTAS'!I46,Back!$M$17:$N$23,2,0)","v":"#N/A"},{"$f":"+VLOOKUP('BASE DE RESPUESTAS'!J46,Back!$M$17:$N$23,2,0)","v":"#N/A"},{"$f":"+VLOOKUP('BASE DE RESPUESTAS'!K46,Back!$M$17:$N$23,2,0)","v":"#N/A"},{"$f":"+VLOOKUP('BASE DE RESPUESTAS'!L46,Back!$M$17:$N$23,2,0)","v":"#N/A"},{"$f":"+VLOOKUP('BASE DE RESPUESTAS'!M46,Back!$M$17:$N$23,2,0)","v":"#N/A"},{"$f":"+VLOOKUP('BASE DE RESPUESTAS'!N46,Back!$M$17:$N$23,2,0)","v":"#N/A"},{"$f":"+VLOOKUP('BASE DE RESPUESTAS'!O46,Back!$M$17:$N$23,2,0)","v":"#N/A"},{"$f":"+VLOOKUP('BASE DE RESPUESTAS'!P46,Back!$M$17:$N$23,2,0)","v":"#N/A"},{"$f":"+VLOOKUP('BASE DE RESPUESTAS'!Q46,Back!$M$17:$N$23,2,0)","v":"#N/A"},{"$f":"+VLOOKUP('BASE DE RESPUESTAS'!R46,Back!$M$17:$N$23,2,0)","v":"#N/A"},{"$f":"+VLOOKUP('BASE DE RESPUESTAS'!S46,Back!$M$17:$N$23,2,0)","v":"#N/A"},{"$f":"+VLOOKUP('BASE DE RESPUESTAS'!T46,Back!$M$17:$N$23,2,0)","v":"#N/A"},{"$f":"+VLOOKUP('BASE DE RESPUESTAS'!U46,Back!$M$17:$N$23,2,0)","v":"#N/A"},{"$f":"+VLOOKUP('BASE DE RESPUESTAS'!V46,Back!$M$17:$N$23,2,0)","v":"#N/A"},{"$f":"+VLOOKUP('BASE DE RESPUESTAS'!W46,Back!$M$17:$N$23,2,0)","v":"#N/A"},{"$f":"+VLOOKUP('BASE DE RESPUESTAS'!X46,Back!$M$17:$N$23,2,0)","v":"#N/A"},{"$f":"+VLOOKUP('BASE DE RESPUESTAS'!Y46,Back!$M$17:$N$23,2,0)","v":"#N/A"},{"$f":"+VLOOKUP('BASE DE RESPUESTAS'!Z46,Back!$M$17:$N$23,2,0)","v":"#N/A"},{"$f":"+VLOOKUP('BASE DE RESPUESTAS'!AA46,Back!$M$17:$N$23,2,0)","v":"#N/A"},{"$f":"+VLOOKUP('BASE DE RESPUESTAS'!AB46,Back!$M$17:$N$23,2,0)","v":"#N/A"},{"$f":"+VLOOKUP('BASE DE RESPUESTAS'!AC46,Back!$M$17:$N$23,2,0)","v":"#N/A"},{"$f":"+VLOOKUP('BASE DE RESPUESTAS'!AD46,Back!$M$17:$N$23,2,0)","v":"#N/A"},{"$f":"+VLOOKUP('BASE DE RESPUESTAS'!AE46,Back!$M$17:$N$23,2,0)","v":"#N/A"},{"$f":"+VLOOKUP('BASE DE RESPUESTAS'!AF46,Back!$M$17:$N$23,2,0)","v":"#N/A"},{"$f":"+VLOOKUP('BASE DE RESPUESTAS'!AG46,Back!$M$17:$N$23,2,0)","v":"#N/A"},{"$f":"+VLOOKUP('BASE DE RESPUESTAS'!AH46,Back!$M$17:$N$23,2,0)","v":"#N/A"},{"$f":"+VLOOKUP('BASE DE RESPUESTAS'!AI46,Back!$M$17:$N$23,2,0)","v":"#N/A"},{"$f":"+VLOOKUP('BASE DE RESPUESTAS'!AJ46,Back!$M$17:$N$23,2,0)","v":"#N/A"},{"$f":"+VLOOKUP('BASE DE RESPUESTAS'!AK46,Back!$M$17:$N$23,2,0)","v":"#N/A"},{"$f":"+VLOOKUP('BASE DE RESPUESTAS'!AL46,Back!$M$17:$N$23,2,0)","v":"#N/A"},{"$f":"+VLOOKUP('BASE DE RESPUESTAS'!AM46,Back!$M$17:$N$23,2,0)","v":"#N/A"},{"$f":"+VLOOKUP('BASE DE RESPUESTAS'!AN46,Back!$M$17:$N$23,2,0)","v":"#N/A"},{"$f":"+VLOOKUP('BASE DE RESPUESTAS'!AO46,Back!$M$17:$N$23,2,0)","v":"#N/A"},{"$f":"+VLOOKUP('BASE DE RESPUESTAS'!AP46,Back!$M$17:$N$23,2,0)","v":"#N/A"},{"$f":"+VLOOKUP('BASE DE RESPUESTAS'!AQ46,Back!$M$17:$N$23,2,0)","v":"#N/A"},{"$f":"+VLOOKUP('BASE DE RESPUESTAS'!AR46,Back!$M$17:$N$23,2,0)","v":"#N/A"},{"$f":"+VLOOKUP('BASE DE RESPUESTAS'!AS46,Back!$M$17:$N$23,2,0)","v":"#N/A"},{"$f":"+VLOOKUP('BASE DE RESPUESTAS'!AT46,Back!$M$17:$N$23,2,0)","v":"#N/A"},{"$f":"+VLOOKUP('BASE DE RESPUESTAS'!AU46,Back!$M$17:$N$23,2,0)","v":"#N/A"},{"$f":"+VLOOKUP('BASE DE RESPUESTAS'!AV46,Back!$M$17:$N$23,2,0)","v":"#N/A"},{"$f":"+VLOOKUP('BASE DE RESPUESTAS'!AW46,Back!$M$17:$N$23,2,0)","v":"#N/A"},{"$f":"+VLOOKUP('BASE DE RESPUESTAS'!AX46,Back!$M$17:$N$23,2,0)","v":"#N/A"},{"$f":"+VLOOKUP('BASE DE RESPUESTAS'!AY46,Back!$M$17:$N$23,2,0)","v":"#N/A"},{"$f":"+VLOOKUP('BASE DE RESPUESTAS'!AZ46,Back!$M$17:$N$23,2,0)","v":"#N/A"},{"$f":"+VLOOKUP('BASE DE RESPUESTAS'!BA46,Back!$M$17:$N$23,2,0)","v":"#N/A"},{"$f":"+VLOOKUP('BASE DE RESPUESTAS'!BB46,Back!$M$17:$N$23,2,0)","v":"#N/A"},{"$f":"+VLOOKUP('BASE DE RESPUESTAS'!BC46,Back!$M$17:$N$23,2,0)","v":"#N/A"},{"$f":"+VLOOKUP('BASE DE RESPUESTAS'!BD46,Back!$M$17:$N$23,2,0)","v":"#N/A"},{"$f":"+VLOOKUP('BASE DE RESPUESTAS'!BE46,Back!$M$17:$N$23,2,0)","v":"#N/A"}]
[null,null,null,null,41.0,"No sube escaleras de mano",null,{"$f":"+VLOOKUP('BASE DE RESPUESTAS'!H47,Back!$M$17:$N$23,2,0)","v":"#N/A"},{"$f":"+VLOOKUP('BASE DE RESPUESTAS'!I47,Back!$M$17:$N$23,2,0)","v":"#N/A"},{"$f":"+VLOOKUP('BASE DE RESPUESTAS'!J47,Back!$M$17:$N$23,2,0)","v":"#N/A"},{"$f":"+VLOOKUP('BASE DE RESPUESTAS'!K47,Back!$M$17:$N$23,2,0)","v":"#N/A"},{"$f":"+VLOOKUP('BASE DE RESPUESTAS'!L47,Back!$M$17:$N$23,2,0)","v":"#N/A"},{"$f":"+VLOOKUP('BASE DE RESPUESTAS'!M47,Back!$M$17:$N$23,2,0)","v":"#N/A"},{"$f":"+VLOOKUP('BASE DE RESPUESTAS'!N47,Back!$M$17:$N$23,2,0)","v":"#N/A"},{"$f":"+VLOOKUP('BASE DE RESPUESTAS'!O47,Back!$M$17:$N$23,2,0)","v":"#N/A"},{"$f":"+VLOOKUP('BASE DE RESPUESTAS'!P47,Back!$M$17:$N$23,2,0)","v":"#N/A"},{"$f":"+VLOOKUP('BASE DE RESPUESTAS'!Q47,Back!$M$17:$N$23,2,0)","v":"#N/A"},{"$f":"+VLOOKUP('BASE DE RESPUESTAS'!R47,Back!$M$17:$N$23,2,0)","v":"#N/A"},{"$f":"+VLOOKUP('BASE DE RESPUESTAS'!S47,Back!$M$17:$N$23,2,0)","v":"#N/A"},{"$f":"+VLOOKUP('BASE DE RESPUESTAS'!T47,Back!$M$17:$N$23,2,0)","v":"#N/A"},{"$f":"+VLOOKUP('BASE DE RESPUESTAS'!U47,Back!$M$17:$N$23,2,0)","v":"#N/A"},{"$f":"+VLOOKUP('BASE DE RESPUESTAS'!V47,Back!$M$17:$N$23,2,0)","v":"#N/A"},{"$f":"+VLOOKUP('BASE DE RESPUESTAS'!W47,Back!$M$17:$N$23,2,0)","v":"#N/A"},{"$f":"+VLOOKUP('BASE DE RESPUESTAS'!X47,Back!$M$17:$N$23,2,0)","v":"#N/A"},{"$f":"+VLOOKUP('BASE DE RESPUESTAS'!Y47,Back!$M$17:$N$23,2,0)","v":"#N/A"},{"$f":"+VLOOKUP('BASE DE RESPUESTAS'!Z47,Back!$M$17:$N$23,2,0)","v":"#N/A"},{"$f":"+VLOOKUP('BASE DE RESPUESTAS'!AA47,Back!$M$17:$N$23,2,0)","v":"#N/A"},{"$f":"+VLOOKUP('BASE DE RESPUESTAS'!AB47,Back!$M$17:$N$23,2,0)","v":"#N/A"},{"$f":"+VLOOKUP('BASE DE RESPUESTAS'!AC47,Back!$M$17:$N$23,2,0)","v":"#N/A"},{"$f":"+VLOOKUP('BASE DE RESPUESTAS'!AD47,Back!$M$17:$N$23,2,0)","v":"#N/A"},{"$f":"+VLOOKUP('BASE DE RESPUESTAS'!AE47,Back!$M$17:$N$23,2,0)","v":"#N/A"},{"$f":"+VLOOKUP('BASE DE RESPUESTAS'!AF47,Back!$M$17:$N$23,2,0)","v":"#N/A"},{"$f":"+VLOOKUP('BASE DE RESPUESTAS'!AG47,Back!$M$17:$N$23,2,0)","v":"#N/A"},{"$f":"+VLOOKUP('BASE DE RESPUESTAS'!AH47,Back!$M$17:$N$23,2,0)","v":"#N/A"},{"$f":"+VLOOKUP('BASE DE RESPUESTAS'!AI47,Back!$M$17:$N$23,2,0)","v":"#N/A"},{"$f":"+VLOOKUP('BASE DE RESPUESTAS'!AJ47,Back!$M$17:$N$23,2,0)","v":"#N/A"},{"$f":"+VLOOKUP('BASE DE RESPUESTAS'!AK47,Back!$M$17:$N$23,2,0)","v":"#N/A"},{"$f":"+VLOOKUP('BASE DE RESPUESTAS'!AL47,Back!$M$17:$N$23,2,0)","v":"#N/A"},{"$f":"+VLOOKUP('BASE DE RESPUESTAS'!AM47,Back!$M$17:$N$23,2,0)","v":"#N/A"},{"$f":"+VLOOKUP('BASE DE RESPUESTAS'!AN47,Back!$M$17:$N$23,2,0)","v":"#N/A"},{"$f":"+VLOOKUP('BASE DE RESPUESTAS'!AO47,Back!$M$17:$N$23,2,0)","v":"#N/A"},{"$f":"+VLOOKUP('BASE DE RESPUESTAS'!AP47,Back!$M$17:$N$23,2,0)","v":"#N/A"},{"$f":"+VLOOKUP('BASE DE RESPUESTAS'!AQ47,Back!$M$17:$N$23,2,0)","v":"#N/A"},{"$f":"+VLOOKUP('BASE DE RESPUESTAS'!AR47,Back!$M$17:$N$23,2,0)","v":"#N/A"},{"$f":"+VLOOKUP('BASE DE RESPUESTAS'!AS47,Back!$M$17:$N$23,2,0)","v":"#N/A"},{"$f":"+VLOOKUP('BASE DE RESPUESTAS'!AT47,Back!$M$17:$N$23,2,0)","v":"#N/A"},{"$f":"+VLOOKUP('BASE DE RESPUESTAS'!AU47,Back!$M$17:$N$23,2,0)","v":"#N/A"},{"$f":"+VLOOKUP('BASE DE RESPUESTAS'!AV47,Back!$M$17:$N$23,2,0)","v":"#N/A"},{"$f":"+VLOOKUP('BASE DE RESPUESTAS'!AW47,Back!$M$17:$N$23,2,0)","v":"#N/A"},{"$f":"+VLOOKUP('BASE DE RESPUESTAS'!AX47,Back!$M$17:$N$23,2,0)","v":"#N/A"},{"$f":"+VLOOKUP('BASE DE RESPUESTAS'!AY47,Back!$M$17:$N$23,2,0)","v":"#N/A"},{"$f":"+VLOOKUP('BASE DE RESPUESTAS'!AZ47,Back!$M$17:$N$23,2,0)","v":"#N/A"},{"$f":"+VLOOKUP('BASE DE RESPUESTAS'!BA47,Back!$M$17:$N$23,2,0)","v":"#N/A"},{"$f":"+VLOOKUP('BASE DE RESPUESTAS'!BB47,Back!$M$17:$N$23,2,0)","v":"#N/A"},{"$f":"+VLOOKUP('BASE DE RESPUESTAS'!BC47,Back!$M$17:$N$23,2,0)","v":"#N/A"},{"$f":"+VLOOKUP('BASE DE RESPUESTAS'!BD47,Back!$M$17:$N$23,2,0)","v":"#N/A"},{"$f":"+VLOOKUP('BASE DE RESPUESTAS'!BE47,Back!$M$17:$N$23,2,0)","v":"#N/A"}]
[null,null,null,"La niña o el niño realiza dibujos que carecen de detalles significativos.",42.0,"Realiza dibujos que carecen de detalles significativos (ej. ojos, nariz, boca, orejas, brazos, pies).",null,{"$f":"+VLOOKUP('BASE DE RESPUESTAS'!H48,Back!$M$17:$N$23,2,0)","v":"#N/A"},{"$f":"+VLOOKUP('BASE DE RESPUESTAS'!I48,Back!$M$17:$N$23,2,0)","v":"#N/A"},{"$f":"+VLOOKUP('BASE DE RESPUESTAS'!J48,Back!$M$17:$N$23,2,0)","v":"#N/A"},{"$f":"+VLOOKUP('BASE DE RESPUESTAS'!K48,Back!$M$17:$N$23,2,0)","v":"#N/A"},{"$f":"+VLOOKUP('BASE DE RESPUESTAS'!L48,Back!$M$17:$N$23,2,0)","v":"#N/A"},{"$f":"+VLOOKUP('BASE DE RESPUESTAS'!M48,Back!$M$17:$N$23,2,0)","v":"#N/A"},{"$f":"+VLOOKUP('BASE DE RESPUESTAS'!N48,Back!$M$17:$N$23,2,0)","v":"#N/A"},{"$f":"+VLOOKUP('BASE DE RESPUESTAS'!O48,Back!$M$17:$N$23,2,0)","v":"#N/A"},{"$f":"+VLOOKUP('BASE DE RESPUESTAS'!P48,Back!$M$17:$N$23,2,0)","v":"#N/A"},{"$f":"+VLOOKUP('BASE DE RESPUESTAS'!Q48,Back!$M$17:$N$23,2,0)","v":"#N/A"},{"$f":"+VLOOKUP('BASE DE RESPUESTAS'!R48,Back!$M$17:$N$23,2,0)","v":"#N/A"},{"$f":"+VLOOKUP('BASE DE RESPUESTAS'!S48,Back!$M$17:$N$23,2,0)","v":"#N/A"},{"$f":"+VLOOKUP('BASE DE RESPUESTAS'!T48,Back!$M$17:$N$23,2,0)","v":"#N/A"},{"$f":"+VLOOKUP('BASE DE RESPUESTAS'!U48,Back!$M$17:$N$23,2,0)","v":"#N/A"},{"$f":"+VLOOKUP('BASE DE RESPUESTAS'!V48,Back!$M$17:$N$23,2,0)","v":"#N/A"},{"$f":"+VLOOKUP('BASE DE RESPUESTAS'!W48,Back!$M$17:$N$23,2,0)","v":"#N/A"},{"$f":"+VLOOKUP('BASE DE RESPUESTAS'!X48,Back!$M$17:$N$23,2,0)","v":"#N/A"},{"$f":"+VLOOKUP('BASE DE RESPUESTAS'!Y48,Back!$M$17:$N$23,2,0)","v":"#N/A"},{"$f":"+VLOOKUP('BASE DE RESPUESTAS'!Z48,Back!$M$17:$N$23,2,0)","v":"#N/A"},{"$f":"+VLOOKUP('BASE DE RESPUESTAS'!AA48,Back!$M$17:$N$23,2,0)","v":"#N/A"},{"$f":"+VLOOKUP('BASE DE RESPUESTAS'!AB48,Back!$M$17:$N$23,2,0)","v":"#N/A"},{"$f":"+VLOOKUP('BASE DE RESPUESTAS'!AC48,Back!$M$17:$N$23,2,0)","v":"#N/A"},{"$f":"+VLOOKUP('BASE DE RESPUESTAS'!AD48,Back!$M$17:$N$23,2,0)","v":"#N/A"},{"$f":"+VLOOKUP('BASE DE RESPUESTAS'!AE48,Back!$M$17:$N$23,2,0)","v":"#N/A"},{"$f":"+VLOOKUP('BASE DE RESPUESTAS'!AF48,Back!$M$17:$N$23,2,0)","v":"#N/A"},{"$f":"+VLOOKUP('BASE DE RESPUESTAS'!AG48,Back!$M$17:$N$23,2,0)","v":"#N/A"},{"$f":"+VLOOKUP('BASE DE RESPUESTAS'!AH48,Back!$M$17:$N$23,2,0)","v":"#N/A"},{"$f":"+VLOOKUP('BASE DE RESPUESTAS'!AI48,Back!$M$17:$N$23,2,0)","v":"#N/A"},{"$f":"+VLOOKUP('BASE DE RESPUESTAS'!AJ48,Back!$M$17:$N$23,2,0)","v":"#N/A"},{"$f":"+VLOOKUP('BASE DE RESPUESTAS'!AK48,Back!$M$17:$N$23,2,0)","v":"#N/A"},{"$f":"+VLOOKUP('BASE DE RESPUESTAS'!AL48,Back!$M$17:$N$23,2,0)","v":"#N/A"},{"$f":"+VLOOKUP('BASE DE RESPUESTAS'!AM48,Back!$M$17:$N$23,2,0)","v":"#N/A"},{"$f":"+VLOOKUP('BASE DE RESPUESTAS'!AN48,Back!$M$17:$N$23,2,0)","v":"#N/A"},{"$f":"+VLOOKUP('BASE DE RESPUESTAS'!AO48,Back!$M$17:$N$23,2,0)","v":"#N/A"},{"$f":"+VLOOKUP('BASE DE RESPUESTAS'!AP48,Back!$M$17:$N$23,2,0)","v":"#N/A"},{"$f":"+VLOOKUP('BASE DE RESPUESTAS'!AQ48,Back!$M$17:$N$23,2,0)","v":"#N/A"},{"$f":"+VLOOKUP('BASE DE RESPUESTAS'!AR48,Back!$M$17:$N$23,2,0)","v":"#N/A"},{"$f":"+VLOOKUP('BASE DE RESPUESTAS'!AS48,Back!$M$17:$N$23,2,0)","v":"#N/A"},{"$f":"+VLOOKUP('BASE DE RESPUESTAS'!AT48,Back!$M$17:$N$23,2,0)","v":"#N/A"},{"$f":"+VLOOKUP('BASE DE RESPUESTAS'!AU48,Back!$M$17:$N$23,2,0)","v":"#N/A"},{"$f":"+VLOOKUP('BASE DE RESPUESTAS'!AV48,Back!$M$17:$N$23,2,0)","v":"#N/A"},{"$f":"+VLOOKUP('BASE DE RESPUESTAS'!AW48,Back!$M$17:$N$23,2,0)","v":"#N/A"},{"$f":"+VLOOKUP('BASE DE RESPUESTAS'!AX48,Back!$M$17:$N$23,2,0)","v":"#N/A"},{"$f":"+VLOOKUP('BASE DE RESPUESTAS'!AY48,Back!$M$17:$N$23,2,0)","v":"#N/A"},{"$f":"+VLOOKUP('BASE DE RESPUESTAS'!AZ48,Back!$M$17:$N$23,2,0)","v":"#N/A"},{"$f":"+VLOOKUP('BASE DE RESPUESTAS'!BA48,Back!$M$17:$N$23,2,0)","v":"#N/A"},{"$f":"+VLOOKUP('BASE DE RESPUESTAS'!BB48,Back!$M$17:$N$23,2,0)","v":"#N/A"},{"$f":"+VLOOKUP('BASE DE RESPUESTAS'!BC48,Back!$M$17:$N$23,2,0)","v":"#N/A"},{"$f":"+VLOOKUP('BASE DE RESPUESTAS'!BD48,Back!$M$17:$N$23,2,0)","v":"#N/A"},{"$f":"+VLOOKUP('BASE DE RESPUESTAS'!BE48,Back!$M$17:$N$23,2,0)","v":"#N/A"}]
[null,"FR","Violencia familiar, violencia sexual y negligencia","La niña o el niño muestra signos de violencia física en el cuerpo.",43.0,"Muestra moretones en el cuerpo.",null,{"$f":"+VLOOKUP('BASE DE RESPUESTAS'!H49,Back!$M$17:$N$23,2,0)","v":"#N/A"},{"$f":"+VLOOKUP('BASE DE RESPUESTAS'!I49,Back!$M$17:$N$23,2,0)","v":"#N/A"},{"$f":"+VLOOKUP('BASE DE RESPUESTAS'!J49,Back!$M$17:$N$23,2,0)","v":"#N/A"},{"$f":"+VLOOKUP('BASE DE RESPUESTAS'!K49,Back!$M$17:$N$23,2,0)","v":"#N/A"},{"$f":"+VLOOKUP('BASE DE RESPUESTAS'!L49,Back!$M$17:$N$23,2,0)","v":"#N/A"},{"$f":"+VLOOKUP('BASE DE RESPUESTAS'!M49,Back!$M$17:$N$23,2,0)","v":"#N/A"},{"$f":"+VLOOKUP('BASE DE RESPUESTAS'!N49,Back!$M$17:$N$23,2,0)","v":"#N/A"},{"$f":"+VLOOKUP('BASE DE RESPUESTAS'!O49,Back!$M$17:$N$23,2,0)","v":"#N/A"},{"$f":"+VLOOKUP('BASE DE RESPUESTAS'!P49,Back!$M$17:$N$23,2,0)","v":"#N/A"},{"$f":"+VLOOKUP('BASE DE RESPUESTAS'!Q49,Back!$M$17:$N$23,2,0)","v":"#N/A"},{"$f":"+VLOOKUP('BASE DE RESPUESTAS'!R49,Back!$M$17:$N$23,2,0)","v":"#N/A"},{"$f":"+VLOOKUP('BASE DE RESPUESTAS'!S49,Back!$M$17:$N$23,2,0)","v":"#N/A"},{"$f":"+VLOOKUP('BASE DE RESPUESTAS'!T49,Back!$M$17:$N$23,2,0)","v":"#N/A"},{"$f":"+VLOOKUP('BASE DE RESPUESTAS'!U49,Back!$M$17:$N$23,2,0)","v":"#N/A"},{"$f":"+VLOOKUP('BASE DE RESPUESTAS'!V49,Back!$M$17:$N$23,2,0)","v":"#N/A"},{"$f":"+VLOOKUP('BASE DE RESPUESTAS'!W49,Back!$M$17:$N$23,2,0)","v":"#N/A"},{"$f":"+VLOOKUP('BASE DE RESPUESTAS'!X49,Back!$M$17:$N$23,2,0)","v":"#N/A"},{"$f":"+VLOOKUP('BASE DE RESPUESTAS'!Y49,Back!$M$17:$N$23,2,0)","v":"#N/A"},{"$f":"+VLOOKUP('BASE DE RESPUESTAS'!Z49,Back!$M$17:$N$23,2,0)","v":"#N/A"},{"$f":"+VLOOKUP('BASE DE RESPUESTAS'!AA49,Back!$M$17:$N$23,2,0)","v":"#N/A"},{"$f":"+VLOOKUP('BASE DE RESPUESTAS'!AB49,Back!$M$17:$N$23,2,0)","v":"#N/A"},{"$f":"+VLOOKUP('BASE DE RESPUESTAS'!AC49,Back!$M$17:$N$23,2,0)","v":"#N/A"},{"$f":"+VLOOKUP('BASE DE RESPUESTAS'!AD49,Back!$M$17:$N$23,2,0)","v":"#N/A"},{"$f":"+VLOOKUP('BASE DE RESPUESTAS'!AE49,Back!$M$17:$N$23,2,0)","v":"#N/A"},{"$f":"+VLOOKUP('BASE DE RESPUESTAS'!AF49,Back!$M$17:$N$23,2,0)","v":"#N/A"},{"$f":"+VLOOKUP('BASE DE RESPUESTAS'!AG49,Back!$M$17:$N$23,2,0)","v":"#N/A"},{"$f":"+VLOOKUP('BASE DE RESPUESTAS'!AH49,Back!$M$17:$N$23,2,0)","v":"#N/A"},{"$f":"+VLOOKUP('BASE DE RESPUESTAS'!AI49,Back!$M$17:$N$23,2,0)","v":"#N/A"},{"$f":"+VLOOKUP('BASE DE RESPUESTAS'!AJ49,Back!$M$17:$N$23,2,0)","v":"#N/A"},{"$f":"+VLOOKUP('BASE DE RESPUESTAS'!AK49,Back!$M$17:$N$23,2,0)","v":"#N/A"},{"$f":"+VLOOKUP('BASE DE RESPUESTAS'!AL49,Back!$M$17:$N$23,2,0)","v":"#N/A"},{"$f":"+VLOOKUP('BASE DE RESPUESTAS'!AM49,Back!$M$17:$N$23,2,0)","v":"#N/A"},{"$f":"+VLOOKUP('BASE DE RESPUESTAS'!AN49,Back!$M$17:$N$23,2,0)","v":"#N/A"},{"$f":"+VLOOKUP('BASE DE RESPUESTAS'!AO49,Back!$M$17:$N$23,2,0)","v":"#N/A"},{"$f":"+VLOOKUP('BASE DE RESPUESTAS'!AP49,Back!$M$17:$N$23,2,0)","v":"#N/A"},{"$f":"+VLOOKUP('BASE DE RESPUESTAS'!AQ49,Back!$M$17:$N$23,2,0)","v":"#N/A"},{"$f":"+VLOOKUP('BASE DE RESPUESTAS'!AR49,Back!$M$17:$N$23,2,0)","v":"#N/A"},{"$f":"+VLOOKUP('BASE DE RESPUESTAS'!AS49,Back!$M$17:$N$23,2,0)","v":"#N/A"},{"$f":"+VLOOKUP('BASE DE RESPUESTAS'!AT49,Back!$M$17:$N$23,2,0)","v":"#N/A"},{"$f":"+VLOOKUP('BASE DE RESPUESTAS'!AU49,Back!$M$17:$N$23,2,0)","v":"#N/A"},{"$f":"+VLOOKUP('BASE DE RESPUESTAS'!AV49,Back!$M$17:$N$23,2,0)","v":"#N/A"},{"$f":"+VLOOKUP('BASE DE RESPUESTAS'!AW49,Back!$M$17:$N$23,2,0)","v":"#N/A"},{"$f":"+VLOOKUP('BASE DE RESPUESTAS'!AX49,Back!$M$17:$N$23,2,0)","v":"#N/A"},{"$f":"+VLOOKUP('BASE DE RESPUESTAS'!AY49,Back!$M$17:$N$23,2,0)","v":"#N/A"},{"$f":"+VLOOKUP('BASE DE RESPUESTAS'!AZ49,Back!$M$17:$N$23,2,0)","v":"#N/A"},{"$f":"+VLOOKUP('BASE DE RESPUESTAS'!BA49,Back!$M$17:$N$23,2,0)","v":"#N/A"},{"$f":"+VLOOKUP('BASE DE RESPUESTAS'!BB49,Back!$M$17:$N$23,2,0)","v":"#N/A"},{"$f":"+VLOOKUP('BASE DE RESPUESTAS'!BC49,Back!$M$17:$N$23,2,0)","v":"#N/A"},{"$f":"+VLOOKUP('BASE DE RESPUESTAS'!BD49,Back!$M$17:$N$23,2,0)","v":"#N/A"},{"$f":"+VLOOKUP('BASE DE RESPUESTAS'!BE49,Back!$M$17:$N$23,2,0)","v":"#N/A"}]
[null,null,null,null,44.0,"Muestra marcas enrojecidas en el cuerpo.",null,{"$f":"+VLOOKUP('BASE DE RESPUESTAS'!H50,Back!$M$17:$N$23,2,0)","v":"#N/A"},{"$f":"+VLOOKUP('BASE DE RESPUESTAS'!I50,Back!$M$17:$N$23,2,0)","v":"#N/A"},{"$f":"+VLOOKUP('BASE DE RESPUESTAS'!J50,Back!$M$17:$N$23,2,0)","v":"#N/A"},{"$f":"+VLOOKUP('BASE DE RESPUESTAS'!K50,Back!$M$17:$N$23,2,0)","v":"#N/A"},{"$f":"+VLOOKUP('BASE DE RESPUESTAS'!L50,Back!$M$17:$N$23,2,0)","v":"#N/A"},{"$f":"+VLOOKUP('BASE DE RESPUESTAS'!M50,Back!$M$17:$N$23,2,0)","v":"#N/A"},{"$f":"+VLOOKUP('BASE DE RESPUESTAS'!N50,Back!$M$17:$N$23,2,0)","v":"#N/A"},{"$f":"+VLOOKUP('BASE DE RESPUESTAS'!O50,Back!$M$17:$N$23,2,0)","v":"#N/A"},{"$f":"+VLOOKUP('BASE DE RESPUESTAS'!P50,Back!$M$17:$N$23,2,0)","v":"#N/A"},{"$f":"+VLOOKUP('BASE DE RESPUESTAS'!Q50,Back!$M$17:$N$23,2,0)","v":"#N/A"},{"$f":"+VLOOKUP('BASE DE RESPUESTAS'!R50,Back!$M$17:$N$23,2,0)","v":"#N/A"},{"$f":"+VLOOKUP('BASE DE RESPUESTAS'!S50,Back!$M$17:$N$23,2,0)","v":"#N/A"},{"$f":"+VLOOKUP('BASE DE RESPUESTAS'!T50,Back!$M$17:$N$23,2,0)","v":"#N/A"},{"$f":"+VLOOKUP('BASE DE RESPUESTAS'!U50,Back!$M$17:$N$23,2,0)","v":"#N/A"},{"$f":"+VLOOKUP('BASE DE RESPUESTAS'!V50,Back!$M$17:$N$23,2,0)","v":"#N/A"},{"$f":"+VLOOKUP('BASE DE RESPUESTAS'!W50,Back!$M$17:$N$23,2,0)","v":"#N/A"},{"$f":"+VLOOKUP('BASE DE RESPUESTAS'!X50,Back!$M$17:$N$23,2,0)","v":"#N/A"},{"$f":"+VLOOKUP('BASE DE RESPUESTAS'!Y50,Back!$M$17:$N$23,2,0)","v":"#N/A"},{"$f":"+VLOOKUP('BASE DE RESPUESTAS'!Z50,Back!$M$17:$N$23,2,0)","v":"#N/A"},{"$f":"+VLOOKUP('BASE DE RESPUESTAS'!AA50,Back!$M$17:$N$23,2,0)","v":"#N/A"},{"$f":"+VLOOKUP('BASE DE RESPUESTAS'!AB50,Back!$M$17:$N$23,2,0)","v":"#N/A"},{"$f":"+VLOOKUP('BASE DE RESPUESTAS'!AC50,Back!$M$17:$N$23,2,0)","v":"#N/A"},{"$f":"+VLOOKUP('BASE DE RESPUESTAS'!AD50,Back!$M$17:$N$23,2,0)","v":"#N/A"},{"$f":"+VLOOKUP('BASE DE RESPUESTAS'!AE50,Back!$M$17:$N$23,2,0)","v":"#N/A"},{"$f":"+VLOOKUP('BASE DE RESPUESTAS'!AF50,Back!$M$17:$N$23,2,0)","v":"#N/A"},{"$f":"+VLOOKUP('BASE DE RESPUESTAS'!AG50,Back!$M$17:$N$23,2,0)","v":"#N/A"},{"$f":"+VLOOKUP('BASE DE RESPUESTAS'!AH50,Back!$M$17:$N$23,2,0)","v":"#N/A"},{"$f":"+VLOOKUP('BASE DE RESPUESTAS'!AI50,Back!$M$17:$N$23,2,0)","v":"#N/A"},{"$f":"+VLOOKUP('BASE DE RESPUESTAS'!AJ50,Back!$M$17:$N$23,2,0)","v":"#N/A"},{"$f":"+VLOOKUP('BASE DE RESPUESTAS'!AK50,Back!$M$17:$N$23,2,0)","v":"#N/A"},{"$f":"+VLOOKUP('BASE DE RESPUESTAS'!AL50,Back!$M$17:$N$23,2,0)","v":"#N/A"},{"$f":"+VLOOKUP('BASE DE RESPUESTAS'!AM50,Back!$M$17:$N$23,2,0)","v":"#N/A"},{"$f":"+VLOOKUP('BASE DE RESPUESTAS'!AN50,Back!$M$17:$N$23,2,0)","v":"#N/A"},{"$f":"+VLOOKUP('BASE DE RESPUESTAS'!AO50,Back!$M$17:$N$23,2,0)","v":"#N/A"},{"$f":"+VLOOKUP('BASE DE RESPUESTAS'!AP50,Back!$M$17:$N$23,2,0)","v":"#N/A"},{"$f":"+VLOOKUP('BASE DE RESPUESTAS'!AQ50,Back!$M$17:$N$23,2,0)","v":"#N/A"},{"$f":"+VLOOKUP('BASE DE RESPUESTAS'!AR50,Back!$M$17:$N$23,2,0)","v":"#N/A"},{"$f":"+VLOOKUP('BASE DE RESPUESTAS'!AS50,Back!$M$17:$N$23,2,0)","v":"#N/A"},{"$f":"+VLOOKUP('BASE DE RESPUESTAS'!AT50,Back!$M$17:$N$23,2,0)","v":"#N/A"},{"$f":"+VLOOKUP('BASE DE RESPUESTAS'!AU50,Back!$M$17:$N$23,2,0)","v":"#N/A"},{"$f":"+VLOOKUP('BASE DE RESPUESTAS'!AV50,Back!$M$17:$N$23,2,0)","v":"#N/A"},{"$f":"+VLOOKUP('BASE DE RESPUESTAS'!AW50,Back!$M$17:$N$23,2,0)","v":"#N/A"},{"$f":"+VLOOKUP('BASE DE RESPUESTAS'!AX50,Back!$M$17:$N$23,2,0)","v":"#N/A"},{"$f":"+VLOOKUP('BASE DE RESPUESTAS'!AY50,Back!$M$17:$N$23,2,0)","v":"#N/A"},{"$f":"+VLOOKUP('BASE DE RESPUESTAS'!AZ50,Back!$M$17:$N$23,2,0)","v":"#N/A"},{"$f":"+VLOOKUP('BASE DE RESPUESTAS'!BA50,Back!$M$17:$N$23,2,0)","v":"#N/A"},{"$f":"+VLOOKUP('BASE DE RESPUESTAS'!BB50,Back!$M$17:$N$23,2,0)","v":"#N/A"},{"$f":"+VLOOKUP('BASE DE RESPUESTAS'!BC50,Back!$M$17:$N$23,2,0)","v":"#N/A"},{"$f":"+VLOOKUP('BASE DE RESPUESTAS'!BD50,Back!$M$17:$N$23,2,0)","v":"#N/A"},{"$f":"+VLOOKUP('BASE DE RESPUESTAS'!BE50,Back!$M$17:$N$23,2,0)","v":"#N/A"}]
[null,null,null,null,45.0,"Muestra rasguños en el cuerpo.",null,{"$f":"+VLOOKUP('BASE DE RESPUESTAS'!H51,Back!$M$17:$N$23,2,0)","v":"#N/A"},{"$f":"+VLOOKUP('BASE DE RESPUESTAS'!I51,Back!$M$17:$N$23,2,0)","v":"#N/A"},{"$f":"+VLOOKUP('BASE DE RESPUESTAS'!J51,Back!$M$17:$N$23,2,0)","v":"#N/A"},{"$f":"+VLOOKUP('BASE DE RESPUESTAS'!K51,Back!$M$17:$N$23,2,0)","v":"#N/A"},{"$f":"+VLOOKUP('BASE DE RESPUESTAS'!L51,Back!$M$17:$N$23,2,0)","v":"#N/A"},{"$f":"+VLOOKUP('BASE DE RESPUESTAS'!M51,Back!$M$17:$N$23,2,0)","v":"#N/A"},{"$f":"+VLOOKUP('BASE DE RESPUESTAS'!N51,Back!$M$17:$N$23,2,0)","v":"#N/A"},{"$f":"+VLOOKUP('BASE DE RESPUESTAS'!O51,Back!$M$17:$N$23,2,0)","v":"#N/A"},{"$f":"+VLOOKUP('BASE DE RESPUESTAS'!P51,Back!$M$17:$N$23,2,0)","v":"#N/A"},{"$f":"+VLOOKUP('BASE DE RESPUESTAS'!Q51,Back!$M$17:$N$23,2,0)","v":"#N/A"},{"$f":"+VLOOKUP('BASE DE RESPUESTAS'!R51,Back!$M$17:$N$23,2,0)","v":"#N/A"},{"$f":"+VLOOKUP('BASE DE RESPUESTAS'!S51,Back!$M$17:$N$23,2,0)","v":"#N/A"},{"$f":"+VLOOKUP('BASE DE RESPUESTAS'!T51,Back!$M$17:$N$23,2,0)","v":"#N/A"},{"$f":"+VLOOKUP('BASE DE RESPUESTAS'!U51,Back!$M$17:$N$23,2,0)","v":"#N/A"},{"$f":"+VLOOKUP('BASE DE RESPUESTAS'!V51,Back!$M$17:$N$23,2,0)","v":"#N/A"},{"$f":"+VLOOKUP('BASE DE RESPUESTAS'!W51,Back!$M$17:$N$23,2,0)","v":"#N/A"},{"$f":"+VLOOKUP('BASE DE RESPUESTAS'!X51,Back!$M$17:$N$23,2,0)","v":"#N/A"},{"$f":"+VLOOKUP('BASE DE RESPUESTAS'!Y51,Back!$M$17:$N$23,2,0)","v":"#N/A"},{"$f":"+VLOOKUP('BASE DE RESPUESTAS'!Z51,Back!$M$17:$N$23,2,0)","v":"#N/A"},{"$f":"+VLOOKUP('BASE DE RESPUESTAS'!AA51,Back!$M$17:$N$23,2,0)","v":"#N/A"},{"$f":"+VLOOKUP('BASE DE RESPUESTAS'!AB51,Back!$M$17:$N$23,2,0)","v":"#N/A"},{"$f":"+VLOOKUP('BASE DE RESPUESTAS'!AC51,Back!$M$17:$N$23,2,0)","v":"#N/A"},{"$f":"+VLOOKUP('BASE DE RESPUESTAS'!AD51,Back!$M$17:$N$23,2,0)","v":"#N/A"},{"$f":"+VLOOKUP('BASE DE RESPUESTAS'!AE51,Back!$M$17:$N$23,2,0)","v":"#N/A"},{"$f":"+VLOOKUP('BASE DE RESPUESTAS'!AF51,Back!$M$17:$N$23,2,0)","v":"#N/A"},{"$f":"+VLOOKUP('BASE DE RESPUESTAS'!AG51,Back!$M$17:$N$23,2,0)","v":"#N/A"},{"$f":"+VLOOKUP('BASE DE RESPUESTAS'!AH51,Back!$M$17:$N$23,2,0)","v":"#N/A"},{"$f":"+VLOOKUP('BASE DE RESPUESTAS'!AI51,Back!$M$17:$N$23,2,0)","v":"#N/A"},{"$f":"+VLOOKUP('BASE DE RESPUESTAS'!AJ51,Back!$M$17:$N$23,2,0)","v":"#N/A"},{"$f":"+VLOOKUP('BASE DE RESPUESTAS'!AK51,Back!$M$17:$N$23,2,0)","v":"#N/A"},{"$f":"+VLOOKUP('BASE DE RESPUESTAS'!AL51,Back!$M$17:$N$23,2,0)","v":"#N/A"},{"$f":"+VLOOKUP('BASE DE RESPUESTAS'!AM51,Back!$M$17:$N$23,2,0)","v":"#N/A"},{"$f":"+VLOOKUP('BASE DE RESPUESTAS'!AN51,Back!$M$17:$N$23,2,0)","v":"#N/A"},{"$f":"+VLOOKUP('BASE DE RESPUESTAS'!AO51,Back!$M$17:$N$23,2,0)","v":"#N/A"},{"$f":"+VLOOKUP('BASE DE RESPUESTAS'!AP51,Back!$M$17:$N$23,2,0)","v":"#N/A"},{"$f":"+VLOOKUP('BASE DE RESPUESTAS'!AQ51,Back!$M$17:$N$23,2,0)","v":"#N/A"},{"$f":"+VLOOKUP('BASE DE RESPUESTAS'!AR51,Back!$M$17:$N$23,2,0)","v":"#N/A"},{"$f":"+VLOOKUP('BASE DE RESPUESTAS'!AS51,Back!$M$17:$N$23,2,0)","v":"#N/A"},{"$f":"+VLOOKUP('BASE DE RESPUESTAS'!AT51,Back!$M$17:$N$23,2,0)","v":"#N/A"},{"$f":"+VLOOKUP('BASE DE RESPUESTAS'!AU51,Back!$M$17:$N$23,2,0)","v":"#N/A"},{"$f":"+VLOOKUP('BASE DE RESPUESTAS'!AV51,Back!$M$17:$N$23,2,0)","v":"#N/A"},{"$f":"+VLOOKUP('BASE DE RESPUESTAS'!AW51,Back!$M$17:$N$23,2,0)","v":"#N/A"},{"$f":"+VLOOKUP('BASE DE RESPUESTAS'!AX51,Back!$M$17:$N$23,2,0)","v":"#N/A"},{"$f":"+VLOOKUP('BASE DE RESPUESTAS'!AY51,Back!$M$17:$N$23,2,0)","v":"#N/A"},{"$f":"+VLOOKUP('BASE DE RESPUESTAS'!AZ51,Back!$M$17:$N$23,2,0)","v":"#N/A"},{"$f":"+VLOOKUP('BASE DE RESPUESTAS'!BA51,Back!$M$17:$N$23,2,0)","v":"#N/A"},{"$f":"+VLOOKUP('BASE DE RESPUESTAS'!BB51,Back!$M$17:$N$23,2,0)","v":"#N/A"},{"$f":"+VLOOKUP('BASE DE RESPUESTAS'!BC51,Back!$M$17:$N$23,2,0)","v":"#N/A"},{"$f":"+VLOOKUP('BASE DE RESPUESTAS'!BD51,Back!$M$17:$N$23,2,0)","v":"#N/A"},{"$f":"+VLOOKUP('BASE DE RESPUESTAS'!BE51,Back!$M$17:$N$23,2,0)","v":"#N/A"}]
[null,null,null,"La niña o el niño se presenta desaseado con frecuencia.",46.0,"Se presenta desaseado con frecuencia (Ej. escaras en la piel, uñas sucias, la vestimenta sucia).",null,{"$f":"+VLOOKUP('BASE DE RESPUESTAS'!H52,Back!$M$17:$N$23,2,0)","v":"#N/A"},{"$f":"+VLOOKUP('BASE DE RESPUESTAS'!I52,Back!$M$17:$N$23,2,0)","v":"#N/A"},{"$f":"+VLOOKUP('BASE DE RESPUESTAS'!J52,Back!$M$17:$N$23,2,0)","v":"#N/A"},{"$f":"+VLOOKUP('BASE DE RESPUESTAS'!K52,Back!$M$17:$N$23,2,0)","v":"#N/A"},{"$f":"+VLOOKUP('BASE DE RESPUESTAS'!L52,Back!$M$17:$N$23,2,0)","v":"#N/A"},{"$f":"+VLOOKUP('BASE DE RESPUESTAS'!M52,Back!$M$17:$N$23,2,0)","v":"#N/A"},{"$f":"+VLOOKUP('BASE DE RESPUESTAS'!N52,Back!$M$17:$N$23,2,0)","v":"#N/A"},{"$f":"+VLOOKUP('BASE DE RESPUESTAS'!O52,Back!$M$17:$N$23,2,0)","v":"#N/A"},{"$f":"+VLOOKUP('BASE DE RESPUESTAS'!P52,Back!$M$17:$N$23,2,0)","v":"#N/A"},{"$f":"+VLOOKUP('BASE DE RESPUESTAS'!Q52,Back!$M$17:$N$23,2,0)","v":"#N/A"},{"$f":"+VLOOKUP('BASE DE RESPUESTAS'!R52,Back!$M$17:$N$23,2,0)","v":"#N/A"},{"$f":"+VLOOKUP('BASE DE RESPUESTAS'!S52,Back!$M$17:$N$23,2,0)","v":"#N/A"},{"$f":"+VLOOKUP('BASE DE RESPUESTAS'!T52,Back!$M$17:$N$23,2,0)","v":"#N/A"},{"$f":"+VLOOKUP('BASE DE RESPUESTAS'!U52,Back!$M$17:$N$23,2,0)","v":"#N/A"},{"$f":"+VLOOKUP('BASE DE RESPUESTAS'!V52,Back!$M$17:$N$23,2,0)","v":"#N/A"},{"$f":"+VLOOKUP('BASE DE RESPUESTAS'!W52,Back!$M$17:$N$23,2,0)","v":"#N/A"},{"$f":"+VLOOKUP('BASE DE RESPUESTAS'!X52,Back!$M$17:$N$23,2,0)","v":"#N/A"},{"$f":"+VLOOKUP('BASE DE RESPUESTAS'!Y52,Back!$M$17:$N$23,2,0)","v":"#N/A"},{"$f":"+VLOOKUP('BASE DE RESPUESTAS'!Z52,Back!$M$17:$N$23,2,0)","v":"#N/A"},{"$f":"+VLOOKUP('BASE DE RESPUESTAS'!AA52,Back!$M$17:$N$23,2,0)","v":"#N/A"},{"$f":"+VLOOKUP('BASE DE RESPUESTAS'!AB52,Back!$M$17:$N$23,2,0)","v":"#N/A"},{"$f":"+VLOOKUP('BASE DE RESPUESTAS'!AC52,Back!$M$17:$N$23,2,0)","v":"#N/A"},{"$f":"+VLOOKUP('BASE DE RESPUESTAS'!AD52,Back!$M$17:$N$23,2,0)","v":"#N/A"},{"$f":"+VLOOKUP('BASE DE RESPUESTAS'!AE52,Back!$M$17:$N$23,2,0)","v":"#N/A"},{"$f":"+VLOOKUP('BASE DE RESPUESTAS'!AF52,Back!$M$17:$N$23,2,0)","v":"#N/A"},{"$f":"+VLOOKUP('BASE DE RESPUESTAS'!AG52,Back!$M$17:$N$23,2,0)","v":"#N/A"},{"$f":"+VLOOKUP('BASE DE RESPUESTAS'!AH52,Back!$M$17:$N$23,2,0)","v":"#N/A"},{"$f":"+VLOOKUP('BASE DE RESPUESTAS'!AI52,Back!$M$17:$N$23,2,0)","v":"#N/A"},{"$f":"+VLOOKUP('BASE DE RESPUESTAS'!AJ52,Back!$M$17:$N$23,2,0)","v":"#N/A"},{"$f":"+VLOOKUP('BASE DE RESPUESTAS'!AK52,Back!$M$17:$N$23,2,0)","v":"#N/A"},{"$f":"+VLOOKUP('BASE DE RESPUESTAS'!AL52,Back!$M$17:$N$23,2,0)","v":"#N/A"},{"$f":"+VLOOKUP('BASE DE RESPUESTAS'!AM52,Back!$M$17:$N$23,2,0)","v":"#N/A"},{"$f":"+VLOOKUP('BASE DE RESPUESTAS'!AN52,Back!$M$17:$N$23,2,0)","v":"#N/A"},{"$f":"+VLOOKUP('BASE DE RESPUESTAS'!AO52,Back!$M$17:$N$23,2,0)","v":"#N/A"},{"$f":"+VLOOKUP('BASE DE RESPUESTAS'!AP52,Back!$M$17:$N$23,2,0)","v":"#N/A"},{"$f":"+VLOOKUP('BASE DE RESPUESTAS'!AQ52,Back!$M$17:$N$23,2,0)","v":"#N/A"},{"$f":"+VLOOKUP('BASE DE RESPUESTAS'!AR52,Back!$M$17:$N$23,2,0)","v":"#N/A"},{"$f":"+VLOOKUP('BASE DE RESPUESTAS'!AS52,Back!$M$17:$N$23,2,0)","v":"#N/A"},{"$f":"+VLOOKUP('BASE DE RESPUESTAS'!AT52,Back!$M$17:$N$23,2,0)","v":"#N/A"},{"$f":"+VLOOKUP('BASE DE RESPUESTAS'!AU52,Back!$M$17:$N$23,2,0)","v":"#N/A"},{"$f":"+VLOOKUP('BASE DE RESPUESTAS'!AV52,Back!$M$17:$N$23,2,0)","v":"#N/A"},{"$f":"+VLOOKUP('BASE DE RESPUESTAS'!AW52,Back!$M$17:$N$23,2,0)","v":"#N/A"},{"$f":"+VLOOKUP('BASE DE RESPUESTAS'!AX52,Back!$M$17:$N$23,2,0)","v":"#N/A"},{"$f":"+VLOOKUP('BASE DE RESPUESTAS'!AY52,Back!$M$17:$N$23,2,0)","v":"#N/A"},{"$f":"+VLOOKUP('BASE DE RESPUESTAS'!AZ52,Back!$M$17:$N$23,2,0)","v":"#N/A"},{"$f":"+VLOOKUP('BASE DE RESPUESTAS'!BA52,Back!$M$17:$N$23,2,0)","v":"#N/A"},{"$f":"+VLOOKUP('BASE DE RESPUESTAS'!BB52,Back!$M$17:$N$23,2,0)","v":"#N/A"},{"$f":"+VLOOKUP('BASE DE RESPUESTAS'!BC52,Back!$M$17:$N$23,2,0)","v":"#N/A"},{"$f":"+VLOOKUP('BASE DE RESPUESTAS'!BD52,Back!$M$17:$N$23,2,0)","v":"#N/A"},{"$f":"+VLOOKUP('BASE DE RESPUESTAS'!BE52,Back!$M$17:$N$23,2,0)","v":"#N/A"}]
[null,null,null,"La niña o el niño no reconoce las partes íntimas de su cuerpo.",47.0,"Tiene dificultades para nombrar las partes íntimas de su cuerpo.",null,{"$f":"+VLOOKUP('BASE DE RESPUESTAS'!H53,Back!$M$17:$N$23,2,0)","v":"#N/A"},{"$f":"+VLOOKUP('BASE DE RESPUESTAS'!I53,Back!$M$17:$N$23,2,0)","v":"#N/A"},{"$f":"+VLOOKUP('BASE DE RESPUESTAS'!J53,Back!$M$17:$N$23,2,0)","v":"#N/A"},{"$f":"+VLOOKUP('BASE DE RESPUESTAS'!K53,Back!$M$17:$N$23,2,0)","v":"#N/A"},{"$f":"+VLOOKUP('BASE DE RESPUESTAS'!L53,Back!$M$17:$N$23,2,0)","v":"#N/A"},{"$f":"+VLOOKUP('BASE DE RESPUESTAS'!M53,Back!$M$17:$N$23,2,0)","v":"#N/A"},{"$f":"+VLOOKUP('BASE DE RESPUESTAS'!N53,Back!$M$17:$N$23,2,0)","v":"#N/A"},{"$f":"+VLOOKUP('BASE DE RESPUESTAS'!O53,Back!$M$17:$N$23,2,0)","v":"#N/A"},{"$f":"+VLOOKUP('BASE DE RESPUESTAS'!P53,Back!$M$17:$N$23,2,0)","v":"#N/A"},{"$f":"+VLOOKUP('BASE DE RESPUESTAS'!Q53,Back!$M$17:$N$23,2,0)","v":"#N/A"},{"$f":"+VLOOKUP('BASE DE RESPUESTAS'!R53,Back!$M$17:$N$23,2,0)","v":"#N/A"},{"$f":"+VLOOKUP('BASE DE RESPUESTAS'!S53,Back!$M$17:$N$23,2,0)","v":"#N/A"},{"$f":"+VLOOKUP('BASE DE RESPUESTAS'!T53,Back!$M$17:$N$23,2,0)","v":"#N/A"},{"$f":"+VLOOKUP('BASE DE RESPUESTAS'!U53,Back!$M$17:$N$23,2,0)","v":"#N/A"},{"$f":"+VLOOKUP('BASE DE RESPUESTAS'!V53,Back!$M$17:$N$23,2,0)","v":"#N/A"},{"$f":"+VLOOKUP('BASE DE RESPUESTAS'!W53,Back!$M$17:$N$23,2,0)","v":"#N/A"},{"$f":"+VLOOKUP('BASE DE RESPUESTAS'!X53,Back!$M$17:$N$23,2,0)","v":"#N/A"},{"$f":"+VLOOKUP('BASE DE RESPUESTAS'!Y53,Back!$M$17:$N$23,2,0)","v":"#N/A"},{"$f":"+VLOOKUP('BASE DE RESPUESTAS'!Z53,Back!$M$17:$N$23,2,0)","v":"#N/A"},{"$f":"+VLOOKUP('BASE DE RESPUESTAS'!AA53,Back!$M$17:$N$23,2,0)","v":"#N/A"},{"$f":"+VLOOKUP('BASE DE RESPUESTAS'!AB53,Back!$M$17:$N$23,2,0)","v":"#N/A"},{"$f":"+VLOOKUP('BASE DE RESPUESTAS'!AC53,Back!$M$17:$N$23,2,0)","v":"#N/A"},{"$f":"+VLOOKUP('BASE DE RESPUESTAS'!AD53,Back!$M$17:$N$23,2,0)","v":"#N/A"},{"$f":"+VLOOKUP('BASE DE RESPUESTAS'!AE53,Back!$M$17:$N$23,2,0)","v":"#N/A"},{"$f":"+VLOOKUP('BASE DE RESPUESTAS'!AF53,Back!$M$17:$N$23,2,0)","v":"#N/A"},{"$f":"+VLOOKUP('BASE DE RESPUESTAS'!AG53,Back!$M$17:$N$23,2,0)","v":"#N/A"},{"$f":"+VLOOKUP('BASE DE RESPUESTAS'!AH53,Back!$M$17:$N$23,2,0)","v":"#N/A"},{"$f":"+VLOOKUP('BASE DE RESPUESTAS'!AI53,Back!$M$17:$N$23,2,0)","v":"#N/A"},{"$f":"+VLOOKUP('BASE DE RESPUESTAS'!AJ53,Back!$M$17:$N$23,2,0)","v":"#N/A"},{"$f":"+VLOOKUP('BASE DE RESPUESTAS'!AK53,Back!$M$17:$N$23,2,0)","v":"#N/A"},{"$f":"+VLOOKUP('BASE DE RESPUESTAS'!AL53,Back!$M$17:$N$23,2,0)","v":"#N/A"},{"$f":"+VLOOKUP('BASE DE RESPUESTAS'!AM53,Back!$M$17:$N$23,2,0)","v":"#N/A"},{"$f":"+VLOOKUP('BASE DE RESPUESTAS'!AN53,Back!$M$17:$N$23,2,0)","v":"#N/A"},{"$f":"+VLOOKUP('BASE DE RESPUESTAS'!AO53,Back!$M$17:$N$23,2,0)","v":"#N/A"},{"$f":"+VLOOKUP('BASE DE RESPUESTAS'!AP53,Back!$M$17:$N$23,2,0)","v":"#N/A"},{"$f":"+VLOOKUP('BASE DE RESPUESTAS'!AQ53,Back!$M$17:$N$23,2,0)","v":"#N/A"},{"$f":"+VLOOKUP('BASE DE RESPUESTAS'!AR53,Back!$M$17:$N$23,2,0)","v":"#N/A"},{"$f":"+VLOOKUP('BASE DE RESPUESTAS'!AS53,Back!$M$17:$N$23,2,0)","v":"#N/A"},{"$f":"+VLOOKUP('BASE DE RESPUESTAS'!AT53,Back!$M$17:$N$23,2,0)","v":"#N/A"},{"$f":"+VLOOKUP('BASE DE RESPUESTAS'!AU53,Back!$M$17:$N$23,2,0)","v":"#N/A"},{"$f":"+VLOOKUP('BASE DE RESPUESTAS'!AV53,Back!$M$17:$N$23,2,0)","v":"#N/A"},{"$f":"+VLOOKUP('BASE DE RESPUESTAS'!AW53,Back!$M$17:$N$23,2,0)","v":"#N/A"},{"$f":"+VLOOKUP('BASE DE RESPUESTAS'!AX53,Back!$M$17:$N$23,2,0)","v":"#N/A"},{"$f":"+VLOOKUP('BASE DE RESPUESTAS'!AY53,Back!$M$17:$N$23,2,0)","v":"#N/A"},{"$f":"+VLOOKUP('BASE DE RESPUESTAS'!AZ53,Back!$M$17:$N$23,2,0)","v":"#N/A"},{"$f":"+VLOOKUP('BASE DE RESPUESTAS'!BA53,Back!$M$17:$N$23,2,0)","v":"#N/A"},{"$f":"+VLOOKUP('BASE DE RESPUESTAS'!BB53,Back!$M$17:$N$23,2,0)","v":"#N/A"},{"$f":"+VLOOKUP('BASE DE RESPUESTAS'!BC53,Back!$M$17:$N$23,2,0)","v":"#N/A"},{"$f":"+VLOOKUP('BASE DE RESPUESTAS'!BD53,Back!$M$17:$N$23,2,0)","v":"#N/A"},{"$f":"+VLOOKUP('BASE DE RESPUESTAS'!BE53,Back!$M$17:$N$23,2,0)","v":"#N/A"}]
[null,null,null,"La niña o el niño repentinamente se orina o defeca en su ropa.",48.0,"Repentinamente se orina o defeca en su ropa.",null,{"$f":"+VLOOKUP('BASE DE RESPUESTAS'!H54,Back!$M$17:$N$23,2,0)","v":"#N/A"},{"$f":"+VLOOKUP('BASE DE RESPUESTAS'!I54,Back!$M$17:$N$23,2,0)","v":"#N/A"},{"$f":"+VLOOKUP('BASE DE RESPUESTAS'!J54,Back!$M$17:$N$23,2,0)","v":"#N/A"},{"$f":"+VLOOKUP('BASE DE RESPUESTAS'!K54,Back!$M$17:$N$23,2,0)","v":"#N/A"},{"$f":"+VLOOKUP('BASE DE RESPUESTAS'!L54,Back!$M$17:$N$23,2,0)","v":"#N/A"},{"$f":"+VLOOKUP('BASE DE RESPUESTAS'!M54,Back!$M$17:$N$23,2,0)","v":"#N/A"},{"$f":"+VLOOKUP('BASE DE RESPUESTAS'!N54,Back!$M$17:$N$23,2,0)","v":"#N/A"},{"$f":"+VLOOKUP('BASE DE RESPUESTAS'!O54,Back!$M$17:$N$23,2,0)","v":"#N/A"},{"$f":"+VLOOKUP('BASE DE RESPUESTAS'!P54,Back!$M$17:$N$23,2,0)","v":"#N/A"},{"$f":"+VLOOKUP('BASE DE RESPUESTAS'!Q54,Back!$M$17:$N$23,2,0)","v":"#N/A"},{"$f":"+VLOOKUP('BASE DE RESPUESTAS'!R54,Back!$M$17:$N$23,2,0)","v":"#N/A"},{"$f":"+VLOOKUP('BASE DE RESPUESTAS'!S54,Back!$M$17:$N$23,2,0)","v":"#N/A"},{"$f":"+VLOOKUP('BASE DE RESPUESTAS'!T54,Back!$M$17:$N$23,2,0)","v":"#N/A"},{"$f":"+VLOOKUP('BASE DE RESPUESTAS'!U54,Back!$M$17:$N$23,2,0)","v":"#N/A"},{"$f":"+VLOOKUP('BASE DE RESPUESTAS'!V54,Back!$M$17:$N$23,2,0)","v":"#N/A"},{"$f":"+VLOOKUP('BASE DE RESPUESTAS'!W54,Back!$M$17:$N$23,2,0)","v":"#N/A"},{"$f":"+VLOOKUP('BASE DE RESPUESTAS'!X54,Back!$M$17:$N$23,2,0)","v":"#N/A"},{"$f":"+VLOOKUP('BASE DE RESPUESTAS'!Y54,Back!$M$17:$N$23,2,0)","v":"#N/A"},{"$f":"+VLOOKUP('BASE DE RESPUESTAS'!Z54,Back!$M$17:$N$23,2,0)","v":"#N/A"},{"$f":"+VLOOKUP('BASE DE RESPUESTAS'!AA54,Back!$M$17:$N$23,2,0)","v":"#N/A"},{"$f":"+VLOOKUP('BASE DE RESPUESTAS'!AB54,Back!$M$17:$N$23,2,0)","v":"#N/A"},{"$f":"+VLOOKUP('BASE DE RESPUESTAS'!AC54,Back!$M$17:$N$23,2,0)","v":"#N/A"},{"$f":"+VLOOKUP('BASE DE RESPUESTAS'!AD54,Back!$M$17:$N$23,2,0)","v":"#N/A"},{"$f":"+VLOOKUP('BASE DE RESPUESTAS'!AE54,Back!$M$17:$N$23,2,0)","v":"#N/A"},{"$f":"+VLOOKUP('BASE DE RESPUESTAS'!AF54,Back!$M$17:$N$23,2,0)","v":"#N/A"},{"$f":"+VLOOKUP('BASE DE RESPUESTAS'!AG54,Back!$M$17:$N$23,2,0)","v":"#N/A"},{"$f":"+VLOOKUP('BASE DE RESPUESTAS'!AH54,Back!$M$17:$N$23,2,0)","v":"#N/A"},{"$f":"+VLOOKUP('BASE DE RESPUESTAS'!AI54,Back!$M$17:$N$23,2,0)","v":"#N/A"},{"$f":"+VLOOKUP('BASE DE RESPUESTAS'!AJ54,Back!$M$17:$N$23,2,0)","v":"#N/A"},{"$f":"+VLOOKUP('BASE DE RESPUESTAS'!AK54,Back!$M$17:$N$23,2,0)","v":"#N/A"},{"$f":"+VLOOKUP('BASE DE RESPUESTAS'!AL54,Back!$M$17:$N$23,2,0)","v":"#N/A"},{"$f":"+VLOOKUP('BASE DE RESPUESTAS'!AM54,Back!$M$17:$N$23,2,0)","v":"#N/A"},{"$f":"+VLOOKUP('BASE DE RESPUESTAS'!AN54,Back!$M$17:$N$23,2,0)","v":"#N/A"},{"$f":"+VLOOKUP('BASE DE RESPUESTAS'!AO54,Back!$M$17:$N$23,2,0)","v":"#N/A"},{"$f":"+VLOOKUP('BASE DE RESPUESTAS'!AP54,Back!$M$17:$N$23,2,0)","v":"#N/A"},{"$f":"+VLOOKUP('BASE DE RESPUESTAS'!AQ54,Back!$M$17:$N$23,2,0)","v":"#N/A"},{"$f":"+VLOOKUP('BASE DE RESPUESTAS'!AR54,Back!$M$17:$N$23,2,0)","v":"#N/A"},{"$f":"+VLOOKUP('BASE DE RESPUESTAS'!AS54,Back!$M$17:$N$23,2,0)","v":"#N/A"},{"$f":"+VLOOKUP('BASE DE RESPUESTAS'!AT54,Back!$M$17:$N$23,2,0)","v":"#N/A"},{"$f":"+VLOOKUP('BASE DE RESPUESTAS'!AU54,Back!$M$17:$N$23,2,0)","v":"#N/A"},{"$f":"+VLOOKUP('BASE DE RESPUESTAS'!AV54,Back!$M$17:$N$23,2,0)","v":"#N/A"},{"$f":"+VLOOKUP('BASE DE RESPUESTAS'!AW54,Back!$M$17:$N$23,2,0)","v":"#N/A"},{"$f":"+VLOOKUP('BASE DE RESPUESTAS'!AX54,Back!$M$17:$N$23,2,0)","v":"#N/A"},{"$f":"+VLOOKUP('BASE DE RESPUESTAS'!AY54,Back!$M$17:$N$23,2,0)","v":"#N/A"},{"$f":"+VLOOKUP('BASE DE RESPUESTAS'!AZ54,Back!$M$17:$N$23,2,0)","v":"#N/A"},{"$f":"+VLOOKUP('BASE DE RESPUESTAS'!BA54,Back!$M$17:$N$23,2,0)","v":"#N/A"},{"$f":"+VLOOKUP('BASE DE RESPUESTAS'!BB54,Back!$M$17:$N$23,2,0)","v":"#N/A"},{"$f":"+VLOOKUP('BASE DE RESPUESTAS'!BC54,Back!$M$17:$N$23,2,0)","v":"#N/A"},{"$f":"+VLOOKUP('BASE DE RESPUESTAS'!BD54,Back!$M$17:$N$23,2,0)","v":"#N/A"},{"$f":"+VLOOKUP('BASE DE RESPUESTAS'!BE54,Back!$M$17:$N$23,2,0)","v":"#N/A"}]
[null,null,null,"La niña o el niño se sienta o camina con dificultad y/o refiere dolor, picor en la zona anal o inginal.",49.0,"La niña o el niño se sienta o camina con dificultad y/o refiere dolor, picor en la zona anal o inguinal.",null,{"$f":"+VLOOKUP('BASE DE RESPUESTAS'!H55,Back!$M$17:$N$23,2,0)","v":"#N/A"},{"$f":"+VLOOKUP('BASE DE RESPUESTAS'!I55,Back!$M$17:$N$23,2,0)","v":"#N/A"},{"$f":"+VLOOKUP('BASE DE RESPUESTAS'!J55,Back!$M$17:$N$23,2,0)","v":"#N/A"},{"$f":"+VLOOKUP('BASE DE RESPUESTAS'!K55,Back!$M$17:$N$23,2,0)","v":"#N/A"},{"$f":"+VLOOKUP('BASE DE RESPUESTAS'!L55,Back!$M$17:$N$23,2,0)","v":"#N/A"},{"$f":"+VLOOKUP('BASE DE RESPUESTAS'!M55,Back!$M$17:$N$23,2,0)","v":"#N/A"},{"$f":"+VLOOKUP('BASE DE RESPUESTAS'!N55,Back!$M$17:$N$23,2,0)","v":"#N/A"},{"$f":"+VLOOKUP('BASE DE RESPUESTAS'!O55,Back!$M$17:$N$23,2,0)","v":"#N/A"},{"$f":"+VLOOKUP('BASE DE RESPUESTAS'!P55,Back!$M$17:$N$23,2,0)","v":"#N/A"},{"$f":"+VLOOKUP('BASE DE RESPUESTAS'!Q55,Back!$M$17:$N$23,2,0)","v":"#N/A"},{"$f":"+VLOOKUP('BASE DE RESPUESTAS'!R55,Back!$M$17:$N$23,2,0)","v":"#N/A"},{"$f":"+VLOOKUP('BASE DE RESPUESTAS'!S55,Back!$M$17:$N$23,2,0)","v":"#N/A"},{"$f":"+VLOOKUP('BASE DE RESPUESTAS'!T55,Back!$M$17:$N$23,2,0)","v":"#N/A"},{"$f":"+VLOOKUP('BASE DE RESPUESTAS'!U55,Back!$M$17:$N$23,2,0)","v":"#N/A"},{"$f":"+VLOOKUP('BASE DE RESPUESTAS'!V55,Back!$M$17:$N$23,2,0)","v":"#N/A"},{"$f":"+VLOOKUP('BASE DE RESPUESTAS'!W55,Back!$M$17:$N$23,2,0)","v":"#N/A"},{"$f":"+VLOOKUP('BASE DE RESPUESTAS'!X55,Back!$M$17:$N$23,2,0)","v":"#N/A"},{"$f":"+VLOOKUP('BASE DE RESPUESTAS'!Y55,Back!$M$17:$N$23,2,0)","v":"#N/A"},{"$f":"+VLOOKUP('BASE DE RESPUESTAS'!Z55,Back!$M$17:$N$23,2,0)","v":"#N/A"},{"$f":"+VLOOKUP('BASE DE RESPUESTAS'!AA55,Back!$M$17:$N$23,2,0)","v":"#N/A"},{"$f":"+VLOOKUP('BASE DE RESPUESTAS'!AB55,Back!$M$17:$N$23,2,0)","v":"#N/A"},{"$f":"+VLOOKUP('BASE DE RESPUESTAS'!AC55,Back!$M$17:$N$23,2,0)","v":"#N/A"},{"$f":"+VLOOKUP('BASE DE RESPUESTAS'!AD55,Back!$M$17:$N$23,2,0)","v":"#N/A"},{"$f":"+VLOOKUP('BASE DE RESPUESTAS'!AE55,Back!$M$17:$N$23,2,0)","v":"#N/A"},{"$f":"+VLOOKUP('BASE DE RESPUESTAS'!AF55,Back!$M$17:$N$23,2,0)","v":"#N/A"},{"$f":"+VLOOKUP('BASE DE RESPUESTAS'!AG55,Back!$M$17:$N$23,2,0)","v":"#N/A"},{"$f":"+VLOOKUP('BASE DE RESPUESTAS'!AH55,Back!$M$17:$N$23,2,0)","v":"#N/A"},{"$f":"+VLOOKUP('BASE DE RESPUESTAS'!AI55,Back!$M$17:$N$23,2,0)","v":"#N/A"},{"$f":"+VLOOKUP('BASE DE RESPUESTAS'!AJ55,Back!$M$17:$N$23,2,0)","v":"#N/A"},{"$f":"+VLOOKUP('BASE DE RESPUESTAS'!AK55,Back!$M$17:$N$23,2,0)","v":"#N/A"},{"$f":"+VLOOKUP('BASE DE RESPUESTAS'!AL55,Back!$M$17:$N$23,2,0)","v":"#N/A"},{"$f":"+VLOOKUP('BASE DE RESPUESTAS'!AM55,Back!$M$17:$N$23,2,0)","v":"#N/A"},{"$f":"+VLOOKUP('BASE DE RESPUESTAS'!AN55,Back!$M$17:$N$23,2,0)","v":"#N/A"},{"$f":"+VLOOKUP('BASE DE RESPUESTAS'!AO55,Back!$M$17:$N$23,2,0)","v":"#N/A"},{"$f":"+VLOOKUP('BASE DE RESPUESTAS'!AP55,Back!$M$17:$N$23,2,0)","v":"#N/A"},{"$f":"+VLOOKUP('BASE DE RESPUESTAS'!AQ55,Back!$M$17:$N$23,2,0)","v":"#N/A"},{"$f":"+VLOOKUP('BASE DE RESPUESTAS'!AR55,Back!$M$17:$N$23,2,0)","v":"#N/A"},{"$f":"+VLOOKUP('BASE DE RESPUESTAS'!AS55,Back!$M$17:$N$23,2,0)","v":"#N/A"},{"$f":"+VLOOKUP('BASE DE RESPUESTAS'!AT55,Back!$M$17:$N$23,2,0)","v":"#N/A"},{"$f":"+VLOOKUP('BASE DE RESPUESTAS'!AU55,Back!$M$17:$N$23,2,0)","v":"#N/A"},{"$f":"+VLOOKUP('BASE DE RESPUESTAS'!AV55,Back!$M$17:$N$23,2,0)","v":"#N/A"},{"$f":"+VLOOKUP('BASE DE RESPUESTAS'!AW55,Back!$M$17:$N$23,2,0)","v":"#N/A"},{"$f":"+VLOOKUP('BASE DE RESPUESTAS'!AX55,Back!$M$17:$N$23,2,0)","v":"#N/A"},{"$f":"+VLOOKUP('BASE DE RESPUESTAS'!AY55,Back!$M$17:$N$23,2,0)","v":"#N/A"},{"$f":"+VLOOKUP('BASE DE RESPUESTAS'!AZ55,Back!$M$17:$N$23,2,0)","v":"#N/A"},{"$f":"+VLOOKUP('BASE DE RESPUESTAS'!BA55,Back!$M$17:$N$23,2,0)","v":"#N/A"},{"$f":"+VLOOKUP('BASE DE RESPUESTAS'!BB55,Back!$M$17:$N$23,2,0)","v":"#N/A"},{"$f":"+VLOOKUP('BASE DE RESPUESTAS'!BC55,Back!$M$17:$N$23,2,0)","v":"#N/A"},{"$f":"+VLOOKUP('BASE DE RESPUESTAS'!BD55,Back!$M$17:$N$23,2,0)","v":"#N/A"},{"$f":"+VLOOKUP('BASE DE RESPUESTAS'!BE55,Back!$M$17:$N$23,2,0)","v":"#N/A"}]
[null,"FR","Ausentismo Escolar ","La niña o el niño falta, al menos, una vez a la semana a la escuela sin justificación.",50.0,"Falta al menos una vez a la semana sin justificación",null,{"$f":"+VLOOKUP('BASE DE RESPUESTAS'!H56,Back!$M$17:$N$23,2,0)","v":"#N/A"},{"$f":"+VLOOKUP('BASE DE RESPUESTAS'!I56,Back!$M$17:$N$23,2,0)","v":"#N/A"},{"$f":"+VLOOKUP('BASE DE RESPUESTAS'!J56,Back!$M$17:$N$23,2,0)","v":"#N/A"},{"$f":"+VLOOKUP('BASE DE RESPUESTAS'!K56,Back!$M$17:$N$23,2,0)","v":"#N/A"},{"$f":"+VLOOKUP('BASE DE RESPUESTAS'!L56,Back!$M$17:$N$23,2,0)","v":"#N/A"},{"$f":"+VLOOKUP('BASE DE RESPUESTAS'!M56,Back!$M$17:$N$23,2,0)","v":"#N/A"},{"$f":"+VLOOKUP('BASE DE RESPUESTAS'!N56,Back!$M$17:$N$23,2,0)","v":"#N/A"},{"$f":"+VLOOKUP('BASE DE RESPUESTAS'!O56,Back!$M$17:$N$23,2,0)","v":"#N/A"},{"$f":"+VLOOKUP('BASE DE RESPUESTAS'!P56,Back!$M$17:$N$23,2,0)","v":"#N/A"},{"$f":"+VLOOKUP('BASE DE RESPUESTAS'!Q56,Back!$M$17:$N$23,2,0)","v":"#N/A"},{"$f":"+VLOOKUP('BASE DE RESPUESTAS'!R56,Back!$M$17:$N$23,2,0)","v":"#N/A"},{"$f":"+VLOOKUP('BASE DE RESPUESTAS'!S56,Back!$M$17:$N$23,2,0)","v":"#N/A"},{"$f":"+VLOOKUP('BASE DE RESPUESTAS'!T56,Back!$M$17:$N$23,2,0)","v":"#N/A"},{"$f":"+VLOOKUP('BASE DE RESPUESTAS'!U56,Back!$M$17:$N$23,2,0)","v":"#N/A"},{"$f":"+VLOOKUP('BASE DE RESPUESTAS'!V56,Back!$M$17:$N$23,2,0)","v":"#N/A"},{"$f":"+VLOOKUP('BASE DE RESPUESTAS'!W56,Back!$M$17:$N$23,2,0)","v":"#N/A"},{"$f":"+VLOOKUP('BASE DE RESPUESTAS'!X56,Back!$M$17:$N$23,2,0)","v":"#N/A"},{"$f":"+VLOOKUP('BASE DE RESPUESTAS'!Y56,Back!$M$17:$N$23,2,0)","v":"#N/A"},{"$f":"+VLOOKUP('BASE DE RESPUESTAS'!Z56,Back!$M$17:$N$23,2,0)","v":"#N/A"},{"$f":"+VLOOKUP('BASE DE RESPUESTAS'!AA56,Back!$M$17:$N$23,2,0)","v":"#N/A"},{"$f":"+VLOOKUP('BASE DE RESPUESTAS'!AB56,Back!$M$17:$N$23,2,0)","v":"#N/A"},{"$f":"+VLOOKUP('BASE DE RESPUESTAS'!AC56,Back!$M$17:$N$23,2,0)","v":"#N/A"},{"$f":"+VLOOKUP('BASE DE RESPUESTAS'!AD56,Back!$M$17:$N$23,2,0)","v":"#N/A"},{"$f":"+VLOOKUP('BASE DE RESPUESTAS'!AE56,Back!$M$17:$N$23,2,0)","v":"#N/A"},{"$f":"+VLOOKUP('BASE DE RESPUESTAS'!AF56,Back!$M$17:$N$23,2,0)","v":"#N/A"},{"$f":"+VLOOKUP('BASE DE RESPUESTAS'!AG56,Back!$M$17:$N$23,2,0)","v":"#N/A"},{"$f":"+VLOOKUP('BASE DE RESPUESTAS'!AH56,Back!$M$17:$N$23,2,0)","v":"#N/A"},{"$f":"+VLOOKUP('BASE DE RESPUESTAS'!AI56,Back!$M$17:$N$23,2,0)","v":"#N/A"},{"$f":"+VLOOKUP('BASE DE RESPUESTAS'!AJ56,Back!$M$17:$N$23,2,0)","v":"#N/A"},{"$f":"+VLOOKUP('BASE DE RESPUESTAS'!AK56,Back!$M$17:$N$23,2,0)","v":"#N/A"},{"$f":"+VLOOKUP('BASE DE RESPUESTAS'!AL56,Back!$M$17:$N$23,2,0)","v":"#N/A"},{"$f":"+VLOOKUP('BASE DE RESPUESTAS'!AM56,Back!$M$17:$N$23,2,0)","v":"#N/A"},{"$f":"+VLOOKUP('BASE DE RESPUESTAS'!AN56,Back!$M$17:$N$23,2,0)","v":"#N/A"},{"$f":"+VLOOKUP('BASE DE RESPUESTAS'!AO56,Back!$M$17:$N$23,2,0)","v":"#N/A"},{"$f":"+VLOOKUP('BASE DE RESPUESTAS'!AP56,Back!$M$17:$N$23,2,0)","v":"#N/A"},{"$f":"+VLOOKUP('BASE DE RESPUESTAS'!AQ56,Back!$M$17:$N$23,2,0)","v":"#N/A"},{"$f":"+VLOOKUP('BASE DE RESPUESTAS'!AR56,Back!$M$17:$N$23,2,0)","v":"#N/A"},{"$f":"+VLOOKUP('BASE DE RESPUESTAS'!AS56,Back!$M$17:$N$23,2,0)","v":"#N/A"},{"$f":"+VLOOKUP('BASE DE RESPUESTAS'!AT56,Back!$M$17:$N$23,2,0)","v":"#N/A"},{"$f":"+VLOOKUP('BASE DE RESPUESTAS'!AU56,Back!$M$17:$N$23,2,0)","v":"#N/A"},{"$f":"+VLOOKUP('BASE DE RESPUESTAS'!AV56,Back!$M$17:$N$23,2,0)","v":"#N/A"},{"$f":"+VLOOKUP('BASE DE RESPUESTAS'!AW56,Back!$M$17:$N$23,2,0)","v":"#N/A"},{"$f":"+VLOOKUP('BASE DE RESPUESTAS'!AX56,Back!$M$17:$N$23,2,0)","v":"#N/A"},{"$f":"+VLOOKUP('BASE DE RESPUESTAS'!AY56,Back!$M$17:$N$23,2,0)","v":"#N/A"},{"$f":"+VLOOKUP('BASE DE RESPUESTAS'!AZ56,Back!$M$17:$N$23,2,0)","v":"#N/A"},{"$f":"+VLOOKUP('BASE DE RESPUESTAS'!BA56,Back!$M$17:$N$23,2,0)","v":"#N/A"},{"$f":"+VLOOKUP('BASE DE RESPUESTAS'!BB56,Back!$M$17:$N$23,2,0)","v":"#N/A"},{"$f":"+VLOOKUP('BASE DE RESPUESTAS'!BC56,Back!$M$17:$N$23,2,0)","v":"#N/A"},{"$f":"+VLOOKUP('BASE DE RESPUESTAS'!BD56,Back!$M$17:$N$23,2,0)","v":"#N/A"},{"$f":"+VLOOKUP('BASE DE RESPUESTAS'!BE56,Back!$M$17:$N$23,2,0)","v":"#N/A"}]

{"sheet":"Índice","index":2,"n_rows":11,"n_cols":3,"rows_kept":11,"cut":false,"hidden":false,"merged":[]}
[]
[]
[null,"Servicio Educativo"]
[]
[null,"Nivel","Inicial"]
[]
[null,"Ciclo","II"]
[]
[null,"Grado","5 AÑOS"]
[]
[null,"Sección"]

{"sheet":"BASE DE RESPUESTAS","index":3,"n_rows":56,"n_cols":57,"rows_kept":56,"cut":false,"hidden":false,"merged":[[4,21,5,21],[4,22,5,22],[4,23,5,23],[4,24,5,24],[4,25,5,25],[4,26,5,26],[4,27,5,27],[4,28,5,28],[4,29,5,29],[4,30,5,30],[4,31,5,31],[4,32,5,32],[4,33,5,33],[4,34,5,34],[4,49,5,49],[4,50,5,50],[4,51,5,51],[4,52,5,52],[4,53,5,53],[4,54,5,54],[4,55,5,55],[4,56,5,56],[3,1,3,5],[3,7,3,56],[4,1,5,1],[4,2,5,2],[4,3,5,3],[4,4,5,4],[4,5,5,5],[4,35,5,35],[4,36,5,36],[4,37,5,37],[4,38,5,38],[4,39,5,39],[4,40,5,40],[4,41,5,41],[4,42,5,42],[4,43,5,43],[4,44,5,44],[4,45,5,45],[4,46,5,46],[4,47,5,47],[4,48,5,48],[11,1,16,1],[11,2,16,2],[11,3,14,3],[15,3,16,3],[17,1,20,1],[17,2,20,2],[18,3,20,3],[21,1,22,1],[21,2,22,2],[21,3,22,3],[23,1,24,1],[23,2,24,2],[27,2,28,2],[27,3,28,3],[27,1,28,1],[29,1,30,1],[29,2,30,2],[33,1,34,1],[33,2,34,2],[35,1,36,1],[35,2,36,2],[44,1,47,1],[48,1,54,1],[48,2,54,2],[37,1,40,1],[37,2,40,2],[41,1,43,1],[41,2,43,2],[41,3,42,3],[44,2,47,2],[44,3,46,3],[48,3,50,3],[4,9,5,9],[4,10,5,10],[4,11,5,11],[4,12,5,12],[4,13,5,13],[4,14,5,14],[4,15,5,15],[4,16,5,16],[4,17,5,17],[4,18,5,18],[4,19,5,19],[4,20,5,20],[4,7,5,7],[4,8,5,8],[6,1,7,1],[6,2,7,2],[8,1,10,1],[8,2,10,2],[9,3,10,3]]}
[]
[null,null,null,null,null,null,null,{"$f":"IF(COUNTA(H7:H56)=50,\"Respuestas Completas\",\"Falta Completar\")","v":"Falta Completar"},"Falta Completar","Falta Completar","Falta Completar","Falta Completar","Falta Completar","Falta Completar","Falta Completar","Falta Completar","Falta Completar","Falta Completar","Falta Completar","Falta Completar","Falta Completar","Falta Completar","Falta Completar","Falta Completar","Falta Completar","Falta Completar","Falta Completar","Falta Completar","Falta Completar","Falta Completar","Falta Completar","Falta Completar","Falta Completar","Falta Completar","Falta Completar","Falta Completar","Falta Completar","Falta Completar","Falta Completar","Falta Completar","Falta Completar","Falta Completar","Falta Completar","Falta Completar","Falta Completar","Falta Completar","Falta Completar","Falta Completar","Falta Completar","Falta Completar","Falta Completar","Falta Completar","Falta Completar","Falta Completar","Falta Completar","Falta Completar","Falta Completar"]
[]
[null,"INFORMACIÓN BÁSICA",null,null,null,null,null,"ESTUDIANTES"]
[null,"Dimensión","Escala","Indicador","Número","Preguntas",null,"Estudiante 1","Estudiante 2","Estudiante 3","Estudiante 4","Estudiante 5","Estudiante 6","Estudiante 7","Estudiante 8","Estudiante 9","Estudiante 10","Estudiante 11","Estudiante 12","Estudiante 13","Estudiante 14","Estudiante 15","Estudiante 16","Estudiante 17","Estudiante 18","Estudiante 19","Estudiante 20","Estudiante 21","Estudiante 22","Estudiante 23","Estudiante 24","Estudiante 25","Estudiante 26","Estudiante 27","Estudiante 28","Estudiante 29","Estudiante 30","Estudiante 31","Estudiante 32","Estudiante 33","Estudiante 34","Estudiante 35","Estudiante 36","Estudiante 37","Estudiante 38","Estudiante 39","Estudiante 40","Estudiante 41","Estudiante 42","Estudiante 43","Estudiante 44","Estudiante 45","Estudiante 46","Estudiante 47","Estudiante 48","Estudiante 49","Estudiante 50"]
[]
[null,"HSE","Autoconcepto","La niña o el niño nombra, al menos, dos características concretas de sí mismo/a (entre físicas, y capacidades).",1.0,"Pregunta: “Cuéntame cómo eres”."]
[null,null,null,"La niña o el niño expresa lo que más le gusta hacer.",2.0,"Pregunta: “¿Qué es lo que más te gusta hacer?”"]
[null,"HSE","Autoestima","La niña o el niño expresa sentirse bien consigo misma/o.",3.0,"Pregunta: “¿Te gusta cómo eres?”\n"]
[null,null,null,"La niña o el niño participa con seguridad en las actividades que realiza.",4.0,"Observación en aula: Busca mostrar sus dibujos y diseños  a otras personas."]
[null,null,null,null,5.0,"Observación en aula: Colabora activamente con sus compañeras/os sin temor o vergüenza."]
[null,"HSE","Conciencia Emocional","La niña o el niño reconoce y diferencia emociones básicas.",6.0,"Cartilla N°1: “Señala qué niña o niño está alegre”"]
[null,null,null,null,7.0,"Cartilla N°1: “Señala qué niña o niño está triste”"]
[null,null,null,null,8.0,"Cartilla N°1: “Señala qué niña o niño está enojada o enojado”"]
[null,null,null,null,9.0,"Cartilla N°1: “Señala qué niña o niño siente miedo”"]
[null,null,null,"La niña o el niño relaciona emociones con las causas que las generan.",10.0,"Cartilla N°2: “¿Cómo crees que se siente este niño?”"]
[null,null,null,null,11.0,"Cartilla N°3: “¿Cómo crees que se siente esta niña?”"]
[null,"HSE","Autocuidado","La niña o el niño identifica situaciones que representan peligro para su bienestar personal (Ej. agua caliente, tomacorrientes, cruzar sola/o la pista, animales agresivos).",12.0,"Cartilla N°4: “Señala las imágenes donde hay peligros”"]
[null,null,null,"La niña o el niño evidencia conductas de autoprotección (Ej. sabe decir “no”, evita situaciones de peligro, solicita ayuda a una persona adulta).",13.0,"Observación en aula: Dice “no” cuando algo le incomoda."]
[null,null,null,null,14.0,"Observación en aula: Evita situaciones que le pueden hacer daño (Ej. tomacorrientes, objetos filosos, golpearse con puertas y cajones)."]
[null,null,null,null,15.0,"Observación en aula: Solicita ayuda cuando algo le puede ocasionar daño (Ej. alcanzar un objeto que puede caer sobre ella/él, usar las tijeras)."]
[null,"HSE","Regulación Emocional","La niña o el niño regula su conducta con apoyo de una persona adulta.",16.0,"Observación en aula: Espera su turno pacientemente."]
[null,null,null,null,17.0,"Observación en aula: Se mantiene en silencio cuando se le pide."]
[null,"HSE","Creatividad","La niña o el niño usa diferentes objetos para jugar, asignándole una función diferente a la que le pertenece.",18.0,"Observación en aula: Asigna funciones diferentes a los objetos para jugar (Ej. usa una tela como capa, una silla como puerta, una caja como automóvil)."]
[null,null,null,"La niña o el niño propone diferentes soluciones ante un problema.",19.0,"Cartilla N°5: “¿Cómo puede alcanzar el niño su pelota?”"]
[null,"HSE","Toma de decisiones responsables","La niña o el niño toma decisiones de acuerdo a su edad o nivel de desarrollo alcanzado.",20.0,"Observación en aula: Elige con qué juguete prefiere jugar en la hora del juego libre en los sectores."]
[null,"HSE","Comunicación Asertiva","La niña o el niño comunica lo que siente y piensa sin dañar a sus compañeras/os.",21.0,"Observación en aula: Pide lo que desea con amabilidad sin agredir usando \"por favor\" y/o \"gracias\"."]
[null,"HSE","Trabajo en Equipo","La niña o el niño se integra con agrado en las actividades grupales.",22.0,"Observación en aula: Se muestra alegre cuando juega en grupo."]
[null,null,null,null,23.0,"Observación en aula: Participa de manera activa en tareas grupales (Ej. construir o pintar algo en grupo)."]
[null,"HSE","Empatía","La niña o el niño nombra las emociones de sus compañeras/os.",24.0,"Observación en aula: Reporta a la/el docente cuando un/a compañera/o se siente enojado o triste."]
[null,null,null,"La niña o el niño se muestra solidario ante las necesidades de sus compañeros/as.",25.0,"Observación en aula: Ofrece su ayuda cuando un/a compañera/o la/o necesita."]
[null,"HSE","Resolución de Conflictos","La niña o el niño busca solucionar los problemas con sus compañeros/as (ya sea por él/ella mismo/a o buscando a una persona adulta).",26.0,"Observación en aula: Cuando tiene un problema con un/a compañera/o busca solucionarlo ella/él misma/o o acude a la/el docente."]
[null,"HSE","Conciencia Social","La niña o el niño identifica los oficios y/o profesiones de las personas en los grupos sociales.",27.0,"Cartillas N°6, N°7, N° 8, N° 9: Elegir 04 cartillas según el contexto y preguntar a la niña o niño:  ¿En qué trabajan estas personas?"]
[null,"HSE","Comportamiento Prosocial","La niña o el niño  actúa pensando en el bien de los demás.",28.0,"Observación en aula:  No tira basura al suelo"]
[null,null,null,"La niña o el niño se ofrece como voluntario/a cuando es necesario su apoyo para actividades del aula .",29.0,"Observación en aula: Ofrece su apoyo para actividades en el aula. "]
[null,"FR","Dificultades en el desarrollo cognitivo","La niña o el niño no puede mantener una conversación sencilla.",30.0,"No puede mantener una conversación sencilla con sus compañeras/os o docente.",null,"Sí"]
[null,null,null,"La niña o el niño se distrae con facilidad, tiene problemas para concentrarse en una actividad por más de cinco minutos.",31.0,"Se distrae con facilidad, tiene problemas para concentrarse en una actividad por más de cinco minutos.",null,"No"]
[null,"FR","Dificultades en el desarrollo emocional","La niña o el niño muestra cambios de humor repentinos.",32.0,"Cambia de la alegría al enojo con facilidad o viceversa."]
[null,null,null,"La niña o el niño se irrita desproporcionadamente cuando se le da una indicación que no quiere seguir.",33.0,"Grita o llora intensamente cuando se le pide dejar de jugar."]
[null,null,null,"La niña o el niño se frustra con facilidad cuando no puede realizar una actividad, llorando y/o dejando de intentar.",34.0,"Se frustra con facilidad cuando no puede realizar una actividad (Ej. pasar un hilo por una cuenta, realizar un trazo)."]
[null,null,null,"La niña o el niño llora o se irrita de forma desbordada al separarse de su madre, padre o cuidador/a.",35.0,"Se irrita de forma desbordada al separarse de su madre, padre o cuidador/a."]
[null,"FR","Dificultades en el desarrollo social","La niña o el niño se retrae y no participa de actividades grupales.",36.0,"Se aísla mientras sus compañeras/os juegan."]
[null,null,null,null,37.0,"Se niega a participar en el grupo."]
[null,null,null,"La niña o el niño se muestra tímido o retraído con compañeras/os que recién conoce.",38.0,"Se esconde o huye de compañeras/os que recién conoce."]
[null,"FR","Dificultades en el desarrollo físico","La niña o el niño no corre con soltura y equilibrio, ni sube escaleras de mano.",39.0,"No corre con soltura."]
[null,null,null,null,40.0,"No muestra equilibrio"]
[null,null,null,null,41.0,"No sube escaleras de mano"]
[null,null,null,"La niña o el niño realiza dibujos que carecen de detalles significativos.",42.0,"Realiza dibujos que carecen de detalles significativos (ej. ojos, nariz, boca, orejas, brazos, pies)."]
[null,"FR","Violencia familiar, violencia sexual y negligencia","La niña o el niño muestra signos de violencia física en el cuerpo.",43.0,"Muestra moretones en el cuerpo."]
[null,null,null,null,44.0,"Muestra marcas enrojecidas en el cuerpo."]
[null,null,null,null,45.0,"Muestra rasguños en el cuerpo."]
[null,null,null,"La niña o el niño se presenta desaseado con frecuencia.",46.0,"Se presenta desaseado con frecuencia (Ej. escaras en la piel, uñas sucias, la vestimenta sucia)."]
[null,null,null,"La niña o el niño no reconoce las partes íntimas de su cuerpo.",47.0,"Tiene dificultades para nombrar las partes íntimas de su cuerpo."]
[null,null,null,"La niña o el niño repentinamente se orina o defeca en su ropa.",48.0,"Repentinamente se orina o defeca en su ropa."]
[null,null,null,"La niña o el niño se sienta o camina con dificultad y/o refiere dolor, picor en la zona anal o inginal.",49.0,"La niña o el niño se sienta o camina con dificultad y/o refiere dolor, picor en la zona anal o inguinal."]
[null,"FR","Ausentismo Escolar ","La niña o el niño falta, al menos, una vez a la semana a la escuela sin justificación.",50.0,"Falta al menos una vez a la semana sin justificación"]

{"sheet":"Resumen de indicadores HSE","index":4,"n_rows":30,"n_cols":57,"rows_kept":30,"cut":false,"hidden":false,"merged":[[7,3,7,4],[8,3,8,4],[8,2,9,2],[10,2,11,2],[13,2,14,2],[18,2,19,2],[22,2,23,2],[3,3,3,4],[4,2,5,2],[4,3,4,4],[5,3,5,4],[6,2,7,2],[6,3,6,4],[9,3,9,4],[17,3,17,4],[18,3,18,4],[19,3,19,4],[20,3,20,4],[21,3,21,4],[22,3,22,4],[23,3,23,4],[10,3,10,4],[11,3,11,4],[12,3,12,4],[13,3,13,4],[14,3,14,4],[15,3,15,4],[16,3,16,4]]}
[]
[]
[]
[null,"Dimensión","Escala","Resultados Indicadores",null,"Puntaje Promedio del aula, por indicador",null,{"$f":"+'BASE DE RESPUESTAS'!H5","v":"Estudiante 1"},{"$f":"+'BASE DE RESPUESTAS'!I5","v":"Estudiante 2"},{"$f":"+'BASE DE RESPUESTAS'!J5","v":"Estudiante 3"},{"$f":"+'BASE DE RESPUESTAS'!K5","v":"Estudiante 4"},{"$f":"+'BASE DE RESPUESTAS'!L5","v":"Estudiante 5"},{"$f":"+'BASE DE RESPUESTAS'!M5","v":"Estudiante 6"},{"$f":"+'BASE DE RESPUESTAS'!N5","v":"Estudiante 7"},{"$f":"+'BASE DE RESPUESTAS'!O5","v":"Estudiante 8"},{"$f":"+'BASE DE RESPUESTAS'!P5","v":"Estudiante 9"},{"$f":"+'BASE DE RESPUESTAS'!Q5","v":"Estudiante 10"},{"$f":"+'BASE DE RESPUESTAS'!R5","v":"Estudiante 11"},{"$f":"+'BASE DE RESPUESTAS'!S5","v":"Estudiante 12"},{"$f":"+'BASE DE RESPUESTAS'!T5","v":"Estudiante 13"},{"$f":"+'BASE DE RESPUESTAS'!U5","v":"Estudiante 14"},{"$f":"+'BASE DE RESPUESTAS'!V5","v":"Estudiante 15"},{"$f":"+'BASE DE RESPUESTAS'!W5","v":"Estudiante 16"},{"$f":"+'BASE DE RESPUESTAS'!X5","v":"Estudiante 17"},{"$f":"+'BASE DE RESPUESTAS'!Y5","v":"Estudiante 18"},{"$f":"+'BASE DE RESPUESTAS'!Z5","v":"Estudiante 19"},{"$f":"+'BASE DE RESPUESTAS'!AA5","v":"Estudiante 20"},{"$f":"+'BASE DE RESPUESTAS'!AB5","v":"Estudiante 21"},{"$f":"+'BASE DE RESPUESTAS'!AC5","v":"Estudiante 22"},{"$f":"+'BASE DE RESPUESTAS'!AD5","v":"Estudiante 23"},{"$f":"+'BASE DE RESPUESTAS'!AE5","v":"Estudiante 24"},{"$f":"+'BASE DE RESPUESTAS'!AF5","v":"Estudiante 25"},{"$f":"+'BASE DE RESPUESTAS'!AG5","v":"Estudiante 26"},{"$f":"+'BASE DE RESPUESTAS'!AH5","v":"Estudiante 27"},{"$f":"+'BASE DE RESPUESTAS'!AI5","v":"Estudiante 28"},{"$f":"+'BASE DE RESPUESTAS'!AJ5","v":"Estudiante 29"},{"$f":"+'BASE DE RESPUESTAS'!AK5","v":"Estudiante 30"},{"$f":"+'BASE DE RESPUESTAS'!AL5","v":"Estudiante 31"},{"$f":"+'BASE DE RESPUESTAS'!AM5","v":"Estudiante 32"},{"$f":"+'BASE DE RESPUESTAS'!AN5","v":"Estudiante 33"},{"$f":"+'BASE DE RESPUESTAS'!AO5","v":"Estudiante 34"},{"$f":"+'BASE DE RESPUESTAS'!AP5","v":"Estudiante 35"},{"$f":"+'BASE DE RESPUESTAS'!AQ5","v":"Estudiante 36"},{"$f":"+'BASE DE RESPUESTAS'!AR5","v":"Estudiante 37"},{"$f":"+'BASE DE RESPUESTAS'!AS5","v":"Estudiante 38"},{"$f":"+'BASE DE RESPUESTAS'!AT5","v":"Estudiante 39"},{"$f":"+'BASE DE RESPUESTAS'!AU5","v":"Estudiante 40"},{"$f":"+'BASE DE RESPUESTAS'!AV5","v":"Estudiante 41"},{"$f":"+'BASE DE RESPUESTAS'!AW5","v":"Estudiante 42"},{"$f":"+'BASE DE RESPUESTAS'!AX5","v":"Estudiante 43"},{"$f":"+'BASE DE RESPUESTAS'!AY5","v":"Estudiante 44"},{"$f":"+'BASE DE RESPUESTAS'!AZ5","v":"Estudiante 45"},{"$f":"+'BASE DE RESPUESTAS'!BA5","v":"Estudiante 46"},{"$f":"+'BASE DE RESPUESTAS'!BB5","v":"Estudiante 47"},{"$f":"+'BASE DE RESPUESTAS'!BC5","v":"Estudiante 48"},{"$f":"+'BASE DE RESPUESTAS'!BD5","v":"Estudiante 49"},{"$f":"+'BASE DE RESPUESTAS'!BE5","v":"Estudiante 50"}]
[null,"HSE","Autoconcepto","La niña o el niño nombra, al menos, dos características concretas de sí mismo/a (entre físicas, y capacidades).",null,{"$f":"+IFERROR(AVERAGEIFS(H5:BE5,H5:BE5,\">=0\"),\"-\")","v":"-"},null,{"$f":"+IFERROR((VLOOKUP('BASE DE RESPUESTAS'!H7,Back!$M$17:$N$20,2,0)),\"-\")","v":"-"},{"$f":"+IFERROR((VLOOKUP('BASE DE RESPUESTAS'!I7,Back!$M$17:$N$20,2,0)),\"-\")","v":"-"},{"$f":"+IFERROR((VLOOKUP('BASE DE RESPUESTAS'!J7,Back!$M$17:$N$20,2,0)),\"-\")","v":"-"},{"$f":"+IFERROR((VLOOKUP('BASE DE RESPUESTAS'!K7,Back!$M$17:$N$20,2,0)),\"-\")","v":"-"},{"$f":"+IFERROR((VLOOKUP('BASE DE RESPUESTAS'!L7,Back!$M$17:$N$20,2,0)),\"-\")","v":"-"},{"$f":"+IFERROR((VLOOKUP('BASE DE RESPUESTAS'!M7,Back!$M$17:$N$20,2,0)),\"-\")","v":"-"},{"$f":"+IFERROR((VLOOKUP('BASE DE RESPUESTAS'!N7,Back!$M$17:$N$20,2,0)),\"-\")","v":"-"},{"$f":"+IFERROR((VLOOKUP('BASE DE RESPUESTAS'!O7,Back!$M$17:$N$20,2,0)),\"-\")","v":"-"},{"$f":"+IFERROR((VLOOKUP('BASE DE RESPUESTAS'!P7,Back!$M$17:$N$20,2,0)),\"-\")","v":"-"},{"$f":"+IFERROR((VLOOKUP('BASE DE RESPUESTAS'!Q7,Back!$M$17:$N$20,2,0)),\"-\")","v":"-"},{"$f":"+IFERROR((VLOOKUP('BASE DE RESPUESTAS'!R7,Back!$M$17:$N$20,2,0)),\"-\")","v":"-"},{"$f":"+IFERROR((VLOOKUP('BASE DE RESPUESTAS'!S7,Back!$M$17:$N$20,2,0)),\"-\")","v":"-"},{"$f":"+IFERROR((VLOOKUP('BASE DE RESPUESTAS'!T7,Back!$M$17:$N$20,2,0)),\"-\")","v":"-"},{"$f":"+IFERROR((VLOOKUP('BASE DE RESPUESTAS'!U7,Back!$M$17:$N$20,2,0)),\"-\")","v":"-"},{"$f":"+IFERROR((VLOOKUP('BASE DE RESPUESTAS'!V7,Back!$M$17:$N$20,2,0)),\"-\")","v":"-"},{"$f":"+IFERROR((VLOOKUP('BASE DE RESPUESTAS'!W7,Back!$M$17:$N$20,2,0)),\"-\")","v":"-"},{"$f":"+IFERROR((VLOOKUP('BASE DE RESPUESTAS'!X7,Back!$M$17:$N$20,2,0)),\"-\")","v":"-"},{"$f":"+IFERROR((VLOOKUP('BASE DE RESPUESTAS'!Y7,Back!$M$17:$N$20,2,0)),\"-\")","v":"-"},{"$f":"+IFERROR((VLOOKUP('BASE DE RESPUESTAS'!Z7,Back!$M$17:$N$20,2,0)),\"-\")","v":"-"},{"$f":"+IFERROR((VLOOKUP('BASE DE RESPUESTAS'!AA7,Back!$M$17:$N$20,2,0)),\"-\")","v":"-"},{"$f":"+IFERROR((VLOOKUP('BASE DE RESPUESTAS'!AB7,Back!$M$17:$N$20,2,0)),\"-\")","v":"-"},{"$f":"+IFERROR((VLOOKUP('BASE DE RESPUESTAS'!AC7,Back!$M$17:$N$20,2,0)),\"-\")","v":"-"},{"$f":"+IFERROR((VLOOKUP('BASE DE RESPUESTAS'!AD7,Back!$M$17:$N$20,2,0)),\"-\")","v":"-"},{"$f":"+IFERROR((VLOOKUP('BASE DE RESPUESTAS'!AE7,Back!$M$17:$N$20,2,0)),\"-\")","v":"-"},{"$f":"+IFERROR((VLOOKUP('BASE DE RESPUESTAS'!AF7,Back!$M$17:$N$20,2,0)),\"-\")","v":"-"},{"$f":"+IFERROR((VLOOKUP('BASE DE RESPUESTAS'!AG7,Back!$M$17:$N$20,2,0)),\"-\")","v":"-"},{"$f":"+IFERROR((VLOOKUP('BASE DE RESPUESTAS'!AH7,Back!$M$17:$N$20,2,0)),\"-\")","v":"-"},{"$f":"+IFERROR((VLOOKUP('BASE DE RESPUESTAS'!AI7,Back!$M$17:$N$20,2,0)),\"-\")","v":"-"},{"$f":"+IFERROR((VLOOKUP('BASE DE RESPUESTAS'!AJ7,Back!$M$17:$N$20,2,0)),\"-\")","v":"-"},{"$f":"+IFERROR((VLOOKUP('BASE DE RESPUESTAS'!AK7,Back!$M$17:$N$20,2,0)),\"-\")","v":"-"},{"$f":"+IFERROR((VLOOKUP('BASE DE RESPUESTAS'!AL7,Back!$M$17:$N$20,2,0)),\"-\")","v":"-"},{"$f":"+IFERROR((VLOOKUP('BASE DE RESPUESTAS'!AM7,Back!$M$17:$N$20,2,0)),\"-\")","v":"-"},{"$f":"+IFERROR((VLOOKUP('BASE DE RESPUESTAS'!AN7,Back!$M$17:$N$20,2,0)),\"-\")","v":"-"},{"$f":"+IFERROR((VLOOKUP('BASE DE RESPUESTAS'!AO7,Back!$M$17:$N$20,2,0)),\"-\")","v":"-"},{"$f":"+IFERROR((VLOOKUP('BASE DE RESPUESTAS'!AP7,Back!$M$17:$N$20,2,0)),\"-\")","v":"-"},{"$f":"+IFERROR((VLOOKUP('BASE DE RESPUESTAS'!AQ7,Back!$M$17:$N$20,2,0)),\"-\")","v":"-"},{"$f":"+IFERROR((VLOOKUP('BASE DE RESPUESTAS'!AR7,Back!$M$17:$N$20,2,0)),\"-\")","v":"-"},{"$f":"+IFERROR((VLOOKUP('BASE DE RESPUESTAS'!AS7,Back!$M$17:$N$20,2,0)),\"-\")","v":"-"},{"$f":"+IFERROR((VLOOKUP('BASE DE RESPUESTAS'!AT7,Back!$M$17:$N$20,2,0)),\"-\")","v":"-"},{"$f":"+IFERROR((VLOOKUP('BASE DE RESPUESTAS'!AU7,Back!$M$17:$N$20,2,0)),\"-\")","v":"-"},{"$f":"+IFERROR((VLOOKUP('BASE DE RESPUESTAS'!AV7,Back!$M$17:$N$20,2,0)),\"-\")","v":"-"},{"$f":"+IFERROR((VLOOKUP('BASE DE RESPUESTAS'!AW7,Back!$M$17:$N$20,2,0)),\"-\")","v":"-"},{"$f":"+IFERROR((VLOOKUP('BASE DE RESPUESTAS'!AX7,Back!$M$17:$N$20,2,0)),\"-\")","v":"-"},{"$f":"+IFERROR((VLOOKUP('BASE DE RESPUESTAS'!AY7,Back!$M$17:$N$20,2,0)),\"-\")","v":"-"},{"$f":"+IFERROR((VLOOKUP('BASE DE RESPUESTAS'!AZ7,Back!$M$17:$N$20,2,0)),\"-\")","v":"-"},{"$f":"+IFERROR((VLOOKUP('BASE DE RESPUESTAS'!BA7,Back!$M$17:$N$20,2,0)),\"-\")","v":"-"},{"$f":"+IFERROR((VLOOKUP('BASE DE RESPUESTAS'!BB7,Back!$M$17:$N$20,2,0)),\"-\")","v":"-"},{"$f":"+IFERROR((VLOOKUP('BASE DE RESPUESTAS'!BC7,Back!$M$17:$N$20,2,0)),\"-\")","v":"-"},{"$f":"+IFERROR((VLOOKUP('BASE DE RESPUESTAS'!BD7,Back!$M$17:$N$20,2,0)),\"-\")","v":"-"},{"$f":"+IFERROR((VLOOKUP('BASE DE RESPUESTAS'!BE7,Back!$M$17:$N$20,2,0)),\"-\")","v":"-"}]
[null,"HSE",null,"La niña o el niño expresa lo que más le gusta hacer.",null,"-",null,{"$f":"+IFERROR((VLOOKUP('BASE DE RESPUESTAS'!H8,Back!$M$17:$N$20,2,0)),\"-\")","v":"-"},{"$f":"+IFERROR((VLOOKUP('BASE DE RESPUESTAS'!I8,Back!$M$17:$N$20,2,0)),\"-\")","v":"-"},{"$f":"+IFERROR((VLOOKUP('BASE DE RESPUESTAS'!J8,Back!$M$17:$N$20,2,0)),\"-\")","v":"-"},{"$f":"+IFERROR((VLOOKUP('BASE DE RESPUESTAS'!K8,Back!$M$17:$N$20,2,0)),\"-\")","v":"-"},{"$f":"+IFERROR((VLOOKUP('BASE DE RESPUESTAS'!L8,Back!$M$17:$N$20,2,0)),\"-\")","v":"-"},{"$f":"+IFERROR((VLOOKUP('BASE DE RESPUESTAS'!M8,Back!$M$17:$N$20,2,0)),\"-\")","v":"-"},{"$f":"+IFERROR((VLOOKUP('BASE DE RESPUESTAS'!N8,Back!$M$17:$N$20,2,0)),\"-\")","v":"-"},{"$f":"+IFERROR((VLOOKUP('BASE DE RESPUESTAS'!O8,Back!$M$17:$N$20,2,0)),\"-\")","v":"-"},{"$f":"+IFERROR((VLOOKUP('BASE DE RESPUESTAS'!P8,Back!$M$17:$N$20,2,0)),\"-\")","v":"-"},{"$f":"+IFERROR((VLOOKUP('BASE DE RESPUESTAS'!Q8,Back!$M$17:$N$20,2,0)),\"-\")","v":"-"},{"$f":"+IFERROR((VLOOKUP('BASE DE RESPUESTAS'!R8,Back!$M$17:$N$20,2,0)),\"-\")","v":"-"},{"$f":"+IFERROR((VLOOKUP('BASE DE RESPUESTAS'!S8,Back!$M$17:$N$20,2,0)),\"-\")","v":"-"},{"$f":"+IFERROR((VLOOKUP('BASE DE RESPUESTAS'!T8,Back!$M$17:$N$20,2,0)),\"-\")","v":"-"},{"$f":"+IFERROR((VLOOKUP('BASE DE RESPUESTAS'!U8,Back!$M$17:$N$20,2,0)),\"-\")","v":"-"},{"$f":"+IFERROR((VLOOKUP('BASE DE RESPUESTAS'!V8,Back!$M$17:$N$20,2,0)),\"-\")","v":"-"},{"$f":"+IFERROR((VLOOKUP('BASE DE RESPUESTAS'!W8,Back!$M$17:$N$20,2,0)),\"-\")","v":"-"},{"$f":"+IFERROR((VLOOKUP('BASE DE RESPUESTAS'!X8,Back!$M$17:$N$20,2,0)),\"-\")","v":"-"},{"$f":"+IFERROR((VLOOKUP('BASE DE RESPUESTAS'!Y8,Back!$M$17:$N$20,2,0)),\"-\")","v":"-"},{"$f":"+IFERROR((VLOOKUP('BASE DE RESPUESTAS'!Z8,Back!$M$17:$N$20,2,0)),\"-\")","v":"-"},{"$f":"+IFERROR((VLOOKUP('BASE DE RESPUESTAS'!AA8,Back!$M$17:$N$20,2,0)),\"-\")","v":"-"},{"$f":"+IFERROR((VLOOKUP('BASE DE RESPUESTAS'!AB8,Back!$M$17:$N$20,2,0)),\"-\")","v":"-"},{"$f":"+IFERROR((VLOOKUP('BASE DE RESPUESTAS'!AC8,Back!$M$17:$N$20,2,0)),\"-\")","v":"-"},{"$f":"+IFERROR((VLOOKUP('BASE DE RESPUESTAS'!AD8,Back!$M$17:$N$20,2,0)),\"-\")","v":"-"},{"$f":"+IFERROR((VLOOKUP('BASE DE RESPUESTAS'!AE8,Back!$M$17:$N$20,2,0)),\"-\")","v":"-"},{"$f":"+IFERROR((VLOOKUP('BASE DE RESPUESTAS'!AF8,Back!$M$17:$N$20,2,0)),\"-\")","v":"-"},{"$f":"+IFERROR((VLOOKUP('BASE DE RESPUESTAS'!AG8,Back!$M$17:$N$20,2,0)),\"-\")","v":"-"},{"$f":"+IFERROR((VLOOKUP('BASE DE RESPUESTAS'!AH8,Back!$M$17:$N$20,2,0)),\"-\")","v":"-"},{"$f":"+IFERROR((VLOOKUP('BASE DE RESPUESTAS'!AI8,Back!$M$17:$N$20,2,0)),\"-\")","v":"-"},{"$f":"+IFERROR((VLOOKUP('BASE DE RESPUESTAS'!AJ8,Back!$M$17:$N$20,2,0)),\"-\")","v":"-"},{"$f":"+IFERROR((VLOOKUP('BASE DE RESPUESTAS'!AK8,Back!$M$17:$N$20,2,0)),\"-\")","v":"-"},{"$f":"+IFERROR((VLOOKUP('BASE DE RESPUESTAS'!AL8,Back!$M$17:$N$20,2,0)),\"-\")","v":"-"},{"$f":"+IFERROR((VLOOKUP('BASE DE RESPUESTAS'!AM8,Back!$M$17:$N$20,2,0)),\"-\")","v":"-"},{"$f":"+IFERROR((VLOOKUP('BASE DE RESPUESTAS'!AN8,Back!$M$17:$N$20,2,0)),\"-\")","v":"-"},{"$f":"+IFERROR((VLOOKUP('BASE DE RESPUESTAS'!AO8,Back!$M$17:$N$20,2,0)),\"-\")","v":"-"},{"$f":"+IFERROR((VLOOKUP('BASE DE RESPUESTAS'!AP8,Back!$M$17:$N$20,2,0)),\"-\")","v":"-"},{"$f":"+IFERROR((VLOOKUP('BASE DE RESPUESTAS'!AQ8,Back!$M$17:$N$20,2,0)),\"-\")","v":"-"},{"$f":"+IFERROR((VLOOKUP('BASE DE RESPUESTAS'!AR8,Back!$M$17:$N$20,2,0)),\"-\")","v":"-"},{"$f":"+IFERROR((VLOOKUP('BASE DE RESPUESTAS'!AS8,Back!$M$17:$N$20,2,0)),\"-\")","v":"-"},{"$f":"+IFERROR((VLOOKUP('BASE DE RESPUESTAS'!AT8,Back!$M$17:$N$20,2,0)),\"-\")","v":"-"},{"$f":"+IFERROR((VLOOKUP('BASE DE RESPUESTAS'!AU8,Back!$M$17:$N$20,2,0)),\"-\")","v":"-"},{"$f":"+IFERROR((VLOOKUP('BASE DE RESPUESTAS'!AV8,Back!$M$17:$N$20,2,0)),\"-\")","v":"-"},{"$f":"+IFERROR((VLOOKUP('BASE DE RESPUESTAS'!AW8,Back!$M$17:$N$20,2,0)),\"-\")","v":"-"},{"$f":"+IFERROR((VLOOKUP('BASE DE RESPUESTAS'!AX8,Back!$M$17:$N$20,2,0)),\"-\")","v":"-"},{"$f":"+IFERROR((VLOOKUP('BASE DE RESPUESTAS'!AY8,Back!$M$17:$N$20,2,0)),\"-\")","v":"-"},{"$f":"+IFERROR((VLOOKUP('BASE DE RESPUESTAS'!AZ8,Back!$M$17:$N$20,2,0)),\"-\")","v":"-"},{"$f":"+IFERROR((VLOOKUP('BASE DE RESPUESTAS'!BA8,Back!$M$17:$N$20,2,0)),\"-\")","v":"-"},{"$f":"+IFERROR((VLOOKUP('BASE DE RESPUESTAS'!BB8,Back!$M$17:$N$20,2,0)),\"-\")","v":"-"},{"$f":"+IFERROR((VLOOKUP('BASE DE RESPUESTAS'!BC8,Back!$M$17:$N$20,2,0)),\"-\")","v":"-"},{"$f":"+IFERROR((VLOOKUP('BASE DE RESPUESTAS'!BD8,Back!$M$17:$N$20,2,0)),\"-\")","v":"-"},{"$f":"+IFERROR((VLOOKUP('BASE DE RESPUESTAS'!BE8,Back!$M$17:$N$20,2,0)),\"-\")","v":"-"}]
[null,"HSE","Autoestima","La niña o el niño expresa sentirse bien consigo misma/o.",null,"-",null,{"$f":"+IFERROR((VLOOKUP('BASE DE RESPUESTAS'!H9,Back!$M$17:$N$20,2,0)),\"-\")","v":"-"},{"$f":"+IFERROR((VLOOKUP('BASE DE RESPUESTAS'!I9,Back!$M$17:$N$20,2,0)),\"-\")","v":"-"},{"$f":"+IFERROR((VLOOKUP('BASE DE RESPUESTAS'!J9,Back!$M$17:$N$20,2,0)),\"-\")","v":"-"},{"$f":"+IFERROR((VLOOKUP('BASE DE RESPUESTAS'!K9,Back!$M$17:$N$20,2,0)),\"-\")","v":"-"},{"$f":"+IFERROR((VLOOKUP('BASE DE RESPUESTAS'!L9,Back!$M$17:$N$20,2,0)),\"-\")","v":"-"},{"$f":"+IFERROR((VLOOKUP('BASE DE RESPUESTAS'!M9,Back!$M$17:$N$20,2,0)),\"-\")","v":"-"},{"$f":"+IFERROR((VLOOKUP('BASE DE RESPUESTAS'!N9,Back!$M$17:$N$20,2,0)),\"-\")","v":"-"},{"$f":"+IFERROR((VLOOKUP('BASE DE RESPUESTAS'!O9,Back!$M$17:$N$20,2,0)),\"-\")","v":"-"},{"$f":"+IFERROR((VLOOKUP('BASE DE RESPUESTAS'!P9,Back!$M$17:$N$20,2,0)),\"-\")","v":"-"},{"$f":"+IFERROR((VLOOKUP('BASE DE RESPUESTAS'!Q9,Back!$M$17:$N$20,2,0)),\"-\")","v":"-"},{"$f":"+IFERROR((VLOOKUP('BASE DE RESPUESTAS'!R9,Back!$M$17:$N$20,2,0)),\"-\")","v":"-"},{"$f":"+IFERROR((VLOOKUP('BASE DE RESPUESTAS'!S9,Back!$M$17:$N$20,2,0)),\"-\")","v":"-"},{"$f":"+IFERROR((VLOOKUP('BASE DE RESPUESTAS'!T9,Back!$M$17:$N$20,2,0)),\"-\")","v":"-"},{"$f":"+IFERROR((VLOOKUP('BASE DE RESPUESTAS'!U9,Back!$M$17:$N$20,2,0)),\"-\")","v":"-"},{"$f":"+IFERROR((VLOOKUP('BASE DE RESPUESTAS'!V9,Back!$M$17:$N$20,2,0)),\"-\")","v":"-"},{"$f":"+IFERROR((VLOOKUP('BASE DE RESPUESTAS'!W9,Back!$M$17:$N$20,2,0)),\"-\")","v":"-"},{"$f":"+IFERROR((VLOOKUP('BASE DE RESPUESTAS'!X9,Back!$M$17:$N$20,2,0)),\"-\")","v":"-"},{"$f":"+IFERROR((VLOOKUP('BASE DE RESPUESTAS'!Y9,Back!$M$17:$N$20,2,0)),\"-\")","v":"-"},{"$f":"+IFERROR((VLOOKUP('BASE DE RESPUESTAS'!Z9,Back!$M$17:$N$20,2,0)),\"-\")","v":"-"},{"$f":"+IFERROR((VLOOKUP('BASE DE RESPUESTAS'!AA9,Back!$M$17:$N$20,2,0)),\"-\")","v":"-"},{"$f":"+IFERROR((VLOOKUP('BASE DE RESPUESTAS'!AB9,Back!$M$17:$N$20,2,0)),\"-\")","v":"-"},{"$f":"+IFERROR((VLOOKUP('BASE DE RESPUESTAS'!AC9,Back!$M$17:$N$20,2,0)),\"-\")","v":"-"},{"$f":"+IFERROR((VLOOKUP('BASE DE RESPUESTAS'!AD9,Back!$M$17:$N$20,2,0)),\"-\")","v":"-"},{"$f":"+IFERROR((VLOOKUP('BASE DE RESPUESTAS'!AE9,Back!$M$17:$N$20,2,0)),\"-\")","v":"-"},{"$f":"+IFERROR((VLOOKUP('BASE DE RESPUESTAS'!AF9,Back!$M$17:$N$20,2,0)),\"-\")","v":"-"},{"$f":"+IFERROR((VLOOKUP('BASE DE RESPUESTAS'!AG9,Back!$M$17:$N$20,2,0)),\"-\")","v":"-"},{"$f":"+IFERROR((VLOOKUP('BASE DE RESPUESTAS'!AH9,Back!$M$17:$N$20,2,0)),\"-\")","v":"-"},{"$f":"+IFERROR((VLOOKUP('BASE DE RESPUESTAS'!AI9,Back!$M$17:$N$20,2,0)),\"-\")","v":"-"},{"$f":"+IFERROR((VLOOKUP('BASE DE RESPUESTAS'!AJ9,Back!$M$17:$N$20,2,0)),\"-\")","v":"-"},{"$f":"+IFERROR((VLOOKUP('BASE DE RESPUESTAS'!AK9,Back!$M$17:$N$20,2,0)),\"-\")","v":"-"},{"$f":"+IFERROR((VLOOKUP('BASE DE RESPUESTAS'!AL9,Back!$M$17:$N$20,2,0)),\"-\")","v":"-"},{"$f":"+IFERROR((VLOOKUP('BASE DE RESPUESTAS'!AM9,Back!$M$17:$N$20,2,0)),\"-\")","v":"-"},{"$f":"+IFERROR((VLOOKUP('BASE DE RESPUESTAS'!AN9,Back!$M$17:$N$20,2,0)),\"-\")","v":"-"},{"$f":"+IFERROR((VLOOKUP('BASE DE RESPUESTAS'!AO9,Back!$M$17:$N$20,2,0)),\"-\")","v":"-"},{"$f":"+IFERROR((VLOOKUP('BASE DE RESPUESTAS'!AP9,Back!$M$17:$N$20,2,0)),\"-\")","v":"-"},{"$f":"+IFERROR((VLOOKUP('BASE DE RESPUESTAS'!AQ9,Back!$M$17:$N$20,2,0)),\"-\")","v":"-"},{"$f":"+IFERROR((VLOOKUP('BASE DE RESPUESTAS'!AR9,Back!$M$17:$N$20,2,0)),\"-\")","v":"-"},{"$f":"+IFERROR((VLOOKUP('BASE DE RESPUESTAS'!AS9,Back!$M$17:$N$20,2,0)),\"-\")","v":"-"},{"$f":"+IFERROR((VLOOKUP('BASE DE RESPUESTAS'!AT9,Back!$M$17:$N$20,2,0)),\"-\")","v":"-"},{"$f":"+IFERROR((VLOOKUP('BASE DE RESPUESTAS'!AU9,Back!$M$17:$N$20,2,0)),\"-\")","v":"-"},{"$f":"+IFERROR((VLOOKUP('BASE DE RESPUESTAS'!AV9,Back!$M$17:$N$20,2,0)),\"-\")","v":"-"},{"$f":"+IFERROR((VLOOKUP('BASE DE RESPUESTAS'!AW9,Back!$M$17:$N$20,2,0)),\"-\")","v":"-"},{"$f":"+IFERROR((VLOOKUP('BASE DE RESPUESTAS'!AX9,Back!$M$17:$N$20,2,0)),\"-\")","v":"-"},{"$f":"+IFERROR((VLOOKUP('BASE DE RESPUESTAS'!AY9,Back!$M$17:$N$20,2,0)),\"-\")","v":"-"},{"$f":"+IFERROR((VLOOKUP('BASE DE RESPUESTAS'!AZ9,Back!$M$17:$N$20,2,0)),\"-\")","v":"-"},{"$f":"+IFERROR((VLOOKUP('BASE DE RESPUESTAS'!BA9,Back!$M$17:$N$20,2,0)),\"-\")","v":"-"},{"$f":"+IFERROR((VLOOKUP('BASE DE RESPUESTAS'!BB9,Back!$M$17:$N$20,2,0)),\"-\")","v":"-"},{"$f":"+IFERROR((VLOOKUP('BASE DE RESPUESTAS'!BC9,Back!$M$17:$N$20,2,0)),\"-\")","v":"-"},{"$f":"+IFERROR((VLOOKUP('BASE DE RESPUESTAS'!BD9,Back!$M$17:$N$20,2,0)),\"-\")","v":"-"},{"$f":"+IFERROR((VLOOKUP('BASE DE RESPUESTAS'!BE9,Back!$M$17:$N$20,2,0)),\"-\")","v":"-"}]
[null,"HSE",null,"La niña o el niño participa con seguridad en las actividades que realiza.",null,"-",null,{"$f":"+IFERROR(AVERAGE(Espejo!H9:H10),\"-\")","v":"-"},{"$f":"+IFERROR(AVERAGE(Espejo!I9:I10),\"-\")","v":"-"},{"$f":"+IFERROR(AVERAGE(Espejo!J9:J10),\"-\")","v":"-"},{"$f":"+IFERROR(AVERAGE(Espejo!K9:K10),\"-\")","v":"-"},{"$f":"+IFERROR(AVERAGE(Espejo!L9:L10),\"-\")","v":"-"},{"$f":"+IFERROR(AVERAGE(Espejo!M9:M10),\"-\")","v":"-"},{"$f":"+IFERROR(AVERAGE(Espejo!N9:N10),\"-\")","v":"-"},{"$f":"+IFERROR(AVERAGE(Espejo!O9:O10),\"-\")","v":"-"},{"$f":"+IFERROR(AVERAGE(Espejo!P9:P10),\"-\")","v":"-"},{"$f":"+IFERROR(AVERAGE(Espejo!Q9:Q10),\"-\")","v":"-"},{"$f":"+IFERROR(AVERAGE(Espejo!R9:R10),\"-\")","v":"-"},{"$f":"+IFERROR(AVERAGE(Espejo!S9:S10),\"-\")","v":"-"},{"$f":"+IFERROR(AVERAGE(Espejo!T9:T10),\"-\")","v":"-"},{"$f":"+IFERROR(AVERAGE(Espejo!U9:U10),\"-\")","v":"-"},{"$f":"+IFERROR(AVERAGE(Espejo!V9:V10),\"-\")","v":"-"},{"$f":"+IFERROR(AVERAGE(Espejo!W9:W10),\"-\")","v":"-"},{"$f":"+IFERROR(AVERAGE(Espejo!X9:X10),\"-\")","v":"-"},{"$f":"+IFERROR(AVERAGE(Espejo!Y9:Y10),\"-\")","v":"-"},{"$f":"+IFERROR(AVERAGE(Espejo!Z9:Z10),\"-\")","v":"-"},{"$f":"+IFERROR(AVERAGE(Espejo!AA9:AA10),\"-\")","v":"-"},{"$f":"+IFERROR(AVERAGE(Espejo!AB9:AB10),\"-\")","v":"-"},{"$f":"+IFERROR(AVERAGE(Espejo!AC9:AC10),\"-\")","v":"-"},{"$f":"+IFERROR(AVERAGE(Espejo!AD9:AD10),\"-\")","v":"-"},{"$f":"+IFERROR(AVERAGE(Espejo!AE9:AE10),\"-\")","v":"-"},{"$f":"+IFERROR(AVERAGE(Espejo!AF9:AF10),\"-\")","v":"-"},{"$f":"+IFERROR(AVERAGE(Espejo!AG9:AG10),\"-\")","v":"-"},{"$f":"+IFERROR(AVERAGE(Espejo!AH9:AH10),\"-\")","v":"-"},{"$f":"+IFERROR(AVERAGE(Espejo!AI9:AI10),\"-\")","v":"-"},{"$f":"+IFERROR(AVERAGE(Espejo!AJ9:AJ10),\"-\")","v":"-"},{"$f":"+IFERROR(AVERAGE(Espejo!AK9:AK10),\"-\")","v":"-"},{"$f":"+IFERROR(AVERAGE(Espejo!AL9:AL10),\"-\")","v":"-"},{"$f":"+IFERROR(AVERAGE(Espejo!AM9:AM10),\"-\")","v":"-"},{"$f":"+IFERROR(AVERAGE(Espejo!AN9:AN10),\"-\")","v":"-"},{"$f":"+IFERROR(AVERAGE(Espejo!AO9:AO10),\"-\")","v":"-"},{"$f":"+IFERROR(AVERAGE(Espejo!AP9:AP10),\"-\")","v":"-"},{"$f":"+IFERROR(AVERAGE(Espejo!AQ9:AQ10),\"-\")","v":"-"},{"$f":"+IFERROR(AVERAGE(Espejo!AR9:AR10),\"-\")","v":"-"},{"$f":"+IFERROR(AVERAGE(Espejo!AS9:AS10),\"-\")","v":"-"},{"$f":"+IFERROR(AVERAGE(Espejo!AT9:AT10),\"-\")","v":"-"},{"$f":"+IFERROR(AVERAGE(Espejo!AU9:AU10),\"-\")","v":"-"},{"$f":"+IFERROR(AVERAGE(Espejo!AV9:AV10),\"-\")","v":"-"},{"$f":"+IFERROR(AVERAGE(Espejo!AW9:AW10),\"-\")","v":"-"},{"$f":"+IFERROR(AVERAGE(Espejo!AX9:AX10),\"-\")","v":"-"},{"$f":"+IFERROR(AVERAGE(Espejo!AY9:AY10),\"-\")","v":"-"},{"$f":"+IFERROR(AVERAGE(Espejo!AZ9:AZ10),\"-\")","v":"-"},{"$f":"+IFERROR(AVERAGE(Espejo!BA9:BA10),\"-\")","v":"-"},{"$f":"+IFERROR(AVERAGE(Espejo!BB9:BB10),\"-\")","v":"-"},{"$f":"+IFERROR(AVERAGE(Espejo!BC9:BC10),\"-\")","v":"-"},{"$f":"+IFERROR(AVERAGE(Espejo!BD9:BD10),\"-\")","v":"-"},{"$f":"+IFERROR(AVERAGE(Espejo!BE9:BE10),\"-\")","v":"-"}]
[null,"HSE","Conciencia Emocional","La niña o el niño reconoce y diferencia emociones básicas.",null,"-",null,{"$f":"+IFERROR(AVERAGE(Espejo!H11:H14),\"-\")","v":"-"},{"$f":"+IFERROR(AVERAGE(Espejo!I11:I14),\"-\")","v":"-"},{"$f":"+IFERROR(AVERAGE(Espejo!J11:J14),\"-\")","v":"-"},{"$f":"+IFERROR(AVERAGE(Espejo!K11:K14),\"-\")","v":"-"},{"$f":"+IFERROR(AVERAGE(Espejo!L11:L14),\"-\")","v":"-"},{"$f":"+IFERROR(AVERAGE(Espejo!M11:M14),\"-\")","v":"-"},{"$f":"+IFERROR(AVERAGE(Espejo!N11:N14),\"-\")","v":"-"},{"$f":"+IFERROR(AVERAGE(Espejo!O11:O14),\"-\")","v":"-"},{"$f":"+IFERROR(AVERAGE(Espejo!P11:P14),\"-\")","v":"-"},{"$f":"+IFERROR(AVERAGE(Espejo!Q11:Q14),\"-\")","v":"-"},{"$f":"+IFERROR(AVERAGE(Espejo!R11:R14),\"-\")","v":"-"},{"$f":"+IFERROR(AVERAGE(Espejo!S11:S14),\"-\")","v":"-"},{"$f":"+IFERROR(AVERAGE(Espejo!T11:T14),\"-\")","v":"-"},{"$f":"+IFERROR(AVERAGE(Espejo!U11:U14),\"-\")","v":"-"},{"$f":"+IFERROR(AVERAGE(Espejo!V11:V14),\"-\")","v":"-"},{"$f":"+IFERROR(AVERAGE(Espejo!W11:W14),\"-\")","v":"-"},{"$f":"+IFERROR(AVERAGE(Espejo!X11:X14),\"-\")","v":"-"},{"$f":"+IFERROR(AVERAGE(Espejo!Y11:Y14),\"-\")","v":"-"},{"$f":"+IFERROR(AVERAGE(Espejo!Z11:Z14),\"-\")","v":"-"},{"$f":"+IFERROR(AVERAGE(Espejo!AA11:AA14),\"-\")","v":"-"},{"$f":"+IFERROR(AVERAGE(Espejo!AB11:AB14),\"-\")","v":"-"},{"$f":"+IFERROR(AVERAGE(Espejo!AC11:AC14),\"-\")","v":"-"},{"$f":"+IFERROR(AVERAGE(Espejo!AD11:AD14),\"-\")","v":"-"},{"$f":"+IFERROR(AVERAGE(Espejo!AE11:AE14),\"-\")","v":"-"},{"$f":"+IFERROR(AVERAGE(Espejo!AF11:AF14),\"-\")","v":"-"},{"$f":"+IFERROR(AVERAGE(Espejo!AG11:AG14),\"-\")","v":"-"},{"$f":"+IFERROR(AVERAGE(Espejo!AH11:AH14),\"-\")","v":"-"},{"$f":"+IFERROR(AVERAGE(Espejo!AI11:AI14),\"-\")","v":"-"},{"$f":"+IFERROR(AVERAGE(Espejo!AJ11:AJ14),\"-\")","v":"-"},{"$f":"+IFERROR(AVERAGE(Espejo!AK11:AK14),\"-\")","v":"-"},{"$f":"+IFERROR(AVERAGE(Espejo!AL11:AL14),\"-\")","v":"-"},{"$f":"+IFERROR(AVERAGE(Espejo!AM11:AM14),\"-\")","v":"-"},{"$f":"+IFERROR(AVERAGE(Espejo!AN11:AN14),\"-\")","v":"-"},{"$f":"+IFERROR(AVERAGE(Espejo!AO11:AO14),\"-\")","v":"-"},{"$f":"+IFERROR(AVERAGE(Espejo!AP11:AP14),\"-\")","v":"-"},{"$f":"+IFERROR(AVERAGE(Espejo!AQ11:AQ14),\"-\")","v":"-"},{"$f":"+IFERROR(AVERAGE(Espejo!AR11:AR14),\"-\")","v":"-"},{"$f":"+IFERROR(AVERAGE(Espejo!AS11:AS14),\"-\")","v":"-"},{"$f":"+IFERROR(AVERAGE(Espejo!AT11:AT14),\"-\")","v":"-"},{"$f":"+IFERROR(AVERAGE(Espejo!AU11:AU14),\"-\")","v":"-"},{"$f":"+IFERROR(AVERAGE(Espejo!AV11:AV14),\"-\")","v":"-"},{"$f":"+IFERROR(AVERAGE(Espejo!AW11:AW14),\"-\")","v":"-"},{"$f":"+IFERROR(AVERAGE(Espejo!AX11:AX14),\"-\")","v":"-"},{"$f":"+IFERROR(AVERAGE(Espejo!AY11:AY14),\"-\")","v":"-"},{"$f":"+IFERROR(AVERAGE(Espejo!AZ11:AZ14),\"-\")","v":"-"},{"$f":"+IFERROR(AVERAGE(Espejo!BA11:BA14),\"-\")","v":"-"},{"$f":"+IFERROR(AVERAGE(Espejo!BB11:BB14),\"-\")","v":"-"},{"$f":"+IFERROR(AVERAGE(Espejo!BC11:BC14),\"-\")","v":"-"},{"$f":"+IFERROR(AVERAGE(Espejo!BD11:BD14),\"-\")","v":"-"},{"$f":"+IFERROR(AVERAGE(Espejo!BE11:BE14),\"-\")","v":"-"}]
[null,"HSE",null,"La niña o el niño relaciona emociones con las causas que las generan.",null,"-",null,{"$f":"+IFERROR(AVERAGE(Espejo!H15:H16),\"-\")","v":"-"},{"$f":"+IFERROR(AVERAGE(Espejo!I15:I16),\"-\")","v":"-"},{"$f":"+IFERROR(AVERAGE(Espejo!J15:J16),\"-\")","v":"-"},{"$f":"+IFERROR(AVERAGE(Espejo!K15:K16),\"-\")","v":"-"},{"$f":"+IFERROR(AVERAGE(Espejo!L15:L16),\"-\")","v":"-"},{"$f":"+IFERROR(AVERAGE(Espejo!M15:M16),\"-\")","v":"-"},{"$f":"+IFERROR(AVERAGE(Espejo!N15:N16),\"-\")","v":"-"},{"$f":"+IFERROR(AVERAGE(Espejo!O15:O16),\"-\")","v":"-"},{"$f":"+IFERROR(AVERAGE(Espejo!P15:P16),\"-\")","v":"-"},{"$f":"+IFERROR(AVERAGE(Espejo!Q15:Q16),\"-\")","v":"-"},{"$f":"+IFERROR(AVERAGE(Espejo!R15:R16),\"-\")","v":"-"},{"$f":"+IFERROR(AVERAGE(Espejo!S15:S16),\"-\")","v":"-"},{"$f":"+IFERROR(AVERAGE(Espejo!T15:T16),\"-\")","v":"-"},{"$f":"+IFERROR(AVERAGE(Espejo!U15:U16),\"-\")","v":"-"},{"$f":"+IFERROR(AVERAGE(Espejo!V15:V16),\"-\")","v":"-"},{"$f":"+IFERROR(AVERAGE(Espejo!W15:W16),\"-\")","v":"-"},{"$f":"+IFERROR(AVERAGE(Espejo!X15:X16),\"-\")","v":"-"},{"$f":"+IFERROR(AVERAGE(Espejo!Y15:Y16),\"-\")","v":"-"},{"$f":"+IFERROR(AVERAGE(Espejo!Z15:Z16),\"-\")","v":"-"},{"$f":"+IFERROR(AVERAGE(Espejo!AA15:AA16),\"-\")","v":"-"},{"$f":"+IFERROR(AVERAGE(Espejo!AB15:AB16),\"-\")","v":"-"},{"$f":"+IFERROR(AVERAGE(Espejo!AC15:AC16),\"-\")","v":"-"},{"$f":"+IFERROR(AVERAGE(Espejo!AD15:AD16),\"-\")","v":"-"},{"$f":"+IFERROR(AVERAGE(Espejo!AE15:AE16),\"-\")","v":"-"},{"$f":"+IFERROR(AVERAGE(Espejo!AF15:AF16),\"-\")","v":"-"},{"$f":"+IFERROR(AVERAGE(Espejo!AG15:AG16),\"-\")","v":"-"},{"$f":"+IFERROR(AVERAGE(Espejo!AH15:AH16),\"-\")","v":"-"},{"$f":"+IFERROR(AVERAGE(Espejo!AI15:AI16),\"-\")","v":"-"},{"$f":"+IFERROR(AVERAGE(Espejo!AJ15:AJ16),\"-\")","v":"-"},{"$f":"+IFERROR(AVERAGE(Espejo!AK15:AK16),\"-\")","v":"-"},{"$f":"+IFERROR(AVERAGE(Espejo!AL15:AL16),\"-\")","v":"-"},{"$f":"+IFERROR(AVERAGE(Espejo!AM15:AM16),\"-\")","v":"-"},{"$f":"+IFERROR(AVERAGE(Espejo!AN15:AN16),\"-\")","v":"-"},{"$f":"+IFERROR(AVERAGE(Espejo!AO15:AO16),\"-\")","v":"-"},{"$f":"+IFERROR(AVERAGE(Espejo!AP15:AP16),\"-\")","v":"-"},{"$f":"+IFERROR(AVERAGE(Espejo!AQ15:AQ16),\"-\")","v":"-"},{"$f":"+IFERROR(AVERAGE(Espejo!AR15:AR16),\"-\")","v":"-"},{"$f":"+IFERROR(AVERAGE(Espejo!AS15:AS16),\"-\")","v":"-"},{"$f":"+IFERROR(AVERAGE(Espejo!AT15:AT16),\"-\")","v":"-"},{"$f":"+IFERROR(AVERAGE(Espejo!AU15:AU16),\"-\")","v":"-"},{"$f":"+IFERROR(AVERAGE(Espejo!AV15:AV16),\"-\")","v":"-"},{"$f":"+IFERROR(AVERAGE(Espejo!AW15:AW16),\"-\")","v":"-"},{"$f":"+IFERROR(AVERAGE(Espejo!AX15:AX16),\"-\")","v":"-"},{"$f":"+IFERROR(AVERAGE(Espejo!AY15:AY16),\"-\")","v":"-"},{"$f":"+IFERROR(AVERAGE(Espejo!AZ15:AZ16),\"-\")","v":"-"},{"$f":"+IFERROR(AVERAGE(Espejo!BA15:BA16),\"-\")","v":"-"},{"$f":"+IFERROR(AVERAGE(Espejo!BB15:BB16),\"-\")","v":"-"},{"$f":"+IFERROR(AVERAGE(Espejo!BC15:BC16),\"-\")","v":"-"},{"$f":"+IFERROR(AVERAGE(Espejo!BD15:BD16),\"-\")","v":"-"},{"$f":"+IFERROR(AVERAGE(Espejo!BE15:BE16),\"-\")","v":"-"}]
[null,"HSE","Autocuidado","La niña o el niño identifica situaciones que representan peligro para su bienestar personal (Ej. agua caliente, tomacorrientes, cruzar sola/o la pista, animales agresivos).",null,"-",null,{"$f":"+IFERROR((VLOOKUP('BASE DE RESPUESTAS'!H18,Back!$M$17:$N$20,2,0)),\"-\")","v":"-"},{"$f":"+IFERROR((VLOOKUP('BASE DE RESPUESTAS'!I18,Back!$M$17:$N$20,2,0)),\"-\")","v":"-"},{"$f":"+IFERROR((VLOOKUP('BASE DE RESPUESTAS'!J18,Back!$M$17:$N$20,2,0)),\"-\")","v":"-"},{"$f":"+IFERROR((VLOOKUP('BASE DE RESPUESTAS'!K18,Back!$M$17:$N$20,2,0)),\"-\")","v":"-"},{"$f":"+IFERROR((VLOOKUP('BASE DE RESPUESTAS'!L18,Back!$M$17:$N$20,2,0)),\"-\")","v":"-"},{"$f":"+IFERROR((VLOOKUP('BASE DE RESPUESTAS'!M18,Back!$M$17:$N$20,2,0)),\"-\")","v":"-"},{"$f":"+IFERROR((VLOOKUP('BASE DE RESPUESTAS'!N18,Back!$M$17:$N$20,2,0)),\"-\")","v":"-"},{"$f":"+IFERROR((VLOOKUP('BASE DE RESPUESTAS'!O18,Back!$M$17:$N$20,2,0)),\"-\")","v":"-"},{"$f":"+IFERROR((VLOOKUP('BASE DE RESPUESTAS'!P18,Back!$M$17:$N$20,2,0)),\"-\")","v":"-"},{"$f":"+IFERROR((VLOOKUP('BASE DE RESPUESTAS'!Q18,Back!$M$17:$N$20,2,0)),\"-\")","v":"-"},{"$f":"+IFERROR((VLOOKUP('BASE DE RESPUESTAS'!R18,Back!$M$17:$N$20,2,0)),\"-\")","v":"-"},{"$f":"+IFERROR((VLOOKUP('BASE DE RESPUESTAS'!S18,Back!$M$17:$N$20,2,0)),\"-\")","v":"-"},{"$f":"+IFERROR((VLOOKUP('BASE DE RESPUESTAS'!T18,Back!$M$17:$N$20,2,0)),\"-\")","v":"-"},{"$f":"+IFERROR((VLOOKUP('BASE DE RESPUESTAS'!U18,Back!$M$17:$N$20,2,0)),\"-\")","v":"-"},{"$f":"+IFERROR((VLOOKUP('BASE DE RESPUESTAS'!V18,Back!$M$17:$N$20,2,0)),\"-\")","v":"-"},{"$f":"+IFERROR((VLOOKUP('BASE DE RESPUESTAS'!W18,Back!$M$17:$N$20,2,0)),\"-\")","v":"-"},{"$f":"+IFERROR((VLOOKUP('BASE DE RESPUESTAS'!X18,Back!$M$17:$N$20,2,0)),\"-\")","v":"-"},{"$f":"+IFERROR((VLOOKUP('BASE DE RESPUESTAS'!Y18,Back!$M$17:$N$20,2,0)),\"-\")","v":"-"},{"$f":"+IFERROR((VLOOKUP('BASE DE RESPUESTAS'!Z18,Back!$M$17:$N$20,2,0)),\"-\")","v":"-"},{"$f":"+IFERROR((VLOOKUP('BASE DE RESPUESTAS'!AA18,Back!$M$17:$N$20,2,0)),\"-\")","v":"-"},{"$f":"+IFERROR((VLOOKUP('BASE DE RESPUESTAS'!AB18,Back!$M$17:$N$20,2,0)),\"-\")","v":"-"},{"$f":"+IFERROR((VLOOKUP('BASE DE RESPUESTAS'!AC18,Back!$M$17:$N$20,2,0)),\"-\")","v":"-"},{"$f":"+IFERROR((VLOOKUP('BASE DE RESPUESTAS'!AD18,Back!$M$17:$N$20,2,0)),\"-\")","v":"-"},{"$f":"+IFERROR((VLOOKUP('BASE DE RESPUESTAS'!AE18,Back!$M$17:$N$20,2,0)),\"-\")","v":"-"},{"$f":"+IFERROR((VLOOKUP('BASE DE RESPUESTAS'!AF18,Back!$M$17:$N$20,2,0)),\"-\")","v":"-"},{"$f":"+IFERROR((VLOOKUP('BASE DE RESPUESTAS'!AG18,Back!$M$17:$N$20,2,0)),\"-\")","v":"-"},{"$f":"+IFERROR((VLOOKUP('BASE DE RESPUESTAS'!AH18,Back!$M$17:$N$20,2,0)),\"-\")","v":"-"},{"$f":"+IFERROR((VLOOKUP('BASE DE RESPUESTAS'!AI18,Back!$M$17:$N$20,2,0)),\"-\")","v":"-"},{"$f":"+IFERROR((VLOOKUP('BASE DE RESPUESTAS'!AJ18,Back!$M$17:$N$20,2,0)),\"-\")","v":"-"},{"$f":"+IFERROR((VLOOKUP('BASE DE RESPUESTAS'!AK18,Back!$M$17:$N$20,2,0)),\"-\")","v":"-"},{"$f":"+IFERROR((VLOOKUP('BASE DE RESPUESTAS'!AL18,Back!$M$17:$N$20,2,0)),\"-\")","v":"-"},{"$f":"+IFERROR((VLOOKUP('BASE DE RESPUESTAS'!AM18,Back!$M$17:$N$20,2,0)),\"-\")","v":"-"},{"$f":"+IFERROR((VLOOKUP('BASE DE RESPUESTAS'!AN18,Back!$M$17:$N$20,2,0)),\"-\")","v":"-"},{"$f":"+IFERROR((VLOOKUP('BASE DE RESPUESTAS'!AO18,Back!$M$17:$N$20,2,0)),\"-\")","v":"-"},{"$f":"+IFERROR((VLOOKUP('BASE DE RESPUESTAS'!AP18,Back!$M$17:$N$20,2,0)),\"-\")","v":"-"},{"$f":"+IFERROR((VLOOKUP('BASE DE RESPUESTAS'!AQ18,Back!$M$17:$N$20,2,0)),\"-\")","v":"-"},{"$f":"+IFERROR((VLOOKUP('BASE DE RESPUESTAS'!AR18,Back!$M$17:$N$20,2,0)),\"-\")","v":"-"},{"$f":"+IFERROR((VLOOKUP('BASE DE RESPUESTAS'!AS18,Back!$M$17:$N$20,2,0)),\"-\")","v":"-"},{"$f":"+IFERROR((VLOOKUP('BASE DE RESPUESTAS'!AT18,Back!$M$17:$N$20,2,0)),\"-\")","v":"-"},{"$f":"+IFERROR((VLOOKUP('BASE DE RESPUESTAS'!AU18,Back!$M$17:$N$20,2,0)),\"-\")","v":"-"},{"$f":"+IFERROR((VLOOKUP('BASE DE RESPUESTAS'!AV18,Back!$M$17:$N$20,2,0)),\"-\")","v":"-"},{"$f":"+IFERROR((VLOOKUP('BASE DE RESPUESTAS'!AW18,Back!$M$17:$N$20,2,0)),\"-\")","v":"-"},{"$f":"+IFERROR((VLOOKUP('BASE DE RESPUESTAS'!AX18,Back!$M$17:$N$20,2,0)),\"-\")","v":"-"},{"$f":"+IFERROR((VLOOKUP('BASE DE RESPUESTAS'!AY18,Back!$M$17:$N$20,2,0)),\"-\")","v":"-"},{"$f":"+IFERROR((VLOOKUP('BASE DE RESPUESTAS'!AZ18,Back!$M$17:$N$20,2,0)),\"-\")","v":"-"},{"$f":"+IFERROR((VLOOKUP('BASE DE RESPUESTAS'!BA18,Back!$M$17:$N$20,2,0)),\"-\")","v":"-"},{"$f":"+IFERROR((VLOOKUP('BASE DE RESPUESTAS'!BB18,Back!$M$17:$N$20,2,0)),\"-\")","v":"-"},{"$f":"+IFERROR((VLOOKUP('BASE DE RESPUESTAS'!BC18,Back!$M$17:$N$20,2,0)),\"-\")","v":"-"},{"$f":"+IFERROR((VLOOKUP('BASE DE RESPUESTAS'!BD18,Back!$M$17:$N$20,2,0)),\"-\")","v":"-"},{"$f":"+IFERROR((VLOOKUP('BASE DE RESPUESTAS'!BE18,Back!$M$17:$N$20,2,0)),\"-\")","v":"-"}]
[null,"HSE",null,"La niña o el niño evidencia conductas de autoprotección (Ej. sabe decir “no”, evita situaciones de peligro, solicita ayuda a una persona adulta).",null,"-",null,{"$f":"+IFERROR(AVERAGE(Espejo!H18:H20),\"-\")","v":"-"},{"$f":"+IFERROR(AVERAGE(Espejo!I18:I20),\"-\")","v":"-"},{"$f":"+IFERROR(AVERAGE(Espejo!J18:J20),\"-\")","v":"-"},{"$f":"+IFERROR(AVERAGE(Espejo!K18:K20),\"-\")","v":"-"},{"$f":"+IFERROR(AVERAGE(Espejo!L18:L20),\"-\")","v":"-"},{"$f":"+IFERROR(AVERAGE(Espejo!M18:M20),\"-\")","v":"-"},{"$f":"+IFERROR(AVERAGE(Espejo!N18:N20),\"-\")","v":"-"},{"$f":"+IFERROR(AVERAGE(Espejo!O18:O20),\"-\")","v":"-"},{"$f":"+IFERROR(AVERAGE(Espejo!P18:P20),\"-\")","v":"-"},{"$f":"+IFERROR(AVERAGE(Espejo!Q18:Q20),\"-\")","v":"-"},{"$f":"+IFERROR(AVERAGE(Espejo!R18:R20),\"-\")","v":"-"},{"$f":"+IFERROR(AVERAGE(Espejo!S18:S20),\"-\")","v":"-"},{"$f":"+IFERROR(AVERAGE(Espejo!T18:T20),\"-\")","v":"-"},{"$f":"+IFERROR(AVERAGE(Espejo!U18:U20),\"-\")","v":"-"},{"$f":"+IFERROR(AVERAGE(Espejo!V18:V20),\"-\")","v":"-"},{"$f":"+IFERROR(AVERAGE(Espejo!W18:W20),\"-\")","v":"-"},{"$f":"+IFERROR(AVERAGE(Espejo!X18:X20),\"-\")","v":"-"},{"$f":"+IFERROR(AVERAGE(Espejo!Y18:Y20),\"-\")","v":"-"},{"$f":"+IFERROR(AVERAGE(Espejo!Z18:Z20),\"-\")","v":"-"},{"$f":"+IFERROR(AVERAGE(Espejo!AA18:AA20),\"-\")","v":"-"},{"$f":"+IFERROR(AVERAGE(Espejo!AB18:AB20),\"-\")","v":"-"},{"$f":"+IFERROR(AVERAGE(Espejo!AC18:AC20),\"-\")","v":"-"},{"$f":"+IFERROR(AVERAGE(Espejo!AD18:AD20),\"-\")","v":"-"},{"$f":"+IFERROR(AVERAGE(Espejo!AE18:AE20),\"-\")","v":"-"},{"$f":"+IFERROR(AVERAGE(Espejo!AF18:AF20),\"-\")","v":"-"},{"$f":"+IFERROR(AVERAGE(Espejo!AG18:AG20),\"-\")","v":"-"},{"$f":"+IFERROR(AVERAGE(Espejo!AH18:AH20),\"-\")","v":"-"},{"$f":"+IFERROR(AVERAGE(Espejo!AI18:AI20),\"-\")","v":"-"},{"$f":"+IFERROR(AVERAGE(Espejo!AJ18:AJ20),\"-\")","v":"-"},{"$f":"+IFERROR(AVERAGE(Espejo!AK18:AK20),\"-\")","v":"-"},{"$f":"+IFERROR(AVERAGE(Espejo!AL18:AL20),\"-\")","v":"-"},{"$f":"+IFERROR(AVERAGE(Espejo!AM18:AM20),\"-\")","v":"-"},{"$f":"+IFERROR(AVERAGE(Espejo!AN18:AN20),\"-\")","v":"-"},{"$f":"+IFERROR(AVERAGE(Espejo!AO18:AO20),\"-\")","v":"-"},{"$f":"+IFERROR(AVERAGE(Espejo!AP18:AP20),\"-\")","v":"-"},{"$f":"+IFERROR(AVERAGE(Espejo!AQ18:AQ20),\"-\")","v":"-"},{"$f":"+IFERROR(AVERAGE(Espejo!AR18:AR20),\"-\")","v":"-"},{"$f":"+IFERROR(AVERAGE(Espejo!AS18:AS20),\"-\")","v":"-"},{"$f":"+IFERROR(AVERAGE(Espejo!AT18:AT20),\"-\")","v":"-"},{"$f":"+IFERROR(AVERAGE(Espejo!AU18:AU20),\"-\")","v":"-"},{"$f":"+IFERROR(AVERAGE(Espejo!AV18:AV20),\"-\")","v":"-"},{"$f":"+IFERROR(AVERAGE(Espejo!AW18:AW20),\"-\")","v":"-"},{"$f":"+IFERROR(AVERAGE(Espejo!AX18:AX20),\"-\")","v":"-"},{"$f":"+IFERROR(AVERAGE(Espejo!AY18:AY20),\"-\")","v":"-"},{"$f":"+IFERROR(AVERAGE(Espejo!AZ18:AZ20),\"-\")","v":"-"},{"$f":"+IFERROR(AVERAGE(Espejo!BA18:BA20),\"-\")","v":"-"},{"$f":"+IFERROR(AVERAGE(Espejo!BB18:BB20),\"-\")","v":"-"},{"$f":"+IFERROR(AVERAGE(Espejo!BC18:BC20),\"-\")","v":"-"},{"$f":"+IFERROR(AVERAGE(Espejo!BD18:BD20),\"-\")","v":"-"},{"$f":"+IFERROR(AVERAGE(Espejo!BE18:BE20),\"-\")","v":"-"}]
[null,"HSE","Regulación Emocional","La niña o el niño regula su conducta con apoyo de una persona adulta.",null,"-",null,{"$f":"+IFERROR(AVERAGE(Espejo!H21:H22),\"-\")","v":"-"},{"$f":"+IFERROR(AVERAGE(Espejo!I21:I22),\"-\")","v":"-"},{"$f":"+IFERROR(AVERAGE(Espejo!J21:J22),\"-\")","v":"-"},{"$f":"+IFERROR(AVERAGE(Espejo!K21:K22),\"-\")","v":"-"},{"$f":"+IFERROR(AVERAGE(Espejo!L21:L22),\"-\")","v":"-"},{"$f":"+IFERROR(AVERAGE(Espejo!M21:M22),\"-\")","v":"-"},{"$f":"+IFERROR(AVERAGE(Espejo!N21:N22),\"-\")","v":"-"},{"$f":"+IFERROR(AVERAGE(Espejo!O21:O22),\"-\")","v":"-"},{"$f":"+IFERROR(AVERAGE(Espejo!P21:P22),\"-\")","v":"-"},{"$f":"+IFERROR(AVERAGE(Espejo!Q21:Q22),\"-\")","v":"-"},{"$f":"+IFERROR(AVERAGE(Espejo!R21:R22),\"-\")","v":"-"},{"$f":"+IFERROR(AVERAGE(Espejo!S21:S22),\"-\")","v":"-"},{"$f":"+IFERROR(AVERAGE(Espejo!T21:T22),\"-\")","v":"-"},{"$f":"+IFERROR(AVERAGE(Espejo!U21:U22),\"-\")","v":"-"},{"$f":"+IFERROR(AVERAGE(Espejo!V21:V22),\"-\")","v":"-"},{"$f":"+IFERROR(AVERAGE(Espejo!W21:W22),\"-\")","v":"-"},{"$f":"+IFERROR(AVERAGE(Espejo!X21:X22),\"-\")","v":"-"},{"$f":"+IFERROR(AVERAGE(Espejo!Y21:Y22),\"-\")","v":"-"},{"$f":"+IFERROR(AVERAGE(Espejo!Z21:Z22),\"-\")","v":"-"},{"$f":"+IFERROR(AVERAGE(Espejo!AA21:AA22),\"-\")","v":"-"},{"$f":"+IFERROR(AVERAGE(Espejo!AB21:AB22),\"-\")","v":"-"},{"$f":"+IFERROR(AVERAGE(Espejo!AC21:AC22),\"-\")","v":"-"},{"$f":"+IFERROR(AVERAGE(Espejo!AD21:AD22),\"-\")","v":"-"},{"$f":"+IFERROR(AVERAGE(Espejo!AE21:AE22),\"-\")","v":"-"},{"$f":"+IFERROR(AVERAGE(Espejo!AF21:AF22),\"-\")","v":"-"},{"$f":"+IFERROR(AVERAGE(Espejo!AG21:AG22),\"-\")","v":"-"},{"$f":"+IFERROR(AVERAGE(Espejo!AH21:AH22),\"-\")","v":"-"},{"$f":"+IFERROR(AVERAGE(Espejo!AI21:AI22),\"-\")","v":"-"},{"$f":"+IFERROR(AVERAGE(Espejo!AJ21:AJ22),\"-\")","v":"-"},{"$f":"+IFERROR(AVERAGE(Espejo!AK21:AK22),\"-\")","v":"-"},{"$f":"+IFERROR(AVERAGE(Espejo!AL21:AL22),\"-\")","v":"-"},{"$f":"+IFERROR(AVERAGE(Espejo!AM21:AM22),\"-\")","v":"-"},{"$f":"+IFERROR(AVERAGE(Espejo!AN21:AN22),\"-\")","v":"-"},{"$f":"+IFERROR(AVERAGE(Espejo!AO21:AO22),\"-\")","v":"-"},{"$f":"+IFERROR(AVERAGE(Espejo!AP21:AP22),\"-\")","v":"-"},{"$f":"+IFERROR(AVERAGE(Espejo!AQ21:AQ22),\"-\")","v":"-"},{"$f":"+IFERROR(AVERAGE(Espejo!AR21:AR22),\"-\")","v":"-"},{"$f":"+IFERROR(AVERAGE(Espejo!AS21:AS22),\"-\")","v":"-"},{"$f":"+IFERROR(AVERAGE(Espejo!AT21:AT22),\"-\")","v":"-"},{"$f":"+IFERROR(AVERAGE(Espejo!AU21:AU22),\"-\")","v":"-"},{"$f":"+IFERROR(AVERAGE(Espejo!AV21:AV22),\"-\")","v":"-"},{"$f":"+IFERROR(AVERAGE(Espejo!AW21:AW22),\"-\")","v":"-"},{"$f":"+IFERROR(AVERAGE(Espejo!AX21:AX22),\"-\")","v":"-"},{"$f":"+IFERROR(AVERAGE(Espejo!AY21:AY22),\"-\")","v":"-"},{"$f":"+IFERROR(AVERAGE(Espejo!AZ21:AZ22),\"-\")","v":"-"},{"$f":"+IFERROR(AVERAGE(Espejo!BA21:BA22),\"-\")","v":"-"},{"$f":"+IFERROR(AVERAGE(Espejo!BB21:BB22),\"-\")","v":"-"},{"$f":"+IFERROR(AVERAGE(Espejo!BC21:BC22),\"-\")","v":"-"},{"$f":"+IFERROR(AVERAGE(Espejo!BD21:BD22),\"-\")","v":"-"},{"$f":"+IFERROR(AVERAGE(Espejo!BE21:BE22),\"-\")","v":"-"}]
[null,"HSE","Creatividad","La niña o el niño usa diferentes objetos para jugar, asignándole una función diferente a la que le pertenece.",null,"-",null,{"$f":"+IFERROR((VLOOKUP('BASE DE RESPUESTAS'!H24,Back!$M$17:$N$20,2,0)),\"-\")","v":"-"},{"$f":"+IFERROR((VLOOKUP('BASE DE RESPUESTAS'!I24,Back!$M$17:$N$20,2,0)),\"-\")","v":"-"},{"$f":"+IFERROR((VLOOKUP('BASE DE RESPUESTAS'!J24,Back!$M$17:$N$20,2,0)),\"-\")","v":"-"},{"$f":"+IFERROR((VLOOKUP('BASE DE RESPUESTAS'!K24,Back!$M$17:$N$20,2,0)),\"-\")","v":"-"},{"$f":"+IFERROR((VLOOKUP('BASE DE RESPUESTAS'!L24,Back!$M$17:$N$20,2,0)),\"-\")","v":"-"},{"$f":"+IFERROR((VLOOKUP('BASE DE RESPUESTAS'!M24,Back!$M$17:$N$20,2,0)),\"-\")","v":"-"},{"$f":"+IFERROR((VLOOKUP('BASE DE RESPUESTAS'!N24,Back!$M$17:$N$20,2,0)),\"-\")","v":"-"},{"$f":"+IFERROR((VLOOKUP('BASE DE RESPUESTAS'!O24,Back!$M$17:$N$20,2,0)),\"-\")","v":"-"},{"$f":"+IFERROR((VLOOKUP('BASE DE RESPUESTAS'!P24,Back!$M$17:$N$20,2,0)),\"-\")","v":"-"},{"$f":"+IFERROR((VLOOKUP('BASE DE RESPUESTAS'!Q24,Back!$M$17:$N$20,2,0)),\"-\")","v":"-"},{"$f":"+IFERROR((VLOOKUP('BASE DE RESPUESTAS'!R24,Back!$M$17:$N$20,2,0)),\"-\")","v":"-"},{"$f":"+IFERROR((VLOOKUP('BASE DE RESPUESTAS'!S24,Back!$M$17:$N$20,2,0)),\"-\")","v":"-"},{"$f":"+IFERROR((VLOOKUP('BASE DE RESPUESTAS'!T24,Back!$M$17:$N$20,2,0)),\"-\")","v":"-"},{"$f":"+IFERROR((VLOOKUP('BASE DE RESPUESTAS'!U24,Back!$M$17:$N$20,2,0)),\"-\")","v":"-"},{"$f":"+IFERROR((VLOOKUP('BASE DE RESPUESTAS'!V24,Back!$M$17:$N$20,2,0)),\"-\")","v":"-"},{"$f":"+IFERROR((VLOOKUP('BASE DE RESPUESTAS'!W24,Back!$M$17:$N$20,2,0)),\"-\")","v":"-"},{"$f":"+IFERROR((VLOOKUP('BASE DE RESPUESTAS'!X24,Back!$M$17:$N$20,2,0)),\"-\")","v":"-"},{"$f":"+IFERROR((VLOOKUP('BASE DE RESPUESTAS'!Y24,Back!$M$17:$N$20,2,0)),\"-\")","v":"-"},{"$f":"+IFERROR((VLOOKUP('BASE DE RESPUESTAS'!Z24,Back!$M$17:$N$20,2,0)),\"-\")","v":"-"},{"$f":"+IFERROR((VLOOKUP('BASE DE RESPUESTAS'!AA24,Back!$M$17:$N$20,2,0)),\"-\")","v":"-"},{"$f":"+IFERROR((VLOOKUP('BASE DE RESPUESTAS'!AB24,Back!$M$17:$N$20,2,0)),\"-\")","v":"-"},{"$f":"+IFERROR((VLOOKUP('BASE DE RESPUESTAS'!AC24,Back!$M$17:$N$20,2,0)),\"-\")","v":"-"},{"$f":"+IFERROR((VLOOKUP('BASE DE RESPUESTAS'!AD24,Back!$M$17:$N$20,2,0)),\"-\")","v":"-"},{"$f":"+IFERROR((VLOOKUP('BASE DE RESPUESTAS'!AE24,Back!$M$17:$N$20,2,0)),\"-\")","v":"-"},{"$f":"+IFERROR((VLOOKUP('BASE DE RESPUESTAS'!AF24,Back!$M$17:$N$20,2,0)),\"-\")","v":"-"},{"$f":"+IFERROR((VLOOKUP('BASE DE RESPUESTAS'!AG24,Back!$M$17:$N$20,2,0)),\"-\")","v":"-"},{"$f":"+IFERROR((VLOOKUP('BASE DE RESPUESTAS'!AH24,Back!$M$17:$N$20,2,0)),\"-\")","v":"-"},{"$f":"+IFERROR((VLOOKUP('BASE DE RESPUESTAS'!AI24,Back!$M$17:$N$20,2,0)),\"-\")","v":"-"},{"$f":"+IFERROR((VLOOKUP('BASE DE RESPUESTAS'!AJ24,Back!$M$17:$N$20,2,0)),\"-\")","v":"-"},{"$f":"+IFERROR((VLOOKUP('BASE DE RESPUESTAS'!AK24,Back!$M$17:$N$20,2,0)),\"-\")","v":"-"},{"$f":"+IFERROR((VLOOKUP('BASE DE RESPUESTAS'!AL24,Back!$M$17:$N$20,2,0)),\"-\")","v":"-"},{"$f":"+IFERROR((VLOOKUP('BASE DE RESPUESTAS'!AM24,Back!$M$17:$N$20,2,0)),\"-\")","v":"-"},{"$f":"+IFERROR((VLOOKUP('BASE DE RESPUESTAS'!AN24,Back!$M$17:$N$20,2,0)),\"-\")","v":"-"},{"$f":"+IFERROR((VLOOKUP('BASE DE RESPUESTAS'!AO24,Back!$M$17:$N$20,2,0)),\"-\")","v":"-"},{"$f":"+IFERROR((VLOOKUP('BASE DE RESPUESTAS'!AP24,Back!$M$17:$N$20,2,0)),\"-\")","v":"-"},{"$f":"+IFERROR((VLOOKUP('BASE DE RESPUESTAS'!AQ24,Back!$M$17:$N$20,2,0)),\"-\")","v":"-"},{"$f":"+IFERROR((VLOOKUP('BASE DE RESPUESTAS'!AR24,Back!$M$17:$N$20,2,0)),\"-\")","v":"-"},{"$f":"+IFERROR((VLOOKUP('BASE DE RESPUESTAS'!AS24,Back!$M$17:$N$20,2,0)),\"-\")","v":"-"},{"$f":"+IFERROR((VLOOKUP('BASE DE RESPUESTAS'!AT24,Back!$M$17:$N$20,2,0)),\"-\")","v":"-"},{"$f":"+IFERROR((VLOOKUP('BASE DE RESPUESTAS'!AU24,Back!$M$17:$N$20,2,0)),\"-\")","v":"-"},{"$f":"+IFERROR((VLOOKUP('BASE DE RESPUESTAS'!AV24,Back!$M$17:$N$20,2,0)),\"-\")","v":"-"},{"$f":"+IFERROR((VLOOKUP('BASE DE RESPUESTAS'!AW24,Back!$M$17:$N$20,2,0)),\"-\")","v":"-"},{"$f":"+IFERROR((VLOOKUP('BASE DE RESPUESTAS'!AX24,Back!$M$17:$N$20,2,0)),\"-\")","v":"-"},{"$f":"+IFERROR((VLOOKUP('BASE DE RESPUESTAS'!AY24,Back!$M$17:$N$20,2,0)),\"-\")","v":"-"},{"$f":"+IFERROR((VLOOKUP('BASE DE RESPUESTAS'!AZ24,Back!$M$17:$N$20,2,0)),\"-\")","v":"-"},{"$f":"+IFERROR((VLOOKUP('BASE DE RESPUESTAS'!BA24,Back!$M$17:$N$20,2,0)),\"-\")","v":"-"},{"$f":"+IFERROR((VLOOKUP('BASE DE RESPUESTAS'!BB24,Back!$M$17:$N$20,2,0)),\"-\")","v":"-"},{"$f":"+IFERROR((VLOOKUP('BASE DE RESPUESTAS'!BC24,Back!$M$17:$N$20,2,0)),\"-\")","v":"-"},{"$f":"+IFERROR((VLOOKUP('BASE DE RESPUESTAS'!BD24,Back!$M$17:$N$20,2,0)),\"-\")","v":"-"},{"$f":"+IFERROR((VLOOKUP('BASE DE RESPUESTAS'!BE24,Back!$M$17:$N$20,2,0)),\"-\")","v":"-"}]
[null,"HSE",null,"La niña o el niño propone diferentes soluciones ante un problema.",null,"-",null,{"$f":"+IFERROR((VLOOKUP('BASE DE RESPUESTAS'!H25,Back!$M$17:$N$20,2,0)),\"-\")","v":"-"},{"$f":"+IFERROR((VLOOKUP('BASE DE RESPUESTAS'!I25,Back!$M$17:$N$20,2,0)),\"-\")","v":"-"},{"$f":"+IFERROR((VLOOKUP('BASE DE RESPUESTAS'!J25,Back!$M$17:$N$20,2,0)),\"-\")","v":"-"},{"$f":"+IFERROR((VLOOKUP('BASE DE RESPUESTAS'!K25,Back!$M$17:$N$20,2,0)),\"-\")","v":"-"},{"$f":"+IFERROR((VLOOKUP('BASE DE RESPUESTAS'!L25,Back!$M$17:$N$20,2,0)),\"-\")","v":"-"},{"$f":"+IFERROR((VLOOKUP('BASE DE RESPUESTAS'!M25,Back!$M$17:$N$20,2,0)),\"-\")","v":"-"},{"$f":"+IFERROR((VLOOKUP('BASE DE RESPUESTAS'!N25,Back!$M$17:$N$20,2,0)),\"-\")","v":"-"},{"$f":"+IFERROR((VLOOKUP('BASE DE RESPUESTAS'!O25,Back!$M$17:$N$20,2,0)),\"-\")","v":"-"},{"$f":"+IFERROR((VLOOKUP('BASE DE RESPUESTAS'!P25,Back!$M$17:$N$20,2,0)),\"-\")","v":"-"},{"$f":"+IFERROR((VLOOKUP('BASE DE RESPUESTAS'!Q25,Back!$M$17:$N$20,2,0)),\"-\")","v":"-"},{"$f":"+IFERROR((VLOOKUP('BASE DE RESPUESTAS'!R25,Back!$M$17:$N$20,2,0)),\"-\")","v":"-"},{"$f":"+IFERROR((VLOOKUP('BASE DE RESPUESTAS'!S25,Back!$M$17:$N$20,2,0)),\"-\")","v":"-"},{"$f":"+IFERROR((VLOOKUP('BASE DE RESPUESTAS'!T25,Back!$M$17:$N$20,2,0)),\"-\")","v":"-"},{"$f":"+IFERROR((VLOOKUP('BASE DE RESPUESTAS'!U25,Back!$M$17:$N$20,2,0)),\"-\")","v":"-"},{"$f":"+IFERROR((VLOOKUP('BASE DE RESPUESTAS'!V25,Back!$M$17:$N$20,2,0)),\"-\")","v":"-"},{"$f":"+IFERROR((VLOOKUP('BASE DE RESPUESTAS'!W25,Back!$M$17:$N$20,2,0)),\"-\")","v":"-"},{"$f":"+IFERROR((VLOOKUP('BASE DE RESPUESTAS'!X25,Back!$M$17:$N$20,2,0)),\"-\")","v":"-"},{"$f":"+IFERROR((VLOOKUP('BASE DE RESPUESTAS'!Y25,Back!$M$17:$N$20,2,0)),\"-\")","v":"-"},{"$f":"+IFERROR((VLOOKUP('BASE DE RESPUESTAS'!Z25,Back!$M$17:$N$20,2,0)),\"-\")","v":"-"},{"$f":"+IFERROR((VLOOKUP('BASE DE RESPUESTAS'!AA25,Back!$M$17:$N$20,2,0)),\"-\")","v":"-"},{"$f":"+IFERROR((VLOOKUP('BASE DE RESPUESTAS'!AB25,Back!$M$17:$N$20,2,0)),\"-\")","v":"-"},{"$f":"+IFERROR((VLOOKUP('BASE DE RESPUESTAS'!AC25,Back!$M$17:$N$20,2,0)),\"-\")","v":"-"},{"$f":"+IFERROR((VLOOKUP('BASE DE RESPUESTAS'!AD25,Back!$M$17:$N$20,2,0)),\"-\")","v":"-"},{"$f":"+IFERROR((VLOOKUP('BASE DE RESPUESTAS'!AE25,Back!$M$17:$N$20,2,0)),\"-\")","v":"-"},{"$f":"+IFERROR((VLOOKUP('BASE DE RESPUESTAS'!AF25,Back!$M$17:$N$20,2,0)),\"-\")","v":"-"},{"$f":"+IFERROR((VLOOKUP('BASE DE RESPUESTAS'!AG25,Back!$M$17:$N$20,2,0)),\"-\")","v":"-"},{"$f":"+IFERROR((VLOOKUP('BASE DE RESPUESTAS'!AH25,Back!$M$17:$N$20,2,0)),\"-\")","v":"-"},{"$f":"+IFERROR((VLOOKUP('BASE DE RESPUESTAS'!AI25,Back!$M$17:$N$20,2,0)),\"-\")","v":"-"},{"$f":"+IFERROR((VLOOKUP('BASE DE RESPUESTAS'!AJ25,Back!$M$17:$N$20,2,0)),\"-\")","v":"-"},{"$f":"+IFERROR((VLOOKUP('BASE DE RESPUESTAS'!AK25,Back!$M$17:$N$20,2,0)),\"-\")","v":"-"},{"$f":"+IFERROR((VLOOKUP('BASE DE RESPUESTAS'!AL25,Back!$M$17:$N$20,2,0)),\"-\")","v":"-"},{"$f":"+IFERROR((VLOOKUP('BASE DE RESPUESTAS'!AM25,Back!$M$17:$N$20,2,0)),\"-\")","v":"-"},{"$f":"+IFERROR((VLOOKUP('BASE DE RESPUESTAS'!AN25,Back!$M$17:$N$20,2,0)),\"-\")","v":"-"},{"$f":"+IFERROR((VLOOKUP('BASE DE RESPUESTAS'!AO25,Back!$M$17:$N$20,2,0)),\"-\")","v":"-"},{"$f":"+IFERROR((VLOOKUP('BASE DE RESPUESTAS'!AP25,Back!$M$17:$N$20,2,0)),\"-\")","v":"-"},{"$f":"+IFERROR((VLOOKUP('BASE DE RESPUESTAS'!AQ25,Back!$M$17:$N$20,2,0)),\"-\")","v":"-"},{"$f":"+IFERROR((VLOOKUP('BASE DE RESPUESTAS'!AR25,Back!$M$17:$N$20,2,0)),\"-\")","v":"-"},{"$f":"+IFERROR((VLOOKUP('BASE DE RESPUESTAS'!AS25,Back!$M$17:$N$20,2,0)),\"-\")","v":"-"},{"$f":"+IFERROR((VLOOKUP('BASE DE RESPUESTAS'!AT25,Back!$M$17:$N$20,2,0)),\"-\")","v":"-"},{"$f":"+IFERROR((VLOOKUP('BASE DE RESPUESTAS'!AU25,Back!$M$17:$N$20,2,0)),\"-\")","v":"-"},{"$f":"+IFERROR((VLOOKUP('BASE DE RESPUESTAS'!AV25,Back!$M$17:$N$20,2,0)),\"-\")","v":"-"},{"$f":"+IFERROR((VLOOKUP('BASE DE RESPUESTAS'!AW25,Back!$M$17:$N$20,2,0)),\"-\")","v":"-"},{"$f":"+IFERROR((VLOOKUP('BASE DE RESPUESTAS'!AX25,Back!$M$17:$N$20,2,0)),\"-\")","v":"-"},{"$f":"+IFERROR((VLOOKUP('BASE DE RESPUESTAS'!AY25,Back!$M$17:$N$20,2,0)),\"-\")","v":"-"},{"$f":"+IFERROR((VLOOKUP('BASE DE RESPUESTAS'!AZ25,Back!$M$17:$N$20,2,0)),\"-\")","v":"-"},{"$f":"+IFERROR((VLOOKUP('BASE DE RESPUESTAS'!BA25,Back!$M$17:$N$20,2,0)),\"-\")","v":"-"},{"$f":"+IFERROR((VLOOKUP('BASE DE RESPUESTAS'!BB25,Back!$M$17:$N$20,2,0)),\"-\")","v":"-"},{"$f":"+IFERROR((VLOOKUP('BASE DE RESPUESTAS'!BC25,Back!$M$17:$N$20,2,0)),\"-\")","v":"-"},{"$f":"+IFERROR((VLOOKUP('BASE DE RESPUESTAS'!BD25,Back!$M$17:$N$20,2,0)),\"-\")","v":"-"},{"$f":"+IFERROR((VLOOKUP('BASE DE RESPUESTAS'!BE25,Back!$M$17:$N$20,2,0)),\"-\")","v":"-"}]
[null,"HSE","Toma de decisiones responsables","La niña o el niño toma decisiones de acuerdo a su edad o nivel de desarrollo alcanzado.",null,"-",null,{"$f":"+IFERROR((VLOOKUP('BASE DE RESPUESTAS'!H26,Back!$M$17:$N$20,2,0)),\"-\")","v":"-"},{"$f":"+IFERROR((VLOOKUP('BASE DE RESPUESTAS'!I26,Back!$M$17:$N$20,2,0)),\"-\")","v":"-"},{"$f":"+IFERROR((VLOOKUP('BASE DE RESPUESTAS'!J26,Back!$M$17:$N$20,2,0)),\"-\")","v":"-"},{"$f":"+IFERROR((VLOOKUP('BASE DE RESPUESTAS'!K26,Back!$M$17:$N$20,2,0)),\"-\")","v":"-"},{"$f":"+IFERROR((VLOOKUP('BASE DE RESPUESTAS'!L26,Back!$M$17:$N$20,2,0)),\"-\")","v":"-"},{"$f":"+IFERROR((VLOOKUP('BASE DE RESPUESTAS'!M26,Back!$M$17:$N$20,2,0)),\"-\")","v":"-"},{"$f":"+IFERROR((VLOOKUP('BASE DE RESPUESTAS'!N26,Back!$M$17:$N$20,2,0)),\"-\")","v":"-"},{"$f":"+IFERROR((VLOOKUP('BASE DE RESPUESTAS'!O26,Back!$M$17:$N$20,2,0)),\"-\")","v":"-"},{"$f":"+IFERROR((VLOOKUP('BASE DE RESPUESTAS'!P26,Back!$M$17:$N$20,2,0)),\"-\")","v":"-"},{"$f":"+IFERROR((VLOOKUP('BASE DE RESPUESTAS'!Q26,Back!$M$17:$N$20,2,0)),\"-\")","v":"-"},{"$f":"+IFERROR((VLOOKUP('BASE DE RESPUESTAS'!R26,Back!$M$17:$N$20,2,0)),\"-\")","v":"-"},{"$f":"+IFERROR((VLOOKUP('BASE DE RESPUESTAS'!S26,Back!$M$17:$N$20,2,0)),\"-\")","v":"-"},{"$f":"+IFERROR((VLOOKUP('BASE DE RESPUESTAS'!T26,Back!$M$17:$N$20,2,0)),\"-\")","v":"-"},{"$f":"+IFERROR((VLOOKUP('BASE DE RESPUESTAS'!U26,Back!$M$17:$N$20,2,0)),\"-\")","v":"-"},{"$f":"+IFERROR((VLOOKUP('BASE DE RESPUESTAS'!V26,Back!$M$17:$N$20,2,0)),\"-\")","v":"-"},{"$f":"+IFERROR((VLOOKUP('BASE DE RESPUESTAS'!W26,Back!$M$17:$N$20,2,0)),\"-\")","v":"-"},{"$f":"+IFERROR((VLOOKUP('BASE DE RESPUESTAS'!X26,Back!$M$17:$N$20,2,0)),\"-\")","v":"-"},{"$f":"+IFERROR((VLOOKUP('BASE DE RESPUESTAS'!Y26,Back!$M$17:$N$20,2,0)),\"-\")","v":"-"},{"$f":"+IFERROR((VLOOKUP('BASE DE RESPUESTAS'!Z26,Back!$M$17:$N$20,2,0)),\"-\")","v":"-"},{"$f":"+IFERROR((VLOOKUP('BASE DE RESPUESTAS'!AA26,Back!$M$17:$N$20,2,0)),\"-\")","v":"-"},{"$f":"+IFERROR((VLOOKUP('BASE DE RESPUESTAS'!AB26,Back!$M$17:$N$20,2,0)),\"-\")","v":"-"},{"$f":"+IFERROR((VLOOKUP('BASE DE RESPUESTAS'!AC26,Back!$M$17:$N$20,2,0)),\"-\")","v":"-"},{"$f":"+IFERROR((VLOOKUP('BASE DE RESPUESTAS'!AD26,Back!$M$17:$N$20,2,0)),\"-\")","v":"-"},{"$f":"+IFERROR((VLOOKUP('BASE DE RESPUESTAS'!AE26,Back!$M$17:$N$20,2,0)),\"-\")","v":"-"},{"$f":"+IFERROR((VLOOKUP('BASE DE RESPUESTAS'!AF26,Back!$M$17:$N$20,2,0)),\"-\")","v":"-"},{"$f":"+IFERROR((VLOOKUP('BASE DE RESPUESTAS'!AG26,Back!$M$17:$N$20,2,0)),\"-\")","v":"-"},{"$f":"+IFERROR((VLOOKUP('BASE DE RESPUESTAS'!AH26,Back!$M$17:$N$20,2,0)),\"-\")","v":"-"},{"$f":"+IFERROR((VLOOKUP('BASE DE RESPUESTAS'!AI26,Back!$M$17:$N$20,2,0)),\"-\")","v":"-"},{"$f":"+IFERROR((VLOOKUP('BASE DE RESPUESTAS'!AJ26,Back!$M$17:$N$20,2,0)),\"-\")","v":"-"},{"$f":"+IFERROR((VLOOKUP('BASE DE RESPUESTAS'!AK26,Back!$M$17:$N$20,2,0)),\"-\")","v":"-"},{"$f":"+IFERROR((VLOOKUP('BASE DE RESPUESTAS'!AL26,Back!$M$17:$N$20,2,0)),\"-\")","v":"-"},{"$f":"+IFERROR((VLOOKUP('BASE DE RESPUESTAS'!AM26,Back!$M$17:$N$20,2,0)),\"-\")","v":"-"},{"$f":"+IFERROR((VLOOKUP('BASE DE RESPUESTAS'!AN26,Back!$M$17:$N$20,2,0)),\"-\")","v":"-"},{"$f":"+IFERROR((VLOOKUP('BASE DE RESPUESTAS'!AO26,Back!$M$17:$N$20,2,0)),\"-\")","v":"-"},{"$f":"+IFERROR((VLOOKUP('BASE DE RESPUESTAS'!AP26,Back!$M$17:$N$20,2,0)),\"-\")","v":"-"},{"$f":"+IFERROR((VLOOKUP('BASE DE RESPUESTAS'!AQ26,Back!$M$17:$N$20,2,0)),\"-\")","v":"-"},{"$f":"+IFERROR((VLOOKUP('BASE DE RESPUESTAS'!AR26,Back!$M$17:$N$20,2,0)),\"-\")","v":"-"},{"$f":"+IFERROR((VLOOKUP('BASE DE RESPUESTAS'!AS26,Back!$M$17:$N$20,2,0)),\"-\")","v":"-"},{"$f":"+IFERROR((VLOOKUP('BASE DE RESPUESTAS'!AT26,Back!$M$17:$N$20,2,0)),\"-\")","v":"-"},{"$f":"+IFERROR((VLOOKUP('BASE DE RESPUESTAS'!AU26,Back!$M$17:$N$20,2,0)),\"-\")","v":"-"},{"$f":"+IFERROR((VLOOKUP('BASE DE RESPUESTAS'!AV26,Back!$M$17:$N$20,2,0)),\"-\")","v":"-"},{"$f":"+IFERROR((VLOOKUP('BASE DE RESPUESTAS'!AW26,Back!$M$17:$N$20,2,0)),\"-\")","v":"-"},{"$f":"+IFERROR((VLOOKUP('BASE DE RESPUESTAS'!AX26,Back!$M$17:$N$20,2,0)),\"-\")","v":"-"},{"$f":"+IFERROR((VLOOKUP('BASE DE RESPUESTAS'!AY26,Back!$M$17:$N$20,2,0)),\"-\")","v":"-"},{"$f":"+IFERROR((VLOOKUP('BASE DE RESPUESTAS'!AZ26,Back!$M$17:$N$20,2,0)),\"-\")","v":"-"},{"$f":"+IFERROR((VLOOKUP('BASE DE RESPUESTAS'!BA26,Back!$M$17:$N$20,2,0)),\"-\")","v":"-"},{"$f":"+IFERROR((VLOOKUP('BASE DE RESPUESTAS'!BB26,Back!$M$17:$N$20,2,0)),\"-\")","v":"-"},{"$f":"+IFERROR((VLOOKUP('BASE DE RESPUESTAS'!BC26,Back!$M$17:$N$20,2,0)),\"-\")","v":"-"},{"$f":"+IFERROR((VLOOKUP('BASE DE RESPUESTAS'!BD26,Back!$M$17:$N$20,2,0)),\"-\")","v":"-"},{"$f":"+IFERROR((VLOOKUP('BASE DE RESPUESTAS'!BE26,Back!$M$17:$N$20,2,0)),\"-\")","v":"-"}]
[null,"HSE","Comunicación Asertiva","La niña o el niño comunica lo que siente y piensa sin dañar a sus compañeras/os.",null,"-",null,{"$f":"+IFERROR((VLOOKUP('BASE DE RESPUESTAS'!H27,Back!$M$17:$N$20,2,0)),\"-\")","v":"-"},{"$f":"+IFERROR((VLOOKUP('BASE DE RESPUESTAS'!I27,Back!$M$17:$N$20,2,0)),\"-\")","v":"-"},{"$f":"+IFERROR((VLOOKUP('BASE DE RESPUESTAS'!J27,Back!$M$17:$N$20,2,0)),\"-\")","v":"-"},{"$f":"+IFERROR((VLOOKUP('BASE DE RESPUESTAS'!K27,Back!$M$17:$N$20,2,0)),\"-\")","v":"-"},{"$f":"+IFERROR((VLOOKUP('BASE DE RESPUESTAS'!L27,Back!$M$17:$N$20,2,0)),\"-\")","v":"-"},{"$f":"+IFERROR((VLOOKUP('BASE DE RESPUESTAS'!M27,Back!$M$17:$N$20,2,0)),\"-\")","v":"-"},{"$f":"+IFERROR((VLOOKUP('BASE DE RESPUESTAS'!N27,Back!$M$17:$N$20,2,0)),\"-\")","v":"-"},{"$f":"+IFERROR((VLOOKUP('BASE DE RESPUESTAS'!O27,Back!$M$17:$N$20,2,0)),\"-\")","v":"-"},{"$f":"+IFERROR((VLOOKUP('BASE DE RESPUESTAS'!P27,Back!$M$17:$N$20,2,0)),\"-\")","v":"-"},{"$f":"+IFERROR((VLOOKUP('BASE DE RESPUESTAS'!Q27,Back!$M$17:$N$20,2,0)),\"-\")","v":"-"},{"$f":"+IFERROR((VLOOKUP('BASE DE RESPUESTAS'!R27,Back!$M$17:$N$20,2,0)),\"-\")","v":"-"},{"$f":"+IFERROR((VLOOKUP('BASE DE RESPUESTAS'!S27,Back!$M$17:$N$20,2,0)),\"-\")","v":"-"},{"$f":"+IFERROR((VLOOKUP('BASE DE RESPUESTAS'!T27,Back!$M$17:$N$20,2,0)),\"-\")","v":"-"},{"$f":"+IFERROR((VLOOKUP('BASE DE RESPUESTAS'!U27,Back!$M$17:$N$20,2,0)),\"-\")","v":"-"},{"$f":"+IFERROR((VLOOKUP('BASE DE RESPUESTAS'!V27,Back!$M$17:$N$20,2,0)),\"-\")","v":"-"},{"$f":"+IFERROR((VLOOKUP('BASE DE RESPUESTAS'!W27,Back!$M$17:$N$20,2,0)),\"-\")","v":"-"},{"$f":"+IFERROR((VLOOKUP('BASE DE RESPUESTAS'!X27,Back!$M$17:$N$20,2,0)),\"-\")","v":"-"},{"$f":"+IFERROR((VLOOKUP('BASE DE RESPUESTAS'!Y27,Back!$M$17:$N$20,2,0)),\"-\")","v":"-"},{"$f":"+IFERROR((VLOOKUP('BASE DE RESPUESTAS'!Z27,Back!$M$17:$N$20,2,0)),\"-\")","v":"-"},{"$f":"+IFERROR((VLOOKUP('BASE DE RESPUESTAS'!AA27,Back!$M$17:$N$20,2,0)),\"-\")","v":"-"},{"$f":"+IFERROR((VLOOKUP('BASE DE RESPUESTAS'!AB27,Back!$M$17:$N$20,2,0)),\"-\")","v":"-"},{"$f":"+IFERROR((VLOOKUP('BASE DE RESPUESTAS'!AC27,Back!$M$17:$N$20,2,0)),\"-\")","v":"-"},{"$f":"+IFERROR((VLOOKUP('BASE DE RESPUESTAS'!AD27,Back!$M$17:$N$20,2,0)),\"-\")","v":"-"},{"$f":"+IFERROR((VLOOKUP('BASE DE RESPUESTAS'!AE27,Back!$M$17:$N$20,2,0)),\"-\")","v":"-"},{"$f":"+IFERROR((VLOOKUP('BASE DE RESPUESTAS'!AF27,Back!$M$17:$N$20,2,0)),\"-\")","v":"-"},{"$f":"+IFERROR((VLOOKUP('BASE DE RESPUESTAS'!AG27,Back!$M$17:$N$20,2,0)),\"-\")","v":"-"},{"$f":"+IFERROR((VLOOKUP('BASE DE RESPUESTAS'!AH27,Back!$M$17:$N$20,2,0)),\"-\")","v":"-"},{"$f":"+IFERROR((VLOOKUP('BASE DE RESPUESTAS'!AI27,Back!$M$17:$N$20,2,0)),\"-\")","v":"-"},{"$f":"+IFERROR((VLOOKUP('BASE DE RESPUESTAS'!AJ27,Back!$M$17:$N$20,2,0)),\"-\")","v":"-"},{"$f":"+IFERROR((VLOOKUP('BASE DE RESPUESTAS'!AK27,Back!$M$17:$N$20,2,0)),\"-\")","v":"-"},{"$f":"+IFERROR((VLOOKUP('BASE DE RESPUESTAS'!AL27,Back!$M$17:$N$20,2,0)),\"-\")","v":"-"},{"$f":"+IFERROR((VLOOKUP('BASE DE RESPUESTAS'!AM27,Back!$M$17:$N$20,2,0)),\"-\")","v":"-"},{"$f":"+IFERROR((VLOOKUP('BASE DE RESPUESTAS'!AN27,Back!$M$17:$N$20,2,0)),\"-\")","v":"-"},{"$f":"+IFERROR((VLOOKUP('BASE DE RESPUESTAS'!AO27,Back!$M$17:$N$20,2,0)),\"-\")","v":"-"},{"$f":"+IFERROR((VLOOKUP('BASE DE RESPUESTAS'!AP27,Back!$M$17:$N$20,2,0)),\"-\")","v":"-"},{"$f":"+IFERROR((VLOOKUP('BASE DE RESPUESTAS'!AQ27,Back!$M$17:$N$20,2,0)),\"-\")","v":"-"},{"$f":"+IFERROR((VLOOKUP('BASE DE RESPUESTAS'!AR27,Back!$M$17:$N$20,2,0)),\"-\")","v":"-"},{"$f":"+IFERROR((VLOOKUP('BASE DE RESPUESTAS'!AS27,Back!$M$17:$N$20,2,0)),\"-\")","v":"-"},{"$f":"+IFERROR((VLOOKUP('BASE DE RESPUESTAS'!AT27,Back!$M$17:$N$20,2,0)),\"-\")","v":"-"},{"$f":"+IFERROR((VLOOKUP('BASE DE RESPUESTAS'!AU27,Back!$M$17:$N$20,2,0)),\"-\")","v":"-"},{"$f":"+IFERROR((VLOOKUP('BASE DE RESPUESTAS'!AV27,Back!$M$17:$N$20,2,0)),\"-\")","v":"-"},{"$f":"+IFERROR((VLOOKUP('BASE DE RESPUESTAS'!AW27,Back!$M$17:$N$20,2,0)),\"-\")","v":"-"},{"$f":"+IFERROR((VLOOKUP('BASE DE RESPUESTAS'!AX27,Back!$M$17:$N$20,2,0)),\"-\")","v":"-"},{"$f":"+IFERROR((VLOOKUP('BASE DE RESPUESTAS'!AY27,Back!$M$17:$N$20,2,0)),\"-\")","v":"-"},{"$f":"+IFERROR((VLOOKUP('BASE DE RESPUESTAS'!AZ27,Back!$M$17:$N$20,2,0)),\"-\")","v":"-"},{"$f":"+IFERROR((VLOOKUP('BASE DE RESPUESTAS'!BA27,Back!$M$17:$N$20,2,0)),\"-\")","v":"-"},{"$f":"+IFERROR((VLOOKUP('BASE DE RESPUESTAS'!BB27,Back!$M$17:$N$20,2,0)),\"-\")","v":"-"},{"$f":"+IFERROR((VLOOKUP('BASE DE RESPUESTAS'!BC27,Back!$M$17:$N$20,2,0)),\"-\")","v":"-"},{"$f":"+IFERROR((VLOOKUP('BASE DE RESPUESTAS'!BD27,Back!$M$17:$N$20,2,0)),\"-\")","v":"-"},{"$f":"+IFERROR((VLOOKUP('BASE DE RESPUESTAS'!BE27,Back!$M$17:$N$20,2,0)),\"-\")","v":"-"}]
[null,"HSE","Trabajo en Equipo","La niña o el niño se integra con agrado en las actividades grupales.",null,"-",null,{"$f":"+IFERROR(AVERAGE(Espejo!H27:H28),\"-\")","v":"-"},{"$f":"+IFERROR(AVERAGE(Espejo!I27:I28),\"-\")","v":"-"},{"$f":"+IFERROR(AVERAGE(Espejo!J27:J28),\"-\")","v":"-"},{"$f":"+IFERROR(AVERAGE(Espejo!K27:K28),\"-\")","v":"-"},{"$f":"+IFERROR(AVERAGE(Espejo!L27:L28),\"-\")","v":"-"},{"$f":"+IFERROR(AVERAGE(Espejo!M27:M28),\"-\")","v":"-"},{"$f":"+IFERROR(AVERAGE(Espejo!N27:N28),\"-\")","v":"-"},{"$f":"+IFERROR(AVERAGE(Espejo!O27:O28),\"-\")","v":"-"},{"$f":"+IFERROR(AVERAGE(Espejo!P27:P28),\"-\")","v":"-"},{"$f":"+IFERROR(AVERAGE(Espejo!Q27:Q28),\"-\")","v":"-"},{"$f":"+IFERROR(AVERAGE(Espejo!R27:R28),\"-\")","v":"-"},{"$f":"+IFERROR(AVERAGE(Espejo!S27:S28),\"-\")","v":"-"},{"$f":"+IFERROR(AVERAGE(Espejo!T27:T28),\"-\")","v":"-"},{"$f":"+IFERROR(AVERAGE(Espejo!U27:U28),\"-\")","v":"-"},{"$f":"+IFERROR(AVERAGE(Espejo!V27:V28),\"-\")","v":"-"},{"$f":"+IFERROR(AVERAGE(Espejo!W27:W28),\"-\")","v":"-"},{"$f":"+IFERROR(AVERAGE(Espejo!X27:X28),\"-\")","v":"-"},{"$f":"+IFERROR(AVERAGE(Espejo!Y27:Y28),\"-\")","v":"-"},{"$f":"+IFERROR(AVERAGE(Espejo!Z27:Z28),\"-\")","v":"-"},{"$f":"+IFERROR(AVERAGE(Espejo!AA27:AA28),\"-\")","v":"-"},{"$f":"+IFERROR(AVERAGE(Espejo!AB27:AB28),\"-\")","v":"-"},{"$f":"+IFERROR(AVERAGE(Espejo!AC27:AC28),\"-\")","v":"-"},{"$f":"+IFERROR(AVERAGE(Espejo!AD27:AD28),\"-\")","v":"-"},{"$f":"+IFERROR(AVERAGE(Espejo!AE27:AE28),\"-\")","v":"-"},{"$f":"+IFERROR(AVERAGE(Espejo!AF27:AF28),\"-\")","v":"-"},{"$f":"+IFERROR(AVERAGE(Espejo!AG27:AG28),\"-\")","v":"-"},{"$f":"+IFERROR(AVERAGE(Espejo!AH27:AH28),\"-\")","v":"-"},{"$f":"+IFERROR(AVERAGE(Espejo!AI27:AI28),\"-\")","v":"-"},{"$f":"+IFERROR(AVERAGE(Espejo!AJ27:AJ28),\"-\")","v":"-"},{"$f":"+IFERROR(AVERAGE(Espejo!AK27:AK28),\"-\")","v":"-"},{"$f":"+IFERROR(AVERAGE(Espejo!AL27:AL28),\"-\")","v":"-"},{"$f":"+IFERROR(AVERAGE(Espejo!AM27:AM28),\"-\")","v":"-"},{"$f":"+IFERROR(AVERAGE(Espejo!AN27:AN28),\"-\")","v":"-"},{"$f":"+IFERROR(AVERAGE(Espejo!AO27:AO28),\"-\")","v":"-"},{"$f":"+IFERROR(AVERAGE(Espejo!AP27:AP28),\"-\")","v":"-"},{"$f":"+IFERROR(AVERAGE(Espejo!AQ27:AQ28),\"-\")","v":"-"},{"$f":"+IFERROR(AVERAGE(Espejo!AR27:AR28),\"-\")","v":"-"},{"$f":"+IFERROR(AVERAGE(Espejo!AS27:AS28),\"-\")","v":"-"},{"$f":"+IFERROR(AVERAGE(Espejo!AT27:AT28),\"-\")","v":"-"},{"$f":"+IFERROR(AVERAGE(Espejo!AU27:AU28),\"-\")","v":"-"},{"$f":"+IFERROR(AVERAGE(Espejo!AV27:AV28),\"-\")","v":"-"},{"$f":"+IFERROR(AVERAGE(Espejo!AW27:AW28),\"-\")","v":"-"},{"$f":"+IFERROR(AVERAGE(Espejo!AX27:AX28),\"-\")","v":"-"},{"$f":"+IFERROR(AVERAGE(Espejo!AY27:AY28),\"-\")","v":"-"},{"$f":"+IFERROR(AVERAGE(Espejo!AZ27:AZ28),\"-\")","v":"-"},{"$f":"+IFERROR(AVERAGE(Espejo!BA27:BA28),\"-\")","v":"-"},{"$f":"+IFERROR(AVERAGE(Espejo!BB27:BB28),\"-\")","v":"-"},{"$f":"+IFERROR(AVERAGE(Espejo!BC27:BC28),\"-\")","v":"-"},{"$f":"+IFERROR(AVERAGE(Espejo!BD27:BD28),\"-\")","v":"-"},{"$f":"+IFERROR(AVERAGE(Espejo!BE27:BE28),\"-\")","v":"-"}]
[null,"HSE","Empatía","La niña o el niño nombra las emociones de sus compañeras/os.",null,"-",null,{"$f":"+IFERROR((VLOOKUP('BASE DE RESPUESTAS'!H30,Back!$M$17:$N$20,2,0)),\"-\")","v":"-"},{"$f":"+IFERROR((VLOOKUP('BASE DE RESPUESTAS'!I30,Back!$M$17:$N$20,2,0)),\"-\")","v":"-"},{"$f":"+IFERROR((VLOOKUP('BASE DE RESPUESTAS'!J30,Back!$M$17:$N$20,2,0)),\"-\")","v":"-"},{"$f":"+IFERROR((VLOOKUP('BASE DE RESPUESTAS'!K30,Back!$M$17:$N$20,2,0)),\"-\")","v":"-"},{"$f":"+IFERROR((VLOOKUP('BASE DE RESPUESTAS'!L30,Back!$M$17:$N$20,2,0)),\"-\")","v":"-"},{"$f":"+IFERROR((VLOOKUP('BASE DE RESPUESTAS'!M30,Back!$M$17:$N$20,2,0)),\"-\")","v":"-"},{"$f":"+IFERROR((VLOOKUP('BASE DE RESPUESTAS'!N30,Back!$M$17:$N$20,2,0)),\"-\")","v":"-"},{"$f":"+IFERROR((VLOOKUP('BASE DE RESPUESTAS'!O30,Back!$M$17:$N$20,2,0)),\"-\")","v":"-"},{"$f":"+IFERROR((VLOOKUP('BASE DE RESPUESTAS'!P30,Back!$M$17:$N$20,2,0)),\"-\")","v":"-"},{"$f":"+IFERROR((VLOOKUP('BASE DE RESPUESTAS'!Q30,Back!$M$17:$N$20,2,0)),\"-\")","v":"-"},{"$f":"+IFERROR((VLOOKUP('BASE DE RESPUESTAS'!R30,Back!$M$17:$N$20,2,0)),\"-\")","v":"-"},{"$f":"+IFERROR((VLOOKUP('BASE DE RESPUESTAS'!S30,Back!$M$17:$N$20,2,0)),\"-\")","v":"-"},{"$f":"+IFERROR((VLOOKUP('BASE DE RESPUESTAS'!T30,Back!$M$17:$N$20,2,0)),\"-\")","v":"-"},{"$f":"+IFERROR((VLOOKUP('BASE DE RESPUESTAS'!U30,Back!$M$17:$N$20,2,0)),\"-\")","v":"-"},{"$f":"+IFERROR((VLOOKUP('BASE DE RESPUESTAS'!V30,Back!$M$17:$N$20,2,0)),\"-\")","v":"-"},{"$f":"+IFERROR((VLOOKUP('BASE DE RESPUESTAS'!W30,Back!$M$17:$N$20,2,0)),\"-\")","v":"-"},{"$f":"+IFERROR((VLOOKUP('BASE DE RESPUESTAS'!X30,Back!$M$17:$N$20,2,0)),\"-\")","v":"-"},{"$f":"+IFERROR((VLOOKUP('BASE DE RESPUESTAS'!Y30,Back!$M$17:$N$20,2,0)),\"-\")","v":"-"},{"$f":"+IFERROR((VLOOKUP('BASE DE RESPUESTAS'!Z30,Back!$M$17:$N$20,2,0)),\"-\")","v":"-"},{"$f":"+IFERROR((VLOOKUP('BASE DE RESPUESTAS'!AA30,Back!$M$17:$N$20,2,0)),\"-\")","v":"-"},{"$f":"+IFERROR((VLOOKUP('BASE DE RESPUESTAS'!AB30,Back!$M$17:$N$20,2,0)),\"-\")","v":"-"},{"$f":"+IFERROR((VLOOKUP('BASE DE RESPUESTAS'!AC30,Back!$M$17:$N$20,2,0)),\"-\")","v":"-"},{"$f":"+IFERROR((VLOOKUP('BASE DE RESPUESTAS'!AD30,Back!$M$17:$N$20,2,0)),\"-\")","v":"-"},{"$f":"+IFERROR((VLOOKUP('BASE DE RESPUESTAS'!AE30,Back!$M$17:$N$20,2,0)),\"-\")","v":"-"},{"$f":"+IFERROR((VLOOKUP('BASE DE RESPUESTAS'!AF30,Back!$M$17:$N$20,2,0)),\"-\")","v":"-"},{"$f":"+IFERROR((VLOOKUP('BASE DE RESPUESTAS'!AG30,Back!$M$17:$N$20,2,0)),\"-\")","v":"-"},{"$f":"+IFERROR((VLOOKUP('BASE DE RESPUESTAS'!AH30,Back!$M$17:$N$20,2,0)),\"-\")","v":"-"},{"$f":"+IFERROR((VLOOKUP('BASE DE RESPUESTAS'!AI30,Back!$M$17:$N$20,2,0)),\"-\")","v":"-"},{"$f":"+IFERROR((VLOOKUP('BASE DE RESPUESTAS'!AJ30,Back!$M$17:$N$20,2,0)),\"-\")","v":"-"},{"$f":"+IFERROR((VLOOKUP('BASE DE RESPUESTAS'!AK30,Back!$M$17:$N$20,2,0)),\"-\")","v":"-"},{"$f":"+IFERROR((VLOOKUP('BASE DE RESPUESTAS'!AL30,Back!$M$17:$N$20,2,0)),\"-\")","v":"-"},{"$f":"+IFERROR((VLOOKUP('BASE DE RESPUESTAS'!AM30,Back!$M$17:$N$20,2,0)),\"-\")","v":"-"},{"$f":"+IFERROR((VLOOKUP('BASE DE RESPUESTAS'!AN30,Back!$M$17:$N$20,2,0)),\"-\")","v":"-"},{"$f":"+IFERROR((VLOOKUP('BASE DE RESPUESTAS'!AO30,Back!$M$17:$N$20,2,0)),\"-\")","v":"-"},{"$f":"+IFERROR((VLOOKUP('BASE DE RESPUESTAS'!AP30,Back!$M$17:$N$20,2,0)),\"-\")","v":"-"},{"$f":"+IFERROR((VLOOKUP('BASE DE RESPUESTAS'!AQ30,Back!$M$17:$N$20,2,0)),\"-\")","v":"-"},{"$f":"+IFERROR((VLOOKUP('BASE DE RESPUESTAS'!AR30,Back!$M$17:$N$20,2,0)),\"-\")","v":"-"},{"$f":"+IFERROR((VLOOKUP('BASE DE RESPUESTAS'!AS30,Back!$M$17:$N$20,2,0)),\"-\")","v":"-"},{"$f":"+IFERROR((VLOOKUP('BASE DE RESPUESTAS'!AT30,Back!$M$17:$N$20,2,0)),\"-\")","v":"-"},{"$f":"+IFERROR((VLOOKUP('BASE DE RESPUESTAS'!AU30,Back!$M$17:$N$20,2,0)),\"-\")","v":"-"},{"$f":"+IFERROR((VLOOKUP('BASE DE RESPUESTAS'!AV30,Back!$M$17:$N$20,2,0)),\"-\")","v":"-"},{"$f":"+IFERROR((VLOOKUP('BASE DE RESPUESTAS'!AW30,Back!$M$17:$N$20,2,0)),\"-\")","v":"-"},{"$f":"+IFERROR((VLOOKUP('BASE DE RESPUESTAS'!AX30,Back!$M$17:$N$20,2,0)),\"-\")","v":"-"},{"$f":"+IFERROR((VLOOKUP('BASE DE RESPUESTAS'!AY30,Back!$M$17:$N$20,2,0)),\"-\")","v":"-"},{"$f":"+IFERROR((VLOOKUP('BASE DE RESPUESTAS'!AZ30,Back!$M$17:$N$20,2,0)),\"-\")","v":"-"},{"$f":"+IFERROR((VLOOKUP('BASE DE RESPUESTAS'!BA30,Back!$M$17:$N$20,2,0)),\"-\")","v":"-"},{"$f":"+IFERROR((VLOOKUP('BASE DE RESPUESTAS'!BB30,Back!$M$17:$N$20,2,0)),\"-\")","v":"-"},{"$f":"+IFERROR((VLOOKUP('BASE DE RESPUESTAS'!BC30,Back!$M$17:$N$20,2,0)),\"-\")","v":"-"},{"$f":"+IFERROR((VLOOKUP('BASE DE RESPUESTAS'!BD30,Back!$M$17:$N$20,2,0)),\"-\")","v":"-"},{"$f":"+IFERROR((VLOOKUP('BASE DE RESPUESTAS'!BE30,Back!$M$17:$N$20,2,0)),\"-\")","v":"-"}]
[null,"HSE",null,"La niña o el niño se muestra solidario ante las necesidades de sus compañeros/as.",null,"-",null,{"$f":"+IFERROR((VLOOKUP('BASE DE RESPUESTAS'!H31,Back!$M$17:$N$20,2,0)),\"-\")","v":"-"},{"$f":"+IFERROR((VLOOKUP('BASE DE RESPUESTAS'!I31,Back!$M$17:$N$20,2,0)),\"-\")","v":"-"},{"$f":"+IFERROR((VLOOKUP('BASE DE RESPUESTAS'!J31,Back!$M$17:$N$20,2,0)),\"-\")","v":"-"},{"$f":"+IFERROR((VLOOKUP('BASE DE RESPUESTAS'!K31,Back!$M$17:$N$20,2,0)),\"-\")","v":"-"},{"$f":"+IFERROR((VLOOKUP('BASE DE RESPUESTAS'!L31,Back!$M$17:$N$20,2,0)),\"-\")","v":"-"},{"$f":"+IFERROR((VLOOKUP('BASE DE RESPUESTAS'!M31,Back!$M$17:$N$20,2,0)),\"-\")","v":"-"},{"$f":"+IFERROR((VLOOKUP('BASE DE RESPUESTAS'!N31,Back!$M$17:$N$20,2,0)),\"-\")","v":"-"},{"$f":"+IFERROR((VLOOKUP('BASE DE RESPUESTAS'!O31,Back!$M$17:$N$20,2,0)),\"-\")","v":"-"},{"$f":"+IFERROR((VLOOKUP('BASE DE RESPUESTAS'!P31,Back!$M$17:$N$20,2,0)),\"-\")","v":"-"},{"$f":"+IFERROR((VLOOKUP('BASE DE RESPUESTAS'!Q31,Back!$M$17:$N$20,2,0)),\"-\")","v":"-"},{"$f":"+IFERROR((VLOOKUP('BASE DE RESPUESTAS'!R31,Back!$M$17:$N$20,2,0)),\"-\")","v":"-"},{"$f":"+IFERROR((VLOOKUP('BASE DE RESPUESTAS'!S31,Back!$M$17:$N$20,2,0)),\"-\")","v":"-"},{"$f":"+IFERROR((VLOOKUP('BASE DE RESPUESTAS'!T31,Back!$M$17:$N$20,2,0)),\"-\")","v":"-"},{"$f":"+IFERROR((VLOOKUP('BASE DE RESPUESTAS'!U31,Back!$M$17:$N$20,2,0)),\"-\")","v":"-"},{"$f":"+IFERROR((VLOOKUP('BASE DE RESPUESTAS'!V31,Back!$M$17:$N$20,2,0)),\"-\")","v":"-"},{"$f":"+IFERROR((VLOOKUP('BASE DE RESPUESTAS'!W31,Back!$M$17:$N$20,2,0)),\"-\")","v":"-"},{"$f":"+IFERROR((VLOOKUP('BASE DE RESPUESTAS'!X31,Back!$M$17:$N$20,2,0)),\"-\")","v":"-"},{"$f":"+IFERROR((VLOOKUP('BASE DE RESPUESTAS'!Y31,Back!$M$17:$N$20,2,0)),\"-\")","v":"-"},{"$f":"+IFERROR((VLOOKUP('BASE DE RESPUESTAS'!Z31,Back!$M$17:$N$20,2,0)),\"-\")","v":"-"},{"$f":"+IFERROR((VLOOKUP('BASE DE RESPUESTAS'!AA31,Back!$M$17:$N$20,2,0)),\"-\")","v":"-"},{"$f":"+IFERROR((VLOOKUP('BASE DE RESPUESTAS'!AB31,Back!$M$17:$N$20,2,0)),\"-\")","v":"-"},{"$f":"+IFERROR((VLOOKUP('BASE DE RESPUESTAS'!AC31,Back!$M$17:$N$20,2,0)),\"-\")","v":"-"},{"$f":"+IFERROR((VLOOKUP('BASE DE RESPUESTAS'!AD31,Back!$M$17:$N$20,2,0)),\"-\")","v":"-"},{"$f":"+IFERROR((VLOOKUP('BASE DE RESPUESTAS'!AE31,Back!$M$17:$N$20,2,0)),\"-\")","v":"-"},{"$f":"+IFERROR((VLOOKUP('BASE DE RESPUESTAS'!AF31,Back!$M$17:$N$20,2,0)),\"-\")","v":"-"},{"$f":"+IFERROR((VLOOKUP('BASE DE RESPUESTAS'!AG31,Back!$M$17:$N$20,2,0)),\"-\")","v":"-"},{"$f":"+IFERROR((VLOOKUP('BASE DE RESPUESTAS'!AH31,Back!$M$17:$N$20,2,0)),\"-\")","v":"-"},{"$f":"+IFERROR((VLOOKUP('BASE DE RESPUESTAS'!AI31,Back!$M$17:$N$20,2,0)),\"-\")","v":"-"},{"$f":"+IFERROR((VLOOKUP('BASE DE RESPUESTAS'!AJ31,Back!$M$17:$N$20,2,0)),\"-\")","v":"-"},{"$f":"+IFERROR((VLOOKUP('BASE DE RESPUESTAS'!AK31,Back!$M$17:$N$20,2,0)),\"-\")","v":"-"},{"$f":"+IFERROR((VLOOKUP('BASE DE RESPUESTAS'!AL31,Back!$M$17:$N$20,2,0)),\"-\")","v":"-"},{"$f":"+IFERROR((VLOOKUP('BASE DE RESPUESTAS'!AM31,Back!$M$17:$N$20,2,0)),\"-\")","v":"-"},{"$f":"+IFERROR((VLOOKUP('BASE DE RESPUESTAS'!AN31,Back!$M$17:$N$20,2,0)),\"-\")","v":"-"},{"$f":"+IFERROR((VLOOKUP('BASE DE RESPUESTAS'!AO31,Back!$M$17:$N$20,2,0)),\"-\")","v":"-"},{"$f":"+IFERROR((VLOOKUP('BASE DE RESPUESTAS'!AP31,Back!$M$17:$N$20,2,0)),\"-\")","v":"-"},{"$f":"+IFERROR((VLOOKUP('BASE DE RESPUESTAS'!AQ31,Back!$M$17:$N$20,2,0)),\"-\")","v":"-"},{"$f":"+IFERROR((VLOOKUP('BASE DE RESPUESTAS'!AR31,Back!$M$17:$N$20,2,0)),\"-\")","v":"-"},{"$f":"+IFERROR((VLOOKUP('BASE DE RESPUESTAS'!AS31,Back!$M$17:$N$20,2,0)),\"-\")","v":"-"},{"$f":"+IFERROR((VLOOKUP('BASE DE RESPUESTAS'!AT31,Back!$M$17:$N$20,2,0)),\"-\")","v":"-"},{"$f":"+IFERROR((VLOOKUP('BASE DE RESPUESTAS'!AU31,Back!$M$17:$N$20,2,0)),\"-\")","v":"-"},{"$f":"+IFERROR((VLOOKUP('BASE DE RESPUESTAS'!AV31,Back!$M$17:$N$20,2,0)),\"-\")","v":"-"},{"$f":"+IFERROR((VLOOKUP('BASE DE RESPUESTAS'!AW31,Back!$M$17:$N$20,2,0)),\"-\")","v":"-"},{"$f":"+IFERROR((VLOOKUP('BASE DE RESPUESTAS'!AX31,Back!$M$17:$N$20,2,0)),\"-\")","v":"-"},{"$f":"+IFERROR((VLOOKUP('BASE DE RESPUESTAS'!AY31,Back!$M$17:$N$20,2,0)),\"-\")","v":"-"},{"$f":"+IFERROR((VLOOKUP('BASE DE RESPUESTAS'!AZ31,Back!$M$17:$N$20,2,0)),\"-\")","v":"-"},{"$f":"+IFERROR((VLOOKUP('BASE DE RESPUESTAS'!BA31,Back!$M$17:$N$20,2,0)),\"-\")","v":"-"},{"$f":"+IFERROR((VLOOKUP('BASE DE RESPUESTAS'!BB31,Back!$M$17:$N$20,2,0)),\"-\")","v":"-"},{"$f":"+IFERROR((VLOOKUP('BASE DE RESPUESTAS'!BC31,Back!$M$17:$N$20,2,0)),\"-\")","v":"-"},{"$f":"+IFERROR((VLOOKUP('BASE DE RESPUESTAS'!BD31,Back!$M$17:$N$20,2,0)),\"-\")","v":"-"},{"$f":"+IFERROR((VLOOKUP('BASE DE RESPUESTAS'!BE31,Back!$M$17:$N$20,2,0)),\"-\")","v":"-"}]
[null,"HSE","Resolución de Conflictos","La niña o el niño busca solucionar los problemas con sus compañeros/as (ya sea por él/ella mismo/a o buscando a una persona adulta).",null,"-",null,{"$f":"+IFERROR((VLOOKUP('BASE DE RESPUESTAS'!H32,Back!$M$17:$N$20,2,0)),\"-\")","v":"-"},{"$f":"+IFERROR((VLOOKUP('BASE DE RESPUESTAS'!I32,Back!$M$17:$N$20,2,0)),\"-\")","v":"-"},{"$f":"+IFERROR((VLOOKUP('BASE DE RESPUESTAS'!J32,Back!$M$17:$N$20,2,0)),\"-\")","v":"-"},{"$f":"+IFERROR((VLOOKUP('BASE DE RESPUESTAS'!K32,Back!$M$17:$N$20,2,0)),\"-\")","v":"-"},{"$f":"+IFERROR((VLOOKUP('BASE DE RESPUESTAS'!L32,Back!$M$17:$N$20,2,0)),\"-\")","v":"-"},{"$f":"+IFERROR((VLOOKUP('BASE DE RESPUESTAS'!M32,Back!$M$17:$N$20,2,0)),\"-\")","v":"-"},{"$f":"+IFERROR((VLOOKUP('BASE DE RESPUESTAS'!N32,Back!$M$17:$N$20,2,0)),\"-\")","v":"-"},{"$f":"+IFERROR((VLOOKUP('BASE DE RESPUESTAS'!O32,Back!$M$17:$N$20,2,0)),\"-\")","v":"-"},{"$f":"+IFERROR((VLOOKUP('BASE DE RESPUESTAS'!P32,Back!$M$17:$N$20,2,0)),\"-\")","v":"-"},{"$f":"+IFERROR((VLOOKUP('BASE DE RESPUESTAS'!Q32,Back!$M$17:$N$20,2,0)),\"-\")","v":"-"},{"$f":"+IFERROR((VLOOKUP('BASE DE RESPUESTAS'!R32,Back!$M$17:$N$20,2,0)),\"-\")","v":"-"},{"$f":"+IFERROR((VLOOKUP('BASE DE RESPUESTAS'!S32,Back!$M$17:$N$20,2,0)),\"-\")","v":"-"},{"$f":"+IFERROR((VLOOKUP('BASE DE RESPUESTAS'!T32,Back!$M$17:$N$20,2,0)),\"-\")","v":"-"},{"$f":"+IFERROR((VLOOKUP('BASE DE RESPUESTAS'!U32,Back!$M$17:$N$20,2,0)),\"-\")","v":"-"},{"$f":"+IFERROR((VLOOKUP('BASE DE RESPUESTAS'!V32,Back!$M$17:$N$20,2,0)),\"-\")","v":"-"},{"$f":"+IFERROR((VLOOKUP('BASE DE RESPUESTAS'!W32,Back!$M$17:$N$20,2,0)),\"-\")","v":"-"},{"$f":"+IFERROR((VLOOKUP('BASE DE RESPUESTAS'!X32,Back!$M$17:$N$20,2,0)),\"-\")","v":"-"},{"$f":"+IFERROR((VLOOKUP('BASE DE RESPUESTAS'!Y32,Back!$M$17:$N$20,2,0)),\"-\")","v":"-"},{"$f":"+IFERROR((VLOOKUP('BASE DE RESPUESTAS'!Z32,Back!$M$17:$N$20,2,0)),\"-\")","v":"-"},{"$f":"+IFERROR((VLOOKUP('BASE DE RESPUESTAS'!AA32,Back!$M$17:$N$20,2,0)),\"-\")","v":"-"},{"$f":"+IFERROR((VLOOKUP('BASE DE RESPUESTAS'!AB32,Back!$M$17:$N$20,2,0)),\"-\")","v":"-"},{"$f":"+IFERROR((VLOOKUP('BASE DE RESPUESTAS'!AC32,Back!$M$17:$N$20,2,0)),\"-\")","v":"-"},{"$f":"+IFERROR((VLOOKUP('BASE DE RESPUESTAS'!AD32,Back!$M$17:$N$20,2,0)),\"-\")","v":"-"},{"$f":"+IFERROR((VLOOKUP('BASE DE RESPUESTAS'!AE32,Back!$M$17:$N$20,2,0)),\"-\")","v":"-"},{"$f":"+IFERROR((VLOOKUP('BASE DE RESPUESTAS'!AF32,Back!$M$17:$N$20,2,0)),\"-\")","v":"-"},{"$f":"+IFERROR((VLOOKUP('BASE DE RESPUESTAS'!AG32,Back!$M$17:$N$20,2,0)),\"-\")","v":"-"},{"$f":"+IFERROR((VLOOKUP('BASE DE RESPUESTAS'!AH32,Back!$M$17:$N$20,2,0)),\"-\")","v":"-"},{"$f":"+IFERROR((VLOOKUP('BASE DE RESPUESTAS'!AI32,Back!$M$17:$N$20,2,0)),\"-\")","v":"-"},{"$f":"+IFERROR((VLOOKUP('BASE DE RESPUESTAS'!AJ32,Back!$M$17:$N$20,2,0)),\"-\")","v":"-"},{"$f":"+IFERROR((VLOOKUP('BASE DE RESPUESTAS'!AK32,Back!$M$17:$N$20,2,0)),\"-\")","v":"-"},{"$f":"+IFERROR((VLOOKUP('BASE DE RESPUESTAS'!AL32,Back!$M$17:$N$20,2,0)),\"-\")","v":"-"},{"$f":"+IFERROR((VLOOKUP('BASE DE RESPUESTAS'!AM32,Back!$M$17:$N$20,2,0)),\"-\")","v":"-"},{"$f":"+IFERROR((VLOOKUP('BASE DE RESPUESTAS'!AN32,Back!$M$17:$N$20,2,0)),\"-\")","v":"-"},{"$f":"+IFERROR((VLOOKUP('BASE DE RESPUESTAS'!AO32,Back!$M$17:$N$20,2,0)),\"-\")","v":"-"},{"$f":"+IFERROR((VLOOKUP('BASE DE RESPUESTAS'!AP32,Back!$M$17:$N$20,2,0)),\"-\")","v":"-"},{"$f":"+IFERROR((VLOOKUP('BASE DE RESPUESTAS'!AQ32,Back!$M$17:$N$20,2,0)),\"-\")","v":"-"},{"$f":"+IFERROR((VLOOKUP('BASE DE RESPUESTAS'!AR32,Back!$M$17:$N$20,2,0)),\"-\")","v":"-"},{"$f":"+IFERROR((VLOOKUP('BASE DE RESPUESTAS'!AS32,Back!$M$17:$N$20,2,0)),\"-\")","v":"-"},{"$f":"+IFERROR((VLOOKUP('BASE DE RESPUESTAS'!AT32,Back!$M$17:$N$20,2,0)),\"-\")","v":"-"},{"$f":"+IFERROR((VLOOKUP('BASE DE RESPUESTAS'!AU32,Back!$M$17:$N$20,2,0)),\"-\")","v":"-"},{"$f":"+IFERROR((VLOOKUP('BASE DE RESPUESTAS'!AV32,Back!$M$17:$N$20,2,0)),\"-\")","v":"-"},{"$f":"+IFERROR((VLOOKUP('BASE DE RESPUESTAS'!AW32,Back!$M$17:$N$20,2,0)),\"-\")","v":"-"},{"$f":"+IFERROR((VLOOKUP('BASE DE RESPUESTAS'!AX32,Back!$M$17:$N$20,2,0)),\"-\")","v":"-"},{"$f":"+IFERROR((VLOOKUP('BASE DE RESPUESTAS'!AY32,Back!$M$17:$N$20,2,0)),\"-\")","v":"-"},{"$f":"+IFERROR((VLOOKUP('BASE DE RESPUESTAS'!AZ32,Back!$M$17:$N$20,2,0)),\"-\")","v":"-"},{"$f":"+IFERROR((VLOOKUP('BASE DE RESPUESTAS'!BA32,Back!$M$17:$N$20,2,0)),\"-\")","v":"-"},{"$f":"+IFERROR((VLOOKUP('BASE DE RESPUESTAS'!BB32,Back!$M$17:$N$20,2,0)),\"-\")","v":"-"},{"$f":"+IFERROR((VLOOKUP('BASE DE RESPUESTAS'!BC32,Back!$M$17:$N$20,2,0)),\"-\")","v":"-"},{"$f":"+IFERROR((VLOOKUP('BASE DE RESPUESTAS'!BD32,Back!$M$17:$N$20,2,0)),\"-\")","v":"-"},{"$f":"+IFERROR((VLOOKUP('BASE DE RESPUESTAS'!BE32,Back!$M$17:$N$20,2,0)),\"-\")","v":"-"}]
[null,"HSE","Conciencia Social","La niña o el niño identifica los oficios y/o profesiones de las personas en los grupos sociales.",null,"-",null,{"$f":"+IFERROR((VLOOKUP('BASE DE RESPUESTAS'!H33,Back!$M$17:$N$20,2,0)),\"-\")","v":"-"},{"$f":"+IFERROR((VLOOKUP('BASE DE RESPUESTAS'!I33,Back!$M$17:$N$20,2,0)),\"-\")","v":"-"},{"$f":"+IFERROR((VLOOKUP('BASE DE RESPUESTAS'!J33,Back!$M$17:$N$20,2,0)),\"-\")","v":"-"},{"$f":"+IFERROR((VLOOKUP('BASE DE RESPUESTAS'!K33,Back!$M$17:$N$20,2,0)),\"-\")","v":"-"},{"$f":"+IFERROR((VLOOKUP('BASE DE RESPUESTAS'!L33,Back!$M$17:$N$20,2,0)),\"-\")","v":"-"},{"$f":"+IFERROR((VLOOKUP('BASE DE RESPUESTAS'!M33,Back!$M$17:$N$20,2,0)),\"-\")","v":"-"},{"$f":"+IFERROR((VLOOKUP('BASE DE RESPUESTAS'!N33,Back!$M$17:$N$20,2,0)),\"-\")","v":"-"},{"$f":"+IFERROR((VLOOKUP('BASE DE RESPUESTAS'!O33,Back!$M$17:$N$20,2,0)),\"-\")","v":"-"},{"$f":"+IFERROR((VLOOKUP('BASE DE RESPUESTAS'!P33,Back!$M$17:$N$20,2,0)),\"-\")","v":"-"},{"$f":"+IFERROR((VLOOKUP('BASE DE RESPUESTAS'!Q33,Back!$M$17:$N$20,2,0)),\"-\")","v":"-"},{"$f":"+IFERROR((VLOOKUP('BASE DE RESPUESTAS'!R33,Back!$M$17:$N$20,2,0)),\"-\")","v":"-"},{"$f":"+IFERROR((VLOOKUP('BASE DE RESPUESTAS'!S33,Back!$M$17:$N$20,2,0)),\"-\")","v":"-"},{"$f":"+IFERROR((VLOOKUP('BASE DE RESPUESTAS'!T33,Back!$M$17:$N$20,2,0)),\"-\")","v":"-"},{"$f":"+IFERROR((VLOOKUP('BASE DE RESPUESTAS'!U33,Back!$M$17:$N$20,2,0)),\"-\")","v":"-"},{"$f":"+IFERROR((VLOOKUP('BASE DE RESPUESTAS'!V33,Back!$M$17:$N$20,2,0)),\"-\")","v":"-"},{"$f":"+IFERROR((VLOOKUP('BASE DE RESPUESTAS'!W33,Back!$M$17:$N$20,2,0)),\"-\")","v":"-"},{"$f":"+IFERROR((VLOOKUP('BASE DE RESPUESTAS'!X33,Back!$M$17:$N$20,2,0)),\"-\")","v":"-"},{"$f":"+IFERROR((VLOOKUP('BASE DE RESPUESTAS'!Y33,Back!$M$17:$N$20,2,0)),\"-\")","v":"-"},{"$f":"+IFERROR((VLOOKUP('BASE DE RESPUESTAS'!Z33,Back!$M$17:$N$20,2,0)),\"-\")","v":"-"},{"$f":"+IFERROR((VLOOKUP('BASE DE RESPUESTAS'!AA33,Back!$M$17:$N$20,2,0)),\"-\")","v":"-"},{"$f":"+IFERROR((VLOOKUP('BASE DE RESPUESTAS'!AB33,Back!$M$17:$N$20,2,0)),\"-\")","v":"-"},{"$f":"+IFERROR((VLOOKUP('BASE DE RESPUESTAS'!AC33,Back!$M$17:$N$20,2,0)),\"-\")","v":"-"},{"$f":"+IFERROR((VLOOKUP('BASE DE RESPUESTAS'!AD33,Back!$M$17:$N$20,2,0)),\"-\")","v":"-"},{"$f":"+IFERROR((VLOOKUP('BASE DE RESPUESTAS'!AE33,Back!$M$17:$N$20,2,0)),\"-\")","v":"-"},{"$f":"+IFERROR((VLOOKUP('BASE DE RESPUESTAS'!AF33,Back!$M$17:$N$20,2,0)),\"-\")","v":"-"},{"$f":"+IFERROR((VLOOKUP('BASE DE RESPUESTAS'!AG33,Back!$M$17:$N$20,2,0)),\"-\")","v":"-"},{"$f":"+IFERROR((VLOOKUP('BASE DE RESPUESTAS'!AH33,Back!$M$17:$N$20,2,0)),\"-\")","v":"-"},{"$f":"+IFERROR((VLOOKUP('BASE DE RESPUESTAS'!AI33,Back!$M$17:$N$20,2,0)),\"-\")","v":"-"},{"$f":"+IFERROR((VLOOKUP('BASE DE RESPUESTAS'!AJ33,Back!$M$17:$N$20,2,0)),\"-\")","v":"-"},{"$f":"+IFERROR((VLOOKUP('BASE DE RESPUESTAS'!AK33,Back!$M$17:$N$20,2,0)),\"-\")","v":"-"},{"$f":"+IFERROR((VLOOKUP('BASE DE RESPUESTAS'!AL33,Back!$M$17:$N$20,2,0)),\"-\")","v":"-"},{"$f":"+IFERROR((VLOOKUP('BASE DE RESPUESTAS'!AM33,Back!$M$17:$N$20,2,0)),\"-\")","v":"-"},{"$f":"+IFERROR((VLOOKUP('BASE DE RESPUESTAS'!AN33,Back!$M$17:$N$20,2,0)),\"-\")","v":"-"},{"$f":"+IFERROR((VLOOKUP('BASE DE RESPUESTAS'!AO33,Back!$M$17:$N$20,2,0)),\"-\")","v":"-"},{"$f":"+IFERROR((VLOOKUP('BASE DE RESPUESTAS'!AP33,Back!$M$17:$N$20,2,0)),\"-\")","v":"-"},{"$f":"+IFERROR((VLOOKUP('BASE DE RESPUESTAS'!AQ33,Back!$M$17:$N$20,2,0)),\"-\")","v":"-"},{"$f":"+IFERROR((VLOOKUP('BASE DE RESPUESTAS'!AR33,Back!$M$17:$N$20,2,0)),\"-\")","v":"-"},{"$f":"+IFERROR((VLOOKUP('BASE DE RESPUESTAS'!AS33,Back!$M$17:$N$20,2,0)),\"-\")","v":"-"},{"$f":"+IFERROR((VLOOKUP('BASE DE RESPUESTAS'!AT33,Back!$M$17:$N$20,2,0)),\"-\")","v":"-"},{"$f":"+IFERROR((VLOOKUP('BASE DE RESPUESTAS'!AU33,Back!$M$17:$N$20,2,0)),\"-\")","v":"-"},{"$f":"+IFERROR((VLOOKUP('BASE DE RESPUESTAS'!AV33,Back!$M$17:$N$20,2,0)),\"-\")","v":"-"},{"$f":"+IFERROR((VLOOKUP('BASE DE RESPUESTAS'!AW33,Back!$M$17:$N$20,2,0)),\"-\")","v":"-"},{"$f":"+IFERROR((VLOOKUP('BASE DE RESPUESTAS'!AX33,Back!$M$17:$N$20,2,0)),\"-\")","v":"-"},{"$f":"+IFERROR((VLOOKUP('BASE DE RESPUESTAS'!AY33,Back!$M$17:$N$20,2,0)),\"-\")","v":"-"},{"$f":"+IFERROR((VLOOKUP('BASE DE RESPUESTAS'!AZ33,Back!$M$17:$N$20,2,0)),\"-\")","v":"-"},{"$f":"+IFERROR((VLOOKUP('BASE DE RESPUESTAS'!BA33,Back!$M$17:$N$20,2,0)),\"-\")","v":"-"},{"$f":"+IFERROR((VLOOKUP('BASE DE RESPUESTAS'!BB33,Back!$M$17:$N$20,2,0)),\"-\")","v":"-"},{"$f":"+IFERROR((VLOOKUP('BASE DE RESPUESTAS'!BC33,Back!$M$17:$N$20,2,0)),\"-\")","v":"-"},{"$f":"+IFERROR((VLOOKUP('BASE DE RESPUESTAS'!BD33,Back!$M$17:$N$20,2,0)),\"-\")","v":"-"},{"$f":"+IFERROR((VLOOKUP('BASE DE RESPUESTAS'!BE33,Back!$M$17:$N$20,2,0)),\"-\")","v":"-"}]
[null,"HSE","Comportamiento Prosocial","La niña o el niño  actúa pensando en el bien de los demás.",null,"-",null,{"$f":"+IFERROR((VLOOKUP('BASE DE RESPUESTAS'!H34,Back!$M$17:$N$20,2,0)),\"-\")","v":"-"},{"$f":"+IFERROR((VLOOKUP('BASE DE RESPUESTAS'!I34,Back!$M$17:$N$20,2,0)),\"-\")","v":"-"},{"$f":"+IFERROR((VLOOKUP('BASE DE RESPUESTAS'!J34,Back!$M$17:$N$20,2,0)),\"-\")","v":"-"},{"$f":"+IFERROR((VLOOKUP('BASE DE RESPUESTAS'!K34,Back!$M$17:$N$20,2,0)),\"-\")","v":"-"},{"$f":"+IFERROR((VLOOKUP('BASE DE RESPUESTAS'!L34,Back!$M$17:$N$20,2,0)),\"-\")","v":"-"},{"$f":"+IFERROR((VLOOKUP('BASE DE RESPUESTAS'!M34,Back!$M$17:$N$20,2,0)),\"-\")","v":"-"},{"$f":"+IFERROR((VLOOKUP('BASE DE RESPUESTAS'!N34,Back!$M$17:$N$20,2,0)),\"-\")","v":"-"},{"$f":"+IFERROR((VLOOKUP('BASE DE RESPUESTAS'!O34,Back!$M$17:$N$20,2,0)),\"-\")","v":"-"},{"$f":"+IFERROR((VLOOKUP('BASE DE RESPUESTAS'!P34,Back!$M$17:$N$20,2,0)),\"-\")","v":"-"},{"$f":"+IFERROR((VLOOKUP('BASE DE RESPUESTAS'!Q34,Back!$M$17:$N$20,2,0)),\"-\")","v":"-"},{"$f":"+IFERROR((VLOOKUP('BASE DE RESPUESTAS'!R34,Back!$M$17:$N$20,2,0)),\"-\")","v":"-"},{"$f":"+IFERROR((VLOOKUP('BASE DE RESPUESTAS'!S34,Back!$M$17:$N$20,2,0)),\"-\")","v":"-"},{"$f":"+IFERROR((VLOOKUP('BASE DE RESPUESTAS'!T34,Back!$M$17:$N$20,2,0)),\"-\")","v":"-"},{"$f":"+IFERROR((VLOOKUP('BASE DE RESPUESTAS'!U34,Back!$M$17:$N$20,2,0)),\"-\")","v":"-"},{"$f":"+IFERROR((VLOOKUP('BASE DE RESPUESTAS'!V34,Back!$M$17:$N$20,2,0)),\"-\")","v":"-"},{"$f":"+IFERROR((VLOOKUP('BASE DE RESPUESTAS'!W34,Back!$M$17:$N$20,2,0)),\"-\")","v":"-"},{"$f":"+IFERROR((VLOOKUP('BASE DE RESPUESTAS'!X34,Back!$M$17:$N$20,2,0)),\"-\")","v":"-"},{"$f":"+IFERROR((VLOOKUP('BASE DE RESPUESTAS'!Y34,Back!$M$17:$N$20,2,0)),\"-\")","v":"-"},{"$f":"+IFERROR((VLOOKUP('BASE DE RESPUESTAS'!Z34,Back!$M$17:$N$20,2,0)),\"-\")","v":"-"},{"$f":"+IFERROR((VLOOKUP('BASE DE RESPUESTAS'!AA34,Back!$M$17:$N$20,2,0)),\"-\")","v":"-"},{"$f":"+IFERROR((VLOOKUP('BASE DE RESPUESTAS'!AB34,Back!$M$17:$N$20,2,0)),\"-\")","v":"-"},{"$f":"+IFERROR((VLOOKUP('BASE DE RESPUESTAS'!AC34,Back!$M$17:$N$20,2,0)),\"-\")","v":"-"},{"$f":"+IFERROR((VLOOKUP('BASE DE RESPUESTAS'!AD34,Back!$M$17:$N$20,2,0)),\"-\")","v":"-"},{"$f":"+IFERROR((VLOOKUP('BASE DE RESPUESTAS'!AE34,Back!$M$17:$N$20,2,0)),\"-\")","v":"-"},{"$f":"+IFERROR((VLOOKUP('BASE DE RESPUESTAS'!AF34,Back!$M$17:$N$20,2,0)),\"-\")","v":"-"},{"$f":"+IFERROR((VLOOKUP('BASE DE RESPUESTAS'!AG34,Back!$M$17:$N$20,2,0)),\"-\")","v":"-"},{"$f":"+IFERROR((VLOOKUP('BASE DE RESPUESTAS'!AH34,Back!$M$17:$N$20,2,0)),\"-\")","v":"-"},{"$f":"+IFERROR((VLOOKUP('BASE DE RESPUESTAS'!AI34,Back!$M$17:$N$20,2,0)),\"-\")","v":"-"},{"$f":"+IFERROR((VLOOKUP('BASE DE RESPUESTAS'!AJ34,Back!$M$17:$N$20,2,0)),\"-\")","v":"-"},{"$f":"+IFERROR((VLOOKUP('BASE DE RESPUESTAS'!AK34,Back!$M$17:$N$20,2,0)),\"-\")","v":"-"},{"$f":"+IFERROR((VLOOKUP('BASE DE RESPUESTAS'!AL34,Back!$M$17:$N$20,2,0)),\"-\")","v":"-"},{"$f":"+IFERROR((VLOOKUP('BASE DE RESPUESTAS'!AM34,Back!$M$17:$N$20,2,0)),\"-\")","v":"-"},{"$f":"+IFERROR((VLOOKUP('BASE DE RESPUESTAS'!AN34,Back!$M$17:$N$20,2,0)),\"-\")","v":"-"},{"$f":"+IFERROR((VLOOKUP('BASE DE RESPUESTAS'!AO34,Back!$M$17:$N$20,2,0)),\"-\")","v":"-"},{"$f":"+IFERROR((VLOOKUP('BASE DE RESPUESTAS'!AP34,Back!$M$17:$N$20,2,0)),\"-\")","v":"-"},{"$f":"+IFERROR((VLOOKUP('BASE DE RESPUESTAS'!AQ34,Back!$M$17:$N$20,2,0)),\"-\")","v":"-"},{"$f":"+IFERROR((VLOOKUP('BASE DE RESPUESTAS'!AR34,Back!$M$17:$N$20,2,0)),\"-\")","v":"-"},{"$f":"+IFERROR((VLOOKUP('BASE DE RESPUESTAS'!AS34,Back!$M$17:$N$20,2,0)),\"-\")","v":"-"},{"$f":"+IFERROR((VLOOKUP('BASE DE RESPUESTAS'!AT34,Back!$M$17:$N$20,2,0)),\"-\")","v":"-"},{"$f":"+IFERROR((VLOOKUP('BASE DE RESPUESTAS'!AU34,Back!$M$17:$N$20,2,0)),\"-\")","v":"-"},{"$f":"+IFERROR((VLOOKUP('BASE DE RESPUESTAS'!AV34,Back!$M$17:$N$20,2,0)),\"-\")","v":"-"},{"$f":"+IFERROR((VLOOKUP('BASE DE RESPUESTAS'!AW34,Back!$M$17:$N$20,2,0)),\"-\")","v":"-"},{"$f":"+IFERROR((VLOOKUP('BASE DE RESPUESTAS'!AX34,Back!$M$17:$N$20,2,0)),\"-\")","v":"-"},{"$f":"+IFERROR((VLOOKUP('BASE DE RESPUESTAS'!AY34,Back!$M$17:$N$20,2,0)),\"-\")","v":"-"},{"$f":"+IFERROR((VLOOKUP('BASE DE RESPUESTAS'!AZ34,Back!$M$17:$N$20,2,0)),\"-\")","v":"-"},{"$f":"+IFERROR((VLOOKUP('BASE DE RESPUESTAS'!BA34,Back!$M$17:$N$20,2,0)),\"-\")","v":"-"},{"$f":"+IFERROR((VLOOKUP('BASE DE RESPUESTAS'!BB34,Back!$M$17:$N$20,2,0)),\"-\")","v":"-"},{"$f":"+IFERROR((VLOOKUP('BASE DE RESPUESTAS'!BC34,Back!$M$17:$N$20,2,0)),\"-\")","v":"-"},{"$f":"+IFERROR((VLOOKUP('BASE DE RESPUESTAS'!BD34,Back!$M$17:$N$20,2,0)),\"-\")","v":"-"},{"$f":"+IFERROR((VLOOKUP('BASE DE RESPUESTAS'!BE34,Back!$M$17:$N$20,2,0)),\"-\")","v":"-"}]
[null,"HSE",null,"La niña o el niño se ofrece como voluntario/a cuando es necesario su apoyo para actividades del aula .",null,"-",null,{"$f":"+IFERROR((VLOOKUP('BASE DE RESPUESTAS'!H35,Back!$M$17:$N$20,2,0)),\"-\")","v":"-"},{"$f":"+IFERROR((VLOOKUP('BASE DE RESPUESTAS'!I35,Back!$M$17:$N$20,2,0)),\"-\")","v":"-"},{"$f":"+IFERROR((VLOOKUP('BASE DE RESPUESTAS'!J35,Back!$M$17:$N$20,2,0)),\"-\")","v":"-"},{"$f":"+IFERROR((VLOOKUP('BASE DE RESPUESTAS'!K35,Back!$M$17:$N$20,2,0)),\"-\")","v":"-"},{"$f":"+IFERROR((VLOOKUP('BASE DE RESPUESTAS'!L35,Back!$M$17:$N$20,2,0)),\"-\")","v":"-"},{"$f":"+IFERROR((VLOOKUP('BASE DE RESPUESTAS'!M35,Back!$M$17:$N$20,2,0)),\"-\")","v":"-"},{"$f":"+IFERROR((VLOOKUP('BASE DE RESPUESTAS'!N35,Back!$M$17:$N$20,2,0)),\"-\")","v":"-"},{"$f":"+IFERROR((VLOOKUP('BASE DE RESPUESTAS'!O35,Back!$M$17:$N$20,2,0)),\"-\")","v":"-"},{"$f":"+IFERROR((VLOOKUP('BASE DE RESPUESTAS'!P35,Back!$M$17:$N$20,2,0)),\"-\")","v":"-"},{"$f":"+IFERROR((VLOOKUP('BASE DE RESPUESTAS'!Q35,Back!$M$17:$N$20,2,0)),\"-\")","v":"-"},{"$f":"+IFERROR((VLOOKUP('BASE DE RESPUESTAS'!R35,Back!$M$17:$N$20,2,0)),\"-\")","v":"-"},{"$f":"+IFERROR((VLOOKUP('BASE DE RESPUESTAS'!S35,Back!$M$17:$N$20,2,0)),\"-\")","v":"-"},{"$f":"+IFERROR((VLOOKUP('BASE DE RESPUESTAS'!T35,Back!$M$17:$N$20,2,0)),\"-\")","v":"-"},{"$f":"+IFERROR((VLOOKUP('BASE DE RESPUESTAS'!U35,Back!$M$17:$N$20,2,0)),\"-\")","v":"-"},{"$f":"+IFERROR((VLOOKUP('BASE DE RESPUESTAS'!V35,Back!$M$17:$N$20,2,0)),\"-\")","v":"-"},{"$f":"+IFERROR((VLOOKUP('BASE DE RESPUESTAS'!W35,Back!$M$17:$N$20,2,0)),\"-\")","v":"-"},{"$f":"+IFERROR((VLOOKUP('BASE DE RESPUESTAS'!X35,Back!$M$17:$N$20,2,0)),\"-\")","v":"-"},{"$f":"+IFERROR((VLOOKUP('BASE DE RESPUESTAS'!Y35,Back!$M$17:$N$20,2,0)),\"-\")","v":"-"},{"$f":"+IFERROR((VLOOKUP('BASE DE RESPUESTAS'!Z35,Back!$M$17:$N$20,2,0)),\"-\")","v":"-"},{"$f":"+IFERROR((VLOOKUP('BASE DE RESPUESTAS'!AA35,Back!$M$17:$N$20,2,0)),\"-\")","v":"-"},{"$f":"+IFERROR((VLOOKUP('BASE DE RESPUESTAS'!AB35,Back!$M$17:$N$20,2,0)),\"-\")","v":"-"},{"$f":"+IFERROR((VLOOKUP('BASE DE RESPUESTAS'!AC35,Back!$M$17:$N$20,2,0)),\"-\")","v":"-"},{"$f":"+IFERROR((VLOOKUP('BASE DE RESPUESTAS'!AD35,Back!$M$17:$N$20,2,0)),\"-\")","v":"-"},{"$f":"+IFERROR((VLOOKUP('BASE DE RESPUESTAS'!AE35,Back!$M$17:$N$20,2,0)),\"-\")","v":"-"},{"$f":"+IFERROR((VLOOKUP('BASE DE RESPUESTAS'!AF35,Back!$M$17:$N$20,2,0)),\"-\")","v":"-"},{"$f":"+IFERROR((VLOOKUP('BASE DE RESPUESTAS'!AG35,Back!$M$17:$N$20,2,0)),\"-\")","v":"-"},{"$f":"+IFERROR((VLOOKUP('BASE DE RESPUESTAS'!AH35,Back!$M$17:$N$20,2,0)),\"-\")","v":"-"},{"$f":"+IFERROR((VLOOKUP('BASE DE RESPUESTAS'!AI35,Back!$M$17:$N$20,2,0)),\"-\")","v":"-"},{"$f":"+IFERROR((VLOOKUP('BASE DE RESPUESTAS'!AJ35,Back!$M$17:$N$20,2,0)),\"-\")","v":"-"},{"$f":"+IFERROR((VLOOKUP('BASE DE RESPUESTAS'!AK35,Back!$M$17:$N$20,2,0)),\"-\")","v":"-"},{"$f":"+IFERROR((VLOOKUP('BASE DE RESPUESTAS'!AL35,Back!$M$17:$N$20,2,0)),\"-\")","v":"-"},{"$f":"+IFERROR((VLOOKUP('BASE DE RESPUESTAS'!AM35,Back!$M$17:$N$20,2,0)),\"-\")","v":"-"},{"$f":"+IFERROR((VLOOKUP('BASE DE RESPUESTAS'!AN35,Back!$M$17:$N$20,2,0)),\"-\")","v":"-"},{"$f":"+IFERROR((VLOOKUP('BASE DE RESPUESTAS'!AO35,Back!$M$17:$N$20,2,0)),\"-\")","v":"-"},{"$f":"+IFERROR((VLOOKUP('BASE DE RESPUESTAS'!AP35,Back!$M$17:$N$20,2,0)),\"-\")","v":"-"},{"$f":"+IFERROR((VLOOKUP('BASE DE RESPUESTAS'!AQ35,Back!$M$17:$N$20,2,0)),\"-\")","v":"-"},{"$f":"+IFERROR((VLOOKUP('BASE DE RESPUESTAS'!AR35,Back!$M$17:$N$20,2,0)),\"-\")","v":"-"},{"$f":"+IFERROR((VLOOKUP('BASE DE RESPUESTAS'!AS35,Back!$M$17:$N$20,2,0)),\"-\")","v":"-"},{"$f":"+IFERROR((VLOOKUP('BASE DE RESPUESTAS'!AT35,Back!$M$17:$N$20,2,0)),\"-\")","v":"-"},{"$f":"+IFERROR((VLOOKUP('BASE DE RESPUESTAS'!AU35,Back!$M$17:$N$20,2,0)),\"-\")","v":"-"},{"$f":"+IFERROR((VLOOKUP('BASE DE RESPUESTAS'!AV35,Back!$M$17:$N$20,2,0)),\"-\")","v":"-"},{"$f":"+IFERROR((VLOOKUP('BASE DE RESPUESTAS'!AW35,Back!$M$17:$N$20,2,0)),\"-\")","v":"-"},{"$f":"+IFERROR((VLOOKUP('BASE DE RESPUESTAS'!AX35,Back!$M$17:$N$20,2,0)),\"-\")","v":"-"},{"$f":"+IFERROR((VLOOKUP('BASE DE RESPUESTAS'!AY35,Back!$M$17:$N$20,2,0)),\"-\")","v":"-"},{"$f":"+IFERROR((VLOOKUP('BASE DE RESPUESTAS'!AZ35,Back!$M$17:$N$20,2,0)),\"-\")","v":"-"},{"$f":"+IFERROR((VLOOKUP('BASE DE RESPUESTAS'!BA35,Back!$M$17:$N$20,2,0)),\"-\")","v":"-"},{"$f":"+IFERROR((VLOOKUP('BASE DE RESPUESTAS'!BB35,Back!$M$17:$N$20,2,0)),\"-\")","v":"-"},{"$f":"+IFERROR((VLOOKUP('BASE DE RESPUESTAS'!BC35,Back!$M$17:$N$20,2,0)),\"-\")","v":"-"},{"$f":"+IFERROR((VLOOKUP('BASE DE RESPUESTAS'!BD35,Back!$M$17:$N$20,2,0)),\"-\")","v":"-"},{"$f":"+IFERROR((VLOOKUP('BASE DE RESPUESTAS'!BE35,Back!$M$17:$N$20,2,0)),\"-\")","v":"-"}]
[]
[null,null,null,null,null,"Indicadores",null,{"$f":"+H4","v":"Estudiante 1"},"Estudiante 2","Estudiante 3","Estudiante 4","Estudiante 5","Estudiante 6","Estudiante 7","Estudiante 8","Estudiante 9","Estudiante 10","Estudiante 11","Estudiante 12","Estudiante 13","Estudiante 14","Estudiante 15","Estudiante 16","Estudiante 17","Estudiante 18","Estudiante 19","Estudiante 20","Estudiante 21","Estudiante 22","Estudiante 23","Estudiante 24","Estudiante 25","Estudiante 26","Estudiante 27","Estudiante 28","Estudiante 29","Estudiante 30","Estudiante 31","Estudiante 32","Estudiante 33","Estudiante 34","Estudiante 35","Estudiante 36","Estudiante 37","Estudiante 38","Estudiante 39","Estudiante 40","Estudiante 41","Estudiante 42","Estudiante 43","Estudiante 44","Estudiante 45","Estudiante 46","Estudiante 47","Estudiante 48","Estudiante 49","Estudiante 50"]
[null,null,null,null,null,"En inicio",null,{"$f":"IFERROR(COUNTIFS(H5:H24,\">=0\",H5:H24,\"<=0.67\"),\"-\")","v":0},0,0,0,0,0,0,0,0,0,0,0,0,0,0,0,0,0,0,0,0,0,0,0,0,0,0,0,0,0,0,0,0,0,0,0,0,0,0,0,0,0,0,0,0,0,0,0,0,0]
[null,null,null,null,null,"En Proceso",null,{"$f":"IFERROR(COUNTIFS(H5:H24,\">=0.68\",H5:H24,\"<=1.32\"),\"-\")","v":0},0,0,0,0,0,0,0,0,0,0,0,0,0,0,0,0,0,0,0,0,0,0,0,0,0,0,0,0,0,0,0,0,0,0,0,0,0,0,0,0,0,0,0,0,0,0,0,0,0]
[null,null,null,null,null,"Satisfactorio",null,{"$f":"IFERROR((COUNTIFS(H5:H24,\">=1.33\")),\"-\")","v":0},0,0,0,0,0,0,0,0,0,0,0,0,0,0,0,0,0,0,0,0,0,0,0,0,0,0,0,0,0,0,0,0,0,0,0,0,0,0,0,0,0,0,0,0,0,0,0,0,0]
[null,null,null,null,null,"TOTAL",null,{"$f":"+SUM(H27:H29)","v":0},0,0,0,0,0,0,0,0,0,0,0,0,0,0,0,0,0,0,0,0,0,0,0,0,0,0,0,0,0,0,0,0,0,0,0,0,0,0,0,0,0,0,0,0,0,0,0,0,0]

{"sheet":"Resumen de Escala HSE","index":5,"n_rows":25,"n_cols":55,"rows_kept":25,"cut":false,"hidden":false,"merged":[]}
[]
[]
[]
[null,"Dimensión","Escala","Resultado Promedio del aula",null,{"$f":"+'BASE DE RESPUESTAS'!H5","v":"Estudiante 1"},{"$f":"+'BASE DE RESPUESTAS'!I5","v":"Estudiante 2"},{"$f":"+'BASE DE RESPUESTAS'!J5","v":"Estudiante 3"},{"$f":"+'BASE DE RESPUESTAS'!K5","v":"Estudiante 4"},{"$f":"+'BASE DE RESPUESTAS'!L5","v":"Estudiante 5"},{"$f":"+'BASE DE RESPUESTAS'!M5","v":"Estudiante 6"},{"$f":"+'BASE DE RESPUESTAS'!N5","v":"Estudiante 7"},{"$f":"+'BASE DE RESPUESTAS'!O5","v":"Estudiante 8"},{"$f":"+'BASE DE RESPUESTAS'!P5","v":"Estudiante 9"},{"$f":"+'BASE DE RESPUESTAS'!Q5","v":"Estudiante 10"},{"$f":"+'BASE DE RESPUESTAS'!R5","v":"Estudiante 11"},{"$f":"+'BASE DE RESPUESTAS'!S5","v":"Estudiante 12"},{"$f":"+'BASE DE RESPUESTAS'!T5","v":"Estudiante 13"},{"$f":"+'BASE DE RESPUESTAS'!U5","v":"Estudiante 14"},{"$f":"+'BASE DE RESPUESTAS'!V5","v":"Estudiante 15"},{"$f":"+'BASE DE RESPUESTAS'!W5","v":"Estudiante 16"},{"$f":"+'BASE DE RESPUESTAS'!X5","v":"Estudiante 17"},{"$f":"+'BASE DE RESPUESTAS'!Y5","v":"Estudiante 18"},{"$f":"+'BASE DE RESPUESTAS'!Z5","v":"Estudiante 19"},{"$f":"+'BASE DE RESPUESTAS'!AA5","v":"Estudiante 20"},{"$f":"+'BASE DE RESPUESTAS'!AB5","v":"Estudiante 21"},{"$f":"+'BASE DE RESPUESTAS'!AC5","v":"Estudiante 22"},{"$f":"+'BASE DE RESPUESTAS'!AD5","v":"Estudiante 23"},{"$f":"+'BASE DE RESPUESTAS'!AE5","v":"Estudiante 24"},{"$f":"+'BASE DE RESPUESTAS'!AF5","v":"Estudiante 25"},{"$f":"+'BASE DE RESPUESTAS'!AG5","v":"Estudiante 26"},{"$f":"+'BASE DE RESPUESTAS'!AH5","v":"Estudiante 27"},{"$f":"+'BASE DE RESPUESTAS'!AI5","v":"Estudiante 28"},{"$f":"+'BASE DE RESPUESTAS'!AJ5","v":"Estudiante 29"},{"$f":"+'BASE DE RESPUESTAS'!AK5","v":"Estudiante 30"},{"$f":"+'BASE DE RESPUESTAS'!AL5","v":"Estudiante 31"},{"$f":"+'BASE DE RESPUESTAS'!AM5","v":"Estudiante 32"},{"$f":"+'BASE DE RESPUESTAS'!AN5","v":"Estudiante 33"},{"$f":"+'BASE DE RESPUESTAS'!AO5","v":"Estudiante 34"},{"$f":"+'BASE DE RESPUESTAS'!AP5","v":"Estudiante 35"},{"$f":"+'BASE DE RESPUESTAS'!AQ5","v":"Estudiante 36"},{"$f":"+'BASE DE RESPUESTAS'!AR5","v":"Estudiante 37"},{"$f":"+'BASE DE RESPUESTAS'!AS5","v":"Estudiante 38"},{"$f":"+'BASE DE RESPUESTAS'!AT5","v":"Estudiante 39"},{"$f":"+'BASE DE RESPUESTAS'!AU5","v":"Estudiante 40"},{"$f":"+'BASE DE RESPUESTAS'!AV5","v":"Estudiante 41"},{"$f":"+'BASE DE RESPUESTAS'!AW5","v":"Estudiante 42"},{"$f":"+'BASE DE RESPUESTAS'!AX5","v":"Estudiante 43"},{"$f":"+'BASE DE RESPUESTAS'!AY5","v":"Estudiante 44"},{"$f":"+'BASE DE RESPUESTAS'!AZ5","v":"Estudiante 45"},{"$f":"+'BASE DE RESPUESTAS'!BA5","v":"Estudiante 46"},{"$f":"+'BASE DE RESPUESTAS'!BB5","v":"Estudiante 47"},{"$f":"+'BASE DE RESPUESTAS'!BC5","v":"Estudiante 48"},{"$f":"+'BASE DE RESPUESTAS'!BD5","v":"Estudiante 49"},{"$f":"+'BASE DE RESPUESTAS'!BE5","v":"Estudiante 50"}]
[]
[null,"HSE","Autoconcepto",{"$f":"+IFERROR(AVERAGEIFS(F6:BC6,F6:BC6,\">=0\"),\"-\")","v":"-"},null,{"$f":"+IFERROR(AVERAGEIFS('Resumen de indicadores HSE'!H5:H6,'Resumen de indicadores HSE'!H5:H6,\">=0\"),\"-\")","v":"-"},{"$f":"+IFERROR(AVERAGEIFS('Resumen de indicadores HSE'!I5:I6,'Resumen de indicadores HSE'!I5:I6,\">=0\"),\"-\")","v":"-"},{"$f":"+IFERROR(AVERAGEIFS('Resumen de indicadores HSE'!J5:J6,'Resumen de indicadores HSE'!J5:J6,\">=0\"),\"-\")","v":"-"},{"$f":"+IFERROR(AVERAGEIFS('Resumen de indicadores HSE'!K5:K6,'Resumen de indicadores HSE'!K5:K6,\">=0\"),\"-\")","v":"-"},{"$f":"+IFERROR(AVERAGEIFS('Resumen de indicadores HSE'!L5:L6,'Resumen de indicadores HSE'!L5:L6,\">=0\"),\"-\")","v":"-"},{"$f":"+IFERROR(AVERAGEIFS('Resumen de indicadores HSE'!M5:M6,'Resumen de indicadores HSE'!M5:M6,\">=0\"),\"-\")","v":"-"},{"$f":"+IFERROR(AVERAGEIFS('Resumen de indicadores HSE'!N5:N6,'Resumen de indicadores HSE'!N5:N6,\">=0\"),\"-\")","v":"-"},{"$f":"+IFERROR(AVERAGEIFS('Resumen de indicadores HSE'!O5:O6,'Resumen de indicadores HSE'!O5:O6,\">=0\"),\"-\")","v":"-"},{"$f":"+IFERROR(AVERAGEIFS('Resumen de indicadores HSE'!P5:P6,'Resumen de indicadores HSE'!P5:P6,\">=0\"),\"-\")","v":"-"},{"$f":"+IFERROR(AVERAGEIFS('Resumen de indicadores HSE'!Q5:Q6,'Resumen de indicadores HSE'!Q5:Q6,\">=0\"),\"-\")","v":"-"},{"$f":"+IFERROR(AVERAGEIFS('Resumen de indicadores HSE'!R5:R6,'Resumen de indicadores HSE'!R5:R6,\">=0\"),\"-\")","v":"-"},{"$f":"+IFERROR(AVERAGEIFS('Resumen de indicadores HSE'!S5:S6,'Resumen de indicadores HSE'!S5:S6,\">=0\"),\"-\")","v":"-"},{"$f":"+IFERROR(AVERAGEIFS('Resumen de indicadores HSE'!T5:T6,'Resumen de indicadores HSE'!T5:T6,\">=0\"),\"-\")","v":"-"},{"$f":"+IFERROR(AVERAGEIFS('Resumen de indicadores HSE'!U5:U6,'Resumen de indicadores HSE'!U5:U6,\">=0\"),\"-\")","v":"-"},{"$f":"+IFERROR(AVERAGEIFS('Resumen de indicadores HSE'!V5:V6,'Resumen de indicadores HSE'!V5:V6,\">=0\"),\"-\")","v":"-"},{"$f":"+IFERROR(AVERAGEIFS('Resumen de indicadores HSE'!W5:W6,'Resumen de indicadores HSE'!W5:W6,\">=0\"),\"-\")","v":"-"},{"$f":"+IFERROR(AVERAGEIFS('Resumen de indicadores HSE'!X5:X6,'Resumen de indicadores HSE'!X5:X6,\">=0\"),\"-\")","v":"-"},{"$f":"+IFERROR(AVERAGEIFS('Resumen de indicadores HSE'!Y5:Y6,'Resumen de indicadores HSE'!Y5:Y6,\">=0\"),\"-\")","v":"-"},{"$f":"+IFERROR(AVERAGEIFS('Resumen de indicadores HSE'!Z5:Z6,'Resumen de indicadores HSE'!Z5:Z6,\">=0\"),\"-\")","v":"-"},{"$f":"+IFERROR(AVERAGEIFS('Resumen de indicadores HSE'!AA5:AA6,'Resumen de indicadores HSE'!AA5:AA6,\">=0\"),\"-\")","v":"-"},{"$f":"+IFERROR(AVERAGEIFS('Resumen de indicadores HSE'!AB5:AB6,'Resumen de indicadores HSE'!AB5:AB6,\">=0\"),\"-\")","v":"-"},{"$f":"+IFERROR(AVERAGEIFS('Resumen de indicadores HSE'!AC5:AC6,'Resumen de indicadores HSE'!AC5:AC6,\">=0\"),\"-\")","v":"-"},{"$f":"+IFERROR(AVERAGEIFS('Resumen de indicadores HSE'!AD5:AD6,'Resumen de indicadores HSE'!AD5:AD6,\">=0\"),\"-\")","v":"-"},{"$f":"+IFERROR(AVERAGEIFS('Resumen de indicadores HSE'!AE5:AE6,'Resumen de indicadores HSE'!AE5:AE6,\">=0\"),\"-\")","v":"-"},{"$f":"+IFERROR(AVERAGEIFS('Resumen de indicadores HSE'!AF5:AF6,'Resumen de indicadores HSE'!AF5:AF6,\">=0\"),\"-\")","v":"-"},{"$f":"+IFERROR(AVERAGEIFS('Resumen de indicadores HSE'!AG5:AG6,'Resumen de indicadores HSE'!AG5:AG6,\">=0\"),\"-\")","v":"-"},{"$f":"+IFERROR(AVERAGEIFS('Resumen de indicadores HSE'!AH5:AH6,'Resumen de indicadores HSE'!AH5:AH6,\">=0\"),\"-\")","v":"-"},{"$f":"+IFERROR(AVERAGEIFS('Resumen de indicadores HSE'!AI5:AI6,'Resumen de indicadores HSE'!AI5:AI6,\">=0\"),\"-\")","v":"-"},{"$f":"+IFERROR(AVERAGEIFS('Resumen de indicadores HSE'!AJ5:AJ6,'Resumen de indicadores HSE'!AJ5:AJ6,\">=0\"),\"-\")","v":"-"},{"$f":"+IFERROR(AVERAGEIFS('Resumen de indicadores HSE'!AK5:AK6,'Resumen de indicadores HSE'!AK5:AK6,\">=0\"),\"-\")","v":"-"},{"$f":"+IFERROR(AVERAGEIFS('Resumen de indicadores HSE'!AL5:AL6,'Resumen de indicadores HSE'!AL5:AL6,\">=0\"),\"-\")","v":"-"},{"$f":"+IFERROR(AVERAGEIFS('Resumen de indicadores HSE'!AM5:AM6,'Resumen de indicadores HSE'!AM5:AM6,\">=0\"),\"-\")","v":"-"},{"$f":"+IFERROR(AVERAGEIFS('Resumen de indicadores HSE'!AN5:AN6,'Resumen de indicadores HSE'!AN5:AN6,\">=0\"),\"-\")","v":"-"},{"$f":"+IFERROR(AVERAGEIFS('Resumen de indicadores HSE'!AO5:AO6,'Resumen de indicadores HSE'!AO5:AO6,\">=0\"),\"-\")","v":"-"},{"$f":"+IFERROR(AVERAGEIFS('Resumen de indicadores HSE'!AP5:AP6,'Resumen de indicadores HSE'!AP5:AP6,\">=0\"),\"-\")","v":"-"},{"$f":"+IFERROR(AVERAGEIFS('Resumen de indicadores HSE'!AQ5:AQ6,'Resumen de indicadores HSE'!AQ5:AQ6,\">=0\"),\"-\")","v":"-"},{"$f":"+IFERROR(AVERAGEIFS('Resumen de indicadores HSE'!AR5:AR6,'Resumen de indicadores HSE'!AR5:AR6,\">=0\"),\"-\")","v":"-"},{"$f":"+IFERROR(AVERAGEIFS('Resumen de indicadores HSE'!AS5:AS6,'Resumen de indicadores HSE'!AS5:AS6,\">=0\"),\"-\")","v":"-"},{"$f":"+IFERROR(AVERAGEIFS('Resumen de indicadores HSE'!AT5:AT6,'Resumen de indicadores HSE'!AT5:AT6,\">=0\"),\"-\")","v":"-"},{"$f":"+IFERROR(AVERAGEIFS('Resumen de indicadores HSE'!AU5:AU6,'Resumen de indicadores HSE'!AU5:AU6,\">=0\"),\"-\")","v":"-"},{"$f":"+IFERROR(AVERAGEIFS('Resumen de indicadores HSE'!AV5:AV6,'Resumen de indicadores HSE'!AV5:AV6,\">=0\"),\"-\")","v":"-"},{"$f":"+IFERROR(AVERAGEIFS('Resumen de indicadores HSE'!AW5:AW6,'Resumen de indicadores HSE'!AW5:AW6,\">=0\"),\"-\")","v":"-"},{"$f":"+IFERROR(AVERAGEIFS('Resumen de indicadores HSE'!AX5:AX6,'Resumen de indicadores HSE'!AX5:AX6,\">=0\"),\"-\")","v":"-"},{"$f":"+IFERROR(AVERAGEIFS('Resumen de indicadores HSE'!AY5:AY6,'Resumen de indicadores HSE'!AY5:AY6,\">=0\"),\"-\")","v":"-"},{"$f":"+IFERROR(AVERAGEIFS('Resumen de indicadores HSE'!AZ5:AZ6,'Resumen de indicadores HSE'!AZ5:AZ6,\">=0\"),\"-\")","v":"-"},{"$f":"+IFERROR(AVERAGEIFS('Resumen de indicadores HSE'!BA5:BA6,'Resumen de indicadores HSE'!BA5:BA6,\">=0\"),\"-\")","v":"-"},{"$f":"+IFERROR(AVERAGEIFS('Resumen de indicadores HSE'!BB5:BB6,'Resumen de indicadores HSE'!BB5:BB6,\">=0\"),\"-\")","v":"-"},{"$f":"+IFERROR(AVERAGEIFS('Resumen de indicadores HSE'!BC5:BC6,'Resumen de indicadores HSE'!BC5:BC6,\">=0\"),\"-\")","v":"-"},{"$f":"+IFERROR(AVERAGEIFS('Resumen de indicadores HSE'!BD5:BD6,'Resumen de indicadores HSE'!BD5:BD6,\">=0\"),\"-\")","v":"-"},{"$f":"+IFERROR(AVERAGEIFS('Resumen de indicadores HSE'!BE5:BE6,'Resumen de indicadores HSE'!BE5:BE6,\">=0\"),\"-\")","v":"-"}]
[null,"HSE","Autoestima","-",null,{"$f":"+IFERROR(AVERAGEIFS('Resumen de indicadores HSE'!H7:H8,'Resumen de indicadores HSE'!H7:H8,\">=0\"),\"-\")","v":"-"},{"$f":"+IFERROR(AVERAGEIFS('Resumen de indicadores HSE'!I7:I8,'Resumen de indicadores HSE'!I7:I8,\">=0\"),\"-\")","v":"-"},{"$f":"+IFERROR(AVERAGEIFS('Resumen de indicadores HSE'!J7:J8,'Resumen de indicadores HSE'!J7:J8,\">=0\"),\"-\")","v":"-"},{"$f":"+IFERROR(AVERAGEIFS('Resumen de indicadores HSE'!K7:K8,'Resumen de indicadores HSE'!K7:K8,\">=0\"),\"-\")","v":"-"},{"$f":"+IFERROR(AVERAGEIFS('Resumen de indicadores HSE'!L7:L8,'Resumen de indicadores HSE'!L7:L8,\">=0\"),\"-\")","v":"-"},{"$f":"+IFERROR(AVERAGEIFS('Resumen de indicadores HSE'!M7:M8,'Resumen de indicadores HSE'!M7:M8,\">=0\"),\"-\")","v":"-"},{"$f":"+IFERROR(AVERAGEIFS('Resumen de indicadores HSE'!N7:N8,'Resumen de indicadores HSE'!N7:N8,\">=0\"),\"-\")","v":"-"},{"$f":"+IFERROR(AVERAGEIFS('Resumen de indicadores HSE'!O7:O8,'Resumen de indicadores HSE'!O7:O8,\">=0\"),\"-\")","v":"-"},{"$f":"+IFERROR(AVERAGEIFS('Resumen de indicadores HSE'!P7:P8,'Resumen de indicadores HSE'!P7:P8,\">=0\"),\"-\")","v":"-"},{"$f":"+IFERROR(AVERAGEIFS('Resumen de indicadores HSE'!Q7:Q8,'Resumen de indicadores HSE'!Q7:Q8,\">=0\"),\"-\")","v":"-"},{"$f":"+IFERROR(AVERAGEIFS('Resumen de indicadores HSE'!R7:R8,'Resumen de indicadores HSE'!R7:R8,\">=0\"),\"-\")","v":"-"},{"$f":"+IFERROR(AVERAGEIFS('Resumen de indicadores HSE'!S7:S8,'Resumen de indicadores HSE'!S7:S8,\">=0\"),\"-\")","v":"-"},{"$f":"+IFERROR(AVERAGEIFS('Resumen de indicadores HSE'!T7:T8,'Resumen de indicadores HSE'!T7:T8,\">=0\"),\"-\")","v":"-"},{"$f":"+IFERROR(AVERAGEIFS('Resumen de indicadores HSE'!U7:U8,'Resumen de indicadores HSE'!U7:U8,\">=0\"),\"-\")","v":"-"},{"$f":"+IFERROR(AVERAGEIFS('Resumen de indicadores HSE'!V7:V8,'Resumen de indicadores HSE'!V7:V8,\">=0\"),\"-\")","v":"-"},{"$f":"+IFERROR(AVERAGEIFS('Resumen de indicadores HSE'!W7:W8,'Resumen de indicadores HSE'!W7:W8,\">=0\"),\"-\")","v":"-"},{"$f":"+IFERROR(AVERAGEIFS('Resumen de indicadores HSE'!X7:X8,'Resumen de indicadores HSE'!X7:X8,\">=0\"),\"-\")","v":"-"},{"$f":"+IFERROR(AVERAGEIFS('Resumen de indicadores HSE'!Y7:Y8,'Resumen de indicadores HSE'!Y7:Y8,\">=0\"),\"-\")","v":"-"},{"$f":"+IFERROR(AVERAGEIFS('Resumen de indicadores HSE'!Z7:Z8,'Resumen de indicadores HSE'!Z7:Z8,\">=0\"),\"-\")","v":"-"},{"$f":"+IFERROR(AVERAGEIFS('Resumen de indicadores HSE'!AA7:AA8,'Resumen de indicadores HSE'!AA7:AA8,\">=0\"),\"-\")","v":"-"},{"$f":"+IFERROR(AVERAGEIFS('Resumen de indicadores HSE'!AB7:AB8,'Resumen de indicadores HSE'!AB7:AB8,\">=0\"),\"-\")","v":"-"},{"$f":"+IFERROR(AVERAGEIFS('Resumen de indicadores HSE'!AC7:AC8,'Resumen de indicadores HSE'!AC7:AC8,\">=0\"),\"-\")","v":"-"},{"$f":"+IFERROR(AVERAGEIFS('Resumen de indicadores HSE'!AD7:AD8,'Resumen de indicadores HSE'!AD7:AD8,\">=0\"),\"-\")","v":"-"},{"$f":"+IFERROR(AVERAGEIFS('Resumen de indicadores HSE'!AE7:AE8,'Resumen de indicadores HSE'!AE7:AE8,\">=0\"),\"-\")","v":"-"},{"$f":"+IFERROR(AVERAGEIFS('Resumen de indicadores HSE'!AF7:AF8,'Resumen de indicadores HSE'!AF7:AF8,\">=0\"),\"-\")","v":"-"},{"$f":"+IFERROR(AVERAGEIFS('Resumen de indicadores HSE'!AG7:AG8,'Resumen de indicadores HSE'!AG7:AG8,\">=0\"),\"-\")","v":"-"},{"$f":"+IFERROR(AVERAGEIFS('Resumen de indicadores HSE'!AH7:AH8,'Resumen de indicadores HSE'!AH7:AH8,\">=0\"),\"-\")","v":"-"},{"$f":"+IFERROR(AVERAGEIFS('Resumen de indicadores HSE'!AI7:AI8,'Resumen de indicadores HSE'!AI7:AI8,\">=0\"),\"-\")","v":"-"},{"$f":"+IFERROR(AVERAGEIFS('Resumen de indicadores HSE'!AJ7:AJ8,'Resumen de indicadores HSE'!AJ7:AJ8,\">=0\"),\"-\")","v":"-"},{"$f":"+IFERROR(AVERAGEIFS('Resumen de indicadores HSE'!AK7:AK8,'Resumen de indicadores HSE'!AK7:AK8,\">=0\"),\"-\")","v":"-"},{"$f":"+IFERROR(AVERAGEIFS('Resumen de indicadores HSE'!AL7:AL8,'Resumen de indicadores HSE'!AL7:AL8,\">=0\"),\"-\")","v":"-"},{"$f":"+IFERROR(AVERAGEIFS('Resumen de indicadores HSE'!AM7:AM8,'Resumen de indicadores HSE'!AM7:AM8,\">=0\"),\"-\")","v":"-"},{"$f":"+IFERROR(AVERAGEIFS('Resumen de indicadores HSE'!AN7:AN8,'Resumen de indicadores HSE'!AN7:AN8,\">=0\"),\"-\")","v":"-"},{"$f":"+IFERROR(AVERAGEIFS('Resumen de indicadores HSE'!AO7:AO8,'Resumen de indicadores HSE'!AO7:AO8,\">=0\"),\"-\")","v":"-"},{"$f":"+IFERROR(AVERAGEIFS('Resumen de indicadores HSE'!AP7:AP8,'Resumen de indicadores HSE'!AP7:AP8,\">=0\"),\"-\")","v":"-"},{"$f":"+IFERROR(AVERAGEIFS('Resumen de indicadores HSE'!AQ7:AQ8,'Resumen de indicadores HSE'!AQ7:AQ8,\">=0\"),\"-\")","v":"-"},{"$f":"+IFERROR(AVERAGEIFS('Resumen de indicadores HSE'!AR7:AR8,'Resumen de indicadores HSE'!AR7:AR8,\">=0\"),\"-\")","v":"-"},{"$f":"+IFERROR(AVERAGEIFS('Resumen de indicadores HSE'!AS7:AS8,'Resumen de indicadores HSE'!AS7:AS8,\">=0\"),\"-\")","v":"-"},{"$f":"+IFERROR(AVERAGEIFS('Resumen de indicadores HSE'!AT7:AT8,'Resumen de indicadores HSE'!AT7:AT8,\">=0\"),\"-\")","v":"-"},{"$f":"+IFERROR(AVERAGEIFS('Resumen de indicadores HSE'!AU7:AU8,'Resumen de indicadores HSE'!AU7:AU8,\">=0\"),\"-\")","v":"-"},{"$f":"+IFERROR(AVERAGEIFS('Resumen de indicadores HSE'!AV7:AV8,'Resumen de indicadores HSE'!AV7:AV8,\">=0\"),\"-\")","v":"-"},{"$f":"+IFERROR(AVERAGEIFS('Resumen de indicadores HSE'!AW7:AW8,'Resumen de indicadores HSE'!AW7:AW8,\">=0\"),\"-\")","v":"-"},{"$f":"+IFERROR(AVERAGEIFS('Resumen de indicadores HSE'!AX7:AX8,'Resumen de indicadores HSE'!AX7:AX8,\">=0\"),\"-\")","v":"-"},{"$f":"+IFERROR(AVERAGEIFS('Resumen de indicadores HSE'!AY7:AY8,'Resumen de indicadores HSE'!AY7:AY8,\">=0\"),\"-\")","v":"-"},{"$f":"+IFERROR(AVERAGEIFS('Resumen de indicadores HSE'!AZ7:AZ8,'Resumen de indicadores HSE'!AZ7:AZ8,\">=0\"),\"-\")","v":"-"},{"$f":"+IFERROR(AVERAGEIFS('Resumen de indicadores HSE'!BA7:BA8,'Resumen de indicadores HSE'!BA7:BA8,\">=0\"),\"-\")","v":"-"},{"$f":"+IFERROR(AVERAGEIFS('Resumen de indicadores HSE'!BB7:BB8,'Resumen de indicadores HSE'!BB7:BB8,\">=0\"),\"-\")","v":"-"},{"$f":"+IFERROR(AVERAGEIFS('Resumen de indicadores HSE'!BC7:BC8,'Resumen de indicadores HSE'!BC7:BC8,\">=0\"),\"-\")","v":"-"},{"$f":"+IFERROR(AVERAGEIFS('Resumen de indicadores HSE'!BD7:BD8,'Resumen de indicadores HSE'!BD7:BD8,\">=0\"),\"-\")","v":"-"},{"$f":"+IFERROR(AVERAGEIFS('Resumen de indicadores HSE'!BE7:BE8,'Resumen de indicadores HSE'!BE7:BE8,\">=0\"),\"-\")","v":"-"}]
[null,"HSE","Conciencia Emocional","-",null,{"$f":"+IFERROR(AVERAGEIFS('Resumen de indicadores HSE'!H9:H10,'Resumen de indicadores HSE'!H9:H10,\">=0\"),\"-\")","v":"-"},{"$f":"+IFERROR(AVERAGEIFS('Resumen de indicadores HSE'!I9:I10,'Resumen de indicadores HSE'!I9:I10,\">=0\"),\"-\")","v":"-"},{"$f":"+IFERROR(AVERAGEIFS('Resumen de indicadores HSE'!J9:J10,'Resumen de indicadores HSE'!J9:J10,\">=0\"),\"-\")","v":"-"},{"$f":"+IFERROR(AVERAGEIFS('Resumen de indicadores HSE'!K9:K10,'Resumen de indicadores HSE'!K9:K10,\">=0\"),\"-\")","v":"-"},{"$f":"+IFERROR(AVERAGEIFS('Resumen de indicadores HSE'!L9:L10,'Resumen de indicadores HSE'!L9:L10,\">=0\"),\"-\")","v":"-"},{"$f":"+IFERROR(AVERAGEIFS('Resumen de indicadores HSE'!M9:M10,'Resumen de indicadores HSE'!M9:M10,\">=0\"),\"-\")","v":"-"},{"$f":"+IFERROR(AVERAGEIFS('Resumen de indicadores HSE'!N9:N10,'Resumen de indicadores HSE'!N9:N10,\">=0\"),\"-\")","v":"-"},{"$f":"+IFERROR(AVERAGEIFS('Resumen de indicadores HSE'!O9:O10,'Resumen de indicadores HSE'!O9:O10,\">=0\"),\"-\")","v":"-"},{"$f":"+IFERROR(AVERAGEIFS('Resumen de indicadores HSE'!P9:P10,'Resumen de indicadores HSE'!P9:P10,\">=0\"),\"-\")","v":"-"},{"$f":"+IFERROR(AVERAGEIFS('Resumen de indicadores HSE'!Q9:Q10,'Resumen de indicadores HSE'!Q9:Q10,\">=0\"),\"-\")","v":"-"},{"$f":"+IFERROR(AVERAGEIFS('Resumen de indicadores HSE'!R9:R10,'Resumen de indicadores HSE'!R9:R10,\">=0\"),\"-\")","v":"-"},{"$f":"+IFERROR(AVERAGEIFS('Resumen de indicadores HSE'!S9:S10,'Resumen de indicadores HSE'!S9:S10,\">=0\"),\"-\")","v":"-"},{"$f":"+IFERROR(AVERAGEIFS('Resumen de indicadores HSE'!T9:T10,'Resumen de indicadores HSE'!T9:T10,\">=0\"),\"-\")","v":"-"},{"$f":"+IFERROR(AVERAGEIFS('Resumen de indicadores HSE'!U9:U10,'Resumen de indicadores HSE'!U9:U10,\">=0\"),\"-\")","v":"-"},{"$f":"+IFERROR(AVERAGEIFS('Resumen de indicadores HSE'!V9:V10,'Resumen de indicadores HSE'!V9:V10,\">=0\"),\"-\")","v":"-"},{"$f":"+IFERROR(AVERAGEIFS('Resumen de indicadores HSE'!W9:W10,'Resumen de indicadores HSE'!W9:W10,\">=0\"),\"-\")","v":"-"},{"$f":"+IFERROR(AVERAGEIFS('Resumen de indicadores HSE'!X9:X10,'Resumen de indicadores HSE'!X9:X10,\">=0\"),\"-\")","v":"-"},{"$f":"+IFERROR(AVERAGEIFS('Resumen de indicadores HSE'!Y9:Y10,'Resumen de indicadores HSE'!Y9:Y10,\">=0\"),\"-\")","v":"-"},{"$f":"+IFERROR(AVERAGEIFS('Resumen de indicadores HSE'!Z9:Z10,'Resumen de indicadores HSE'!Z9:Z10,\">=0\"),\"-\")","v":"-"},{"$f":"+IFERROR(AVERAGEIFS('Resumen de indicadores HSE'!AA9:AA10,'Resumen de indicadores HSE'!AA9:AA10,\">=0\"),\"-\")","v":"-"},{"$f":"+IFERROR(AVERAGEIFS('Resumen de indicadores HSE'!AB9:AB10,'Resumen de indicadores HSE'!AB9:AB10,\">=0\"),\"-\")","v":"-"},{"$f":"+IFERROR(AVERAGEIFS('Resumen de indicadores HSE'!AC9:AC10,'Resumen de indicadores HSE'!AC9:AC10,\">=0\"),\"-\")","v":"-"},{"$f":"+IFERROR(AVERAGEIFS('Resumen de indicadores HSE'!AD9:AD10,'Resumen de indicadores HSE'!AD9:AD10,\">=0\"),\"-\")","v":"-"},{"$f":"+IFERROR(AVERAGEIFS('Resumen de indicadores HSE'!AE9:AE10,'Resumen de indicadores HSE'!AE9:AE10,\">=0\"),\"-\")","v":"-"},{"$f":"+IFERROR(AVERAGEIFS('Resumen de indicadores HSE'!AF9:AF10,'Resumen de indicadores HSE'!AF9:AF10,\">=0\"),\"-\")","v":"-"},{"$f":"+IFERROR(AVERAGEIFS('Resumen de indicadores HSE'!AG9:AG10,'Resumen de indicadores HSE'!AG9:AG10,\">=0\"),\"-\")","v":"-"},{"$f":"+IFERROR(AVERAGEIFS('Resumen de indicadores HSE'!AH9:AH10,'Resumen de indicadores HSE'!AH9:AH10,\">=0\"),\"-\")","v":"-"},{"$f":"+IFERROR(AVERAGEIFS('Resumen de indicadores HSE'!AI9:AI10,'Resumen de indicadores HSE'!AI9:AI10,\">=0\"),\"-\")","v":"-"},{"$f":"+IFERROR(AVERAGEIFS('Resumen de indicadores HSE'!AJ9:AJ10,'Resumen de indicadores HSE'!AJ9:AJ10,\">=0\"),\"-\")","v":"-"},{"$f":"+IFERROR(AVERAGEIFS('Resumen de indicadores HSE'!AK9:AK10,'Resumen de indicadores HSE'!AK9:AK10,\">=0\"),\"-\")","v":"-"},{"$f":"+IFERROR(AVERAGEIFS('Resumen de indicadores HSE'!AL9:AL10,'Resumen de indicadores HSE'!AL9:AL10,\">=0\"),\"-\")","v":"-"},{"$f":"+IFERROR(AVERAGEIFS('Resumen de indicadores HSE'!AM9:AM10,'Resumen de indicadores HSE'!AM9:AM10,\">=0\"),\"-\")","v":"-"},{"$f":"+IFERROR(AVERAGEIFS('Resumen de indicadores HSE'!AN9:AN10,'Resumen de indicadores HSE'!AN9:AN10,\">=0\"),\"-\")","v":"-"},{"$f":"+IFERROR(AVERAGEIFS('Resumen de indicadores HSE'!AO9:AO10,'Resumen de indicadores HSE'!AO9:AO10,\">=0\"),\"-\")","v":"-"},{"$f":"+IFERROR(AVERAGEIFS('Resumen de indicadores HSE'!AP9:AP10,'Resumen de indicadores HSE'!AP9:AP10,\">=0\"),\"-\")","v":"-"},{"$f":"+IFERROR(AVERAGEIFS('Resumen de indicadores HSE'!AQ9:AQ10,'Resumen de indicadores HSE'!AQ9:AQ10,\">=0\"),\"-\")","v":"-"},{"$f":"+IFERROR(AVERAGEIFS('Resumen de indicadores HSE'!AR9:AR10,'Resumen de indicadores HSE'!AR9:AR10,\">=0\"),\"-\")","v":"-"},{"$f":"+IFERROR(AVERAGEIFS('Resumen de indicadores HSE'!AS9:AS10,'Resumen de indicadores HSE'!AS9:AS10,\">=0\"),\"-\")","v":"-"},{"$f":"+IFERROR(AVERAGEIFS('Resumen de indicadores HSE'!AT9:AT10,'Resumen de indicadores HSE'!AT9:AT10,\">=0\"),\"-\")","v":"-"},{"$f":"+IFERROR(AVERAGEIFS('Resumen de indicadores HSE'!AU9:AU10,'Resumen de indicadores HSE'!AU9:AU10,\">=0\"),\"-\")","v":"-"},{"$f":"+IFERROR(AVERAGEIFS('Resumen de indicadores HSE'!AV9:AV10,'Resumen de indicadores HSE'!AV9:AV10,\">=0\"),\"-\")","v":"-"},{"$f":"+IFERROR(AVERAGEIFS('Resumen de indicadores HSE'!AW9:AW10,'Resumen de indicadores HSE'!AW9:AW10,\">=0\"),\"-\")","v":"-"},{"$f":"+IFERROR(AVERAGEIFS('Resumen de indicadores HSE'!AX9:AX10,'Resumen de indicadores HSE'!AX9:AX10,\">=0\"),\"-\")","v":"-"},{"$f":"+IFERROR(AVERAGEIFS('Resumen de indicadores HSE'!AY9:AY10,'Resumen de indicadores HSE'!AY9:AY10,\">=0\"),\"-\")","v":"-"},{"$f":"+IFERROR(AVERAGEIFS('Resumen de indicadores HSE'!AZ9:AZ10,'Resumen de indicadores HSE'!AZ9:AZ10,\">=0\"),\"-\")","v":"-"},{"$f":"+IFERROR(AVERAGEIFS('Resumen de indicadores HSE'!BA9:BA10,'Resumen de indicadores HSE'!BA9:BA10,\">=0\"),\"-\")","v":"-"},{"$f":"+IFERROR(AVERAGEIFS('Resumen de indicadores HSE'!BB9:BB10,'Resumen de indicadores HSE'!BB9:BB10,\">=0\"),\"-\")","v":"-"},{"$f":"+IFERROR(AVERAGEIFS('Resumen de indicadores HSE'!BC9:BC10,'Resumen de indicadores HSE'!BC9:BC10,\">=0\"),\"-\")","v":"-"},{"$f":"+IFERROR(AVERAGEIFS('Resumen de indicadores HSE'!BD9:BD10,'Resumen de indicadores HSE'!BD9:BD10,\">=0\"),\"-\")","v":"-"},{"$f":"+IFERROR(AVERAGEIFS('Resumen de indicadores HSE'!BE9:BE10,'Resumen de indicadores HSE'!BE9:BE10,\">=0\"),\"-\")","v":"-"}]
[null,"HSE","Autocuidado","-",null,{"$f":"+IFERROR(AVERAGEIFS('Resumen de indicadores HSE'!H11:H12,'Resumen de indicadores HSE'!H11:H12,\">=0\"),\"-\")","v":"-"},{"$f":"+IFERROR(AVERAGEIFS('Resumen de indicadores HSE'!I11:I12,'Resumen de indicadores HSE'!I11:I12,\">=0\"),\"-\")","v":"-"},{"$f":"+IFERROR(AVERAGEIFS('Resumen de indicadores HSE'!J11:J12,'Resumen de indicadores HSE'!J11:J12,\">=0\"),\"-\")","v":"-"},{"$f":"+IFERROR(AVERAGEIFS('Resumen de indicadores HSE'!K11:K12,'Resumen de indicadores HSE'!K11:K12,\">=0\"),\"-\")","v":"-"},{"$f":"+IFERROR(AVERAGEIFS('Resumen de indicadores HSE'!L11:L12,'Resumen de indicadores HSE'!L11:L12,\">=0\"),\"-\")","v":"-"},{"$f":"+IFERROR(AVERAGEIFS('Resumen de indicadores HSE'!M11:M12,'Resumen de indicadores HSE'!M11:M12,\">=0\"),\"-\")","v":"-"},{"$f":"+IFERROR(AVERAGEIFS('Resumen de indicadores HSE'!N11:N12,'Resumen de indicadores HSE'!N11:N12,\">=0\"),\"-\")","v":"-"},{"$f":"+IFERROR(AVERAGEIFS('Resumen de indicadores HSE'!O11:O12,'Resumen de indicadores HSE'!O11:O12,\">=0\"),\"-\")","v":"-"},{"$f":"+IFERROR(AVERAGEIFS('Resumen de indicadores HSE'!P11:P12,'Resumen de indicadores HSE'!P11:P12,\">=0\"),\"-\")","v":"-"},{"$f":"+IFERROR(AVERAGEIFS('Resumen de indicadores HSE'!Q11:Q12,'Resumen de indicadores HSE'!Q11:Q12,\">=0\"),\"-\")","v":"-"},{"$f":"+IFERROR(AVERAGEIFS('Resumen de indicadores HSE'!R11:R12,'Resumen de indicadores HSE'!R11:R12,\">=0\"),\"-\")","v":"-"},{"$f":"+IFERROR(AVERAGEIFS('Resumen de indicadores HSE'!S11:S12,'Resumen de indicadores HSE'!S11:S12,\">=0\"),\"-\")","v":"-"},{"$f":"+IFERROR(AVERAGEIFS('Resumen de indicadores HSE'!T11:T12,'Resumen de indicadores HSE'!T11:T12,\">=0\"),\"-\")","v":"-"},{"$f":"+IFERROR(AVERAGEIFS('Resumen de indicadores HSE'!U11:U12,'Resumen de indicadores HSE'!U11:U12,\">=0\"),\"-\")","v":"-"},{"$f":"+IFERROR(AVERAGEIFS('Resumen de indicadores HSE'!V11:V12,'Resumen de indicadores HSE'!V11:V12,\">=0\"),\"-\")","v":"-"},{"$f":"+IFERROR(AVERAGEIFS('Resumen de indicadores HSE'!W11:W12,'Resumen de indicadores HSE'!W11:W12,\">=0\"),\"-\")","v":"-"},{"$f":"+IFERROR(AVERAGEIFS('Resumen de indicadores HSE'!X11:X12,'Resumen de indicadores HSE'!X11:X12,\">=0\"),\"-\")","v":"-"},{"$f":"+IFERROR(AVERAGEIFS('Resumen de indicadores HSE'!Y11:Y12,'Resumen de indicadores HSE'!Y11:Y12,\">=0\"),\"-\")","v":"-"},{"$f":"+IFERROR(AVERAGEIFS('Resumen de indicadores HSE'!Z11:Z12,'Resumen de indicadores HSE'!Z11:Z12,\">=0\"),\"-\")","v":"-"},{"$f":"+IFERROR(AVERAGEIFS('Resumen de indicadores HSE'!AA11:AA12,'Resumen de indicadores HSE'!AA11:AA12,\">=0\"),\"-\")","v":"-"},{"$f":"+IFERROR(AVERAGEIFS('Resumen de indicadores HSE'!AB11:AB12,'Resumen de indicadores HSE'!AB11:AB12,\">=0\"),\"-\")","v":"-"},{"$f":"+IFERROR(AVERAGEIFS('Resumen de indicadores HSE'!AC11:AC12,'Resumen de indicadores HSE'!AC11:AC12,\">=0\"),\"-\")","v":"-"},{"$f":"+IFERROR(AVERAGEIFS('Resumen de indicadores HSE'!AD11:AD12,'Resumen de indicadores HSE'!AD11:AD12,\">=0\"),\"-\")","v":"-"},{"$f":"+IFERROR(AVERAGEIFS('Resumen de indicadores HSE'!AE11:AE12,'Resumen de indicadores HSE'!AE11:AE12,\">=0\"),\"-\")","v":"-"},{"$f":"+IFERROR(AVERAGEIFS('Resumen de indicadores HSE'!AF11:AF12,'Resumen de indicadores HSE'!AF11:AF12,\">=0\"),\"-\")","v":"-"},{"$f":"+IFERROR(AVERAGEIFS('Resumen de indicadores HSE'!AG11:AG12,'Resumen de indicadores HSE'!AG11:AG12,\">=0\"),\"-\")","v":"-"},{"$f":"+IFERROR(AVERAGEIFS('Resumen de indicadores HSE'!AH11:AH12,'Resumen de indicadores HSE'!AH11:AH12,\">=0\"),\"-\")","v":"-"},{"$f":"+IFERROR(AVERAGEIFS('Resumen de indicadores HSE'!AI11:AI12,'Resumen de indicadores HSE'!AI11:AI12,\">=0\"),\"-\")","v":"-"},{"$f":"+IFERROR(AVERAGEIFS('Resumen de indicadores HSE'!AJ11:AJ12,'Resumen de indicadores HSE'!AJ11:AJ12,\">=0\"),\"-\")","v":"-"},{"$f":"+IFERROR(AVERAGEIFS('Resumen de indicadores HSE'!AK11:AK12,'Resumen de indicadores HSE'!AK11:AK12,\">=0\"),\"-\")","v":"-"},{"$f":"+IFERROR(AVERAGEIFS('Resumen de indicadores HSE'!AL11:AL12,'Resumen de indicadores HSE'!AL11:AL12,\">=0\"),\"-\")","v":"-"},{"$f":"+IFERROR(AVERAGEIFS('Resumen de indicadores HSE'!AM11:AM12,'Resumen de indicadores HSE'!AM11:AM12,\">=0\"),\"-\")","v":"-"},{"$f":"+IFERROR(AVERAGEIFS('Resumen de indicadores HSE'!AN11:AN12,'Resumen de indicadores HSE'!AN11:AN12,\">=0\"),\"-\")","v":"-"},{"$f":"+IFERROR(AVERAGEIFS('Resumen de indicadores HSE'!AO11:AO12,'Resumen de indicadores HSE'!AO11:AO12,\">=0\"),\"-\")","v":"-"},{"$f":"+IFERROR(AVERAGEIFS('Resumen de indicadores HSE'!AP11:AP12,'Resumen de indicadores HSE'!AP11:AP12,\">=0\"),\"-\")","v":"-"},{"$f":"+IFERROR(AVERAGEIFS('Resumen de indicadores HSE'!AQ11:AQ12,'Resumen de indicadores HSE'!AQ11:AQ12,\">=0\"),\"-\")","v":"-"},{"$f":"+IFERROR(AVERAGEIFS('Resumen de indicadores HSE'!AR11:AR12,'Resumen de indicadores HSE'!AR11:AR12,\">=0\"),\"-\")","v":"-"},{"$f":"+IFERROR(AVERAGEIFS('Resumen de indicadores HSE'!AS11:AS12,'Resumen de indicadores HSE'!AS11:AS12,\">=0\"),\"-\")","v":"-"},{"$f":"+IFERROR(AVERAGEIFS('Resumen de indicadores HSE'!AT11:AT12,'Resumen de indicadores HSE'!AT11:AT12,\">=0\"),\"-\")","v":"-"},{"$f":"+IFERROR(AVERAGEIFS('Resumen de indicadores HSE'!AU11:AU12,'Resumen de indicadores HSE'!AU11:AU12,\">=0\"),\"-\")","v":"-"},{"$f":"+IFERROR(AVERAGEIFS('Resumen de indicadores HSE'!AV11:AV12,'Resumen de indicadores HSE'!AV11:AV12,\">=0\"),\"-\")","v":"-"},{"$f":"+IFERROR(AVERAGEIFS('Resumen de indicadores HSE'!AW11:AW12,'Resumen de indicadores HSE'!AW11:AW12,\">=0\"),\"-\")","v":"-"},{"$f":"+IFERROR(AVERAGEIFS('Resumen de indicadores HSE'!AX11:AX12,'Resumen de indicadores HSE'!AX11:AX12,\">=0\"),\"-\")","v":"-"},{"$f":"+IFERROR(AVERAGEIFS('Resumen de indicadores HSE'!AY11:AY12,'Resumen de indicadores HSE'!AY11:AY12,\">=0\"),\"-\")","v":"-"},{"$f":"+IFERROR(AVERAGEIFS('Resumen de indicadores HSE'!AZ11:AZ12,'Resumen de indicadores HSE'!AZ11:AZ12,\">=0\"),\"-\")","v":"-"},{"$f":"+IFERROR(AVERAGEIFS('Resumen de indicadores HSE'!BA11:BA12,'Resumen de indicadores HSE'!BA11:BA12,\">=0\"),\"-\")","v":"-"},{"$f":"+IFERROR(AVERAGEIFS('Resumen de indicadores HSE'!BB11:BB12,'Resumen de indicadores HSE'!BB11:BB12,\">=0\"),\"-\")","v":"-"},{"$f":"+IFERROR(AVERAGEIFS('Resumen de indicadores HSE'!BC11:BC12,'Resumen de indicadores HSE'!BC11:BC12,\">=0\"),\"-\")","v":"-"},{"$f":"+IFERROR(AVERAGEIFS('Resumen de indicadores HSE'!BD11:BD12,'Resumen de indicadores HSE'!BD11:BD12,\">=0\"),\"-\")","v":"-"},{"$f":"+IFERROR(AVERAGEIFS('Resumen de indicadores HSE'!BE11:BE12,'Resumen de indicadores HSE'!BE11:BE12,\">=0\"),\"-\")","v":"-"}]
[null,"HSE","Regulación Emocional","-",null,{"$f":"+IFERROR(AVERAGEIFS('Resumen de indicadores HSE'!H13,'Resumen de indicadores HSE'!H13,\">=0\"),\"-\")","v":"-"},{"$f":"+IFERROR(AVERAGEIFS('Resumen de indicadores HSE'!I13,'Resumen de indicadores HSE'!I13,\">=0\"),\"-\")","v":"-"},{"$f":"+IFERROR(AVERAGEIFS('Resumen de indicadores HSE'!J13,'Resumen de indicadores HSE'!J13,\">=0\"),\"-\")","v":"-"},{"$f":"+IFERROR(AVERAGEIFS('Resumen de indicadores HSE'!K13,'Resumen de indicadores HSE'!K13,\">=0\"),\"-\")","v":"-"},{"$f":"+IFERROR(AVERAGEIFS('Resumen de indicadores HSE'!L13,'Resumen de indicadores HSE'!L13,\">=0\"),\"-\")","v":"-"},{"$f":"+IFERROR(AVERAGEIFS('Resumen de indicadores HSE'!M13,'Resumen de indicadores HSE'!M13,\">=0\"),\"-\")","v":"-"},{"$f":"+IFERROR(AVERAGEIFS('Resumen de indicadores HSE'!N13,'Resumen de indicadores HSE'!N13,\">=0\"),\"-\")","v":"-"},{"$f":"+IFERROR(AVERAGEIFS('Resumen de indicadores HSE'!O13,'Resumen de indicadores HSE'!O13,\">=0\"),\"-\")","v":"-"},{"$f":"+IFERROR(AVERAGEIFS('Resumen de indicadores HSE'!P13,'Resumen de indicadores HSE'!P13,\">=0\"),\"-\")","v":"-"},{"$f":"+IFERROR(AVERAGEIFS('Resumen de indicadores HSE'!Q13,'Resumen de indicadores HSE'!Q13,\">=0\"),\"-\")","v":"-"},{"$f":"+IFERROR(AVERAGEIFS('Resumen de indicadores HSE'!R13,'Resumen de indicadores HSE'!R13,\">=0\"),\"-\")","v":"-"},{"$f":"+IFERROR(AVERAGEIFS('Resumen de indicadores HSE'!S13,'Resumen de indicadores HSE'!S13,\">=0\"),\"-\")","v":"-"},{"$f":"+IFERROR(AVERAGEIFS('Resumen de indicadores HSE'!T13,'Resumen de indicadores HSE'!T13,\">=0\"),\"-\")","v":"-"},{"$f":"+IFERROR(AVERAGEIFS('Resumen de indicadores HSE'!U13,'Resumen de indicadores HSE'!U13,\">=0\"),\"-\")","v":"-"},{"$f":"+IFERROR(AVERAGEIFS('Resumen de indicadores HSE'!V13,'Resumen de indicadores HSE'!V13,\">=0\"),\"-\")","v":"-"},{"$f":"+IFERROR(AVERAGEIFS('Resumen de indicadores HSE'!W13,'Resumen de indicadores HSE'!W13,\">=0\"),\"-\")","v":"-"},{"$f":"+IFERROR(AVERAGEIFS('Resumen de indicadores HSE'!X13,'Resumen de indicadores HSE'!X13,\">=0\"),\"-\")","v":"-"},{"$f":"+IFERROR(AVERAGEIFS('Resumen de indicadores HSE'!Y13,'Resumen de indicadores HSE'!Y13,\">=0\"),\"-\")","v":"-"},{"$f":"+IFERROR(AVERAGEIFS('Resumen de indicadores HSE'!Z13,'Resumen de indicadores HSE'!Z13,\">=0\"),\"-\")","v":"-"},{"$f":"+IFERROR(AVERAGEIFS('Resumen de indicadores HSE'!AA13,'Resumen de indicadores HSE'!AA13,\">=0\"),\"-\")","v":"-"},{"$f":"+IFERROR(AVERAGEIFS('Resumen de indicadores HSE'!AB13,'Resumen de indicadores HSE'!AB13,\">=0\"),\"-\")","v":"-"},{"$f":"+IFERROR(AVERAGEIFS('Resumen de indicadores HSE'!AC13,'Resumen de indicadores HSE'!AC13,\">=0\"),\"-\")","v":"-"},{"$f":"+IFERROR(AVERAGEIFS('Resumen de indicadores HSE'!AD13,'Resumen de indicadores HSE'!AD13,\">=0\"),\"-\")","v":"-"},{"$f":"+IFERROR(AVERAGEIFS('Resumen de indicadores HSE'!AE13,'Resumen de indicadores HSE'!AE13,\">=0\"),\"-\")","v":"-"},{"$f":"+IFERROR(AVERAGEIFS('Resumen de indicadores HSE'!AF13,'Resumen de indicadores HSE'!AF13,\">=0\"),\"-\")","v":"-"},{"$f":"+IFERROR(AVERAGEIFS('Resumen de indicadores HSE'!AG13,'Resumen de indicadores HSE'!AG13,\">=0\"),\"-\")","v":"-"},{"$f":"+IFERROR(AVERAGEIFS('Resumen de indicadores HSE'!AH13,'Resumen de indicadores HSE'!AH13,\">=0\"),\"-\")","v":"-"},{"$f":"+IFERROR(AVERAGEIFS('Resumen de indicadores HSE'!AI13,'Resumen de indicadores HSE'!AI13,\">=0\"),\"-\")","v":"-"},{"$f":"+IFERROR(AVERAGEIFS('Resumen de indicadores HSE'!AJ13,'Resumen de indicadores HSE'!AJ13,\">=0\"),\"-\")","v":"-"},{"$f":"+IFERROR(AVERAGEIFS('Resumen de indicadores HSE'!AK13,'Resumen de indicadores HSE'!AK13,\">=0\"),\"-\")","v":"-"},{"$f":"+IFERROR(AVERAGEIFS('Resumen de indicadores HSE'!AL13,'Resumen de indicadores HSE'!AL13,\">=0\"),\"-\")","v":"-"},{"$f":"+IFERROR(AVERAGEIFS('Resumen de indicadores HSE'!AM13,'Resumen de indicadores HSE'!AM13,\">=0\"),\"-\")","v":"-"},{"$f":"+IFERROR(AVERAGEIFS('Resumen de indicadores HSE'!AN13,'Resumen de indicadores HSE'!AN13,\">=0\"),\"-\")","v":"-"},{"$f":"+IFERROR(AVERAGEIFS('Resumen de indicadores HSE'!AO13,'Resumen de indicadores HSE'!AO13,\">=0\"),\"-\")","v":"-"},{"$f":"+IFERROR(AVERAGEIFS('Resumen de indicadores HSE'!AP13,'Resumen de indicadores HSE'!AP13,\">=0\"),\"-\")","v":"-"},{"$f":"+IFERROR(AVERAGEIFS('Resumen de indicadores HSE'!AQ13,'Resumen de indicadores HSE'!AQ13,\">=0\"),\"-\")","v":"-"},{"$f":"+IFERROR(AVERAGEIFS('Resumen de indicadores HSE'!AR13,'Resumen de indicadores HSE'!AR13,\">=0\"),\"-\")","v":"-"},{"$f":"+IFERROR(AVERAGEIFS('Resumen de indicadores HSE'!AS13,'Resumen de indicadores HSE'!AS13,\">=0\"),\"-\")","v":"-"},{"$f":"+IFERROR(AVERAGEIFS('Resumen de indicadores HSE'!AT13,'Resumen de indicadores HSE'!AT13,\">=0\"),\"-\")","v":"-"},{"$f":"+IFERROR(AVERAGEIFS('Resumen de indicadores HSE'!AU13,'Resumen de indicadores HSE'!AU13,\">=0\"),\"-\")","v":"-"},{"$f":"+IFERROR(AVERAGEIFS('Resumen de indicadores HSE'!AV13,'Resumen de indicadores HSE'!AV13,\">=0\"),\"-\")","v":"-"},{"$f":"+IFERROR(AVERAGEIFS('Resumen de indicadores HSE'!AW13,'Resumen de indicadores HSE'!AW13,\">=0\"),\"-\")","v":"-"},{"$f":"+IFERROR(AVERAGEIFS('Resumen de indicadores HSE'!AX13,'Resumen de indicadores HSE'!AX13,\">=0\"),\"-\")","v":"-"},{"$f":"+IFERROR(AVERAGEIFS('Resumen de indicadores HSE'!AY13,'Resumen de indicadores HSE'!AY13,\">=0\"),\"-\")","v":"-"},{"$f":"+IFERROR(AVERAGEIFS('Resumen de indicadores HSE'!AZ13,'Resumen de indicadores HSE'!AZ13,\">=0\"),\"-\")","v":"-"},{"$f":"+IFERROR(AVERAGEIFS('Resumen de indicadores HSE'!BA13,'Resumen de indicadores HSE'!BA13,\">=0\"),\"-\")","v":"-"},{"$f":"+IFERROR(AVERAGEIFS('Resumen de indicadores HSE'!BB13,'Resumen de indicadores HSE'!BB13,\">=0\"),\"-\")","v":"-"},{"$f":"+IFERROR(AVERAGEIFS('Resumen de indicadores HSE'!BC13,'Resumen de indicadores HSE'!BC13,\">=0\"),\"-\")","v":"-"},{"$f":"+IFERROR(AVERAGEIFS('Resumen de indicadores HSE'!BD13,'Resumen de indicadores HSE'!BD13,\">=0\"),\"-\")","v":"-"},{"$f":"+IFERROR(AVERAGEIFS('Resumen de indicadores HSE'!BE13,'Resumen de indicadores HSE'!BE13,\">=0\"),\"-\")","v":"-"}]
[null,"HSE","Creatividad","-",null,{"$f":"+IFERROR(AVERAGEIFS('Resumen de indicadores HSE'!H14:H15,'Resumen de indicadores HSE'!H14:H15,\">=0\"),\"-\")","v":"-"},{"$f":"+IFERROR(AVERAGEIFS('Resumen de indicadores HSE'!I14:I15,'Resumen de indicadores HSE'!I14:I15,\">=0\"),\"-\")","v":"-"},{"$f":"+IFERROR(AVERAGEIFS('Resumen de indicadores HSE'!J14:J15,'Resumen de indicadores HSE'!J14:J15,\">=0\"),\"-\")","v":"-"},{"$f":"+IFERROR(AVERAGEIFS('Resumen de indicadores HSE'!K14:K15,'Resumen de indicadores HSE'!K14:K15,\">=0\"),\"-\")","v":"-"},{"$f":"+IFERROR(AVERAGEIFS('Resumen de indicadores HSE'!L14:L15,'Resumen de indicadores HSE'!L14:L15,\">=0\"),\"-\")","v":"-"},{"$f":"+IFERROR(AVERAGEIFS('Resumen de indicadores HSE'!M14:M15,'Resumen de indicadores HSE'!M14:M15,\">=0\"),\"-\")","v":"-"},{"$f":"+IFERROR(AVERAGEIFS('Resumen de indicadores HSE'!N14:N15,'Resumen de indicadores HSE'!N14:N15,\">=0\"),\"-\")","v":"-"},{"$f":"+IFERROR(AVERAGEIFS('Resumen de indicadores HSE'!O14:O15,'Resumen de indicadores HSE'!O14:O15,\">=0\"),\"-\")","v":"-"},{"$f":"+IFERROR(AVERAGEIFS('Resumen de indicadores HSE'!P14:P15,'Resumen de indicadores HSE'!P14:P15,\">=0\"),\"-\")","v":"-"},{"$f":"+IFERROR(AVERAGEIFS('Resumen de indicadores HSE'!Q14:Q15,'Resumen de indicadores HSE'!Q14:Q15,\">=0\"),\"-\")","v":"-"},{"$f":"+IFERROR(AVERAGEIFS('Resumen de indicadores HSE'!R14:R15,'Resumen de indicadores HSE'!R14:R15,\">=0\"),\"-\")","v":"-"},{"$f":"+IFERROR(AVERAGEIFS('Resumen de indicadores HSE'!S14:S15,'Resumen de indicadores HSE'!S14:S15,\">=0\"),\"-\")","v":"-"},{"$f":"+IFERROR(AVERAGEIFS('Resumen de indicadores HSE'!T14:T15,'Resumen de indicadores HSE'!T14:T15,\">=0\"),\"-\")","v":"-"},{"$f":"+IFERROR(AVERAGEIFS('Resumen de indicadores HSE'!U14:U15,'Resumen de indicadores HSE'!U14:U15,\">=0\"),\"-\")","v":"-"},{"$f":"+IFERROR(AVERAGEIFS('Resumen de indicadores HSE'!V14:V15,'Resumen de indicadores HSE'!V14:V15,\">=0\"),\"-\")","v":"-"},{"$f":"+IFERROR(AVERAGEIFS('Resumen de indicadores HSE'!W14:W15,'Resumen de indicadores HSE'!W14:W15,\">=0\"),\"-\")","v":"-"},{"$f":"+IFERROR(AVERAGEIFS('Resumen de indicadores HSE'!X14:X15,'Resumen de indicadores HSE'!X14:X15,\">=0\"),\"-\")","v":"-"},{"$f":"+IFERROR(AVERAGEIFS('Resumen de indicadores HSE'!Y14:Y15,'Resumen de indicadores HSE'!Y14:Y15,\">=0\"),\"-\")","v":"-"},{"$f":"+IFERROR(AVERAGEIFS('Resumen de indicadores HSE'!Z14:Z15,'Resumen de indicadores HSE'!Z14:Z15,\">=0\"),\"-\")","v":"-"},{"$f":"+IFERROR(AVERAGEIFS('Resumen de indicadores HSE'!AA14:AA15,'Resumen de indicadores HSE'!AA14:AA15,\">=0\"),\"-\")","v":"-"},{"$f":"+IFERROR(AVERAGEIFS('Resumen de indicadores HSE'!AB14:AB15,'Resumen de indicadores HSE'!AB14:AB15,\">=0\"),\"-\")","v":"-"},{"$f":"+IFERROR(AVERAGEIFS('Resumen de indicadores HSE'!AC14:AC15,'Resumen de indicadores HSE'!AC14:AC15,\">=0\"),\"-\")","v":"-"},{"$f":"+IFERROR(AVERAGEIFS('Resumen de indicadores HSE'!AD14:AD15,'Resumen de indicadores HSE'!AD14:AD15,\">=0\"),\"-\")","v":"-"},{"$f":"+IFERROR(AVERAGEIFS('Resumen de indicadores HSE'!AE14:AE15,'Resumen de indicadores HSE'!AE14:AE15,\">=0\"),\"-\")","v":"-"},{"$f":"+IFERROR(AVERAGEIFS('Resumen de indicadores HSE'!AF14:AF15,'Resumen de indicadores HSE'!AF14:AF15,\">=0\"),\"-\")","v":"-"},{"$f":"+IFERROR(AVERAGEIFS('Resumen de indicadores HSE'!AG14:AG15,'Resumen de indicadores HSE'!AG14:AG15,\">=0\"),\"-\")","v":"-"},{"$f":"+IFERROR(AVERAGEIFS('Resumen de indicadores HSE'!AH14:AH15,'Resumen de indicadores HSE'!AH14:AH15,\">=0\"),\"-\")","v":"-"},{"$f":"+IFERROR(AVERAGEIFS('Resumen de indicadores HSE'!AI14:AI15,'Resumen de indicadores HSE'!AI14:AI15,\">=0\"),\"-\")","v":"-"},{"$f":"+IFERROR(AVERAGEIFS('Resumen de indicadores HSE'!AJ14:AJ15,'Resumen de indicadores HSE'!AJ14:AJ15,\">=0\"),\"-\")","v":"-"},{"$f":"+IFERROR(AVERAGEIFS('Resumen de indicadores HSE'!AK14:AK15,'Resumen de indicadores HSE'!AK14:AK15,\">=0\"),\"-\")","v":"-"},{"$f":"+IFERROR(AVERAGEIFS('Resumen de indicadores HSE'!AL14:AL15,'Resumen de indicadores HSE'!AL14:AL15,\">=0\"),\"-\")","v":"-"},{"$f":"+IFERROR(AVERAGEIFS('Resumen de indicadores HSE'!AM14:AM15,'Resumen de indicadores HSE'!AM14:AM15,\">=0\"),\"-\")","v":"-"},{"$f":"+IFERROR(AVERAGEIFS('Resumen de indicadores HSE'!AN14:AN15,'Resumen de indicadores HSE'!AN14:AN15,\">=0\"),\"-\")","v":"-"},{"$f":"+IFERROR(AVERAGEIFS('Resumen de indicadores HSE'!AO14:AO15,'Resumen de indicadores HSE'!AO14:AO15,\">=0\"),\"-\")","v":"-"},{"$f":"+IFERROR(AVERAGEIFS('Resumen de indicadores HSE'!AP14:AP15,'Resumen de indicadores HSE'!AP14:AP15,\">=0\"),\"-\")","v":"-"},{"$f":"+IFERROR(AVERAGEIFS('Resumen de indicadores HSE'!AQ14:AQ15,'Resumen de indicadores HSE'!AQ14:AQ15,\">=0\"),\"-\")","v":"-"},{"$f":"+IFERROR(AVERAGEIFS('Resumen de indicadores HSE'!AR14:AR15,'Resumen de indicadores HSE'!AR14:AR15,\">=0\"),\"-\")","v":"-"},{"$f":"+IFERROR(AVERAGEIFS('Resumen de indicadores HSE'!AS14:AS15,'Resumen de indicadores HSE'!AS14:AS15,\">=0\"),\"-\")","v":"-"},{"$f":"+IFERROR(AVERAGEIFS('Resumen de indicadores HSE'!AT14:AT15,'Resumen de indicadores HSE'!AT14:AT15,\">=0\"),\"-\")","v":"-"},{"$f":"+IFERROR(AVERAGEIFS('Resumen de indicadores HSE'!AU14:AU15,'Resumen de indicadores HSE'!AU14:AU15,\">=0\"),\"-\")","v":"-"},{"$f":"+IFERROR(AVERAGEIFS('Resumen de indicadores HSE'!AV14:AV15,'Resumen de indicadores HSE'!AV14:AV15,\">=0\"),\"-\")","v":"-"},{"$f":"+IFERROR(AVERAGEIFS('Resumen de indicadores HSE'!AW14:AW15,'Resumen de indicadores HSE'!AW14:AW15,\">=0\"),\"-\")","v":"-"},{"$f":"+IFERROR(AVERAGEIFS('Resumen de indicadores HSE'!AX14:AX15,'Resumen de indicadores HSE'!AX14:AX15,\">=0\"),\"-\")","v":"-"},{"$f":"+IFERROR(AVERAGEIFS('Resumen de indicadores HSE'!AY14:AY15,'Resumen de indicadores HSE'!AY14:AY15,\">=0\"),\"-\")","v":"-"},{"$f":"+IFERROR(AVERAGEIFS('Resumen de indicadores HSE'!AZ14:AZ15,'Resumen de indicadores HSE'!AZ14:AZ15,\">=0\"),\"-\")","v":"-"},{"$f":"+IFERROR(AVERAGEIFS('Resumen de indicadores HSE'!BA14:BA15,'Resumen de indicadores HSE'!BA14:BA15,\">=0\"),\"-\")","v":"-"},{"$f":"+IFERROR(AVERAGEIFS('Resumen de indicadores HSE'!BB14:BB15,'Resumen de indicadores HSE'!BB14:BB15,\">=0\"),\"-\")","v":"-"},{"$f":"+IFERROR(AVERAGEIFS('Resumen de indicadores HSE'!BC14:BC15,'Resumen de indicadores HSE'!BC14:BC15,\">=0\"),\"-\")","v":"-"},{"$f":"+IFERROR(AVERAGEIFS('Resumen de indicadores HSE'!BD14:BD15,'Resumen de indicadores HSE'!BD14:BD15,\">=0\"),\"-\")","v":"-"},{"$f":"+IFERROR(AVERAGEIFS('Resumen de indicadores HSE'!BE14:BE15,'Resumen de indicadores HSE'!BE14:BE15,\">=0\"),\"-\")","v":"-"}]
[null,"HSE","Toma de decisiones responsables","-",null,{"$f":"+IFERROR(AVERAGEIFS('Resumen de indicadores HSE'!H16,'Resumen de indicadores HSE'!H16,\">=0\"),\"-\")","v":"-"},{"$f":"+IFERROR(AVERAGEIFS('Resumen de indicadores HSE'!I16,'Resumen de indicadores HSE'!I16,\">=0\"),\"-\")","v":"-"},{"$f":"+IFERROR(AVERAGEIFS('Resumen de indicadores HSE'!J16,'Resumen de indicadores HSE'!J16,\">=0\"),\"-\")","v":"-"},{"$f":"+IFERROR(AVERAGEIFS('Resumen de indicadores HSE'!K16,'Resumen de indicadores HSE'!K16,\">=0\"),\"-\")","v":"-"},{"$f":"+IFERROR(AVERAGEIFS('Resumen de indicadores HSE'!L16,'Resumen de indicadores HSE'!L16,\">=0\"),\"-\")","v":"-"},{"$f":"+IFERROR(AVERAGEIFS('Resumen de indicadores HSE'!M16,'Resumen de indicadores HSE'!M16,\">=0\"),\"-\")","v":"-"},{"$f":"+IFERROR(AVERAGEIFS('Resumen de indicadores HSE'!N16,'Resumen de indicadores HSE'!N16,\">=0\"),\"-\")","v":"-"},{"$f":"+IFERROR(AVERAGEIFS('Resumen de indicadores HSE'!O16,'Resumen de indicadores HSE'!O16,\">=0\"),\"-\")","v":"-"},{"$f":"+IFERROR(AVERAGEIFS('Resumen de indicadores HSE'!P16,'Resumen de indicadores HSE'!P16,\">=0\"),\"-\")","v":"-"},{"$f":"+IFERROR(AVERAGEIFS('Resumen de indicadores HSE'!Q16,'Resumen de indicadores HSE'!Q16,\">=0\"),\"-\")","v":"-"},{"$f":"+IFERROR(AVERAGEIFS('Resumen de indicadores HSE'!R16,'Resumen de indicadores HSE'!R16,\">=0\"),\"-\")","v":"-"},{"$f":"+IFERROR(AVERAGEIFS('Resumen de indicadores HSE'!S16,'Resumen de indicadores HSE'!S16,\">=0\"),\"-\")","v":"-"},{"$f":"+IFERROR(AVERAGEIFS('Resumen de indicadores HSE'!T16,'Resumen de indicadores HSE'!T16,\">=0\"),\"-\")","v":"-"},{"$f":"+IFERROR(AVERAGEIFS('Resumen de indicadores HSE'!U16,'Resumen de indicadores HSE'!U16,\">=0\"),\"-\")","v":"-"},{"$f":"+IFERROR(AVERAGEIFS('Resumen de indicadores HSE'!V16,'Resumen de indicadores HSE'!V16,\">=0\"),\"-\")","v":"-"},{"$f":"+IFERROR(AVERAGEIFS('Resumen de indicadores HSE'!W16,'Resumen de indicadores HSE'!W16,\">=0\"),\"-\")","v":"-"},{"$f":"+IFERROR(AVERAGEIFS('Resumen de indicadores HSE'!X16,'Resumen de indicadores HSE'!X16,\">=0\"),\"-\")","v":"-"},{"$f":"+IFERROR(AVERAGEIFS('Resumen de indicadores HSE'!Y16,'Resumen de indicadores HSE'!Y16,\">=0\"),\"-\")","v":"-"},{"$f":"+IFERROR(AVERAGEIFS('Resumen de indicadores HSE'!Z16,'Resumen de indicadores HSE'!Z16,\">=0\"),\"-\")","v":"-"},{"$f":"+IFERROR(AVERAGEIFS('Resumen de indicadores HSE'!AA16,'Resumen de indicadores HSE'!AA16,\">=0\"),\"-\")","v":"-"},{"$f":"+IFERROR(AVERAGEIFS('Resumen de indicadores HSE'!AB16,'Resumen de indicadores HSE'!AB16,\">=0\"),\"-\")","v":"-"},{"$f":"+IFERROR(AVERAGEIFS('Resumen de indicadores HSE'!AC16,'Resumen de indicadores HSE'!AC16,\">=0\"),\"-\")","v":"-"},{"$f":"+IFERROR(AVERAGEIFS('Resumen de indicadores HSE'!AD16,'Resumen de indicadores HSE'!AD16,\">=0\"),\"-\")","v":"-"},{"$f":"+IFERROR(AVERAGEIFS('Resumen de indicadores HSE'!AE16,'Resumen de indicadores HSE'!AE16,\">=0\"),\"-\")","v":"-"},{"$f":"+IFERROR(AVERAGEIFS('Resumen de indicadores HSE'!AF16,'Resumen de indicadores HSE'!AF16,\">=0\"),\"-\")","v":"-"},{"$f":"+IFERROR(AVERAGEIFS('Resumen de indicadores HSE'!AG16,'Resumen de indicadores HSE'!AG16,\">=0\"),\"-\")","v":"-"},{"$f":"+IFERROR(AVERAGEIFS('Resumen de indicadores HSE'!AH16,'Resumen de indicadores HSE'!AH16,\">=0\"),\"-\")","v":"-"},{"$f":"+IFERROR(AVERAGEIFS('Resumen de indicadores HSE'!AI16,'Resumen de indicadores HSE'!AI16,\">=0\"),\"-\")","v":"-"},{"$f":"+IFERROR(AVERAGEIFS('Resumen de indicadores HSE'!AJ16,'Resumen de indicadores HSE'!AJ16,\">=0\"),\"-\")","v":"-"},{"$f":"+IFERROR(AVERAGEIFS('Resumen de indicadores HSE'!AK16,'Resumen de indicadores HSE'!AK16,\">=0\"),\"-\")","v":"-"},{"$f":"+IFERROR(AVERAGEIFS('Resumen de indicadores HSE'!AL16,'Resumen de indicadores HSE'!AL16,\">=0\"),\"-\")","v":"-"},{"$f":"+IFERROR(AVERAGEIFS('Resumen de indicadores HSE'!AM16,'Resumen de indicadores HSE'!AM16,\">=0\"),\"-\")","v":"-"},{"$f":"+IFERROR(AVERAGEIFS('Resumen de indicadores HSE'!AN16,'Resumen de indicadores HSE'!AN16,\">=0\"),\"-\")","v":"-"},{"$f":"+IFERROR(AVERAGEIFS('Resumen de indicadores HSE'!AO16,'Resumen de indicadores HSE'!AO16,\">=0\"),\"-\")","v":"-"},{"$f":"+IFERROR(AVERAGEIFS('Resumen de indicadores HSE'!AP16,'Resumen de indicadores HSE'!AP16,\">=0\"),\"-\")","v":"-"},{"$f":"+IFERROR(AVERAGEIFS('Resumen de indicadores HSE'!AQ16,'Resumen de indicadores HSE'!AQ16,\">=0\"),\"-\")","v":"-"},{"$f":"+IFERROR(AVERAGEIFS('Resumen de indicadores HSE'!AR16,'Resumen de indicadores HSE'!AR16,\">=0\"),\"-\")","v":"-"},{"$f":"+IFERROR(AVERAGEIFS('Resumen de indicadores HSE'!AS16,'Resumen de indicadores HSE'!AS16,\">=0\"),\"-\")","v":"-"},{"$f":"+IFERROR(AVERAGEIFS('Resumen de indicadores HSE'!AT16,'Resumen de indicadores HSE'!AT16,\">=0\"),\"-\")","v":"-"},{"$f":"+IFERROR(AVERAGEIFS('Resumen de indicadores HSE'!AU16,'Resumen de indicadores HSE'!AU16,\">=0\"),\"-\")","v":"-"},{"$f":"+IFERROR(AVERAGEIFS('Resumen de indicadores HSE'!AV16,'Resumen de indicadores HSE'!AV16,\">=0\"),\"-\")","v":"-"},{"$f":"+IFERROR(AVERAGEIFS('Resumen de indicadores HSE'!AW16,'Resumen de indicadores HSE'!AW16,\">=0\"),\"-\")","v":"-"},{"$f":"+IFERROR(AVERAGEIFS('Resumen de indicadores HSE'!AX16,'Resumen de indicadores HSE'!AX16,\">=0\"),\"-\")","v":"-"},{"$f":"+IFERROR(AVERAGEIFS('Resumen de indicadores HSE'!AY16,'Resumen de indicadores HSE'!AY16,\">=0\"),\"-\")","v":"-"},{"$f":"+IFERROR(AVERAGEIFS('Resumen de indicadores HSE'!AZ16,'Resumen de indicadores HSE'!AZ16,\">=0\"),\"-\")","v":"-"},{"$f":"+IFERROR(AVERAGEIFS('Resumen de indicadores HSE'!BA16,'Resumen de indicadores HSE'!BA16,\">=0\"),\"-\")","v":"-"},{"$f":"+IFERROR(AVERAGEIFS('Resumen de indicadores HSE'!BB16,'Resumen de indicadores HSE'!BB16,\">=0\"),\"-\")","v":"-"},{"$f":"+IFERROR(AVERAGEIFS('Resumen de indicadores HSE'!BC16,'Resumen de indicadores HSE'!BC16,\">=0\"),\"-\")","v":"-"},{"$f":"+IFERROR(AVERAGEIFS('Resumen de indicadores HSE'!BD16,'Resumen de indicadores HSE'!BD16,\">=0\"),\"-\")","v":"-"},{"$f":"+IFERROR(AVERAGEIFS('Resumen de indicadores HSE'!BE16,'Resumen de indicadores HSE'!BE16,\">=0\"),\"-\")","v":"-"}]
[null,"HSE","Comunicación Asertiva","-",null,{"$f":"+IFERROR(AVERAGEIFS('Resumen de indicadores HSE'!H17,'Resumen de indicadores HSE'!H17,\">=0\"),\"-\")","v":"-"},{"$f":"+IFERROR(AVERAGEIFS('Resumen de indicadores HSE'!I17,'Resumen de indicadores HSE'!I17,\">=0\"),\"-\")","v":"-"},{"$f":"+IFERROR(AVERAGEIFS('Resumen de indicadores HSE'!J17,'Resumen de indicadores HSE'!J17,\">=0\"),\"-\")","v":"-"},{"$f":"+IFERROR(AVERAGEIFS('Resumen de indicadores HSE'!K17,'Resumen de indicadores HSE'!K17,\">=0\"),\"-\")","v":"-"},{"$f":"+IFERROR(AVERAGEIFS('Resumen de indicadores HSE'!L17,'Resumen de indicadores HSE'!L17,\">=0\"),\"-\")","v":"-"},{"$f":"+IFERROR(AVERAGEIFS('Resumen de indicadores HSE'!M17,'Resumen de indicadores HSE'!M17,\">=0\"),\"-\")","v":"-"},{"$f":"+IFERROR(AVERAGEIFS('Resumen de indicadores HSE'!N17,'Resumen de indicadores HSE'!N17,\">=0\"),\"-\")","v":"-"},{"$f":"+IFERROR(AVERAGEIFS('Resumen de indicadores HSE'!O17,'Resumen de indicadores HSE'!O17,\">=0\"),\"-\")","v":"-"},{"$f":"+IFERROR(AVERAGEIFS('Resumen de indicadores HSE'!P17,'Resumen de indicadores HSE'!P17,\">=0\"),\"-\")","v":"-"},{"$f":"+IFERROR(AVERAGEIFS('Resumen de indicadores HSE'!Q17,'Resumen de indicadores HSE'!Q17,\">=0\"),\"-\")","v":"-"},{"$f":"+IFERROR(AVERAGEIFS('Resumen de indicadores HSE'!R17,'Resumen de indicadores HSE'!R17,\">=0\"),\"-\")","v":"-"},{"$f":"+IFERROR(AVERAGEIFS('Resumen de indicadores HSE'!S17,'Resumen de indicadores HSE'!S17,\">=0\"),\"-\")","v":"-"},{"$f":"+IFERROR(AVERAGEIFS('Resumen de indicadores HSE'!T17,'Resumen de indicadores HSE'!T17,\">=0\"),\"-\")","v":"-"},{"$f":"+IFERROR(AVERAGEIFS('Resumen de indicadores HSE'!U17,'Resumen de indicadores HSE'!U17,\">=0\"),\"-\")","v":"-"},{"$f":"+IFERROR(AVERAGEIFS('Resumen de indicadores HSE'!V17,'Resumen de indicadores HSE'!V17,\">=0\"),\"-\")","v":"-"},{"$f":"+IFERROR(AVERAGEIFS('Resumen de indicadores HSE'!W17,'Resumen de indicadores HSE'!W17,\">=0\"),\"-\")","v":"-"},{"$f":"+IFERROR(AVERAGEIFS('Resumen de indicadores HSE'!X17,'Resumen de indicadores HSE'!X17,\">=0\"),\"-\")","v":"-"},{"$f":"+IFERROR(AVERAGEIFS('Resumen de indicadores HSE'!Y17,'Resumen de indicadores HSE'!Y17,\">=0\"),\"-\")","v":"-"},{"$f":"+IFERROR(AVERAGEIFS('Resumen de indicadores HSE'!Z17,'Resumen de indicadores HSE'!Z17,\">=0\"),\"-\")","v":"-"},{"$f":"+IFERROR(AVERAGEIFS('Resumen de indicadores HSE'!AA17,'Resumen de indicadores HSE'!AA17,\">=0\"),\"-\")","v":"-"},{"$f":"+IFERROR(AVERAGEIFS('Resumen de indicadores HSE'!AB17,'Resumen de indicadores HSE'!AB17,\">=0\"),\"-\")","v":"-"},{"$f":"+IFERROR(AVERAGEIFS('Resumen de indicadores HSE'!AC17,'Resumen de indicadores HSE'!AC17,\">=0\"),\"-\")","v":"-"},{"$f":"+IFERROR(AVERAGEIFS('Resumen de indicadores HSE'!AD17,'Resumen de indicadores HSE'!AD17,\">=0\"),\"-\")","v":"-"},{"$f":"+IFERROR(AVERAGEIFS('Resumen de indicadores HSE'!AE17,'Resumen de indicadores HSE'!AE17,\">=0\"),\"-\")","v":"-"},{"$f":"+IFERROR(AVERAGEIFS('Resumen de indicadores HSE'!AF17,'Resumen de indicadores HSE'!AF17,\">=0\"),\"-\")","v":"-"},{"$f":"+IFERROR(AVERAGEIFS('Resumen de indicadores HSE'!AG17,'Resumen de indicadores HSE'!AG17,\">=0\"),\"-\")","v":"-"},{"$f":"+IFERROR(AVERAGEIFS('Resumen de indicadores HSE'!AH17,'Resumen de indicadores HSE'!AH17,\">=0\"),\"-\")","v":"-"},{"$f":"+IFERROR(AVERAGEIFS('Resumen de indicadores HSE'!AI17,'Resumen de indicadores HSE'!AI17,\">=0\"),\"-\")","v":"-"},{"$f":"+IFERROR(AVERAGEIFS('Resumen de indicadores HSE'!AJ17,'Resumen de indicadores HSE'!AJ17,\">=0\"),\"-\")","v":"-"},{"$f":"+IFERROR(AVERAGEIFS('Resumen de indicadores HSE'!AK17,'Resumen de indicadores HSE'!AK17,\">=0\"),\"-\")","v":"-"},{"$f":"+IFERROR(AVERAGEIFS('Resumen de indicadores HSE'!AL17,'Resumen de indicadores HSE'!AL17,\">=0\"),\"-\")","v":"-"},{"$f":"+IFERROR(AVERAGEIFS('Resumen de indicadores HSE'!AM17,'Resumen de indicadores HSE'!AM17,\">=0\"),\"-\")","v":"-"},{"$f":"+IFERROR(AVERAGEIFS('Resumen de indicadores HSE'!AN17,'Resumen de indicadores HSE'!AN17,\">=0\"),\"-\")","v":"-"},{"$f":"+IFERROR(AVERAGEIFS('Resumen de indicadores HSE'!AO17,'Resumen de indicadores HSE'!AO17,\">=0\"),\"-\")","v":"-"},{"$f":"+IFERROR(AVERAGEIFS('Resumen de indicadores HSE'!AP17,'Resumen de indicadores HSE'!AP17,\">=0\"),\"-\")","v":"-"},{"$f":"+IFERROR(AVERAGEIFS('Resumen de indicadores HSE'!AQ17,'Resumen de indicadores HSE'!AQ17,\">=0\"),\"-\")","v":"-"},{"$f":"+IFERROR(AVERAGEIFS('Resumen de indicadores HSE'!AR17,'Resumen de indicadores HSE'!AR17,\">=0\"),\"-\")","v":"-"},{"$f":"+IFERROR(AVERAGEIFS('Resumen de indicadores HSE'!AS17,'Resumen de indicadores HSE'!AS17,\">=0\"),\"-\")","v":"-"},{"$f":"+IFERROR(AVERAGEIFS('Resumen de indicadores HSE'!AT17,'Resumen de indicadores HSE'!AT17,\">=0\"),\"-\")","v":"-"},{"$f":"+IFERROR(AVERAGEIFS('Resumen de indicadores HSE'!AU17,'Resumen de indicadores HSE'!AU17,\">=0\"),\"-\")","v":"-"},{"$f":"+IFERROR(AVERAGEIFS('Resumen de indicadores HSE'!AV17,'Resumen de indicadores HSE'!AV17,\">=0\"),\"-\")","v":"-"},{"$f":"+IFERROR(AVERAGEIFS('Resumen de indicadores HSE'!AW17,'Resumen de indicadores HSE'!AW17,\">=0\"),\"-\")","v":"-"},{"$f":"+IFERROR(AVERAGEIFS('Resumen de indicadores HSE'!AX17,'Resumen de indicadores HSE'!AX17,\">=0\"),\"-\")","v":"-"},{"$f":"+IFERROR(AVERAGEIFS('Resumen de indicadores HSE'!AY17,'Resumen de indicadores HSE'!AY17,\">=0\"),\"-\")","v":"-"},{"$f":"+IFERROR(AVERAGEIFS('Resumen de indicadores HSE'!AZ17,'Resumen de indicadores HSE'!AZ17,\">=0\"),\"-\")","v":"-"},{"$f":"+IFERROR(AVERAGEIFS('Resumen de indicadores HSE'!BA17,'Resumen de indicadores HSE'!BA17,\">=0\"),\"-\")","v":"-"},{"$f":"+IFERROR(AVERAGEIFS('Resumen de indicadores HSE'!BB17,'Resumen de indicadores HSE'!BB17,\">=0\"),\"-\")","v":"-"},{"$f":"+IFERROR(AVERAGEIFS('Resumen de indicadores HSE'!BC17,'Resumen de indicadores HSE'!BC17,\">=0\"),\"-\")","v":"-"},{"$f":"+IFERROR(AVERAGEIFS('Resumen de indicadores HSE'!BD17,'Resumen de indicadores HSE'!BD17,\">=0\"),\"-\")","v":"-"},{"$f":"+IFERROR(AVERAGEIFS('Resumen de indicadores HSE'!BE17,'Resumen de indicadores HSE'!BE17,\">=0\"),\"-\")","v":"-"}]
[null,"HSE","Trabajo en Equipo","-",null,{"$f":"+IFERROR(AVERAGEIFS('Resumen de indicadores HSE'!H18,'Resumen de indicadores HSE'!H18,\">=0\"),\"-\")","v":"-"},{"$f":"+IFERROR(AVERAGEIFS('Resumen de indicadores HSE'!I18,'Resumen de indicadores HSE'!I18,\">=0\"),\"-\")","v":"-"},{"$f":"+IFERROR(AVERAGEIFS('Resumen de indicadores HSE'!J18,'Resumen de indicadores HSE'!J18,\">=0\"),\"-\")","v":"-"},{"$f":"+IFERROR(AVERAGEIFS('Resumen de indicadores HSE'!K18,'Resumen de indicadores HSE'!K18,\">=0\"),\"-\")","v":"-"},{"$f":"+IFERROR(AVERAGEIFS('Resumen de indicadores HSE'!L18,'Resumen de indicadores HSE'!L18,\">=0\"),\"-\")","v":"-"},{"$f":"+IFERROR(AVERAGEIFS('Resumen de indicadores HSE'!M18,'Resumen de indicadores HSE'!M18,\">=0\"),\"-\")","v":"-"},{"$f":"+IFERROR(AVERAGEIFS('Resumen de indicadores HSE'!N18,'Resumen de indicadores HSE'!N18,\">=0\"),\"-\")","v":"-"},{"$f":"+IFERROR(AVERAGEIFS('Resumen de indicadores HSE'!O18,'Resumen de indicadores HSE'!O18,\">=0\"),\"-\")","v":"-"},{"$f":"+IFERROR(AVERAGEIFS('Resumen de indicadores HSE'!P18,'Resumen de indicadores HSE'!P18,\">=0\"),\"-\")","v":"-"},{"$f":"+IFERROR(AVERAGEIFS('Resumen de indicadores HSE'!Q18,'Resumen de indicadores HSE'!Q18,\">=0\"),\"-\")","v":"-"},{"$f":"+IFERROR(AVERAGEIFS('Resumen de indicadores HSE'!R18,'Resumen de indicadores HSE'!R18,\">=0\"),\"-\")","v":"-"},{"$f":"+IFERROR(AVERAGEIFS('Resumen de indicadores HSE'!S18,'Resumen de indicadores HSE'!S18,\">=0\"),\"-\")","v":"-"},{"$f":"+IFERROR(AVERAGEIFS('Resumen de indicadores HSE'!T18,'Resumen de indicadores HSE'!T18,\">=0\"),\"-\")","v":"-"},{"$f":"+IFERROR(AVERAGEIFS('Resumen de indicadores HSE'!U18,'Resumen de indicadores HSE'!U18,\">=0\"),\"-\")","v":"-"},{"$f":"+IFERROR(AVERAGEIFS('Resumen de indicadores HSE'!V18,'Resumen de indicadores HSE'!V18,\">=0\"),\"-\")","v":"-"},{"$f":"+IFERROR(AVERAGEIFS('Resumen de indicadores HSE'!W18,'Resumen de indicadores HSE'!W18,\">=0\"),\"-\")","v":"-"},{"$f":"+IFERROR(AVERAGEIFS('Resumen de indicadores HSE'!X18,'Resumen de indicadores HSE'!X18,\">=0\"),\"-\")","v":"-"},{"$f":"+IFERROR(AVERAGEIFS('Resumen de indicadores HSE'!Y18,'Resumen de indicadores HSE'!Y18,\">=0\"),\"-\")","v":"-"},{"$f":"+IFERROR(AVERAGEIFS('Resumen de indicadores HSE'!Z18,'Resumen de indicadores HSE'!Z18,\">=0\"),\"-\")","v":"-"},{"$f":"+IFERROR(AVERAGEIFS('Resumen de indicadores HSE'!AA18,'Resumen de indicadores HSE'!AA18,\">=0\"),\"-\")","v":"-"},{"$f":"+IFERROR(AVERAGEIFS('Resumen de indicadores HSE'!AB18,'Resumen de indicadores HSE'!AB18,\">=0\"),\"-\")","v":"-"},{"$f":"+IFERROR(AVERAGEIFS('Resumen de indicadores HSE'!AC18,'Resumen de indicadores HSE'!AC18,\">=0\"),\"-\")","v":"-"},{"$f":"+IFERROR(AVERAGEIFS('Resumen de indicadores HSE'!AD18,'Resumen de indicadores HSE'!AD18,\">=0\"),\"-\")","v":"-"},{"$f":"+IFERROR(AVERAGEIFS('Resumen de indicadores HSE'!AE18,'Resumen de indicadores HSE'!AE18,\">=0\"),\"-\")","v":"-"},{"$f":"+IFERROR(AVERAGEIFS('Resumen de indicadores HSE'!AF18,'Resumen de indicadores HSE'!AF18,\">=0\"),\"-\")","v":"-"},{"$f":"+IFERROR(AVERAGEIFS('Resumen de indicadores HSE'!AG18,'Resumen de indicadores HSE'!AG18,\">=0\"),\"-\")","v":"-"},{"$f":"+IFERROR(AVERAGEIFS('Resumen de indicadores HSE'!AH18,'Resumen de indicadores HSE'!AH18,\">=0\"),\"-\")","v":"-"},{"$f":"+IFERROR(AVERAGEIFS('Resumen de indicadores HSE'!AI18,'Resumen de indicadores HSE'!AI18,\">=0\"),\"-\")","v":"-"},{"$f":"+IFERROR(AVERAGEIFS('Resumen de indicadores HSE'!AJ18,'Resumen de indicadores HSE'!AJ18,\">=0\"),\"-\")","v":"-"},{"$f":"+IFERROR(AVERAGEIFS('Resumen de indicadores HSE'!AK18,'Resumen de indicadores HSE'!AK18,\">=0\"),\"-\")","v":"-"},{"$f":"+IFERROR(AVERAGEIFS('Resumen de indicadores HSE'!AL18,'Resumen de indicadores HSE'!AL18,\">=0\"),\"-\")","v":"-"},{"$f":"+IFERROR(AVERAGEIFS('Resumen de indicadores HSE'!AM18,'Resumen de indicadores HSE'!AM18,\">=0\"),\"-\")","v":"-"},{"$f":"+IFERROR(AVERAGEIFS('Resumen de indicadores HSE'!AN18,'Resumen de indicadores HSE'!AN18,\">=0\"),\"-\")","v":"-"},{"$f":"+IFERROR(AVERAGEIFS('Resumen de indicadores HSE'!AO18,'Resumen de indicadores HSE'!AO18,\">=0\"),\"-\")","v":"-"},{"$f":"+IFERROR(AVERAGEIFS('Resumen de indicadores HSE'!AP18,'Resumen de indicadores HSE'!AP18,\">=0\"),\"-\")","v":"-"},{"$f":"+IFERROR(AVERAGEIFS('Resumen de indicadores HSE'!AQ18,'Resumen de indicadores HSE'!AQ18,\">=0\"),\"-\")","v":"-"},{"$f":"+IFERROR(AVERAGEIFS('Resumen de indicadores HSE'!AR18,'Resumen de indicadores HSE'!AR18,\">=0\"),\"-\")","v":"-"},{"$f":"+IFERROR(AVERAGEIFS('Resumen de indicadores HSE'!AS18,'Resumen de indicadores HSE'!AS18,\">=0\"),\"-\")","v":"-"},{"$f":"+IFERROR(AVERAGEIFS('Resumen de indicadores HSE'!AT18,'Resumen de indicadores HSE'!AT18,\">=0\"),\"-\")","v":"-"},{"$f":"+IFERROR(AVERAGEIFS('Resumen de indicadores HSE'!AU18,'Resumen de indicadores HSE'!AU18,\">=0\"),\"-\")","v":"-"},{"$f":"+IFERROR(AVERAGEIFS('Resumen de indicadores HSE'!AV18,'Resumen de indicadores HSE'!AV18,\">=0\"),\"-\")","v":"-"},{"$f":"+IFERROR(AVERAGEIFS('Resumen de indicadores HSE'!AW18,'Resumen de indicadores HSE'!AW18,\">=0\"),\"-\")","v":"-"},{"$f":"+IFERROR(AVERAGEIFS('Resumen de indicadores HSE'!AX18,'Resumen de indicadores HSE'!AX18,\">=0\"),\"-\")","v":"-"},{"$f":"+IFERROR(AVERAGEIFS('Resumen de indicadores HSE'!AY18,'Resumen de indicadores HSE'!AY18,\">=0\"),\"-\")","v":"-"},{"$f":"+IFERROR(AVERAGEIFS('Resumen de indicadores HSE'!AZ18,'Resumen de indicadores HSE'!AZ18,\">=0\"),\"-\")","v":"-"},{"$f":"+IFERROR(AVERAGEIFS('Resumen de indicadores HSE'!BA18,'Resumen de indicadores HSE'!BA18,\">=0\"),\"-\")","v":"-"},{"$f":"+IFERROR(AVERAGEIFS('Resumen de indicadores HSE'!BB18,'Resumen de indicadores HSE'!BB18,\">=0\"),\"-\")","v":"-"},{"$f":"+IFERROR(AVERAGEIFS('Resumen de indicadores HSE'!BC18,'Resumen de indicadores HSE'!BC18,\">=0\"),\"-\")","v":"-"},{"$f":"+IFERROR(AVERAGEIFS('Resumen de indicadores HSE'!BD18,'Resumen de indicadores HSE'!BD18,\">=0\"),\"-\")","v":"-"},{"$f":"+IFERROR(AVERAGEIFS('Resumen de indicadores HSE'!BE18,'Resumen de indicadores HSE'!BE18,\">=0\"),\"-\")","v":"-"}]
[null,"HSE","Empatía","-",null,{"$f":"+IFERROR(AVERAGEIFS('Resumen de indicadores HSE'!H19:H20,'Resumen de indicadores HSE'!H19:H20,\">=0\"),\"-\")","v":"-"},{"$f":"+IFERROR(AVERAGEIFS('Resumen de indicadores HSE'!I19:I20,'Resumen de indicadores HSE'!I19:I20,\">=0\"),\"-\")","v":"-"},{"$f":"+IFERROR(AVERAGEIFS('Resumen de indicadores HSE'!J19:J20,'Resumen de indicadores HSE'!J19:J20,\">=0\"),\"-\")","v":"-"},{"$f":"+IFERROR(AVERAGEIFS('Resumen de indicadores HSE'!K19:K20,'Resumen de indicadores HSE'!K19:K20,\">=0\"),\"-\")","v":"-"},{"$f":"+IFERROR(AVERAGEIFS('Resumen de indicadores HSE'!L19:L20,'Resumen de indicadores HSE'!L19:L20,\">=0\"),\"-\")","v":"-"},{"$f":"+IFERROR(AVERAGEIFS('Resumen de indicadores HSE'!M19:M20,'Resumen de indicadores HSE'!M19:M20,\">=0\"),\"-\")","v":"-"},{"$f":"+IFERROR(AVERAGEIFS('Resumen de indicadores HSE'!N19:N20,'Resumen de indicadores HSE'!N19:N20,\">=0\"),\"-\")","v":"-"},{"$f":"+IFERROR(AVERAGEIFS('Resumen de indicadores HSE'!O19:O20,'Resumen de indicadores HSE'!O19:O20,\">=0\"),\"-\")","v":"-"},{"$f":"+IFERROR(AVERAGEIFS('Resumen de indicadores HSE'!P19:P20,'Resumen de indicadores HSE'!P19:P20,\">=0\"),\"-\")","v":"-"},{"$f":"+IFERROR(AVERAGEIFS('Resumen de indicadores HSE'!Q19:Q20,'Resumen de indicadores HSE'!Q19:Q20,\">=0\"),\"-\")","v":"-"},{"$f":"+IFERROR(AVERAGEIFS('Resumen de indicadores HSE'!R19:R20,'Resumen de indicadores HSE'!R19:R20,\">=0\"),\"-\")","v":"-"},{"$f":"+IFERROR(AVERAGEIFS('Resumen de indicadores HSE'!S19:S20,'Resumen de indicadores HSE'!S19:S20,\">=0\"),\"-\")","v":"-"},{"$f":"+IFERROR(AVERAGEIFS('Resumen de indicadores HSE'!T19:T20,'Resumen de indicadores HSE'!T19:T20,\">=0\"),\"-\")","v":"-"},{"$f":"+IFERROR(AVERAGEIFS('Resumen de indicadores HSE'!U19:U20,'Resumen de indicadores HSE'!U19:U20,\">=0\"),\"-\")","v":"-"},{"$f":"+IFERROR(AVERAGEIFS('Resumen de indicadores HSE'!V19:V20,'Resumen de indicadores HSE'!V19:V20,\">=0\"),\"-\")","v":"-"},{"$f":"+IFERROR(AVERAGEIFS('Resumen de indicadores HSE'!W19:W20,'Resumen de indicadores HSE'!W19:W20,\">=0\"),\"-\")","v":"-"},{"$f":"+IFERROR(AVERAGEIFS('Resumen de indicadores HSE'!X19:X20,'Resumen de indicadores HSE'!X19:X20,\">=0\"),\"-\")","v":"-"},{"$f":"+IFERROR(AVERAGEIFS('Resumen de indicadores HSE'!Y19:Y20,'Resumen de indicadores HSE'!Y19:Y20,\">=0\"),\"-\")","v":"-"},{"$f":"+IFERROR(AVERAGEIFS('Resumen de indicadores HSE'!Z19:Z20,'Resumen de indicadores HSE'!Z19:Z20,\">=0\"),\"-\")","v":"-"},{"$f":"+IFERROR(AVERAGEIFS('Resumen de indicadores HSE'!AA19:AA20,'Resumen de indicadores HSE'!AA19:AA20,\">=0\"),\"-\")","v":"-"},{"$f":"+IFERROR(AVERAGEIFS('Resumen de indicadores HSE'!AB19:AB20,'Resumen de indicadores HSE'!AB19:AB20,\">=0\"),\"-\")","v":"-"},{"$f":"+IFERROR(AVERAGEIFS('Resumen de indicadores HSE'!AC19:AC20,'Resumen de indicadores HSE'!AC19:AC20,\">=0\"),\"-\")","v":"-"},{"$f":"+IFERROR(AVERAGEIFS('Resumen de indicadores HSE'!AD19:AD20,'Resumen de indicadores HSE'!AD19:AD20,\">=0\"),\"-\")","v":"-"},{"$f":"+IFERROR(AVERAGEIFS('Resumen de indicadores HSE'!AE19:AE20,'Resumen de indicadores HSE'!AE19:AE20,\">=0\"),\"-\")","v":"-"},{"$f":"+IFERROR(AVERAGEIFS('Resumen de indicadores HSE'!AF19:AF20,'Resumen de indicadores HSE'!AF19:AF20,\">=0\"),\"-\")","v":"-"},{"$f":"+IFERROR(AVERAGEIFS('Resumen de indicadores HSE'!AG19:AG20,'Resumen de indicadores HSE'!AG19:AG20,\">=0\"),\"-\")","v":"-"},{"$f":"+IFERROR(AVERAGEIFS('Resumen de indicadores HSE'!AH19:AH20,'Resumen de indicadores HSE'!AH19:AH20,\">=0\"),\"-\")","v":"-"},{"$f":"+IFERROR(AVERAGEIFS('Resumen de indicadores HSE'!AI19:AI20,'Resumen de indicadores HSE'!AI19:AI20,\">=0\"),\"-\")","v":"-"},{"$f":"+IFERROR(AVERAGEIFS('Resumen de indicadores HSE'!AJ19:AJ20,'Resumen de indicadores HSE'!AJ19:AJ20,\">=0\"),\"-\")","v":"-"},{"$f":"+IFERROR(AVERAGEIFS('Resumen de indicadores HSE'!AK19:AK20,'Resumen de indicadores HSE'!AK19:AK20,\">=0\"),\"-\")","v":"-"},{"$f":"+IFERROR(AVERAGEIFS('Resumen de indicadores HSE'!AL19:AL20,'Resumen de indicadores HSE'!AL19:AL20,\">=0\"),\"-\")","v":"-"},{"$f":"+IFERROR(AVERAGEIFS('Resumen de indicadores HSE'!AM19:AM20,'Resumen de indicadores HSE'!AM19:AM20,\">=0\"),\"-\")","v":"-"},{"$f":"+IFERROR(AVERAGEIFS('Resumen de indicadores HSE'!AN19:AN20,'Resumen de indicadores HSE'!AN19:AN20,\">=0\"),\"-\")","v":"-"},{"$f":"+IFERROR(AVERAGEIFS('Resumen de indicadores HSE'!AO19:AO20,'Resumen de indicadores HSE'!AO19:AO20,\">=0\"),\"-\")","v":"-"},{"$f":"+IFERROR(AVERAGEIFS('Resumen de indicadores HSE'!AP19:AP20,'Resumen de indicadores HSE'!AP19:AP20,\">=0\"),\"-\")","v":"-"},{"$f":"+IFERROR(AVERAGEIFS('Resumen de indicadores HSE'!AQ19:AQ20,'Resumen de indicadores HSE'!AQ19:AQ20,\">=0\"),\"-\")","v":"-"},{"$f":"+IFERROR(AVERAGEIFS('Resumen de indicadores HSE'!AR19:AR20,'Resumen de indicadores HSE'!AR19:AR20,\">=0\"),\"-\")","v":"-"},{"$f":"+IFERROR(AVERAGEIFS('Resumen de indicadores HSE'!AS19:AS20,'Resumen de indicadores HSE'!AS19:AS20,\">=0\"),\"-\")","v":"-"},{"$f":"+IFERROR(AVERAGEIFS('Resumen de indicadores HSE'!AT19:AT20,'Resumen de indicadores HSE'!AT19:AT20,\">=0\"),\"-\")","v":"-"},{"$f":"+IFERROR(AVERAGEIFS('Resumen de indicadores HSE'!AU19:AU20,'Resumen de indicadores HSE'!AU19:AU20,\">=0\"),\"-\")","v":"-"},{"$f":"+IFERROR(AVERAGEIFS('Resumen de indicadores HSE'!AV19:AV20,'Resumen de indicadores HSE'!AV19:AV20,\">=0\"),\"-\")","v":"-"},{"$f":"+IFERROR(AVERAGEIFS('Resumen de indicadores HSE'!AW19:AW20,'Resumen de indicadores HSE'!AW19:AW20,\">=0\"),\"-\")","v":"-"},{"$f":"+IFERROR(AVERAGEIFS('Resumen de indicadores HSE'!AX19:AX20,'Resumen de indicadores HSE'!AX19:AX20,\">=0\"),\"-\")","v":"-"},{"$f":"+IFERROR(AVERAGEIFS('Resumen de indicadores HSE'!AY19:AY20,'Resumen de indicadores HSE'!AY19:AY20,\">=0\"),\"-\")","v":"-"},{"$f":"+IFERROR(AVERAGEIFS('Resumen de indicadores HSE'!AZ19:AZ20,'Resumen de indicadores HSE'!AZ19:AZ20,\">=0\"),\"-\")","v":"-"},{"$f":"+IFERROR(AVERAGEIFS('Resumen de indicadores HSE'!BA19:BA20,'Resumen de indicadores HSE'!BA19:BA20,\">=0\"),\"-\")","v":"-"},{"$f":"+IFERROR(AVERAGEIFS('Resumen de indicadores HSE'!BB19:BB20,'Resumen de indicadores HSE'!BB19:BB20,\">=0\"),\"-\")","v":"-"},{"$f":"+IFERROR(AVERAGEIFS('Resumen de indicadores HSE'!BC19:BC20,'Resumen de indicadores HSE'!BC19:BC20,\">=0\"),\"-\")","v":"-"},{"$f":"+IFERROR(AVERAGEIFS('Resumen de indicadores HSE'!BD19:BD20,'Resumen de indicadores HSE'!BD19:BD20,\">=0\"),\"-\")","v":"-"},{"$f":"+IFERROR(AVERAGEIFS('Resumen de indicadores HSE'!BE19:BE20,'Resumen de indicadores HSE'!BE19:BE20,\">=0\"),\"-\")","v":"-"}]
[null,"HSE","Resolución de Conflictos","-",null,{"$f":"+IFERROR(AVERAGEIFS('Resumen de indicadores HSE'!H21,'Resumen de indicadores HSE'!H21,\">=0\"),\"-\")","v":"-"},{"$f":"+IFERROR(AVERAGEIFS('Resumen de indicadores HSE'!I21,'Resumen de indicadores HSE'!I21,\">=0\"),\"-\")","v":"-"},{"$f":"+IFERROR(AVERAGEIFS('Resumen de indicadores HSE'!J21,'Resumen de indicadores HSE'!J21,\">=0\"),\"-\")","v":"-"},{"$f":"+IFERROR(AVERAGEIFS('Resumen de indicadores HSE'!K21,'Resumen de indicadores HSE'!K21,\">=0\"),\"-\")","v":"-"},{"$f":"+IFERROR(AVERAGEIFS('Resumen de indicadores HSE'!L21,'Resumen de indicadores HSE'!L21,\">=0\"),\"-\")","v":"-"},{"$f":"+IFERROR(AVERAGEIFS('Resumen de indicadores HSE'!M21,'Resumen de indicadores HSE'!M21,\">=0\"),\"-\")","v":"-"},{"$f":"+IFERROR(AVERAGEIFS('Resumen de indicadores HSE'!N21,'Resumen de indicadores HSE'!N21,\">=0\"),\"-\")","v":"-"},{"$f":"+IFERROR(AVERAGEIFS('Resumen de indicadores HSE'!O21,'Resumen de indicadores HSE'!O21,\">=0\"),\"-\")","v":"-"},{"$f":"+IFERROR(AVERAGEIFS('Resumen de indicadores HSE'!P21,'Resumen de indicadores HSE'!P21,\">=0\"),\"-\")","v":"-"},{"$f":"+IFERROR(AVERAGEIFS('Resumen de indicadores HSE'!Q21,'Resumen de indicadores HSE'!Q21,\">=0\"),\"-\")","v":"-"},{"$f":"+IFERROR(AVERAGEIFS('Resumen de indicadores HSE'!R21,'Resumen de indicadores HSE'!R21,\">=0\"),\"-\")","v":"-"},{"$f":"+IFERROR(AVERAGEIFS('Resumen de indicadores HSE'!S21,'Resumen de indicadores HSE'!S21,\">=0\"),\"-\")","v":"-"},{"$f":"+IFERROR(AVERAGEIFS('Resumen de indicadores HSE'!T21,'Resumen de indicadores HSE'!T21,\">=0\"),\"-\")","v":"-"},{"$f":"+IFERROR(AVERAGEIFS('Resumen de indicadores HSE'!U21,'Resumen de indicadores HSE'!U21,\">=0\"),\"-\")","v":"-"},{"$f":"+IFERROR(AVERAGEIFS('Resumen de indicadores HSE'!V21,'Resumen de indicadores HSE'!V21,\">=0\"),\"-\")","v":"-"},{"$f":"+IFERROR(AVERAGEIFS('Resumen de indicadores HSE'!W21,'Resumen de indicadores HSE'!W21,\">=0\"),\"-\")","v":"-"},{"$f":"+IFERROR(AVERAGEIFS('Resumen de indicadores HSE'!X21,'Resumen de indicadores HSE'!X21,\">=0\"),\"-\")","v":"-"},{"$f":"+IFERROR(AVERAGEIFS('Resumen de indicadores HSE'!Y21,'Resumen de indicadores HSE'!Y21,\">=0\"),\"-\")","v":"-"},{"$f":"+IFERROR(AVERAGEIFS('Resumen de indicadores HSE'!Z21,'Resumen de indicadores HSE'!Z21,\">=0\"),\"-\")","v":"-"},{"$f":"+IFERROR(AVERAGEIFS('Resumen de indicadores HSE'!AA21,'Resumen de indicadores HSE'!AA21,\">=0\"),\"-\")","v":"-"},{"$f":"+IFERROR(AVERAGEIFS('Resumen de indicadores HSE'!AB21,'Resumen de indicadores HSE'!AB21,\">=0\"),\"-\")","v":"-"},{"$f":"+IFERROR(AVERAGEIFS('Resumen de indicadores HSE'!AC21,'Resumen de indicadores HSE'!AC21,\">=0\"),\"-\")","v":"-"},{"$f":"+IFERROR(AVERAGEIFS('Resumen de indicadores HSE'!AD21,'Resumen de indicadores HSE'!AD21,\">=0\"),\"-\")","v":"-"},{"$f":"+IFERROR(AVERAGEIFS('Resumen de indicadores HSE'!AE21,'Resumen de indicadores HSE'!AE21,\">=0\"),\"-\")","v":"-"},{"$f":"+IFERROR(AVERAGEIFS('Resumen de indicadores HSE'!AF21,'Resumen de indicadores HSE'!AF21,\">=0\"),\"-\")","v":"-"},{"$f":"+IFERROR(AVERAGEIFS('Resumen de indicadores HSE'!AG21,'Resumen de indicadores HSE'!AG21,\">=0\"),\"-\")","v":"-"},{"$f":"+IFERROR(AVERAGEIFS('Resumen de indicadores HSE'!AH21,'Resumen de indicadores HSE'!AH21,\">=0\"),\"-\")","v":"-"},{"$f":"+IFERROR(AVERAGEIFS('Resumen de indicadores HSE'!AI21,'Resumen de indicadores HSE'!AI21,\">=0\"),\"-\")","v":"-"},{"$f":"+IFERROR(AVERAGEIFS('Resumen de indicadores HSE'!AJ21,'Resumen de indicadores HSE'!AJ21,\">=0\"),\"-\")","v":"-"},{"$f":"+IFERROR(AVERAGEIFS('Resumen de indicadores HSE'!AK21,'Resumen de indicadores HSE'!AK21,\">=0\"),\"-\")","v":"-"},{"$f":"+IFERROR(AVERAGEIFS('Resumen de indicadores HSE'!AL21,'Resumen de indicadores HSE'!AL21,\">=0\"),\"-\")","v":"-"},{"$f":"+IFERROR(AVERAGEIFS('Resumen de indicadores HSE'!AM21,'Resumen de indicadores HSE'!AM21,\">=0\"),\"-\")","v":"-"},{"$f":"+IFERROR(AVERAGEIFS('Resumen de indicadores HSE'!AN21,'Resumen de indicadores HSE'!AN21,\">=0\"),\"-\")","v":"-"},{"$f":"+IFERROR(AVERAGEIFS('Resumen de indicadores HSE'!AO21,'Resumen de indicadores HSE'!AO21,\">=0\"),\"-\")","v":"-"},{"$f":"+IFERROR(AVERAGEIFS('Resumen de indicadores HSE'!AP21,'Resumen de indicadores HSE'!AP21,\">=0\"),\"-\")","v":"-"},{"$f":"+IFERROR(AVERAGEIFS('Resumen de indicadores HSE'!AQ21,'Resumen de indicadores HSE'!AQ21,\">=0\"),\"-\")","v":"-"},{"$f":"+IFERROR(AVERAGEIFS('Resumen de indicadores HSE'!AR21,'Resumen de indicadores HSE'!AR21,\">=0\"),\"-\")","v":"-"},{"$f":"+IFERROR(AVERAGEIFS('Resumen de indicadores HSE'!AS21,'Resumen de indicadores HSE'!AS21,\">=0\"),\"-\")","v":"-"},{"$f":"+IFERROR(AVERAGEIFS('Resumen de indicadores HSE'!AT21,'Resumen de indicadores HSE'!AT21,\">=0\"),\"-\")","v":"-"},{"$f":"+IFERROR(AVERAGEIFS('Resumen de indicadores HSE'!AU21,'Resumen de indicadores HSE'!AU21,\">=0\"),\"-\")","v":"-"},{"$f":"+IFERROR(AVERAGEIFS('Resumen de indicadores HSE'!AV21,'Resumen de indicadores HSE'!AV21,\">=0\"),\"-\")","v":"-"},{"$f":"+IFERROR(AVERAGEIFS('Resumen de indicadores HSE'!AW21,'Resumen de indicadores HSE'!AW21,\">=0\"),\"-\")","v":"-"},{"$f":"+IFERROR(AVERAGEIFS('Resumen de indicadores HSE'!AX21,'Resumen de indicadores HSE'!AX21,\">=0\"),\"-\")","v":"-"},{"$f":"+IFERROR(AVERAGEIFS('Resumen de indicadores HSE'!AY21,'Resumen de indicadores HSE'!AY21,\">=0\"),\"-\")","v":"-"},{"$f":"+IFERROR(AVERAGEIFS('Resumen de indicadores HSE'!AZ21,'Resumen de indicadores HSE'!AZ21,\">=0\"),\"-\")","v":"-"},{"$f":"+IFERROR(AVERAGEIFS('Resumen de indicadores HSE'!BA21,'Resumen de indicadores HSE'!BA21,\">=0\"),\"-\")","v":"-"},{"$f":"+IFERROR(AVERAGEIFS('Resumen de indicadores HSE'!BB21,'Resumen de indicadores HSE'!BB21,\">=0\"),\"-\")","v":"-"},{"$f":"+IFERROR(AVERAGEIFS('Resumen de indicadores HSE'!BC21,'Resumen de indicadores HSE'!BC21,\">=0\"),\"-\")","v":"-"},{"$f":"+IFERROR(AVERAGEIFS('Resumen de indicadores HSE'!BD21,'Resumen de indicadores HSE'!BD21,\">=0\"),\"-\")","v":"-"},{"$f":"+IFERROR(AVERAGEIFS('Resumen de indicadores HSE'!BE21,'Resumen de indicadores HSE'!BE21,\">=0\"),\"-\")","v":"-"}]
[null,"HSE","Conciencia Social","-",null,{"$f":"+IFERROR(AVERAGEIFS('Resumen de indicadores HSE'!H22,'Resumen de indicadores HSE'!H22,\">=0\"),\"-\")","v":"-"},{"$f":"+IFERROR(AVERAGEIFS('Resumen de indicadores HSE'!I22,'Resumen de indicadores HSE'!I22,\">=0\"),\"-\")","v":"-"},{"$f":"+IFERROR(AVERAGEIFS('Resumen de indicadores HSE'!J22,'Resumen de indicadores HSE'!J22,\">=0\"),\"-\")","v":"-"},{"$f":"+IFERROR(AVERAGEIFS('Resumen de indicadores HSE'!K22,'Resumen de indicadores HSE'!K22,\">=0\"),\"-\")","v":"-"},{"$f":"+IFERROR(AVERAGEIFS('Resumen de indicadores HSE'!L22,'Resumen de indicadores HSE'!L22,\">=0\"),\"-\")","v":"-"},{"$f":"+IFERROR(AVERAGEIFS('Resumen de indicadores HSE'!M22,'Resumen de indicadores HSE'!M22,\">=0\"),\"-\")","v":"-"},{"$f":"+IFERROR(AVERAGEIFS('Resumen de indicadores HSE'!N22,'Resumen de indicadores HSE'!N22,\">=0\"),\"-\")","v":"-"},{"$f":"+IFERROR(AVERAGEIFS('Resumen de indicadores HSE'!O22,'Resumen de indicadores HSE'!O22,\">=0\"),\"-\")","v":"-"},{"$f":"+IFERROR(AVERAGEIFS('Resumen de indicadores HSE'!P22,'Resumen de indicadores HSE'!P22,\">=0\"),\"-\")","v":"-"},{"$f":"+IFERROR(AVERAGEIFS('Resumen de indicadores HSE'!Q22,'Resumen de indicadores HSE'!Q22,\">=0\"),\"-\")","v":"-"},{"$f":"+IFERROR(AVERAGEIFS('Resumen de indicadores HSE'!R22,'Resumen de indicadores HSE'!R22,\">=0\"),\"-\")","v":"-"},{"$f":"+IFERROR(AVERAGEIFS('Resumen de indicadores HSE'!S22,'Resumen de indicadores HSE'!S22,\">=0\"),\"-\")","v":"-"},{"$f":"+IFERROR(AVERAGEIFS('Resumen de indicadores HSE'!T22,'Resumen de indicadores HSE'!T22,\">=0\"),\"-\")","v":"-"},{"$f":"+IFERROR(AVERAGEIFS('Resumen de indicadores HSE'!U22,'Resumen de indicadores HSE'!U22,\">=0\"),\"-\")","v":"-"},{"$f":"+IFERROR(AVERAGEIFS('Resumen de indicadores HSE'!V22,'Resumen de indicadores HSE'!V22,\">=0\"),\"-\")","v":"-"},{"$f":"+IFERROR(AVERAGEIFS('Resumen de indicadores HSE'!W22,'Resumen de indicadores HSE'!W22,\">=0\"),\"-\")","v":"-"},{"$f":"+IFERROR(AVERAGEIFS('Resumen de indicadores HSE'!X22,'Resumen de indicadores HSE'!X22,\">=0\"),\"-\")","v":"-"},{"$f":"+IFERROR(AVERAGEIFS('Resumen de indicadores HSE'!Y22,'Resumen de indicadores HSE'!Y22,\">=0\"),\"-\")","v":"-"},{"$f":"+IFERROR(AVERAGEIFS('Resumen de indicadores HSE'!Z22,'Resumen de indicadores HSE'!Z22,\">=0\"),\"-\")","v":"-"},{"$f":"+IFERROR(AVERAGEIFS('Resumen de indicadores HSE'!AA22,'Resumen de indicadores HSE'!AA22,\">=0\"),\"-\")","v":"-"},{"$f":"+IFERROR(AVERAGEIFS('Resumen de indicadores HSE'!AB22,'Resumen de indicadores HSE'!AB22,\">=0\"),\"-\")","v":"-"},{"$f":"+IFERROR(AVERAGEIFS('Resumen de indicadores HSE'!AC22,'Resumen de indicadores HSE'!AC22,\">=0\"),\"-\")","v":"-"},{"$f":"+IFERROR(AVERAGEIFS('Resumen de indicadores HSE'!AD22,'Resumen de indicadores HSE'!AD22,\">=0\"),\"-\")","v":"-"},{"$f":"+IFERROR(AVERAGEIFS('Resumen de indicadores HSE'!AE22,'Resumen de indicadores HSE'!AE22,\">=0\"),\"-\")","v":"-"},{"$f":"+IFERROR(AVERAGEIFS('Resumen de indicadores HSE'!AF22,'Resumen de indicadores HSE'!AF22,\">=0\"),\"-\")","v":"-"},{"$f":"+IFERROR(AVERAGEIFS('Resumen de indicadores HSE'!AG22,'Resumen de indicadores HSE'!AG22,\">=0\"),\"-\")","v":"-"},{"$f":"+IFERROR(AVERAGEIFS('Resumen de indicadores HSE'!AH22,'Resumen de indicadores HSE'!AH22,\">=0\"),\"-\")","v":"-"},{"$f":"+IFERROR(AVERAGEIFS('Resumen de indicadores HSE'!AI22,'Resumen de indicadores HSE'!AI22,\">=0\"),\"-\")","v":"-"},{"$f":"+IFERROR(AVERAGEIFS('Resumen de indicadores HSE'!AJ22,'Resumen de indicadores HSE'!AJ22,\">=0\"),\"-\")","v":"-"},{"$f":"+IFERROR(AVERAGEIFS('Resumen de indicadores HSE'!AK22,'Resumen de indicadores HSE'!AK22,\">=0\"),\"-\")","v":"-"},{"$f":"+IFERROR(AVERAGEIFS('Resumen de indicadores HSE'!AL22,'Resumen de indicadores HSE'!AL22,\">=0\"),\"-\")","v":"-"},{"$f":"+IFERROR(AVERAGEIFS('Resumen de indicadores HSE'!AM22,'Resumen de indicadores HSE'!AM22,\">=0\"),\"-\")","v":"-"},{"$f":"+IFERROR(AVERAGEIFS('Resumen de indicadores HSE'!AN22,'Resumen de indicadores HSE'!AN22,\">=0\"),\"-\")","v":"-"},{"$f":"+IFERROR(AVERAGEIFS('Resumen de indicadores HSE'!AO22,'Resumen de indicadores HSE'!AO22,\">=0\"),\"-\")","v":"-"},{"$f":"+IFERROR(AVERAGEIFS('Resumen de indicadores HSE'!AP22,'Resumen de indicadores HSE'!AP22,\">=0\"),\"-\")","v":"-"},{"$f":"+IFERROR(AVERAGEIFS('Resumen de indicadores HSE'!AQ22,'Resumen de indicadores HSE'!AQ22,\">=0\"),\"-\")","v":"-"},{"$f":"+IFERROR(AVERAGEIFS('Resumen de indicadores HSE'!AR22,'Resumen de indicadores HSE'!AR22,\">=0\"),\"-\")","v":"-"},{"$f":"+IFERROR(AVERAGEIFS('Resumen de indicadores HSE'!AS22,'Resumen de indicadores HSE'!AS22,\">=0\"),\"-\")","v":"-"},{"$f":"+IFERROR(AVERAGEIFS('Resumen de indicadores HSE'!AT22,'Resumen de indicadores HSE'!AT22,\">=0\"),\"-\")","v":"-"},{"$f":"+IFERROR(AVERAGEIFS('Resumen de indicadores HSE'!AU22,'Resumen de indicadores HSE'!AU22,\">=0\"),\"-\")","v":"-"},{"$f":"+IFERROR(AVERAGEIFS('Resumen de indicadores HSE'!AV22,'Resumen de indicadores HSE'!AV22,\">=0\"),\"-\")","v":"-"},{"$f":"+IFERROR(AVERAGEIFS('Resumen de indicadores HSE'!AW22,'Resumen de indicadores HSE'!AW22,\">=0\"),\"-\")","v":"-"},{"$f":"+IFERROR(AVERAGEIFS('Resumen de indicadores HSE'!AX22,'Resumen de indicadores HSE'!AX22,\">=0\"),\"-\")","v":"-"},{"$f":"+IFERROR(AVERAGEIFS('Resumen de indicadores HSE'!AY22,'Resumen de indicadores HSE'!AY22,\">=0\"),\"-\")","v":"-"},{"$f":"+IFERROR(AVERAGEIFS('Resumen de indicadores HSE'!AZ22,'Resumen de indicadores HSE'!AZ22,\">=0\"),\"-\")","v":"-"},{"$f":"+IFERROR(AVERAGEIFS('Resumen de indicadores HSE'!BA22,'Resumen de indicadores HSE'!BA22,\">=0\"),\"-\")","v":"-"},{"$f":"+IFERROR(AVERAGEIFS('Resumen de indicadores HSE'!BB22,'Resumen de indicadores HSE'!BB22,\">=0\"),\"-\")","v":"-"},{"$f":"+IFERROR(AVERAGEIFS('Resumen de indicadores HSE'!BC22,'Resumen de indicadores HSE'!BC22,\">=0\"),\"-\")","v":"-"},{"$f":"+IFERROR(AVERAGEIFS('Resumen de indicadores HSE'!BD22,'Resumen de indicadores HSE'!BD22,\">=0\"),\"-\")","v":"-"},{"$f":"+IFERROR(AVERAGEIFS('Resumen de indicadores HSE'!BE22,'Resumen de indicadores HSE'!BE22,\">=0\"),\"-\")","v":"-"}]
[null,"HSE","Comportamiento Prosocial","-",null,{"$f":"+IFERROR(AVERAGEIFS('Resumen de indicadores HSE'!H23:H24,'Resumen de indicadores HSE'!H23:H24,\">=0\"),\"-\")","v":"-"},{"$f":"+IFERROR(AVERAGEIFS('Resumen de indicadores HSE'!I23:I24,'Resumen de indicadores HSE'!I23:I24,\">=0\"),\"-\")","v":"-"},{"$f":"+IFERROR(AVERAGEIFS('Resumen de indicadores HSE'!J23:J24,'Resumen de indicadores HSE'!J23:J24,\">=0\"),\"-\")","v":"-"},{"$f":"+IFERROR(AVERAGEIFS('Resumen de indicadores HSE'!K23:K24,'Resumen de indicadores HSE'!K23:K24,\">=0\"),\"-\")","v":"-"},{"$f":"+IFERROR(AVERAGEIFS('Resumen de indicadores HSE'!L23:L24,'Resumen de indicadores HSE'!L23:L24,\">=0\"),\"-\")","v":"-"},{"$f":"+IFERROR(AVERAGEIFS('Resumen de indicadores HSE'!M23:M24,'Resumen de indicadores HSE'!M23:M24,\">=0\"),\"-\")","v":"-"},{"$f":"+IFERROR(AVERAGEIFS('Resumen de indicadores HSE'!N23:N24,'Resumen de indicadores HSE'!N23:N24,\">=0\"),\"-\")","v":"-"},{"$f":"+IFERROR(AVERAGEIFS('Resumen de indicadores HSE'!O23:O24,'Resumen de indicadores HSE'!O23:O24,\">=0\"),\"-\")","v":"-"},{"$f":"+IFERROR(AVERAGEIFS('Resumen de indicadores HSE'!P23:P24,'Resumen de indicadores HSE'!P23:P24,\">=0\"),\"-\")","v":"-"},{"$f":"+IFERROR(AVERAGEIFS('Resumen de indicadores HSE'!Q23:Q24,'Resumen de indicadores HSE'!Q23:Q24,\">=0\"),\"-\")","v":"-"},{"$f":"+IFERROR(AVERAGEIFS('Resumen de indicadores HSE'!R23:R24,'Resumen de indicadores HSE'!R23:R24,\">=0\"),\"-\")","v":"-"},{"$f":"+IFERROR(AVERAGEIFS('Resumen de indicadores HSE'!S23:S24,'Resumen de indicadores HSE'!S23:S24,\">=0\"),\"-\")","v":"-"},{"$f":"+IFERROR(AVERAGEIFS('Resumen de indicadores HSE'!T23:T24,'Resumen de indicadores HSE'!T23:T24,\">=0\"),\"-\")","v":"-"},{"$f":"+IFERROR(AVERAGEIFS('Resumen de indicadores HSE'!U23:U24,'Resumen de indicadores HSE'!U23:U24,\">=0\"),\"-\")","v":"-"},{"$f":"+IFERROR(AVERAGEIFS('Resumen de indicadores HSE'!V23:V24,'Resumen de indicadores HSE'!V23:V24,\">=0\"),\"-\")","v":"-"},{"$f":"+IFERROR(AVERAGEIFS('Resumen de indicadores HSE'!W23:W24,'Resumen de indicadores HSE'!W23:W24,\">=0\"),\"-\")","v":"-"},{"$f":"+IFERROR(AVERAGEIFS('Resumen de indicadores HSE'!X23:X24,'Resumen de indicadores HSE'!X23:X24,\">=0\"),\"-\")","v":"-"},{"$f":"+IFERROR(AVERAGEIFS('Resumen de indicadores HSE'!Y23:Y24,'Resumen de indicadores HSE'!Y23:Y24,\">=0\"),\"-\")","v":"-"},{"$f":"+IFERROR(AVERAGEIFS('Resumen de indicadores HSE'!Z23:Z24,'Resumen de indicadores HSE'!Z23:Z24,\">=0\"),\"-\")","v":"-"},{"$f":"+IFERROR(AVERAGEIFS('Resumen de indicadores HSE'!AA23:AA24,'Resumen de indicadores HSE'!AA23:AA24,\">=0\"),\"-\")","v":"-"},{"$f":"+IFERROR(AVERAGEIFS('Resumen de indicadores HSE'!AB23:AB24,'Resumen de indicadores HSE'!AB23:AB24,\">=0\"),\"-\")","v":"-"},{"$f":"+IFERROR(AVERAGEIFS('Resumen de indicadores HSE'!AC23:AC24,'Resumen de indicadores HSE'!AC23:AC24,\">=0\"),\"-\")","v":"-"},{"$f":"+IFERROR(AVERAGEIFS('Resumen de indicadores HSE'!AD23:AD24,'Resumen de indicadores HSE'!AD23:AD24,\">=0\"),\"-\")","v":"-"},{"$f":"+IFERROR(AVERAGEIFS('Resumen de indicadores HSE'!AE23:AE24,'Resumen de indicadores HSE'!AE23:AE24,\">=0\"),\"-\")","v":"-"},{"$f":"+IFERROR(AVERAGEIFS('Resumen de indicadores HSE'!AF23:AF24,'Resumen de indicadores HSE'!AF23:AF24,\">=0\"),\"-\")","v":"-"},{"$f":"+IFERROR(AVERAGEIFS('Resumen de indicadores HSE'!AG23:AG24,'Resumen de indicadores HSE'!AG23:AG24,\">=0\"),\"-\")","v":"-"},{"$f":"+IFERROR(AVERAGEIFS('Resumen de indicadores HSE'!AH23:AH24,'Resumen de indicadores HSE'!AH23:AH24,\">=0\"),\"-\")","v":"-"},{"$f":"+IFERROR(AVERAGEIFS('Resumen de indicadores HSE'!AI23:AI24,'Resumen de indicadores HSE'!AI23:AI24,\">=0\"),\"-\")","v":"-"},{"$f":"+IFERROR(AVERAGEIFS('Resumen de indicadores HSE'!AJ23:AJ24,'Resumen de indicadores HSE'!AJ23:AJ24,\">=0\"),\"-\")","v":"-"},{"$f":"+IFERROR(AVERAGEIFS('Resumen de indicadores HSE'!AK23:AK24,'Resumen de indicadores HSE'!AK23:AK24,\">=0\"),\"-\")","v":"-"},{"$f":"+IFERROR(AVERAGEIFS('Resumen de indicadores HSE'!AL23:AL24,'Resumen de indicadores HSE'!AL23:AL24,\">=0\"),\"-\")","v":"-"},{"$f":"+IFERROR(AVERAGEIFS('Resumen de indicadores HSE'!AM23:AM24,'Resumen de indicadores HSE'!AM23:AM24,\">=0\"),\"-\")","v":"-"},{"$f":"+IFERROR(AVERAGEIFS('Resumen de indicadores HSE'!AN23:AN24,'Resumen de indicadores HSE'!AN23:AN24,\">=0\"),\"-\")","v":"-"},{"$f":"+IFERROR(AVERAGEIFS('Resumen de indicadores HSE'!AO23:AO24,'Resumen de indicadores HSE'!AO23:AO24,\">=0\"),\"-\")","v":"-"},{"$f":"+IFERROR(AVERAGEIFS('Resumen de indicadores HSE'!AP23:AP24,'Resumen de indicadores HSE'!AP23:AP24,\">=0\"),\"-\")","v":"-"},{"$f":"+IFERROR(AVERAGEIFS('Resumen de indicadores HSE'!AQ23:AQ24,'Resumen de indicadores HSE'!AQ23:AQ24,\">=0\"),\"-\")","v":"-"},{"$f":"+IFERROR(AVERAGEIFS('Resumen de indicadores HSE'!AR23:AR24,'Resumen de indicadores HSE'!AR23:AR24,\">=0\"),\"-\")","v":"-"},{"$f":"+IFERROR(AVERAGEIFS('Resumen de indicadores HSE'!AS23:AS24,'Resumen de indicadores HSE'!AS23:AS24,\">=0\"),\"-\")","v":"-"},{"$f":"+IFERROR(AVERAGEIFS('Resumen de indicadores HSE'!AT23:AT24,'Resumen de indicadores HSE'!AT23:AT24,\">=0\"),\"-\")","v":"-"},{"$f":"+IFERROR(AVERAGEIFS('Resumen de indicadores HSE'!AU23:AU24,'Resumen de indicadores HSE'!AU23:AU24,\">=0\"),\"-\")","v":"-"},{"$f":"+IFERROR(AVERAGEIFS('Resumen de indicadores HSE'!AV23:AV24,'Resumen de indicadores HSE'!AV23:AV24,\">=0\"),\"-\")","v":"-"},{"$f":"+IFERROR(AVERAGEIFS('Resumen de indicadores HSE'!AW23:AW24,'Resumen de indicadores HSE'!AW23:AW24,\">=0\"),\"-\")","v":"-"},{"$f":"+IFERROR(AVERAGEIFS('Resumen de indicadores HSE'!AX23:AX24,'Resumen de indicadores HSE'!AX23:AX24,\">=0\"),\"-\")","v":"-"},{"$f":"+IFERROR(AVERAGEIFS('Resumen de indicadores HSE'!AY23:AY24,'Resumen de indicadores HSE'!AY23:AY24,\">=0\"),\"-\")","v":"-"},{"$f":"+IFERROR(AVERAGEIFS('Resumen de indicadores HSE'!AZ23:AZ24,'Resumen de indicadores HSE'!AZ23:AZ24,\">=0\"),\"-\")","v":"-"},{"$f":"+IFERROR(AVERAGEIFS('Resumen de indicadores HSE'!BA23:BA24,'Resumen de indicadores HSE'!BA23:BA24,\">=0\"),\"-\")","v":"-"},{"$f":"+IFERROR(AVERAGEIFS('Resumen de indicadores HSE'!BB23:BB24,'Resumen de indicadores HSE'!BB23:BB24,\">=0\"),\"-\")","v":"-"},{"$f":"+IFERROR(AVERAGEIFS('Resumen de indicadores HSE'!BC23:BC24,'Resumen de indicadores HSE'!BC23:BC24,\">=0\"),\"-\")","v":"-"},{"$f":"+IFERROR(AVERAGEIFS('Resumen de indicadores HSE'!BD23:BD24,'Resumen de indicadores HSE'!BD23:BD24,\">=0\"),\"-\")","v":"-"},{"$f":"+IFERROR(AVERAGEIFS('Resumen de indicadores HSE'!BE23:BE24,'Resumen de indicadores HSE'!BE23:BE24,\">=0\"),\"-\")","v":"-"}]
[]
[null,null,null,"Indicadores",null,{"$f":"+F4","v":"Estudiante 1"},"Estudiante 2","Estudiante 3","Estudiante 4","Estudiante 5","Estudiante 6","Estudiante 7","Estudiante 8","Estudiante 9","Estudiante 10","Estudiante 11","Estudiante 12","Estudiante 13","Estudiante 14","Estudiante 15","Estudiante 16","Estudiante 17","Estudiante 18","Estudiante 19","Estudiante 20","Estudiante 21","Estudiante 22","Estudiante 23","Estudiante 24","Estudiante 25","Estudiante 26","Estudiante 27","Estudiante 28","Estudiante 29","Estudiante 30","Estudiante 31","Estudiante 32","Estudiante 33","Estudiante 34","Estudiante 35","Estudiante 36","Estudiante 37","Estudiante 38","Estudiante 39","Estudiante 40","Estudiante 41","Estudiante 42","Estudiante 43","Estudiante 44","Estudiante 45","Estudiante 46","Estudiante 47","Estudiante 48","Estudiante 49","Estudiante 50"]
[null,null,null,"Promedio Escala",null,{"$f":"IFERROR(AVERAGEIFS(F6:F18,F6:F18,\">=0\"),\"-\")","v":"-"},"-","-","-","-","-","-","-","-","-","-","-","-","-","-","-","-","-","-","-","-","-","-","-","-","-","-","-","-","-","-","-","-","-","-","-","-","-","-","-","-","-","-","-","-","-","-","-","-","-"]
[null,null,null,"En inicio",null,{"$f":"IF(ISNUMBER(F21),(COUNTIFS(F6:F18,\">=0\",F6:F18,\"<=0.67\")),0)","v":0},0,0,0,0,0,0,0,0,0,0,0,0,0,0,0,0,0,0,0,0,0,0,0,0,0,0,0,0,0,0,0,0,0,0,0,0,0,0,0,0,0,0,0,0,0,0,0,0,0]
[null,null,null,"En Proceso",null,{"$f":"IF(ISNUMBER(F21),(COUNTIFS(F6:F18,\">=0.68\",F6:F18,\"<=1.32\")),0)","v":0},0,0,0,0,0,0,0,0,0,0,0,0,0,0,0,0,0,0,0,0,0,0,0,0,0,0,0,0,0,0,0,0,0,0,0,0,0,0,0,0,0,0,0,0,0,0,0,0,0]
[null,null,null,"Satisfactorio",null,{"$f":"IF(ISNUMBER(F21),COUNTIFS(F6:F18,\">=1.33\"),0)","v":0},0,0,0,0,0,0,0,0,0,0,0,0,0,0,0,0,0,0,0,0,0,0,0,0,0,0,0,0,0,0,0,0,0,0,0,0,0,0,0,0,0,0,0,0,0,0,0,0,0]
[null,null,null,"TOTAL",null,{"$f":"+SUM(F22:F24)","v":0},0,0,0,0,0,0,0,0,0,0,0,0,0,0,0,0,0,0,0,0,0,0,0,0,0,0,0,0,0,0,0,0,0,0,0,0,0,0,0,0,0,0,0,0,0,0,0,0,0]

{"sheet":"Resumen de indicadores FR","index":6,"n_rows":26,"n_cols":57,"rows_kept":26,"cut":false,"hidden":false,"merged":[[8,3,8,4],[9,3,9,4],[3,3,3,4],[4,2,5,2],[4,3,4,4],[5,3,5,4],[6,2,9,2],[6,3,6,4],[7,3,7,4],[14,3,14,4],[15,3,15,4],[16,3,16,4],[17,3,17,4],[18,3,18,4],[19,3,19,4],[10,2,11,2],[10,3,10,4],[11,3,11,4],[12,2,13,2],[12,3,12,4],[13,3,13,4],[14,2,18,2]]}
[]
[]
[]
[null,"Dimensión","Escala","Resultados Indicadores",null,"Puntaje Promedio del aula, por indicador",null,{"$f":"'BASE DE RESPUESTAS'!H5","v":"Estudiante 1"},{"$f":"'BASE DE RESPUESTAS'!I5","v":"Estudiante 2"},{"$f":"'BASE DE RESPUESTAS'!J5","v":"Estudiante 3"},{"$f":"'BASE DE RESPUESTAS'!K5","v":"Estudiante 4"},{"$f":"'BASE DE RESPUESTAS'!L5","v":"Estudiante 5"},{"$f":"'BASE DE RESPUESTAS'!M5","v":"Estudiante 6"},{"$f":"'BASE DE RESPUESTAS'!N5","v":"Estudiante 7"},{"$f":"'BASE DE RESPUESTAS'!O5","v":"Estudiante 8"},{"$f":"'BASE DE RESPUESTAS'!P5","v":"Estudiante 9"},{"$f":"'BASE DE RESPUESTAS'!Q5","v":"Estudiante 10"},{"$f":"'BASE DE RESPUESTAS'!R5","v":"Estudiante 11"},{"$f":"'BASE DE RESPUESTAS'!S5","v":"Estudiante 12"},{"$f":"'BASE DE RESPUESTAS'!T5","v":"Estudiante 13"},{"$f":"'BASE DE RESPUESTAS'!U5","v":"Estudiante 14"},{"$f":"'BASE DE RESPUESTAS'!V5","v":"Estudiante 15"},{"$f":"'BASE DE RESPUESTAS'!W5","v":"Estudiante 16"},{"$f":"'BASE DE RESPUESTAS'!X5","v":"Estudiante 17"},{"$f":"'BASE DE RESPUESTAS'!Y5","v":"Estudiante 18"},{"$f":"'BASE DE RESPUESTAS'!Z5","v":"Estudiante 19"},{"$f":"'BASE DE RESPUESTAS'!AA5","v":"Estudiante 20"},{"$f":"'BASE DE RESPUESTAS'!AB5","v":"Estudiante 21"},{"$f":"'BASE DE RESPUESTAS'!AC5","v":"Estudiante 22"},{"$f":"'BASE DE RESPUESTAS'!AD5","v":"Estudiante 23"},{"$f":"'BASE DE RESPUESTAS'!AE5","v":"Estudiante 24"},{"$f":"'BASE DE RESPUESTAS'!AF5","v":"Estudiante 25"},{"$f":"'BASE DE RESPUESTAS'!AG5","v":"Estudiante 26"},{"$f":"'BASE DE RESPUESTAS'!AH5","v":"Estudiante 27"},{"$f":"'BASE DE RESPUESTAS'!AI5","v":"Estudiante 28"},{"$f":"'BASE DE RESPUESTAS'!AJ5","v":"Estudiante 29"},{"$f":"'BASE DE RESPUESTAS'!AK5","v":"Estudiante 30"},{"$f":"'BASE DE RESPUESTAS'!AL5","v":"Estudiante 31"},{"$f":"'BASE DE RESPUESTAS'!AM5","v":"Estudiante 32"},{"$f":"'BASE DE RESPUESTAS'!AN5","v":"Estudiante 33"},{"$f":"'BASE DE RESPUESTAS'!AO5","v":"Estudiante 34"},{"$f":"'BASE DE RESPUESTAS'!AP5","v":"Estudiante 35"},{"$f":"'BASE DE RESPUESTAS'!AQ5","v":"Estudiante 36"},{"$f":"'BASE DE RESPUESTAS'!AR5","v":"Estudiante 37"},{"$f":"'BASE DE RESPUESTAS'!AS5","v":"Estudiante 38"},{"$f":"'BASE DE RESPUESTAS'!AT5","v":"Estudiante 39"},{"$f":"'BASE DE RESPUESTAS'!AU5","v":"Estudiante 40"},{"$f":"'BASE DE RESPUESTAS'!AV5","v":"Estudiante 41"},{"$f":"'BASE DE RESPUESTAS'!AW5","v":"Estudiante 42"},{"$f":"'BASE DE RESPUESTAS'!AX5","v":"Estudiante 43"},{"$f":"'BASE DE RESPUESTAS'!AY5","v":"Estudiante 44"},{"$f":"'BASE DE RESPUESTAS'!AZ5","v":"Estudiante 45"},{"$f":"'BASE DE RESPUESTAS'!BA5","v":"Estudiante 46"},{"$f":"'BASE DE RESPUESTAS'!BB5","v":"Estudiante 47"},{"$f":"'BASE DE RESPUESTAS'!BC5","v":"Estudiante 48"},{"$f":"'BASE DE RESPUESTAS'!BD5","v":"Estudiante 49"},{"$f":"'BASE DE RESPUESTAS'!BE5","v":"Estudiante 50"}]
[null,"FR","Dificultades en el desarrollo cognitivo","La niña o el niño no puede mantener una conversación sencilla.",null,{"$f":"+IFERROR(AVERAGEIFS(H5:BE5,H5:BE5,\">=0\"),\"-\")","v":1},null,{"$f":"+IFERROR((VLOOKUP('BASE DE RESPUESTAS'!H36,Back!$M$21:$N$23,2,0)),\"-\")","v":1},{"$f":"+IFERROR((VLOOKUP('BASE DE RESPUESTAS'!I36,Back!$M$21:$N$23,2,0)),\"-\")","v":"-"},{"$f":"+IFERROR((VLOOKUP('BASE DE RESPUESTAS'!J36,Back!$M$21:$N$23,2,0)),\"-\")","v":"-"},{"$f":"+IFERROR((VLOOKUP('BASE DE RESPUESTAS'!K36,Back!$M$21:$N$23,2,0)),\"-\")","v":"-"},{"$f":"+IFERROR((VLOOKUP('BASE DE RESPUESTAS'!L36,Back!$M$21:$N$23,2,0)),\"-\")","v":"-"},{"$f":"+IFERROR((VLOOKUP('BASE DE RESPUESTAS'!M36,Back!$M$21:$N$23,2,0)),\"-\")","v":"-"},{"$f":"+IFERROR((VLOOKUP('BASE DE RESPUESTAS'!N36,Back!$M$21:$N$23,2,0)),\"-\")","v":"-"},{"$f":"+IFERROR((VLOOKUP('BASE DE RESPUESTAS'!O36,Back!$M$21:$N$23,2,0)),\"-\")","v":"-"},{"$f":"+IFERROR((VLOOKUP('BASE DE RESPUESTAS'!P36,Back!$M$21:$N$23,2,0)),\"-\")","v":"-"},{"$f":"+IFERROR((VLOOKUP('BASE DE RESPUESTAS'!Q36,Back!$M$21:$N$23,2,0)),\"-\")","v":"-"},{"$f":"+IFERROR((VLOOKUP('BASE DE RESPUESTAS'!R36,Back!$M$21:$N$23,2,0)),\"-\")","v":"-"},{"$f":"+IFERROR((VLOOKUP('BASE DE RESPUESTAS'!S36,Back!$M$21:$N$23,2,0)),\"-\")","v":"-"},{"$f":"+IFERROR((VLOOKUP('BASE DE RESPUESTAS'!T36,Back!$M$21:$N$23,2,0)),\"-\")","v":"-"},{"$f":"+IFERROR((VLOOKUP('BASE DE RESPUESTAS'!U36,Back!$M$21:$N$23,2,0)),\"-\")","v":"-"},{"$f":"+IFERROR((VLOOKUP('BASE DE RESPUESTAS'!V36,Back!$M$21:$N$23,2,0)),\"-\")","v":"-"},{"$f":"+IFERROR((VLOOKUP('BASE DE RESPUESTAS'!W36,Back!$M$21:$N$23,2,0)),\"-\")","v":"-"},{"$f":"+IFERROR((VLOOKUP('BASE DE RESPUESTAS'!X36,Back!$M$21:$N$23,2,0)),\"-\")","v":"-"},{"$f":"+IFERROR((VLOOKUP('BASE DE RESPUESTAS'!Y36,Back!$M$21:$N$23,2,0)),\"-\")","v":"-"},{"$f":"+IFERROR((VLOOKUP('BASE DE RESPUESTAS'!Z36,Back!$M$21:$N$23,2,0)),\"-\")","v":"-"},{"$f":"+IFERROR((VLOOKUP('BASE DE RESPUESTAS'!AA36,Back!$M$21:$N$23,2,0)),\"-\")","v":"-"},{"$f":"+IFERROR((VLOOKUP('BASE DE RESPUESTAS'!AB36,Back!$M$21:$N$23,2,0)),\"-\")","v":"-"},{"$f":"+IFERROR((VLOOKUP('BASE DE RESPUESTAS'!AC36,Back!$M$21:$N$23,2,0)),\"-\")","v":"-"},{"$f":"+IFERROR((VLOOKUP('BASE DE RESPUESTAS'!AD36,Back!$M$21:$N$23,2,0)),\"-\")","v":"-"},{"$f":"+IFERROR((VLOOKUP('BASE DE RESPUESTAS'!AE36,Back!$M$21:$N$23,2,0)),\"-\")","v":"-"},{"$f":"+IFERROR((VLOOKUP('BASE DE RESPUESTAS'!AF36,Back!$M$21:$N$23,2,0)),\"-\")","v":"-"},{"$f":"+IFERROR((VLOOKUP('BASE DE RESPUESTAS'!AG36,Back!$M$21:$N$23,2,0)),\"-\")","v":"-"},{"$f":"+IFERROR((VLOOKUP('BASE DE RESPUESTAS'!AH36,Back!$M$21:$N$23,2,0)),\"-\")","v":"-"},{"$f":"+IFERROR((VLOOKUP('BASE DE RESPUESTAS'!AI36,Back!$M$21:$N$23,2,0)),\"-\")","v":"-"},{"$f":"+IFERROR((VLOOKUP('BASE DE RESPUESTAS'!AJ36,Back!$M$21:$N$23,2,0)),\"-\")","v":"-"},{"$f":"+IFERROR((VLOOKUP('BASE DE RESPUESTAS'!AK36,Back!$M$21:$N$23,2,0)),\"-\")","v":"-"},{"$f":"+IFERROR((VLOOKUP('BASE DE RESPUESTAS'!AL36,Back!$M$21:$N$23,2,0)),\"-\")","v":"-"},{"$f":"+IFERROR((VLOOKUP('BASE DE RESPUESTAS'!AM36,Back!$M$21:$N$23,2,0)),\"-\")","v":"-"},{"$f":"+IFERROR((VLOOKUP('BASE DE RESPUESTAS'!AN36,Back!$M$21:$N$23,2,0)),\"-\")","v":"-"},{"$f":"+IFERROR((VLOOKUP('BASE DE RESPUESTAS'!AO36,Back!$M$21:$N$23,2,0)),\"-\")","v":"-"},{"$f":"+IFERROR((VLOOKUP('BASE DE RESPUESTAS'!AP36,Back!$M$21:$N$23,2,0)),\"-\")","v":"-"},{"$f":"+IFERROR((VLOOKUP('BASE DE RESPUESTAS'!AQ36,Back!$M$21:$N$23,2,0)),\"-\")","v":"-"},{"$f":"+IFERROR((VLOOKUP('BASE DE RESPUESTAS'!AR36,Back!$M$21:$N$23,2,0)),\"-\")","v":"-"},{"$f":"+IFERROR((VLOOKUP('BASE DE RESPUESTAS'!AS36,Back!$M$21:$N$23,2,0)),\"-\")","v":"-"},{"$f":"+IFERROR((VLOOKUP('BASE DE RESPUESTAS'!AT36,Back!$M$21:$N$23,2,0)),\"-\")","v":"-"},{"$f":"+IFERROR((VLOOKUP('BASE DE RESPUESTAS'!AU36,Back!$M$21:$N$23,2,0)),\"-\")","v":"-"},{"$f":"+IFERROR((VLOOKUP('BASE DE RESPUESTAS'!AV36,Back!$M$21:$N$23,2,0)),\"-\")","v":"-"},{"$f":"+IFERROR((VLOOKUP('BASE DE RESPUESTAS'!AW36,Back!$M$21:$N$23,2,0)),\"-\")","v":"-"},{"$f":"+IFERROR((VLOOKUP('BASE DE RESPUESTAS'!AX36,Back!$M$21:$N$23,2,0)),\"-\")","v":"-"},{"$f":"+IFERROR((VLOOKUP('BASE DE RESPUESTAS'!AY36,Back!$M$21:$N$23,2,0)),\"-\")","v":"-"},{"$f":"+IFERROR((VLOOKUP('BASE DE RESPUESTAS'!AZ36,Back!$M$21:$N$23,2,0)),\"-\")","v":"-"},{"$f":"+IFERROR((VLOOKUP('BASE DE RESPUESTAS'!BA36,Back!$M$21:$N$23,2,0)),\"-\")","v":"-"},{"$f":"+IFERROR((VLOOKUP('BASE DE RESPUESTAS'!BB36,Back!$M$21:$N$23,2,0)),\"-\")","v":"-"},{"$f":"+IFERROR((VLOOKUP('BASE DE RESPUESTAS'!BC36,Back!$M$21:$N$23,2,0)),\"-\")","v":"-"},{"$f":"+IFERROR((VLOOKUP('BASE DE RESPUESTAS'!BD36,Back!$M$21:$N$23,2,0)),\"-\")","v":"-"},{"$f":"+IFERROR((VLOOKUP('BASE DE RESPUESTAS'!BE36,Back!$M$21:$N$23,2,0)),\"-\")","v":"-"}]
[null,"FR",null,"La niña o el niño se distrae con facilidad, tiene problemas para concentrarse en una actividad por más de cinco minutos.",null,0,null,{"$f":"+IFERROR((VLOOKUP('BASE DE RESPUESTAS'!H37,Back!$M$21:$N$23,2,0)),\"-\")","v":0},{"$f":"+IFERROR((VLOOKUP('BASE DE RESPUESTAS'!I37,Back!$M$21:$N$23,2,0)),\"-\")","v":"-"},{"$f":"+IFERROR((VLOOKUP('BASE DE RESPUESTAS'!J37,Back!$M$21:$N$23,2,0)),\"-\")","v":"-"},{"$f":"+IFERROR((VLOOKUP('BASE DE RESPUESTAS'!K37,Back!$M$21:$N$23,2,0)),\"-\")","v":"-"},{"$f":"+IFERROR((VLOOKUP('BASE DE RESPUESTAS'!L37,Back!$M$21:$N$23,2,0)),\"-\")","v":"-"},{"$f":"+IFERROR((VLOOKUP('BASE DE RESPUESTAS'!M37,Back!$M$21:$N$23,2,0)),\"-\")","v":"-"},{"$f":"+IFERROR((VLOOKUP('BASE DE RESPUESTAS'!N37,Back!$M$21:$N$23,2,0)),\"-\")","v":"-"},{"$f":"+IFERROR((VLOOKUP('BASE DE RESPUESTAS'!O37,Back!$M$21:$N$23,2,0)),\"-\")","v":"-"},{"$f":"+IFERROR((VLOOKUP('BASE DE RESPUESTAS'!P37,Back!$M$21:$N$23,2,0)),\"-\")","v":"-"},{"$f":"+IFERROR((VLOOKUP('BASE DE RESPUESTAS'!Q37,Back!$M$21:$N$23,2,0)),\"-\")","v":"-"},{"$f":"+IFERROR((VLOOKUP('BASE DE RESPUESTAS'!R37,Back!$M$21:$N$23,2,0)),\"-\")","v":"-"},{"$f":"+IFERROR((VLOOKUP('BASE DE RESPUESTAS'!S37,Back!$M$21:$N$23,2,0)),\"-\")","v":"-"},{"$f":"+IFERROR((VLOOKUP('BASE DE RESPUESTAS'!T37,Back!$M$21:$N$23,2,0)),\"-\")","v":"-"},{"$f":"+IFERROR((VLOOKUP('BASE DE RESPUESTAS'!U37,Back!$M$21:$N$23,2,0)),\"-\")","v":"-"},{"$f":"+IFERROR((VLOOKUP('BASE DE RESPUESTAS'!V37,Back!$M$21:$N$23,2,0)),\"-\")","v":"-"},{"$f":"+IFERROR((VLOOKUP('BASE DE RESPUESTAS'!W37,Back!$M$21:$N$23,2,0)),\"-\")","v":"-"},{"$f":"+IFERROR((VLOOKUP('BASE DE RESPUESTAS'!X37,Back!$M$21:$N$23,2,0)),\"-\")","v":"-"},{"$f":"+IFERROR((VLOOKUP('BASE DE RESPUESTAS'!Y37,Back!$M$21:$N$23,2,0)),\"-\")","v":"-"},{"$f":"+IFERROR((VLOOKUP('BASE DE RESPUESTAS'!Z37,Back!$M$21:$N$23,2,0)),\"-\")","v":"-"},{"$f":"+IFERROR((VLOOKUP('BASE DE RESPUESTAS'!AA37,Back!$M$21:$N$23,2,0)),\"-\")","v":"-"},{"$f":"+IFERROR((VLOOKUP('BASE DE RESPUESTAS'!AB37,Back!$M$21:$N$23,2,0)),\"-\")","v":"-"},{"$f":"+IFERROR((VLOOKUP('BASE DE RESPUESTAS'!AC37,Back!$M$21:$N$23,2,0)),\"-\")","v":"-"},{"$f":"+IFERROR((VLOOKUP('BASE DE RESPUESTAS'!AD37,Back!$M$21:$N$23,2,0)),\"-\")","v":"-"},{"$f":"+IFERROR((VLOOKUP('BASE DE RESPUESTAS'!AE37,Back!$M$21:$N$23,2,0)),\"-\")","v":"-"},{"$f":"+IFERROR((VLOOKUP('BASE DE RESPUESTAS'!AF37,Back!$M$21:$N$23,2,0)),\"-\")","v":"-"},{"$f":"+IFERROR((VLOOKUP('BASE DE RESPUESTAS'!AG37,Back!$M$21:$N$23,2,0)),\"-\")","v":"-"},{"$f":"+IFERROR((VLOOKUP('BASE DE RESPUESTAS'!AH37,Back!$M$21:$N$23,2,0)),\"-\")","v":"-"},{"$f":"+IFERROR((VLOOKUP('BASE DE RESPUESTAS'!AI37,Back!$M$21:$N$23,2,0)),\"-\")","v":"-"},{"$f":"+IFERROR((VLOOKUP('BASE DE RESPUESTAS'!AJ37,Back!$M$21:$N$23,2,0)),\"-\")","v":"-"},{"$f":"+IFERROR((VLOOKUP('BASE DE RESPUESTAS'!AK37,Back!$M$21:$N$23,2,0)),\"-\")","v":"-"},{"$f":"+IFERROR((VLOOKUP('BASE DE RESPUESTAS'!AL37,Back!$M$21:$N$23,2,0)),\"-\")","v":"-"},{"$f":"+IFERROR((VLOOKUP('BASE DE RESPUESTAS'!AM37,Back!$M$21:$N$23,2,0)),\"-\")","v":"-"},{"$f":"+IFERROR((VLOOKUP('BASE DE RESPUESTAS'!AN37,Back!$M$21:$N$23,2,0)),\"-\")","v":"-"},{"$f":"+IFERROR((VLOOKUP('BASE DE RESPUESTAS'!AO37,Back!$M$21:$N$23,2,0)),\"-\")","v":"-"},{"$f":"+IFERROR((VLOOKUP('BASE DE RESPUESTAS'!AP37,Back!$M$21:$N$23,2,0)),\"-\")","v":"-"},{"$f":"+IFERROR((VLOOKUP('BASE DE RESPUESTAS'!AQ37,Back!$M$21:$N$23,2,0)),\"-\")","v":"-"},{"$f":"+IFERROR((VLOOKUP('BASE DE RESPUESTAS'!AR37,Back!$M$21:$N$23,2,0)),\"-\")","v":"-"},{"$f":"+IFERROR((VLOOKUP('BASE DE RESPUESTAS'!AS37,Back!$M$21:$N$23,2,0)),\"-\")","v":"-"},{"$f":"+IFERROR((VLOOKUP('BASE DE RESPUESTAS'!AT37,Back!$M$21:$N$23,2,0)),\"-\")","v":"-"},{"$f":"+IFERROR((VLOOKUP('BASE DE RESPUESTAS'!AU37,Back!$M$21:$N$23,2,0)),\"-\")","v":"-"},{"$f":"+IFERROR((VLOOKUP('BASE DE RESPUESTAS'!AV37,Back!$M$21:$N$23,2,0)),\"-\")","v":"-"},{"$f":"+IFERROR((VLOOKUP('BASE DE RESPUESTAS'!AW37,Back!$M$21:$N$23,2,0)),\"-\")","v":"-"},{"$f":"+IFERROR((VLOOKUP('BASE DE RESPUESTAS'!AX37,Back!$M$21:$N$23,2,0)),\"-\")","v":"-"},{"$f":"+IFERROR((VLOOKUP('BASE DE RESPUESTAS'!AY37,Back!$M$21:$N$23,2,0)),\"-\")","v":"-"},{"$f":"+IFERROR((VLOOKUP('BASE DE RESPUESTAS'!AZ37,Back!$M$21:$N$23,2,0)),\"-\")","v":"-"},{"$f":"+IFERROR((VLOOKUP('BASE DE RESPUESTAS'!BA37,Back!$M$21:$N$23,2,0)),\"-\")","v":"-"},{"$f":"+IFERROR((VLOOKUP('BASE DE RESPUESTAS'!BB37,Back!$M$21:$N$23,2,0)),\"-\")","v":"-"},{"$f":"+IFERROR((VLOOKUP('BASE DE RESPUESTAS'!BC37,Back!$M$21:$N$23,2,0)),\"-\")","v":"-"},{"$f":"+IFERROR((VLOOKUP('BASE DE RESPUESTAS'!BD37,Back!$M$21:$N$23,2,0)),\"-\")","v":"-"},{"$f":"+IFERROR((VLOOKUP('BASE DE RESPUESTAS'!BE37,Back!$M$21:$N$23,2,0)),\"-\")","v":"-"}]
[null,"FR","Dificultades en el desarrollo emocional","La niña o el niño muestra cambios de humor repentinos.",null,"-",null,{"$f":"+IFERROR((VLOOKUP('BASE DE RESPUESTAS'!H38,Back!$M$21:$N$23,2,0)),\"-\")","v":"-"},{"$f":"+IFERROR((VLOOKUP('BASE DE RESPUESTAS'!I38,Back!$M$21:$N$23,2,0)),\"-\")","v":"-"},{"$f":"+IFERROR((VLOOKUP('BASE DE RESPUESTAS'!J38,Back!$M$21:$N$23,2,0)),\"-\")","v":"-"},{"$f":"+IFERROR((VLOOKUP('BASE DE RESPUESTAS'!K38,Back!$M$21:$N$23,2,0)),\"-\")","v":"-"},{"$f":"+IFERROR((VLOOKUP('BASE DE RESPUESTAS'!L38,Back!$M$21:$N$23,2,0)),\"-\")","v":"-"},{"$f":"+IFERROR((VLOOKUP('BASE DE RESPUESTAS'!M38,Back!$M$21:$N$23,2,0)),\"-\")","v":"-"},{"$f":"+IFERROR((VLOOKUP('BASE DE RESPUESTAS'!N38,Back!$M$21:$N$23,2,0)),\"-\")","v":"-"},{"$f":"+IFERROR((VLOOKUP('BASE DE RESPUESTAS'!O38,Back!$M$21:$N$23,2,0)),\"-\")","v":"-"},{"$f":"+IFERROR((VLOOKUP('BASE DE RESPUESTAS'!P38,Back!$M$21:$N$23,2,0)),\"-\")","v":"-"},{"$f":"+IFERROR((VLOOKUP('BASE DE RESPUESTAS'!Q38,Back!$M$21:$N$23,2,0)),\"-\")","v":"-"},{"$f":"+IFERROR((VLOOKUP('BASE DE RESPUESTAS'!R38,Back!$M$21:$N$23,2,0)),\"-\")","v":"-"},{"$f":"+IFERROR((VLOOKUP('BASE DE RESPUESTAS'!S38,Back!$M$21:$N$23,2,0)),\"-\")","v":"-"},{"$f":"+IFERROR((VLOOKUP('BASE DE RESPUESTAS'!T38,Back!$M$21:$N$23,2,0)),\"-\")","v":"-"},{"$f":"+IFERROR((VLOOKUP('BASE DE RESPUESTAS'!U38,Back!$M$21:$N$23,2,0)),\"-\")","v":"-"},{"$f":"+IFERROR((VLOOKUP('BASE DE RESPUESTAS'!V38,Back!$M$21:$N$23,2,0)),\"-\")","v":"-"},{"$f":"+IFERROR((VLOOKUP('BASE DE RESPUESTAS'!W38,Back!$M$21:$N$23,2,0)),\"-\")","v":"-"},{"$f":"+IFERROR((VLOOKUP('BASE DE RESPUESTAS'!X38,Back!$M$21:$N$23,2,0)),\"-\")","v":"-"},{"$f":"+IFERROR((VLOOKUP('BASE DE RESPUESTAS'!Y38,Back!$M$21:$N$23,2,0)),\"-\")","v":"-"},{"$f":"+IFERROR((VLOOKUP('BASE DE RESPUESTAS'!Z38,Back!$M$21:$N$23,2,0)),\"-\")","v":"-"},{"$f":"+IFERROR((VLOOKUP('BASE DE RESPUESTAS'!AA38,Back!$M$21:$N$23,2,0)),\"-\")","v":"-"},{"$f":"+IFERROR((VLOOKUP('BASE DE RESPUESTAS'!AB38,Back!$M$21:$N$23,2,0)),\"-\")","v":"-"},{"$f":"+IFERROR((VLOOKUP('BASE DE RESPUESTAS'!AC38,Back!$M$21:$N$23,2,0)),\"-\")","v":"-"},{"$f":"+IFERROR((VLOOKUP('BASE DE RESPUESTAS'!AD38,Back!$M$21:$N$23,2,0)),\"-\")","v":"-"},{"$f":"+IFERROR((VLOOKUP('BASE DE RESPUESTAS'!AE38,Back!$M$21:$N$23,2,0)),\"-\")","v":"-"},{"$f":"+IFERROR((VLOOKUP('BASE DE RESPUESTAS'!AF38,Back!$M$21:$N$23,2,0)),\"-\")","v":"-"},{"$f":"+IFERROR((VLOOKUP('BASE DE RESPUESTAS'!AG38,Back!$M$21:$N$23,2,0)),\"-\")","v":"-"},{"$f":"+IFERROR((VLOOKUP('BASE DE RESPUESTAS'!AH38,Back!$M$21:$N$23,2,0)),\"-\")","v":"-"},{"$f":"+IFERROR((VLOOKUP('BASE DE RESPUESTAS'!AI38,Back!$M$21:$N$23,2,0)),\"-\")","v":"-"},{"$f":"+IFERROR((VLOOKUP('BASE DE RESPUESTAS'!AJ38,Back!$M$21:$N$23,2,0)),\"-\")","v":"-"},{"$f":"+IFERROR((VLOOKUP('BASE DE RESPUESTAS'!AK38,Back!$M$21:$N$23,2,0)),\"-\")","v":"-"},{"$f":"+IFERROR((VLOOKUP('BASE DE RESPUESTAS'!AL38,Back!$M$21:$N$23,2,0)),\"-\")","v":"-"},{"$f":"+IFERROR((VLOOKUP('BASE DE RESPUESTAS'!AM38,Back!$M$21:$N$23,2,0)),\"-\")","v":"-"},{"$f":"+IFERROR((VLOOKUP('BASE DE RESPUESTAS'!AN38,Back!$M$21:$N$23,2,0)),\"-\")","v":"-"},{"$f":"+IFERROR((VLOOKUP('BASE DE RESPUESTAS'!AO38,Back!$M$21:$N$23,2,0)),\"-\")","v":"-"},{"$f":"+IFERROR((VLOOKUP('BASE DE RESPUESTAS'!AP38,Back!$M$21:$N$23,2,0)),\"-\")","v":"-"},{"$f":"+IFERROR((VLOOKUP('BASE DE RESPUESTAS'!AQ38,Back!$M$21:$N$23,2,0)),\"-\")","v":"-"},{"$f":"+IFERROR((VLOOKUP('BASE DE RESPUESTAS'!AR38,Back!$M$21:$N$23,2,0)),\"-\")","v":"-"},{"$f":"+IFERROR((VLOOKUP('BASE DE RESPUESTAS'!AS38,Back!$M$21:$N$23,2,0)),\"-\")","v":"-"},{"$f":"+IFERROR((VLOOKUP('BASE DE RESPUESTAS'!AT38,Back!$M$21:$N$23,2,0)),\"-\")","v":"-"},{"$f":"+IFERROR((VLOOKUP('BASE DE RESPUESTAS'!AU38,Back!$M$21:$N$23,2,0)),\"-\")","v":"-"},{"$f":"+IFERROR((VLOOKUP('BASE DE RESPUESTAS'!AV38,Back!$M$21:$N$23,2,0)),\"-\")","v":"-"},{"$f":"+IFERROR((VLOOKUP('BASE DE RESPUESTAS'!AW38,Back!$M$21:$N$23,2,0)),\"-\")","v":"-"},{"$f":"+IFERROR((VLOOKUP('BASE DE RESPUESTAS'!AX38,Back!$M$21:$N$23,2,0)),\"-\")","v":"-"},{"$f":"+IFERROR((VLOOKUP('BASE DE RESPUESTAS'!AY38,Back!$M$21:$N$23,2,0)),\"-\")","v":"-"},{"$f":"+IFERROR((VLOOKUP('BASE DE RESPUESTAS'!AZ38,Back!$M$21:$N$23,2,0)),\"-\")","v":"-"},{"$f":"+IFERROR((VLOOKUP('BASE DE RESPUESTAS'!BA38,Back!$M$21:$N$23,2,0)),\"-\")","v":"-"},{"$f":"+IFERROR((VLOOKUP('BASE DE RESPUESTAS'!BB38,Back!$M$21:$N$23,2,0)),\"-\")","v":"-"},{"$f":"+IFERROR((VLOOKUP('BASE DE RESPUESTAS'!BC38,Back!$M$21:$N$23,2,0)),\"-\")","v":"-"},{"$f":"+IFERROR((VLOOKUP('BASE DE RESPUESTAS'!BD38,Back!$M$21:$N$23,2,0)),\"-\")","v":"-"},{"$f":"+IFERROR((VLOOKUP('BASE DE RESPUESTAS'!BE38,Back!$M$21:$N$23,2,0)),\"-\")","v":"-"}]
[null,"FR",null,"La niña o el niño se irrita desproporcionadamente cuando se le da una indicación que no quiere seguir.",null,"-",null,{"$f":"+IFERROR((VLOOKUP('BASE DE RESPUESTAS'!H39,Back!$M$21:$N$23,2,0)),\"-\")","v":"-"},{"$f":"+IFERROR((VLOOKUP('BASE DE RESPUESTAS'!I39,Back!$M$21:$N$23,2,0)),\"-\")","v":"-"},{"$f":"+IFERROR((VLOOKUP('BASE DE RESPUESTAS'!J39,Back!$M$21:$N$23,2,0)),\"-\")","v":"-"},{"$f":"+IFERROR((VLOOKUP('BASE DE RESPUESTAS'!K39,Back!$M$21:$N$23,2,0)),\"-\")","v":"-"},{"$f":"+IFERROR((VLOOKUP('BASE DE RESPUESTAS'!L39,Back!$M$21:$N$23,2,0)),\"-\")","v":"-"},{"$f":"+IFERROR((VLOOKUP('BASE DE RESPUESTAS'!M39,Back!$M$21:$N$23,2,0)),\"-\")","v":"-"},{"$f":"+IFERROR((VLOOKUP('BASE DE RESPUESTAS'!N39,Back!$M$21:$N$23,2,0)),\"-\")","v":"-"},{"$f":"+IFERROR((VLOOKUP('BASE DE RESPUESTAS'!O39,Back!$M$21:$N$23,2,0)),\"-\")","v":"-"},{"$f":"+IFERROR((VLOOKUP('BASE DE RESPUESTAS'!P39,Back!$M$21:$N$23,2,0)),\"-\")","v":"-"},{"$f":"+IFERROR((VLOOKUP('BASE DE RESPUESTAS'!Q39,Back!$M$21:$N$23,2,0)),\"-\")","v":"-"},{"$f":"+IFERROR((VLOOKUP('BASE DE RESPUESTAS'!R39,Back!$M$21:$N$23,2,0)),\"-\")","v":"-"},{"$f":"+IFERROR((VLOOKUP('BASE DE RESPUESTAS'!S39,Back!$M$21:$N$23,2,0)),\"-\")","v":"-"},{"$f":"+IFERROR((VLOOKUP('BASE DE RESPUESTAS'!T39,Back!$M$21:$N$23,2,0)),\"-\")","v":"-"},{"$f":"+IFERROR((VLOOKUP('BASE DE RESPUESTAS'!U39,Back!$M$21:$N$23,2,0)),\"-\")","v":"-"},{"$f":"+IFERROR((VLOOKUP('BASE DE RESPUESTAS'!V39,Back!$M$21:$N$23,2,0)),\"-\")","v":"-"},{"$f":"+IFERROR((VLOOKUP('BASE DE RESPUESTAS'!W39,Back!$M$21:$N$23,2,0)),\"-\")","v":"-"},{"$f":"+IFERROR((VLOOKUP('BASE DE RESPUESTAS'!X39,Back!$M$21:$N$23,2,0)),\"-\")","v":"-"},{"$f":"+IFERROR((VLOOKUP('BASE DE RESPUESTAS'!Y39,Back!$M$21:$N$23,2,0)),\"-\")","v":"-"},{"$f":"+IFERROR((VLOOKUP('BASE DE RESPUESTAS'!Z39,Back!$M$21:$N$23,2,0)),\"-\")","v":"-"},{"$f":"+IFERROR((VLOOKUP('BASE DE RESPUESTAS'!AA39,Back!$M$21:$N$23,2,0)),\"-\")","v":"-"},{"$f":"+IFERROR((VLOOKUP('BASE DE RESPUESTAS'!AB39,Back!$M$21:$N$23,2,0)),\"-\")","v":"-"},{"$f":"+IFERROR((VLOOKUP('BASE DE RESPUESTAS'!AC39,Back!$M$21:$N$23,2,0)),\"-\")","v":"-"},{"$f":"+IFERROR((VLOOKUP('BASE DE RESPUESTAS'!AD39,Back!$M$21:$N$23,2,0)),\"-\")","v":"-"},{"$f":"+IFERROR((VLOOKUP('BASE DE RESPUESTAS'!AE39,Back!$M$21:$N$23,2,0)),\"-\")","v":"-"},{"$f":"+IFERROR((VLOOKUP('BASE DE RESPUESTAS'!AF39,Back!$M$21:$N$23,2,0)),\"-\")","v":"-"},{"$f":"+IFERROR((VLOOKUP('BASE DE RESPUESTAS'!AG39,Back!$M$21:$N$23,2,0)),\"-\")","v":"-"},{"$f":"+IFERROR((VLOOKUP('BASE DE RESPUESTAS'!AH39,Back!$M$21:$N$23,2,0)),\"-\")","v":"-"},{"$f":"+IFERROR((VLOOKUP('BASE DE RESPUESTAS'!AI39,Back!$M$21:$N$23,2,0)),\"-\")","v":"-"},{"$f":"+IFERROR((VLOOKUP('BASE DE RESPUESTAS'!AJ39,Back!$M$21:$N$23,2,0)),\"-\")","v":"-"},{"$f":"+IFERROR((VLOOKUP('BASE DE RESPUESTAS'!AK39,Back!$M$21:$N$23,2,0)),\"-\")","v":"-"},{"$f":"+IFERROR((VLOOKUP('BASE DE RESPUESTAS'!AL39,Back!$M$21:$N$23,2,0)),\"-\")","v":"-"},{"$f":"+IFERROR((VLOOKUP('BASE DE RESPUESTAS'!AM39,Back!$M$21:$N$23,2,0)),\"-\")","v":"-"},{"$f":"+IFERROR((VLOOKUP('BASE DE RESPUESTAS'!AN39,Back!$M$21:$N$23,2,0)),\"-\")","v":"-"},{"$f":"+IFERROR((VLOOKUP('BASE DE RESPUESTAS'!AO39,Back!$M$21:$N$23,2,0)),\"-\")","v":"-"},{"$f":"+IFERROR((VLOOKUP('BASE DE RESPUESTAS'!AP39,Back!$M$21:$N$23,2,0)),\"-\")","v":"-"},{"$f":"+IFERROR((VLOOKUP('BASE DE RESPUESTAS'!AQ39,Back!$M$21:$N$23,2,0)),\"-\")","v":"-"},{"$f":"+IFERROR((VLOOKUP('BASE DE RESPUESTAS'!AR39,Back!$M$21:$N$23,2,0)),\"-\")","v":"-"},{"$f":"+IFERROR((VLOOKUP('BASE DE RESPUESTAS'!AS39,Back!$M$21:$N$23,2,0)),\"-\")","v":"-"},{"$f":"+IFERROR((VLOOKUP('BASE DE RESPUESTAS'!AT39,Back!$M$21:$N$23,2,0)),\"-\")","v":"-"},{"$f":"+IFERROR((VLOOKUP('BASE DE RESPUESTAS'!AU39,Back!$M$21:$N$23,2,0)),\"-\")","v":"-"},{"$f":"+IFERROR((VLOOKUP('BASE DE RESPUESTAS'!AV39,Back!$M$21:$N$23,2,0)),\"-\")","v":"-"},{"$f":"+IFERROR((VLOOKUP('BASE DE RESPUESTAS'!AW39,Back!$M$21:$N$23,2,0)),\"-\")","v":"-"},{"$f":"+IFERROR((VLOOKUP('BASE DE RESPUESTAS'!AX39,Back!$M$21:$N$23,2,0)),\"-\")","v":"-"},{"$f":"+IFERROR((VLOOKUP('BASE DE RESPUESTAS'!AY39,Back!$M$21:$N$23,2,0)),\"-\")","v":"-"},{"$f":"+IFERROR((VLOOKUP('BASE DE RESPUESTAS'!AZ39,Back!$M$21:$N$23,2,0)),\"-\")","v":"-"},{"$f":"+IFERROR((VLOOKUP('BASE DE RESPUESTAS'!BA39,Back!$M$21:$N$23,2,0)),\"-\")","v":"-"},{"$f":"+IFERROR((VLOOKUP('BASE DE RESPUESTAS'!BB39,Back!$M$21:$N$23,2,0)),\"-\")","v":"-"},{"$f":"+IFERROR((VLOOKUP('BASE DE RESPUESTAS'!BC39,Back!$M$21:$N$23,2,0)),\"-\")","v":"-"},{"$f":"+IFERROR((VLOOKUP('BASE DE RESPUESTAS'!BD39,Back!$M$21:$N$23,2,0)),\"-\")","v":"-"},{"$f":"+IFERROR((VLOOKUP('BASE DE RESPUESTAS'!BE39,Back!$M$21:$N$23,2,0)),\"-\")","v":"-"}]
[null,"FR",null,"La niña o el niño se frustra con facilidad cuando no puede realizar una actividad, llorando y/o dejando de intentar.",null,"-",null,{"$f":"+IFERROR((VLOOKUP('BASE DE RESPUESTAS'!H40,Back!$M$21:$N$23,2,0)),\"-\")","v":"-"},{"$f":"+IFERROR((VLOOKUP('BASE DE RESPUESTAS'!I40,Back!$M$21:$N$23,2,0)),\"-\")","v":"-"},{"$f":"+IFERROR((VLOOKUP('BASE DE RESPUESTAS'!J40,Back!$M$21:$N$23,2,0)),\"-\")","v":"-"},{"$f":"+IFERROR((VLOOKUP('BASE DE RESPUESTAS'!K40,Back!$M$21:$N$23,2,0)),\"-\")","v":"-"},{"$f":"+IFERROR((VLOOKUP('BASE DE RESPUESTAS'!L40,Back!$M$21:$N$23,2,0)),\"-\")","v":"-"},{"$f":"+IFERROR((VLOOKUP('BASE DE RESPUESTAS'!M40,Back!$M$21:$N$23,2,0)),\"-\")","v":"-"},{"$f":"+IFERROR((VLOOKUP('BASE DE RESPUESTAS'!N40,Back!$M$21:$N$23,2,0)),\"-\")","v":"-"},{"$f":"+IFERROR((VLOOKUP('BASE DE RESPUESTAS'!O40,Back!$M$21:$N$23,2,0)),\"-\")","v":"-"},{"$f":"+IFERROR((VLOOKUP('BASE DE RESPUESTAS'!P40,Back!$M$21:$N$23,2,0)),\"-\")","v":"-"},{"$f":"+IFERROR((VLOOKUP('BASE DE RESPUESTAS'!Q40,Back!$M$21:$N$23,2,0)),\"-\")","v":"-"},{"$f":"+IFERROR((VLOOKUP('BASE DE RESPUESTAS'!R40,Back!$M$21:$N$23,2,0)),\"-\")","v":"-"},{"$f":"+IFERROR((VLOOKUP('BASE DE RESPUESTAS'!S40,Back!$M$21:$N$23,2,0)),\"-\")","v":"-"},{"$f":"+IFERROR((VLOOKUP('BASE DE RESPUESTAS'!T40,Back!$M$21:$N$23,2,0)),\"-\")","v":"-"},{"$f":"+IFERROR((VLOOKUP('BASE DE RESPUESTAS'!U40,Back!$M$21:$N$23,2,0)),\"-\")","v":"-"},{"$f":"+IFERROR((VLOOKUP('BASE DE RESPUESTAS'!V40,Back!$M$21:$N$23,2,0)),\"-\")","v":"-"},{"$f":"+IFERROR((VLOOKUP('BASE DE RESPUESTAS'!W40,Back!$M$21:$N$23,2,0)),\"-\")","v":"-"},{"$f":"+IFERROR((VLOOKUP('BASE DE RESPUESTAS'!X40,Back!$M$21:$N$23,2,0)),\"-\")","v":"-"},{"$f":"+IFERROR((VLOOKUP('BASE DE RESPUESTAS'!Y40,Back!$M$21:$N$23,2,0)),\"-\")","v":"-"},{"$f":"+IFERROR((VLOOKUP('BASE DE RESPUESTAS'!Z40,Back!$M$21:$N$23,2,0)),\"-\")","v":"-"},{"$f":"+IFERROR((VLOOKUP('BASE DE RESPUESTAS'!AA40,Back!$M$21:$N$23,2,0)),\"-\")","v":"-"},{"$f":"+IFERROR((VLOOKUP('BASE DE RESPUESTAS'!AB40,Back!$M$21:$N$23,2,0)),\"-\")","v":"-"},{"$f":"+IFERROR((VLOOKUP('BASE DE RESPUESTAS'!AC40,Back!$M$21:$N$23,2,0)),\"-\")","v":"-"},{"$f":"+IFERROR((VLOOKUP('BASE DE RESPUESTAS'!AD40,Back!$M$21:$N$23,2,0)),\"-\")","v":"-"},{"$f":"+IFERROR((VLOOKUP('BASE DE RESPUESTAS'!AE40,Back!$M$21:$N$23,2,0)),\"-\")","v":"-"},{"$f":"+IFERROR((VLOOKUP('BASE DE RESPUESTAS'!AF40,Back!$M$21:$N$23,2,0)),\"-\")","v":"-"},{"$f":"+IFERROR((VLOOKUP('BASE DE RESPUESTAS'!AG40,Back!$M$21:$N$23,2,0)),\"-\")","v":"-"},{"$f":"+IFERROR((VLOOKUP('BASE DE RESPUESTAS'!AH40,Back!$M$21:$N$23,2,0)),\"-\")","v":"-"},{"$f":"+IFERROR((VLOOKUP('BASE DE RESPUESTAS'!AI40,Back!$M$21:$N$23,2,0)),\"-\")","v":"-"},{"$f":"+IFERROR((VLOOKUP('BASE DE RESPUESTAS'!AJ40,Back!$M$21:$N$23,2,0)),\"-\")","v":"-"},{"$f":"+IFERROR((VLOOKUP('BASE DE RESPUESTAS'!AK40,Back!$M$21:$N$23,2,0)),\"-\")","v":"-"},{"$f":"+IFERROR((VLOOKUP('BASE DE RESPUESTAS'!AL40,Back!$M$21:$N$23,2,0)),\"-\")","v":"-"},{"$f":"+IFERROR((VLOOKUP('BASE DE RESPUESTAS'!AM40,Back!$M$21:$N$23,2,0)),\"-\")","v":"-"},{"$f":"+IFERROR((VLOOKUP('BASE DE RESPUESTAS'!AN40,Back!$M$21:$N$23,2,0)),\"-\")","v":"-"},{"$f":"+IFERROR((VLOOKUP('BASE DE RESPUESTAS'!AO40,Back!$M$21:$N$23,2,0)),\"-\")","v":"-"},{"$f":"+IFERROR((VLOOKUP('BASE DE RESPUESTAS'!AP40,Back!$M$21:$N$23,2,0)),\"-\")","v":"-"},{"$f":"+IFERROR((VLOOKUP('BASE DE RESPUESTAS'!AQ40,Back!$M$21:$N$23,2,0)),\"-\")","v":"-"},{"$f":"+IFERROR((VLOOKUP('BASE DE RESPUESTAS'!AR40,Back!$M$21:$N$23,2,0)),\"-\")","v":"-"},{"$f":"+IFERROR((VLOOKUP('BASE DE RESPUESTAS'!AS40,Back!$M$21:$N$23,2,0)),\"-\")","v":"-"},{"$f":"+IFERROR((VLOOKUP('BASE DE RESPUESTAS'!AT40,Back!$M$21:$N$23,2,0)),\"-\")","v":"-"},{"$f":"+IFERROR((VLOOKUP('BASE DE RESPUESTAS'!AU40,Back!$M$21:$N$23,2,0)),\"-\")","v":"-"},{"$f":"+IFERROR((VLOOKUP('BASE DE RESPUESTAS'!AV40,Back!$M$21:$N$23,2,0)),\"-\")","v":"-"},{"$f":"+IFERROR((VLOOKUP('BASE DE RESPUESTAS'!AW40,Back!$M$21:$N$23,2,0)),\"-\")","v":"-"},{"$f":"+IFERROR((VLOOKUP('BASE DE RESPUESTAS'!AX40,Back!$M$21:$N$23,2,0)),\"-\")","v":"-"},{"$f":"+IFERROR((VLOOKUP('BASE DE RESPUESTAS'!AY40,Back!$M$21:$N$23,2,0)),\"-\")","v":"-"},{"$f":"+IFERROR((VLOOKUP('BASE DE RESPUESTAS'!AZ40,Back!$M$21:$N$23,2,0)),\"-\")","v":"-"},{"$f":"+IFERROR((VLOOKUP('BASE DE RESPUESTAS'!BA40,Back!$M$21:$N$23,2,0)),\"-\")","v":"-"},{"$f":"+IFERROR((VLOOKUP('BASE DE RESPUESTAS'!BB40,Back!$M$21:$N$23,2,0)),\"-\")","v":"-"},{"$f":"+IFERROR((VLOOKUP('BASE DE RESPUESTAS'!BC40,Back!$M$21:$N$23,2,0)),\"-\")","v":"-"},{"$f":"+IFERROR((VLOOKUP('BASE DE RESPUESTAS'!BD40,Back!$M$21:$N$23,2,0)),\"-\")","v":"-"},{"$f":"+IFERROR((VLOOKUP('BASE DE RESPUESTAS'!BE40,Back!$M$21:$N$23,2,0)),\"-\")","v":"-"}]
[null,"FR",null,"La niña o el niño llora o se irrita de forma desbordada al separarse de su madre, padre o cuidador/a.",null,"-",null,{"$f":"+IFERROR((VLOOKUP('BASE DE RESPUESTAS'!H41,Back!$M$21:$N$23,2,0)),\"-\")","v":"-"},{"$f":"+IFERROR((VLOOKUP('BASE DE RESPUESTAS'!I41,Back!$M$21:$N$23,2,0)),\"-\")","v":"-"},{"$f":"+IFERROR((VLOOKUP('BASE DE RESPUESTAS'!J41,Back!$M$21:$N$23,2,0)),\"-\")","v":"-"},{"$f":"+IFERROR((VLOOKUP('BASE DE RESPUESTAS'!K41,Back!$M$21:$N$23,2,0)),\"-\")","v":"-"},{"$f":"+IFERROR((VLOOKUP('BASE DE RESPUESTAS'!L41,Back!$M$21:$N$23,2,0)),\"-\")","v":"-"},{"$f":"+IFERROR((VLOOKUP('BASE DE RESPUESTAS'!M41,Back!$M$21:$N$23,2,0)),\"-\")","v":"-"},{"$f":"+IFERROR((VLOOKUP('BASE DE RESPUESTAS'!N41,Back!$M$21:$N$23,2,0)),\"-\")","v":"-"},{"$f":"+IFERROR((VLOOKUP('BASE DE RESPUESTAS'!O41,Back!$M$21:$N$23,2,0)),\"-\")","v":"-"},{"$f":"+IFERROR((VLOOKUP('BASE DE RESPUESTAS'!P41,Back!$M$21:$N$23,2,0)),\"-\")","v":"-"},{"$f":"+IFERROR((VLOOKUP('BASE DE RESPUESTAS'!Q41,Back!$M$21:$N$23,2,0)),\"-\")","v":"-"},{"$f":"+IFERROR((VLOOKUP('BASE DE RESPUESTAS'!R41,Back!$M$21:$N$23,2,0)),\"-\")","v":"-"},{"$f":"+IFERROR((VLOOKUP('BASE DE RESPUESTAS'!S41,Back!$M$21:$N$23,2,0)),\"-\")","v":"-"},{"$f":"+IFERROR((VLOOKUP('BASE DE RESPUESTAS'!T41,Back!$M$21:$N$23,2,0)),\"-\")","v":"-"},{"$f":"+IFERROR((VLOOKUP('BASE DE RESPUESTAS'!U41,Back!$M$21:$N$23,2,0)),\"-\")","v":"-"},{"$f":"+IFERROR((VLOOKUP('BASE DE RESPUESTAS'!V41,Back!$M$21:$N$23,2,0)),\"-\")","v":"-"},{"$f":"+IFERROR((VLOOKUP('BASE DE RESPUESTAS'!W41,Back!$M$21:$N$23,2,0)),\"-\")","v":"-"},{"$f":"+IFERROR((VLOOKUP('BASE DE RESPUESTAS'!X41,Back!$M$21:$N$23,2,0)),\"-\")","v":"-"},{"$f":"+IFERROR((VLOOKUP('BASE DE RESPUESTAS'!Y41,Back!$M$21:$N$23,2,0)),\"-\")","v":"-"},{"$f":"+IFERROR((VLOOKUP('BASE DE RESPUESTAS'!Z41,Back!$M$21:$N$23,2,0)),\"-\")","v":"-"},{"$f":"+IFERROR((VLOOKUP('BASE DE RESPUESTAS'!AA41,Back!$M$21:$N$23,2,0)),\"-\")","v":"-"},{"$f":"+IFERROR((VLOOKUP('BASE DE RESPUESTAS'!AB41,Back!$M$21:$N$23,2,0)),\"-\")","v":"-"},{"$f":"+IFERROR((VLOOKUP('BASE DE RESPUESTAS'!AC41,Back!$M$21:$N$23,2,0)),\"-\")","v":"-"},{"$f":"+IFERROR((VLOOKUP('BASE DE RESPUESTAS'!AD41,Back!$M$21:$N$23,2,0)),\"-\")","v":"-"},{"$f":"+IFERROR((VLOOKUP('BASE DE RESPUESTAS'!AE41,Back!$M$21:$N$23,2,0)),\"-\")","v":"-"},{"$f":"+IFERROR((VLOOKUP('BASE DE RESPUESTAS'!AF41,Back!$M$21:$N$23,2,0)),\"-\")","v":"-"},{"$f":"+IFERROR((VLOOKUP('BASE DE RESPUESTAS'!AG41,Back!$M$21:$N$23,2,0)),\"-\")","v":"-"},{"$f":"+IFERROR((VLOOKUP('BASE DE RESPUESTAS'!AH41,Back!$M$21:$N$23,2,0)),\"-\")","v":"-"},{"$f":"+IFERROR((VLOOKUP('BASE DE RESPUESTAS'!AI41,Back!$M$21:$N$23,2,0)),\"-\")","v":"-"},{"$f":"+IFERROR((VLOOKUP('BASE DE RESPUESTAS'!AJ41,Back!$M$21:$N$23,2,0)),\"-\")","v":"-"},{"$f":"+IFERROR((VLOOKUP('BASE DE RESPUESTAS'!AK41,Back!$M$21:$N$23,2,0)),\"-\")","v":"-"},{"$f":"+IFERROR((VLOOKUP('BASE DE RESPUESTAS'!AL41,Back!$M$21:$N$23,2,0)),\"-\")","v":"-"},{"$f":"+IFERROR((VLOOKUP('BASE DE RESPUESTAS'!AM41,Back!$M$21:$N$23,2,0)),\"-\")","v":"-"},{"$f":"+IFERROR((VLOOKUP('BASE DE RESPUESTAS'!AN41,Back!$M$21:$N$23,2,0)),\"-\")","v":"-"},{"$f":"+IFERROR((VLOOKUP('BASE DE RESPUESTAS'!AO41,Back!$M$21:$N$23,2,0)),\"-\")","v":"-"},{"$f":"+IFERROR((VLOOKUP('BASE DE RESPUESTAS'!AP41,Back!$M$21:$N$23,2,0)),\"-\")","v":"-"},{"$f":"+IFERROR((VLOOKUP('BASE DE RESPUESTAS'!AQ41,Back!$M$21:$N$23,2,0)),\"-\")","v":"-"},{"$f":"+IFERROR((VLOOKUP('BASE DE RESPUESTAS'!AR41,Back!$M$21:$N$23,2,0)),\"-\")","v":"-"},{"$f":"+IFERROR((VLOOKUP('BASE DE RESPUESTAS'!AS41,Back!$M$21:$N$23,2,0)),\"-\")","v":"-"},{"$f":"+IFERROR((VLOOKUP('BASE DE RESPUESTAS'!AT41,Back!$M$21:$N$23,2,0)),\"-\")","v":"-"},{"$f":"+IFERROR((VLOOKUP('BASE DE RESPUESTAS'!AU41,Back!$M$21:$N$23,2,0)),\"-\")","v":"-"},{"$f":"+IFERROR((VLOOKUP('BASE DE RESPUESTAS'!AV41,Back!$M$21:$N$23,2,0)),\"-\")","v":"-"},{"$f":"+IFERROR((VLOOKUP('BASE DE RESPUESTAS'!AW41,Back!$M$21:$N$23,2,0)),\"-\")","v":"-"},{"$f":"+IFERROR((VLOOKUP('BASE DE RESPUESTAS'!AX41,Back!$M$21:$N$23,2,0)),\"-\")","v":"-"},{"$f":"+IFERROR((VLOOKUP('BASE DE RESPUESTAS'!AY41,Back!$M$21:$N$23,2,0)),\"-\")","v":"-"},{"$f":"+IFERROR((VLOOKUP('BASE DE RESPUESTAS'!AZ41,Back!$M$21:$N$23,2,0)),\"-\")","v":"-"},{"$f":"+IFERROR((VLOOKUP('BASE DE RESPUESTAS'!BA41,Back!$M$21:$N$23,2,0)),\"-\")","v":"-"},{"$f":"+IFERROR((VLOOKUP('BASE DE RESPUESTAS'!BB41,Back!$M$21:$N$23,2,0)),\"-\")","v":"-"},{"$f":"+IFERROR((VLOOKUP('BASE DE RESPUESTAS'!BC41,Back!$M$21:$N$23,2,0)),\"-\")","v":"-"},{"$f":"+IFERROR((VLOOKUP('BASE DE RESPUESTAS'!BD41,Back!$M$21:$N$23,2,0)),\"-\")","v":"-"},{"$f":"+IFERROR((VLOOKUP('BASE DE RESPUESTAS'!BE41,Back!$M$21:$N$23,2,0)),\"-\")","v":"-"}]
[null,"FR","Dificultades en el desarrollo social","La niña o el niño se retrae y no participa de actividades grupales.",null,"-",null,{"$f":"+IFERROR(AVERAGE(Espejo!H41:H42),\"-\")","v":"-"},{"$f":"+IFERROR(AVERAGE(Espejo!I41:I42),\"-\")","v":"-"},{"$f":"+IFERROR(AVERAGE(Espejo!J41:J42),\"-\")","v":"-"},{"$f":"+IFERROR(AVERAGE(Espejo!K41:K42),\"-\")","v":"-"},{"$f":"+IFERROR(AVERAGE(Espejo!L41:L42),\"-\")","v":"-"},{"$f":"+IFERROR(AVERAGE(Espejo!M41:M42),\"-\")","v":"-"},{"$f":"+IFERROR(AVERAGE(Espejo!N41:N42),\"-\")","v":"-"},{"$f":"+IFERROR(AVERAGE(Espejo!O41:O42),\"-\")","v":"-"},{"$f":"+IFERROR(AVERAGE(Espejo!P41:P42),\"-\")","v":"-"},{"$f":"+IFERROR(AVERAGE(Espejo!Q41:Q42),\"-\")","v":"-"},{"$f":"+IFERROR(AVERAGE(Espejo!R41:R42),\"-\")","v":"-"},{"$f":"+IFERROR(AVERAGE(Espejo!S41:S42),\"-\")","v":"-"},{"$f":"+IFERROR(AVERAGE(Espejo!T41:T42),\"-\")","v":"-"},{"$f":"+IFERROR(AVERAGE(Espejo!U41:U42),\"-\")","v":"-"},{"$f":"+IFERROR(AVERAGE(Espejo!V41:V42),\"-\")","v":"-"},{"$f":"+IFERROR(AVERAGE(Espejo!W41:W42),\"-\")","v":"-"},{"$f":"+IFERROR(AVERAGE(Espejo!X41:X42),\"-\")","v":"-"},{"$f":"+IFERROR(AVERAGE(Espejo!Y41:Y42),\"-\")","v":"-"},{"$f":"+IFERROR(AVERAGE(Espejo!Z41:Z42),\"-\")","v":"-"},{"$f":"+IFERROR(AVERAGE(Espejo!AA41:AA42),\"-\")","v":"-"},{"$f":"+IFERROR(AVERAGE(Espejo!AB41:AB42),\"-\")","v":"-"},{"$f":"+IFERROR(AVERAGE(Espejo!AC41:AC42),\"-\")","v":"-"},{"$f":"+IFERROR(AVERAGE(Espejo!AD41:AD42),\"-\")","v":"-"},{"$f":"+IFERROR(AVERAGE(Espejo!AE41:AE42),\"-\")","v":"-"},{"$f":"+IFERROR(AVERAGE(Espejo!AF41:AF42),\"-\")","v":"-"},{"$f":"+IFERROR(AVERAGE(Espejo!AG41:AG42),\"-\")","v":"-"},{"$f":"+IFERROR(AVERAGE(Espejo!AH41:AH42),\"-\")","v":"-"},{"$f":"+IFERROR(AVERAGE(Espejo!AI41:AI42),\"-\")","v":"-"},{"$f":"+IFERROR(AVERAGE(Espejo!AJ41:AJ42),\"-\")","v":"-"},{"$f":"+IFERROR(AVERAGE(Espejo!AK41:AK42),\"-\")","v":"-"},{"$f":"+IFERROR(AVERAGE(Espejo!AL41:AL42),\"-\")","v":"-"},{"$f":"+IFERROR(AVERAGE(Espejo!AM41:AM42),\"-\")","v":"-"},{"$f":"+IFERROR(AVERAGE(Espejo!AN41:AN42),\"-\")","v":"-"},{"$f":"+IFERROR(AVERAGE(Espejo!AO41:AO42),\"-\")","v":"-"},{"$f":"+IFERROR(AVERAGE(Espejo!AP41:AP42),\"-\")","v":"-"},{"$f":"+IFERROR(AVERAGE(Espejo!AQ41:AQ42),\"-\")","v":"-"},{"$f":"+IFERROR(AVERAGE(Espejo!AR41:AR42),\"-\")","v":"-"},{"$f":"+IFERROR(AVERAGE(Espejo!AS41:AS42),\"-\")","v":"-"},{"$f":"+IFERROR(AVERAGE(Espejo!AT41:AT42),\"-\")","v":"-"},{"$f":"+IFERROR(AVERAGE(Espejo!AU41:AU42),\"-\")","v":"-"},{"$f":"+IFERROR(AVERAGE(Espejo!AV41:AV42),\"-\")","v":"-"},{"$f":"+IFERROR(AVERAGE(Espejo!AW41:AW42),\"-\")","v":"-"},{"$f":"+IFERROR(AVERAGE(Espejo!AX41:AX42),\"-\")","v":"-"},{"$f":"+IFERROR(AVERAGE(Espejo!AY41:AY42),\"-\")","v":"-"},{"$f":"+IFERROR(AVERAGE(Espejo!AZ41:AZ42),\"-\")","v":"-"},{"$f":"+IFERROR(AVERAGE(Espejo!BA41:BA42),\"-\")","v":"-"},{"$f":"+IFERROR(AVERAGE(Espejo!BB41:BB42),\"-\")","v":"-"},{"$f":"+IFERROR(AVERAGE(Espejo!BC41:BC42),\"-\")","v":"-"},{"$f":"+IFERROR(AVERAGE(Espejo!BD41:BD42),\"-\")","v":"-"},{"$f":"+IFERROR(AVERAGE(Espejo!BE41:BE42),\"-\")","v":"-"}]
[null,"FR",null,"La niña o el niño se muestra tímido o retraído con compañeras/os que recién conoce.",null,"-",null,{"$f":"+IFERROR((VLOOKUP('BASE DE RESPUESTAS'!H44,Back!$M$21:$N$23,2,0)),\"-\")","v":"-"},{"$f":"+IFERROR((VLOOKUP('BASE DE RESPUESTAS'!I44,Back!$M$21:$N$23,2,0)),\"-\")","v":"-"},{"$f":"+IFERROR((VLOOKUP('BASE DE RESPUESTAS'!J44,Back!$M$21:$N$23,2,0)),\"-\")","v":"-"},{"$f":"+IFERROR((VLOOKUP('BASE DE RESPUESTAS'!K44,Back!$M$21:$N$23,2,0)),\"-\")","v":"-"},{"$f":"+IFERROR((VLOOKUP('BASE DE RESPUESTAS'!L44,Back!$M$21:$N$23,2,0)),\"-\")","v":"-"},{"$f":"+IFERROR((VLOOKUP('BASE DE RESPUESTAS'!M44,Back!$M$21:$N$23,2,0)),\"-\")","v":"-"},{"$f":"+IFERROR((VLOOKUP('BASE DE RESPUESTAS'!N44,Back!$M$21:$N$23,2,0)),\"-\")","v":"-"},{"$f":"+IFERROR((VLOOKUP('BASE DE RESPUESTAS'!O44,Back!$M$21:$N$23,2,0)),\"-\")","v":"-"},{"$f":"+IFERROR((VLOOKUP('BASE DE RESPUESTAS'!P44,Back!$M$21:$N$23,2,0)),\"-\")","v":"-"},{"$f":"+IFERROR((VLOOKUP('BASE DE RESPUESTAS'!Q44,Back!$M$21:$N$23,2,0)),\"-\")","v":"-"},{"$f":"+IFERROR((VLOOKUP('BASE DE RESPUESTAS'!R44,Back!$M$21:$N$23,2,0)),\"-\")","v":"-"},{"$f":"+IFERROR((VLOOKUP('BASE DE RESPUESTAS'!S44,Back!$M$21:$N$23,2,0)),\"-\")","v":"-"},{"$f":"+IFERROR((VLOOKUP('BASE DE RESPUESTAS'!T44,Back!$M$21:$N$23,2,0)),\"-\")","v":"-"},{"$f":"+IFERROR((VLOOKUP('BASE DE RESPUESTAS'!U44,Back!$M$21:$N$23,2,0)),\"-\")","v":"-"},{"$f":"+IFERROR((VLOOKUP('BASE DE RESPUESTAS'!V44,Back!$M$21:$N$23,2,0)),\"-\")","v":"-"},{"$f":"+IFERROR((VLOOKUP('BASE DE RESPUESTAS'!W44,Back!$M$21:$N$23,2,0)),\"-\")","v":"-"},{"$f":"+IFERROR((VLOOKUP('BASE DE RESPUESTAS'!X44,Back!$M$21:$N$23,2,0)),\"-\")","v":"-"},{"$f":"+IFERROR((VLOOKUP('BASE DE RESPUESTAS'!Y44,Back!$M$21:$N$23,2,0)),\"-\")","v":"-"},{"$f":"+IFERROR((VLOOKUP('BASE DE RESPUESTAS'!Z44,Back!$M$21:$N$23,2,0)),\"-\")","v":"-"},{"$f":"+IFERROR((VLOOKUP('BASE DE RESPUESTAS'!AA44,Back!$M$21:$N$23,2,0)),\"-\")","v":"-"},{"$f":"+IFERROR((VLOOKUP('BASE DE RESPUESTAS'!AB44,Back!$M$21:$N$23,2,0)),\"-\")","v":"-"},{"$f":"+IFERROR((VLOOKUP('BASE DE RESPUESTAS'!AC44,Back!$M$21:$N$23,2,0)),\"-\")","v":"-"},{"$f":"+IFERROR((VLOOKUP('BASE DE RESPUESTAS'!AD44,Back!$M$21:$N$23,2,0)),\"-\")","v":"-"},{"$f":"+IFERROR((VLOOKUP('BASE DE RESPUESTAS'!AE44,Back!$M$21:$N$23,2,0)),\"-\")","v":"-"},{"$f":"+IFERROR((VLOOKUP('BASE DE RESPUESTAS'!AF44,Back!$M$21:$N$23,2,0)),\"-\")","v":"-"},{"$f":"+IFERROR((VLOOKUP('BASE DE RESPUESTAS'!AG44,Back!$M$21:$N$23,2,0)),\"-\")","v":"-"},{"$f":"+IFERROR((VLOOKUP('BASE DE RESPUESTAS'!AH44,Back!$M$21:$N$23,2,0)),\"-\")","v":"-"},{"$f":"+IFERROR((VLOOKUP('BASE DE RESPUESTAS'!AI44,Back!$M$21:$N$23,2,0)),\"-\")","v":"-"},{"$f":"+IFERROR((VLOOKUP('BASE DE RESPUESTAS'!AJ44,Back!$M$21:$N$23,2,0)),\"-\")","v":"-"},{"$f":"+IFERROR((VLOOKUP('BASE DE RESPUESTAS'!AK44,Back!$M$21:$N$23,2,0)),\"-\")","v":"-"},{"$f":"+IFERROR((VLOOKUP('BASE DE RESPUESTAS'!AL44,Back!$M$21:$N$23,2,0)),\"-\")","v":"-"},{"$f":"+IFERROR((VLOOKUP('BASE DE RESPUESTAS'!AM44,Back!$M$21:$N$23,2,0)),\"-\")","v":"-"},{"$f":"+IFERROR((VLOOKUP('BASE DE RESPUESTAS'!AN44,Back!$M$21:$N$23,2,0)),\"-\")","v":"-"},{"$f":"+IFERROR((VLOOKUP('BASE DE RESPUESTAS'!AO44,Back!$M$21:$N$23,2,0)),\"-\")","v":"-"},{"$f":"+IFERROR((VLOOKUP('BASE DE RESPUESTAS'!AP44,Back!$M$21:$N$23,2,0)),\"-\")","v":"-"},{"$f":"+IFERROR((VLOOKUP('BASE DE RESPUESTAS'!AQ44,Back!$M$21:$N$23,2,0)),\"-\")","v":"-"},{"$f":"+IFERROR((VLOOKUP('BASE DE RESPUESTAS'!AR44,Back!$M$21:$N$23,2,0)),\"-\")","v":"-"},{"$f":"+IFERROR((VLOOKUP('BASE DE RESPUESTAS'!AS44,Back!$M$21:$N$23,2,0)),\"-\")","v":"-"},{"$f":"+IFERROR((VLOOKUP('BASE DE RESPUESTAS'!AT44,Back!$M$21:$N$23,2,0)),\"-\")","v":"-"},{"$f":"+IFERROR((VLOOKUP('BASE DE RESPUESTAS'!AU44,Back!$M$21:$N$23,2,0)),\"-\")","v":"-"},{"$f":"+IFERROR((VLOOKUP('BASE DE RESPUESTAS'!AV44,Back!$M$21:$N$23,2,0)),\"-\")","v":"-"},{"$f":"+IFERROR((VLOOKUP('BASE DE RESPUESTAS'!AW44,Back!$M$21:$N$23,2,0)),\"-\")","v":"-"},{"$f":"+IFERROR((VLOOKUP('BASE DE RESPUESTAS'!AX44,Back!$M$21:$N$23,2,0)),\"-\")","v":"-"},{"$f":"+IFERROR((VLOOKUP('BASE DE RESPUESTAS'!AY44,Back!$M$21:$N$23,2,0)),\"-\")","v":"-"},{"$f":"+IFERROR((VLOOKUP('BASE DE RESPUESTAS'!AZ44,Back!$M$21:$N$23,2,0)),\"-\")","v":"-"},{"$f":"+IFERROR((VLOOKUP('BASE DE RESPUESTAS'!BA44,Back!$M$21:$N$23,2,0)),\"-\")","v":"-"},{"$f":"+IFERROR((VLOOKUP('BASE DE RESPUESTAS'!BB44,Back!$M$21:$N$23,2,0)),\"-\")","v":"-"},{"$f":"+IFERROR((VLOOKUP('BASE DE RESPUESTAS'!BC44,Back!$M$21:$N$23,2,0)),\"-\")","v":"-"},{"$f":"+IFERROR((VLOOKUP('BASE DE RESPUESTAS'!BD44,Back!$M$21:$N$23,2,0)),\"-\")","v":"-"},{"$f":"+IFERROR((VLOOKUP('BASE DE RESPUESTAS'!BE44,Back!$M$21:$N$23,2,0)),\"-\")","v":"-"}]
[null,"FR","Dificultades en el desarrollo físico","La niña o el niño no corre con soltura y equilibrio, ni sube escaleras de mano.",null,"-",null,{"$f":"+IFERROR(AVERAGE(Espejo!H44:H46),\"-\")","v":"-"},{"$f":"+IFERROR(AVERAGE(Espejo!I44:I46),\"-\")","v":"-"},{"$f":"+IFERROR(AVERAGE(Espejo!J44:J46),\"-\")","v":"-"},{"$f":"+IFERROR(AVERAGE(Espejo!K44:K46),\"-\")","v":"-"},{"$f":"+IFERROR(AVERAGE(Espejo!L44:L46),\"-\")","v":"-"},{"$f":"+IFERROR(AVERAGE(Espejo!M44:M46),\"-\")","v":"-"},{"$f":"+IFERROR(AVERAGE(Espejo!N44:N46),\"-\")","v":"-"},{"$f":"+IFERROR(AVERAGE(Espejo!O44:O46),\"-\")","v":"-"},{"$f":"+IFERROR(AVERAGE(Espejo!P44:P46),\"-\")","v":"-"},{"$f":"+IFERROR(AVERAGE(Espejo!Q44:Q46),\"-\")","v":"-"},{"$f":"+IFERROR(AVERAGE(Espejo!R44:R46),\"-\")","v":"-"},{"$f":"+IFERROR(AVERAGE(Espejo!S44:S46),\"-\")","v":"-"},{"$f":"+IFERROR(AVERAGE(Espejo!T44:T46),\"-\")","v":"-"},{"$f":"+IFERROR(AVERAGE(Espejo!U44:U46),\"-\")","v":"-"},{"$f":"+IFERROR(AVERAGE(Espejo!V44:V46),\"-\")","v":"-"},{"$f":"+IFERROR(AVERAGE(Espejo!W44:W46),\"-\")","v":"-"},{"$f":"+IFERROR(AVERAGE(Espejo!X44:X46),\"-\")","v":"-"},{"$f":"+IFERROR(AVERAGE(Espejo!Y44:Y46),\"-\")","v":"-"},{"$f":"+IFERROR(AVERAGE(Espejo!Z44:Z46),\"-\")","v":"-"},{"$f":"+IFERROR(AVERAGE(Espejo!AA44:AA46),\"-\")","v":"-"},{"$f":"+IFERROR(AVERAGE(Espejo!AB44:AB46),\"-\")","v":"-"},{"$f":"+IFERROR(AVERAGE(Espejo!AC44:AC46),\"-\")","v":"-"},{"$f":"+IFERROR(AVERAGE(Espejo!AD44:AD46),\"-\")","v":"-"},{"$f":"+IFERROR(AVERAGE(Espejo!AE44:AE46),\"-\")","v":"-"},{"$f":"+IFERROR(AVERAGE(Espejo!AF44:AF46),\"-\")","v":"-"},{"$f":"+IFERROR(AVERAGE(Espejo!AG44:AG46),\"-\")","v":"-"},{"$f":"+IFERROR(AVERAGE(Espejo!AH44:AH46),\"-\")","v":"-"},{"$f":"+IFERROR(AVERAGE(Espejo!AI44:AI46),\"-\")","v":"-"},{"$f":"+IFERROR(AVERAGE(Espejo!AJ44:AJ46),\"-\")","v":"-"},{"$f":"+IFERROR(AVERAGE(Espejo!AK44:AK46),\"-\")","v":"-"},{"$f":"+IFERROR(AVERAGE(Espejo!AL44:AL46),\"-\")","v":"-"},{"$f":"+IFERROR(AVERAGE(Espejo!AM44:AM46),\"-\")","v":"-"},{"$f":"+IFERROR(AVERAGE(Espejo!AN44:AN46),\"-\")","v":"-"},{"$f":"+IFERROR(AVERAGE(Espejo!AO44:AO46),\"-\")","v":"-"},{"$f":"+IFERROR(AVERAGE(Espejo!AP44:AP46),\"-\")","v":"-"},{"$f":"+IFERROR(AVERAGE(Espejo!AQ44:AQ46),\"-\")","v":"-"},{"$f":"+IFERROR(AVERAGE(Espejo!AR44:AR46),\"-\")","v":"-"},{"$f":"+IFERROR(AVERAGE(Espejo!AS44:AS46),\"-\")","v":"-"},{"$f":"+IFERROR(AVERAGE(Espejo!AT44:AT46),\"-\")","v":"-"},{"$f":"+IFERROR(AVERAGE(Espejo!AU44:AU46),\"-\")","v":"-"},{"$f":"+IFERROR(AVERAGE(Espejo!AV44:AV46),\"-\")","v":"-"},{"$f":"+IFERROR(AVERAGE(Espejo!AW44:AW46),\"-\")","v":"-"},{"$f":"+IFERROR(AVERAGE(Espejo!AX44:AX46),\"-\")","v":"-"},{"$f":"+IFERROR(AVERAGE(Espejo!AY44:AY46),\"-\")","v":"-"},{"$f":"+IFERROR(AVERAGE(Espejo!AZ44:AZ46),\"-\")","v":"-"},{"$f":"+IFERROR(AVERAGE(Espejo!BA44:BA46),\"-\")","v":"-"},{"$f":"+IFERROR(AVERAGE(Espejo!BB44:BB46),\"-\")","v":"-"},{"$f":"+IFERROR(AVERAGE(Espejo!BC44:BC46),\"-\")","v":"-"},{"$f":"+IFERROR(AVERAGE(Espejo!BD44:BD46),\"-\")","v":"-"},{"$f":"+IFERROR(AVERAGE(Espejo!BE44:BE46),\"-\")","v":"-"}]
[null,"FR",null,"La niña o el niño realiza dibujos que carecen de detalles significativos.",null,"-",null,{"$f":"+IFERROR((VLOOKUP('BASE DE RESPUESTAS'!H48,Back!$M$21:$N$23,2,0)),\"-\")","v":"-"},{"$f":"+IFERROR((VLOOKUP('BASE DE RESPUESTAS'!I48,Back!$M$21:$N$23,2,0)),\"-\")","v":"-"},{"$f":"+IFERROR((VLOOKUP('BASE DE RESPUESTAS'!J48,Back!$M$21:$N$23,2,0)),\"-\")","v":"-"},{"$f":"+IFERROR((VLOOKUP('BASE DE RESPUESTAS'!K48,Back!$M$21:$N$23,2,0)),\"-\")","v":"-"},{"$f":"+IFERROR((VLOOKUP('BASE DE RESPUESTAS'!L48,Back!$M$21:$N$23,2,0)),\"-\")","v":"-"},{"$f":"+IFERROR((VLOOKUP('BASE DE RESPUESTAS'!M48,Back!$M$21:$N$23,2,0)),\"-\")","v":"-"},{"$f":"+IFERROR((VLOOKUP('BASE DE RESPUESTAS'!N48,Back!$M$21:$N$23,2,0)),\"-\")","v":"-"},{"$f":"+IFERROR((VLOOKUP('BASE DE RESPUESTAS'!O48,Back!$M$21:$N$23,2,0)),\"-\")","v":"-"},{"$f":"+IFERROR((VLOOKUP('BASE DE RESPUESTAS'!P48,Back!$M$21:$N$23,2,0)),\"-\")","v":"-"},{"$f":"+IFERROR((VLOOKUP('BASE DE RESPUESTAS'!Q48,Back!$M$21:$N$23,2,0)),\"-\")","v":"-"},{"$f":"+IFERROR((VLOOKUP('BASE DE RESPUESTAS'!R48,Back!$M$21:$N$23,2,0)),\"-\")","v":"-"},{"$f":"+IFERROR((VLOOKUP('BASE DE RESPUESTAS'!S48,Back!$M$21:$N$23,2,0)),\"-\")","v":"-"},{"$f":"+IFERROR((VLOOKUP('BASE DE RESPUESTAS'!T48,Back!$M$21:$N$23,2,0)),\"-\")","v":"-"},{"$f":"+IFERROR((VLOOKUP('BASE DE RESPUESTAS'!U48,Back!$M$21:$N$23,2,0)),\"-\")","v":"-"},{"$f":"+IFERROR((VLOOKUP('BASE DE RESPUESTAS'!V48,Back!$M$21:$N$23,2,0)),\"-\")","v":"-"},{"$f":"+IFERROR((VLOOKUP('BASE DE RESPUESTAS'!W48,Back!$M$21:$N$23,2,0)),\"-\")","v":"-"},{"$f":"+IFERROR((VLOOKUP('BASE DE RESPUESTAS'!X48,Back!$M$21:$N$23,2,0)),\"-\")","v":"-"},{"$f":"+IFERROR((VLOOKUP('BASE DE RESPUESTAS'!Y48,Back!$M$21:$N$23,2,0)),\"-\")","v":"-"},{"$f":"+IFERROR((VLOOKUP('BASE DE RESPUESTAS'!Z48,Back!$M$21:$N$23,2,0)),\"-\")","v":"-"},{"$f":"+IFERROR((VLOOKUP('BASE DE RESPUESTAS'!AA48,Back!$M$21:$N$23,2,0)),\"-\")","v":"-"},{"$f":"+IFERROR((VLOOKUP('BASE DE RESPUESTAS'!AB48,Back!$M$21:$N$23,2,0)),\"-\")","v":"-"},{"$f":"+IFERROR((VLOOKUP('BASE DE RESPUESTAS'!AC48,Back!$M$21:$N$23,2,0)),\"-\")","v":"-"},{"$f":"+IFERROR((VLOOKUP('BASE DE RESPUESTAS'!AD48,Back!$M$21:$N$23,2,0)),\"-\")","v":"-"},{"$f":"+IFERROR((VLOOKUP('BASE DE RESPUESTAS'!AE48,Back!$M$21:$N$23,2,0)),\"-\")","v":"-"},{"$f":"+IFERROR((VLOOKUP('BASE DE RESPUESTAS'!AF48,Back!$M$21:$N$23,2,0)),\"-\")","v":"-"},{"$f":"+IFERROR((VLOOKUP('BASE DE RESPUESTAS'!AG48,Back!$M$21:$N$23,2,0)),\"-\")","v":"-"},{"$f":"+IFERROR((VLOOKUP('BASE DE RESPUESTAS'!AH48,Back!$M$21:$N$23,2,0)),\"-\")","v":"-"},{"$f":"+IFERROR((VLOOKUP('BASE DE RESPUESTAS'!AI48,Back!$M$21:$N$23,2,0)),\"-\")","v":"-"},{"$f":"+IFERROR((VLOOKUP('BASE DE RESPUESTAS'!AJ48,Back!$M$21:$N$23,2,0)),\"-\")","v":"-"},{"$f":"+IFERROR((VLOOKUP('BASE DE RESPUESTAS'!AK48,Back!$M$21:$N$23,2,0)),\"-\")","v":"-"},{"$f":"+IFERROR((VLOOKUP('BASE DE RESPUESTAS'!AL48,Back!$M$21:$N$23,2,0)),\"-\")","v":"-"},{"$f":"+IFERROR((VLOOKUP('BASE DE RESPUESTAS'!AM48,Back!$M$21:$N$23,2,0)),\"-\")","v":"-"},{"$f":"+IFERROR((VLOOKUP('BASE DE RESPUESTAS'!AN48,Back!$M$21:$N$23,2,0)),\"-\")","v":"-"},{"$f":"+IFERROR((VLOOKUP('BASE DE RESPUESTAS'!AO48,Back!$M$21:$N$23,2,0)),\"-\")","v":"-"},{"$f":"+IFERROR((VLOOKUP('BASE DE RESPUESTAS'!AP48,Back!$M$21:$N$23,2,0)),\"-\")","v":"-"},{"$f":"+IFERROR((VLOOKUP('BASE DE RESPUESTAS'!AQ48,Back!$M$21:$N$23,2,0)),\"-\")","v":"-"},{"$f":"+IFERROR((VLOOKUP('BASE DE RESPUESTAS'!AR48,Back!$M$21:$N$23,2,0)),\"-\")","v":"-"},{"$f":"+IFERROR((VLOOKUP('BASE DE RESPUESTAS'!AS48,Back!$M$21:$N$23,2,0)),\"-\")","v":"-"},{"$f":"+IFERROR((VLOOKUP('BASE DE RESPUESTAS'!AT48,Back!$M$21:$N$23,2,0)),\"-\")","v":"-"},{"$f":"+IFERROR((VLOOKUP('BASE DE RESPUESTAS'!AU48,Back!$M$21:$N$23,2,0)),\"-\")","v":"-"},{"$f":"+IFERROR((VLOOKUP('BASE DE RESPUESTAS'!AV48,Back!$M$21:$N$23,2,0)),\"-\")","v":"-"},{"$f":"+IFERROR((VLOOKUP('BASE DE RESPUESTAS'!AW48,Back!$M$21:$N$23,2,0)),\"-\")","v":"-"},{"$f":"+IFERROR((VLOOKUP('BASE DE RESPUESTAS'!AX48,Back!$M$21:$N$23,2,0)),\"-\")","v":"-"},{"$f":"+IFERROR((VLOOKUP('BASE DE RESPUESTAS'!AY48,Back!$M$21:$N$23,2,0)),\"-\")","v":"-"},{"$f":"+IFERROR((VLOOKUP('BASE DE RESPUESTAS'!AZ48,Back!$M$21:$N$23,2,0)),\"-\")","v":"-"},{"$f":"+IFERROR((VLOOKUP('BASE DE RESPUESTAS'!BA48,Back!$M$21:$N$23,2,0)),\"-\")","v":"-"},{"$f":"+IFERROR((VLOOKUP('BASE DE RESPUESTAS'!BB48,Back!$M$21:$N$23,2,0)),\"-\")","v":"-"},{"$f":"+IFERROR((VLOOKUP('BASE DE RESPUESTAS'!BC48,Back!$M$21:$N$23,2,0)),\"-\")","v":"-"},{"$f":"+IFERROR((VLOOKUP('BASE DE RESPUESTAS'!BD48,Back!$M$21:$N$23,2,0)),\"-\")","v":"-"},{"$f":"+IFERROR((VLOOKUP('BASE DE RESPUESTAS'!BE48,Back!$M$21:$N$23,2,0)),\"-\")","v":"-"}]
[null,"FR","Violencia familiar, violencia sexual y negligencia","La niña o el niño muestra signos de violencia física en el cuerpo.",null,"-",null,{"$f":"+IFERROR(AVERAGE(Espejo!H48:H50),\"-\")","v":"-"},{"$f":"+IFERROR(AVERAGE(Espejo!I48:I50),\"-\")","v":"-"},{"$f":"+IFERROR(AVERAGE(Espejo!J48:J50),\"-\")","v":"-"},{"$f":"+IFERROR(AVERAGE(Espejo!K48:K50),\"-\")","v":"-"},{"$f":"+IFERROR(AVERAGE(Espejo!L48:L50),\"-\")","v":"-"},{"$f":"+IFERROR(AVERAGE(Espejo!M48:M50),\"-\")","v":"-"},{"$f":"+IFERROR(AVERAGE(Espejo!N48:N50),\"-\")","v":"-"},{"$f":"+IFERROR(AVERAGE(Espejo!O48:O50),\"-\")","v":"-"},{"$f":"+IFERROR(AVERAGE(Espejo!P48:P50),\"-\")","v":"-"},{"$f":"+IFERROR(AVERAGE(Espejo!Q48:Q50),\"-\")","v":"-"},{"$f":"+IFERROR(AVERAGE(Espejo!R48:R50),\"-\")","v":"-"},{"$f":"+IFERROR(AVERAGE(Espejo!S48:S50),\"-\")","v":"-"},{"$f":"+IFERROR(AVERAGE(Espejo!T48:T50),\"-\")","v":"-"},{"$f":"+IFERROR(AVERAGE(Espejo!U48:U50),\"-\")","v":"-"},{"$f":"+IFERROR(AVERAGE(Espejo!V48:V50),\"-\")","v":"-"},{"$f":"+IFERROR(AVERAGE(Espejo!W48:W50),\"-\")","v":"-"},{"$f":"+IFERROR(AVERAGE(Espejo!X48:X50),\"-\")","v":"-"},{"$f":"+IFERROR(AVERAGE(Espejo!Y48:Y50),\"-\")","v":"-"},{"$f":"+IFERROR(AVERAGE(Espejo!Z48:Z50),\"-\")","v":"-"},{"$f":"+IFERROR(AVERAGE(Espejo!AA48:AA50),\"-\")","v":"-"},{"$f":"+IFERROR(AVERAGE(Espejo!AB48:AB50),\"-\")","v":"-"},{"$f":"+IFERROR(AVERAGE(Espejo!AC48:AC50),\"-\")","v":"-"},{"$f":"+IFERROR(AVERAGE(Espejo!AD48:AD50),\"-\")","v":"-"},{"$f":"+IFERROR(AVERAGE(Espejo!AE48:AE50),\"-\")","v":"-"},{"$f":"+IFERROR(AVERAGE(Espejo!AF48:AF50),\"-\")","v":"-"},{"$f":"+IFERROR(AVERAGE(Espejo!AG48:AG50),\"-\")","v":"-"},{"$f":"+IFERROR(AVERAGE(Espejo!AH48:AH50),\"-\")","v":"-"},{"$f":"+IFERROR(AVERAGE(Espejo!AI48:AI50),\"-\")","v":"-"},{"$f":"+IFERROR(AVERAGE(Espejo!AJ48:AJ50),\"-\")","v":"-"},{"$f":"+IFERROR(AVERAGE(Espejo!AK48:AK50),\"-\")","v":"-"},{"$f":"+IFERROR(AVERAGE(Espejo!AL48:AL50),\"-\")","v":"-"},{"$f":"+IFERROR(AVERAGE(Espejo!AM48:AM50),\"-\")","v":"-"},{"$f":"+IFERROR(AVERAGE(Espejo!AN48:AN50),\"-\")","v":"-"},{"$f":"+IFERROR(AVERAGE(Espejo!AO48:AO50),\"-\")","v":"-"},{"$f":"+IFERROR(AVERAGE(Espejo!AP48:AP50),\"-\")","v":"-"},{"$f":"+IFERROR(AVERAGE(Espejo!AQ48:AQ50),\"-\")","v":"-"},{"$f":"+IFERROR(AVERAGE(Espejo!AR48:AR50),\"-\")","v":"-"},{"$f":"+IFERROR(AVERAGE(Espejo!AS48:AS50),\"-\")","v":"-"},{"$f":"+IFERROR(AVERAGE(Espejo!AT48:AT50),\"-\")","v":"-"},{"$f":"+IFERROR(AVERAGE(Espejo!AU48:AU50),\"-\")","v":"-"},{"$f":"+IFERROR(AVERAGE(Espejo!AV48:AV50),\"-\")","v":"-"},{"$f":"+IFERROR(AVERAGE(Espejo!AW48:AW50),\"-\")","v":"-"},{"$f":"+IFERROR(AVERAGE(Espejo!AX48:AX50),\"-\")","v":"-"},{"$f":"+IFERROR(AVERAGE(Espejo!AY48:AY50),\"-\")","v":"-"},{"$f":"+IFERROR(AVERAGE(Espejo!AZ48:AZ50),\"-\")","v":"-"},{"$f":"+IFERROR(AVERAGE(Espejo!BA48:BA50),\"-\")","v":"-"},{"$f":"+IFERROR(AVERAGE(Espejo!BB48:BB50),\"-\")","v":"-"},{"$f":"+IFERROR(AVERAGE(Espejo!BC48:BC50),\"-\")","v":"-"},{"$f":"+IFERROR(AVERAGE(Espejo!BD48:BD50),\"-\")","v":"-"},{"$f":"+IFERROR(AVERAGE(Espejo!BE48:BE50),\"-\")","v":"-"}]
[null,"FR",null,"La niña o el niño se presenta desaseado con frecuencia.",null,"-",null,{"$f":"+IFERROR((VLOOKUP('BASE DE RESPUESTAS'!H52,Back!$M$21:$N$23,2,0)),\"-\")","v":"-"},{"$f":"+IFERROR((VLOOKUP('BASE DE RESPUESTAS'!I52,Back!$M$21:$N$23,2,0)),\"-\")","v":"-"},{"$f":"+IFERROR((VLOOKUP('BASE DE RESPUESTAS'!J52,Back!$M$21:$N$23,2,0)),\"-\")","v":"-"},{"$f":"+IFERROR((VLOOKUP('BASE DE RESPUESTAS'!K52,Back!$M$21:$N$23,2,0)),\"-\")","v":"-"},{"$f":"+IFERROR((VLOOKUP('BASE DE RESPUESTAS'!L52,Back!$M$21:$N$23,2,0)),\"-\")","v":"-"},{"$f":"+IFERROR((VLOOKUP('BASE DE RESPUESTAS'!M52,Back!$M$21:$N$23,2,0)),\"-\")","v":"-"},{"$f":"+IFERROR((VLOOKUP('BASE DE RESPUESTAS'!N52,Back!$M$21:$N$23,2,0)),\"-\")","v":"-"},{"$f":"+IFERROR((VLOOKUP('BASE DE RESPUESTAS'!O52,Back!$M$21:$N$23,2,0)),\"-\")","v":"-"},{"$f":"+IFERROR((VLOOKUP('BASE DE RESPUESTAS'!P52,Back!$M$21:$N$23,2,0)),\"-\")","v":"-"},{"$f":"+IFERROR((VLOOKUP('BASE DE RESPUESTAS'!Q52,Back!$M$21:$N$23,2,0)),\"-\")","v":"-"},{"$f":"+IFERROR((VLOOKUP('BASE DE RESPUESTAS'!R52,Back!$M$21:$N$23,2,0)),\"-\")","v":"-"},{"$f":"+IFERROR((VLOOKUP('BASE DE RESPUESTAS'!S52,Back!$M$21:$N$23,2,0)),\"-\")","v":"-"},{"$f":"+IFERROR((VLOOKUP('BASE DE RESPUESTAS'!T52,Back!$M$21:$N$23,2,0)),\"-\")","v":"-"},{"$f":"+IFERROR((VLOOKUP('BASE DE RESPUESTAS'!U52,Back!$M$21:$N$23,2,0)),\"-\")","v":"-"},{"$f":"+IFERROR((VLOOKUP('BASE DE RESPUESTAS'!V52,Back!$M$21:$N$23,2,0)),\"-\")","v":"-"},{"$f":"+IFERROR((VLOOKUP('BASE DE RESPUESTAS'!W52,Back!$M$21:$N$23,2,0)),\"-\")","v":"-"},{"$f":"+IFERROR((VLOOKUP('BASE DE RESPUESTAS'!X52,Back!$M$21:$N$23,2,0)),\"-\")","v":"-"},{"$f":"+IFERROR((VLOOKUP('BASE DE RESPUESTAS'!Y52,Back!$M$21:$N$23,2,0)),\"-\")","v":"-"},{"$f":"+IFERROR((VLOOKUP('BASE DE RESPUESTAS'!Z52,Back!$M$21:$N$23,2,0)),\"-\")","v":"-"},{"$f":"+IFERROR((VLOOKUP('BASE DE RESPUESTAS'!AA52,Back!$M$21:$N$23,2,0)),\"-\")","v":"-"},{"$f":"+IFERROR((VLOOKUP('BASE DE RESPUESTAS'!AB52,Back!$M$21:$N$23,2,0)),\"-\")","v":"-"},{"$f":"+IFERROR((VLOOKUP('BASE DE RESPUESTAS'!AC52,Back!$M$21:$N$23,2,0)),\"-\")","v":"-"},{"$f":"+IFERROR((VLOOKUP('BASE DE RESPUESTAS'!AD52,Back!$M$21:$N$23,2,0)),\"-\")","v":"-"},{"$f":"+IFERROR((VLOOKUP('BASE DE RESPUESTAS'!AE52,Back!$M$21:$N$23,2,0)),\"-\")","v":"-"},{"$f":"+IFERROR((VLOOKUP('BASE DE RESPUESTAS'!AF52,Back!$M$21:$N$23,2,0)),\"-\")","v":"-"},{"$f":"+IFERROR((VLOOKUP('BASE DE RESPUESTAS'!AG52,Back!$M$21:$N$23,2,0)),\"-\")","v":"-"},{"$f":"+IFERROR((VLOOKUP('BASE DE RESPUESTAS'!AH52,Back!$M$21:$N$23,2,0)),\"-\")","v":"-"},{"$f":"+IFERROR((VLOOKUP('BASE DE RESPUESTAS'!AI52,Back!$M$21:$N$23,2,0)),\"-\")","v":"-"},{"$f":"+IFERROR((VLOOKUP('BASE DE RESPUESTAS'!AJ52,Back!$M$21:$N$23,2,0)),\"-\")","v":"-"},{"$f":"+IFERROR((VLOOKUP('BASE DE RESPUESTAS'!AK52,Back!$M$21:$N$23,2,0)),\"-\")","v":"-"},{"$f":"+IFERROR((VLOOKUP('BASE DE RESPUESTAS'!AL52,Back!$M$21:$N$23,2,0)),\"-\")","v":"-"},{"$f":"+IFERROR((VLOOKUP('BASE DE RESPUESTAS'!AM52,Back!$M$21:$N$23,2,0)),\"-\")","v":"-"},{"$f":"+IFERROR((VLOOKUP('BASE DE RESPUESTAS'!AN52,Back!$M$21:$N$23,2,0)),\"-\")","v":"-"},{"$f":"+IFERROR((VLOOKUP('BASE DE RESPUESTAS'!AO52,Back!$M$21:$N$23,2,0)),\"-\")","v":"-"},{"$f":"+IFERROR((VLOOKUP('BASE DE RESPUESTAS'!AP52,Back!$M$21:$N$23,2,0)),\"-\")","v":"-"},{"$f":"+IFERROR((VLOOKUP('BASE DE RESPUESTAS'!AQ52,Back!$M$21:$N$23,2,0)),\"-\")","v":"-"},{"$f":"+IFERROR((VLOOKUP('BASE DE RESPUESTAS'!AR52,Back!$M$21:$N$23,2,0)),\"-\")","v":"-"},{"$f":"+IFERROR((VLOOKUP('BASE DE RESPUESTAS'!AS52,Back!$M$21:$N$23,2,0)),\"-\")","v":"-"},{"$f":"+IFERROR((VLOOKUP('BASE DE RESPUESTAS'!AT52,Back!$M$21:$N$23,2,0)),\"-\")","v":"-"},{"$f":"+IFERROR((VLOOKUP('BASE DE RESPUESTAS'!AU52,Back!$M$21:$N$23,2,0)),\"-\")","v":"-"},{"$f":"+IFERROR((VLOOKUP('BASE DE RESPUESTAS'!AV52,Back!$M$21:$N$23,2,0)),\"-\")","v":"-"},{"$f":"+IFERROR((VLOOKUP('BASE DE RESPUESTAS'!AW52,Back!$M$21:$N$23,2,0)),\"-\")","v":"-"},{"$f":"+IFERROR((VLOOKUP('BASE DE RESPUESTAS'!AX52,Back!$M$21:$N$23,2,0)),\"-\")","v":"-"},{"$f":"+IFERROR((VLOOKUP('BASE DE RESPUESTAS'!AY52,Back!$M$21:$N$23,2,0)),\"-\")","v":"-"},{"$f":"+IFERROR((VLOOKUP('BASE DE RESPUESTAS'!AZ52,Back!$M$21:$N$23,2,0)),\"-\")","v":"-"},{"$f":"+IFERROR((VLOOKUP('BASE DE RESPUESTAS'!BA52,Back!$M$21:$N$23,2,0)),\"-\")","v":"-"},{"$f":"+IFERROR((VLOOKUP('BASE DE RESPUESTAS'!BB52,Back!$M$21:$N$23,2,0)),\"-\")","v":"-"},{"$f":"+IFERROR((VLOOKUP('BASE DE RESPUESTAS'!BC52,Back!$M$21:$N$23,2,0)),\"-\")","v":"-"},{"$f":"+IFERROR((VLOOKUP('BASE DE RESPUESTAS'!BD52,Back!$M$21:$N$23,2,0)),\"-\")","v":"-"},{"$f":"+IFERROR((VLOOKUP('BASE DE RESPUESTAS'!BE52,Back!$M$21:$N$23,2,0)),\"-\")","v":"-"}]
[null,"FR",null,"La niña o el niño no reconoce las partes íntimas de su cuerpo.",null,"-",null,{"$f":"+IFERROR((VLOOKUP('BASE DE RESPUESTAS'!H53,Back!$M$21:$N$23,2,0)),\"-\")","v":"-"},{"$f":"+IFERROR((VLOOKUP('BASE DE RESPUESTAS'!I53,Back!$M$21:$N$23,2,0)),\"-\")","v":"-"},{"$f":"+IFERROR((VLOOKUP('BASE DE RESPUESTAS'!J53,Back!$M$21:$N$23,2,0)),\"-\")","v":"-"},{"$f":"+IFERROR((VLOOKUP('BASE DE RESPUESTAS'!K53,Back!$M$21:$N$23,2,0)),\"-\")","v":"-"},{"$f":"+IFERROR((VLOOKUP('BASE DE RESPUESTAS'!L53,Back!$M$21:$N$23,2,0)),\"-\")","v":"-"},{"$f":"+IFERROR((VLOOKUP('BASE DE RESPUESTAS'!M53,Back!$M$21:$N$23,2,0)),\"-\")","v":"-"},{"$f":"+IFERROR((VLOOKUP('BASE DE RESPUESTAS'!N53,Back!$M$21:$N$23,2,0)),\"-\")","v":"-"},{"$f":"+IFERROR((VLOOKUP('BASE DE RESPUESTAS'!O53,Back!$M$21:$N$23,2,0)),\"-\")","v":"-"},{"$f":"+IFERROR((VLOOKUP('BASE DE RESPUESTAS'!P53,Back!$M$21:$N$23,2,0)),\"-\")","v":"-"},{"$f":"+IFERROR((VLOOKUP('BASE DE RESPUESTAS'!Q53,Back!$M$21:$N$23,2,0)),\"-\")","v":"-"},{"$f":"+IFERROR((VLOOKUP('BASE DE RESPUESTAS'!R53,Back!$M$21:$N$23,2,0)),\"-\")","v":"-"},{"$f":"+IFERROR((VLOOKUP('BASE DE RESPUESTAS'!S53,Back!$M$21:$N$23,2,0)),\"-\")","v":"-"},{"$f":"+IFERROR((VLOOKUP('BASE DE RESPUESTAS'!T53,Back!$M$21:$N$23,2,0)),\"-\")","v":"-"},{"$f":"+IFERROR((VLOOKUP('BASE DE RESPUESTAS'!U53,Back!$M$21:$N$23,2,0)),\"-\")","v":"-"},{"$f":"+IFERROR((VLOOKUP('BASE DE RESPUESTAS'!V53,Back!$M$21:$N$23,2,0)),\"-\")","v":"-"},{"$f":"+IFERROR((VLOOKUP('BASE DE RESPUESTAS'!W53,Back!$M$21:$N$23,2,0)),\"-\")","v":"-"},{"$f":"+IFERROR((VLOOKUP('BASE DE RESPUESTAS'!X53,Back!$M$21:$N$23,2,0)),\"-\")","v":"-"},{"$f":"+IFERROR((VLOOKUP('BASE DE RESPUESTAS'!Y53,Back!$M$21:$N$23,2,0)),\"-\")","v":"-"},{"$f":"+IFERROR((VLOOKUP('BASE DE RESPUESTAS'!Z53,Back!$M$21:$N$23,2,0)),\"-\")","v":"-"},{"$f":"+IFERROR((VLOOKUP('BASE DE RESPUESTAS'!AA53,Back!$M$21:$N$23,2,0)),\"-\")","v":"-"},{"$f":"+IFERROR((VLOOKUP('BASE DE RESPUESTAS'!AB53,Back!$M$21:$N$23,2,0)),\"-\")","v":"-"},{"$f":"+IFERROR((VLOOKUP('BASE DE RESPUESTAS'!AC53,Back!$M$21:$N$23,2,0)),\"-\")","v":"-"},{"$f":"+IFERROR((VLOOKUP('BASE DE RESPUESTAS'!AD53,Back!$M$21:$N$23,2,0)),\"-\")","v":"-"},{"$f":"+IFERROR((VLOOKUP('BASE DE RESPUESTAS'!AE53,Back!$M$21:$N$23,2,0)),\"-\")","v":"-"},{"$f":"+IFERROR((VLOOKUP('BASE DE RESPUESTAS'!AF53,Back!$M$21:$N$23,2,0)),\"-\")","v":"-"},{"$f":"+IFERROR((VLOOKUP('BASE DE RESPUESTAS'!AG53,Back!$M$21:$N$23,2,0)),\"-\")","v":"-"},{"$f":"+IFERROR((VLOOKUP('BASE DE RESPUESTAS'!AH53,Back!$M$21:$N$23,2,0)),\"-\")","v":"-"},{"$f":"+IFERROR((VLOOKUP('BASE DE RESPUESTAS'!AI53,Back!$M$21:$N$23,2,0)),\"-\")","v":"-"},{"$f":"+IFERROR((VLOOKUP('BASE DE RESPUESTAS'!AJ53,Back!$M$21:$N$23,2,0)),\"-\")","v":"-"},{"$f":"+IFERROR((VLOOKUP('BASE DE RESPUESTAS'!AK53,Back!$M$21:$N$23,2,0)),\"-\")","v":"-"},{"$f":"+IFERROR((VLOOKUP('BASE DE RESPUESTAS'!AL53,Back!$M$21:$N$23,2,0)),\"-\")","v":"-"},{"$f":"+IFERROR((VLOOKUP('BASE DE RESPUESTAS'!AM53,Back!$M$21:$N$23,2,0)),\"-\")","v":"-"},{"$f":"+IFERROR((VLOOKUP('BASE DE RESPUESTAS'!AN53,Back!$M$21:$N$23,2,0)),\"-\")","v":"-"},{"$f":"+IFERROR((VLOOKUP('BASE DE RESPUESTAS'!AO53,Back!$M$21:$N$23,2,0)),\"-\")","v":"-"},{"$f":"+IFERROR((VLOOKUP('BASE DE RESPUESTAS'!AP53,Back!$M$21:$N$23,2,0)),\"-\")","v":"-"},{"$f":"+IFERROR((VLOOKUP('BASE DE RESPUESTAS'!AQ53,Back!$M$21:$N$23,2,0)),\"-\")","v":"-"},{"$f":"+IFERROR((VLOOKUP('BASE DE RESPUESTAS'!AR53,Back!$M$21:$N$23,2,0)),\"-\")","v":"-"},{"$f":"+IFERROR((VLOOKUP('BASE DE RESPUESTAS'!AS53,Back!$M$21:$N$23,2,0)),\"-\")","v":"-"},{"$f":"+IFERROR((VLOOKUP('BASE DE RESPUESTAS'!AT53,Back!$M$21:$N$23,2,0)),\"-\")","v":"-"},{"$f":"+IFERROR((VLOOKUP('BASE DE RESPUESTAS'!AU53,Back!$M$21:$N$23,2,0)),\"-\")","v":"-"},{"$f":"+IFERROR((VLOOKUP('BASE DE RESPUESTAS'!AV53,Back!$M$21:$N$23,2,0)),\"-\")","v":"-"},{"$f":"+IFERROR((VLOOKUP('BASE DE RESPUESTAS'!AW53,Back!$M$21:$N$23,2,0)),\"-\")","v":"-"},{"$f":"+IFERROR((VLOOKUP('BASE DE RESPUESTAS'!AX53,Back!$M$21:$N$23,2,0)),\"-\")","v":"-"},{"$f":"+IFERROR((VLOOKUP('BASE DE RESPUESTAS'!AY53,Back!$M$21:$N$23,2,0)),\"-\")","v":"-"},{"$f":"+IFERROR((VLOOKUP('BASE DE RESPUESTAS'!AZ53,Back!$M$21:$N$23,2,0)),\"-\")","v":"-"},{"$f":"+IFERROR((VLOOKUP('BASE DE RESPUESTAS'!BA53,Back!$M$21:$N$23,2,0)),\"-\")","v":"-"},{"$f":"+IFERROR((VLOOKUP('BASE DE RESPUESTAS'!BB53,Back!$M$21:$N$23,2,0)),\"-\")","v":"-"},{"$f":"+IFERROR((VLOOKUP('BASE DE RESPUESTAS'!BC53,Back!$M$21:$N$23,2,0)),\"-\")","v":"-"},{"$f":"+IFERROR((VLOOKUP('BASE DE RESPUESTAS'!BD53,Back!$M$21:$N$23,2,0)),\"-\")","v":"-"},{"$f":"+IFERROR((VLOOKUP('BASE DE RESPUESTAS'!BE53,Back!$M$21:$N$23,2,0)),\"-\")","v":"-"}]
[null,"FR",null,"La niña o el niño repentinamente se orina o defeca en su ropa.",null,"-",null,{"$f":"+IFERROR((VLOOKUP('BASE DE RESPUESTAS'!H54,Back!$M$21:$N$23,2,0)),\"-\")","v":"-"},{"$f":"+IFERROR((VLOOKUP('BASE DE RESPUESTAS'!I54,Back!$M$21:$N$23,2,0)),\"-\")","v":"-"},{"$f":"+IFERROR((VLOOKUP('BASE DE RESPUESTAS'!J54,Back!$M$21:$N$23,2,0)),\"-\")","v":"-"},{"$f":"+IFERROR((VLOOKUP('BASE DE RESPUESTAS'!K54,Back!$M$21:$N$23,2,0)),\"-\")","v":"-"},{"$f":"+IFERROR((VLOOKUP('BASE DE RESPUESTAS'!L54,Back!$M$21:$N$23,2,0)),\"-\")","v":"-"},{"$f":"+IFERROR((VLOOKUP('BASE DE RESPUESTAS'!M54,Back!$M$21:$N$23,2,0)),\"-\")","v":"-"},{"$f":"+IFERROR((VLOOKUP('BASE DE RESPUESTAS'!N54,Back!$M$21:$N$23,2,0)),\"-\")","v":"-"},{"$f":"+IFERROR((VLOOKUP('BASE DE RESPUESTAS'!O54,Back!$M$21:$N$23,2,0)),\"-\")","v":"-"},{"$f":"+IFERROR((VLOOKUP('BASE DE RESPUESTAS'!P54,Back!$M$21:$N$23,2,0)),\"-\")","v":"-"},{"$f":"+IFERROR((VLOOKUP('BASE DE RESPUESTAS'!Q54,Back!$M$21:$N$23,2,0)),\"-\")","v":"-"},{"$f":"+IFERROR((VLOOKUP('BASE DE RESPUESTAS'!R54,Back!$M$21:$N$23,2,0)),\"-\")","v":"-"},{"$f":"+IFERROR((VLOOKUP('BASE DE RESPUESTAS'!S54,Back!$M$21:$N$23,2,0)),\"-\")","v":"-"},{"$f":"+IFERROR((VLOOKUP('BASE DE RESPUESTAS'!T54,Back!$M$21:$N$23,2,0)),\"-\")","v":"-"},{"$f":"+IFERROR((VLOOKUP('BASE DE RESPUESTAS'!U54,Back!$M$21:$N$23,2,0)),\"-\")","v":"-"},{"$f":"+IFERROR((VLOOKUP('BASE DE RESPUESTAS'!V54,Back!$M$21:$N$23,2,0)),\"-\")","v":"-"},{"$f":"+IFERROR((VLOOKUP('BASE DE RESPUESTAS'!W54,Back!$M$21:$N$23,2,0)),\"-\")","v":"-"},{"$f":"+IFERROR((VLOOKUP('BASE DE RESPUESTAS'!X54,Back!$M$21:$N$23,2,0)),\"-\")","v":"-"},{"$f":"+IFERROR((VLOOKUP('BASE DE RESPUESTAS'!Y54,Back!$M$21:$N$23,2,0)),\"-\")","v":"-"},{"$f":"+IFERROR((VLOOKUP('BASE DE RESPUESTAS'!Z54,Back!$M$21:$N$23,2,0)),\"-\")","v":"-"},{"$f":"+IFERROR((VLOOKUP('BASE DE RESPUESTAS'!AA54,Back!$M$21:$N$23,2,0)),\"-\")","v":"-"},{"$f":"+IFERROR((VLOOKUP('BASE DE RESPUESTAS'!AB54,Back!$M$21:$N$23,2,0)),\"-\")","v":"-"},{"$f":"+IFERROR((VLOOKUP('BASE DE RESPUESTAS'!AC54,Back!$M$21:$N$23,2,0)),\"-\")","v":"-"},{"$f":"+IFERROR((VLOOKUP('BASE DE RESPUESTAS'!AD54,Back!$M$21:$N$23,2,0)),\"-\")","v":"-"},{"$f":"+IFERROR((VLOOKUP('BASE DE RESPUESTAS'!AE54,Back!$M$21:$N$23,2,0)),\"-\")","v":"-"},{"$f":"+IFERROR((VLOOKUP('BASE DE RESPUESTAS'!AF54,Back!$M$21:$N$23,2,0)),\"-\")","v":"-"},{"$f":"+IFERROR((VLOOKUP('BASE DE RESPUESTAS'!AG54,Back!$M$21:$N$23,2,0)),\"-\")","v":"-"},{"$f":"+IFERROR((VLOOKUP('BASE DE RESPUESTAS'!AH54,Back!$M$21:$N$23,2,0)),\"-\")","v":"-"},{"$f":"+IFERROR((VLOOKUP('BASE DE RESPUESTAS'!AI54,Back!$M$21:$N$23,2,0)),\"-\")","v":"-"},{"$f":"+IFERROR((VLOOKUP('BASE DE RESPUESTAS'!AJ54,Back!$M$21:$N$23,2,0)),\"-\")","v":"-"},{"$f":"+IFERROR((VLOOKUP('BASE DE RESPUESTAS'!AK54,Back!$M$21:$N$23,2,0)),\"-\")","v":"-"},{"$f":"+IFERROR((VLOOKUP('BASE DE RESPUESTAS'!AL54,Back!$M$21:$N$23,2,0)),\"-\")","v":"-"},{"$f":"+IFERROR((VLOOKUP('BASE DE RESPUESTAS'!AM54,Back!$M$21:$N$23,2,0)),\"-\")","v":"-"},{"$f":"+IFERROR((VLOOKUP('BASE DE RESPUESTAS'!AN54,Back!$M$21:$N$23,2,0)),\"-\")","v":"-"},{"$f":"+IFERROR((VLOOKUP('BASE DE RESPUESTAS'!AO54,Back!$M$21:$N$23,2,0)),\"-\")","v":"-"},{"$f":"+IFERROR((VLOOKUP('BASE DE RESPUESTAS'!AP54,Back!$M$21:$N$23,2,0)),\"-\")","v":"-"},{"$f":"+IFERROR((VLOOKUP('BASE DE RESPUESTAS'!AQ54,Back!$M$21:$N$23,2,0)),\"-\")","v":"-"},{"$f":"+IFERROR((VLOOKUP('BASE DE RESPUESTAS'!AR54,Back!$M$21:$N$23,2,0)),\"-\")","v":"-"},{"$f":"+IFERROR((VLOOKUP('BASE DE RESPUESTAS'!AS54,Back!$M$21:$N$23,2,0)),\"-\")","v":"-"},{"$f":"+IFERROR((VLOOKUP('BASE DE RESPUESTAS'!AT54,Back!$M$21:$N$23,2,0)),\"-\")","v":"-"},{"$f":"+IFERROR((VLOOKUP('BASE DE RESPUESTAS'!AU54,Back!$M$21:$N$23,2,0)),\"-\")","v":"-"},{"$f":"+IFERROR((VLOOKUP('BASE DE RESPUESTAS'!AV54,Back!$M$21:$N$23,2,0)),\"-\")","v":"-"},{"$f":"+IFERROR((VLOOKUP('BASE DE RESPUESTAS'!AW54,Back!$M$21:$N$23,2,0)),\"-\")","v":"-"},{"$f":"+IFERROR((VLOOKUP('BASE DE RESPUESTAS'!AX54,Back!$M$21:$N$23,2,0)),\"-\")","v":"-"},{"$f":"+IFERROR((VLOOKUP('BASE DE RESPUESTAS'!AY54,Back!$M$21:$N$23,2,0)),\"-\")","v":"-"},{"$f":"+IFERROR((VLOOKUP('BASE DE RESPUESTAS'!AZ54,Back!$M$21:$N$23,2,0)),\"-\")","v":"-"},{"$f":"+IFERROR((VLOOKUP('BASE DE RESPUESTAS'!BA54,Back!$M$21:$N$23,2,0)),\"-\")","v":"-"},{"$f":"+IFERROR((VLOOKUP('BASE DE RESPUESTAS'!BB54,Back!$M$21:$N$23,2,0)),\"-\")","v":"-"},{"$f":"+IFERROR((VLOOKUP('BASE DE RESPUESTAS'!BC54,Back!$M$21:$N$23,2,0)),\"-\")","v":"-"},{"$f":"+IFERROR((VLOOKUP('BASE DE RESPUESTAS'!BD54,Back!$M$21:$N$23,2,0)),\"-\")","v":"-"},{"$f":"+IFERROR((VLOOKUP('BASE DE RESPUESTAS'!BE54,Back!$M$21:$N$23,2,0)),\"-\")","v":"-"}]
[null,"FR",null,"La niña o el niño se sienta o camina con dificultad y/o refiere dolor, picor en la zona anal o inginal.",null,"-",null,{"$f":"+IFERROR((VLOOKUP('BASE DE RESPUESTAS'!H55,Back!$M$21:$N$23,2,0)),\"-\")","v":"-"},{"$f":"+IFERROR((VLOOKUP('BASE DE RESPUESTAS'!I55,Back!$M$21:$N$23,2,0)),\"-\")","v":"-"},{"$f":"+IFERROR((VLOOKUP('BASE DE RESPUESTAS'!J55,Back!$M$21:$N$23,2,0)),\"-\")","v":"-"},{"$f":"+IFERROR((VLOOKUP('BASE DE RESPUESTAS'!K55,Back!$M$21:$N$23,2,0)),\"-\")","v":"-"},{"$f":"+IFERROR((VLOOKUP('BASE DE RESPUESTAS'!L55,Back!$M$21:$N$23,2,0)),\"-\")","v":"-"},{"$f":"+IFERROR((VLOOKUP('BASE DE RESPUESTAS'!M55,Back!$M$21:$N$23,2,0)),\"-\")","v":"-"},{"$f":"+IFERROR((VLOOKUP('BASE DE RESPUESTAS'!N55,Back!$M$21:$N$23,2,0)),\"-\")","v":"-"},{"$f":"+IFERROR((VLOOKUP('BASE DE RESPUESTAS'!O55,Back!$M$21:$N$23,2,0)),\"-\")","v":"-"},{"$f":"+IFERROR((VLOOKUP('BASE DE RESPUESTAS'!P55,Back!$M$21:$N$23,2,0)),\"-\")","v":"-"},{"$f":"+IFERROR((VLOOKUP('BASE DE RESPUESTAS'!Q55,Back!$M$21:$N$23,2,0)),\"-\")","v":"-"},{"$f":"+IFERROR((VLOOKUP('BASE DE RESPUESTAS'!R55,Back!$M$21:$N$23,2,0)),\"-\")","v":"-"},{"$f":"+IFERROR((VLOOKUP('BASE DE RESPUESTAS'!S55,Back!$M$21:$N$23,2,0)),\"-\")","v":"-"},{"$f":"+IFERROR((VLOOKUP('BASE DE RESPUESTAS'!T55,Back!$M$21:$N$23,2,0)),\"-\")","v":"-"},{"$f":"+IFERROR((VLOOKUP('BASE DE RESPUESTAS'!U55,Back!$M$21:$N$23,2,0)),\"-\")","v":"-"},{"$f":"+IFERROR((VLOOKUP('BASE DE RESPUESTAS'!V55,Back!$M$21:$N$23,2,0)),\"-\")","v":"-"},{"$f":"+IFERROR((VLOOKUP('BASE DE RESPUESTAS'!W55,Back!$M$21:$N$23,2,0)),\"-\")","v":"-"},{"$f":"+IFERROR((VLOOKUP('BASE DE RESPUESTAS'!X55,Back!$M$21:$N$23,2,0)),\"-\")","v":"-"},{"$f":"+IFERROR((VLOOKUP('BASE DE RESPUESTAS'!Y55,Back!$M$21:$N$23,2,0)),\"-\")","v":"-"},{"$f":"+IFERROR((VLOOKUP('BASE DE RESPUESTAS'!Z55,Back!$M$21:$N$23,2,0)),\"-\")","v":"-"},{"$f":"+IFERROR((VLOOKUP('BASE DE RESPUESTAS'!AA55,Back!$M$21:$N$23,2,0)),\"-\")","v":"-"},{"$f":"+IFERROR((VLOOKUP('BASE DE RESPUESTAS'!AB55,Back!$M$21:$N$23,2,0)),\"-\")","v":"-"},{"$f":"+IFERROR((VLOOKUP('BASE DE RESPUESTAS'!AC55,Back!$M$21:$N$23,2,0)),\"-\")","v":"-"},{"$f":"+IFERROR((VLOOKUP('BASE DE RESPUESTAS'!AD55,Back!$M$21:$N$23,2,0)),\"-\")","v":"-"},{"$f":"+IFERROR((VLOOKUP('BASE DE RESPUESTAS'!AE55,Back!$M$21:$N$23,2,0)),\"-\")","v":"-"},{"$f":"+IFERROR((VLOOKUP('BASE DE RESPUESTAS'!AF55,Back!$M$21:$N$23,2,0)),\"-\")","v":"-"},{"$f":"+IFERROR((VLOOKUP('BASE DE RESPUESTAS'!AG55,Back!$M$21:$N$23,2,0)),\"-\")","v":"-"},{"$f":"+IFERROR((VLOOKUP('BASE DE RESPUESTAS'!AH55,Back!$M$21:$N$23,2,0)),\"-\")","v":"-"},{"$f":"+IFERROR((VLOOKUP('BASE DE RESPUESTAS'!AI55,Back!$M$21:$N$23,2,0)),\"-\")","v":"-"},{"$f":"+IFERROR((VLOOKUP('BASE DE RESPUESTAS'!AJ55,Back!$M$21:$N$23,2,0)),\"-\")","v":"-"},{"$f":"+IFERROR((VLOOKUP('BASE DE RESPUESTAS'!AK55,Back!$M$21:$N$23,2,0)),\"-\")","v":"-"},{"$f":"+IFERROR((VLOOKUP('BASE DE RESPUESTAS'!AL55,Back!$M$21:$N$23,2,0)),\"-\")","v":"-"},{"$f":"+IFERROR((VLOOKUP('BASE DE RESPUESTAS'!AM55,Back!$M$21:$N$23,2,0)),\"-\")","v":"-"},{"$f":"+IFERROR((VLOOKUP('BASE DE RESPUESTAS'!AN55,Back!$M$21:$N$23,2,0)),\"-\")","v":"-"},{"$f":"+IFERROR((VLOOKUP('BASE DE RESPUESTAS'!AO55,Back!$M$21:$N$23,2,0)),\"-\")","v":"-"},{"$f":"+IFERROR((VLOOKUP('BASE DE RESPUESTAS'!AP55,Back!$M$21:$N$23,2,0)),\"-\")","v":"-"},{"$f":"+IFERROR((VLOOKUP('BASE DE RESPUESTAS'!AQ55,Back!$M$21:$N$23,2,0)),\"-\")","v":"-"},{"$f":"+IFERROR((VLOOKUP('BASE DE RESPUESTAS'!AR55,Back!$M$21:$N$23,2,0)),\"-\")","v":"-"},{"$f":"+IFERROR((VLOOKUP('BASE DE RESPUESTAS'!AS55,Back!$M$21:$N$23,2,0)),\"-\")","v":"-"},{"$f":"+IFERROR((VLOOKUP('BASE DE RESPUESTAS'!AT55,Back!$M$21:$N$23,2,0)),\"-\")","v":"-"},{"$f":"+IFERROR((VLOOKUP('BASE DE RESPUESTAS'!AU55,Back!$M$21:$N$23,2,0)),\"-\")","v":"-"},{"$f":"+IFERROR((VLOOKUP('BASE DE RESPUESTAS'!AV55,Back!$M$21:$N$23,2,0)),\"-\")","v":"-"},{"$f":"+IFERROR((VLOOKUP('BASE DE RESPUESTAS'!AW55,Back!$M$21:$N$23,2,0)),\"-\")","v":"-"},{"$f":"+IFERROR((VLOOKUP('BASE DE RESPUESTAS'!AX55,Back!$M$21:$N$23,2,0)),\"-\")","v":"-"},{"$f":"+IFERROR((VLOOKUP('BASE DE RESPUESTAS'!AY55,Back!$M$21:$N$23,2,0)),\"-\")","v":"-"},{"$f":"+IFERROR((VLOOKUP('BASE DE RESPUESTAS'!AZ55,Back!$M$21:$N$23,2,0)),\"-\")","v":"-"},{"$f":"+IFERROR((VLOOKUP('BASE DE RESPUESTAS'!BA55,Back!$M$21:$N$23,2,0)),\"-\")","v":"-"},{"$f":"+IFERROR((VLOOKUP('BASE DE RESPUESTAS'!BB55,Back!$M$21:$N$23,2,0)),\"-\")","v":"-"},{"$f":"+IFERROR((VLOOKUP('BASE DE RESPUESTAS'!BC55,Back!$M$21:$N$23,2,0)),\"-\")","v":"-"},{"$f":"+IFERROR((VLOOKUP('BASE DE RESPUESTAS'!BD55,Back!$M$21:$N$23,2,0)),\"-\")","v":"-"},{"$f":"+IFERROR((VLOOKUP('BASE DE RESPUESTAS'!BE55,Back!$M$21:$N$23,2,0)),\"-\")","v":"-"}]
[null,"FR","Ausentismo Escolar","La niña o el niño falta, al menos, una vez a la semana a la escuela sin justificación.",null,"-",null,{"$f":"+IFERROR((VLOOKUP('BASE DE RESPUESTAS'!H56,Back!$M$21:$N$23,2,0)),\"-\")","v":"-"},{"$f":"+IFERROR((VLOOKUP('BASE DE RESPUESTAS'!I56,Back!$M$21:$N$23,2,0)),\"-\")","v":"-"},{"$f":"+IFERROR((VLOOKUP('BASE DE RESPUESTAS'!J56,Back!$M$21:$N$23,2,0)),\"-\")","v":"-"},{"$f":"+IFERROR((VLOOKUP('BASE DE RESPUESTAS'!K56,Back!$M$21:$N$23,2,0)),\"-\")","v":"-"},{"$f":"+IFERROR((VLOOKUP('BASE DE RESPUESTAS'!L56,Back!$M$21:$N$23,2,0)),\"-\")","v":"-"},{"$f":"+IFERROR((VLOOKUP('BASE DE RESPUESTAS'!M56,Back!$M$21:$N$23,2,0)),\"-\")","v":"-"},{"$f":"+IFERROR((VLOOKUP('BASE DE RESPUESTAS'!N56,Back!$M$21:$N$23,2,0)),\"-\")","v":"-"},{"$f":"+IFERROR((VLOOKUP('BASE DE RESPUESTAS'!O56,Back!$M$21:$N$23,2,0)),\"-\")","v":"-"},{"$f":"+IFERROR((VLOOKUP('BASE DE RESPUESTAS'!P56,Back!$M$21:$N$23,2,0)),\"-\")","v":"-"},{"$f":"+IFERROR((VLOOKUP('BASE DE RESPUESTAS'!Q56,Back!$M$21:$N$23,2,0)),\"-\")","v":"-"},{"$f":"+IFERROR((VLOOKUP('BASE DE RESPUESTAS'!R56,Back!$M$21:$N$23,2,0)),\"-\")","v":"-"},{"$f":"+IFERROR((VLOOKUP('BASE DE RESPUESTAS'!S56,Back!$M$21:$N$23,2,0)),\"-\")","v":"-"},{"$f":"+IFERROR((VLOOKUP('BASE DE RESPUESTAS'!T56,Back!$M$21:$N$23,2,0)),\"-\")","v":"-"},{"$f":"+IFERROR((VLOOKUP('BASE DE RESPUESTAS'!U56,Back!$M$21:$N$23,2,0)),\"-\")","v":"-"},{"$f":"+IFERROR((VLOOKUP('BASE DE RESPUESTAS'!V56,Back!$M$21:$N$23,2,0)),\"-\")","v":"-"},{"$f":"+IFERROR((VLOOKUP('BASE DE RESPUESTAS'!W56,Back!$M$21:$N$23,2,0)),\"-\")","v":"-"},{"$f":"+IFERROR((VLOOKUP('BASE DE RESPUESTAS'!X56,Back!$M$21:$N$23,2,0)),\"-\")","v":"-"},{"$f":"+IFERROR((VLOOKUP('BASE DE RESPUESTAS'!Y56,Back!$M$21:$N$23,2,0)),\"-\")","v":"-"},{"$f":"+IFERROR((VLOOKUP('BASE DE RESPUESTAS'!Z56,Back!$M$21:$N$23,2,0)),\"-\")","v":"-"},{"$f":"+IFERROR((VLOOKUP('BASE DE RESPUESTAS'!AA56,Back!$M$21:$N$23,2,0)),\"-\")","v":"-"},{"$f":"+IFERROR((VLOOKUP('BASE DE RESPUESTAS'!AB56,Back!$M$21:$N$23,2,0)),\"-\")","v":"-"},{"$f":"+IFERROR((VLOOKUP('BASE DE RESPUESTAS'!AC56,Back!$M$21:$N$23,2,0)),\"-\")","v":"-"},{"$f":"+IFERROR((VLOOKUP('BASE DE RESPUESTAS'!AD56,Back!$M$21:$N$23,2,0)),\"-\")","v":"-"},{"$f":"+IFERROR((VLOOKUP('BASE DE RESPUESTAS'!AE56,Back!$M$21:$N$23,2,0)),\"-\")","v":"-"},{"$f":"+IFERROR((VLOOKUP('BASE DE RESPUESTAS'!AF56,Back!$M$21:$N$23,2,0)),\"-\")","v":"-"},{"$f":"+IFERROR((VLOOKUP('BASE DE RESPUESTAS'!AG56,Back!$M$21:$N$23,2,0)),\"-\")","v":"-"},{"$f":"+IFERROR((VLOOKUP('BASE DE RESPUESTAS'!AH56,Back!$M$21:$N$23,2,0)),\"-\")","v":"-"},{"$f":"+IFERROR((VLOOKUP('BASE DE RESPUESTAS'!AI56,Back!$M$21:$N$23,2,0)),\"-\")","v":"-"},{"$f":"+IFERROR((VLOOKUP('BASE DE RESPUESTAS'!AJ56,Back!$M$21:$N$23,2,0)),\"-\")","v":"-"},{"$f":"+IFERROR((VLOOKUP('BASE DE RESPUESTAS'!AK56,Back!$M$21:$N$23,2,0)),\"-\")","v":"-"},{"$f":"+IFERROR((VLOOKUP('BASE DE RESPUESTAS'!AL56,Back!$M$21:$N$23,2,0)),\"-\")","v":"-"},{"$f":"+IFERROR((VLOOKUP('BASE DE RESPUESTAS'!AM56,Back!$M$21:$N$23,2,0)),\"-\")","v":"-"},{"$f":"+IFERROR((VLOOKUP('BASE DE RESPUESTAS'!AN56,Back!$M$21:$N$23,2,0)),\"-\")","v":"-"},{"$f":"+IFERROR((VLOOKUP('BASE DE RESPUESTAS'!AO56,Back!$M$21:$N$23,2,0)),\"-\")","v":"-"},{"$f":"+IFERROR((VLOOKUP('BASE DE RESPUESTAS'!AP56,Back!$M$21:$N$23,2,0)),\"-\")","v":"-"},{"$f":"+IFERROR((VLOOKUP('BASE DE RESPUESTAS'!AQ56,Back!$M$21:$N$23,2,0)),\"-\")","v":"-"},{"$f":"+IFERROR((VLOOKUP('BASE DE RESPUESTAS'!AR56,Back!$M$21:$N$23,2,0)),\"-\")","v":"-"},{"$f":"+IFERROR((VLOOKUP('BASE DE RESPUESTAS'!AS56,Back!$M$21:$N$23,2,0)),\"-\")","v":"-"},{"$f":"+IFERROR((VLOOKUP('BASE DE RESPUESTAS'!AT56,Back!$M$21:$N$23,2,0)),\"-\")","v":"-"},{"$f":"+IFERROR((VLOOKUP('BASE DE RESPUESTAS'!AU56,Back!$M$21:$N$23,2,0)),\"-\")","v":"-"},{"$f":"+IFERROR((VLOOKUP('BASE DE RESPUESTAS'!AV56,Back!$M$21:$N$23,2,0)),\"-\")","v":"-"},{"$f":"+IFERROR((VLOOKUP('BASE DE RESPUESTAS'!AW56,Back!$M$21:$N$23,2,0)),\"-\")","v":"-"},{"$f":"+IFERROR((VLOOKUP('BASE DE RESPUESTAS'!AX56,Back!$M$21:$N$23,2,0)),\"-\")","v":"-"},{"$f":"+IFERROR((VLOOKUP('BASE DE RESPUESTAS'!AY56,Back!$M$21:$N$23,2,0)),\"-\")","v":"-"},{"$f":"+IFERROR((VLOOKUP('BASE DE RESPUESTAS'!AZ56,Back!$M$21:$N$23,2,0)),\"-\")","v":"-"},{"$f":"+IFERROR((VLOOKUP('BASE DE RESPUESTAS'!BA56,Back!$M$21:$N$23,2,0)),\"-\")","v":"-"},{"$f":"+IFERROR((VLOOKUP('BASE DE RESPUESTAS'!BB56,Back!$M$21:$N$23,2,0)),\"-\")","v":"-"},{"$f":"+IFERROR((VLOOKUP('BASE DE RESPUESTAS'!BC56,Back!$M$21:$N$23,2,0)),\"-\")","v":"-"},{"$f":"+IFERROR((VLOOKUP('BASE DE RESPUESTAS'!BD56,Back!$M$21:$N$23,2,0)),\"-\")","v":"-"},{"$f":"+IFERROR((VLOOKUP('BASE DE RESPUESTAS'!BE56,Back!$M$21:$N$23,2,0)),\"-\")","v":"-"}]
[]
[null,null,null,null,null,"Indicadores",null,{"$f":"+H4","v":"Estudiante 1"},"Estudiante 2","Estudiante 3","Estudiante 4","Estudiante 5","Estudiante 6","Estudiante 7","Estudiante 8","Estudiante 9","Estudiante 10","Estudiante 11","Estudiante 12","Estudiante 13","Estudiante 14","Estudiante 15","Estudiante 16","Estudiante 17","Estudiante 18","Estudiante 19","Estudiante 20","Estudiante 21","Estudiante 22","Estudiante 23","Estudiante 24","Estudiante 25","Estudiante 26","Estudiante 27","Estudiante 28","Estudiante 29","Estudiante 30","Estudiante 31","Estudiante 32","Estudiante 33","Estudiante 34","Estudiante 35","Estudiante 36","Estudiante 37","Estudiante 38","Estudiante 39","Estudiante 40","Estudiante 41","Estudiante 42","Estudiante 43","Estudiante 44","Estudiante 45","Estudiante 46","Estudiante 47","Estudiante 48","Estudiante 49","Estudiante 50"]
[null,null,null,null,null,"Alto Riesgo",null,{"$f":"IFERROR(COUNTIFS(H5:H20,\">=0.75\",H5:H20,\"<1.01\"),\"-\")","v":1},0,0,0,0,0,0,0,0,0,0,0,0,0,0,0,0,0,0,0,0,0,0,0,0,0,0,0,0,0,0,0,0,0,0,0,0,0,0,0,0,0,0,0,0,0,0,0,0,0]
[null,null,null,null,null,"Riesgo Moderado",null,{"$f":"IFERROR(COUNTIFS(H5:H20,\">=0.26\",H5:H20,\"<=0.74\"),\"-\")","v":0},0,0,0,0,0,0,0,0,0,0,0,0,0,0,0,0,0,0,0,0,0,0,0,0,0,0,0,0,0,0,0,0,0,0,0,0,0,0,0,0,0,0,0,0,0,0,0,0,0]
[null,null,null,null,null,"Bajo Riesgo",null,{"$f":"IFERROR(COUNTIFS(H5:H20,\">=0\",H5:H20,\"<0.25\"),\"-\")","v":1},0,0,0,0,0,0,0,0,0,0,0,0,0,0,0,0,0,0,0,0,0,0,0,0,0,0,0,0,0,0,0,0,0,0,0,0,0,0,0,0,0,0,0,0,0,0,0,0,0]
[null,null,null,null,null,"TOTAL",null,{"$f":"+SUM(H23:H25)","v":2},0,0,0,0,0,0,0,0,0,0,0,0,0,0,0,0,0,0,0,0,0,0,0,0,0,0,0,0,0,0,0,0,0,0,0,0,0,0,0,0,0,0,0,0,0,0,0,0,0]

{"sheet":"Resumen de Escala FR","index":7,"n_rows":18,"n_cols":55,"rows_kept":18,"cut":false,"hidden":false,"merged":[]}
[]
[]
[]
[null,"Dimensión","Escala","Resultado Promedio del aula",null,{"$f":"+'BASE DE RESPUESTAS'!H5","v":"Estudiante 1"},{"$f":"+'BASE DE RESPUESTAS'!I5","v":"Estudiante 2"},{"$f":"+'BASE DE RESPUESTAS'!J5","v":"Estudiante 3"},{"$f":"+'BASE DE RESPUESTAS'!K5","v":"Estudiante 4"},{"$f":"+'BASE DE RESPUESTAS'!L5","v":"Estudiante 5"},{"$f":"+'BASE DE RESPUESTAS'!M5","v":"Estudiante 6"},{"$f":"+'BASE DE RESPUESTAS'!N5","v":"Estudiante 7"},{"$f":"+'BASE DE RESPUESTAS'!O5","v":"Estudiante 8"},{"$f":"+'BASE DE RESPUESTAS'!P5","v":"Estudiante 9"},{"$f":"+'BASE DE RESPUESTAS'!Q5","v":"Estudiante 10"},{"$f":"+'BASE DE RESPUESTAS'!R5","v":"Estudiante 11"},{"$f":"+'BASE DE RESPUESTAS'!S5","v":"Estudiante 12"},{"$f":"+'BASE DE RESPUESTAS'!T5","v":"Estudiante 13"},{"$f":"+'BASE DE RESPUESTAS'!U5","v":"Estudiante 14"},{"$f":"+'BASE DE RESPUESTAS'!V5","v":"Estudiante 15"},{"$f":"+'BASE DE RESPUESTAS'!W5","v":"Estudiante 16"},{"$f":"+'BASE DE RESPUESTAS'!X5","v":"Estudiante 17"},{"$f":"+'BASE DE RESPUESTAS'!Y5","v":"Estudiante 18"},{"$f":"+'BASE DE RESPUESTAS'!Z5","v":"Estudiante 19"},{"$f":"+'BASE DE RESPUESTAS'!AA5","v":"Estudiante 20"},{"$f":"+'BASE DE RESPUESTAS'!AB5","v":"Estudiante 21"},{"$f":"+'BASE DE RESPUESTAS'!AC5","v":"Estudiante 22"},{"$f":"+'BASE DE RESPUESTAS'!AD5","v":"Estudiante 23"},{"$f":"+'BASE DE RESPUESTAS'!AE5","v":"Estudiante 24"},{"$f":"+'BASE DE RESPUESTAS'!AF5","v":"Estudiante 25"},{"$f":"+'BASE DE RESPUESTAS'!AG5","v":"Estudiante 26"},{"$f":"+'BASE DE RESPUESTAS'!AH5","v":"Estudiante 27"},{"$f":"+'BASE DE RESPUESTAS'!AI5","v":"Estudiante 28"},{"$f":"+'BASE DE RESPUESTAS'!AJ5","v":"Estudiante 29"},{"$f":"+'BASE DE RESPUESTAS'!AK5","v":"Estudiante 30"},{"$f":"+'BASE DE RESPUESTAS'!AL5","v":"Estudiante 31"},{"$f":"+'BASE DE RESPUESTAS'!AM5","v":"Estudiante 32"},{"$f":"+'BASE DE RESPUESTAS'!AN5","v":"Estudiante 33"},{"$f":"+'BASE DE RESPUESTAS'!AO5","v":"Estudiante 34"},{"$f":"+'BASE DE RESPUESTAS'!AP5","v":"Estudiante 35"},{"$f":"+'BASE DE RESPUESTAS'!AQ5","v":"Estudiante 36"},{"$f":"+'BASE DE RESPUESTAS'!AR5","v":"Estudiante 37"},{"$f":"+'BASE DE RESPUESTAS'!AS5","v":"Estudiante 38"},{"$f":"+'BASE DE RESPUESTAS'!AT5","v":"Estudiante 39"},{"$f":"+'BASE DE RESPUESTAS'!AU5","v":"Estudiante 40"},{"$f":"+'BASE DE RESPUESTAS'!AV5","v":"Estudiante 41"},{"$f":"+'BASE DE RESPUESTAS'!AW5","v":"Estudiante 42"},{"$f":"+'BASE DE RESPUESTAS'!AX5","v":"Estudiante 43"},{"$f":"+'BASE DE RESPUESTAS'!AY5","v":"Estudiante 44"},{"$f":"+'BASE DE RESPUESTAS'!AZ5","v":"Estudiante 45"},{"$f":"+'BASE DE RESPUESTAS'!BA5","v":"Estudiante 46"},{"$f":"+'BASE DE RESPUESTAS'!BB5","v":"Estudiante 47"},{"$f":"+'BASE DE RESPUESTAS'!BC5","v":"Estudiante 48"},{"$f":"+'BASE DE RESPUESTAS'!BD5","v":"Estudiante 49"},{"$f":"+'BASE DE RESPUESTAS'!BE5","v":"Estudiante 50"}]
[]
[null,"FR","Dificultades en el desarrollo cognitivo",{"$f":"+IFERROR(AVERAGEIFS(F6:BC6,F6:BC6,\">=0\"),\"-\")","v":0.5},null,{"$f":"+IFERROR(AVERAGEIFS('Resumen de indicadores FR'!H5:H6,'Resumen de indicadores FR'!H5:H6,\">=0\"),\"-\")","v":0.5},{"$f":"+IFERROR(AVERAGEIFS('Resumen de indicadores FR'!I5:I6,'Resumen de indicadores FR'!I5:I6,\">=0\"),\"-\")","v":"-"},{"$f":"+IFERROR(AVERAGEIFS('Resumen de indicadores FR'!J5:J6,'Resumen de indicadores FR'!J5:J6,\">=0\"),\"-\")","v":"-"},{"$f":"+IFERROR(AVERAGEIFS('Resumen de indicadores FR'!K5:K6,'Resumen de indicadores FR'!K5:K6,\">=0\"),\"-\")","v":"-"},{"$f":"+IFERROR(AVERAGEIFS('Resumen de indicadores FR'!L5:L6,'Resumen de indicadores FR'!L5:L6,\">=0\"),\"-\")","v":"-"},{"$f":"+IFERROR(AVERAGEIFS('Resumen de indicadores FR'!M5:M6,'Resumen de indicadores FR'!M5:M6,\">=0\"),\"-\")","v":"-"},{"$f":"+IFERROR(AVERAGEIFS('Resumen de indicadores FR'!N5:N6,'Resumen de indicadores FR'!N5:N6,\">=0\"),\"-\")","v":"-"},{"$f":"+IFERROR(AVERAGEIFS('Resumen de indicadores FR'!O5:O6,'Resumen de indicadores FR'!O5:O6,\">=0\"),\"-\")","v":"-"},{"$f":"+IFERROR(AVERAGEIFS('Resumen de indicadores FR'!P5:P6,'Resumen de indicadores FR'!P5:P6,\">=0\"),\"-\")","v":"-"},{"$f":"+IFERROR(AVERAGEIFS('Resumen de indicadores FR'!Q5:Q6,'Resumen de indicadores FR'!Q5:Q6,\">=0\"),\"-\")","v":"-"},{"$f":"+IFERROR(AVERAGEIFS('Resumen de indicadores FR'!R5:R6,'Resumen de indicadores FR'!R5:R6,\">=0\"),\"-\")","v":"-"},{"$f":"+IFERROR(AVERAGEIFS('Resumen de indicadores FR'!S5:S6,'Resumen de indicadores FR'!S5:S6,\">=0\"),\"-\")","v":"-"},{"$f":"+IFERROR(AVERAGEIFS('Resumen de indicadores FR'!T5:T6,'Resumen de indicadores FR'!T5:T6,\">=0\"),\"-\")","v":"-"},{"$f":"+IFERROR(AVERAGEIFS('Resumen de indicadores FR'!U5:U6,'Resumen de indicadores FR'!U5:U6,\">=0\"),\"-\")","v":"-"},{"$f":"+IFERROR(AVERAGEIFS('Resumen de indicadores FR'!V5:V6,'Resumen de indicadores FR'!V5:V6,\">=0\"),\"-\")","v":"-"},{"$f":"+IFERROR(AVERAGEIFS('Resumen de indicadores FR'!W5:W6,'Resumen de indicadores FR'!W5:W6,\">=0\"),\"-\")","v":"-"},{"$f":"+IFERROR(AVERAGEIFS('Resumen de indicadores FR'!X5:X6,'Resumen de indicadores FR'!X5:X6,\">=0\"),\"-\")","v":"-"},{"$f":"+IFERROR(AVERAGEIFS('Resumen de indicadores FR'!Y5:Y6,'Resumen de indicadores FR'!Y5:Y6,\">=0\"),\"-\")","v":"-"},{"$f":"+IFERROR(AVERAGEIFS('Resumen de indicadores FR'!Z5:Z6,'Resumen de indicadores FR'!Z5:Z6,\">=0\"),\"-\")","v":"-"},{"$f":"+IFERROR(AVERAGEIFS('Resumen de indicadores FR'!AA5:AA6,'Resumen de indicadores FR'!AA5:AA6,\">=0\"),\"-\")","v":"-"},{"$f":"+IFERROR(AVERAGEIFS('Resumen de indicadores FR'!AB5:AB6,'Resumen de indicadores FR'!AB5:AB6,\">=0\"),\"-\")","v":"-"},{"$f":"+IFERROR(AVERAGEIFS('Resumen de indicadores FR'!AC5:AC6,'Resumen de indicadores FR'!AC5:AC6,\">=0\"),\"-\")","v":"-"},{"$f":"+IFERROR(AVERAGEIFS('Resumen de indicadores FR'!AD5:AD6,'Resumen de indicadores FR'!AD5:AD6,\">=0\"),\"-\")","v":"-"},{"$f":"+IFERROR(AVERAGEIFS('Resumen de indicadores FR'!AE5:AE6,'Resumen de indicadores FR'!AE5:AE6,\">=0\"),\"-\")","v":"-"},{"$f":"+IFERROR(AVERAGEIFS('Resumen de indicadores FR'!AF5:AF6,'Resumen de indicadores FR'!AF5:AF6,\">=0\"),\"-\")","v":"-"},{"$f":"+IFERROR(AVERAGEIFS('Resumen de indicadores FR'!AG5:AG6,'Resumen de indicadores FR'!AG5:AG6,\">=0\"),\"-\")","v":"-"},{"$f":"+IFERROR(AVERAGEIFS('Resumen de indicadores FR'!AH5:AH6,'Resumen de indicadores FR'!AH5:AH6,\">=0\"),\"-\")","v":"-"},{"$f":"+IFERROR(AVERAGEIFS('Resumen de indicadores FR'!AI5:AI6,'Resumen de indicadores FR'!AI5:AI6,\">=0\"),\"-\")","v":"-"},{"$f":"+IFERROR(AVERAGEIFS('Resumen de indicadores FR'!AJ5:AJ6,'Resumen de indicadores FR'!AJ5:AJ6,\">=0\"),\"-\")","v":"-"},{"$f":"+IFERROR(AVERAGEIFS('Resumen de indicadores FR'!AK5:AK6,'Resumen de indicadores FR'!AK5:AK6,\">=0\"),\"-\")","v":"-"},{"$f":"+IFERROR(AVERAGEIFS('Resumen de indicadores FR'!AL5:AL6,'Resumen de indicadores FR'!AL5:AL6,\">=0\"),\"-\")","v":"-"},{"$f":"+IFERROR(AVERAGEIFS('Resumen de indicadores FR'!AM5:AM6,'Resumen de indicadores FR'!AM5:AM6,\">=0\"),\"-\")","v":"-"},{"$f":"+IFERROR(AVERAGEIFS('Resumen de indicadores FR'!AN5:AN6,'Resumen de indicadores FR'!AN5:AN6,\">=0\"),\"-\")","v":"-"},{"$f":"+IFERROR(AVERAGEIFS('Resumen de indicadores FR'!AO5:AO6,'Resumen de indicadores FR'!AO5:AO6,\">=0\"),\"-\")","v":"-"},{"$f":"+IFERROR(AVERAGEIFS('Resumen de indicadores FR'!AP5:AP6,'Resumen de indicadores FR'!AP5:AP6,\">=0\"),\"-\")","v":"-"},{"$f":"+IFERROR(AVERAGEIFS('Resumen de indicadores FR'!AQ5:AQ6,'Resumen de indicadores FR'!AQ5:AQ6,\">=0\"),\"-\")","v":"-"},{"$f":"+IFERROR(AVERAGEIFS('Resumen de indicadores FR'!AR5:AR6,'Resumen de indicadores FR'!AR5:AR6,\">=0\"),\"-\")","v":"-"},{"$f":"+IFERROR(AVERAGEIFS('Resumen de indicadores FR'!AS5:AS6,'Resumen de indicadores FR'!AS5:AS6,\">=0\"),\"-\")","v":"-"},{"$f":"+IFERROR(AVERAGEIFS('Resumen de indicadores FR'!AT5:AT6,'Resumen de indicadores FR'!AT5:AT6,\">=0\"),\"-\")","v":"-"},{"$f":"+IFERROR(AVERAGEIFS('Resumen de indicadores FR'!AU5:AU6,'Resumen de indicadores FR'!AU5:AU6,\">=0\"),\"-\")","v":"-"},{"$f":"+IFERROR(AVERAGEIFS('Resumen de indicadores FR'!AV5:AV6,'Resumen de indicadores FR'!AV5:AV6,\">=0\"),\"-\")","v":"-"},{"$f":"+IFERROR(AVERAGEIFS('Resumen de indicadores FR'!AW5:AW6,'Resumen de indicadores FR'!AW5:AW6,\">=0\"),\"-\")","v":"-"},{"$f":"+IFERROR(AVERAGEIFS('Resumen de indicadores FR'!AX5:AX6,'Resumen de indicadores FR'!AX5:AX6,\">=0\"),\"-\")","v":"-"},{"$f":"+IFERROR(AVERAGEIFS('Resumen de indicadores FR'!AY5:AY6,'Resumen de indicadores FR'!AY5:AY6,\">=0\"),\"-\")","v":"-"},{"$f":"+IFERROR(AVERAGEIFS('Resumen de indicadores FR'!AZ5:AZ6,'Resumen de indicadores FR'!AZ5:AZ6,\">=0\"),\"-\")","v":"-"},{"$f":"+IFERROR(AVERAGEIFS('Resumen de indicadores FR'!BA5:BA6,'Resumen de indicadores FR'!BA5:BA6,\">=0\"),\"-\")","v":"-"},{"$f":"+IFERROR(AVERAGEIFS('Resumen de indicadores FR'!BB5:BB6,'Resumen de indicadores FR'!BB5:BB6,\">=0\"),\"-\")","v":"-"},{"$f":"+IFERROR(AVERAGEIFS('Resumen de indicadores FR'!BC5:BC6,'Resumen de indicadores FR'!BC5:BC6,\">=0\"),\"-\")","v":"-"},{"$f":"+IFERROR(AVERAGEIFS('Resumen de indicadores FR'!BD5:BD6,'Resumen de indicadores FR'!BD5:BD6,\">=0\"),\"-\")","v":"-"},{"$f":"+IFERROR(AVERAGEIFS('Resumen de indicadores FR'!BE5:BE6,'Resumen de indicadores FR'!BE5:BE6,\">=0\"),\"-\")","v":"-"}]
[null,"FR","Dificultades en el desarrollo emocional","-",null,{"$f":"+IFERROR(AVERAGEIFS('Resumen de indicadores FR'!H7:H10,'Resumen de indicadores FR'!H7:H10,\">=0\"),\"-\")","v":"-"},{"$f":"+IFERROR(AVERAGEIFS('Resumen de indicadores FR'!I7:I10,'Resumen de indicadores FR'!I7:I10,\">=0\"),\"-\")","v":"-"},{"$f":"+IFERROR(AVERAGEIFS('Resumen de indicadores FR'!J7:J10,'Resumen de indicadores FR'!J7:J10,\">=0\"),\"-\")","v":"-"},{"$f":"+IFERROR(AVERAGEIFS('Resumen de indicadores FR'!K7:K10,'Resumen de indicadores FR'!K7:K10,\">=0\"),\"-\")","v":"-"},{"$f":"+IFERROR(AVERAGEIFS('Resumen de indicadores FR'!L7:L10,'Resumen de indicadores FR'!L7:L10,\">=0\"),\"-\")","v":"-"},{"$f":"+IFERROR(AVERAGEIFS('Resumen de indicadores FR'!M7:M10,'Resumen de indicadores FR'!M7:M10,\">=0\"),\"-\")","v":"-"},{"$f":"+IFERROR(AVERAGEIFS('Resumen de indicadores FR'!N7:N10,'Resumen de indicadores FR'!N7:N10,\">=0\"),\"-\")","v":"-"},{"$f":"+IFERROR(AVERAGEIFS('Resumen de indicadores FR'!O7:O10,'Resumen de indicadores FR'!O7:O10,\">=0\"),\"-\")","v":"-"},{"$f":"+IFERROR(AVERAGEIFS('Resumen de indicadores FR'!P7:P10,'Resumen de indicadores FR'!P7:P10,\">=0\"),\"-\")","v":"-"},{"$f":"+IFERROR(AVERAGEIFS('Resumen de indicadores FR'!Q7:Q10,'Resumen de indicadores FR'!Q7:Q10,\">=0\"),\"-\")","v":"-"},{"$f":"+IFERROR(AVERAGEIFS('Resumen de indicadores FR'!R7:R10,'Resumen de indicadores FR'!R7:R10,\">=0\"),\"-\")","v":"-"},{"$f":"+IFERROR(AVERAGEIFS('Resumen de indicadores FR'!S7:S10,'Resumen de indicadores FR'!S7:S10,\">=0\"),\"-\")","v":"-"},{"$f":"+IFERROR(AVERAGEIFS('Resumen de indicadores FR'!T7:T10,'Resumen de indicadores FR'!T7:T10,\">=0\"),\"-\")","v":"-"},{"$f":"+IFERROR(AVERAGEIFS('Resumen de indicadores FR'!U7:U10,'Resumen de indicadores FR'!U7:U10,\">=0\"),\"-\")","v":"-"},{"$f":"+IFERROR(AVERAGEIFS('Resumen de indicadores FR'!V7:V10,'Resumen de indicadores FR'!V7:V10,\">=0\"),\"-\")","v":"-"},{"$f":"+IFERROR(AVERAGEIFS('Resumen de indicadores FR'!W7:W10,'Resumen de indicadores FR'!W7:W10,\">=0\"),\"-\")","v":"-"},{"$f":"+IFERROR(AVERAGEIFS('Resumen de indicadores FR'!X7:X10,'Resumen de indicadores FR'!X7:X10,\">=0\"),\"-\")","v":"-"},{"$f":"+IFERROR(AVERAGEIFS('Resumen de indicadores FR'!Y7:Y10,'Resumen de indicadores FR'!Y7:Y10,\">=0\"),\"-\")","v":"-"},{"$f":"+IFERROR(AVERAGEIFS('Resumen de indicadores FR'!Z7:Z10,'Resumen de indicadores FR'!Z7:Z10,\">=0\"),\"-\")","v":"-"},{"$f":"+IFERROR(AVERAGEIFS('Resumen de indicadores FR'!AA7:AA10,'Resumen de indicadores FR'!AA7:AA10,\">=0\"),\"-\")","v":"-"},{"$f":"+IFERROR(AVERAGEIFS('Resumen de indicadores FR'!AB7:AB10,'Resumen de indicadores FR'!AB7:AB10,\">=0\"),\"-\")","v":"-"},{"$f":"+IFERROR(AVERAGEIFS('Resumen de indicadores FR'!AC7:AC10,'Resumen de indicadores FR'!AC7:AC10,\">=0\"),\"-\")","v":"-"},{"$f":"+IFERROR(AVERAGEIFS('Resumen de indicadores FR'!AD7:AD10,'Resumen de indicadores FR'!AD7:AD10,\">=0\"),\"-\")","v":"-"},{"$f":"+IFERROR(AVERAGEIFS('Resumen de indicadores FR'!AE7:AE10,'Resumen de indicadores FR'!AE7:AE10,\">=0\"),\"-\")","v":"-"},{"$f":"+IFERROR(AVERAGEIFS('Resumen de indicadores FR'!AF7:AF10,'Resumen de indicadores FR'!AF7:AF10,\">=0\"),\"-\")","v":"-"},{"$f":"+IFERROR(AVERAGEIFS('Resumen de indicadores FR'!AG7:AG10,'Resumen de indicadores FR'!AG7:AG10,\">=0\"),\"-\")","v":"-"},{"$f":"+IFERROR(AVERAGEIFS('Resumen de indicadores FR'!AH7:AH10,'Resumen de indicadores FR'!AH7:AH10,\">=0\"),\"-\")","v":"-"},{"$f":"+IFERROR(AVERAGEIFS('Resumen de indicadores FR'!AI7:AI10,'Resumen de indicadores FR'!AI7:AI10,\">=0\"),\"-\")","v":"-"},{"$f":"+IFERROR(AVERAGEIFS('Resumen de indicadores FR'!AJ7:AJ10,'Resumen de indicadores FR'!AJ7:AJ10,\">=0\"),\"-\")","v":"-"},{"$f":"+IFERROR(AVERAGEIFS('Resumen de indicadores FR'!AK7:AK10,'Resumen de indicadores FR'!AK7:AK10,\">=0\"),\"-\")","v":"-"},{"$f":"+IFERROR(AVERAGEIFS('Resumen de indicadores FR'!AL7:AL10,'Resumen de indicadores FR'!AL7:AL10,\">=0\"),\"-\")","v":"-"},{"$f":"+IFERROR(AVERAGEIFS('Resumen de indicadores FR'!AM7:AM10,'Resumen de indicadores FR'!AM7:AM10,\">=0\"),\"-\")","v":"-"},{"$f":"+IFERROR(AVERAGEIFS('Resumen de indicadores FR'!AN7:AN10,'Resumen de indicadores FR'!AN7:AN10,\">=0\"),\"-\")","v":"-"},{"$f":"+IFERROR(AVERAGEIFS('Resumen de indicadores FR'!AO7:AO10,'Resumen de indicadores FR'!AO7:AO10,\">=0\"),\"-\")","v":"-"},{"$f":"+IFERROR(AVERAGEIFS('Resumen de indicadores FR'!AP7:AP10,'Resumen de indicadores FR'!AP7:AP10,\">=0\"),\"-\")","v":"-"},{"$f":"+IFERROR(AVERAGEIFS('Resumen de indicadores FR'!AQ7:AQ10,'Resumen de indicadores FR'!AQ7:AQ10,\">=0\"),\"-\")","v":"-"},{"$f":"+IFERROR(AVERAGEIFS('Resumen de indicadores FR'!AR7:AR10,'Resumen de indicadores FR'!AR7:AR10,\">=0\"),\"-\")","v":"-"},{"$f":"+IFERROR(AVERAGEIFS('Resumen de indicadores FR'!AS7:AS10,'Resumen de indicadores FR'!AS7:AS10,\">=0\"),\"-\")","v":"-"},{"$f":"+IFERROR(AVERAGEIFS('Resumen de indicadores FR'!AT7:AT10,'Resumen de indicadores FR'!AT7:AT10,\">=0\"),\"-\")","v":"-"},{"$f":"+IFERROR(AVERAGEIFS('Resumen de indicadores FR'!AU7:AU10,'Resumen de indicadores FR'!AU7:AU10,\">=0\"),\"-\")","v":"-"},{"$f":"+IFERROR(AVERAGEIFS('Resumen de indicadores FR'!AV7:AV10,'Resumen de indicadores FR'!AV7:AV10,\">=0\"),\"-\")","v":"-"},{"$f":"+IFERROR(AVERAGEIFS('Resumen de indicadores FR'!AW7:AW10,'Resumen de indicadores FR'!AW7:AW10,\">=0\"),\"-\")","v":"-"},{"$f":"+IFERROR(AVERAGEIFS('Resumen de indicadores FR'!AX7:AX10,'Resumen de indicadores FR'!AX7:AX10,\">=0\"),\"-\")","v":"-"},{"$f":"+IFERROR(AVERAGEIFS('Resumen de indicadores FR'!AY7:AY10,'Resumen de indicadores FR'!AY7:AY10,\">=0\"),\"-\")","v":"-"},{"$f":"+IFERROR(AVERAGEIFS('Resumen de indicadores FR'!AZ7:AZ10,'Resumen de indicadores FR'!AZ7:AZ10,\">=0\"),\"-\")","v":"-"},{"$f":"+IFERROR(AVERAGEIFS('Resumen de indicadores FR'!BA7:BA10,'Resumen de indicadores FR'!BA7:BA10,\">=0\"),\"-\")","v":"-"},{"$f":"+IFERROR(AVERAGEIFS('Resumen de indicadores FR'!BB7:BB10,'Resumen de indicadores FR'!BB7:BB10,\">=0\"),\"-\")","v":"-"},{"$f":"+IFERROR(AVERAGEIFS('Resumen de indicadores FR'!BC7:BC10,'Resumen de indicadores FR'!BC7:BC10,\">=0\"),\"-\")","v":"-"},{"$f":"+IFERROR(AVERAGEIFS('Resumen de indicadores FR'!BD7:BD10,'Resumen de indicadores FR'!BD7:BD10,\">=0\"),\"-\")","v":"-"},{"$f":"+IFERROR(AVERAGEIFS('Resumen de indicadores FR'!BE7:BE10,'Resumen de indicadores FR'!BE7:BE10,\">=0\"),\"-\")","v":"-"}]
[null,"FR","Dificultades en el desarrollo social","-",null,{"$f":"+IFERROR(AVERAGEIFS('Resumen de indicadores FR'!H11:H12,'Resumen de indicadores FR'!H11:H12,\">=0\"),\"-\")","v":"-"},{"$f":"+IFERROR(AVERAGEIFS('Resumen de indicadores FR'!I11:I12,'Resumen de indicadores FR'!I11:I12,\">=0\"),\"-\")","v":"-"},{"$f":"+IFERROR(AVERAGEIFS('Resumen de indicadores FR'!J11:J12,'Resumen de indicadores FR'!J11:J12,\">=0\"),\"-\")","v":"-"},{"$f":"+IFERROR(AVERAGEIFS('Resumen de indicadores FR'!K11:K12,'Resumen de indicadores FR'!K11:K12,\">=0\"),\"-\")","v":"-"},{"$f":"+IFERROR(AVERAGEIFS('Resumen de indicadores FR'!L11:L12,'Resumen de indicadores FR'!L11:L12,\">=0\"),\"-\")","v":"-"},{"$f":"+IFERROR(AVERAGEIFS('Resumen de indicadores FR'!M11:M12,'Resumen de indicadores FR'!M11:M12,\">=0\"),\"-\")","v":"-"},{"$f":"+IFERROR(AVERAGEIFS('Resumen de indicadores FR'!N11:N12,'Resumen de indicadores FR'!N11:N12,\">=0\"),\"-\")","v":"-"},{"$f":"+IFERROR(AVERAGEIFS('Resumen de indicadores FR'!O11:O12,'Resumen de indicadores FR'!O11:O12,\">=0\"),\"-\")","v":"-"},{"$f":"+IFERROR(AVERAGEIFS('Resumen de indicadores FR'!P11:P12,'Resumen de indicadores FR'!P11:P12,\">=0\"),\"-\")","v":"-"},{"$f":"+IFERROR(AVERAGEIFS('Resumen de indicadores FR'!Q11:Q12,'Resumen de indicadores FR'!Q11:Q12,\">=0\"),\"-\")","v":"-"},{"$f":"+IFERROR(AVERAGEIFS('Resumen de indicadores FR'!R11:R12,'Resumen de indicadores FR'!R11:R12,\">=0\"),\"-\")","v":"-"},{"$f":"+IFERROR(AVERAGEIFS('Resumen de indicadores FR'!S11:S12,'Resumen de indicadores FR'!S11:S12,\">=0\"),\"-\")","v":"-"},{"$f":"+IFERROR(AVERAGEIFS('Resumen de indicadores FR'!T11:T12,'Resumen de indicadores FR'!T11:T12,\">=0\"),\"-\")","v":"-"},{"$f":"+IFERROR(AVERAGEIFS('Resumen de indicadores FR'!U11:U12,'Resumen de indicadores FR'!U11:U12,\">=0\"),\"-\")","v":"-"},{"$f":"+IFERROR(AVERAGEIFS('Resumen de indicadores FR'!V11:V12,'Resumen de indicadores FR'!V11:V12,\">=0\"),\"-\")","v":"-"},{"$f":"+IFERROR(AVERAGEIFS('Resumen de indicadores FR'!W11:W12,'Resumen de indicadores FR'!W11:W12,\">=0\"),\"-\")","v":"-"},{"$f":"+IFERROR(AVERAGEIFS('Resumen de indicadores FR'!X11:X12,'Resumen de indicadores FR'!X11:X12,\">=0\"),\"-\")","v":"-"},{"$f":"+IFERROR(AVERAGEIFS('Resumen de indicadores FR'!Y11:Y12,'Resumen de indicadores FR'!Y11:Y12,\">=0\"),\"-\")","v":"-"},{"$f":"+IFERROR(AVERAGEIFS('Resumen de indicadores FR'!Z11:Z12,'Resumen de indicadores FR'!Z11:Z12,\">=0\"),\"-\")","v":"-"},{"$f":"+IFERROR(AVERAGEIFS('Resumen de indicadores FR'!AA11:AA12,'Resumen de indicadores FR'!AA11:AA12,\">=0\"),\"-\")","v":"-"},{"$f":"+IFERROR(AVERAGEIFS('Resumen de indicadores FR'!AB11:AB12,'Resumen de indicadores FR'!AB11:AB12,\">=0\"),\"-\")","v":"-"},{"$f":"+IFERROR(AVERAGEIFS('Resumen de indicadores FR'!AC11:AC12,'Resumen de indicadores FR'!AC11:AC12,\">=0\"),\"-\")","v":"-"},{"$f":"+IFERROR(AVERAGEIFS('Resumen de indicadores FR'!AD11:AD12,'Resumen de indicadores FR'!AD11:AD12,\">=0\"),\"-\")","v":"-"},{"$f":"+IFERROR(AVERAGEIFS('Resumen de indicadores FR'!AE11:AE12,'Resumen de indicadores FR'!AE11:AE12,\">=0\"),\"-\")","v":"-"},{"$f":"+IFERROR(AVERAGEIFS('Resumen de indicadores FR'!AF11:AF12,'Resumen de indicadores FR'!AF11:AF12,\">=0\"),\"-\")","v":"-"},{"$f":"+IFERROR(AVERAGEIFS('Resumen de indicadores FR'!AG11:AG12,'Resumen de indicadores FR'!AG11:AG12,\">=0\"),\"-\")","v":"-"},{"$f":"+IFERROR(AVERAGEIFS('Resumen de indicadores FR'!AH11:AH12,'Resumen de indicadores FR'!AH11:AH12,\">=0\"),\"-\")","v":"-"},{"$f":"+IFERROR(AVERAGEIFS('Resumen de indicadores FR'!AI11:AI12,'Resumen de indicadores FR'!AI11:AI12,\">=0\"),\"-\")","v":"-"},{"$f":"+IFERROR(AVERAGEIFS('Resumen de indicadores FR'!AJ11:AJ12,'Resumen de indicadores FR'!AJ11:AJ12,\">=0\"),\"-\")","v":"-"},{"$f":"+IFERROR(AVERAGEIFS('Resumen de indicadores FR'!AK11:AK12,'Resumen de indicadores FR'!AK11:AK12,\">=0\"),\"-\")","v":"-"},{"$f":"+IFERROR(AVERAGEIFS('Resumen de indicadores FR'!AL11:AL12,'Resumen de indicadores FR'!AL11:AL12,\">=0\"),\"-\")","v":"-"},{"$f":"+IFERROR(AVERAGEIFS('Resumen de indicadores FR'!AM11:AM12,'Resumen de indicadores FR'!AM11:AM12,\">=0\"),\"-\")","v":"-"},{"$f":"+IFERROR(AVERAGEIFS('Resumen de indicadores FR'!AN11:AN12,'Resumen de indicadores FR'!AN11:AN12,\">=0\"),\"-\")","v":"-"},{"$f":"+IFERROR(AVERAGEIFS('Resumen de indicadores FR'!AO11:AO12,'Resumen de indicadores FR'!AO11:AO12,\">=0\"),\"-\")","v":"-"},{"$f":"+IFERROR(AVERAGEIFS('Resumen de indicadores FR'!AP11:AP12,'Resumen de indicadores FR'!AP11:AP12,\">=0\"),\"-\")","v":"-"},{"$f":"+IFERROR(AVERAGEIFS('Resumen de indicadores FR'!AQ11:AQ12,'Resumen de indicadores FR'!AQ11:AQ12,\">=0\"),\"-\")","v":"-"},{"$f":"+IFERROR(AVERAGEIFS('Resumen de indicadores FR'!AR11:AR12,'Resumen de indicadores FR'!AR11:AR12,\">=0\"),\"-\")","v":"-"},{"$f":"+IFERROR(AVERAGEIFS('Resumen de indicadores FR'!AS11:AS12,'Resumen de indicadores FR'!AS11:AS12,\">=0\"),\"-\")","v":"-"},{"$f":"+IFERROR(AVERAGEIFS('Resumen de indicadores FR'!AT11:AT12,'Resumen de indicadores FR'!AT11:AT12,\">=0\"),\"-\")","v":"-"},{"$f":"+IFERROR(AVERAGEIFS('Resumen de indicadores FR'!AU11:AU12,'Resumen de indicadores FR'!AU11:AU12,\">=0\"),\"-\")","v":"-"},{"$f":"+IFERROR(AVERAGEIFS('Resumen de indicadores FR'!AV11:AV12,'Resumen de indicadores FR'!AV11:AV12,\">=0\"),\"-\")","v":"-"},{"$f":"+IFERROR(AVERAGEIFS('Resumen de indicadores FR'!AW11:AW12,'Resumen de indicadores FR'!AW11:AW12,\">=0\"),\"-\")","v":"-"},{"$f":"+IFERROR(AVERAGEIFS('Resumen de indicadores FR'!AX11:AX12,'Resumen de indicadores FR'!AX11:AX12,\">=0\"),\"-\")","v":"-"},{"$f":"+IFERROR(AVERAGEIFS('Resumen de indicadores FR'!AY11:AY12,'Resumen de indicadores FR'!AY11:AY12,\">=0\"),\"-\")","v":"-"},{"$f":"+IFERROR(AVERAGEIFS('Resumen de indicadores FR'!AZ11:AZ12,'Resumen de indicadores FR'!AZ11:AZ12,\">=0\"),\"-\")","v":"-"},{"$f":"+IFERROR(AVERAGEIFS('Resumen de indicadores FR'!BA11:BA12,'Resumen de indicadores FR'!BA11:BA12,\">=0\"),\"-\")","v":"-"},{"$f":"+IFERROR(AVERAGEIFS('Resumen de indicadores FR'!BB11:BB12,'Resumen de indicadores FR'!BB11:BB12,\">=0\"),\"-\")","v":"-"},{"$f":"+IFERROR(AVERAGEIFS('Resumen de indicadores FR'!BC11:BC12,'Resumen de indicadores FR'!BC11:BC12,\">=0\"),\"-\")","v":"-"},{"$f":"+IFERROR(AVERAGEIFS('Resumen de indicadores FR'!BD11:BD12,'Resumen de indicadores FR'!BD11:BD12,\">=0\"),\"-\")","v":"-"},{"$f":"+IFERROR(AVERAGEIFS('Resumen de indicadores FR'!BE11:BE12,'Resumen de indicadores FR'!BE11:BE12,\">=0\"),\"-\")","v":"-"}]
[null,"FR","Dificultades en el desarrollo físico","-",null,{"$f":"+IFERROR(AVERAGEIFS('Resumen de indicadores FR'!H13:H14,'Resumen de indicadores FR'!H13:H14,\">=0\"),\"-\")","v":"-"},{"$f":"+IFERROR(AVERAGEIFS('Resumen de indicadores FR'!I13:I14,'Resumen de indicadores FR'!I13:I14,\">=0\"),\"-\")","v":"-"},{"$f":"+IFERROR(AVERAGEIFS('Resumen de indicadores FR'!J13:J14,'Resumen de indicadores FR'!J13:J14,\">=0\"),\"-\")","v":"-"},{"$f":"+IFERROR(AVERAGEIFS('Resumen de indicadores FR'!K13:K14,'Resumen de indicadores FR'!K13:K14,\">=0\"),\"-\")","v":"-"},{"$f":"+IFERROR(AVERAGEIFS('Resumen de indicadores FR'!L13:L14,'Resumen de indicadores FR'!L13:L14,\">=0\"),\"-\")","v":"-"},{"$f":"+IFERROR(AVERAGEIFS('Resumen de indicadores FR'!M13:M14,'Resumen de indicadores FR'!M13:M14,\">=0\"),\"-\")","v":"-"},{"$f":"+IFERROR(AVERAGEIFS('Resumen de indicadores FR'!N13:N14,'Resumen de indicadores FR'!N13:N14,\">=0\"),\"-\")","v":"-"},{"$f":"+IFERROR(AVERAGEIFS('Resumen de indicadores FR'!O13:O14,'Resumen de indicadores FR'!O13:O14,\">=0\"),\"-\")","v":"-"},{"$f":"+IFERROR(AVERAGEIFS('Resumen de indicadores FR'!P13:P14,'Resumen de indicadores FR'!P13:P14,\">=0\"),\"-\")","v":"-"},{"$f":"+IFERROR(AVERAGEIFS('Resumen de indicadores FR'!Q13:Q14,'Resumen de indicadores FR'!Q13:Q14,\">=0\"),\"-\")","v":"-"},{"$f":"+IFERROR(AVERAGEIFS('Resumen de indicadores FR'!R13:R14,'Resumen de indicadores FR'!R13:R14,\">=0\"),\"-\")","v":"-"},{"$f":"+IFERROR(AVERAGEIFS('Resumen de indicadores FR'!S13:S14,'Resumen de indicadores FR'!S13:S14,\">=0\"),\"-\")","v":"-"},{"$f":"+IFERROR(AVERAGEIFS('Resumen de indicadores FR'!T13:T14,'Resumen de indicadores FR'!T13:T14,\">=0\"),\"-\")","v":"-"},{"$f":"+IFERROR(AVERAGEIFS('Resumen de indicadores FR'!U13:U14,'Resumen de indicadores FR'!U13:U14,\">=0\"),\"-\")","v":"-"},{"$f":"+IFERROR(AVERAGEIFS('Resumen de indicadores FR'!V13:V14,'Resumen de indicadores FR'!V13:V14,\">=0\"),\"-\")","v":"-"},{"$f":"+IFERROR(AVERAGEIFS('Resumen de indicadores FR'!W13:W14,'Resumen de indicadores FR'!W13:W14,\">=0\"),\"-\")","v":"-"},{"$f":"+IFERROR(AVERAGEIFS('Resumen de indicadores FR'!X13:X14,'Resumen de indicadores FR'!X13:X14,\">=0\"),\"-\")","v":"-"},{"$f":"+IFERROR(AVERAGEIFS('Resumen de indicadores FR'!Y13:Y14,'Resumen de indicadores FR'!Y13:Y14,\">=0\"),\"-\")","v":"-"},{"$f":"+IFERROR(AVERAGEIFS('Resumen de indicadores FR'!Z13:Z14,'Resumen de indicadores FR'!Z13:Z14,\">=0\"),\"-\")","v":"-"},{"$f":"+IFERROR(AVERAGEIFS('Resumen de indicadores FR'!AA13:AA14,'Resumen de indicadores FR'!AA13:AA14,\">=0\"),\"-\")","v":"-"},{"$f":"+IFERROR(AVERAGEIFS('Resumen de indicadores FR'!AB13:AB14,'Resumen de indicadores FR'!AB13:AB14,\">=0\"),\"-\")","v":"-"},{"$f":"+IFERROR(AVERAGEIFS('Resumen de indicadores FR'!AC13:AC14,'Resumen de indicadores FR'!AC13:AC14,\">=0\"),\"-\")","v":"-"},{"$f":"+IFERROR(AVERAGEIFS('Resumen de indicadores FR'!AD13:AD14,'Resumen de indicadores FR'!AD13:AD14,\">=0\"),\"-\")","v":"-"},{"$f":"+IFERROR(AVERAGEIFS('Resumen de indicadores FR'!AE13:AE14,'Resumen de indicadores FR'!AE13:AE14,\">=0\"),\"-\")","v":"-"},{"$f":"+IFERROR(AVERAGEIFS('Resumen de indicadores FR'!AF13:AF14,'Resumen de indicadores FR'!AF13:AF14,\">=0\"),\"-\")","v":"-"},{"$f":"+IFERROR(AVERAGEIFS('Resumen de indicadores FR'!AG13:AG14,'Resumen de indicadores FR'!AG13:AG14,\">=0\"),\"-\")","v":"-"},{"$f":"+IFERROR(AVERAGEIFS('Resumen de indicadores FR'!AH13:AH14,'Resumen de indicadores FR'!AH13:AH14,\">=0\"),\"-\")","v":"-"},{"$f":"+IFERROR(AVERAGEIFS('Resumen de indicadores FR'!AI13:AI14,'Resumen de indicadores FR'!AI13:AI14,\">=0\"),\"-\")","v":"-"},{"$f":"+IFERROR(AVERAGEIFS('Resumen de indicadores FR'!AJ13:AJ14,'Resumen de indicadores FR'!AJ13:AJ14,\">=0\"),\"-\")","v":"-"},{"$f":"+IFERROR(AVERAGEIFS('Resumen de indicadores FR'!AK13:AK14,'Resumen de indicadores FR'!AK13:AK14,\">=0\"),\"-\")","v":"-"},{"$f":"+IFERROR(AVERAGEIFS('Resumen de indicadores FR'!AL13:AL14,'Resumen de indicadores FR'!AL13:AL14,\">=0\"),\"-\")","v":"-"},{"$f":"+IFERROR(AVERAGEIFS('Resumen de indicadores FR'!AM13:AM14,'Resumen de indicadores FR'!AM13:AM14,\">=0\"),\"-\")","v":"-"},{"$f":"+IFERROR(AVERAGEIFS('Resumen de indicadores FR'!AN13:AN14,'Resumen de indicadores FR'!AN13:AN14,\">=0\"),\"-\")","v":"-"},{"$f":"+IFERROR(AVERAGEIFS('Resumen de indicadores FR'!AO13:AO14,'Resumen de indicadores FR'!AO13:AO14,\">=0\"),\"-\")","v":"-"},{"$f":"+IFERROR(AVERAGEIFS('Resumen de indicadores FR'!AP13:AP14,'Resumen de indicadores FR'!AP13:AP14,\">=0\"),\"-\")","v":"-"},{"$f":"+IFERROR(AVERAGEIFS('Resumen de indicadores FR'!AQ13:AQ14,'Resumen de indicadores FR'!AQ13:AQ14,\">=0\"),\"-\")","v":"-"},{"$f":"+IFERROR(AVERAGEIFS('Resumen de indicadores FR'!AR13:AR14,'Resumen de indicadores FR'!AR13:AR14,\">=0\"),\"-\")","v":"-"},{"$f":"+IFERROR(AVERAGEIFS('Resumen de indicadores FR'!AS13:AS14,'Resumen de indicadores FR'!AS13:AS14,\">=0\"),\"-\")","v":"-"},{"$f":"+IFERROR(AVERAGEIFS('Resumen de indicadores FR'!AT13:AT14,'Resumen de indicadores FR'!AT13:AT14,\">=0\"),\"-\")","v":"-"},{"$f":"+IFERROR(AVERAGEIFS('Resumen de indicadores FR'!AU13:AU14,'Resumen de indicadores FR'!AU13:AU14,\">=0\"),\"-\")","v":"-"},{"$f":"+IFERROR(AVERAGEIFS('Resumen de indicadores FR'!AV13:AV14,'Resumen de indicadores FR'!AV13:AV14,\">=0\"),\"-\")","v":"-"},{"$f":"+IFERROR(AVERAGEIFS('Resumen de indicadores FR'!AW13:AW14,'Resumen de indicadores FR'!AW13:AW14,\">=0\"),\"-\")","v":"-"},{"$f":"+IFERROR(AVERAGEIFS('Resumen de indicadores FR'!AX13:AX14,'Resumen de indicadores FR'!AX13:AX14,\">=0\"),\"-\")","v":"-"},{"$f":"+IFERROR(AVERAGEIFS('Resumen de indicadores FR'!AY13:AY14,'Resumen de indicadores FR'!AY13:AY14,\">=0\"),\"-\")","v":"-"},{"$f":"+IFERROR(AVERAGEIFS('Resumen de indicadores FR'!AZ13:AZ14,'Resumen de indicadores FR'!AZ13:AZ14,\">=0\"),\"-\")","v":"-"},{"$f":"+IFERROR(AVERAGEIFS('Resumen de indicadores FR'!BA13:BA14,'Resumen de indicadores FR'!BA13:BA14,\">=0\"),\"-\")","v":"-"},{"$f":"+IFERROR(AVERAGEIFS('Resumen de indicadores FR'!BB13:BB14,'Resumen de indicadores FR'!BB13:BB14,\">=0\"),\"-\")","v":"-"},{"$f":"+IFERROR(AVERAGEIFS('Resumen de indicadores FR'!BC13:BC14,'Resumen de indicadores FR'!BC13:BC14,\">=0\"),\"-\")","v":"-"},{"$f":"+IFERROR(AVERAGEIFS('Resumen de indicadores FR'!BD13:BD14,'Resumen de indicadores FR'!BD13:BD14,\">=0\"),\"-\")","v":"-"},{"$f":"+IFERROR(AVERAGEIFS('Resumen de indicadores FR'!BE13:BE14,'Resumen de indicadores FR'!BE13:BE14,\">=0\"),\"-\")","v":"-"}]
[null,"FR","Violencia familiar, violencia sexual y negligencia","-",null,{"$f":"+IFERROR(AVERAGEIFS('Resumen de indicadores FR'!H15:H19,'Resumen de indicadores FR'!H15:H19,\">=0\"),\"-\")","v":"-"},{"$f":"+IFERROR(AVERAGEIFS('Resumen de indicadores FR'!I15:I19,'Resumen de indicadores FR'!I15:I19,\">=0\"),\"-\")","v":"-"},{"$f":"+IFERROR(AVERAGEIFS('Resumen de indicadores FR'!J15:J19,'Resumen de indicadores FR'!J15:J19,\">=0\"),\"-\")","v":"-"},{"$f":"+IFERROR(AVERAGEIFS('Resumen de indicadores FR'!K15:K19,'Resumen de indicadores FR'!K15:K19,\">=0\"),\"-\")","v":"-"},{"$f":"+IFERROR(AVERAGEIFS('Resumen de indicadores FR'!L15:L19,'Resumen de indicadores FR'!L15:L19,\">=0\"),\"-\")","v":"-"},{"$f":"+IFERROR(AVERAGEIFS('Resumen de indicadores FR'!M15:M19,'Resumen de indicadores FR'!M15:M19,\">=0\"),\"-\")","v":"-"},{"$f":"+IFERROR(AVERAGEIFS('Resumen de indicadores FR'!N15:N19,'Resumen de indicadores FR'!N15:N19,\">=0\"),\"-\")","v":"-"},{"$f":"+IFERROR(AVERAGEIFS('Resumen de indicadores FR'!O15:O19,'Resumen de indicadores FR'!O15:O19,\">=0\"),\"-\")","v":"-"},{"$f":"+IFERROR(AVERAGEIFS('Resumen de indicadores FR'!P15:P19,'Resumen de indicadores FR'!P15:P19,\">=0\"),\"-\")","v":"-"},{"$f":"+IFERROR(AVERAGEIFS('Resumen de indicadores FR'!Q15:Q19,'Resumen de indicadores FR'!Q15:Q19,\">=0\"),\"-\")","v":"-"},{"$f":"+IFERROR(AVERAGEIFS('Resumen de indicadores FR'!R15:R19,'Resumen de indicadores FR'!R15:R19,\">=0\"),\"-\")","v":"-"},{"$f":"+IFERROR(AVERAGEIFS('Resumen de indicadores FR'!S15:S19,'Resumen de indicadores FR'!S15:S19,\">=0\"),\"-\")","v":"-"},{"$f":"+IFERROR(AVERAGEIFS('Resumen de indicadores FR'!T15:T19,'Resumen de indicadores FR'!T15:T19,\">=0\"),\"-\")","v":"-"},{"$f":"+IFERROR(AVERAGEIFS('Resumen de indicadores FR'!U15:U19,'Resumen de indicadores FR'!U15:U19,\">=0\"),\"-\")","v":"-"},{"$f":"+IFERROR(AVERAGEIFS('Resumen de indicadores FR'!V15:V19,'Resumen de indicadores FR'!V15:V19,\">=0\"),\"-\")","v":"-"},{"$f":"+IFERROR(AVERAGEIFS('Resumen de indicadores FR'!W15:W19,'Resumen de indicadores FR'!W15:W19,\">=0\"),\"-\")","v":"-"},{"$f":"+IFERROR(AVERAGEIFS('Resumen de indicadores FR'!X15:X19,'Resumen de indicadores FR'!X15:X19,\">=0\"),\"-\")","v":"-"},{"$f":"+IFERROR(AVERAGEIFS('Resumen de indicadores FR'!Y15:Y19,'Resumen de indicadores FR'!Y15:Y19,\">=0\"),\"-\")","v":"-"},{"$f":"+IFERROR(AVERAGEIFS('Resumen de indicadores FR'!Z15:Z19,'Resumen de indicadores FR'!Z15:Z19,\">=0\"),\"-\")","v":"-"},{"$f":"+IFERROR(AVERAGEIFS('Resumen de indicadores FR'!AA15:AA19,'Resumen de indicadores FR'!AA15:AA19,\">=0\"),\"-\")","v":"-"},{"$f":"+IFERROR(AVERAGEIFS('Resumen de indicadores FR'!AB15:AB19,'Resumen de indicadores FR'!AB15:AB19,\">=0\"),\"-\")","v":"-"},{"$f":"+IFERROR(AVERAGEIFS('Resumen de indicadores FR'!AC15:AC19,'Resumen de indicadores FR'!AC15:AC19,\">=0\"),\"-\")","v":"-"},{"$f":"+IFERROR(AVERAGEIFS('Resumen de indicadores FR'!AD15:AD19,'Resumen de indicadores FR'!AD15:AD19,\">=0\"),\"-\")","v":"-"},{"$f":"+IFERROR(AVERAGEIFS('Resumen de indicadores FR'!AE15:AE19,'Resumen de indicadores FR'!AE15:AE19,\">=0\"),\"-\")","v":"-"},{"$f":"+IFERROR(AVERAGEIFS('Resumen de indicadores FR'!AF15:AF19,'Resumen de indicadores FR'!AF15:AF19,\">=0\"),\"-\")","v":"-"},{"$f":"+IFERROR(AVERAGEIFS('Resumen de indicadores FR'!AG15:AG19,'Resumen de indicadores FR'!AG15:AG19,\">=0\"),\"-\")","v":"-"},{"$f":"+IFERROR(AVERAGEIFS('Resumen de indicadores FR'!AH15:AH19,'Resumen de indicadores FR'!AH15:AH19,\">=0\"),\"-\")","v":"-"},{"$f":"+IFERROR(AVERAGEIFS('Resumen de indicadores FR'!AI15:AI19,'Resumen de indicadores FR'!AI15:AI19,\">=0\"),\"-\")","v":"-"},{"$f":"+IFERROR(AVERAGEIFS('Resumen de indicadores FR'!AJ15:AJ19,'Resumen de indicadores FR'!AJ15:AJ19,\">=0\"),\"-\")","v":"-"},{"$f":"+IFERROR(AVERAGEIFS('Resumen de indicadores FR'!AK15:AK19,'Resumen de indicadores FR'!AK15:AK19,\">=0\"),\"-\")","v":"-"},{"$f":"+IFERROR(AVERAGEIFS('Resumen de indicadores FR'!AL15:AL19,'Resumen de indicadores FR'!AL15:AL19,\">=0\"),\"-\")","v":"-"},{"$f":"+IFERROR(AVERAGEIFS('Resumen de indicadores FR'!AM15:AM19,'Resumen de indicadores FR'!AM15:AM19,\">=0\"),\"-\")","v":"-"},{"$f":"+IFERROR(AVERAGEIFS('Resumen de indicadores FR'!AN15:AN19,'Resumen de indicadores FR'!AN15:AN19,\">=0\"),\"-\")","v":"-"},{"$f":"+IFERROR(AVERAGEIFS('Resumen de indicadores FR'!AO15:AO19,'Resumen de indicadores FR'!AO15:AO19,\">=0\"),\"-\")","v":"-"},{"$f":"+IFERROR(AVERAGEIFS('Resumen de indicadores FR'!AP15:AP19,'Resumen de indicadores FR'!AP15:AP19,\">=0\"),\"-\")","v":"-"},{"$f":"+IFERROR(AVERAGEIFS('Resumen de indicadores FR'!AQ15:AQ19,'Resumen de indicadores FR'!AQ15:AQ19,\">=0\"),\"-\")","v":"-"},{"$f":"+IFERROR(AVERAGEIFS('Resumen de indicadores FR'!AR15:AR19,'Resumen de indicadores FR'!AR15:AR19,\">=0\"),\"-\")","v":"-"},{"$f":"+IFERROR(AVERAGEIFS('Resumen de indicadores FR'!AS15:AS19,'Resumen de indicadores FR'!AS15:AS19,\">=0\"),\"-\")","v":"-"},{"$f":"+IFERROR(AVERAGEIFS('Resumen de indicadores FR'!AT15:AT19,'Resumen de indicadores FR'!AT15:AT19,\">=0\"),\"-\")","v":"-"},{"$f":"+IFERROR(AVERAGEIFS('Resumen de indicadores FR'!AU15:AU19,'Resumen de indicadores FR'!AU15:AU19,\">=0\"),\"-\")","v":"-"},{"$f":"+IFERROR(AVERAGEIFS('Resumen de indicadores FR'!AV15:AV19,'Resumen de indicadores FR'!AV15:AV19,\">=0\"),\"-\")","v":"-"},{"$f":"+IFERROR(AVERAGEIFS('Resumen de indicadores FR'!AW15:AW19,'Resumen de indicadores FR'!AW15:AW19,\">=0\"),\"-\")","v":"-"},{"$f":"+IFERROR(AVERAGEIFS('Resumen de indicadores FR'!AX15:AX19,'Resumen de indicadores FR'!AX15:AX19,\">=0\"),\"-\")","v":"-"},{"$f":"+IFERROR(AVERAGEIFS('Resumen de indicadores FR'!AY15:AY19,'Resumen de indicadores FR'!AY15:AY19,\">=0\"),\"-\")","v":"-"},{"$f":"+IFERROR(AVERAGEIFS('Resumen de indicadores FR'!AZ15:AZ19,'Resumen de indicadores FR'!AZ15:AZ19,\">=0\"),\"-\")","v":"-"},{"$f":"+IFERROR(AVERAGEIFS('Resumen de indicadores FR'!BA15:BA19,'Resumen de indicadores FR'!BA15:BA19,\">=0\"),\"-\")","v":"-"},{"$f":"+IFERROR(AVERAGEIFS('Resumen de indicadores FR'!BB15:BB19,'Resumen de indicadores FR'!BB15:BB19,\">=0\"),\"-\")","v":"-"},{"$f":"+IFERROR(AVERAGEIFS('Resumen de indicadores FR'!BC15:BC19,'Resumen de indicadores FR'!BC15:BC19,\">=0\"),\"-\")","v":"-"},{"$f":"+IFERROR(AVERAGEIFS('Resumen de indicadores FR'!BD15:BD19,'Resumen de indicadores FR'!BD15:BD19,\">=0\"),\"-\")","v":"-"},{"$f":"+IFERROR(AVERAGEIFS('Resumen de indicadores FR'!BE15:BE19,'Resumen de indicadores FR'!BE15:BE19,\">=0\"),\"-\")","v":"-"}]
[null,"FR","Ausentismo Escolar ","-",null,{"$f":"+IFERROR(AVERAGEIFS('Resumen de indicadores FR'!H20,'Resumen de indicadores FR'!H20,\">=0\"),\"-\")","v":"-"},{"$f":"+IFERROR(AVERAGEIFS('Resumen de indicadores FR'!I20,'Resumen de indicadores FR'!I20,\">=0\"),\"-\")","v":"-"},{"$f":"+IFERROR(AVERAGEIFS('Resumen de indicadores FR'!J20,'Resumen de indicadores FR'!J20,\">=0\"),\"-\")","v":"-"},{"$f":"+IFERROR(AVERAGEIFS('Resumen de indicadores FR'!K20,'Resumen de indicadores FR'!K20,\">=0\"),\"-\")","v":"-"},{"$f":"+IFERROR(AVERAGEIFS('Resumen de indicadores FR'!L20,'Resumen de indicadores FR'!L20,\">=0\"),\"-\")","v":"-"},{"$f":"+IFERROR(AVERAGEIFS('Resumen de indicadores FR'!M20,'Resumen de indicadores FR'!M20,\">=0\"),\"-\")","v":"-"},{"$f":"+IFERROR(AVERAGEIFS('Resumen de indicadores FR'!N20,'Resumen de indicadores FR'!N20,\">=0\"),\"-\")","v":"-"},{"$f":"+IFERROR(AVERAGEIFS('Resumen de indicadores FR'!O20,'Resumen de indicadores FR'!O20,\">=0\"),\"-\")","v":"-"},{"$f":"+IFERROR(AVERAGEIFS('Resumen de indicadores FR'!P20,'Resumen de indicadores FR'!P20,\">=0\"),\"-\")","v":"-"},{"$f":"+IFERROR(AVERAGEIFS('Resumen de indicadores FR'!Q20,'Resumen de indicadores FR'!Q20,\">=0\"),\"-\")","v":"-"},{"$f":"+IFERROR(AVERAGEIFS('Resumen de indicadores FR'!R20,'Resumen de indicadores FR'!R20,\">=0\"),\"-\")","v":"-"},{"$f":"+IFERROR(AVERAGEIFS('Resumen de indicadores FR'!S20,'Resumen de indicadores FR'!S20,\">=0\"),\"-\")","v":"-"},{"$f":"+IFERROR(AVERAGEIFS('Resumen de indicadores FR'!T20,'Resumen de indicadores FR'!T20,\">=0\"),\"-\")","v":"-"},{"$f":"+IFERROR(AVERAGEIFS('Resumen de indicadores FR'!U20,'Resumen de indicadores FR'!U20,\">=0\"),\"-\")","v":"-"},{"$f":"+IFERROR(AVERAGEIFS('Resumen de indicadores FR'!V20,'Resumen de indicadores FR'!V20,\">=0\"),\"-\")","v":"-"},{"$f":"+IFERROR(AVERAGEIFS('Resumen de indicadores FR'!W20,'Resumen de indicadores FR'!W20,\">=0\"),\"-\")","v":"-"},{"$f":"+IFERROR(AVERAGEIFS('Resumen de indicadores FR'!X20,'Resumen de indicadores FR'!X20,\">=0\"),\"-\")","v":"-"},{"$f":"+IFERROR(AVERAGEIFS('Resumen de indicadores FR'!Y20,'Resumen de indicadores FR'!Y20,\">=0\"),\"-\")","v":"-"},{"$f":"+IFERROR(AVERAGEIFS('Resumen de indicadores FR'!Z20,'Resumen de indicadores FR'!Z20,\">=0\"),\"-\")","v":"-"},{"$f":"+IFERROR(AVERAGEIFS('Resumen de indicadores FR'!AA20,'Resumen de indicadores FR'!AA20,\">=0\"),\"-\")","v":"-"},{"$f":"+IFERROR(AVERAGEIFS('Resumen de indicadores FR'!AB20,'Resumen de indicadores FR'!AB20,\">=0\"),\"-\")","v":"-"},{"$f":"+IFERROR(AVERAGEIFS('Resumen de indicadores FR'!AC20,'Resumen de indicadores FR'!AC20,\">=0\"),\"-\")","v":"-"},{"$f":"+IFERROR(AVERAGEIFS('Resumen de indicadores FR'!AD20,'Resumen de indicadores FR'!AD20,\">=0\"),\"-\")","v":"-"},{"$f":"+IFERROR(AVERAGEIFS('Resumen de indicadores FR'!AE20,'Resumen de indicadores FR'!AE20,\">=0\"),\"-\")","v":"-"},{"$f":"+IFERROR(AVERAGEIFS('Resumen de indicadores FR'!AF20,'Resumen de indicadores FR'!AF20,\">=0\"),\"-\")","v":"-"},{"$f":"+IFERROR(AVERAGEIFS('Resumen de indicadores FR'!AG20,'Resumen de indicadores FR'!AG20,\">=0\"),\"-\")","v":"-"},{"$f":"+IFERROR(AVERAGEIFS('Resumen de indicadores FR'!AH20,'Resumen de indicadores FR'!AH20,\">=0\"),\"-\")","v":"-"},{"$f":"+IFERROR(AVERAGEIFS('Resumen de indicadores FR'!AI20,'Resumen de indicadores FR'!AI20,\">=0\"),\"-\")","v":"-"},{"$f":"+IFERROR(AVERAGEIFS('Resumen de indicadores FR'!AJ20,'Resumen de indicadores FR'!AJ20,\">=0\"),\"-\")","v":"-"},{"$f":"+IFERROR(AVERAGEIFS('Resumen de indicadores FR'!AK20,'Resumen de indicadores FR'!AK20,\">=0\"),\"-\")","v":"-"},{"$f":"+IFERROR(AVERAGEIFS('Resumen de indicadores FR'!AL20,'Resumen de indicadores FR'!AL20,\">=0\"),\"-\")","v":"-"},{"$f":"+IFERROR(AVERAGEIFS('Resumen de indicadores FR'!AM20,'Resumen de indicadores FR'!AM20,\">=0\"),\"-\")","v":"-"},{"$f":"+IFERROR(AVERAGEIFS('Resumen de indicadores FR'!AN20,'Resumen de indicadores FR'!AN20,\">=0\"),\"-\")","v":"-"},{"$f":"+IFERROR(AVERAGEIFS('Resumen de indicadores FR'!AO20,'Resumen de indicadores FR'!AO20,\">=0\"),\"-\")","v":"-"},{"$f":"+IFERROR(AVERAGEIFS('Resumen de indicadores FR'!AP20,'Resumen de indicadores FR'!AP20,\">=0\"),\"-\")","v":"-"},{"$f":"+IFERROR(AVERAGEIFS('Resumen de indicadores FR'!AQ20,'Resumen de indicadores FR'!AQ20,\">=0\"),\"-\")","v":"-"},{"$f":"+IFERROR(AVERAGEIFS('Resumen de indicadores FR'!AR20,'Resumen de indicadores FR'!AR20,\">=0\"),\"-\")","v":"-"},{"$f":"+IFERROR(AVERAGEIFS('Resumen de indicadores FR'!AS20,'Resumen de indicadores FR'!AS20,\">=0\"),\"-\")","v":"-"},{"$f":"+IFERROR(AVERAGEIFS('Resumen de indicadores FR'!AT20,'Resumen de indicadores FR'!AT20,\">=0\"),\"-\")","v":"-"},{"$f":"+IFERROR(AVERAGEIFS('Resumen de indicadores FR'!AU20,'Resumen de indicadores FR'!AU20,\">=0\"),\"-\")","v":"-"},{"$f":"+IFERROR(AVERAGEIFS('Resumen de indicadores FR'!AV20,'Resumen de indicadores FR'!AV20,\">=0\"),\"-\")","v":"-"},{"$f":"+IFERROR(AVERAGEIFS('Resumen de indicadores FR'!AW20,'Resumen de indicadores FR'!AW20,\">=0\"),\"-\")","v":"-"},{"$f":"+IFERROR(AVERAGEIFS('Resumen de indicadores FR'!AX20,'Resumen de indicadores FR'!AX20,\">=0\"),\"-\")","v":"-"},{"$f":"+IFERROR(AVERAGEIFS('Resumen de indicadores FR'!AY20,'Resumen de indicadores FR'!AY20,\">=0\"),\"-\")","v":"-"},{"$f":"+IFERROR(AVERAGEIFS('Resumen de indicadores FR'!AZ20,'Resumen de indicadores FR'!AZ20,\">=0\"),\"-\")","v":"-"},{"$f":"+IFERROR(AVERAGEIFS('Resumen de indicadores FR'!BA20,'Resumen de indicadores FR'!BA20,\">=0\"),\"-\")","v":"-"},{"$f":"+IFERROR(AVERAGEIFS('Resumen de indicadores FR'!BB20,'Resumen de indicadores FR'!BB20,\">=0\"),\"-\")","v":"-"},{"$f":"+IFERROR(AVERAGEIFS('Resumen de indicadores FR'!BC20,'Resumen de indicadores FR'!BC20,\">=0\"),\"-\")","v":"-"},{"$f":"+IFERROR(AVERAGEIFS('Resumen de indicadores FR'!BD20,'Resumen de indicadores FR'!BD20,\">=0\"),\"-\")","v":"-"},{"$f":"+IFERROR(AVERAGEIFS('Resumen de indicadores FR'!BE20,'Resumen de indicadores FR'!BE20,\">=0\"),\"-\")","v":"-"}]
[]
[null,null,null,"Indicadores",null,{"$f":"+F4","v":"Estudiante 1"},"Estudiante 2","Estudiante 3","Estudiante 4","Estudiante 5","Estudiante 6","Estudiante 7","Estudiante 8","Estudiante 9","Estudiante 10","Estudiante 11","Estudiante 12","Estudiante 13","Estudiante 14","Estudiante 15","Estudiante 16","Estudiante 17","Estudiante 18","Estudiante 19","Estudiante 20","Estudiante 21","Estudiante 22","Estudiante 23","Estudiante 24","Estudiante 25","Estudiante 26","Estudiante 27","Estudiante 28","Estudiante 29","Estudiante 30","Estudiante 31","Estudiante 32","Estudiante 33","Estudiante 34","Estudiante 35","Estudiante 36","Estudiante 37","Estudiante 38","Estudiante 39","Estudiante 40","Estudiante 41","Estudiante 42","Estudiante 43","Estudiante 44","Estudiante 45","Estudiante 46","Estudiante 47","Estudiante 48","Estudiante 49","Estudiante 50"]
[null,null,null,"Promedio Escala",null,{"$f":"IFERROR(AVERAGEIFS(F6:F11,F6:F11,\">=0\"),\"-\")","v":0.5},"-","-","-","-","-","-","-","-","-","-","-","-","-","-","-","-","-","-","-","-","-","-","-","-","-","-","-","-","-","-","-","-","-","-","-","-","-","-","-","-","-","-","-","-","-","-","-","-","-"]
[null,null,null,"Alto Riesgo",null,{"$f":"IF(ISNUMBER(F14),COUNTIFS(F6:F11,\">=0.75\",F6:F11,\"<1.01\"),0)","v":0},0,0,0,0,0,0,0,0,0,0,0,0,0,0,0,0,0,0,0,0,0,0,0,0,0,0,0,0,0,0,0,0,0,0,0,0,0,0,0,0,0,0,0,0,0,0,0,0,0]
[null,null,null,"Riesgo Moderado",null,{"$f":"IF(ISNUMBER(F14),COUNTIFS(F6:F11,\">=0.26\",F6:F11,\"<=0.74\"),0)","v":1},0,0,0,0,0,0,0,0,0,0,0,0,0,0,0,0,0,0,0,0,0,0,0,0,0,0,0,0,0,0,0,0,0,0,0,0,0,0,0,0,0,0,0,0,0,0,0,0,0]
[null,null,null,"Bajo Riesgo",null,{"$f":"IF(ISNUMBER(F14),COUNTIFS(F6:F11,\">=0\",F6:F11,\"<=0.25\"),0)","v":0},0,0,0,0,0,0,0,0,0,0,0,0,0,0,0,0,0,0,0,0,0,0,0,0,0,0,0,0,0,0,0,0,0,0,0,0,0,0,0,0,0,0,0,0,0,0,0,0,0]
[null,null,null,"TOTAL",null,{"$f":"+SUM(F15:F17)","v":1},0,0,0,0,0,0,0,0,0,0,0,0,0,0,0,0,0,0,0,0,0,0,0,0,0,0,0,0,0,0,0,0,0,0,0,0,0,0,0,0,0,0,0,0,0,0,0,0,0]

{"sheet":"Resumen de Resultados","index":8,"n_rows":54,"n_cols":12,"rows_kept":54,"cut":false,"hidden":false,"merged":[[1,1,1,5],[1,7,1,11]]}
[]
[null,"Escala HSE",null,null,null,null,null,"Escala FR"]
[null,"Promedio Total",{"$f":"+IFERROR(AVERAGE(C5:C54),\"-\")","v":"-"},{"$f":"+IFERROR(AVERAGEIFS(D5:D54,C5:C54,\">=0\"),\"-\")","v":"-"},{"$f":"+IFERROR(AVERAGEIFS(E5:E54,C5:C54,\">=0\"),\"-\")","v":"-"},{"$f":"+IFERROR(AVERAGEIFS(F5:F54,C5:C54,\">=0\"),\"-\")","v":"-"},null,"Promedio Total",{"$f":"+IFERROR(AVERAGE(I5:I54),\"-\")","v":0.5},{"$f":"+IFERROR(AVERAGEIFS(J5:J54,I5:I54,\">=0\"),\"-\")","v":0},{"$f":"+IFERROR(AVERAGEIFS(K5:K54,I5:I54,\">=0\"),\"-\")","v":1},{"$f":"+IFERROR(AVERAGEIFS(L5:L54,I5:I54,\">=0\"),\"-\")","v":0}]
[null,"Estudiantes","Promedio Puntaje","En inicio","En Proceso","Satisfactorio",null,"Estudiantes","Promedio Puntaje","Bajo Riesgo","Riesgo Moderado","Alto Riesgo"]
[null,{"$f":"+'Resumen de indicadores HSE'!I$4","v":"Estudiante 2"},{"$f":"+HLOOKUP(B5,'Resumen de Escala HSE'!$D$20:$BC$24,2,0)","v":"-"},{"$f":"+HLOOKUP(B5,'Resumen de Escala HSE'!$D$20:$BC$24,3,0)","v":0},{"$f":"+HLOOKUP(B5,'Resumen de Escala HSE'!$D$20:$BC$24,4,0)","v":0},{"$f":"+HLOOKUP(B5,'Resumen de Escala HSE'!$D$20:$BC$24,5,0)","v":0},null,{"$f":"+'Resumen de indicadores FR'!H$4","v":"Estudiante 1"},{"$f":"+HLOOKUP(H5,'Resumen de Escala FR'!$F$13:$BC$17,2,0)","v":0.5},{"$f":"+HLOOKUP(H5,'Resumen de Escala FR'!$F$13:$BC$17,5,0)","v":0},{"$f":"+HLOOKUP(H5,'Resumen de Escala FR'!$F$13:$BC$17,4,0)","v":1},{"$f":"+HLOOKUP(H5,'Resumen de Escala FR'!$F$13:$BC$17,3,0)","v":0}]
[null,{"$f":"+'Resumen de indicadores HSE'!H$4","v":"Estudiante 1"},{"$f":"+HLOOKUP(B6,'Resumen de Escala HSE'!$D$20:$BC$24,2,0)","v":"-"},{"$f":"+HLOOKUP(B6,'Resumen de Escala HSE'!$D$20:$BC$24,3,0)","v":0},{"$f":"+HLOOKUP(B6,'Resumen de Escala HSE'!$D$20:$BC$24,4,0)","v":0},{"$f":"+HLOOKUP(B6,'Resumen de Escala HSE'!$D$20:$BC$24,5,0)","v":0},null,{"$f":"+'Resumen de indicadores FR'!I$4","v":"Estudiante 2"},{"$f":"+HLOOKUP(H6,'Resumen de Escala FR'!$F$13:$BC$17,2,0)","v":"-"},{"$f":"+HLOOKUP(H6,'Resumen de Escala FR'!$F$13:$BC$17,5,0)","v":0},{"$f":"+HLOOKUP(H6,'Resumen de Escala FR'!$F$13:$BC$17,4,0)","v":0},{"$f":"+HLOOKUP(H6,'Resumen de Escala FR'!$F$13:$BC$17,3,0)","v":0}]
[null,{"$f":"+'Resumen de indicadores HSE'!J$4","v":"Estudiante 3"},{"$f":"+HLOOKUP(B7,'Resumen de Escala HSE'!$D$20:$BC$24,2,0)","v":"-"},{"$f":"+HLOOKUP(B7,'Resumen de Escala HSE'!$D$20:$BC$24,3,0)","v":0},{"$f":"+HLOOKUP(B7,'Resumen de Escala HSE'!$D$20:$BC$24,4,0)","v":0},{"$f":"+HLOOKUP(B7,'Resumen de Escala HSE'!$D$20:$BC$24,5,0)","v":0},null,{"$f":"+'Resumen de indicadores FR'!J$4","v":"Estudiante 3"},{"$f":"+HLOOKUP(H7,'Resumen de Escala FR'!$F$13:$BC$17,2,0)","v":"-"},{"$f":"+HLOOKUP(H7,'Resumen de Escala FR'!$F$13:$BC$17,5,0)","v":0},{"$f":"+HLOOKUP(H7,'Resumen de Escala FR'!$F$13:$BC$17,4,0)","v":0},{"$f":"+HLOOKUP(H7,'Resumen de Escala FR'!$F$13:$BC$17,3,0)","v":0}]
[null,{"$f":"+'Resumen de indicadores HSE'!K$4","v":"Estudiante 4"},{"$f":"+HLOOKUP(B8,'Resumen de Escala HSE'!$D$20:$BC$24,2,0)","v":"-"},{"$f":"+HLOOKUP(B8,'Resumen de Escala HSE'!$D$20:$BC$24,3,0)","v":0},{"$f":"+HLOOKUP(B8,'Resumen de Escala HSE'!$D$20:$BC$24,4,0)","v":0},{"$f":"+HLOOKUP(B8,'Resumen de Escala HSE'!$D$20:$BC$24,5,0)","v":0},null,{"$f":"+'Resumen de indicadores FR'!K$4","v":"Estudiante 4"},{"$f":"+HLOOKUP(H8,'Resumen de Escala FR'!$F$13:$BC$17,2,0)","v":"-"},{"$f":"+HLOOKUP(H8,'Resumen de Escala FR'!$F$13:$BC$17,5,0)","v":0},{"$f":"+HLOOKUP(H8,'Resumen de Escala FR'!$F$13:$BC$17,4,0)","v":0},{"$f":"+HLOOKUP(H8,'Resumen de Escala FR'!$F$13:$BC$17,3,0)","v":0}]
[null,{"$f":"+'Resumen de indicadores HSE'!L$4","v":"Estudiante 5"},{"$f":"+HLOOKUP(B9,'Resumen de Escala HSE'!$D$20:$BC$24,2,0)","v":"-"},{"$f":"+HLOOKUP(B9,'Resumen de Escala HSE'!$D$20:$BC$24,3,0)","v":0},{"$f":"+HLOOKUP(B9,'Resumen de Escala HSE'!$D$20:$BC$24,4,0)","v":0},{"$f":"+HLOOKUP(B9,'Resumen de Escala HSE'!$D$20:$BC$24,5,0)","v":0},null,{"$f":"+'Resumen de indicadores FR'!L$4","v":"Estudiante 5"},{"$f":"+HLOOKUP(H9,'Resumen de Escala FR'!$F$13:$BC$17,2,0)","v":"-"},{"$f":"+HLOOKUP(H9,'Resumen de Escala FR'!$F$13:$BC$17,5,0)","v":0},{"$f":"+HLOOKUP(H9,'Resumen de Escala FR'!$F$13:$BC$17,4,0)","v":0},{"$f":"+HLOOKUP(H9,'Resumen de Escala FR'!$F$13:$BC$17,3,0)","v":0}]
[null,{"$f":"+'Resumen de indicadores HSE'!M$4","v":"Estudiante 6"},{"$f":"+HLOOKUP(B10,'Resumen de Escala HSE'!$D$20:$BC$24,2,0)","v":"-"},{"$f":"+HLOOKUP(B10,'Resumen de Escala HSE'!$D$20:$BC$24,3,0)","v":0},{"$f":"+HLOOKUP(B10,'Resumen de Escala HSE'!$D$20:$BC$24,4,0)","v":0},{"$f":"+HLOOKUP(B10,'Resumen de Escala HSE'!$D$20:$BC$24,5,0)","v":0},null,{"$f":"+'Resumen de indicadores FR'!M$4","v":"Estudiante 6"},{"$f":"+HLOOKUP(H10,'Resumen de Escala FR'!$F$13:$BC$17,2,0)","v":"-"},{"$f":"+HLOOKUP(H10,'Resumen de Escala FR'!$F$13:$BC$17,5,0)","v":0},{"$f":"+HLOOKUP(H10,'Resumen de Escala FR'!$F$13:$BC$17,4,0)","v":0},{"$f":"+HLOOKUP(H10,'Resumen de Escala FR'!$F$13:$BC$17,3,0)","v":0}]
[null,{"$f":"+'Resumen de indicadores HSE'!N$4","v":"Estudiante 7"},{"$f":"+HLOOKUP(B11,'Resumen de Escala HSE'!$D$20:$BC$24,2,0)","v":"-"},{"$f":"+HLOOKUP(B11,'Resumen de Escala HSE'!$D$20:$BC$24,3,0)","v":0},{"$f":"+HLOOKUP(B11,'Resumen de Escala HSE'!$D$20:$BC$24,4,0)","v":0},{"$f":"+HLOOKUP(B11,'Resumen de Escala HSE'!$D$20:$BC$24,5,0)","v":0},null,{"$f":"+'Resumen de indicadores FR'!N$4","v":"Estudiante 7"},{"$f":"+HLOOKUP(H11,'Resumen de Escala FR'!$F$13:$BC$17,2,0)","v":"-"},{"$f":"+HLOOKUP(H11,'Resumen de Escala FR'!$F$13:$BC$17,5,0)","v":0},{"$f":"+HLOOKUP(H11,'Resumen de Escala FR'!$F$13:$BC$17,4,0)","v":0},{"$f":"+HLOOKUP(H11,'Resumen de Escala FR'!$F$13:$BC$17,3,0)","v":0}]
[null,{"$f":"+'Resumen de indicadores HSE'!O$4","v":"Estudiante 8"},{"$f":"+HLOOKUP(B12,'Resumen de Escala HSE'!$D$20:$BC$24,2,0)","v":"-"},{"$f":"+HLOOKUP(B12,'Resumen de Escala HSE'!$D$20:$BC$24,3,0)","v":0},{"$f":"+HLOOKUP(B12,'Resumen de Escala HSE'!$D$20:$BC$24,4,0)","v":0},{"$f":"+HLOOKUP(B12,'Resumen de Escala HSE'!$D$20:$BC$24,5,0)","v":0},null,{"$f":"+'Resumen de indicadores FR'!O$4","v":"Estudiante 8"},{"$f":"+HLOOKUP(H12,'Resumen de Escala FR'!$F$13:$BC$17,2,0)","v":"-"},{"$f":"+HLOOKUP(H12,'Resumen de Escala FR'!$F$13:$BC$17,5,0)","v":0},{"$f":"+HLOOKUP(H12,'Resumen de Escala FR'!$F$13:$BC$17,4,0)","v":0},{"$f":"+HLOOKUP(H12,'Resumen de Escala FR'!$F$13:$BC$17,3,0)","v":0}]
[null,{"$f":"+'Resumen de indicadores HSE'!P$4","v":"Estudiante 9"},{"$f":"+HLOOKUP(B13,'Resumen de Escala HSE'!$D$20:$BC$24,2,0)","v":"-"},{"$f":"+HLOOKUP(B13,'Resumen de Escala HSE'!$D$20:$BC$24,3,0)","v":0},{"$f":"+HLOOKUP(B13,'Resumen de Escala HSE'!$D$20:$BC$24,4,0)","v":0},{"$f":"+HLOOKUP(B13,'Resumen de Escala HSE'!$D$20:$BC$24,5,0)","v":0},null,{"$f":"+'Resumen de indicadores FR'!P$4","v":"Estudiante 9"},{"$f":"+HLOOKUP(H13,'Resumen de Escala FR'!$F$13:$BC$17,2,0)","v":"-"},{"$f":"+HLOOKUP(H13,'Resumen de Escala FR'!$F$13:$BC$17,5,0)","v":0},{"$f":"+HLOOKUP(H13,'Resumen de Escala FR'!$F$13:$BC$17,4,0)","v":0},{"$f":"+HLOOKUP(H13,'Resumen de Escala FR'!$F$13:$BC$17,3,0)","v":0}]
[null,{"$f":"+'Resumen de indicadores HSE'!Q$4","v":"Estudiante 10"},{"$f":"+HLOOKUP(B14,'Resumen de Escala HSE'!$D$20:$BC$24,2,0)","v":"-"},{"$f":"+HLOOKUP(B14,'Resumen de Escala HSE'!$D$20:$BC$24,3,0)","v":0},{"$f":"+HLOOKUP(B14,'Resumen de Escala HSE'!$D$20:$BC$24,4,0)","v":0},{"$f":"+HLOOKUP(B14,'Resumen de Escala HSE'!$D$20:$BC$24,5,0)","v":0},null,{"$f":"+'Resumen de indicadores FR'!Q$4","v":"Estudiante 10"},{"$f":"+HLOOKUP(H14,'Resumen de Escala FR'!$F$13:$BC$17,2,0)","v":"-"},{"$f":"+HLOOKUP(H14,'Resumen de Escala FR'!$F$13:$BC$17,5,0)","v":0},{"$f":"+HLOOKUP(H14,'Resumen de Escala FR'!$F$13:$BC$17,4,0)","v":0},{"$f":"+HLOOKUP(H14,'Resumen de Escala FR'!$F$13:$BC$17,3,0)","v":0}]
[null,{"$f":"+'Resumen de indicadores HSE'!R$4","v":"Estudiante 11"},{"$f":"+HLOOKUP(B15,'Resumen de Escala HSE'!$D$20:$BC$24,2,0)","v":"-"},{"$f":"+HLOOKUP(B15,'Resumen de Escala HSE'!$D$20:$BC$24,3,0)","v":0},{"$f":"+HLOOKUP(B15,'Resumen de Escala HSE'!$D$20:$BC$24,4,0)","v":0},{"$f":"+HLOOKUP(B15,'Resumen de Escala HSE'!$D$20:$BC$24,5,0)","v":0},null,{"$f":"+'Resumen de indicadores FR'!R$4","v":"Estudiante 11"},{"$f":"+HLOOKUP(H15,'Resumen de Escala FR'!$F$13:$BC$17,2,0)","v":"-"},{"$f":"+HLOOKUP(H15,'Resumen de Escala FR'!$F$13:$BC$17,5,0)","v":0},{"$f":"+HLOOKUP(H15,'Resumen de Escala FR'!$F$13:$BC$17,4,0)","v":0},{"$f":"+HLOOKUP(H15,'Resumen de Escala FR'!$F$13:$BC$17,3,0)","v":0}]
[null,{"$f":"+'Resumen de indicadores HSE'!S$4","v":"Estudiante 12"},{"$f":"+HLOOKUP(B16,'Resumen de Escala HSE'!$D$20:$BC$24,2,0)","v":"-"},{"$f":"+HLOOKUP(B16,'Resumen de Escala HSE'!$D$20:$BC$24,3,0)","v":0},{"$f":"+HLOOKUP(B16,'Resumen de Escala HSE'!$D$20:$BC$24,4,0)","v":0},{"$f":"+HLOOKUP(B16,'Resumen de Escala HSE'!$D$20:$BC$24,5,0)","v":0},null,{"$f":"+'Resumen de indicadores FR'!S$4","v":"Estudiante 12"},{"$f":"+HLOOKUP(H16,'Resumen de Escala FR'!$F$13:$BC$17,2,0)","v":"-"},{"$f":"+HLOOKUP(H16,'Resumen de Escala FR'!$F$13:$BC$17,5,0)","v":0},{"$f":"+HLOOKUP(H16,'Resumen de Escala FR'!$F$13:$BC$17,4,0)","v":0},{"$f":"+HLOOKUP(H16,'Resumen de Escala FR'!$F$13:$BC$17,3,0)","v":0}]
[null,{"$f":"+'Resumen de indicadores HSE'!T$4","v":"Estudiante 13"},{"$f":"+HLOOKUP(B17,'Resumen de Escala HSE'!$D$20:$BC$24,2,0)","v":"-"},{"$f":"+HLOOKUP(B17,'Resumen de Escala HSE'!$D$20:$BC$24,3,0)","v":0},{"$f":"+HLOOKUP(B17,'Resumen de Escala HSE'!$D$20:$BC$24,4,0)","v":0},{"$f":"+HLOOKUP(B17,'Resumen de Escala HSE'!$D$20:$BC$24,5,0)","v":0},null,{"$f":"+'Resumen de indicadores FR'!T$4","v":"Estudiante 13"},{"$f":"+HLOOKUP(H17,'Resumen de Escala FR'!$F$13:$BC$17,2,0)","v":"-"},{"$f":"+HLOOKUP(H17,'Resumen de Escala FR'!$F$13:$BC$17,5,0)","v":0},{"$f":"+HLOOKUP(H17,'Resumen de Escala FR'!$F$13:$BC$17,4,0)","v":0},{"$f":"+HLOOKUP(H17,'Resumen de Escala FR'!$F$13:$BC$17,3,0)","v":0}]
[null,{"$f":"+'Resumen de indicadores HSE'!U$4","v":"Estudiante 14"},{"$f":"+HLOOKUP(B18,'Resumen de Escala HSE'!$D$20:$BC$24,2,0)","v":"-"},{"$f":"+HLOOKUP(B18,'Resumen de Escala HSE'!$D$20:$BC$24,3,0)","v":0},{"$f":"+HLOOKUP(B18,'Resumen de Escala HSE'!$D$20:$BC$24,4,0)","v":0},{"$f":"+HLOOKUP(B18,'Resumen de Escala HSE'!$D$20:$BC$24,5,0)","v":0},null,{"$f":"+'Resumen de indicadores FR'!U$4","v":"Estudiante 14"},{"$f":"+HLOOKUP(H18,'Resumen de Escala FR'!$F$13:$BC$17,2,0)","v":"-"},{"$f":"+HLOOKUP(H18,'Resumen de Escala FR'!$F$13:$BC$17,5,0)","v":0},{"$f":"+HLOOKUP(H18,'Resumen de Escala FR'!$F$13:$BC$17,4,0)","v":0},{"$f":"+HLOOKUP(H18,'Resumen de Escala FR'!$F$13:$BC$17,3,0)","v":0}]
[null,{"$f":"+'Resumen de indicadores HSE'!V$4","v":"Estudiante 15"},{"$f":"+HLOOKUP(B19,'Resumen de Escala HSE'!$D$20:$BC$24,2,0)","v":"-"},{"$f":"+HLOOKUP(B19,'Resumen de Escala HSE'!$D$20:$BC$24,3,0)","v":0},{"$f":"+HLOOKUP(B19,'Resumen de Escala HSE'!$D$20:$BC$24,4,0)","v":0},{"$f":"+HLOOKUP(B19,'Resumen de Escala HSE'!$D$20:$BC$24,5,0)","v":0},null,{"$f":"+'Resumen de indicadores FR'!V$4","v":"Estudiante 15"},{"$f":"+HLOOKUP(H19,'Resumen de Escala FR'!$F$13:$BC$17,2,0)","v":"-"},{"$f":"+HLOOKUP(H19,'Resumen de Escala FR'!$F$13:$BC$17,5,0)","v":0},{"$f":"+HLOOKUP(H19,'Resumen de Escala FR'!$F$13:$BC$17,4,0)","v":0},{"$f":"+HLOOKUP(H19,'Resumen de Escala FR'!$F$13:$BC$17,3,0)","v":0}]
[null,{"$f":"+'Resumen de indicadores HSE'!W$4","v":"Estudiante 16"},{"$f":"+HLOOKUP(B20,'Resumen de Escala HSE'!$D$20:$BC$24,2,0)","v":"-"},{"$f":"+HLOOKUP(B20,'Resumen de Escala HSE'!$D$20:$BC$24,3,0)","v":0},{"$f":"+HLOOKUP(B20,'Resumen de Escala HSE'!$D$20:$BC$24,4,0)","v":0},{"$f":"+HLOOKUP(B20,'Resumen de Escala HSE'!$D$20:$BC$24,5,0)","v":0},null,{"$f":"+'Resumen de indicadores FR'!W$4","v":"Estudiante 16"},{"$f":"+HLOOKUP(H20,'Resumen de Escala FR'!$F$13:$BC$17,2,0)","v":"-"},{"$f":"+HLOOKUP(H20,'Resumen de Escala FR'!$F$13:$BC$17,5,0)","v":0},{"$f":"+HLOOKUP(H20,'Resumen de Escala FR'!$F$13:$BC$17,4,0)","v":0},{"$f":"+HLOOKUP(H20,'Resumen de Escala FR'!$F$13:$BC$17,3,0)","v":0}]
[null,{"$f":"+'Resumen de indicadores HSE'!X$4","v":"Estudiante 17"},{"$f":"+HLOOKUP(B21,'Resumen de Escala HSE'!$D$20:$BC$24,2,0)","v":"-"},{"$f":"+HLOOKUP(B21,'Resumen de Escala HSE'!$D$20:$BC$24,3,0)","v":0},{"$f":"+HLOOKUP(B21,'Resumen de Escala HSE'!$D$20:$BC$24,4,0)","v":0},{"$f":"+HLOOKUP(B21,'Resumen de Escala HSE'!$D$20:$BC$24,5,0)","v":0},null,{"$f":"+'Resumen de indicadores FR'!X$4","v":"Estudiante 17"},{"$f":"+HLOOKUP(H21,'Resumen de Escala FR'!$F$13:$BC$17,2,0)","v":"-"},{"$f":"+HLOOKUP(H21,'Resumen de Escala FR'!$F$13:$BC$17,5,0)","v":0},{"$f":"+HLOOKUP(H21,'Resumen de Escala FR'!$F$13:$BC$17,4,0)","v":0},{"$f":"+HLOOKUP(H21,'Resumen de Escala FR'!$F$13:$BC$17,3,0)","v":0}]
[null,{"$f":"+'Resumen de indicadores HSE'!Y$4","v":"Estudiante 18"},{"$f":"+HLOOKUP(B22,'Resumen de Escala HSE'!$D$20:$BC$24,2,0)","v":"-"},{"$f":"+HLOOKUP(B22,'Resumen de Escala HSE'!$D$20:$BC$24,3,0)","v":0},{"$f":"+HLOOKUP(B22,'Resumen de Escala HSE'!$D$20:$BC$24,4,0)","v":0},{"$f":"+HLOOKUP(B22,'Resumen de Escala HSE'!$D$20:$BC$24,5,0)","v":0},null,{"$f":"+'Resumen de indicadores FR'!Y$4","v":"Estudiante 18"},{"$f":"+HLOOKUP(H22,'Resumen de Escala FR'!$F$13:$BC$17,2,0)","v":"-"},{"$f":"+HLOOKUP(H22,'Resumen de Escala FR'!$F$13:$BC$17,5,0)","v":0},{"$f":"+HLOOKUP(H22,'Resumen de Escala FR'!$F$13:$BC$17,4,0)","v":0},{"$f":"+HLOOKUP(H22,'Resumen de Escala FR'!$F$13:$BC$17,3,0)","v":0}]
[null,{"$f":"+'Resumen de indicadores HSE'!Z$4","v":"Estudiante 19"},{"$f":"+HLOOKUP(B23,'Resumen de Escala HSE'!$D$20:$BC$24,2,0)","v":"-"},{"$f":"+HLOOKUP(B23,'Resumen de Escala HSE'!$D$20:$BC$24,3,0)","v":0},{"$f":"+HLOOKUP(B23,'Resumen de Escala HSE'!$D$20:$BC$24,4,0)","v":0},{"$f":"+HLOOKUP(B23,'Resumen de Escala HSE'!$D$20:$BC$24,5,0)","v":0},null,{"$f":"+'Resumen de indicadores FR'!Z$4","v":"Estudiante 19"},{"$f":"+HLOOKUP(H23,'Resumen de Escala FR'!$F$13:$BC$17,2,0)","v":"-"},{"$f":"+HLOOKUP(H23,'Resumen de Escala FR'!$F$13:$BC$17,5,0)","v":0},{"$f":"+HLOOKUP(H23,'Resumen de Escala FR'!$F$13:$BC$17,4,0)","v":0},{"$f":"+HLOOKUP(H23,'Resumen de Escala FR'!$F$13:$BC$17,3,0)","v":0}]
[null,{"$f":"+'Resumen de indicadores HSE'!AA$4","v":"Estudiante 20"},{"$f":"+HLOOKUP(B24,'Resumen de Escala HSE'!$D$20:$BC$24,2,0)","v":"-"},{"$f":"+HLOOKUP(B24,'Resumen de Escala HSE'!$D$20:$BC$24,3,0)","v":0},{"$f":"+HLOOKUP(B24,'Resumen de Escala HSE'!$D$20:$BC$24,4,0)","v":0},{"$f":"+HLOOKUP(B24,'Resumen de Escala HSE'!$D$20:$BC$24,5,0)","v":0},null,{"$f":"+'Resumen de indicadores FR'!AA$4","v":"Estudiante 20"},{"$f":"+HLOOKUP(H24,'Resumen de Escala FR'!$F$13:$BC$17,2,0)","v":"-"},{"$f":"+HLOOKUP(H24,'Resumen de Escala FR'!$F$13:$BC$17,5,0)","v":0},{"$f":"+HLOOKUP(H24,'Resumen de Escala FR'!$F$13:$BC$17,4,0)","v":0},{"$f":"+HLOOKUP(H24,'Resumen de Escala FR'!$F$13:$BC$17,3,0)","v":0}]
[null,{"$f":"+'Resumen de indicadores HSE'!AB$4","v":"Estudiante 21"},{"$f":"+HLOOKUP(B25,'Resumen de Escala HSE'!$D$20:$BC$24,2,0)","v":"-"},{"$f":"+HLOOKUP(B25,'Resumen de Escala HSE'!$D$20:$BC$24,3,0)","v":0},{"$f":"+HLOOKUP(B25,'Resumen de Escala HSE'!$D$20:$BC$24,4,0)","v":0},{"$f":"+HLOOKUP(B25,'Resumen de Escala HSE'!$D$20:$BC$24,5,0)","v":0},null,{"$f":"+'Resumen de indicadores FR'!AB$4","v":"Estudiante 21"},{"$f":"+HLOOKUP(H25,'Resumen de Escala FR'!$F$13:$BC$17,2,0)","v":"-"},{"$f":"+HLOOKUP(H25,'Resumen de Escala FR'!$F$13:$BC$17,5,0)","v":0},{"$f":"+HLOOKUP(H25,'Resumen de Escala FR'!$F$13:$BC$17,4,0)","v":0},{"$f":"+HLOOKUP(H25,'Resumen de Escala FR'!$F$13:$BC$17,3,0)","v":0}]
[null,{"$f":"+'Resumen de indicadores HSE'!AC$4","v":"Estudiante 22"},{"$f":"+HLOOKUP(B26,'Resumen de Escala HSE'!$D$20:$BC$24,2,0)","v":"-"},{"$f":"+HLOOKUP(B26,'Resumen de Escala HSE'!$D$20:$BC$24,3,0)","v":0},{"$f":"+HLOOKUP(B26,'Resumen de Escala HSE'!$D$20:$BC$24,4,0)","v":0},{"$f":"+HLOOKUP(B26,'Resumen de Escala HSE'!$D$20:$BC$24,5,0)","v":0},null,{"$f":"+'Resumen de indicadores FR'!AC$4","v":"Estudiante 22"},{"$f":"+HLOOKUP(H26,'Resumen de Escala FR'!$F$13:$BC$17,2,0)","v":"-"},{"$f":"+HLOOKUP(H26,'Resumen de Escala FR'!$F$13:$BC$17,5,0)","v":0},{"$f":"+HLOOKUP(H26,'Resumen de Escala FR'!$F$13:$BC$17,4,0)","v":0},{"$f":"+HLOOKUP(H26,'Resumen de Escala FR'!$F$13:$BC$17,3,0)","v":0}]
[null,{"$f":"+'Resumen de indicadores HSE'!AD$4","v":"Estudiante 23"},{"$f":"+HLOOKUP(B27,'Resumen de Escala HSE'!$D$20:$BC$24,2,0)","v":"-"},{"$f":"+HLOOKUP(B27,'Resumen de Escala HSE'!$D$20:$BC$24,3,0)","v":0},{"$f":"+HLOOKUP(B27,'Resumen de Escala HSE'!$D$20:$BC$24,4,0)","v":0},{"$f":"+HLOOKUP(B27,'Resumen de Escala HSE'!$D$20:$BC$24,5,0)","v":0},null,{"$f":"+'Resumen de indicadores FR'!AD$4","v":"Estudiante 23"},{"$f":"+HLOOKUP(H27,'Resumen de Escala FR'!$F$13:$BC$17,2,0)","v":"-"},{"$f":"+HLOOKUP(H27,'Resumen de Escala FR'!$F$13:$BC$17,5,0)","v":0},{"$f":"+HLOOKUP(H27,'Resumen de Escala FR'!$F$13:$BC$17,4,0)","v":0},{"$f":"+HLOOKUP(H27,'Resumen de Escala FR'!$F$13:$BC$17,3,0)","v":0}]
[null,{"$f":"+'Resumen de indicadores HSE'!AE$4","v":"Estudiante 24"},{"$f":"+HLOOKUP(B28,'Resumen de Escala HSE'!$D$20:$BC$24,2,0)","v":"-"},{"$f":"+HLOOKUP(B28,'Resumen de Escala HSE'!$D$20:$BC$24,3,0)","v":0},{"$f":"+HLOOKUP(B28,'Resumen de Escala HSE'!$D$20:$BC$24,4,0)","v":0},{"$f":"+HLOOKUP(B28,'Resumen de Escala HSE'!$D$20:$BC$24,5,0)","v":0},null,{"$f":"+'Resumen de indicadores FR'!AE$4","v":"Estudiante 24"},{"$f":"+HLOOKUP(H28,'Resumen de Escala FR'!$F$13:$BC$17,2,0)","v":"-"},{"$f":"+HLOOKUP(H28,'Resumen de Escala FR'!$F$13:$BC$17,5,0)","v":0},{"$f":"+HLOOKUP(H28,'Resumen de Escala FR'!$F$13:$BC$17,4,0)","v":0},{"$f":"+HLOOKUP(H28,'Resumen de Escala FR'!$F$13:$BC$17,3,0)","v":0}]
[null,{"$f":"+'Resumen de indicadores HSE'!AF$4","v":"Estudiante 25"},{"$f":"+HLOOKUP(B29,'Resumen de Escala HSE'!$D$20:$BC$24,2,0)","v":"-"},{"$f":"+HLOOKUP(B29,'Resumen de Escala HSE'!$D$20:$BC$24,3,0)","v":0},{"$f":"+HLOOKUP(B29,'Resumen de Escala HSE'!$D$20:$BC$24,4,0)","v":0},{"$f":"+HLOOKUP(B29,'Resumen de Escala HSE'!$D$20:$BC$24,5,0)","v":0},null,{"$f":"+'Resumen de indicadores FR'!AF$4","v":"Estudiante 25"},{"$f":"+HLOOKUP(H29,'Resumen de Escala FR'!$F$13:$BC$17,2,0)","v":"-"},{"$f":"+HLOOKUP(H29,'Resumen de Escala FR'!$F$13:$BC$17,5,0)","v":0},{"$f":"+HLOOKUP(H29,'Resumen de Escala FR'!$F$13:$BC$17,4,0)","v":0},{"$f":"+HLOOKUP(H29,'Resumen de Escala FR'!$F$13:$BC$17,3,0)","v":0}]
[null,{"$f":"+'Resumen de indicadores HSE'!AG$4","v":"Estudiante 26"},{"$f":"+HLOOKUP(B30,'Resumen de Escala HSE'!$D$20:$BC$24,2,0)","v":"-"},{"$f":"+HLOOKUP(B30,'Resumen de Escala HSE'!$D$20:$BC$24,3,0)","v":0},{"$f":"+HLOOKUP(B30,'Resumen de Escala HSE'!$D$20:$BC$24,4,0)","v":0},{"$f":"+HLOOKUP(B30,'Resumen de Escala HSE'!$D$20:$BC$24,5,0)","v":0},null,{"$f":"+'Resumen de indicadores FR'!AG$4","v":"Estudiante 26"},{"$f":"+HLOOKUP(H30,'Resumen de Escala FR'!$F$13:$BC$17,2,0)","v":"-"},{"$f":"+HLOOKUP(H30,'Resumen de Escala FR'!$F$13:$BC$17,5,0)","v":0},{"$f":"+HLOOKUP(H30,'Resumen de Escala FR'!$F$13:$BC$17,4,0)","v":0},{"$f":"+HLOOKUP(H30,'Resumen de Escala FR'!$F$13:$BC$17,3,0)","v":0}]
[null,{"$f":"+'Resumen de indicadores HSE'!AH$4","v":"Estudiante 27"},{"$f":"+HLOOKUP(B31,'Resumen de Escala HSE'!$D$20:$BC$24,2,0)","v":"-"},{"$f":"+HLOOKUP(B31,'Resumen de Escala HSE'!$D$20:$BC$24,3,0)","v":0},{"$f":"+HLOOKUP(B31,'Resumen de Escala HSE'!$D$20:$BC$24,4,0)","v":0},{"$f":"+HLOOKUP(B31,'Resumen de Escala HSE'!$D$20:$BC$24,5,0)","v":0},null,{"$f":"+'Resumen de indicadores FR'!AH$4","v":"Estudiante 27"},{"$f":"+HLOOKUP(H31,'Resumen de Escala FR'!$F$13:$BC$17,2,0)","v":"-"},{"$f":"+HLOOKUP(H31,'Resumen de Escala FR'!$F$13:$BC$17,5,0)","v":0},{"$f":"+HLOOKUP(H31,'Resumen de Escala FR'!$F$13:$BC$17,4,0)","v":0},{"$f":"+HLOOKUP(H31,'Resumen de Escala FR'!$F$13:$BC$17,3,0)","v":0}]
[null,{"$f":"+'Resumen de indicadores HSE'!AI$4","v":"Estudiante 28"},{"$f":"+HLOOKUP(B32,'Resumen de Escala HSE'!$D$20:$BC$24,2,0)","v":"-"},{"$f":"+HLOOKUP(B32,'Resumen de Escala HSE'!$D$20:$BC$24,3,0)","v":0},{"$f":"+HLOOKUP(B32,'Resumen de Escala HSE'!$D$20:$BC$24,4,0)","v":0},{"$f":"+HLOOKUP(B32,'Resumen de Escala HSE'!$D$20:$BC$24,5,0)","v":0},null,{"$f":"+'Resumen de indicadores FR'!AI$4","v":"Estudiante 28"},{"$f":"+HLOOKUP(H32,'Resumen de Escala FR'!$F$13:$BC$17,2,0)","v":"-"},{"$f":"+HLOOKUP(H32,'Resumen de Escala FR'!$F$13:$BC$17,5,0)","v":0},{"$f":"+HLOOKUP(H32,'Resumen de Escala FR'!$F$13:$BC$17,4,0)","v":0},{"$f":"+HLOOKUP(H32,'Resumen de Escala FR'!$F$13:$BC$17,3,0)","v":0}]
[null,{"$f":"+'Resumen de indicadores HSE'!AJ$4","v":"Estudiante 29"},{"$f":"+HLOOKUP(B33,'Resumen de Escala HSE'!$D$20:$BC$24,2,0)","v":"-"},{"$f":"+HLOOKUP(B33,'Resumen de Escala HSE'!$D$20:$BC$24,3,0)","v":0},{"$f":"+HLOOKUP(B33,'Resumen de Escala HSE'!$D$20:$BC$24,4,0)","v":0},{"$f":"+HLOOKUP(B33,'Resumen de Escala HSE'!$D$20:$BC$24,5,0)","v":0},null,{"$f":"+'Resumen de indicadores FR'!AJ$4","v":"Estudiante 29"},{"$f":"+HLOOKUP(H33,'Resumen de Escala FR'!$F$13:$BC$17,2,0)","v":"-"},{"$f":"+HLOOKUP(H33,'Resumen de Escala FR'!$F$13:$BC$17,5,0)","v":0},{"$f":"+HLOOKUP(H33,'Resumen de Escala FR'!$F$13:$BC$17,4,0)","v":0},{"$f":"+HLOOKUP(H33,'Resumen de Escala FR'!$F$13:$BC$17,3,0)","v":0}]
[null,{"$f":"+'Resumen de indicadores HSE'!AK$4","v":"Estudiante 30"},{"$f":"+HLOOKUP(B34,'Resumen de Escala HSE'!$D$20:$BC$24,2,0)","v":"-"},{"$f":"+HLOOKUP(B34,'Resumen de Escala HSE'!$D$20:$BC$24,3,0)","v":0},{"$f":"+HLOOKUP(B34,'Resumen de Escala HSE'!$D$20:$BC$24,4,0)","v":0},{"$f":"+HLOOKUP(B34,'Resumen de Escala HSE'!$D$20:$BC$24,5,0)","v":0},null,{"$f":"+'Resumen de indicadores FR'!AK$4","v":"Estudiante 30"},{"$f":"+HLOOKUP(H34,'Resumen de Escala FR'!$F$13:$BC$17,2,0)","v":"-"},{"$f":"+HLOOKUP(H34,'Resumen de Escala FR'!$F$13:$BC$17,5,0)","v":0},{"$f":"+HLOOKUP(H34,'Resumen de Escala FR'!$F$13:$BC$17,4,0)","v":0},{"$f":"+HLOOKUP(H34,'Resumen de Escala FR'!$F$13:$BC$17,3,0)","v":0}]
[null,{"$f":"+'Resumen de indicadores HSE'!AL$4","v":"Estudiante 31"},{"$f":"+HLOOKUP(B35,'Resumen de Escala HSE'!$D$20:$BC$24,2,0)","v":"-"},{"$f":"+HLOOKUP(B35,'Resumen de Escala HSE'!$D$20:$BC$24,3,0)","v":0},{"$f":"+HLOOKUP(B35,'Resumen de Escala HSE'!$D$20:$BC$24,4,0)","v":0},{"$f":"+HLOOKUP(B35,'Resumen de Escala HSE'!$D$20:$BC$24,5,0)","v":0},null,{"$f":"+'Resumen de indicadores FR'!AL$4","v":"Estudiante 31"},{"$f":"+HLOOKUP(H35,'Resumen de Escala FR'!$F$13:$BC$17,2,0)","v":"-"},{"$f":"+HLOOKUP(H35,'Resumen de Escala FR'!$F$13:$BC$17,5,0)","v":0},{"$f":"+HLOOKUP(H35,'Resumen de Escala FR'!$F$13:$BC$17,4,0)","v":0},{"$f":"+HLOOKUP(H35,'Resumen de Escala FR'!$F$13:$BC$17,3,0)","v":0}]
[null,{"$f":"+'Resumen de indicadores HSE'!AM$4","v":"Estudiante 32"},{"$f":"+HLOOKUP(B36,'Resumen de Escala HSE'!$D$20:$BC$24,2,0)","v":"-"},{"$f":"+HLOOKUP(B36,'Resumen de Escala HSE'!$D$20:$BC$24,3,0)","v":0},{"$f":"+HLOOKUP(B36,'Resumen de Escala HSE'!$D$20:$BC$24,4,0)","v":0},{"$f":"+HLOOKUP(B36,'Resumen de Escala HSE'!$D$20:$BC$24,5,0)","v":0},null,{"$f":"+'Resumen de indicadores FR'!AM$4","v":"Estudiante 32"},{"$f":"+HLOOKUP(H36,'Resumen de Escala FR'!$F$13:$BC$17,2,0)","v":"-"},{"$f":"+HLOOKUP(H36,'Resumen de Escala FR'!$F$13:$BC$17,5,0)","v":0},{"$f":"+HLOOKUP(H36,'Resumen de Escala FR'!$F$13:$BC$17,4,0)","v":0},{"$f":"+HLOOKUP(H36,'Resumen de Escala FR'!$F$13:$BC$17,3,0)","v":0}]
[null,{"$f":"+'Resumen de indicadores HSE'!AN$4","v":"Estudiante 33"},{"$f":"+HLOOKUP(B37,'Resumen de Escala HSE'!$D$20:$BC$24,2,0)","v":"-"},{"$f":"+HLOOKUP(B37,'Resumen de Escala HSE'!$D$20:$BC$24,3,0)","v":0},{"$f":"+HLOOKUP(B37,'Resumen de Escala HSE'!$D$20:$BC$24,4,0)","v":0},{"$f":"+HLOOKUP(B37,'Resumen de Escala HSE'!$D$20:$BC$24,5,0)","v":0},null,{"$f":"+'Resumen de indicadores FR'!AN$4","v":"Estudiante 33"},{"$f":"+HLOOKUP(H37,'Resumen de Escala FR'!$F$13:$BC$17,2,0)","v":"-"},{"$f":"+HLOOKUP(H37,'Resumen de Escala FR'!$F$13:$BC$17,5,0)","v":0},{"$f":"+HLOOKUP(H37,'Resumen de Escala FR'!$F$13:$BC$17,4,0)","v":0},{"$f":"+HLOOKUP(H37,'Resumen de Escala FR'!$F$13:$BC$17,3,0)","v":0}]
[null,{"$f":"+'Resumen de indicadores HSE'!AO$4","v":"Estudiante 34"},{"$f":"+HLOOKUP(B38,'Resumen de Escala HSE'!$D$20:$BC$24,2,0)","v":"-"},{"$f":"+HLOOKUP(B38,'Resumen de Escala HSE'!$D$20:$BC$24,3,0)","v":0},{"$f":"+HLOOKUP(B38,'Resumen de Escala HSE'!$D$20:$BC$24,4,0)","v":0},{"$f":"+HLOOKUP(B38,'Resumen de Escala HSE'!$D$20:$BC$24,5,0)","v":0},null,{"$f":"+'Resumen de indicadores FR'!AO$4","v":"Estudiante 34"},{"$f":"+HLOOKUP(H38,'Resumen de Escala FR'!$F$13:$BC$17,2,0)","v":"-"},{"$f":"+HLOOKUP(H38,'Resumen de Escala FR'!$F$13:$BC$17,5,0)","v":0},{"$f":"+HLOOKUP(H38,'Resumen de Escala FR'!$F$13:$BC$17,4,0)","v":0},{"$f":"+HLOOKUP(H38,'Resumen de Escala FR'!$F$13:$BC$17,3,0)","v":0}]
[null,{"$f":"+'Resumen de indicadores HSE'!AP$4","v":"Estudiante 35"},{"$f":"+HLOOKUP(B39,'Resumen de Escala HSE'!$D$20:$BC$24,2,0)","v":"-"},{"$f":"+HLOOKUP(B39,'Resumen de Escala HSE'!$D$20:$BC$24,3,0)","v":0},{"$f":"+HLOOKUP(B39,'Resumen de Escala HSE'!$D$20:$BC$24,4,0)","v":0},{"$f":"+HLOOKUP(B39,'Resumen de Escala HSE'!$D$20:$BC$24,5,0)","v":0},null,{"$f":"+'Resumen de indicadores FR'!AP$4","v":"Estudiante 35"},{"$f":"+HLOOKUP(H39,'Resumen de Escala FR'!$F$13:$BC$17,2,0)","v":"-"},{"$f":"+HLOOKUP(H39,'Resumen de Escala FR'!$F$13:$BC$17,5,0)","v":0},{"$f":"+HLOOKUP(H39,'Resumen de Escala FR'!$F$13:$BC$17,4,0)","v":0},{"$f":"+HLOOKUP(H39,'Resumen de Escala FR'!$F$13:$BC$17,3,0)","v":0}]
[null,{"$f":"+'Resumen de indicadores HSE'!AQ$4","v":"Estudiante 36"},{"$f":"+HLOOKUP(B40,'Resumen de Escala HSE'!$D$20:$BC$24,2,0)","v":"-"},{"$f":"+HLOOKUP(B40,'Resumen de Escala HSE'!$D$20:$BC$24,3,0)","v":0},{"$f":"+HLOOKUP(B40,'Resumen de Escala HSE'!$D$20:$BC$24,4,0)","v":0},{"$f":"+HLOOKUP(B40,'Resumen de Escala HSE'!$D$20:$BC$24,5,0)","v":0},null,{"$f":"+'Resumen de indicadores FR'!AQ$4","v":"Estudiante 36"},{"$f":"+HLOOKUP(H40,'Resumen de Escala FR'!$F$13:$BC$17,2,0)","v":"-"},{"$f":"+HLOOKUP(H40,'Resumen de Escala FR'!$F$13:$BC$17,5,0)","v":0},{"$f":"+HLOOKUP(H40,'Resumen de Escala FR'!$F$13:$BC$17,4,0)","v":0},{"$f":"+HLOOKUP(H40,'Resumen de Escala FR'!$F$13:$BC$17,3,0)","v":0}]
[null,{"$f":"+'Resumen de indicadores HSE'!AR$4","v":"Estudiante 37"},{"$f":"+HLOOKUP(B41,'Resumen de Escala HSE'!$D$20:$BC$24,2,0)","v":"-"},{"$f":"+HLOOKUP(B41,'Resumen de Escala HSE'!$D$20:$BC$24,3,0)","v":0},{"$f":"+HLOOKUP(B41,'Resumen de Escala HSE'!$D$20:$BC$24,4,0)","v":0},{"$f":"+HLOOKUP(B41,'Resumen de Escala HSE'!$D$20:$BC$24,5,0)","v":0},null,{"$f":"+'Resumen de indicadores FR'!AR$4","v":"Estudiante 37"},{"$f":"+HLOOKUP(H41,'Resumen de Escala FR'!$F$13:$BC$17,2,0)","v":"-"},{"$f":"+HLOOKUP(H41,'Resumen de Escala FR'!$F$13:$BC$17,5,0)","v":0},{"$f":"+HLOOKUP(H41,'Resumen de Escala FR'!$F$13:$BC$17,4,0)","v":0},{"$f":"+HLOOKUP(H41,'Resumen de Escala FR'!$F$13:$BC$17,3,0)","v":0}]
[null,{"$f":"+'Resumen de indicadores HSE'!AS$4","v":"Estudiante 38"},{"$f":"+HLOOKUP(B42,'Resumen de Escala HSE'!$D$20:$BC$24,2,0)","v":"-"},{"$f":"+HLOOKUP(B42,'Resumen de Escala HSE'!$D$20:$BC$24,3,0)","v":0},{"$f":"+HLOOKUP(B42,'Resumen de Escala HSE'!$D$20:$BC$24,4,0)","v":0},{"$f":"+HLOOKUP(B42,'Resumen de Escala HSE'!$D$20:$BC$24,5,0)","v":0},null,{"$f":"+'Resumen de indicadores FR'!AS$4","v":"Estudiante 38"},{"$f":"+HLOOKUP(H42,'Resumen de Escala FR'!$F$13:$BC$17,2,0)","v":"-"},{"$f":"+HLOOKUP(H42,'Resumen de Escala FR'!$F$13:$BC$17,5,0)","v":0},{"$f":"+HLOOKUP(H42,'Resumen de Escala FR'!$F$13:$BC$17,4,0)","v":0},{"$f":"+HLOOKUP(H42,'Resumen de Escala FR'!$F$13:$BC$17,3,0)","v":0}]
[null,{"$f":"+'Resumen de indicadores HSE'!AT$4","v":"Estudiante 39"},{"$f":"+HLOOKUP(B43,'Resumen de Escala HSE'!$D$20:$BC$24,2,0)","v":"-"},{"$f":"+HLOOKUP(B43,'Resumen de Escala HSE'!$D$20:$BC$24,3,0)","v":0},{"$f":"+HLOOKUP(B43,'Resumen de Escala HSE'!$D$20:$BC$24,4,0)","v":0},{"$f":"+HLOOKUP(B43,'Resumen de Escala HSE'!$D$20:$BC$24,5,0)","v":0},null,{"$f":"+'Resumen de indicadores FR'!AT$4","v":"Estudiante 39"},{"$f":"+HLOOKUP(H43,'Resumen de Escala FR'!$F$13:$BC$17,2,0)","v":"-"},{"$f":"+HLOOKUP(H43,'Resumen de Escala FR'!$F$13:$BC$17,5,0)","v":0},{"$f":"+HLOOKUP(H43,'Resumen de Escala FR'!$F$13:$BC$17,4,0)","v":0},{"$f":"+HLOOKUP(H43,'Resumen de Escala FR'!$F$13:$BC$17,3,0)","v":0}]
[null,{"$f":"+'Resumen de indicadores HSE'!AU$4","v":"Estudiante 40"},{"$f":"+HLOOKUP(B44,'Resumen de Escala HSE'!$D$20:$BC$24,2,0)","v":"-"},{"$f":"+HLOOKUP(B44,'Resumen de Escala HSE'!$D$20:$BC$24,3,0)","v":0},{"$f":"+HLOOKUP(B44,'Resumen de Escala HSE'!$D$20:$BC$24,4,0)","v":0},{"$f":"+HLOOKUP(B44,'Resumen de Escala HSE'!$D$20:$BC$24,5,0)","v":0},null,{"$f":"+'Resumen de indicadores FR'!AU$4","v":"Estudiante 40"},{"$f":"+HLOOKUP(H44,'Resumen de Escala FR'!$F$13:$BC$17,2,0)","v":"-"},{"$f":"+HLOOKUP(H44,'Resumen de Escala FR'!$F$13:$BC$17,5,0)","v":0},{"$f":"+HLOOKUP(H44,'Resumen de Escala FR'!$F$13:$BC$17,4,0)","v":0},{"$f":"+HLOOKUP(H44,'Resumen de Escala FR'!$F$13:$BC$17,3,0)","v":0}]
[null,{"$f":"+'Resumen de indicadores HSE'!AV$4","v":"Estudiante 41"},{"$f":"+HLOOKUP(B45,'Resumen de Escala HSE'!$D$20:$BC$24,2,0)","v":"-"},{"$f":"+HLOOKUP(B45,'Resumen de Escala HSE'!$D$20:$BC$24,3,0)","v":0},{"$f":"+HLOOKUP(B45,'Resumen de Escala HSE'!$D$20:$BC$24,4,0)","v":0},{"$f":"+HLOOKUP(B45,'Resumen de Escala HSE'!$D$20:$BC$24,5,0)","v":0},null,{"$f":"+'Resumen de indicadores FR'!AV$4","v":"Estudiante 41"},{"$f":"+HLOOKUP(H45,'Resumen de Escala FR'!$F$13:$BC$17,2,0)","v":"-"},{"$f":"+HLOOKUP(H45,'Resumen de Escala FR'!$F$13:$BC$17,5,0)","v":0},{"$f":"+HLOOKUP(H45,'Resumen de Escala FR'!$F$13:$BC$17,4,0)","v":0},{"$f":"+HLOOKUP(H45,'Resumen de Escala FR'!$F$13:$BC$17,3,0)","v":0}]
[null,{"$f":"+'Resumen de indicadores HSE'!AW$4","v":"Estudiante 42"},{"$f":"+HLOOKUP(B46,'Resumen de Escala HSE'!$D$20:$BC$24,2,0)","v":"-"},{"$f":"+HLOOKUP(B46,'Resumen de Escala HSE'!$D$20:$BC$24,3,0)","v":0},{"$f":"+HLOOKUP(B46,'Resumen de Escala HSE'!$D$20:$BC$24,4,0)","v":0},{"$f":"+HLOOKUP(B46,'Resumen de Escala HSE'!$D$20:$BC$24,5,0)","v":0},null,{"$f":"+'Resumen de indicadores FR'!AW$4","v":"Estudiante 42"},{"$f":"+HLOOKUP(H46,'Resumen de Escala FR'!$F$13:$BC$17,2,0)","v":"-"},{"$f":"+HLOOKUP(H46,'Resumen de Escala FR'!$F$13:$BC$17,5,0)","v":0},{"$f":"+HLOOKUP(H46,'Resumen de Escala FR'!$F$13:$BC$17,4,0)","v":0},{"$f":"+HLOOKUP(H46,'Resumen de Escala FR'!$F$13:$BC$17,3,0)","v":0}]
[null,{"$f":"+'Resumen de indicadores HSE'!AX$4","v":"Estudiante 43"},{"$f":"+HLOOKUP(B47,'Resumen de Escala HSE'!$D$20:$BC$24,2,0)","v":"-"},{"$f":"+HLOOKUP(B47,'Resumen de Escala HSE'!$D$20:$BC$24,3,0)","v":0},{"$f":"+HLOOKUP(B47,'Resumen de Escala HSE'!$D$20:$BC$24,4,0)","v":0},{"$f":"+HLOOKUP(B47,'Resumen de Escala HSE'!$D$20:$BC$24,5,0)","v":0},null,{"$f":"+'Resumen de indicadores FR'!AX$4","v":"Estudiante 43"},{"$f":"+HLOOKUP(H47,'Resumen de Escala FR'!$F$13:$BC$17,2,0)","v":"-"},{"$f":"+HLOOKUP(H47,'Resumen de Escala FR'!$F$13:$BC$17,5,0)","v":0},{"$f":"+HLOOKUP(H47,'Resumen de Escala FR'!$F$13:$BC$17,4,0)","v":0},{"$f":"+HLOOKUP(H47,'Resumen de Escala FR'!$F$13:$BC$17,3,0)","v":0}]
[null,{"$f":"+'Resumen de indicadores HSE'!AY$4","v":"Estudiante 44"},{"$f":"+HLOOKUP(B48,'Resumen de Escala HSE'!$D$20:$BC$24,2,0)","v":"-"},{"$f":"+HLOOKUP(B48,'Resumen de Escala HSE'!$D$20:$BC$24,3,0)","v":0},{"$f":"+HLOOKUP(B48,'Resumen de Escala HSE'!$D$20:$BC$24,4,0)","v":0},{"$f":"+HLOOKUP(B48,'Resumen de Escala HSE'!$D$20:$BC$24,5,0)","v":0},null,{"$f":"+'Resumen de indicadores FR'!AY$4","v":"Estudiante 44"},{"$f":"+HLOOKUP(H48,'Resumen de Escala FR'!$F$13:$BC$17,2,0)","v":"-"},{"$f":"+HLOOKUP(H48,'Resumen de Escala FR'!$F$13:$BC$17,5,0)","v":0},{"$f":"+HLOOKUP(H48,'Resumen de Escala FR'!$F$13:$BC$17,4,0)","v":0},{"$f":"+HLOOKUP(H48,'Resumen de Escala FR'!$F$13:$BC$17,3,0)","v":0}]
[null,{"$f":"+'Resumen de indicadores HSE'!AZ$4","v":"Estudiante 45"},{"$f":"+HLOOKUP(B49,'Resumen de Escala HSE'!$D$20:$BC$24,2,0)","v":"-"},{"$f":"+HLOOKUP(B49,'Resumen de Escala HSE'!$D$20:$BC$24,3,0)","v":0},{"$f":"+HLOOKUP(B49,'Resumen de Escala HSE'!$D$20:$BC$24,4,0)","v":0},{"$f":"+HLOOKUP(B49,'Resumen de Escala HSE'!$D$20:$BC$24,5,0)","v":0},null,{"$f":"+'Resumen de indicadores FR'!AZ$4","v":"Estudiante 45"},{"$f":"+HLOOKUP(H49,'Resumen de Escala FR'!$F$13:$BC$17,2,0)","v":"-"},{"$f":"+HLOOKUP(H49,'Resumen de Escala FR'!$F$13:$BC$17,5,0)","v":0},{"$f":"+HLOOKUP(H49,'Resumen de Escala FR'!$F$13:$BC$17,4,0)","v":0},{"$f":"+HLOOKUP(H49,'Resumen de Escala FR'!$F$13:$BC$17,3,0)","v":0}]
[null,{"$f":"+'Resumen de indicadores HSE'!BA$4","v":"Estudiante 46"},{"$f":"+HLOOKUP(B50,'Resumen de Escala HSE'!$D$20:$BC$24,2,0)","v":"-"},{"$f":"+HLOOKUP(B50,'Resumen de Escala HSE'!$D$20:$BC$24,3,0)","v":0},{"$f":"+HLOOKUP(B50,'Resumen de Escala HSE'!$D$20:$BC$24,4,0)","v":0},{"$f":"+HLOOKUP(B50,'Resumen de Escala HSE'!$D$20:$BC$24,5,0)","v":0},null,{"$f":"+'Resumen de indicadores FR'!BA$4","v":"Estudiante 46"},{"$f":"+HLOOKUP(H50,'Resumen de Escala FR'!$F$13:$BC$17,2,0)","v":"-"},{"$f":"+HLOOKUP(H50,'Resumen de Escala FR'!$F$13:$BC$17,5,0)","v":0},{"$f":"+HLOOKUP(H50,'Resumen de Escala FR'!$F$13:$BC$17,4,0)","v":0},{"$f":"+HLOOKUP(H50,'Resumen de Escala FR'!$F$13:$BC$17,3,0)","v":0}]
[null,{"$f":"+'Resumen de indicadores HSE'!BB$4","v":"Estudiante 47"},{"$f":"+HLOOKUP(B51,'Resumen de Escala HSE'!$D$20:$BC$24,2,0)","v":"-"},{"$f":"+HLOOKUP(B51,'Resumen de Escala HSE'!$D$20:$BC$24,3,0)","v":0},{"$f":"+HLOOKUP(B51,'Resumen de Escala HSE'!$D$20:$BC$24,4,0)","v":0},{"$f":"+HLOOKUP(B51,'Resumen de Escala HSE'!$D$20:$BC$24,5,0)","v":0},null,{"$f":"+'Resumen de indicadores FR'!BB$4","v":"Estudiante 47"},{"$f":"+HLOOKUP(H51,'Resumen de Escala FR'!$F$13:$BC$17,2,0)","v":"-"},{"$f":"+HLOOKUP(H51,'Resumen de Escala FR'!$F$13:$BC$17,5,0)","v":0},{"$f":"+HLOOKUP(H51,'Resumen de Escala FR'!$F$13:$BC$17,4,0)","v":0},{"$f":"+HLOOKUP(H51,'Resumen de Escala FR'!$F$13:$BC$17,3,0)","v":0}]
[null,{"$f":"+'Resumen de indicadores HSE'!BC$4","v":"Estudiante 48"},{"$f":"+HLOOKUP(B52,'Resumen de Escala HSE'!$D$20:$BC$24,2,0)","v":"-"},{"$f":"+HLOOKUP(B52,'Resumen de Escala HSE'!$D$20:$BC$24,3,0)","v":0},{"$f":"+HLOOKUP(B52,'Resumen de Escala HSE'!$D$20:$BC$24,4,0)","v":0},{"$f":"+HLOOKUP(B52,'Resumen de Escala HSE'!$D$20:$BC$24,5,0)","v":0},null,{"$f":"+'Resumen de indicadores FR'!BC$4","v":"Estudiante 48"},{"$f":"+HLOOKUP(H52,'Resumen de Escala FR'!$F$13:$BC$17,2,0)","v":"-"},{"$f":"+HLOOKUP(H52,'Resumen de Escala FR'!$F$13:$BC$17,5,0)","v":0},{"$f":"+HLOOKUP(H52,'Resumen de Escala FR'!$F$13:$BC$17,4,0)","v":0},{"$f":"+HLOOKUP(H52,'Resumen de Escala FR'!$F$13:$BC$17,3,0)","v":0}]
[null,{"$f":"+'Resumen de indicadores HSE'!BD$4","v":"Estudiante 49"},{"$f":"+HLOOKUP(B53,'Resumen de Escala HSE'!$D$20:$BC$24,2,0)","v":"-"},{"$f":"+HLOOKUP(B53,'Resumen de Escala HSE'!$D$20:$BC$24,3,0)","v":0},{"$f":"+HLOOKUP(B53,'Resumen de Escala HSE'!$D$20:$BC$24,4,0)","v":0},{"$f":"+HLOOKUP(B53,'Resumen de Escala HSE'!$D$20:$BC$24,5,0)","v":0},null,{"$f":"+'Resumen de indicadores FR'!BD$4","v":"Estudiante 49"},{"$f":"+HLOOKUP(H53,'Resumen de Escala FR'!$F$13:$BC$17,2,0)","v":"-"},{"$f":"+HLOOKUP(H53,'Resumen de Escala FR'!$F$13:$BC$17,5,0)","v":0},{"$f":"+HLOOKUP(H53,'Resumen de Escala FR'!$F$13:$BC$17,4,0)","v":0},{"$f":"+HLOOKUP(H53,'Resumen de Escala FR'!$F$13:$BC$17,3,0)","v":0}]
[null,{"$f":"+'Resumen de indicadores HSE'!BE$4","v":"Estudiante 50"},{"$f":"+HLOOKUP(B54,'Resumen de Escala HSE'!$D$20:$BC$24,2,0)","v":"-"},{"$f":"+HLOOKUP(B54,'Resumen de Escala HSE'!$D$20:$BC$24,3,0)","v":0},{"$f":"+HLOOKUP(B54,'Resumen de Escala HSE'!$D$20:$BC$24,4,0)","v":0},{"$f":"+HLOOKUP(B54,'Resumen de Escala HSE'!$D$20:$BC$24,5,0)","v":0},null,{"$f":"+'Resumen de indicadores FR'!BE$4","v":"Estudiante 50"},{"$f":"+HLOOKUP(H54,'Resumen de Escala FR'!$F$13:$BC$17,2,0)","v":"-"},{"$f":"+HLOOKUP(H54,'Resumen de Escala FR'!$F$13:$BC$17,5,0)","v":0},{"$f":"+HLOOKUP(H54,'Resumen de Escala FR'!$F$13:$BC$17,4,0)","v":0},{"$f":"+HLOOKUP(H54,'Resumen de Escala FR'!$F$13:$BC$17,3,0)","v":0}]

{"sheet":"LEYENDA","index":9,"n_rows":26,"n_cols":10,"rows_kept":26,"cut":false,"hidden":false,"merged":[[1,1,1,3],[8,1,8,3],[15,8,15,9],[21,8,21,9]]}
[]
[null,"HABILIDADES SOCIOEMOCIONALES"]
[null,"Color","Escala - Estado","Interpretación"]
[null,"En inicio","“EN INICIO”\n[0 - 0.67]","La o el estudiante presenta mayores dificultades en el desarrollo de sus HSE."]
[null,"En Proceso","“EN PROCESO”\n[0.68 - 1.32]","La o el estudiante presenta ligeras dificultades en el desarrollo de sus HSE."]
[null,"Satisfactorio","“SATISFACTORIO”\n[1.33 - 2]","La o el estudiante no presenta dificultades en el desarrollo de sus HSE."]
[]
[]
[null,"FACTORES DE RIESGO"]
[null,"Color","Escala - Estado","Interpretación"]
[null,"Alto Riesgo","“ALTO RIESGO”\n[0.75 - 1]","La o el estudiante requiere mayor acompañamiento  y contrastar la información con otras fuentes para prevenir conductas y/o situaciones de riesgo."]
[null,"Riesgo Moderado","“RIESGO MODERADO”\n[0.26 - 0.74]","La o el estudiante requiere acciones de acompañamiento para prevenir conductas y/o situaciones de riesgo."]
[null,"Bajo Riesgo","“BAJO RIESGO”\n[0 - 0.25]","La o el estudiante cuenta con factores protectores de riesgo."]
[]
[]
[null,null,null,null,null,null,null,null,"Leyenda"]
[null,null,null,null,null,null,null,null,"Color","Escala - Estado"]
[null,null,null,null,null,null,null,null,"ROJO","Alto Riesgo"]
[null,null,null,null,null,null,null,null,"AMARILLO","Riesgo Moderado"]
[null,null,null,null,null,null,null,null,"VERDE","Bajo Riesgo"]
[]
[null,null,null,null,null,null,null,null,"Leyenda"]
[null,null,null,null,null,null,null,null,"Color","Escala - Estado"]
[null,null,null,null,null,null,null,null,"ROJO","En Inicio"]
[null,null,null,null,null,null,null,null,"AMARILLO","En Proceso"]
[null,null,null,null,null,null,null,null,"VERDE","Satisfactorio"]

{"sheet":"Hoja1","index":10,"n_rows":13,"n_cols":4,"rows_kept":13,"cut":false,"hidden":true,"merged":[[1,2,1,3],[8,2,8,3]]}
[]
[null,null,"Leyenda"]
[null,null,"Estado/Color","Intervalo"]
[null,null,"En Inicio","[0 - 0.67]"]
[null,null,"En Proceso","[0.68 - 1.32]"]
[null,null,"Satisfactorio","[1.33 - 2]"]
[]
[]
[null,null,"Leyenda"]
[null,null,"Estado/Color","Intervalo"]
[null,null,"Alto Riesgo","[0.75 - 1]"]
[null,null,"Riesgo Moderado","[0.26 - 0.74]"]
[null,null,"Bajo Riesgo","[0 - 0.25]"]